{"text_format":"1","workbook":"xlsx","n_sheets":30,"sheets":["INSTRUCTIONS","Entry Information","_SUMMARY DATA","WALK TROT RESULTS","NOVICE All-AROUND RESULTS","NOVICE SELECT RESULTS","NOVICE JR HORSE RESULTS","LIMITED RESULTS","LIMITED ALL-AROUND RESULTS","LIMITED SELECT RESULTS","LIMITED JR HORSE RESULTS","INTERMEDIATE RESULTS","INTERMEDIATE All-AROUND RESULTS","INTERMEDIATE SELECT RESULTS","INTERMEDIATE JR HORSE RESULTS","ADVANCED RESULTS","ADVANCED ALL-AROUND RESULTS","ADVANCED SELECT RESULTS","ADVANCED JR HORSE RESULTS","OPEN RESULTS","OPEN ALL-AROUND RESULTS","OPEN SELECT RESULTS","OPEN JR HORSE RESULTS","YOUTH RESULTS","YOUTH ALL-AROUND RESULTS","YOUTH JR HORSE RESULTS","AWARDS","Worksheet","Sheet1","TO POST"],"not_rendered":{"charts":0,"images":0,"macros":0,"external_links":0,"defined_names":102,"comments":0,"pivot_tables":0},"unopened":[],"bounds":{"document_bytes":16777216,"sheet_cells":100000,"rows_first":2000,"rows_last":500,"rows_between":2000,"halvings":0,"cell_chars":16384,"cell_head_chars":4096},"cells_cut":0,"cells_raw":0,"read":"whole","date_system":"1900"}

{"sheet":"INSTRUCTIONS","index":0,"n_rows":18,"n_cols":2,"rows_kept":18,"cut":false,"hidden":false,"merged":[[0,0,0,1]]}
["EVENT POINT ENTRY STEPS FOR SCORING"]
[null,"PROCESS:"]
["NOTE:","Steps 1 through 4 can be accomplished as you receive information prior to the show.  You will then need to add 'drive in' registrations the day of the show.  This can be a big time saver during the morning of the show."]
["Step 1","Select \"Save as\" and save document with new name; event name/location and year- ie Spring Works Camp Verde 2015.  This will preserve your Template and create a new document for your current show."]
["Step 2","Populate Entry Information page with the Event Name, Date, Judges Information."]
["Step 3","Populate each Entrant with Back Number, Last Name, First Name, Registered Horse Name, WSVRHA Number,and  Horse ID Number. Mark with a \"y\" if they are a Select Rider, Junior Horse, or All Around Entry.  If Not an All Around Entry then leave blank and mark the individual classes entered with a \"y\".  The score entry boxes will be completly unshadded for All Around entries and Individual Classes will be unshaded if only entering individual classes.                      Be sure entry is entered in the correct Division."]
["Step 4","SAVE AND SAVE OFTEN"]
["NOTE:","To aid in score sheet entry, blank lines on the Entry Information page can be hidden. To hide rows -  First Unprotect the page using the password \"WSVRHA\" then, Highlight blank rows on the Entry Information page, and either right click and select HIDE or select FORMAT, then ROW, then HIDE.  Once all empty lines are hidden PROTECT the page using the passowrd \"WSVRHA\""]
["NOTE:","YOU ARE NOW READY TO START ENTERING THE JUDGES SCORE SHEETS:"]
["Step 5","On the Entry Information page, go to the contestants\"Back Number\" corresponding with the score sheet in hand.  CHECK TO BE SURE YOU ARE ON THE CORRECT LINE."]
["Step 6","Enter the SCORE  in the correct class area (ie - Ranch Riding).  Should there be a Major Penalty enter an \"x\" in the Major Penalty column for the correct class.     Score sheet will automatically propagate the \"Results\" pages.  Scores with Major Penalties will not be allowed to place higher than those without.   No score will show until a number is enterd in the Judges Score box,  be sure to enter 0 if that is the Judes Score."]
["Step 7","Be sure to \"SAVE\" upon completion of entering every score sheet.  "]
["NOTE:","REPEAT STEPS 5 - 7 FOR EACH ENTRANTS CLASS AT THE EVENT"]
["Step 8","When all scores for a class are in,  review Results page for each division (ie. Novice, Limited, etc).  The spreadsheet is formatted to automatically rank the class and assign placement points.  NOTE:  Tied scores will provide a like \"Ranking\" and be highlighted in RED. Review score sheets to break ties, place a \"1\" next to the entrant that wins a tie (for multiple ties place a 2 or 3 with the winner getting the highest value), computer will automatically adjust placement points.  Tie Breaker information for the division/class can be found at the bottom of the results pages."]
["Step 9","Review Spread Sheet for completeness.  Make certain that all class information has been entered or can be accounted for. (a rider may have scratched a class)"]
["Step 10","Review AWARDS page, there will be an \"#N/A\" if there is no winner for the class or division. Print \"AWARDS\" pages for the presentor to use at the awards ceremony."]
["Step 11","SAVE AND SAVE OFTEN"]
["Step 13","Provide a copy of your results to Show Management and send a copy to the WSVRHA office. "]

{"sheet":"Entry Information","index":1,"n_rows":190,"n_cols":26,"rows_kept":190,"cut":false,"hidden":false,"merged":[[8,24,8,25],[8,16,8,17],[8,6,9,6],[8,15,9,15],[8,20,8,21],[8,22,8,23],[8,18,8,19],[3,2,3,3],[4,2,4,3],[4,5,4,16],[3,5,3,16],[8,5,9,5],[8,9,9,9],[8,7,9,7],[8,8,9,8],[8,10,9,10],[8,11,9,11],[8,12,9,12],[8,13,9,13],[8,14,9,14],[8,0,9,0],[8,1,9,1],[8,2,9,2],[8,3,9,3],[8,4,9,4]]}
[]
["Entrant / Show Information"]
[]
["Event Name:",null,"Ranch Horse Challenge",null,"Judge #1 Name / Classes","Mike Lund"]
["Event Date:",null,"2018-03-25",null,"Judge #2 Name / Classes","Karen Arlin"]
["Ranch Riding Patern #"]
["Working Ranch Horse Patern #"]
[]
["Entry #","Back No.","Last Name","First Name","Registered Horse Name","WSRHA Horse ID #","WSRHA Member #","SELECT RIDER","JR HORSE","ALL AROUND ENTRY","Individual Ranch RIDING Entry","Individual Ranch TRAIL Entry","Individual Ranch CUTTING Entry","Individual Ranch REINED WORK  Entry","Individual Ranch COW WORK  Entry","Division","RANCH RIDING",null,"RANCH TRAIL",null,"RANCH CUTTING",null,"RANCH REINED WORK",null,"RANCH COW WORK"]
[null,null,null,null,null,null,null,null,null,null,null,null,null,null,null,null,"RR Score","Major Penalty","RT Score","Major Penatly","CT Score","Major Penatly","Rein Score","Major Penalty","Cow Work Score","Major Penalty"]
[1,156,"McClammy","Christine","Cattastrophe",null,null,null,null,null,"y","y",null,"y",null,"WALK/TROT",70.5,null,68,null,null,null,73]
[2,154,"Finlayson","Megan","Freckles",null,null,null,null,"y",null,null,null,null,null,"WALK/TROT",56.5,null,57,null,69,null,70.5,"x",72.5]
[3,165,"Little","Laureen","Smart Little Hemi",null,null,null,null,"y",null,null,null,null,null,"WALK/TROT",61.5,null,62,null,72,null,65,"x",73]
[4,164,"VanStaalduien","Ian","Meradas Truckin Chex",null,null,null,null,"y",null,null,null,null,null,"WALK/TROT",67,null,64,null,66,null,72.5,null,72]
[5,157,"Barthen","Leigh",null,null,null,null,null,null,"y","y",null,"y",null,"WALK/TROT",61.5,"x",null,null,null,null,67]
[6,null,null,null,null,null,null,null,null,null,null,null,null,null,null,"WALK/TROT"]
[7,null,null,null,null,null,null,null,null,null,null,null,null,null,null,"WALK/TROT"]
[8,null,null,null,null,null,null,null,null,null,null,null,null,null,null,"WALK/TROT"]
[9,null,null,null,null,null,null,null,null,null,null,null,null,null,null,"WALK/TROT"]
[10,null,null,null,null,null,null,null,null,null,null,null,null,null,null,"WALK/TROT"]
[11,null,null,null,null,null,null,null,null,null,null,null,null,null,null,"WALK/TROT"]
[12,null,null,null,null,null,null,null,null,null,null,null,null,null,null,"WALK/TROT"]
[13,null,null,null,null,null,null,null,null,null,null,null,null,null,null,"WALK/TROT"]
[14,null,null,null,null,null,null,null,null,null,null,null,null,null,null,"WALK/TROT"]
[15,null,null,null,null,null,null,null,null,null,null,null,null,null,null,"WALK/TROT"]
[16,null,null,null,null,null,null,null,null,null,null,null,null,null,null,"WALK/TROT"]
[17,null,null,null,null,null,null,null,null,null,null,null,null,null,null,"WALK/TROT"]
[18,null,null,null,null,null,null,null,null,null,null,null,null,null,null,"WALK/TROT"]
[19,null,null,null,null,null,null,null,null,null,null,null,null,null,null,"WALK/TROT"]
[20,null,null,null,null,null,null,null,null,null,null,null,null,null,null,"WALK/TROT"]
[21,null,null,null,null,null,null,null,null,null,null,null,null,null,null,"WALK/TROT"]
[22,null,null,null,null,null,null,null,null,null,null,null,null,null,null,"WALK/TROT"]
[23,null,null,null,null,null,null,null,null,null,null,null,null,null,null,"WALK/TROT"]
[24,null,null,null,null,null,null,null,null,null,null,null,null,null,null,"WALK/TROT"]
[25,null,null,null,null,null,null,null,null,null,null,null,null,null,null,"WALK/TROT"]
[26,null,null,null,null,null,null,null,null,null,null,null,null,null,null,"WALK/TROT"]
[27,null,null,null,null,null,null,null,null,null,null,null,null,null,null,"WALK/TROT"]
[28,null,null,null,null,null,null,null,null,null,null,null,null,null,null,"WALK/TROT"]
[29,null,null,null,null,null,null,null,null,null,null,null,null,null,null,"WALK/TROT"]
[30,null,null,null,null,null,null,null,null,null,null,null,null,null,null,"WALK/TROT"]
[1,null,null,null,null,null,null,null,null,null,null,null,null,null,null,"LIMITED"]
[2,null,null,null,null,null,null,null,null,null,null,null,null,null,null,"LIMITED"]
[3,null,null,null,null,null,null,null,null,null,null,null,null,null,null,"LIMITED"]
[4,null,null,null,null,null,null,null,null,null,null,null,null,null,null,"LIMITED"]
[5,null,null,null,null,null,null,null,null,null,null,null,null,null,null,"LIMITED"]
[6,null,null,null,null,null,null,null,null,null,null,null,null,null,null,"LIMITED"]
[7,null,null,null,null,null,null,null,null,null,null,null,null,null,null,"LIMITED"]
[8,null,null,null,null,null,null,null,null,null,null,null,null,null,null,"LIMITED"]
[9,null,null,null,null,null,null,null,null,null,null,null,null,null,null,"LIMITED"]
[10,null,null,null,null,null,null,null,null,null,null,null,null,null,null,"LIMITED"]
[11,null,null,null,null,null,null,null,null,null,null,null,null,null,null,"LIMITED"]
[12,null,null,null,null,null,null,null,null,null,null,null,null,null,null,"LIMITED"]
[13,null,null,null,null,null,null,null,null,null,null,null,null,null,null,"LIMITED"]
[14,null,null,null,null,null,null,null,null,null,null,null,null,null,null,"LIMITED"]
[15,null,null,null,null,null,null,null,null,null,null,null,null,null,null,"LIMITED"]
[16,null,null,null,null,null,null,null,null,null,null,null,null,null,null,"LIMITED"]
[17,null,null,null,null,null,null,null,null,null,null,null,null,null,null,"LIMITED"]
[18,null,null,null,null,null,null,null,null,null,null,null,null,null,null,"LIMITED"]
[19,null,null,null,null,null,null,null,null,null,null,null,null,null,null,"LIMITED"]
[20,null,null,null,null,null,null,null,null,null,null,null,null,null,null,"LIMITED"]
[21,null,null,null,null,null,null,null,null,null,null,null,null,null,null,"LIMITED"]
[22,null,null,null,null,null,null,null,null,null,null,null,null,null,null,"LIMITED"]
[23,null,null,null,null,null,null,null,null,null,null,null,null,null,null,"LIMITED"]
[24,null,null,null,null,null,null,null,null,null,null,null,null,null,null,"LIMITED"]
[25,null,null,null,null,null,null,null,null,null,null,null,null,null,null,"LIMITED"]
[26,null,null,null,null,null,null,null,null,null,null,null,null,null,null,"LIMITED"]
[27,null,null,null,null,null,null,null,null,null,null,null,null,null,null,"LIMITED"]
[28,null,null,null,null,null,null,null,null,null,null,null,null,null,null,"LIMITED"]
[29,null,null,null,null,null,null,null,null,null,null,null,null,null,null,"LIMITED"]
[30,null,null,null,null,null,null,null,null,null,null,null,null,null,null,"LIMITED"]
[1,null,null,null,null,null,null,null,null,null,null,null,null,null,null,"INTERMEDIATE"]
[2,null,null,null,null,null,null,null,null,null,null,null,null,null,null,"INTERMEDIATE"]
[3,null,null,null,null,null,null,null,null,null,null,null,null,null,null,"INTERMEDIATE"]
[4,null,null,null,null,null,null,null,null,null,null,null,null,null,null,"INTERMEDIATE"]
[5,null,null,null,null,null,null,null,null,null,null,null,null,null,null,"INTERMEDIATE"]
[6,null,null,null,null,null,null,null,null,null,null,null,null,null,null,"INTERMEDIATE"]
[7,null,null,null,null,null,null,null,null,null,null,null,null,null,null,"INTERMEDIATE"]
[8,null,null,null,null,null,null,null,null,null,null,null,null,null,null,"INTERMEDIATE"]
[9,null,null,null,null,null,null,null,null,null,null,null,null,null,null,"INTERMEDIATE"]
[10,null,null,null,null,null,null,null,null,null,null,null,null,null,null,"INTERMEDIATE"]
[11,null,null,null,null,null,null,null,null,null,null,null,null,null,null,"INTERMEDIATE"]
[12,null,null,null,null,null,null,null,null,null,null,null,null,null,null,"INTERMEDIATE"]
[13,null,null,null,null,null,null,null,null,null,null,null,null,null,null,"INTERMEDIATE"]
[14,null,null,null,null,null,null,null,null,null,null,null,null,null,null,"INTERMEDIATE"]
[15,null,null,null,null,null,null,null,null,null,null,null,null,null,null,"INTERMEDIATE"]
[16,null,null,null,null,null,null,null,null,null,null,null,null,null,null,"INTERMEDIATE"]
[17,null,null,null,null,null,null,null,null,null,null,null,null,null,null,"INTERMEDIATE"]
[18,null,null,null,null,null,null,null,null,null,null,null,null,null,null,"INTERMEDIATE"]
[19,null,null,null,null,null,null,null,null,null,null,null,null,null,null,"INTERMEDIATE"]
[20,null,null,null,null,null,null,null,null,null,null,null,null,null,null,"INTERMEDIATE"]
[21,null,null,null,null,null,null,null,null,null,null,null,null,null,null,"INTERMEDIATE"]
[22,null,null,null,null,null,null,null,null,null,null,null,null,null,null,"INTERMEDIATE"]
[23,null,null,null,null,null,null,null,null,null,null,null,null,null,null,"INTERMEDIATE"]
[24,null,null,null,null,null,null,null,null,null,null,null,null,null,null,"INTERMEDIATE"]
[25,null,null,null,null,null,null,null,null,null,null,null,null,null,null,"INTERMEDIATE"]
[26,null,null,null,null,null,null,null,null,null,null,null,null,null,null,"INTERMEDIATE"]
[27,null,null,null,null,null,null,null,null,null,null,null,null,null,null,"INTERMEDIATE"]
[28,null,null,null,null,null,null,null,null,null,null,null,null,null,null,"INTERMEDIATE"]
[29,null,null,null,null,null,null,null,null,null,null,null,null,null,null,"INTERMEDIATE"]
[30,null,null,null,null,null,null,null,null,null,null,null,null,null,null,"INTERMEDIATE"]
[1,null,null,null,null,null,null,null,null,null,null,null,null,null,null,"ADVANCED"]
[2,null,null,null,null,null,null,null,null,null,null,null,null,null,null,"ADVANCED"]
[3,null,null,null,null,null,null,null,null,null,null,null,null,null,null,"ADVANCED"]
[4,null,null,null,null,null,null,null,null,null,null,null,null,null,null,"ADVANCED"]
[5,null,null,null,null,null,null,null,null,null,null,null,null,null,null,"ADVANCED"]
[6,null,null,null,null,null,null,null,null,null,null,null,null,null,null,"ADVANCED"]
[7,null,null,null,null,null,null,null,null,null,null,null,null,null,null,"ADVANCED"]
[8,null,null,null,null,null,null,null,null,null,null,null,null,null,null,"ADVANCED"]
[9,null,null,null,null,null,null,null,null,null,null,null,null,null,null,"ADVANCED"]
[10,null,null,null,null,null,null,null,null,null,null,null,null,null,null,"ADVANCED"]
[11,null,null,null,null,null,null,null,null,null,null,null,null,null,null,"ADVANCED"]
[12,null,null,null,null,null,null,null,null,null,null,null,null,null,null,"ADVANCED"]
[13,null,null,null,null,null,null,null,null,null,null,null,null,null,null,"ADVANCED"]
[14,null,null,null,null,null,null,null,null,null,null,null,null,null,null,"ADVANCED"]
[15,null,null,null,null,null,null,null,null,null,null,null,null,null,null,"ADVANCED"]
[16,null,null,null,null,null,null,null,null,null,null,null,null,null,null,"ADVANCED"]
[17,null,null,null,null,null,null,null,null,null,null,null,null,null,null,"ADVANCED"]
[18,null,null,null,null,null,null,null,null,null,null,null,null,null,null,"ADVANCED"]
[19,null,null,null,null,null,null,null,null,null,null,null,null,null,null,"ADVANCED"]
[20,null,null,null,null,null,null,null,null,null,null,null,null,null,null,"ADVANCED"]
[21,null,null,null,null,null,null,null,null,null,null,null,null,null,null,"ADVANCED"]
[22,null,null,null,null,null,null,null,null,null,null,null,null,null,null,"ADVANCED"]
[23,null,null,null,null,null,null,null,null,null,null,null,null,null,null,"ADVANCED"]
[24,null,null,null,null,null,null,null,null,null,null,null,null,null,null,"ADVANCED"]
[25,null,null,null,null,null,null,null,null,null,null,null,null,null,null,"ADVANCED"]
[26,null,null,null,null,null,null,null,null,null,null,null,null,null,null,"ADVANCED"]
[27,null,null,null,null,null,null,null,null,null,null,null,null,null,null,"ADVANCED"]
[28,null,null,null,null,null,null,null,null,null,null,null,null,null,null,"ADVANCED"]
[29,null,null,null,null,null,null,null,null,null,null,null,null,null,null,"ADVANCED"]
[30,null,null,null,null,null,null,null,null,null,null,null,null,null,null,"ADVANCED"]
[1,null,null,null,null,null,null,null,null,null,null,null,null,null,null,"OPEN"]
[2,null,null,null,null,null,null,null,null,null,null,null,null,null,null,"OPEN"]
[3,null,null,null,null,null,null,null,null,null,null,null,null,null,null,"OPEN"]
[4,null,null,null,null,null,null,null,null,null,null,null,null,null,null,"OPEN"]
[5,null,null,null,null,null,null,null,null,null,null,null,null,null,null,"OPEN"]
[6,null,null,null,null,null,null,null,null,null,null,null,null,null,null,"OPEN"]
[7,null,null,null,null,null,null,null,null,null,null,null,null,null,null,"OPEN"]
[8,null,null,null,null,null,null,null,null,null,null,null,null,null,null,"OPEN"]
[9,null,null,null,null,null,null,null,null,null,null,null,null,null,null,"OPEN"]
[10,null,null,null,null,null,null,null,null,null,null,null,null,null,null,"OPEN"]
[11,null,null,null,null,null,null,null,null,null,null,null,null,null,null,"OPEN"]
[12,null,null,null,null,null,null,null,null,null,null,null,null,null,null,"OPEN"]
[13,null,null,null,null,null,null,null,null,null,null,null,null,null,null,"OPEN"]
[14,null,null,null,null,null,null,null,null,null,null,null,null,null,null,"OPEN"]
[15,null,null,null,null,null,null,null,null,null,null,null,null,null,null,"OPEN"]
[16,null,null,null,null,null,null,null,null,null,null,null,null,null,null,"OPEN"]
[17,null,null,null,null,null,null,null,null,null,null,null,null,null,null,"OPEN"]
[18,null,null,null,null,null,null,null,null,null,null,null,null,null,null,"OPEN"]
[19,null,null,null,null,null,null,null,null,null,null,null,null,null,null,"OPEN"]
[20,null,null,null,null,null,null,null,null,null,null,null,null,null,null,"OPEN"]
[21,null,null,null,null,null,null,null,null,null,null,null,null,null,null,"OPEN"]
[22,null,null,null,null,null,null,null,null,null,null,null,null,null,null,"OPEN"]
[23,null,null,null,null,null,null,null,null,null,null,null,null,null,null,"OPEN"]
[24,null,null,null,null,null,null,null,null,null,null,null,null,null,null,"OPEN"]
[25,null,null,null,null,null,null,null,null,null,null,null,null,null,null,"OPEN"]
[26,null,null,null,null,null,null,null,null,null,null,null,null,null,null,"OPEN"]
[27,null,null,null,null,null,null,null,null,null,null,null,null,null,null,"OPEN"]
[28,null,null,null,null,null,null,null,null,null,null,null,null,null,null,"OPEN"]
[29,null,null,null,null,null,null,null,null,null,null,null,null,null,null,"OPEN"]
[30,null,null,null,null,null,null,null,null,null,null,null,null,null,null,"OPEN"]
[1,null,null,null,null,null,null,null,null,null,null,null,null,null,null,"YOUTH"]
[2,null,null,null,null,null,null,null,null,null,null,null,null,null,null,"YOUTH"]
[3,null,null,null,null,null,null,null,null,null,null,null,null,null,null,"YOUTH"]
[4,null,null,null,null,null,null,null,null,null,null,null,null,null,null,"YOUTH"]
[5,null,null,null,null,null,null,null,null,null,null,null,null,null,null,"YOUTH"]
[6,null,null,null,null,null,null,null,null,null,null,null,null,null,null,"YOUTH"]
[7,null,null,null,null,null,null,null,null,null,null,null,null,null,null,"YOUTH"]
[8,null,null,null,null,null,null,null,null,null,null,null,null,null,null,"YOUTH"]
[9,null,null,null,null,null,null,null,null,null,null,null,null,null,null,"YOUTH"]
[10,null,null,null,null,null,null,null,null,null,null,null,null,null,null,"YOUTH"]
[11,null,null,null,null,null,null,null,null,null,null,null,null,null,null,"YOUTH"]
[12,null,null,null,null,null,null,null,null,null,null,null,null,null,null,"YOUTH"]
[13,null,null,null,null,null,null,null,null,null,null,null,null,null,null,"YOUTH"]
[14,null,null,null,null,null,null,null,null,null,null,null,null,null,null,"YOUTH"]
[15,null,null,null,null,null,null,null,null,null,null,null,null,null,null,"YOUTH"]
[16,null,null,null,null,null,null,null,null,null,null,null,null,null,null,"YOUTH"]
[17,null,null,null,null,null,null,null,null,null,null,null,null,null,null,"YOUTH"]
[18,null,null,null,null,null,null,null,null,null,null,null,null,null,null,"YOUTH"]
[19,null,null,null,null,null,null,null,null,null,null,null,null,null,null,"YOUTH"]
[20,null,null,null,null,null,null,null,null,null,null,null,null,null,null,"YOUTH"]
[21,null,null,null,null,null,null,null,null,null,null,null,null,null,null,"YOUTH"]
[22,null,null,null,null,null,null,null,null,null,null,null,null,null,null,"YOUTH"]
[23,null,null,null,null,null,null,null,null,null,null,null,null,null,null,"YOUTH"]
[24,null,null,null,null,null,null,null,null,null,null,null,null,null,null,"YOUTH"]
[25,null,null,null,null,null,null,null,null,null,null,null,null,null,null,"YOUTH"]
[26,null,null,null,null,null,null,null,null,null,null,null,null,null,null,"YOUTH"]
[27,null,null,null,null,null,null,null,null,null,null,null,null,null,null,"YOUTH"]
[28,null,null,null,null,null,null,null,null,null,null,null,null,null,null,"YOUTH"]
[29,null,null,null,null,null,null,null,null,null,null,null,null,null,null,"YOUTH"]
[30,null,null,null,null,null,null,null,null,null,null,null,null,null,null,"YOUTH"]

{"sheet":"_SUMMARY DATA","index":2,"n_rows":118,"n_cols":23,"rows_kept":118,"cut":false,"hidden":true,"merged":[[117,17,117,19],[115,17,115,19],[116,17,116,19],[0,4,0,22],[112,8,112,10],[113,8,113,10],[114,8,114,10],[115,8,115,10],[112,14,112,16],[113,14,113,16],[1,4,1,22],[112,20,112,22],[115,14,115,16],[113,20,113,22],[114,20,114,22],[115,20,115,22],[116,20,116,22],[117,20,117,22],[116,8,116,10],[117,8,117,10],[112,11,112,13],[113,11,113,13],[114,11,114,13],[115,11,115,13],[116,11,116,13],[117,11,117,13],[116,14,116,16],[117,14,117,16],[112,17,112,19],[113,17,113,19],[114,17,114,19],[114,14,114,16]]}
[" horses_____ Max of______  CH Points",null,null,null,{"$f":"'Entry Information'!#REF!","v":{"$error":"#REF!"}}]
[null,null,null,null,{"$f":"'Entry Information'!#REF!","v":{"$error":"#REF!"}}]
[null,null,{"$f":"'Entry Information'!#REF!","v":{"$error":"#REF!"}},{"$f":"'Entry Information'!#REF!","v":{"$error":"#REF!"}}]
[null,null,{"$f":"'Entry Information'!#REF!","v":{"$error":"#REF!"}},{"$f":"'Entry Information'!#REF!","v":{"$error":"#REF!"}}]
[]
["Count","Div","Last Name","First Name","Horses Name","Total plc pts","Total Score","Assign Score","RR Score","RR Tie break","RR CH_PTS","WR Score","WR Tie break","WR CH_PTS"," CT Score","CT Tie break","CT CH_PTS","RT Score","RT Tie break","RT CH_PTS","CN Score","CN Tie break","CN CH_PTS"]
[1,{"$f":"'WALK TROT RESULTS'!E11","v":"WT"},{"$f":"'WALK TROT RESULTS'!B11","v":"McClammy"},{"$f":"'WALK TROT RESULTS'!C11","v":"Christine"},{"$f":"'WALK TROT RESULTS'!D11","v":"Cattastrophe"},{"$f":"'WALK TROT RESULTS'!#REF!","v":{"$error":"#REF!"}},{"$f":"SUM(I7,L7,O7,R7,U7)","v":{"$error":"#REF!"}},{"$f":"SUM(I7,L7,O7,R7)","v":208},{"$f":"'WALK TROT RESULTS'!F11","v":70.5},null,null,{"$f":"'WALK TROT RESULTS'!X11","v":73},null,null,{"$f":"'WALK TROT RESULTS'!R11","v":""},null,null,{"$f":"'WALK TROT RESULTS'!L11","v":64.5},null,null,{"$f":"'WALK TROT RESULTS'!#REF!","v":{"$error":"#REF!"}}]
[2,{"$f":"'WALK TROT RESULTS'!E12","v":"WT"},{"$f":"'WALK TROT RESULTS'!B12","v":"Finlayson"},{"$f":"'WALK TROT RESULTS'!C12","v":"Megan"},{"$f":"'WALK TROT RESULTS'!D12","v":"Freckles"},{"$f":"'WALK TROT RESULTS'!#REF!","v":{"$error":"#REF!"}},{"$error":"#REF!"},250,{"$f":"'WALK TROT RESULTS'!F12","v":56.5},null,null,{"$f":"'WALK TROT RESULTS'!X12","v":70.5},null,null,{"$f":"'WALK TROT RESULTS'!R12","v":69},null,null,{"$f":"'WALK TROT RESULTS'!L12","v":54},null,null,{"$f":"'WALK TROT RESULTS'!#REF!","v":{"$error":"#REF!"}}]
[3,{"$f":"'WALK TROT RESULTS'!E13","v":"WT"},{"$f":"'WALK TROT RESULTS'!B13","v":"Little"},{"$f":"'WALK TROT RESULTS'!C13","v":"Laureen"},{"$f":"'WALK TROT RESULTS'!D13","v":"Smart Little Hemi"},{"$f":"'WALK TROT RESULTS'!#REF!","v":{"$error":"#REF!"}},{"$error":"#REF!"},252,{"$f":"'WALK TROT RESULTS'!F13","v":61.5},null,null,{"$f":"'WALK TROT RESULTS'!X13","v":65},null,null,{"$f":"'WALK TROT RESULTS'!R13","v":72},null,null,{"$f":"'WALK TROT RESULTS'!L13","v":53.5},null,null,{"$f":"'WALK TROT RESULTS'!#REF!","v":{"$error":"#REF!"}}]
[4,{"$f":"'WALK TROT RESULTS'!E14","v":"WT"},{"$f":"'WALK TROT RESULTS'!B14","v":"VanStaalduien"},{"$f":"'WALK TROT RESULTS'!C14","v":"Ian"},{"$f":"'WALK TROT RESULTS'!D14","v":"Meradas Truckin Chex"},{"$f":"'WALK TROT RESULTS'!#REF!","v":{"$error":"#REF!"}},{"$error":"#REF!"},247,{"$f":"'WALK TROT RESULTS'!F14","v":67},null,null,{"$f":"'WALK TROT RESULTS'!X14","v":72.5},null,null,{"$f":"'WALK TROT RESULTS'!R14","v":66},null,null,{"$f":"'WALK TROT RESULTS'!L14","v":41.5},null,null,{"$f":"'WALK TROT RESULTS'!#REF!","v":{"$error":"#REF!"}}]
[5,{"$f":"'WALK TROT RESULTS'!E15","v":"WT"},{"$f":"'WALK TROT RESULTS'!B15","v":"Barthen"},{"$f":"'WALK TROT RESULTS'!C15","v":"Leigh"},{"$f":"'WALK TROT RESULTS'!D15","v":""},{"$f":"'WALK TROT RESULTS'!#REF!","v":{"$error":"#REF!"}},{"$error":"#REF!"},188.5,{"$f":"'WALK TROT RESULTS'!F15","v":61.5},null,null,{"$f":"'WALK TROT RESULTS'!X15","v":67},null,null,{"$f":"'WALK TROT RESULTS'!R15","v":""},null,null,{"$f":"'WALK TROT RESULTS'!L15","v":60},null,null,{"$f":"'WALK TROT RESULTS'!#REF!","v":{"$error":"#REF!"}}]
[6,{"$f":"'WALK TROT RESULTS'!E16","v":0},{"$f":"'WALK TROT RESULTS'!B16","v":""},{"$f":"'WALK TROT RESULTS'!C16","v":""},{"$f":"'WALK TROT RESULTS'!D16","v":""},{"$f":"'WALK TROT RESULTS'!#REF!","v":{"$error":"#REF!"}},{"$error":"#REF!"},0,{"$f":"'WALK TROT RESULTS'!F16","v":""},null,null,{"$f":"'WALK TROT RESULTS'!X16","v":""},null,null,{"$f":"'WALK TROT RESULTS'!R16","v":""},null,null,{"$f":"'WALK TROT RESULTS'!L16","v":""},null,null,{"$f":"'WALK TROT RESULTS'!#REF!","v":{"$error":"#REF!"}}]
[7,{"$f":"'WALK TROT RESULTS'!E17","v":"NOV"},{"$f":"'WALK TROT RESULTS'!B17","v":""},{"$f":"'WALK TROT RESULTS'!C17","v":""},{"$f":"'WALK TROT RESULTS'!D17","v":""},{"$f":"'WALK TROT RESULTS'!#REF!","v":{"$error":"#REF!"}},{"$error":"#REF!"},0,{"$f":"'WALK TROT RESULTS'!F17","v":""},null,null,{"$f":"'WALK TROT RESULTS'!X17","v":""},null,null,{"$f":"'WALK TROT RESULTS'!R17","v":""},null,null,{"$f":"'WALK TROT RESULTS'!L17","v":""},null,null,{"$f":"'WALK TROT RESULTS'!#REF!","v":{"$error":"#REF!"}}]
[8,{"$f":"'WALK TROT RESULTS'!E18","v":"NOV"},{"$f":"'WALK TROT RESULTS'!B18","v":""},{"$f":"'WALK TROT RESULTS'!C18","v":""},{"$f":"'WALK TROT RESULTS'!D18","v":""},{"$f":"'WALK TROT RESULTS'!#REF!","v":{"$error":"#REF!"}},{"$error":"#REF!"},0,{"$f":"'WALK TROT RESULTS'!F18","v":""},null,null,{"$f":"'WALK TROT RESULTS'!X18","v":""},null,null,{"$f":"'WALK TROT RESULTS'!R18","v":""},null,null,{"$f":"'WALK TROT RESULTS'!L18","v":""},null,null,{"$f":"'WALK TROT RESULTS'!#REF!","v":{"$error":"#REF!"}}]
[9,{"$f":"'WALK TROT RESULTS'!E19","v":"NOV"},{"$f":"'WALK TROT RESULTS'!B19","v":""},{"$f":"'WALK TROT RESULTS'!C19","v":""},{"$f":"'WALK TROT RESULTS'!D19","v":""},{"$f":"'WALK TROT RESULTS'!#REF!","v":{"$error":"#REF!"}},{"$error":"#REF!"},0,{"$f":"'WALK TROT RESULTS'!F19","v":""},null,null,{"$f":"'WALK TROT RESULTS'!X19","v":""},null,null,{"$f":"'WALK TROT RESULTS'!R19","v":""},null,null,{"$f":"'WALK TROT RESULTS'!L19","v":""},null,null,{"$f":"'WALK TROT RESULTS'!#REF!","v":{"$error":"#REF!"}}]
[10,{"$f":"'WALK TROT RESULTS'!E20","v":"NOV"},{"$f":"'WALK TROT RESULTS'!B20","v":""},{"$f":"'WALK TROT RESULTS'!C20","v":""},{"$f":"'WALK TROT RESULTS'!D20","v":""},{"$f":"'WALK TROT RESULTS'!#REF!","v":{"$error":"#REF!"}},{"$error":"#REF!"},0,{"$f":"'WALK TROT RESULTS'!F20","v":""},null,null,{"$f":"'WALK TROT RESULTS'!X20","v":""},null,null,{"$f":"'WALK TROT RESULTS'!R20","v":""},null,null,{"$f":"'WALK TROT RESULTS'!L20","v":""},null,null,{"$f":"'WALK TROT RESULTS'!#REF!","v":{"$error":"#REF!"}}]
[11,{"$f":"'WALK TROT RESULTS'!E21","v":"NOV"},{"$f":"'WALK TROT RESULTS'!B21","v":""},{"$f":"'WALK TROT RESULTS'!C21","v":""},{"$f":"'WALK TROT RESULTS'!D21","v":""},{"$f":"'WALK TROT RESULTS'!#REF!","v":{"$error":"#REF!"}},{"$error":"#REF!"},0,{"$f":"'WALK TROT RESULTS'!F21","v":""},null,null,{"$f":"'WALK TROT RESULTS'!X21","v":""},null,null,{"$f":"'WALK TROT RESULTS'!R21","v":""},null,null,{"$f":"'WALK TROT RESULTS'!L21","v":""},null,null,{"$f":"'WALK TROT RESULTS'!#REF!","v":{"$error":"#REF!"}}]
[12,{"$f":"'WALK TROT RESULTS'!E22","v":"NOV"},{"$f":"'WALK TROT RESULTS'!B22","v":""},{"$f":"'WALK TROT RESULTS'!C22","v":""},{"$f":"'WALK TROT RESULTS'!D22","v":""},{"$f":"'WALK TROT RESULTS'!#REF!","v":{"$error":"#REF!"}},{"$error":"#REF!"},0,{"$f":"'WALK TROT RESULTS'!F22","v":""},null,null,{"$f":"'WALK TROT RESULTS'!X22","v":""},null,null,{"$f":"'WALK TROT RESULTS'!R22","v":""},null,null,{"$f":"'WALK TROT RESULTS'!L22","v":""},null,null,{"$f":"'WALK TROT RESULTS'!#REF!","v":{"$error":"#REF!"}}]
[13,{"$f":"'WALK TROT RESULTS'!E23","v":"NOV"},{"$f":"'WALK TROT RESULTS'!B23","v":""},{"$f":"'WALK TROT RESULTS'!C23","v":""},{"$f":"'WALK TROT RESULTS'!D23","v":""},{"$f":"'WALK TROT RESULTS'!#REF!","v":{"$error":"#REF!"}},{"$error":"#REF!"},0,{"$f":"'WALK TROT RESULTS'!F23","v":""},null,null,{"$f":"'WALK TROT RESULTS'!X23","v":""},null,null,{"$f":"'WALK TROT RESULTS'!R23","v":""},null,null,{"$f":"'WALK TROT RESULTS'!L23","v":""},null,null,{"$f":"'WALK TROT RESULTS'!#REF!","v":{"$error":"#REF!"}}]
[14,{"$f":"'WALK TROT RESULTS'!E24","v":"NOV"},{"$f":"'WALK TROT RESULTS'!B24","v":""},{"$f":"'WALK TROT RESULTS'!C24","v":""},{"$f":"'WALK TROT RESULTS'!D24","v":""},{"$f":"'WALK TROT RESULTS'!#REF!","v":{"$error":"#REF!"}},{"$error":"#REF!"},0,{"$f":"'WALK TROT RESULTS'!F24","v":""},null,null,{"$f":"'WALK TROT RESULTS'!X24","v":""},null,null,{"$f":"'WALK TROT RESULTS'!R24","v":""},null,null,{"$f":"'WALK TROT RESULTS'!L24","v":""},null,null,{"$f":"'WALK TROT RESULTS'!#REF!","v":{"$error":"#REF!"}}]
[15,{"$f":"'WALK TROT RESULTS'!E25","v":"NOV"},{"$f":"'WALK TROT RESULTS'!B25","v":""},{"$f":"'WALK TROT RESULTS'!C25","v":""},{"$f":"'WALK TROT RESULTS'!D25","v":""},{"$f":"'WALK TROT RESULTS'!#REF!","v":{"$error":"#REF!"}},{"$error":"#REF!"},0,{"$f":"'WALK TROT RESULTS'!F25","v":""},null,null,{"$f":"'WALK TROT RESULTS'!X25","v":""},null,null,{"$f":"'WALK TROT RESULTS'!R25","v":""},null,null,{"$f":"'WALK TROT RESULTS'!L25","v":""},null,null,{"$f":"'WALK TROT RESULTS'!#REF!","v":{"$error":"#REF!"}}]
[16,{"$f":"'WALK TROT RESULTS'!E26","v":"NOV"},{"$f":"'WALK TROT RESULTS'!B26","v":""},{"$f":"'WALK TROT RESULTS'!C26","v":""},{"$f":"'WALK TROT RESULTS'!D26","v":""},{"$f":"'WALK TROT RESULTS'!#REF!","v":{"$error":"#REF!"}},{"$error":"#REF!"},0,{"$f":"'WALK TROT RESULTS'!F26","v":""},null,null,{"$f":"'WALK TROT RESULTS'!X26","v":""},null,null,{"$f":"'WALK TROT RESULTS'!R26","v":""},null,null,{"$f":"'WALK TROT RESULTS'!L26","v":""},null,null,{"$f":"'WALK TROT RESULTS'!#REF!","v":{"$error":"#REF!"}}]
[17,{"$f":"'WALK TROT RESULTS'!E27","v":"NOV"},{"$f":"'WALK TROT RESULTS'!B27","v":""},{"$f":"'WALK TROT RESULTS'!C27","v":""},{"$f":"'WALK TROT RESULTS'!D27","v":""},{"$f":"'WALK TROT RESULTS'!#REF!","v":{"$error":"#REF!"}},{"$error":"#REF!"},0,{"$f":"'WALK TROT RESULTS'!F27","v":""},null,null,{"$f":"'WALK TROT RESULTS'!X27","v":""},null,null,{"$f":"'WALK TROT RESULTS'!R27","v":""},null,null,{"$f":"'WALK TROT RESULTS'!L27","v":""},null,null,{"$f":"'WALK TROT RESULTS'!#REF!","v":{"$error":"#REF!"}}]
[18,{"$f":"'WALK TROT RESULTS'!E28","v":"NOV"},{"$f":"'WALK TROT RESULTS'!B28","v":""},{"$f":"'WALK TROT RESULTS'!C28","v":""},{"$f":"'WALK TROT RESULTS'!D28","v":""},{"$f":"'WALK TROT RESULTS'!#REF!","v":{"$error":"#REF!"}},{"$error":"#REF!"},0,{"$f":"'WALK TROT RESULTS'!F28","v":""},null,null,{"$f":"'WALK TROT RESULTS'!X28","v":""},null,null,{"$f":"'WALK TROT RESULTS'!R28","v":""},null,null,{"$f":"'WALK TROT RESULTS'!L28","v":""},null,null,{"$f":"'WALK TROT RESULTS'!#REF!","v":{"$error":"#REF!"}}]
[19,{"$f":"'WALK TROT RESULTS'!E29","v":"NOV"},{"$f":"'WALK TROT RESULTS'!B29","v":""},{"$f":"'WALK TROT RESULTS'!C29","v":""},{"$f":"'WALK TROT RESULTS'!D29","v":""},{"$f":"'WALK TROT RESULTS'!#REF!","v":{"$error":"#REF!"}},{"$error":"#REF!"},0,{"$f":"'WALK TROT RESULTS'!F29","v":""},null,null,{"$f":"'WALK TROT RESULTS'!X29","v":""},null,null,{"$f":"'WALK TROT RESULTS'!R29","v":""},null,null,{"$f":"'WALK TROT RESULTS'!L29","v":""},null,null,{"$f":"'WALK TROT RESULTS'!#REF!","v":{"$error":"#REF!"}}]
[20,{"$f":"'WALK TROT RESULTS'!E30","v":"NOV"},{"$f":"'WALK TROT RESULTS'!B30","v":""},{"$f":"'WALK TROT RESULTS'!C30","v":""},{"$f":"'WALK TROT RESULTS'!D30","v":""},{"$f":"'WALK TROT RESULTS'!#REF!","v":{"$error":"#REF!"}},{"$error":"#REF!"},0,{"$f":"'WALK TROT RESULTS'!F30","v":""},null,null,{"$f":"'WALK TROT RESULTS'!X30","v":""},null,null,{"$f":"'WALK TROT RESULTS'!R30","v":""},null,null,{"$f":"'WALK TROT RESULTS'!L30","v":""},null,null,{"$f":"'WALK TROT RESULTS'!#REF!","v":{"$error":"#REF!"}}]
[21,{"$f":"'WALK TROT RESULTS'!E31","v":"NOV"},{"$f":"'WALK TROT RESULTS'!B31","v":""},{"$f":"'WALK TROT RESULTS'!C31","v":""},{"$f":"'WALK TROT RESULTS'!D31","v":""},{"$f":"'WALK TROT RESULTS'!#REF!","v":{"$error":"#REF!"}},{"$error":"#REF!"},0,{"$f":"'WALK TROT RESULTS'!F31","v":""},null,null,{"$f":"'WALK TROT RESULTS'!X31","v":""},null,null,{"$f":"'WALK TROT RESULTS'!R31","v":""},null,null,{"$f":"'WALK TROT RESULTS'!L31","v":""},null,null,{"$f":"'WALK TROT RESULTS'!#REF!","v":{"$error":"#REF!"}}]
[22,{"$f":"'WALK TROT RESULTS'!E32","v":"NOV"},{"$f":"'WALK TROT RESULTS'!B32","v":""},{"$f":"'WALK TROT RESULTS'!C32","v":""},{"$f":"'WALK TROT RESULTS'!D32","v":""},{"$f":"'WALK TROT RESULTS'!#REF!","v":{"$error":"#REF!"}},{"$error":"#REF!"},0,{"$f":"'WALK TROT RESULTS'!F32","v":""},null,null,{"$f":"'WALK TROT RESULTS'!X32","v":""},null,null,{"$f":"'WALK TROT RESULTS'!R32","v":""},null,null,{"$f":"'WALK TROT RESULTS'!L32","v":""},null,null,{"$f":"'WALK TROT RESULTS'!#REF!","v":{"$error":"#REF!"}}]
[23,{"$f":"'WALK TROT RESULTS'!E33","v":"NOV"},{"$f":"'WALK TROT RESULTS'!B33","v":""},{"$f":"'WALK TROT RESULTS'!C33","v":""},{"$f":"'WALK TROT RESULTS'!D33","v":""},{"$f":"'WALK TROT RESULTS'!#REF!","v":{"$error":"#REF!"}},{"$error":"#REF!"},0,{"$f":"'WALK TROT RESULTS'!F33","v":""},null,null,{"$f":"'WALK TROT RESULTS'!X33","v":""},null,null,{"$f":"'WALK TROT RESULTS'!R33","v":""},null,null,{"$f":"'WALK TROT RESULTS'!L33","v":""},null,null,{"$f":"'WALK TROT RESULTS'!#REF!","v":{"$error":"#REF!"}}]
[24,{"$f":"'WALK TROT RESULTS'!E34","v":"NOV"},{"$f":"'WALK TROT RESULTS'!B34","v":""},{"$f":"'WALK TROT RESULTS'!C34","v":""},{"$f":"'WALK TROT RESULTS'!D34","v":""},{"$f":"'WALK TROT RESULTS'!#REF!","v":{"$error":"#REF!"}},{"$error":"#REF!"},0,{"$f":"'WALK TROT RESULTS'!F34","v":""},null,null,{"$f":"'WALK TROT RESULTS'!X34","v":""},null,null,{"$f":"'WALK TROT RESULTS'!R34","v":""},null,null,{"$f":"'WALK TROT RESULTS'!L34","v":""},null,null,{"$f":"'WALK TROT RESULTS'!#REF!","v":{"$error":"#REF!"}}]
[25,{"$f":"'WALK TROT RESULTS'!E35","v":"NOV"},{"$f":"'WALK TROT RESULTS'!B35","v":""},{"$f":"'WALK TROT RESULTS'!C35","v":""},{"$f":"'WALK TROT RESULTS'!D35","v":""},{"$f":"'WALK TROT RESULTS'!#REF!","v":{"$error":"#REF!"}},{"$error":"#REF!"},0,{"$f":"'WALK TROT RESULTS'!F35","v":""},null,null,{"$f":"'WALK TROT RESULTS'!X35","v":""},null,null,{"$f":"'WALK TROT RESULTS'!R35","v":""},null,null,{"$f":"'WALK TROT RESULTS'!L35","v":""},null,null,{"$f":"'WALK TROT RESULTS'!#REF!","v":{"$error":"#REF!"}}]
[26,{"$f":"'WALK TROT RESULTS'!E36","v":"NOV"},{"$f":"'WALK TROT RESULTS'!B36","v":""},{"$f":"'WALK TROT RESULTS'!C36","v":""},{"$f":"'WALK TROT RESULTS'!D36","v":""},{"$f":"'WALK TROT RESULTS'!#REF!","v":{"$error":"#REF!"}},{"$error":"#REF!"},0,{"$f":"'WALK TROT RESULTS'!F36","v":""},null,null,{"$f":"'WALK TROT RESULTS'!X36","v":""},null,null,{"$f":"'WALK TROT RESULTS'!R36","v":""},null,null,{"$f":"'WALK TROT RESULTS'!L36","v":""},null,null,{"$f":"'WALK TROT RESULTS'!#REF!","v":{"$error":"#REF!"}}]
[27,{"$f":"'WALK TROT RESULTS'!E37","v":"NOV"},{"$f":"'WALK TROT RESULTS'!B37","v":""},{"$f":"'WALK TROT RESULTS'!C37","v":""},{"$f":"'WALK TROT RESULTS'!D37","v":""},{"$f":"'WALK TROT RESULTS'!#REF!","v":{"$error":"#REF!"}},{"$error":"#REF!"},0,{"$f":"'WALK TROT RESULTS'!F37","v":""},null,null,{"$f":"'WALK TROT RESULTS'!X37","v":""},null,null,{"$f":"'WALK TROT RESULTS'!R37","v":""},null,null,{"$f":"'WALK TROT RESULTS'!L37","v":""},null,null,{"$f":"'WALK TROT RESULTS'!#REF!","v":{"$error":"#REF!"}}]
[28,{"$f":"'WALK TROT RESULTS'!E38","v":"NOV"},{"$f":"'WALK TROT RESULTS'!B38","v":""},{"$f":"'WALK TROT RESULTS'!C38","v":""},{"$f":"'WALK TROT RESULTS'!D38","v":""},{"$f":"'WALK TROT RESULTS'!#REF!","v":{"$error":"#REF!"}},{"$error":"#REF!"},0,{"$f":"'WALK TROT RESULTS'!F38","v":""},null,null,{"$f":"'WALK TROT RESULTS'!X38","v":""},null,null,{"$f":"'WALK TROT RESULTS'!R38","v":""},null,null,{"$f":"'WALK TROT RESULTS'!L38","v":""},null,null,{"$f":"'WALK TROT RESULTS'!#REF!","v":{"$error":"#REF!"}}]
[29,{"$f":"'WALK TROT RESULTS'!E39","v":"NOV"},{"$f":"'WALK TROT RESULTS'!B39","v":""},{"$f":"'WALK TROT RESULTS'!C39","v":""},{"$f":"'WALK TROT RESULTS'!D39","v":""},{"$f":"'WALK TROT RESULTS'!#REF!","v":{"$error":"#REF!"}},{"$error":"#REF!"},0,{"$f":"'WALK TROT RESULTS'!F39","v":""},null,null,{"$f":"'WALK TROT RESULTS'!X39","v":""},null,null,{"$f":"'WALK TROT RESULTS'!R39","v":""},null,null,{"$f":"'WALK TROT RESULTS'!L39","v":""},null,null,{"$f":"'WALK TROT RESULTS'!#REF!","v":{"$error":"#REF!"}}]
[30,{"$f":"'WALK TROT RESULTS'!E40","v":"NOV"},{"$f":"'WALK TROT RESULTS'!B40","v":""},{"$f":"'WALK TROT RESULTS'!C40","v":""},{"$f":"'WALK TROT RESULTS'!D40","v":""},{"$f":"'WALK TROT RESULTS'!#REF!","v":{"$error":"#REF!"}},{"$error":"#REF!"},0,{"$f":"'WALK TROT RESULTS'!F40","v":""},null,null,{"$f":"'WALK TROT RESULTS'!X40","v":""},null,null,{"$f":"'WALK TROT RESULTS'!R40","v":""},null,null,{"$f":"'WALK TROT RESULTS'!L40","v":""},null,null,{"$f":"'WALK TROT RESULTS'!#REF!","v":{"$error":"#REF!"}}]
[31,{"$f":"'YOUTH RESULTS'!E11","v":"YOUTH"},{"$f":"'YOUTH RESULTS'!B11","v":""},{"$f":"'YOUTH RESULTS'!C11","v":""},{"$f":"'YOUTH RESULTS'!D11","v":""},{"$f":"'YOUTH RESULTS'!#REF!","v":{"$error":"#REF!"}},{"$f":"SUM(I37,L37,O37,R37,U37)","v":{"$error":"#REF!"}},{"$f":"SUM(I37,L37,O37,R37)","v":0},{"$f":"'YOUTH RESULTS'!F11","v":""},null,null,{"$f":"'YOUTH RESULTS'!AD11","v":""},null,null,{"$f":"'YOUTH RESULTS'!R11","v":""},null,null,{"$f":"'YOUTH RESULTS'!L11","v":""},null,null,{"$f":"'YOUTH RESULTS'!#REF!","v":{"$error":"#REF!"}}]
[32,{"$f":"'YOUTH RESULTS'!E12","v":"YOUTH"},{"$f":"'YOUTH RESULTS'!B12","v":""},{"$f":"'YOUTH RESULTS'!C12","v":""},{"$f":"'YOUTH RESULTS'!D12","v":""},{"$f":"'YOUTH RESULTS'!#REF!","v":{"$error":"#REF!"}},{"$error":"#REF!"},0,{"$f":"'YOUTH RESULTS'!F12","v":""},null,null,{"$f":"'YOUTH RESULTS'!AD12","v":""},null,null,{"$f":"'YOUTH RESULTS'!R12","v":""},null,null,{"$f":"'YOUTH RESULTS'!L12","v":""},null,null,{"$f":"'YOUTH RESULTS'!#REF!","v":{"$error":"#REF!"}}]
[33,{"$f":"'YOUTH RESULTS'!E13","v":"YOUTH"},{"$f":"'YOUTH RESULTS'!B13","v":""},{"$f":"'YOUTH RESULTS'!C13","v":""},{"$f":"'YOUTH RESULTS'!D13","v":""},{"$f":"'YOUTH RESULTS'!#REF!","v":{"$error":"#REF!"}},{"$error":"#REF!"},0,{"$f":"'YOUTH RESULTS'!F13","v":""},null,null,{"$f":"'YOUTH RESULTS'!AD13","v":""},null,null,{"$f":"'YOUTH RESULTS'!R13","v":""},null,null,{"$f":"'YOUTH RESULTS'!L13","v":""},null,null,{"$f":"'YOUTH RESULTS'!#REF!","v":{"$error":"#REF!"}}]
[34,{"$f":"'YOUTH RESULTS'!E14","v":"YOUTH"},{"$f":"'YOUTH RESULTS'!B14","v":""},{"$f":"'YOUTH RESULTS'!C14","v":""},{"$f":"'YOUTH RESULTS'!D14","v":""},{"$f":"'YOUTH RESULTS'!#REF!","v":{"$error":"#REF!"}},{"$error":"#REF!"},0,{"$f":"'YOUTH RESULTS'!F14","v":""},null,null,{"$f":"'YOUTH RESULTS'!AD14","v":""},null,null,{"$f":"'YOUTH RESULTS'!R14","v":""},null,null,{"$f":"'YOUTH RESULTS'!L14","v":""},null,null,{"$f":"'YOUTH RESULTS'!#REF!","v":{"$error":"#REF!"}}]
[35,{"$f":"'YOUTH RESULTS'!E15","v":"YOUTH"},{"$f":"'YOUTH RESULTS'!B15","v":""},{"$f":"'YOUTH RESULTS'!C15","v":""},{"$f":"'YOUTH RESULTS'!D15","v":""},{"$f":"'YOUTH RESULTS'!#REF!","v":{"$error":"#REF!"}},{"$error":"#REF!"},0,{"$f":"'YOUTH RESULTS'!F15","v":""},null,null,{"$f":"'YOUTH RESULTS'!AD15","v":""},null,null,{"$f":"'YOUTH RESULTS'!R15","v":""},null,null,{"$f":"'YOUTH RESULTS'!L15","v":""},null,null,{"$f":"'YOUTH RESULTS'!#REF!","v":{"$error":"#REF!"}}]
[36,{"$f":"'YOUTH RESULTS'!E16","v":"YOUTH"},{"$f":"'YOUTH RESULTS'!B16","v":""},{"$f":"'YOUTH RESULTS'!C16","v":""},{"$f":"'YOUTH RESULTS'!D16","v":""},{"$f":"'YOUTH RESULTS'!#REF!","v":{"$error":"#REF!"}},{"$error":"#REF!"},0,{"$f":"'YOUTH RESULTS'!F16","v":""},null,null,{"$f":"'YOUTH RESULTS'!AD16","v":""},null,null,{"$f":"'YOUTH RESULTS'!R16","v":""},null,null,{"$f":"'YOUTH RESULTS'!L16","v":""},null,null,{"$f":"'YOUTH RESULTS'!#REF!","v":{"$error":"#REF!"}}]
[37,{"$f":"'YOUTH RESULTS'!E17","v":"YOUTH"},{"$f":"'YOUTH RESULTS'!B17","v":""},{"$f":"'YOUTH RESULTS'!C17","v":""},{"$f":"'YOUTH RESULTS'!D17","v":""},{"$f":"'YOUTH RESULTS'!#REF!","v":{"$error":"#REF!"}},{"$error":"#REF!"},0,{"$f":"'YOUTH RESULTS'!F17","v":""},null,null,{"$f":"'YOUTH RESULTS'!AD17","v":""},null,null,{"$f":"'YOUTH RESULTS'!R17","v":""},null,null,{"$f":"'YOUTH RESULTS'!L17","v":""},null,null,{"$f":"'YOUTH RESULTS'!#REF!","v":{"$error":"#REF!"}}]
[38,{"$f":"'YOUTH RESULTS'!E18","v":"YOUTH"},{"$f":"'YOUTH RESULTS'!B18","v":""},{"$f":"'YOUTH RESULTS'!C18","v":""},{"$f":"'YOUTH RESULTS'!D18","v":""},{"$f":"'YOUTH RESULTS'!#REF!","v":{"$error":"#REF!"}},{"$error":"#REF!"},0,{"$f":"'YOUTH RESULTS'!F18","v":""},null,null,{"$f":"'YOUTH RESULTS'!AD18","v":""},null,null,{"$f":"'YOUTH RESULTS'!R18","v":""},null,null,{"$f":"'YOUTH RESULTS'!L18","v":""},null,null,{"$f":"'YOUTH RESULTS'!#REF!","v":{"$error":"#REF!"}}]
[39,{"$f":"'YOUTH RESULTS'!E19","v":"YOUTH"},{"$f":"'YOUTH RESULTS'!B19","v":""},{"$f":"'YOUTH RESULTS'!C19","v":""},{"$f":"'YOUTH RESULTS'!D19","v":""},{"$f":"'YOUTH RESULTS'!#REF!","v":{"$error":"#REF!"}},{"$error":"#REF!"},0,{"$f":"'YOUTH RESULTS'!F19","v":""},null,null,{"$f":"'YOUTH RESULTS'!AD19","v":""},null,null,{"$f":"'YOUTH RESULTS'!R19","v":""},null,null,{"$f":"'YOUTH RESULTS'!L19","v":""},null,null,{"$f":"'YOUTH RESULTS'!#REF!","v":{"$error":"#REF!"}}]
[40,{"$f":"'YOUTH RESULTS'!E20","v":"YOUTH"},{"$f":"'YOUTH RESULTS'!B20","v":""},{"$f":"'YOUTH RESULTS'!C20","v":""},{"$f":"'YOUTH RESULTS'!D20","v":""},{"$f":"'YOUTH RESULTS'!#REF!","v":{"$error":"#REF!"}},{"$error":"#REF!"},0,{"$f":"'YOUTH RESULTS'!F20","v":""},null,null,{"$f":"'YOUTH RESULTS'!AD20","v":""},null,null,{"$f":"'YOUTH RESULTS'!R20","v":""},null,null,{"$f":"'YOUTH RESULTS'!L20","v":""},null,null,{"$f":"'YOUTH RESULTS'!#REF!","v":{"$error":"#REF!"}}]
[41,{"$f":"'YOUTH RESULTS'!E21","v":"YOUTH"},{"$f":"'YOUTH RESULTS'!B21","v":""},{"$f":"'YOUTH RESULTS'!C21","v":""},{"$f":"'YOUTH RESULTS'!D21","v":""},{"$f":"'YOUTH RESULTS'!#REF!","v":{"$error":"#REF!"}},{"$error":"#REF!"},0,{"$f":"'YOUTH RESULTS'!F21","v":""},null,null,{"$f":"'YOUTH RESULTS'!AD21","v":""},null,null,{"$f":"'YOUTH RESULTS'!R21","v":""},null,null,{"$f":"'YOUTH RESULTS'!L21","v":""},null,null,{"$f":"'YOUTH RESULTS'!#REF!","v":{"$error":"#REF!"}}]
[42,{"$f":"'YOUTH RESULTS'!E22","v":"YOUTH"},{"$f":"'YOUTH RESULTS'!B22","v":""},{"$f":"'YOUTH RESULTS'!C22","v":""},{"$f":"'YOUTH RESULTS'!D22","v":""},{"$f":"'YOUTH RESULTS'!#REF!","v":{"$error":"#REF!"}},{"$error":"#REF!"},0,{"$f":"'YOUTH RESULTS'!F22","v":""},null,null,{"$f":"'YOUTH RESULTS'!AD22","v":""},null,null,{"$f":"'YOUTH RESULTS'!R22","v":""},null,null,{"$f":"'YOUTH RESULTS'!L22","v":""},null,null,{"$f":"'YOUTH RESULTS'!#REF!","v":{"$error":"#REF!"}}]
[43,{"$f":"'YOUTH RESULTS'!E23","v":"YOUTH"},{"$f":"'YOUTH RESULTS'!B23","v":""},{"$f":"'YOUTH RESULTS'!C23","v":""},{"$f":"'YOUTH RESULTS'!D23","v":""},{"$f":"'YOUTH RESULTS'!#REF!","v":{"$error":"#REF!"}},{"$error":"#REF!"},0,{"$f":"'YOUTH RESULTS'!F23","v":""},null,null,{"$f":"'YOUTH RESULTS'!AD23","v":""},null,null,{"$f":"'YOUTH RESULTS'!R23","v":""},null,null,{"$f":"'YOUTH RESULTS'!L23","v":""},null,null,{"$f":"'YOUTH RESULTS'!#REF!","v":{"$error":"#REF!"}}]
[44,{"$f":"'YOUTH RESULTS'!E24","v":"YOUTH"},{"$f":"'YOUTH RESULTS'!B24","v":""},{"$f":"'YOUTH RESULTS'!C24","v":""},{"$f":"'YOUTH RESULTS'!D24","v":""},{"$f":"'YOUTH RESULTS'!#REF!","v":{"$error":"#REF!"}},{"$error":"#REF!"},0,{"$f":"'YOUTH RESULTS'!F24","v":""},null,null,{"$f":"'YOUTH RESULTS'!AD24","v":""},null,null,{"$f":"'YOUTH RESULTS'!R24","v":""},null,null,{"$f":"'YOUTH RESULTS'!L24","v":""},null,null,{"$f":"'YOUTH RESULTS'!#REF!","v":{"$error":"#REF!"}}]
[45,{"$f":"'YOUTH RESULTS'!E25","v":"YOUTH"},{"$f":"'YOUTH RESULTS'!B25","v":""},{"$f":"'YOUTH RESULTS'!C25","v":""},{"$f":"'YOUTH RESULTS'!D25","v":""},{"$f":"'YOUTH RESULTS'!#REF!","v":{"$error":"#REF!"}},{"$error":"#REF!"},0,{"$f":"'YOUTH RESULTS'!F25","v":""},null,null,{"$f":"'YOUTH RESULTS'!AD25","v":""},null,null,{"$f":"'YOUTH RESULTS'!R25","v":""},null,null,{"$f":"'YOUTH RESULTS'!L25","v":""},null,null,{"$f":"'YOUTH RESULTS'!#REF!","v":{"$error":"#REF!"}}]
[46,{"$f":"'LIMITED RESULTS'!#REF!","v":{"$error":"#REF!"}},{"$f":"'LIMITED RESULTS'!#REF!","v":{"$error":"#REF!"}},{"$f":"'LIMITED RESULTS'!#REF!","v":{"$error":"#REF!"}},{"$f":"'LIMITED RESULTS'!#REF!","v":{"$error":"#REF!"}},{"$f":"'LIMITED RESULTS'!#REF!","v":{"$error":"#REF!"}},{"$error":"#REF!"},{"$error":"#REF!"},{"$f":"'LIMITED RESULTS'!#REF!","v":{"$error":"#REF!"}},null,null,{"$f":"'LIMITED RESULTS'!#REF!","v":{"$error":"#REF!"}},null,null,{"$f":"'LIMITED RESULTS'!#REF!","v":{"$error":"#REF!"}},null,null,{"$f":"'LIMITED RESULTS'!#REF!","v":{"$error":"#REF!"}},null,null,{"$f":"'LIMITED RESULTS'!#REF!","v":{"$error":"#REF!"}}]
[47,{"$f":"'LIMITED RESULTS'!#REF!","v":{"$error":"#REF!"}},{"$f":"'LIMITED RESULTS'!#REF!","v":{"$error":"#REF!"}},{"$f":"'LIMITED RESULTS'!#REF!","v":{"$error":"#REF!"}},{"$f":"'LIMITED RESULTS'!#REF!","v":{"$error":"#REF!"}},{"$f":"'LIMITED RESULTS'!#REF!","v":{"$error":"#REF!"}},{"$error":"#REF!"},{"$error":"#REF!"},{"$f":"'LIMITED RESULTS'!#REF!","v":{"$error":"#REF!"}},null,null,{"$f":"'LIMITED RESULTS'!#REF!","v":{"$error":"#REF!"}},null,null,{"$f":"'LIMITED RESULTS'!#REF!","v":{"$error":"#REF!"}},null,null,{"$f":"'LIMITED RESULTS'!#REF!","v":{"$error":"#REF!"}},null,null,{"$f":"'LIMITED RESULTS'!#REF!","v":{"$error":"#REF!"}}]
[48,{"$f":"'LIMITED RESULTS'!#REF!","v":{"$error":"#REF!"}},{"$f":"'LIMITED RESULTS'!#REF!","v":{"$error":"#REF!"}},{"$f":"'LIMITED RESULTS'!#REF!","v":{"$error":"#REF!"}},{"$f":"'LIMITED RESULTS'!#REF!","v":{"$error":"#REF!"}},{"$f":"'LIMITED RESULTS'!#REF!","v":{"$error":"#REF!"}},{"$error":"#REF!"},{"$error":"#REF!"},{"$f":"'LIMITED RESULTS'!#REF!","v":{"$error":"#REF!"}},null,null,{"$f":"'LIMITED RESULTS'!#REF!","v":{"$error":"#REF!"}},null,null,{"$f":"'LIMITED RESULTS'!#REF!","v":{"$error":"#REF!"}},null,null,{"$f":"'LIMITED RESULTS'!#REF!","v":{"$error":"#REF!"}},null,null,{"$f":"'LIMITED RESULTS'!#REF!","v":{"$error":"#REF!"}}]
[49,{"$f":"'LIMITED RESULTS'!#REF!","v":{"$error":"#REF!"}},{"$f":"'LIMITED RESULTS'!#REF!","v":{"$error":"#REF!"}},{"$f":"'LIMITED RESULTS'!#REF!","v":{"$error":"#REF!"}},{"$f":"'LIMITED RESULTS'!#REF!","v":{"$error":"#REF!"}},{"$f":"'LIMITED RESULTS'!#REF!","v":{"$error":"#REF!"}},{"$error":"#REF!"},{"$error":"#REF!"},{"$f":"'LIMITED RESULTS'!#REF!","v":{"$error":"#REF!"}},null,null,{"$f":"'LIMITED RESULTS'!#REF!","v":{"$error":"#REF!"}},null,null,{"$f":"'LIMITED RESULTS'!#REF!","v":{"$error":"#REF!"}},null,null,{"$f":"'LIMITED RESULTS'!#REF!","v":{"$error":"#REF!"}},null,null,{"$f":"'LIMITED RESULTS'!#REF!","v":{"$error":"#REF!"}}]
[50,{"$f":"'LIMITED RESULTS'!#REF!","v":{"$error":"#REF!"}},{"$f":"'LIMITED RESULTS'!#REF!","v":{"$error":"#REF!"}},{"$f":"'LIMITED RESULTS'!#REF!","v":{"$error":"#REF!"}},{"$f":"'LIMITED RESULTS'!#REF!","v":{"$error":"#REF!"}},{"$f":"'LIMITED RESULTS'!#REF!","v":{"$error":"#REF!"}},{"$error":"#REF!"},{"$error":"#REF!"},{"$f":"'LIMITED RESULTS'!#REF!","v":{"$error":"#REF!"}},null,null,{"$f":"'LIMITED RESULTS'!#REF!","v":{"$error":"#REF!"}},null,null,{"$f":"'LIMITED RESULTS'!#REF!","v":{"$error":"#REF!"}},null,null,{"$f":"'LIMITED RESULTS'!#REF!","v":{"$error":"#REF!"}},null,null,{"$f":"'LIMITED RESULTS'!#REF!","v":{"$error":"#REF!"}}]
[51,{"$f":"'LIMITED RESULTS'!#REF!","v":{"$error":"#REF!"}},{"$f":"'LIMITED RESULTS'!#REF!","v":{"$error":"#REF!"}},{"$f":"'LIMITED RESULTS'!#REF!","v":{"$error":"#REF!"}},{"$f":"'LIMITED RESULTS'!#REF!","v":{"$error":"#REF!"}},{"$f":"'LIMITED RESULTS'!#REF!","v":{"$error":"#REF!"}},{"$error":"#REF!"},{"$error":"#REF!"},{"$f":"'LIMITED RESULTS'!#REF!","v":{"$error":"#REF!"}},null,null,{"$f":"'LIMITED RESULTS'!#REF!","v":{"$error":"#REF!"}},null,null,{"$f":"'LIMITED RESULTS'!#REF!","v":{"$error":"#REF!"}},null,null,{"$f":"'LIMITED RESULTS'!#REF!","v":{"$error":"#REF!"}},null,null,{"$f":"'LIMITED RESULTS'!#REF!","v":{"$error":"#REF!"}}]
[52,{"$f":"'LIMITED RESULTS'!#REF!","v":{"$error":"#REF!"}},{"$f":"'LIMITED RESULTS'!#REF!","v":{"$error":"#REF!"}},{"$f":"'LIMITED RESULTS'!#REF!","v":{"$error":"#REF!"}},{"$f":"'LIMITED RESULTS'!#REF!","v":{"$error":"#REF!"}},{"$f":"'LIMITED RESULTS'!#REF!","v":{"$error":"#REF!"}},{"$error":"#REF!"},{"$error":"#REF!"},{"$f":"'LIMITED RESULTS'!#REF!","v":{"$error":"#REF!"}},null,null,{"$f":"'LIMITED RESULTS'!#REF!","v":{"$error":"#REF!"}},null,null,{"$f":"'LIMITED RESULTS'!#REF!","v":{"$error":"#REF!"}},null,null,{"$f":"'LIMITED RESULTS'!#REF!","v":{"$error":"#REF!"}},null,null,{"$f":"'LIMITED RESULTS'!#REF!","v":{"$error":"#REF!"}}]
[53,{"$f":"'LIMITED RESULTS'!#REF!","v":{"$error":"#REF!"}},{"$f":"'LIMITED RESULTS'!#REF!","v":{"$error":"#REF!"}},{"$f":"'LIMITED RESULTS'!#REF!","v":{"$error":"#REF!"}},{"$f":"'LIMITED RESULTS'!#REF!","v":{"$error":"#REF!"}},{"$f":"'LIMITED RESULTS'!#REF!","v":{"$error":"#REF!"}},{"$error":"#REF!"},{"$error":"#REF!"},{"$f":"'LIMITED RESULTS'!#REF!","v":{"$error":"#REF!"}},null,null,{"$f":"'LIMITED RESULTS'!#REF!","v":{"$error":"#REF!"}},null,null,{"$f":"'LIMITED RESULTS'!#REF!","v":{"$error":"#REF!"}},null,null,{"$f":"'LIMITED RESULTS'!#REF!","v":{"$error":"#REF!"}},null,null,{"$f":"'LIMITED RESULTS'!#REF!","v":{"$error":"#REF!"}}]
[54,{"$f":"'LIMITED RESULTS'!#REF!","v":{"$error":"#REF!"}},{"$f":"'LIMITED RESULTS'!#REF!","v":{"$error":"#REF!"}},{"$f":"'LIMITED RESULTS'!#REF!","v":{"$error":"#REF!"}},{"$f":"'LIMITED RESULTS'!#REF!","v":{"$error":"#REF!"}},{"$f":"'LIMITED RESULTS'!#REF!","v":{"$error":"#REF!"}},{"$error":"#REF!"},{"$error":"#REF!"},{"$f":"'LIMITED RESULTS'!#REF!","v":{"$error":"#REF!"}},null,null,{"$f":"'LIMITED RESULTS'!#REF!","v":{"$error":"#REF!"}},null,null,{"$f":"'LIMITED RESULTS'!#REF!","v":{"$error":"#REF!"}},null,null,{"$f":"'LIMITED RESULTS'!#REF!","v":{"$error":"#REF!"}},null,null,{"$f":"'LIMITED RESULTS'!#REF!","v":{"$error":"#REF!"}}]
[55,{"$f":"'LIMITED RESULTS'!#REF!","v":{"$error":"#REF!"}},{"$f":"'LIMITED RESULTS'!#REF!","v":{"$error":"#REF!"}},{"$f":"'LIMITED RESULTS'!#REF!","v":{"$error":"#REF!"}},{"$f":"'LIMITED RESULTS'!#REF!","v":{"$error":"#REF!"}},{"$f":"'LIMITED RESULTS'!#REF!","v":{"$error":"#REF!"}},{"$error":"#REF!"},{"$error":"#REF!"},{"$f":"'LIMITED RESULTS'!#REF!","v":{"$error":"#REF!"}},null,null,{"$f":"'LIMITED RESULTS'!#REF!","v":{"$error":"#REF!"}},null,null,{"$f":"'LIMITED RESULTS'!#REF!","v":{"$error":"#REF!"}},null,null,{"$f":"'LIMITED RESULTS'!#REF!","v":{"$error":"#REF!"}},null,null,{"$f":"'LIMITED RESULTS'!#REF!","v":{"$error":"#REF!"}}]
[56,{"$f":"'LIMITED RESULTS'!#REF!","v":{"$error":"#REF!"}},{"$f":"'LIMITED RESULTS'!#REF!","v":{"$error":"#REF!"}},{"$f":"'LIMITED RESULTS'!#REF!","v":{"$error":"#REF!"}},{"$f":"'LIMITED RESULTS'!#REF!","v":{"$error":"#REF!"}},{"$f":"'LIMITED RESULTS'!#REF!","v":{"$error":"#REF!"}},{"$error":"#REF!"},{"$error":"#REF!"},{"$f":"'LIMITED RESULTS'!#REF!","v":{"$error":"#REF!"}},null,null,{"$f":"'LIMITED RESULTS'!#REF!","v":{"$error":"#REF!"}},null,null,{"$f":"'LIMITED RESULTS'!#REF!","v":{"$error":"#REF!"}},null,null,{"$f":"'LIMITED RESULTS'!#REF!","v":{"$error":"#REF!"}},null,null,{"$f":"'LIMITED RESULTS'!#REF!","v":{"$error":"#REF!"}}]
[57,{"$f":"'LIMITED RESULTS'!#REF!","v":{"$error":"#REF!"}},{"$f":"'LIMITED RESULTS'!#REF!","v":{"$error":"#REF!"}},{"$f":"'LIMITED RESULTS'!#REF!","v":{"$error":"#REF!"}},{"$f":"'LIMITED RESULTS'!#REF!","v":{"$error":"#REF!"}},{"$f":"'LIMITED RESULTS'!#REF!","v":{"$error":"#REF!"}},{"$error":"#REF!"},{"$error":"#REF!"},{"$f":"'LIMITED RESULTS'!#REF!","v":{"$error":"#REF!"}},null,null,{"$f":"'LIMITED RESULTS'!#REF!","v":{"$error":"#REF!"}},null,null,{"$f":"'LIMITED RESULTS'!#REF!","v":{"$error":"#REF!"}},null,null,{"$f":"'LIMITED RESULTS'!#REF!","v":{"$error":"#REF!"}},null,null,{"$f":"'LIMITED RESULTS'!#REF!","v":{"$error":"#REF!"}}]
[58,{"$f":"'LIMITED RESULTS'!#REF!","v":{"$error":"#REF!"}},{"$f":"'LIMITED RESULTS'!#REF!","v":{"$error":"#REF!"}},{"$f":"'LIMITED RESULTS'!#REF!","v":{"$error":"#REF!"}},{"$f":"'LIMITED RESULTS'!#REF!","v":{"$error":"#REF!"}},{"$f":"'LIMITED RESULTS'!#REF!","v":{"$error":"#REF!"}},{"$error":"#REF!"},{"$error":"#REF!"},{"$f":"'LIMITED RESULTS'!#REF!","v":{"$error":"#REF!"}},null,null,{"$f":"'LIMITED RESULTS'!#REF!","v":{"$error":"#REF!"}},null,null,{"$f":"'LIMITED RESULTS'!#REF!","v":{"$error":"#REF!"}},null,null,{"$f":"'LIMITED RESULTS'!#REF!","v":{"$error":"#REF!"}},null,null,{"$f":"'LIMITED RESULTS'!#REF!","v":{"$error":"#REF!"}}]
[59,{"$f":"'LIMITED RESULTS'!#REF!","v":{"$error":"#REF!"}},{"$f":"'LIMITED RESULTS'!#REF!","v":{"$error":"#REF!"}},{"$f":"'LIMITED RESULTS'!#REF!","v":{"$error":"#REF!"}},{"$f":"'LIMITED RESULTS'!#REF!","v":{"$error":"#REF!"}},{"$f":"'LIMITED RESULTS'!#REF!","v":{"$error":"#REF!"}},{"$error":"#REF!"},{"$error":"#REF!"},{"$f":"'LIMITED RESULTS'!#REF!","v":{"$error":"#REF!"}},null,null,{"$f":"'LIMITED RESULTS'!#REF!","v":{"$error":"#REF!"}},null,null,{"$f":"'LIMITED RESULTS'!#REF!","v":{"$error":"#REF!"}},null,null,{"$f":"'LIMITED RESULTS'!#REF!","v":{"$error":"#REF!"}},null,null,{"$f":"'LIMITED RESULTS'!#REF!","v":{"$error":"#REF!"}}]
[60,{"$f":"'LIMITED RESULTS'!#REF!","v":{"$error":"#REF!"}},{"$f":"'LIMITED RESULTS'!#REF!","v":{"$error":"#REF!"}},{"$f":"'LIMITED RESULTS'!#REF!","v":{"$error":"#REF!"}},{"$f":"'LIMITED RESULTS'!#REF!","v":{"$error":"#REF!"}},{"$f":"'LIMITED RESULTS'!#REF!","v":{"$error":"#REF!"}},{"$error":"#REF!"},{"$error":"#REF!"},{"$f":"'LIMITED RESULTS'!#REF!","v":{"$error":"#REF!"}},null,null,{"$f":"'LIMITED RESULTS'!#REF!","v":{"$error":"#REF!"}},null,null,{"$f":"'LIMITED RESULTS'!#REF!","v":{"$error":"#REF!"}},null,null,{"$f":"'LIMITED RESULTS'!#REF!","v":{"$error":"#REF!"}},null,null,{"$f":"'LIMITED RESULTS'!#REF!","v":{"$error":"#REF!"}}]
[61,{"$f":"'INTERMEDIATE RESULTS'!E11","v":"INT"},{"$f":"'INTERMEDIATE RESULTS'!B11","v":""},{"$f":"'INTERMEDIATE RESULTS'!C11","v":""},{"$f":"'INTERMEDIATE RESULTS'!D11","v":""},{"$f":"'INTERMEDIATE RESULTS'!#REF!","v":{"$error":"#REF!"}},{"$error":"#REF!"},0,{"$f":"'INTERMEDIATE RESULTS'!F11","v":""},null,null,{"$f":"'INTERMEDIATE RESULTS'!AD11","v":""},null,null,{"$f":"'INTERMEDIATE RESULTS'!R11","v":""},null,null,{"$f":"'INTERMEDIATE RESULTS'!L11","v":""},null,null,{"$f":"'INTERMEDIATE RESULTS'!#REF!","v":{"$error":"#REF!"}}]
[62,{"$f":"'INTERMEDIATE RESULTS'!E12","v":"INT"},{"$f":"'INTERMEDIATE RESULTS'!B12","v":""},{"$f":"'INTERMEDIATE RESULTS'!C12","v":""},{"$f":"'INTERMEDIATE RESULTS'!D12","v":""},{"$f":"'INTERMEDIATE RESULTS'!#REF!","v":{"$error":"#REF!"}},{"$error":"#REF!"},0,{"$f":"'INTERMEDIATE RESULTS'!F12","v":""},null,null,{"$f":"'INTERMEDIATE RESULTS'!AD12","v":""},null,null,{"$f":"'INTERMEDIATE RESULTS'!R12","v":""},null,null,{"$f":"'INTERMEDIATE RESULTS'!L12","v":""},null,null,{"$f":"'INTERMEDIATE RESULTS'!#REF!","v":{"$error":"#REF!"}}]
[63,{"$f":"'INTERMEDIATE RESULTS'!E13","v":"INT"},{"$f":"'INTERMEDIATE RESULTS'!B13","v":""},{"$f":"'INTERMEDIATE RESULTS'!C13","v":""},{"$f":"'INTERMEDIATE RESULTS'!D13","v":""},{"$f":"'INTERMEDIATE RESULTS'!#REF!","v":{"$error":"#REF!"}},{"$f":"SUM(I69,L69,O69,R69,U69)","v":{"$error":"#REF!"}},{"$f":"SUM(I69,L69,O69,R69)","v":0},{"$f":"'INTERMEDIATE RESULTS'!F13","v":""},null,null,{"$f":"'INTERMEDIATE RESULTS'!AD13","v":""},null,null,{"$f":"'INTERMEDIATE RESULTS'!R13","v":""},null,null,{"$f":"'INTERMEDIATE RESULTS'!L13","v":""},null,null,{"$f":"'INTERMEDIATE RESULTS'!#REF!","v":{"$error":"#REF!"}}]
[64,{"$f":"'INTERMEDIATE RESULTS'!E14","v":"INT"},{"$f":"'INTERMEDIATE RESULTS'!B14","v":""},{"$f":"'INTERMEDIATE RESULTS'!C14","v":""},{"$f":"'INTERMEDIATE RESULTS'!D14","v":""},{"$f":"'INTERMEDIATE RESULTS'!#REF!","v":{"$error":"#REF!"}},{"$error":"#REF!"},0,{"$f":"'INTERMEDIATE RESULTS'!F14","v":""},null,null,{"$f":"'INTERMEDIATE RESULTS'!AD14","v":""},null,null,{"$f":"'INTERMEDIATE RESULTS'!R14","v":""},null,null,{"$f":"'INTERMEDIATE RESULTS'!L14","v":""},null,null,{"$f":"'INTERMEDIATE RESULTS'!#REF!","v":{"$error":"#REF!"}}]
[65,{"$f":"'INTERMEDIATE RESULTS'!E15","v":"INT"},{"$f":"'INTERMEDIATE RESULTS'!B15","v":""},{"$f":"'INTERMEDIATE RESULTS'!C15","v":""},{"$f":"'INTERMEDIATE RESULTS'!D15","v":""},{"$f":"'INTERMEDIATE RESULTS'!#REF!","v":{"$error":"#REF!"}},{"$error":"#REF!"},0,{"$f":"'INTERMEDIATE RESULTS'!F15","v":""},null,null,{"$f":"'INTERMEDIATE RESULTS'!AD15","v":""},null,null,{"$f":"'INTERMEDIATE RESULTS'!R15","v":""},null,null,{"$f":"'INTERMEDIATE RESULTS'!L15","v":""},null,null,{"$f":"'INTERMEDIATE RESULTS'!#REF!","v":{"$error":"#REF!"}}]
[66,{"$f":"'INTERMEDIATE RESULTS'!E16","v":"INT"},{"$f":"'INTERMEDIATE RESULTS'!B16","v":""},{"$f":"'INTERMEDIATE RESULTS'!C16","v":""},{"$f":"'INTERMEDIATE RESULTS'!D16","v":""},{"$f":"'INTERMEDIATE RESULTS'!#REF!","v":{"$error":"#REF!"}},{"$error":"#REF!"},0,{"$f":"'INTERMEDIATE RESULTS'!F16","v":""},null,null,{"$f":"'INTERMEDIATE RESULTS'!AD16","v":""},null,null,{"$f":"'INTERMEDIATE RESULTS'!R16","v":""},null,null,{"$f":"'INTERMEDIATE RESULTS'!L16","v":""},null,null,{"$f":"'INTERMEDIATE RESULTS'!#REF!","v":{"$error":"#REF!"}}]
[67,{"$f":"'INTERMEDIATE RESULTS'!E17","v":"INT"},{"$f":"'INTERMEDIATE RESULTS'!B17","v":""},{"$f":"'INTERMEDIATE RESULTS'!C17","v":""},{"$f":"'INTERMEDIATE RESULTS'!D17","v":""},{"$f":"'INTERMEDIATE RESULTS'!#REF!","v":{"$error":"#REF!"}},{"$error":"#REF!"},0,{"$f":"'INTERMEDIATE RESULTS'!F17","v":""},null,null,{"$f":"'INTERMEDIATE RESULTS'!AD17","v":""},null,null,{"$f":"'INTERMEDIATE RESULTS'!R17","v":""},null,null,{"$f":"'INTERMEDIATE RESULTS'!L17","v":""},null,null,{"$f":"'INTERMEDIATE RESULTS'!#REF!","v":{"$error":"#REF!"}}]
[68,{"$f":"'INTERMEDIATE RESULTS'!E18","v":"INT"},{"$f":"'INTERMEDIATE RESULTS'!B18","v":""},{"$f":"'INTERMEDIATE RESULTS'!C18","v":""},{"$f":"'INTERMEDIATE RESULTS'!D18","v":""},{"$f":"'INTERMEDIATE RESULTS'!#REF!","v":{"$error":"#REF!"}},{"$error":"#REF!"},0,{"$f":"'INTERMEDIATE RESULTS'!F18","v":""},null,null,{"$f":"'INTERMEDIATE RESULTS'!AD18","v":""},null,null,{"$f":"'INTERMEDIATE RESULTS'!R18","v":""},null,null,{"$f":"'INTERMEDIATE RESULTS'!L18","v":""},null,null,{"$f":"'INTERMEDIATE RESULTS'!#REF!","v":{"$error":"#REF!"}}]
[69,{"$f":"'INTERMEDIATE RESULTS'!E19","v":"INT"},{"$f":"'INTERMEDIATE RESULTS'!B19","v":""},{"$f":"'INTERMEDIATE RESULTS'!C19","v":""},{"$f":"'INTERMEDIATE RESULTS'!D19","v":""},{"$f":"'INTERMEDIATE RESULTS'!#REF!","v":{"$error":"#REF!"}},{"$error":"#REF!"},0,{"$f":"'INTERMEDIATE RESULTS'!F19","v":""},null,null,{"$f":"'INTERMEDIATE RESULTS'!AD19","v":""},null,null,{"$f":"'INTERMEDIATE RESULTS'!R19","v":""},null,null,{"$f":"'INTERMEDIATE RESULTS'!L19","v":""},null,null,{"$f":"'INTERMEDIATE RESULTS'!#REF!","v":{"$error":"#REF!"}}]
[70,{"$f":"'INTERMEDIATE RESULTS'!E20","v":"INT"},{"$f":"'INTERMEDIATE RESULTS'!B20","v":""},{"$f":"'INTERMEDIATE RESULTS'!C20","v":""},{"$f":"'INTERMEDIATE RESULTS'!D20","v":""},{"$f":"'INTERMEDIATE RESULTS'!#REF!","v":{"$error":"#REF!"}},{"$error":"#REF!"},0,{"$f":"'INTERMEDIATE RESULTS'!F20","v":""},null,null,{"$f":"'INTERMEDIATE RESULTS'!AD20","v":""},null,null,{"$f":"'INTERMEDIATE RESULTS'!R20","v":""},null,null,{"$f":"'INTERMEDIATE RESULTS'!L20","v":""},null,null,{"$f":"'INTERMEDIATE RESULTS'!#REF!","v":{"$error":"#REF!"}}]
[71,{"$f":"'INTERMEDIATE RESULTS'!E21","v":"INT"},{"$f":"'INTERMEDIATE RESULTS'!B21","v":""},{"$f":"'INTERMEDIATE RESULTS'!C21","v":""},{"$f":"'INTERMEDIATE RESULTS'!D21","v":""},{"$f":"'INTERMEDIATE RESULTS'!#REF!","v":{"$error":"#REF!"}},{"$error":"#REF!"},0,{"$f":"'INTERMEDIATE RESULTS'!F21","v":""},null,null,{"$f":"'INTERMEDIATE RESULTS'!AD21","v":""},null,null,{"$f":"'INTERMEDIATE RESULTS'!R21","v":""},null,null,{"$f":"'INTERMEDIATE RESULTS'!L21","v":""},null,null,{"$f":"'INTERMEDIATE RESULTS'!#REF!","v":{"$error":"#REF!"}}]
[72,{"$f":"'INTERMEDIATE RESULTS'!E22","v":"INT"},{"$f":"'INTERMEDIATE RESULTS'!B22","v":""},{"$f":"'INTERMEDIATE RESULTS'!C22","v":""},{"$f":"'INTERMEDIATE RESULTS'!D22","v":""},{"$f":"'INTERMEDIATE RESULTS'!#REF!","v":{"$error":"#REF!"}},{"$error":"#REF!"},0,{"$f":"'INTERMEDIATE RESULTS'!F22","v":""},null,null,{"$f":"'INTERMEDIATE RESULTS'!AD22","v":""},null,null,{"$f":"'INTERMEDIATE RESULTS'!R22","v":""},null,null,{"$f":"'INTERMEDIATE RESULTS'!L22","v":""},null,null,{"$f":"'INTERMEDIATE RESULTS'!#REF!","v":{"$error":"#REF!"}}]
[73,{"$f":"'INTERMEDIATE RESULTS'!E23","v":"INT"},{"$f":"'INTERMEDIATE RESULTS'!B23","v":""},{"$f":"'INTERMEDIATE RESULTS'!C23","v":""},{"$f":"'INTERMEDIATE RESULTS'!D23","v":""},{"$f":"'INTERMEDIATE RESULTS'!#REF!","v":{"$error":"#REF!"}},{"$error":"#REF!"},0,{"$f":"'INTERMEDIATE RESULTS'!F23","v":""},null,null,{"$f":"'INTERMEDIATE RESULTS'!AD23","v":""},null,null,{"$f":"'INTERMEDIATE RESULTS'!R23","v":""},null,null,{"$f":"'INTERMEDIATE RESULTS'!L23","v":""},null,null,{"$f":"'INTERMEDIATE RESULTS'!#REF!","v":{"$error":"#REF!"}}]
[74,{"$f":"'INTERMEDIATE RESULTS'!E24","v":"INT"},{"$f":"'INTERMEDIATE RESULTS'!B24","v":""},{"$f":"'INTERMEDIATE RESULTS'!C24","v":""},{"$f":"'INTERMEDIATE RESULTS'!D24","v":""},{"$f":"'INTERMEDIATE RESULTS'!#REF!","v":{"$error":"#REF!"}},{"$error":"#REF!"},0,{"$f":"'INTERMEDIATE RESULTS'!F24","v":""},null,null,{"$f":"'INTERMEDIATE RESULTS'!AD24","v":""},null,null,{"$f":"'INTERMEDIATE RESULTS'!R24","v":""},null,null,{"$f":"'INTERMEDIATE RESULTS'!L24","v":""},null,null,{"$f":"'INTERMEDIATE RESULTS'!#REF!","v":{"$error":"#REF!"}}]
[75,{"$f":"'INTERMEDIATE RESULTS'!E25","v":"INT"},{"$f":"'INTERMEDIATE RESULTS'!B25","v":""},{"$f":"'INTERMEDIATE RESULTS'!C25","v":""},{"$f":"'INTERMEDIATE RESULTS'!D25","v":""},{"$f":"'INTERMEDIATE RESULTS'!#REF!","v":{"$error":"#REF!"}},{"$error":"#REF!"},0,{"$f":"'INTERMEDIATE RESULTS'!F25","v":""},null,null,{"$f":"'INTERMEDIATE RESULTS'!AD25","v":""},null,null,{"$f":"'INTERMEDIATE RESULTS'!R25","v":""},null,null,{"$f":"'INTERMEDIATE RESULTS'!L25","v":""},null,null,{"$f":"'INTERMEDIATE RESULTS'!#REF!","v":{"$error":"#REF!"}}]
[76,{"$f":"'ADVANCED RESULTS'!E11","v":"ADV"},{"$f":"'ADVANCED RESULTS'!B11","v":""},{"$f":"'ADVANCED RESULTS'!C11","v":""},{"$f":"'ADVANCED RESULTS'!D11","v":""},{"$f":"'ADVANCED RESULTS'!#REF!","v":{"$error":"#REF!"}},{"$error":"#REF!"},0,{"$f":"'ADVANCED RESULTS'!F11","v":""},null,null,{"$f":"'ADVANCED RESULTS'!AD11","v":""},null,null,{"$f":"'ADVANCED RESULTS'!R11","v":""},null,null,{"$f":"'ADVANCED RESULTS'!L11","v":""},null,null,{"$f":"'ADVANCED RESULTS'!#REF!","v":{"$error":"#REF!"}}]
[77,{"$f":"'ADVANCED RESULTS'!E12","v":"ADV"},{"$f":"'ADVANCED RESULTS'!B12","v":""},{"$f":"'ADVANCED RESULTS'!C12","v":""},{"$f":"'ADVANCED RESULTS'!D12","v":""},{"$f":"'ADVANCED RESULTS'!#REF!","v":{"$error":"#REF!"}},{"$error":"#REF!"},0,{"$f":"'ADVANCED RESULTS'!F12","v":""},null,null,{"$f":"'ADVANCED RESULTS'!AD12","v":""},null,null,{"$f":"'ADVANCED RESULTS'!R12","v":""},null,null,{"$f":"'ADVANCED RESULTS'!L12","v":""},null,null,{"$f":"'ADVANCED RESULTS'!#REF!","v":{"$error":"#REF!"}}]
[78,{"$f":"'ADVANCED RESULTS'!E13","v":"ADV"},{"$f":"'ADVANCED RESULTS'!B13","v":""},{"$f":"'ADVANCED RESULTS'!C13","v":""},{"$f":"'ADVANCED RESULTS'!D13","v":""},{"$f":"'ADVANCED RESULTS'!#REF!","v":{"$error":"#REF!"}},{"$error":"#REF!"},0,{"$f":"'ADVANCED RESULTS'!F13","v":""},null,null,{"$f":"'ADVANCED RESULTS'!AD13","v":""},null,null,{"$f":"'ADVANCED RESULTS'!R13","v":""},null,null,{"$f":"'ADVANCED RESULTS'!L13","v":""},null,null,{"$f":"'ADVANCED RESULTS'!#REF!","v":{"$error":"#REF!"}}]
[79,{"$f":"'ADVANCED RESULTS'!E14","v":"ADV"},{"$f":"'ADVANCED RESULTS'!B14","v":""},{"$f":"'ADVANCED RESULTS'!C14","v":""},{"$f":"'ADVANCED RESULTS'!D14","v":""},{"$f":"'ADVANCED RESULTS'!#REF!","v":{"$error":"#REF!"}},{"$error":"#REF!"},0,{"$f":"'ADVANCED RESULTS'!F14","v":""},null,null,{"$f":"'ADVANCED RESULTS'!AD14","v":""},null,null,{"$f":"'ADVANCED RESULTS'!R14","v":""},null,null,{"$f":"'ADVANCED RESULTS'!L14","v":""},null,null,{"$f":"'ADVANCED RESULTS'!#REF!","v":{"$error":"#REF!"}}]
[80,{"$f":"'ADVANCED RESULTS'!E15","v":"ADV"},{"$f":"'ADVANCED RESULTS'!B15","v":""},{"$f":"'ADVANCED RESULTS'!C15","v":""},{"$f":"'ADVANCED RESULTS'!D15","v":""},{"$f":"'ADVANCED RESULTS'!#REF!","v":{"$error":"#REF!"}},{"$error":"#REF!"},0,{"$f":"'ADVANCED RESULTS'!F15","v":""},null,null,{"$f":"'ADVANCED RESULTS'!AD15","v":""},null,null,{"$f":"'ADVANCED RESULTS'!R15","v":""},null,null,{"$f":"'ADVANCED RESULTS'!L15","v":""},null,null,{"$f":"'ADVANCED RESULTS'!#REF!","v":{"$error":"#REF!"}}]
[81,{"$f":"'ADVANCED RESULTS'!E16","v":"ADV"},{"$f":"'ADVANCED RESULTS'!B16","v":""},{"$f":"'ADVANCED RESULTS'!C16","v":""},{"$f":"'ADVANCED RESULTS'!D16","v":""},{"$f":"'ADVANCED RESULTS'!#REF!","v":{"$error":"#REF!"}},{"$error":"#REF!"},0,{"$f":"'ADVANCED RESULTS'!F16","v":""},null,null,{"$f":"'ADVANCED RESULTS'!AD16","v":""},null,null,{"$f":"'ADVANCED RESULTS'!R16","v":""},null,null,{"$f":"'ADVANCED RESULTS'!L16","v":""},null,null,{"$f":"'ADVANCED RESULTS'!#REF!","v":{"$error":"#REF!"}}]
[82,{"$f":"'ADVANCED RESULTS'!E17","v":"ADV"},{"$f":"'ADVANCED RESULTS'!B17","v":""},{"$f":"'ADVANCED RESULTS'!C17","v":""},{"$f":"'ADVANCED RESULTS'!D17","v":""},{"$f":"'ADVANCED RESULTS'!#REF!","v":{"$error":"#REF!"}},{"$error":"#REF!"},0,{"$f":"'ADVANCED RESULTS'!F17","v":""},null,null,{"$f":"'ADVANCED RESULTS'!AD17","v":""},null,null,{"$f":"'ADVANCED RESULTS'!R17","v":""},null,null,{"$f":"'ADVANCED RESULTS'!L17","v":""},null,null,{"$f":"'ADVANCED RESULTS'!#REF!","v":{"$error":"#REF!"}}]
[83,{"$f":"'ADVANCED RESULTS'!E18","v":"ADV"},{"$f":"'ADVANCED RESULTS'!B18","v":""},{"$f":"'ADVANCED RESULTS'!C18","v":""},{"$f":"'ADVANCED RESULTS'!D18","v":""},{"$f":"'ADVANCED RESULTS'!#REF!","v":{"$error":"#REF!"}},{"$error":"#REF!"},0,{"$f":"'ADVANCED RESULTS'!F18","v":""},null,null,{"$f":"'ADVANCED RESULTS'!AD18","v":""},null,null,{"$f":"'ADVANCED RESULTS'!R18","v":""},null,null,{"$f":"'ADVANCED RESULTS'!L18","v":""},null,null,{"$f":"'ADVANCED RESULTS'!#REF!","v":{"$error":"#REF!"}}]
[84,{"$f":"'ADVANCED RESULTS'!E19","v":"ADV"},{"$f":"'ADVANCED RESULTS'!B19","v":""},{"$f":"'ADVANCED RESULTS'!C19","v":""},{"$f":"'ADVANCED RESULTS'!D19","v":""},{"$f":"'ADVANCED RESULTS'!#REF!","v":{"$error":"#REF!"}},{"$error":"#REF!"},0,{"$f":"'ADVANCED RESULTS'!F19","v":""},null,null,{"$f":"'ADVANCED RESULTS'!AD19","v":""},null,null,{"$f":"'ADVANCED RESULTS'!R19","v":""},null,null,{"$f":"'ADVANCED RESULTS'!L19","v":""},null,null,{"$f":"'ADVANCED RESULTS'!#REF!","v":{"$error":"#REF!"}}]
[85,{"$f":"'ADVANCED RESULTS'!E20","v":"ADV"},{"$f":"'ADVANCED RESULTS'!B20","v":""},{"$f":"'ADVANCED RESULTS'!C20","v":""},{"$f":"'ADVANCED RESULTS'!D20","v":""},{"$f":"'ADVANCED RESULTS'!#REF!","v":{"$error":"#REF!"}},{"$error":"#REF!"},0,{"$f":"'ADVANCED RESULTS'!F20","v":""},null,null,{"$f":"'ADVANCED RESULTS'!AD20","v":""},null,null,{"$f":"'ADVANCED RESULTS'!R20","v":""},null,null,{"$f":"'ADVANCED RESULTS'!L20","v":""},null,null,{"$f":"'ADVANCED RESULTS'!#REF!","v":{"$error":"#REF!"}}]
[86,{"$f":"'ADVANCED RESULTS'!E21","v":"ADV"},{"$f":"'ADVANCED RESULTS'!B21","v":""},{"$f":"'ADVANCED RESULTS'!C21","v":""},{"$f":"'ADVANCED RESULTS'!D21","v":""},{"$f":"'ADVANCED RESULTS'!#REF!","v":{"$error":"#REF!"}},{"$error":"#REF!"},0,{"$f":"'ADVANCED RESULTS'!F21","v":""},null,null,{"$f":"'ADVANCED RESULTS'!AD21","v":""},null,null,{"$f":"'ADVANCED RESULTS'!R21","v":""},null,null,{"$f":"'ADVANCED RESULTS'!L21","v":""},null,null,{"$f":"'ADVANCED RESULTS'!#REF!","v":{"$error":"#REF!"}}]
[87,{"$f":"'ADVANCED RESULTS'!E22","v":"ADV"},{"$f":"'ADVANCED RESULTS'!B22","v":""},{"$f":"'ADVANCED RESULTS'!C22","v":""},{"$f":"'ADVANCED RESULTS'!D22","v":""},{"$f":"'ADVANCED RESULTS'!#REF!","v":{"$error":"#REF!"}},{"$error":"#REF!"},0,{"$f":"'ADVANCED RESULTS'!F22","v":""},null,null,{"$f":"'ADVANCED RESULTS'!AD22","v":""},null,null,{"$f":"'ADVANCED RESULTS'!R22","v":""},null,null,{"$f":"'ADVANCED RESULTS'!L22","v":""},null,null,{"$f":"'ADVANCED RESULTS'!#REF!","v":{"$error":"#REF!"}}]
[88,{"$f":"'ADVANCED RESULTS'!E23","v":"ADV"},{"$f":"'ADVANCED RESULTS'!B23","v":""},{"$f":"'ADVANCED RESULTS'!C23","v":""},{"$f":"'ADVANCED RESULTS'!D23","v":""},{"$f":"'ADVANCED RESULTS'!#REF!","v":{"$error":"#REF!"}},{"$error":"#REF!"},0,{"$f":"'ADVANCED RESULTS'!F23","v":""},null,null,{"$f":"'ADVANCED RESULTS'!AD23","v":""},null,null,{"$f":"'ADVANCED RESULTS'!R23","v":""},null,null,{"$f":"'ADVANCED RESULTS'!L23","v":""},null,null,{"$f":"'ADVANCED RESULTS'!#REF!","v":{"$error":"#REF!"}}]
[89,{"$f":"'ADVANCED RESULTS'!E24","v":"ADV"},{"$f":"'ADVANCED RESULTS'!B24","v":""},{"$f":"'ADVANCED RESULTS'!C24","v":""},{"$f":"'ADVANCED RESULTS'!D24","v":""},{"$f":"'ADVANCED RESULTS'!#REF!","v":{"$error":"#REF!"}},{"$error":"#REF!"},0,{"$f":"'ADVANCED RESULTS'!F24","v":""},null,null,{"$f":"'ADVANCED RESULTS'!AD24","v":""},null,null,{"$f":"'ADVANCED RESULTS'!R24","v":""},null,null,{"$f":"'ADVANCED RESULTS'!L24","v":""},null,null,{"$f":"'ADVANCED RESULTS'!#REF!","v":{"$error":"#REF!"}}]
[90,{"$f":"'ADVANCED RESULTS'!E25","v":"ADV"},{"$f":"'ADVANCED RESULTS'!B25","v":""},{"$f":"'ADVANCED RESULTS'!C25","v":""},{"$f":"'ADVANCED RESULTS'!D25","v":""},{"$f":"'ADVANCED RESULTS'!#REF!","v":{"$error":"#REF!"}},{"$error":"#REF!"},0,{"$f":"'ADVANCED RESULTS'!F25","v":""},null,null,{"$f":"'ADVANCED RESULTS'!AD25","v":""},null,null,{"$f":"'ADVANCED RESULTS'!R25","v":""},null,null,{"$f":"'ADVANCED RESULTS'!L25","v":""},null,null,{"$f":"'ADVANCED RESULTS'!#REF!","v":{"$error":"#REF!"}}]
[null,{"$f":"'OPEN RESULTS'!E11","v":"OPEN"},{"$f":"'OPEN RESULTS'!B11","v":""},{"$f":"'OPEN RESULTS'!C11","v":""},{"$f":"'OPEN RESULTS'!D11","v":""},{"$f":"'OPEN RESULTS'!#REF!","v":{"$error":"#REF!"}},{"$f":"'OPEN RESULTS'!#REF!","v":{"$error":"#REF!"}}]
[null,{"$f":"'OPEN RESULTS'!E12","v":"OPEN"},{"$f":"'OPEN RESULTS'!B12","v":""},{"$f":"'OPEN RESULTS'!C12","v":""},{"$f":"'OPEN RESULTS'!D12","v":""},{"$f":"'OPEN RESULTS'!#REF!","v":{"$error":"#REF!"}},{"$f":"'OPEN RESULTS'!#REF!","v":{"$error":"#REF!"}}]
[null,{"$f":"'OPEN RESULTS'!E13","v":"OPEN"},{"$f":"'OPEN RESULTS'!B13","v":""},{"$f":"'OPEN RESULTS'!C13","v":""},{"$f":"'OPEN RESULTS'!D13","v":""},{"$f":"'OPEN RESULTS'!#REF!","v":{"$error":"#REF!"}},{"$f":"'OPEN RESULTS'!#REF!","v":{"$error":"#REF!"}}]
[null,{"$f":"'OPEN RESULTS'!E14","v":"OPEN"},{"$f":"'OPEN RESULTS'!B14","v":""},{"$f":"'OPEN RESULTS'!C14","v":""},{"$f":"'OPEN RESULTS'!D14","v":""},{"$f":"'OPEN RESULTS'!#REF!","v":{"$error":"#REF!"}},{"$f":"'OPEN RESULTS'!#REF!","v":{"$error":"#REF!"}}]
[null,{"$f":"'OPEN RESULTS'!E15","v":"OPEN"},{"$f":"'OPEN RESULTS'!B15","v":""},{"$f":"'OPEN RESULTS'!C15","v":""},{"$f":"'OPEN RESULTS'!D15","v":""},{"$f":"'OPEN RESULTS'!#REF!","v":{"$error":"#REF!"}},{"$f":"'OPEN RESULTS'!#REF!","v":{"$error":"#REF!"}}]
[null,{"$f":"'OPEN RESULTS'!E16","v":"OPEN"},{"$f":"'OPEN RESULTS'!B16","v":""},{"$f":"'OPEN RESULTS'!C16","v":""},{"$f":"'OPEN RESULTS'!D16","v":""},{"$f":"'OPEN RESULTS'!#REF!","v":{"$error":"#REF!"}},{"$f":"'OPEN RESULTS'!#REF!","v":{"$error":"#REF!"}}]
[null,{"$f":"'OPEN RESULTS'!E17","v":"OPEN"},{"$f":"'OPEN RESULTS'!B17","v":""},{"$f":"'OPEN RESULTS'!C17","v":""},{"$f":"'OPEN RESULTS'!D17","v":""},{"$f":"'OPEN RESULTS'!#REF!","v":{"$error":"#REF!"}},{"$f":"'OPEN RESULTS'!#REF!","v":{"$error":"#REF!"}}]
[null,{"$f":"'OPEN RESULTS'!E18","v":"OPEN"},{"$f":"'OPEN RESULTS'!B18","v":""},{"$f":"'OPEN RESULTS'!C18","v":""},{"$f":"'OPEN RESULTS'!D18","v":""},{"$f":"'OPEN RESULTS'!#REF!","v":{"$error":"#REF!"}},{"$f":"'OPEN RESULTS'!#REF!","v":{"$error":"#REF!"}}]
[null,{"$f":"'OPEN RESULTS'!E19","v":"OPEN"},{"$f":"'OPEN RESULTS'!B19","v":""},{"$f":"'OPEN RESULTS'!C19","v":""},{"$f":"'OPEN RESULTS'!D19","v":""},{"$f":"'OPEN RESULTS'!#REF!","v":{"$error":"#REF!"}},{"$f":"'OPEN RESULTS'!#REF!","v":{"$error":"#REF!"}}]
[null,{"$f":"'OPEN RESULTS'!E20","v":"OPEN"},{"$f":"'OPEN RESULTS'!B20","v":""},{"$f":"'OPEN RESULTS'!C20","v":""},{"$f":"'OPEN RESULTS'!D20","v":""},{"$f":"'OPEN RESULTS'!#REF!","v":{"$error":"#REF!"}},{"$f":"'OPEN RESULTS'!#REF!","v":{"$error":"#REF!"}}]
[null,{"$f":"'OPEN RESULTS'!E21","v":"OPEN"},{"$f":"'OPEN RESULTS'!B21","v":""},{"$f":"'OPEN RESULTS'!C21","v":""},{"$f":"'OPEN RESULTS'!D21","v":""},{"$f":"'OPEN RESULTS'!#REF!","v":{"$error":"#REF!"}},{"$f":"'OPEN RESULTS'!#REF!","v":{"$error":"#REF!"}}]
[null,{"$f":"'OPEN RESULTS'!E22","v":"OPEN"},{"$f":"'OPEN RESULTS'!B22","v":""},{"$f":"'OPEN RESULTS'!C22","v":""},{"$f":"'OPEN RESULTS'!D22","v":""},{"$f":"'OPEN RESULTS'!#REF!","v":{"$error":"#REF!"}},{"$f":"'OPEN RESULTS'!#REF!","v":{"$error":"#REF!"}}]
[null,{"$f":"'OPEN RESULTS'!E23","v":"OPEN"},{"$f":"'OPEN RESULTS'!B23","v":""},{"$f":"'OPEN RESULTS'!C23","v":""},{"$f":"'OPEN RESULTS'!D23","v":""},{"$f":"'OPEN RESULTS'!#REF!","v":{"$error":"#REF!"}},{"$f":"'OPEN RESULTS'!#REF!","v":{"$error":"#REF!"}}]
[null,{"$f":"'OPEN RESULTS'!E24","v":"OPEN"},{"$f":"'OPEN RESULTS'!B24","v":""},{"$f":"'OPEN RESULTS'!C24","v":""},{"$f":"'OPEN RESULTS'!D24","v":""},{"$f":"'OPEN RESULTS'!#REF!","v":{"$error":"#REF!"}},{"$f":"'OPEN RESULTS'!#REF!","v":{"$error":"#REF!"}}]
[null,{"$f":"'OPEN RESULTS'!E25","v":"OPEN"},{"$f":"'OPEN RESULTS'!B25","v":""},{"$f":"'OPEN RESULTS'!C25","v":""},{"$f":"'OPEN RESULTS'!D25","v":""},{"$f":"'OPEN RESULTS'!#REF!","v":{"$error":"#REF!"}},{"$f":"'OPEN RESULTS'!#REF!","v":{"$error":"#REF!"}}]
[]
[null,null,null,null,null,null,null,null,"1 - Extended Trot",null,null,"1 - Stop Cow",null,null,"1 - Penning",null,null,"1 - Drag log",null,null,"1 - Working Ranch Score"]
[null,null,null,null,null,null,null,null,"2 - Transition down lope/walk/stop",null,null,"2 - Box Cow",null,null,"2 - Driving to Pen between marker & fence",null,null,"2- Dismount, drop bridle, ground tie, pick up all 4 feet, remount",null,null,"2 - Ranch Riding Score"]
[null,null,null,null,null,null,null,null,"3 - Transition to lope/lope",null,null,"3 - Stop Back or Stop Rollback",null,null,"3 - Set up for cutting",null,null,"3 - Open, walk through, close gate",null,null,"3 - Cutting Score"]
[null,null,null,null,null,null,null,null,"4 - Lope Departure and Lope",null,null,"4 - First Lead Change or First Lope Circle and Lead Change",null,null,"4 - Courage & Cow Sense",null,null,"4 - Lope",null,null,"4 - Overall Balance Score"]
[null,null,null,null,null,null,null,null,"5 - Trot Reverse",null,null,"5 - First Turn",null,null,"5 - Eye Appeal",null,null,"5 - Trot",null,null,"5 - Ranch Trail Score"]
[null,null,null,null,null,null,null,null,"6 - Stop and Back",null,null,"6 - Rope Handling",null,null,"6 - Working center of arena",null,null,"6 - Walk",null,null,"6 - Fitness & Condition"]

{"sheet":"WALK TROT RESULTS","index":3,"n_rows":52,"n_cols":40,"rows_kept":52,"cut":false,"hidden":false,"merged":[[4,36,4,39],[5,36,9,36],[5,37,9,37],[5,39,9,39],[6,23,6,28],[7,34,9,34],[7,29,9,29],[7,30,9,30],[7,33,9,33],[6,17,6,22],[6,11,6,16],[2,29,2,34],[4,5,4,34],[5,5,5,10],[5,23,5,28],[5,17,5,22],[5,11,5,16],[5,29,5,34],[6,29,6,34],[1,0,1,2],[1,4,1,5],[1,9,1,16],[1,29,1,34],[1,24,1,28],[2,1,2,2],[2,4,2,5],[2,9,2,11],[2,24,2,28],[7,14,9,14],[7,20,9,20],[7,5,9,5],[7,6,9,6],[7,9,9,9],[7,10,9,10],[7,11,9,11],[7,7,9,7],[7,8,9,8],[7,15,9,15],[7,16,9,16],[6,5,6,10],[48,0,49,4],[7,26,9,26],[7,32,9,32],[7,13,9,13],[7,19,9,19],[7,25,9,25],[7,31,9,31],[7,28,9,28],[7,27,9,27],[7,12,9,12],[7,23,9,23],[7,24,9,24],[7,17,9,17],[7,18,9,18],[7,21,9,21],[7,22,9,22]]}
[]
[null,null,null,null,"Event Name:",null,null,null,null,"Sun Country Round UP",null,null,null,null,null,null,null,null,null,null,null,null,null,null,"Judge #1 Name/Classes:",null,null,null,null,"Jason Hershberger"]
["Division:","WALK TROT",null,null,"Event Date:",null,null,null,null,"February 25, 208",null,null,null,null,null,null,null,null,null,null,null,null,null,null,"Judge #2 Name/Classes:",null,null,null,null,"Debbie Cooper"]
[]
[null,null,null,null,null,"WALK TROT INDIVIDUAL CLASS RESULTS",null,null,null,null,null,null,null,null,null,null,null,null,null,null,null,null,null,null,null,null,null,null,null,null,null,null,null,null,null,null,"WALK TROT ALL AROUND RESULTS"]
[null,null,null,null,null,"RANCH",null,null,null,null,null,"RANCH",null,null,null,null,null,"RANCH",null,null,null,null,null,"RANCH",null,null,null,null,null,"RANCH",null,null,null,null,null,null,"TOTAL  ALL AROUND PLACEMENT POINTS","Tie Breaker","Adjusted ","EVENT ALL AROUND"]
[null,null,null,null,null,"RIDING",null,null,null,null,null,"TRAIL",null,null,null,null,null,"CUTING",null,null,null,null,null,"REINED WORK",null,null,null,null,null,"COW WORK",null,null,null,null,null,null,null,null,"Placement"]
[null,null,null,null,null,"Score","Tie Breaker","Adjusted Score for Ties","Adjusted Score Major Penalty","Place","Placement Points","Score","Tie Breaker","Adjusted Score for Ties","Adjusted Score Major Penalty","Place","Placement Points","Score","Tie Breaker","Adjusted Score for Ties","Adjusted Score Major Penalty","Place","Placement Points","Score","Tie Breaker","Adjusted Score for Ties","Adjusted Score Major Penalty","Place","Placement Points","Score","Tie Breaker","Adjusted Score for Ties","Adjusted Score Major Penalty","Place","Placement Points",null,null,null,"Points"]
[]
["Back No.","Last Name","First Name","Registered Horse Name","Division"]
[{"$f":"IF('Entry Information'!B11=\"\",\"\",'Entry Information'!B11)","v":156},{"$f":"IF('Entry Information'!C11=\"\",\"\",'Entry Information'!C11)","v":"McClammy"},{"$f":"IF('Entry Information'!D11=\"\",\"\",'Entry Information'!D11)","v":"Christine"},{"$f":"IF('Entry Information'!E11=\"\",\"\",'Entry Information'!E11)","v":"Cattastrophe"},"WT",{"$f":"IF('Entry Information'!Q11=\"\",\"\",'Entry Information'!Q11)","v":70.5},null,{"$f":"IF(G11=\"\",F11,(F11+(G11*0.001)))","v":70.5},{"$f":"IF('Entry Information'!R11=\"\",H11,H11-100)","v":70.5},{"$f":"IF(I11=\"\",\"\",(RANK(I11,$I$11:$I$40,0)))","v":1},{"$f":"IF($F11=\"\",\"\",(VLOOKUP($J$42,Worksheet!$A$11:$AE$41,J11+1,FALSE)))","v":5},64.5,null,{"$f":"IF(M11=\"\",L11,(L11+(M11*0.001)))","v":64.5},{"$f":"IF('Entry Information'!T11=\"\",N11,N11-100)","v":64.5},{"$f":"IF(O11=\"\",\"\",(RANK(O11,$O$11:$O$40,0)))","v":1},{"$f":"IF($L11=\"\",\"\",(VLOOKUP($P$42,Worksheet!$A$11:$AE$41,P11+1,FALSE)))","v":5},{"$f":"IF('Entry Information'!U11=\"\",\"\",'Entry Information'!U11)","v":""},null,{"$f":"IF(S11=\"\",R11,(R11+(S11*0.001)))","v":""},{"$f":"IF('Entry Information'!V11=\"\",T11,T11-100)","v":""},{"$f":"IF(U11=\"\",\"\",(RANK(U11,$U$11:$U$40,0)))","v":""},{"$f":"IF($R11=\"\",\"\",(VLOOKUP($V$42,Worksheet!$A$11:$AE$41,V11+1,FALSE)))","v":""},{"$f":"IF('Entry Information'!W11=\"\",\"\",'Entry Information'!W11)","v":73},null,{"$f":"IF(Y11=\"\",X11,(X11+(Y11*0.001)))","v":73},{"$f":"IF('Entry Information'!X11=\"\",Z11,Z11-100)","v":73},{"$f":"IF(AA11=\"\",\"\",(RANK(AA11,$AA$11:$AA$40,0)))","v":1},{"$f":"IF($X11=\"\",\"\",(VLOOKUP($AB$42,Worksheet!$A$11:$AE$41,AB11+1,FALSE)))","v":5},{"$f":"IF('Entry Information'!Y11=\"\",\"\",'Entry Information'!Y11)","v":""},null,{"$f":"IF(AE11=\"\",AD11,(AD11+(AE11*0.001)))","v":""},{"$f":"IF('Entry Information'!Z11=\"\",AF11,AF11-100)","v":""},{"$f":"IF(AG11=\"\",\"\",(RANK(AG11,$AG$11:$AG$40,0)))","v":""},{"$f":"IF($AD11=\"\",\"\",(VLOOKUP($AH$42,Worksheet!$A$11:$AE$41,AH11+1,FALSE)))","v":""},null,{"$f":"IF('NOVICE All-AROUND RESULTS'!A10=\"\",\"\",(SUM('NOVICE All-AROUND RESULTS'!$K10,'NOVICE All-AROUND RESULTS'!$AC10,'NOVICE All-AROUND RESULTS'!$AI10, 'NOVICE All-AROUND RESULTS'!$W10,'NOVICE All-AROUND RESULTS'!$Q10)))","v":""},null,{"$f":"IF(AL11=\"\",AK11,(AK11+(AL11*0.001)))","v":""},{"$f":"IF(AM11=\"\",\"\",(RANK(AM11,$AM$11:$AM$40,0)))","v":""}]
[{"$f":"IF('Entry Information'!B12=\"\",\"\",'Entry Information'!B12)","v":154},{"$f":"IF('Entry Information'!C12=\"\",\"\",'Entry Information'!C12)","v":"Finlayson"},{"$f":"IF('Entry Information'!D12=\"\",\"\",'Entry Information'!D12)","v":"Megan"},{"$f":"IF('Entry Information'!E12=\"\",\"\",'Entry Information'!E12)","v":"Freckles"},"WT",{"$f":"IF('Entry Information'!Q12=\"\",\"\",'Entry Information'!Q12)","v":56.5},null,{"$f":"IF(G12=\"\",F12,(F12+(G12*0.001)))","v":56.5},{"$f":"IF('Entry Information'!R12=\"\",H12,H12-100)","v":56.5},{"$f":"IF(I12=\"\",\"\",(RANK(I12,$I$11:$I$40,0)))","v":4},{"$f":"IF($F12=\"\",\"\",(VLOOKUP($J$42,Worksheet!$A$11:$AE$41,J12+1,FALSE)))","v":2},54,null,54,{"$f":"IF('Entry Information'!T12=\"\",N12,N12-100)","v":54},{"$f":"IF(O12=\"\",\"\",(RANK(O12,$O$11:$O$40,0)))","v":3},{"$f":"IF($L12=\"\",\"\",(VLOOKUP($P$42,Worksheet!$A$11:$AE$41,P12+1,FALSE)))","v":3},{"$f":"IF('Entry Information'!U12=\"\",\"\",'Entry Information'!U12)","v":69},null,69,{"$f":"IF('Entry Information'!V12=\"\",T12,T12-100)","v":69},{"$f":"IF(U12=\"\",\"\",(RANK(U12,$U$11:$U$40,0)))","v":2},{"$f":"IF($R12=\"\",\"\",(VLOOKUP($V$42,Worksheet!$A$11:$AE$41,V12+1,FALSE)))","v":2},{"$f":"IF('Entry Information'!W12=\"\",\"\",'Entry Information'!W12)","v":70.5},null,{"$f":"IF(Y12=\"\",X12,(X12+(Y12*0.001)))","v":70.5},{"$f":"IF('Entry Information'!X12=\"\",Z12,Z12-100)","v":-29.5},{"$f":"IF(AA12=\"\",\"\",(RANK(AA12,$AA$11:$AA$40,0)))","v":4},{"$f":"IF($X12=\"\",\"\",(VLOOKUP($AB$42,Worksheet!$A$11:$AE$41,AB12+1,FALSE)))","v":2},{"$f":"IF('Entry Information'!Y12=\"\",\"\",'Entry Information'!Y12)","v":72.5},null,{"$f":"IF(AE12=\"\",AD12,(AD12+(AE12*0.001)))","v":72.5},{"$f":"IF('Entry Information'!Z12=\"\",AF12,AF12-100)","v":72.5},{"$f":"IF(AG12=\"\",\"\",(RANK(AG12,$AG$11:$AG$40,0)))","v":2},{"$f":"IF($AD12=\"\",\"\",(VLOOKUP($AH$42,Worksheet!$A$11:$AE$41,AH12+1,FALSE)))","v":2},null,{"$f":"IF('NOVICE All-AROUND RESULTS'!A11=\"\",\"\",(SUM('NOVICE All-AROUND RESULTS'!$K11,'NOVICE All-AROUND RESULTS'!$AC11,'NOVICE All-AROUND RESULTS'!$AI11, 'NOVICE All-AROUND RESULTS'!$W11,'NOVICE All-AROUND RESULTS'!$Q11)))","v":10},null,10,2]
[{"$f":"IF('Entry Information'!B13=\"\",\"\",'Entry Information'!B13)","v":165},{"$f":"IF('Entry Information'!C13=\"\",\"\",'Entry Information'!C13)","v":"Little"},{"$f":"IF('Entry Information'!D13=\"\",\"\",'Entry Information'!D13)","v":"Laureen"},{"$f":"IF('Entry Information'!E13=\"\",\"\",'Entry Information'!E13)","v":"Smart Little Hemi"},"WT",{"$f":"IF('Entry Information'!Q13=\"\",\"\",'Entry Information'!Q13)","v":61.5},null,61.5,{"$f":"IF('Entry Information'!R13=\"\",H13,H13-100)","v":61.5},3,{"$f":"IF($F13=\"\",\"\",(VLOOKUP($J$42,Worksheet!$A$11:$AE$41,J13+1,FALSE)))","v":3},53.5,null,53.5,{"$f":"IF('Entry Information'!T13=\"\",N13,N13-100)","v":53.5},4,{"$f":"IF($L13=\"\",\"\",(VLOOKUP($P$42,Worksheet!$A$11:$AE$41,P13+1,FALSE)))","v":2},{"$f":"IF('Entry Information'!U13=\"\",\"\",'Entry Information'!U13)","v":72},null,72,{"$f":"IF('Entry Information'!V13=\"\",T13,T13-100)","v":72},1,{"$f":"IF($R13=\"\",\"\",(VLOOKUP($V$42,Worksheet!$A$11:$AE$41,V13+1,FALSE)))","v":3},{"$f":"IF('Entry Information'!W13=\"\",\"\",'Entry Information'!W13)","v":65},null,65,{"$f":"IF('Entry Information'!X13=\"\",Z13,Z13-100)","v":-35},5,{"$f":"IF($X13=\"\",\"\",(VLOOKUP($AB$42,Worksheet!$A$11:$AE$41,AB13+1,FALSE)))","v":1},{"$f":"IF('Entry Information'!Y13=\"\",\"\",'Entry Information'!Y13)","v":73},null,73,{"$f":"IF('Entry Information'!Z13=\"\",AF13,AF13-100)","v":73},1,{"$f":"IF($AD13=\"\",\"\",(VLOOKUP($AH$42,Worksheet!$A$11:$AE$41,AH13+1,FALSE)))","v":3},null,{"$f":"IF('NOVICE All-AROUND RESULTS'!A12=\"\",\"\",(SUM('NOVICE All-AROUND RESULTS'!$K12,'NOVICE All-AROUND RESULTS'!$AC12,'NOVICE All-AROUND RESULTS'!$AI12, 'NOVICE All-AROUND RESULTS'!$W12,'NOVICE All-AROUND RESULTS'!$Q12)))","v":11},null,11,1]
[{"$f":"IF('Entry Information'!B14=\"\",\"\",'Entry Information'!B14)","v":164},{"$f":"IF('Entry Information'!C14=\"\",\"\",'Entry Information'!C14)","v":"VanStaalduien"},{"$f":"IF('Entry Information'!D14=\"\",\"\",'Entry Information'!D14)","v":"Ian"},{"$f":"IF('Entry Information'!E14=\"\",\"\",'Entry Information'!E14)","v":"Meradas Truckin Chex"},"WT",{"$f":"IF('Entry Information'!Q14=\"\",\"\",'Entry Information'!Q14)","v":67},null,67,{"$f":"IF('Entry Information'!R14=\"\",H14,H14-100)","v":67},2,{"$f":"IF($F14=\"\",\"\",(VLOOKUP($J$42,Worksheet!$A$11:$AE$41,J14+1,FALSE)))","v":4},41.5,null,41.5,{"$f":"IF('Entry Information'!T14=\"\",N14,N14-100)","v":41.5},5,{"$f":"IF($L14=\"\",\"\",(VLOOKUP($P$42,Worksheet!$A$11:$AE$41,P14+1,FALSE)))","v":1},{"$f":"IF('Entry Information'!U14=\"\",\"\",'Entry Information'!U14)","v":66},null,66,{"$f":"IF('Entry Information'!V14=\"\",T14,T14-100)","v":66},3,{"$f":"IF($R14=\"\",\"\",(VLOOKUP($V$42,Worksheet!$A$11:$AE$41,V14+1,FALSE)))","v":1},{"$f":"IF('Entry Information'!W14=\"\",\"\",'Entry Information'!W14)","v":72.5},null,72.5,{"$f":"IF('Entry Information'!X14=\"\",Z14,Z14-100)","v":72.5},2,{"$f":"IF($X14=\"\",\"\",(VLOOKUP($AB$42,Worksheet!$A$11:$AE$41,AB14+1,FALSE)))","v":4},{"$f":"IF('Entry Information'!Y14=\"\",\"\",'Entry Information'!Y14)","v":72},null,72,{"$f":"IF('Entry Information'!Z14=\"\",AF14,AF14-100)","v":72},3,{"$f":"IF($AD14=\"\",\"\",(VLOOKUP($AH$42,Worksheet!$A$11:$AE$41,AH14+1,FALSE)))","v":1},null,{"$f":"IF('NOVICE All-AROUND RESULTS'!A13=\"\",\"\",(SUM('NOVICE All-AROUND RESULTS'!$K13,'NOVICE All-AROUND RESULTS'!$AC13,'NOVICE All-AROUND RESULTS'!$AI13, 'NOVICE All-AROUND RESULTS'!$W13,'NOVICE All-AROUND RESULTS'!$Q13)))","v":9},null,9,3]
[{"$f":"IF('Entry Information'!B15=\"\",\"\",'Entry Information'!B15)","v":157},{"$f":"IF('Entry Information'!C15=\"\",\"\",'Entry Information'!C15)","v":"Barthen"},{"$f":"IF('Entry Information'!D15=\"\",\"\",'Entry Information'!D15)","v":"Leigh"},{"$f":"IF('Entry Information'!E15=\"\",\"\",'Entry Information'!E15)","v":""},"WT",{"$f":"IF('Entry Information'!Q15=\"\",\"\",'Entry Information'!Q15)","v":61.5},null,61.5,{"$f":"IF('Entry Information'!R15=\"\",H15,H15-100)","v":-38.5},5,{"$f":"IF($F15=\"\",\"\",(VLOOKUP($J$42,Worksheet!$A$11:$AE$41,J15+1,FALSE)))","v":1},60,null,60,{"$f":"IF('Entry Information'!T15=\"\",N15,N15-100)","v":60},2,{"$f":"IF($L15=\"\",\"\",(VLOOKUP($P$42,Worksheet!$A$11:$AE$41,P15+1,FALSE)))","v":4},{"$f":"IF('Entry Information'!U15=\"\",\"\",'Entry Information'!U15)","v":""},null,"",{"$f":"IF('Entry Information'!V15=\"\",T15,T15-100)","v":""},"",{"$f":"IF($R15=\"\",\"\",(VLOOKUP($V$42,Worksheet!$A$11:$AE$41,V15+1,FALSE)))","v":""},{"$f":"IF('Entry Information'!W15=\"\",\"\",'Entry Information'!W15)","v":67},null,67,{"$f":"IF('Entry Information'!X15=\"\",Z15,Z15-100)","v":67},3,{"$f":"IF($X15=\"\",\"\",(VLOOKUP($AB$42,Worksheet!$A$11:$AE$41,AB15+1,FALSE)))","v":3},{"$f":"IF('Entry Information'!Y15=\"\",\"\",'Entry Information'!Y15)","v":""},null,"",{"$f":"IF('Entry Information'!Z15=\"\",AF15,AF15-100)","v":""},"",{"$f":"IF($AD15=\"\",\"\",(VLOOKUP($AH$42,Worksheet!$A$11:$AE$41,AH15+1,FALSE)))","v":""},null,{"$f":"IF('NOVICE All-AROUND RESULTS'!A14=\"\",\"\",(SUM('NOVICE All-AROUND RESULTS'!$K14,'NOVICE All-AROUND RESULTS'!$AC14,'NOVICE All-AROUND RESULTS'!$AI14, 'NOVICE All-AROUND RESULTS'!$W14,'NOVICE All-AROUND RESULTS'!$Q14)))","v":""},null,"",""]
[{"$f":"IF('Entry Information'!B16=\"\",\"\",'Entry Information'!B16)","v":""},{"$f":"IF('Entry Information'!C16=\"\",\"\",'Entry Information'!C16)","v":""},{"$f":"IF('Entry Information'!D16=\"\",\"\",'Entry Information'!D16)","v":""},{"$f":"IF('Entry Information'!E16=\"\",\"\",'Entry Information'!E16)","v":""},null,{"$f":"IF('Entry Information'!Q16=\"\",\"\",'Entry Information'!Q16)","v":""},null,"",{"$f":"IF('Entry Information'!R16=\"\",H16,H16-100)","v":""},"",{"$f":"IF($F16=\"\",\"\",(VLOOKUP($J$42,Worksheet!$A$11:$AE$41,J16+1,FALSE)))","v":""},{"$f":"IF('Entry Information'!S16=\"\",\"\",'Entry Information'!S16)","v":""},null,"",{"$f":"IF('Entry Information'!T16=\"\",N16,N16-100)","v":""},"",{"$f":"IF($L16=\"\",\"\",(VLOOKUP($P$42,Worksheet!$A$11:$AE$41,P16+1,FALSE)))","v":""},{"$f":"IF('Entry Information'!U16=\"\",\"\",'Entry Information'!U16)","v":""},null,"",{"$f":"IF('Entry Information'!V16=\"\",T16,T16-100)","v":""},"",{"$f":"IF($R16=\"\",\"\",(VLOOKUP($V$42,Worksheet!$A$11:$AE$41,V16+1,FALSE)))","v":""},{"$f":"IF('Entry Information'!W16=\"\",\"\",'Entry Information'!W16)","v":""},null,"",{"$f":"IF('Entry Information'!X16=\"\",Z16,Z16-100)","v":""},"",{"$f":"IF($X16=\"\",\"\",(VLOOKUP($AB$42,Worksheet!$A$11:$AE$41,AB16+1,FALSE)))","v":""},{"$f":"IF('Entry Information'!Y16=\"\",\"\",'Entry Information'!Y16)","v":""},null,"",{"$f":"IF('Entry Information'!Z16=\"\",AF16,AF16-100)","v":""},"",{"$f":"IF($AD16=\"\",\"\",(VLOOKUP($AH$42,Worksheet!$A$11:$AE$41,AH16+1,FALSE)))","v":""},null,{"$f":"IF('NOVICE All-AROUND RESULTS'!A15=\"\",\"\",(SUM('NOVICE All-AROUND RESULTS'!$K15,'NOVICE All-AROUND RESULTS'!$AC15,'NOVICE All-AROUND RESULTS'!$AI15, 'NOVICE All-AROUND RESULTS'!$W15,'NOVICE All-AROUND RESULTS'!$Q15)))","v":""},null,"",""]
[{"$f":"IF('Entry Information'!B17=\"\",\"\",'Entry Information'!B17)","v":""},{"$f":"IF('Entry Information'!C17=\"\",\"\",'Entry Information'!C17)","v":""},{"$f":"IF('Entry Information'!D17=\"\",\"\",'Entry Information'!D17)","v":""},{"$f":"IF('Entry Information'!E17=\"\",\"\",'Entry Information'!E17)","v":""},"NOV",{"$f":"IF('Entry Information'!Q17=\"\",\"\",'Entry Information'!Q17)","v":""},null,"",{"$f":"IF('Entry Information'!R17=\"\",H17,H17-100)","v":""},"",{"$f":"IF($F17=\"\",\"\",(VLOOKUP($J$42,Worksheet!$A$11:$AE$41,J17+1,FALSE)))","v":""},{"$f":"IF('Entry Information'!S17=\"\",\"\",'Entry Information'!S17)","v":""},null,"",{"$f":"IF('Entry Information'!T17=\"\",N17,N17-100)","v":""},"",{"$f":"IF($L17=\"\",\"\",(VLOOKUP($P$42,Worksheet!$A$11:$AE$41,P17+1,FALSE)))","v":""},{"$f":"IF('Entry Information'!U17=\"\",\"\",'Entry Information'!U17)","v":""},null,"",{"$f":"IF('Entry Information'!V17=\"\",T17,T17-100)","v":""},"",{"$f":"IF($R17=\"\",\"\",(VLOOKUP($V$42,Worksheet!$A$11:$AE$41,V17+1,FALSE)))","v":""},{"$f":"IF('Entry Information'!W17=\"\",\"\",'Entry Information'!W17)","v":""},null,"",{"$f":"IF('Entry Information'!X17=\"\",Z17,Z17-100)","v":""},"",{"$f":"IF($X17=\"\",\"\",(VLOOKUP($AB$42,Worksheet!$A$11:$AE$41,AB17+1,FALSE)))","v":""},{"$f":"IF('Entry Information'!Y17=\"\",\"\",'Entry Information'!Y17)","v":""},null,"",{"$f":"IF('Entry Information'!Z17=\"\",AF17,AF17-100)","v":""},"",{"$f":"IF($AD17=\"\",\"\",(VLOOKUP($AH$42,Worksheet!$A$11:$AE$41,AH17+1,FALSE)))","v":""},null,{"$f":"IF('NOVICE All-AROUND RESULTS'!A16=\"\",\"\",(SUM('NOVICE All-AROUND RESULTS'!$K16,'NOVICE All-AROUND RESULTS'!$AC16,'NOVICE All-AROUND RESULTS'!$AI16, 'NOVICE All-AROUND RESULTS'!$W16,'NOVICE All-AROUND RESULTS'!$Q16)))","v":""},null,"",""]
[{"$f":"IF('Entry Information'!B18=\"\",\"\",'Entry Information'!B18)","v":""},{"$f":"IF('Entry Information'!C18=\"\",\"\",'Entry Information'!C18)","v":""},{"$f":"IF('Entry Information'!D18=\"\",\"\",'Entry Information'!D18)","v":""},{"$f":"IF('Entry Information'!E18=\"\",\"\",'Entry Information'!E18)","v":""},"NOV",{"$f":"IF('Entry Information'!Q18=\"\",\"\",'Entry Information'!Q18)","v":""},null,"",{"$f":"IF('Entry Information'!R18=\"\",H18,H18-100)","v":""},"",{"$f":"IF($F18=\"\",\"\",(VLOOKUP($J$42,Worksheet!$A$11:$AE$41,J18+1,FALSE)))","v":""},{"$f":"IF('Entry Information'!S18=\"\",\"\",'Entry Information'!S18)","v":""},null,"",{"$f":"IF('Entry Information'!T18=\"\",N18,N18-100)","v":""},"",{"$f":"IF($L18=\"\",\"\",(VLOOKUP($P$42,Worksheet!$A$11:$AE$41,P18+1,FALSE)))","v":""},{"$f":"IF('Entry Information'!U18=\"\",\"\",'Entry Information'!U18)","v":""},null,"",{"$f":"IF('Entry Information'!V18=\"\",T18,T18-100)","v":""},"",{"$f":"IF($R18=\"\",\"\",(VLOOKUP($V$42,Worksheet!$A$11:$AE$41,V18+1,FALSE)))","v":""},{"$f":"IF('Entry Information'!W18=\"\",\"\",'Entry Information'!W18)","v":""},null,"",{"$f":"IF('Entry Information'!X18=\"\",Z18,Z18-100)","v":""},"",{"$f":"IF($X18=\"\",\"\",(VLOOKUP($AB$42,Worksheet!$A$11:$AE$41,AB18+1,FALSE)))","v":""},{"$f":"IF('Entry Information'!Y18=\"\",\"\",'Entry Information'!Y18)","v":""},null,"",{"$f":"IF('Entry Information'!Z18=\"\",AF18,AF18-100)","v":""},"",{"$f":"IF($AD18=\"\",\"\",(VLOOKUP($AH$42,Worksheet!$A$11:$AE$41,AH18+1,FALSE)))","v":""},null,{"$f":"IF('NOVICE All-AROUND RESULTS'!A17=\"\",\"\",(SUM('NOVICE All-AROUND RESULTS'!$K17,'NOVICE All-AROUND RESULTS'!$AC17,'NOVICE All-AROUND RESULTS'!$AI17, 'NOVICE All-AROUND RESULTS'!$W17,'NOVICE All-AROUND RESULTS'!$Q17)))","v":""},null,"",""]
[{"$f":"IF('Entry Information'!B19=\"\",\"\",'Entry Information'!B19)","v":""},{"$f":"IF('Entry Information'!C19=\"\",\"\",'Entry Information'!C19)","v":""},{"$f":"IF('Entry Information'!D19=\"\",\"\",'Entry Information'!D19)","v":""},{"$f":"IF('Entry Information'!E19=\"\",\"\",'Entry Information'!E19)","v":""},"NOV",{"$f":"IF('Entry Information'!Q19=\"\",\"\",'Entry Information'!Q19)","v":""},null,"",{"$f":"IF('Entry Information'!R19=\"\",H19,H19-100)","v":""},"",{"$f":"IF($F19=\"\",\"\",(VLOOKUP($J$42,Worksheet!$A$11:$AE$41,J19+1,FALSE)))","v":""},{"$f":"IF('Entry Information'!S19=\"\",\"\",'Entry Information'!S19)","v":""},null,"",{"$f":"IF('Entry Information'!T19=\"\",N19,N19-100)","v":""},"",{"$f":"IF($L19=\"\",\"\",(VLOOKUP($P$42,Worksheet!$A$11:$AE$41,P19+1,FALSE)))","v":""},{"$f":"IF('Entry Information'!U19=\"\",\"\",'Entry Information'!U19)","v":""},null,"",{"$f":"IF('Entry Information'!V19=\"\",T19,T19-100)","v":""},"",{"$f":"IF($R19=\"\",\"\",(VLOOKUP($V$42,Worksheet!$A$11:$AE$41,V19+1,FALSE)))","v":""},{"$f":"IF('Entry Information'!W19=\"\",\"\",'Entry Information'!W19)","v":""},null,"",{"$f":"IF('Entry Information'!X19=\"\",Z19,Z19-100)","v":""},"",{"$f":"IF($X19=\"\",\"\",(VLOOKUP($AB$42,Worksheet!$A$11:$AE$41,AB19+1,FALSE)))","v":""},{"$f":"IF('Entry Information'!Y19=\"\",\"\",'Entry Information'!Y19)","v":""},null,"",{"$f":"IF('Entry Information'!Z19=\"\",AF19,AF19-100)","v":""},"",{"$f":"IF($AD19=\"\",\"\",(VLOOKUP($AH$42,Worksheet!$A$11:$AE$41,AH19+1,FALSE)))","v":""},null,{"$f":"IF('NOVICE All-AROUND RESULTS'!A18=\"\",\"\",(SUM('NOVICE All-AROUND RESULTS'!$K18,'NOVICE All-AROUND RESULTS'!$AC18,'NOVICE All-AROUND RESULTS'!$AI18, 'NOVICE All-AROUND RESULTS'!$W18,'NOVICE All-AROUND RESULTS'!$Q18)))","v":""},null,"",""]
[{"$f":"IF('Entry Information'!B20=\"\",\"\",'Entry Information'!B20)","v":""},{"$f":"IF('Entry Information'!C20=\"\",\"\",'Entry Information'!C20)","v":""},{"$f":"IF('Entry Information'!D20=\"\",\"\",'Entry Information'!D20)","v":""},{"$f":"IF('Entry Information'!E20=\"\",\"\",'Entry Information'!E20)","v":""},"NOV",{"$f":"IF('Entry Information'!Q20=\"\",\"\",'Entry Information'!Q20)","v":""},null,"",{"$f":"IF('Entry Information'!R20=\"\",H20,H20-100)","v":""},"",{"$f":"IF($F20=\"\",\"\",(VLOOKUP($J$42,Worksheet!$A$11:$AE$41,J20+1,FALSE)))","v":""},{"$f":"IF('Entry Information'!S20=\"\",\"\",'Entry Information'!S20)","v":""},null,"",{"$f":"IF('Entry Information'!T20=\"\",N20,N20-100)","v":""},"",{"$f":"IF($L20=\"\",\"\",(VLOOKUP($P$42,Worksheet!$A$11:$AE$41,P20+1,FALSE)))","v":""},{"$f":"IF('Entry Information'!U20=\"\",\"\",'Entry Information'!U20)","v":""},null,"",{"$f":"IF('Entry Information'!V20=\"\",T20,T20-100)","v":""},"",{"$f":"IF($R20=\"\",\"\",(VLOOKUP($V$42,Worksheet!$A$11:$AE$41,V20+1,FALSE)))","v":""},{"$f":"IF('Entry Information'!W20=\"\",\"\",'Entry Information'!W20)","v":""},null,"",{"$f":"IF('Entry Information'!X20=\"\",Z20,Z20-100)","v":""},"",{"$f":"IF($X20=\"\",\"\",(VLOOKUP($AB$42,Worksheet!$A$11:$AE$41,AB20+1,FALSE)))","v":""},{"$f":"IF('Entry Information'!Y20=\"\",\"\",'Entry Information'!Y20)","v":""},null,"",{"$f":"IF('Entry Information'!Z20=\"\",AF20,AF20-100)","v":""},"",{"$f":"IF($AD20=\"\",\"\",(VLOOKUP($AH$42,Worksheet!$A$11:$AE$41,AH20+1,FALSE)))","v":""},null,{"$f":"IF('NOVICE All-AROUND RESULTS'!A19=\"\",\"\",(SUM('NOVICE All-AROUND RESULTS'!$K19,'NOVICE All-AROUND RESULTS'!$AC19,'NOVICE All-AROUND RESULTS'!$AI19, 'NOVICE All-AROUND RESULTS'!$W19,'NOVICE All-AROUND RESULTS'!$Q19)))","v":""},null,"",""]
[{"$f":"IF('Entry Information'!B21=\"\",\"\",'Entry Information'!B21)","v":""},{"$f":"IF('Entry Information'!C21=\"\",\"\",'Entry Information'!C21)","v":""},{"$f":"IF('Entry Information'!D21=\"\",\"\",'Entry Information'!D21)","v":""},{"$f":"IF('Entry Information'!E21=\"\",\"\",'Entry Information'!E21)","v":""},"NOV",{"$f":"IF('Entry Information'!Q21=\"\",\"\",'Entry Information'!Q21)","v":""},null,"",{"$f":"IF('Entry Information'!R21=\"\",H21,H21-100)","v":""},"",{"$f":"IF($F21=\"\",\"\",(VLOOKUP($J$42,Worksheet!$A$11:$AE$41,J21+1,FALSE)))","v":""},{"$f":"IF('Entry Information'!S21=\"\",\"\",'Entry Information'!S21)","v":""},null,"",{"$f":"IF('Entry Information'!T21=\"\",N21,N21-100)","v":""},"",{"$f":"IF($L21=\"\",\"\",(VLOOKUP($P$42,Worksheet!$A$11:$AE$41,P21+1,FALSE)))","v":""},{"$f":"IF('Entry Information'!U21=\"\",\"\",'Entry Information'!U21)","v":""},null,"",{"$f":"IF('Entry Information'!V21=\"\",T21,T21-100)","v":""},"",{"$f":"IF($R21=\"\",\"\",(VLOOKUP($V$42,Worksheet!$A$11:$AE$41,V21+1,FALSE)))","v":""},{"$f":"IF('Entry Information'!W21=\"\",\"\",'Entry Information'!W21)","v":""},null,"",{"$f":"IF('Entry Information'!X21=\"\",Z21,Z21-100)","v":""},"",{"$f":"IF($X21=\"\",\"\",(VLOOKUP($AB$42,Worksheet!$A$11:$AE$41,AB21+1,FALSE)))","v":""},{"$f":"IF('Entry Information'!Y21=\"\",\"\",'Entry Information'!Y21)","v":""},null,"",{"$f":"IF('Entry Information'!Z21=\"\",AF21,AF21-100)","v":""},"",{"$f":"IF($AD21=\"\",\"\",(VLOOKUP($AH$42,Worksheet!$A$11:$AE$41,AH21+1,FALSE)))","v":""},null,{"$f":"IF('NOVICE All-AROUND RESULTS'!A20=\"\",\"\",(SUM('NOVICE All-AROUND RESULTS'!$K20,'NOVICE All-AROUND RESULTS'!$AC20,'NOVICE All-AROUND RESULTS'!$AI20, 'NOVICE All-AROUND RESULTS'!$W20,'NOVICE All-AROUND RESULTS'!$Q20)))","v":""},null,"",""]
[{"$f":"IF('Entry Information'!B22=\"\",\"\",'Entry Information'!B22)","v":""},{"$f":"IF('Entry Information'!C22=\"\",\"\",'Entry Information'!C22)","v":""},{"$f":"IF('Entry Information'!D22=\"\",\"\",'Entry Information'!D22)","v":""},{"$f":"IF('Entry Information'!E22=\"\",\"\",'Entry Information'!E22)","v":""},"NOV",{"$f":"IF('Entry Information'!Q22=\"\",\"\",'Entry Information'!Q22)","v":""},null,"",{"$f":"IF('Entry Information'!R22=\"\",H22,H22-100)","v":""},"",{"$f":"IF($F22=\"\",\"\",(VLOOKUP($J$42,Worksheet!$A$11:$AE$41,J22+1,FALSE)))","v":""},{"$f":"IF('Entry Information'!S22=\"\",\"\",'Entry Information'!S22)","v":""},null,"",{"$f":"IF('Entry Information'!T22=\"\",N22,N22-100)","v":""},"",{"$f":"IF($L22=\"\",\"\",(VLOOKUP($P$42,Worksheet!$A$11:$AE$41,P22+1,FALSE)))","v":""},{"$f":"IF('Entry Information'!U22=\"\",\"\",'Entry Information'!U22)","v":""},null,"",{"$f":"IF('Entry Information'!V22=\"\",T22,T22-100)","v":""},"",{"$f":"IF($R22=\"\",\"\",(VLOOKUP($V$42,Worksheet!$A$11:$AE$41,V22+1,FALSE)))","v":""},{"$f":"IF('Entry Information'!W22=\"\",\"\",'Entry Information'!W22)","v":""},null,"",{"$f":"IF('Entry Information'!X22=\"\",Z22,Z22-100)","v":""},"",{"$f":"IF($X22=\"\",\"\",(VLOOKUP($AB$42,Worksheet!$A$11:$AE$41,AB22+1,FALSE)))","v":""},{"$f":"IF('Entry Information'!Y22=\"\",\"\",'Entry Information'!Y22)","v":""},null,"",{"$f":"IF('Entry Information'!Z22=\"\",AF22,AF22-100)","v":""},"",{"$f":"IF($AD22=\"\",\"\",(VLOOKUP($AH$42,Worksheet!$A$11:$AE$41,AH22+1,FALSE)))","v":""},null,{"$f":"IF('NOVICE All-AROUND RESULTS'!A21=\"\",\"\",(SUM('NOVICE All-AROUND RESULTS'!$K21,'NOVICE All-AROUND RESULTS'!$AC21,'NOVICE All-AROUND RESULTS'!$AI21, 'NOVICE All-AROUND RESULTS'!$W21,'NOVICE All-AROUND RESULTS'!$Q21)))","v":""},null,"",""]
[{"$f":"IF('Entry Information'!B23=\"\",\"\",'Entry Information'!B23)","v":""},{"$f":"IF('Entry Information'!C23=\"\",\"\",'Entry Information'!C23)","v":""},{"$f":"IF('Entry Information'!D23=\"\",\"\",'Entry Information'!D23)","v":""},{"$f":"IF('Entry Information'!E23=\"\",\"\",'Entry Information'!E23)","v":""},"NOV",{"$f":"IF('Entry Information'!Q23=\"\",\"\",'Entry Information'!Q23)","v":""},null,"",{"$f":"IF('Entry Information'!R23=\"\",H23,H23-100)","v":""},"",{"$f":"IF($F23=\"\",\"\",(VLOOKUP($J$42,Worksheet!$A$11:$AE$41,J23+1,FALSE)))","v":""},{"$f":"IF('Entry Information'!S23=\"\",\"\",'Entry Information'!S23)","v":""},null,"",{"$f":"IF('Entry Information'!T23=\"\",N23,N23-100)","v":""},"",{"$f":"IF($L23=\"\",\"\",(VLOOKUP($P$42,Worksheet!$A$11:$AE$41,P23+1,FALSE)))","v":""},{"$f":"IF('Entry Information'!U23=\"\",\"\",'Entry Information'!U23)","v":""},null,"",{"$f":"IF('Entry Information'!V23=\"\",T23,T23-100)","v":""},"",{"$f":"IF($R23=\"\",\"\",(VLOOKUP($V$42,Worksheet!$A$11:$AE$41,V23+1,FALSE)))","v":""},{"$f":"IF('Entry Information'!W23=\"\",\"\",'Entry Information'!W23)","v":""},null,"",{"$f":"IF('Entry Information'!X23=\"\",Z23,Z23-100)","v":""},"",{"$f":"IF($X23=\"\",\"\",(VLOOKUP($AB$42,Worksheet!$A$11:$AE$41,AB23+1,FALSE)))","v":""},{"$f":"IF('Entry Information'!Y23=\"\",\"\",'Entry Information'!Y23)","v":""},null,"",{"$f":"IF('Entry Information'!Z23=\"\",AF23,AF23-100)","v":""},"",{"$f":"IF($AD23=\"\",\"\",(VLOOKUP($AH$42,Worksheet!$A$11:$AE$41,AH23+1,FALSE)))","v":""},null,{"$f":"IF('NOVICE All-AROUND RESULTS'!A22=\"\",\"\",(SUM('NOVICE All-AROUND RESULTS'!$K22,'NOVICE All-AROUND RESULTS'!$AC22,'NOVICE All-AROUND RESULTS'!$AI22, 'NOVICE All-AROUND RESULTS'!$W22,'NOVICE All-AROUND RESULTS'!$Q22)))","v":""},null,"",""]
[{"$f":"IF('Entry Information'!B24=\"\",\"\",'Entry Information'!B24)","v":""},{"$f":"IF('Entry Information'!C24=\"\",\"\",'Entry Information'!C24)","v":""},{"$f":"IF('Entry Information'!D24=\"\",\"\",'Entry Information'!D24)","v":""},{"$f":"IF('Entry Information'!E24=\"\",\"\",'Entry Information'!E24)","v":""},"NOV",{"$f":"IF('Entry Information'!Q24=\"\",\"\",'Entry Information'!Q24)","v":""},null,"",{"$f":"IF('Entry Information'!R24=\"\",H24,H24-100)","v":""},"",{"$f":"IF($F24=\"\",\"\",(VLOOKUP($J$42,Worksheet!$A$11:$AE$41,J24+1,FALSE)))","v":""},{"$f":"IF('Entry Information'!S24=\"\",\"\",'Entry Information'!S24)","v":""},null,"",{"$f":"IF('Entry Information'!T24=\"\",N24,N24-100)","v":""},"",{"$f":"IF($L24=\"\",\"\",(VLOOKUP($P$42,Worksheet!$A$11:$AE$41,P24+1,FALSE)))","v":""},{"$f":"IF('Entry Information'!U24=\"\",\"\",'Entry Information'!U24)","v":""},null,"",{"$f":"IF('Entry Information'!V24=\"\",T24,T24-100)","v":""},"",{"$f":"IF($R24=\"\",\"\",(VLOOKUP($V$42,Worksheet!$A$11:$AE$41,V24+1,FALSE)))","v":""},{"$f":"IF('Entry Information'!W24=\"\",\"\",'Entry Information'!W24)","v":""},null,"",{"$f":"IF('Entry Information'!X24=\"\",Z24,Z24-100)","v":""},"",{"$f":"IF($X24=\"\",\"\",(VLOOKUP($AB$42,Worksheet!$A$11:$AE$41,AB24+1,FALSE)))","v":""},{"$f":"IF('Entry Information'!Y24=\"\",\"\",'Entry Information'!Y24)","v":""},null,"",{"$f":"IF('Entry Information'!Z24=\"\",AF24,AF24-100)","v":""},"",{"$f":"IF($AD24=\"\",\"\",(VLOOKUP($AH$42,Worksheet!$A$11:$AE$41,AH24+1,FALSE)))","v":""},null,{"$f":"IF('NOVICE All-AROUND RESULTS'!A23=\"\",\"\",(SUM('NOVICE All-AROUND RESULTS'!$K23,'NOVICE All-AROUND RESULTS'!$AC23,'NOVICE All-AROUND RESULTS'!$AI23, 'NOVICE All-AROUND RESULTS'!$W23,'NOVICE All-AROUND RESULTS'!$Q23)))","v":""},null,"",""]
[{"$f":"IF('Entry Information'!B25=\"\",\"\",'Entry Information'!B25)","v":""},{"$f":"IF('Entry Information'!C25=\"\",\"\",'Entry Information'!C25)","v":""},{"$f":"IF('Entry Information'!D25=\"\",\"\",'Entry Information'!D25)","v":""},{"$f":"IF('Entry Information'!E25=\"\",\"\",'Entry Information'!E25)","v":""},"NOV",{"$f":"IF('Entry Information'!Q25=\"\",\"\",'Entry Information'!Q25)","v":""},null,"",{"$f":"IF('Entry Information'!R25=\"\",H25,H25-100)","v":""},"",{"$f":"IF($F25=\"\",\"\",(VLOOKUP($J$42,Worksheet!$A$11:$AE$41,J25+1,FALSE)))","v":""},{"$f":"IF('Entry Information'!S25=\"\",\"\",'Entry Information'!S25)","v":""},null,"",{"$f":"IF('Entry Information'!T25=\"\",N25,N25-100)","v":""},"",{"$f":"IF($L25=\"\",\"\",(VLOOKUP($P$42,Worksheet!$A$11:$AE$41,P25+1,FALSE)))","v":""},{"$f":"IF('Entry Information'!U25=\"\",\"\",'Entry Information'!U25)","v":""},null,"",{"$f":"IF('Entry Information'!V25=\"\",T25,T25-100)","v":""},"",{"$f":"IF($R25=\"\",\"\",(VLOOKUP($V$42,Worksheet!$A$11:$AE$41,V25+1,FALSE)))","v":""},{"$f":"IF('Entry Information'!W25=\"\",\"\",'Entry Information'!W25)","v":""},null,"",{"$f":"IF('Entry Information'!X25=\"\",Z25,Z25-100)","v":""},"",{"$f":"IF($X25=\"\",\"\",(VLOOKUP($AB$42,Worksheet!$A$11:$AE$41,AB25+1,FALSE)))","v":""},{"$f":"IF('Entry Information'!Y25=\"\",\"\",'Entry Information'!Y25)","v":""},null,"",{"$f":"IF('Entry Information'!Z25=\"\",AF25,AF25-100)","v":""},"",{"$f":"IF($AD25=\"\",\"\",(VLOOKUP($AH$42,Worksheet!$A$11:$AE$41,AH25+1,FALSE)))","v":""},null,{"$f":"IF('NOVICE All-AROUND RESULTS'!A24=\"\",\"\",(SUM('NOVICE All-AROUND RESULTS'!$K24,'NOVICE All-AROUND RESULTS'!$AC24,'NOVICE All-AROUND RESULTS'!$AI24, 'NOVICE All-AROUND RESULTS'!$W24,'NOVICE All-AROUND RESULTS'!$Q24)))","v":""},null,"",""]
[{"$f":"IF('Entry Information'!B26=\"\",\"\",'Entry Information'!B26)","v":""},{"$f":"IF('Entry Information'!C26=\"\",\"\",'Entry Information'!C26)","v":""},{"$f":"IF('Entry Information'!D26=\"\",\"\",'Entry Information'!D26)","v":""},{"$f":"IF('Entry Information'!E26=\"\",\"\",'Entry Information'!E26)","v":""},"NOV",{"$f":"IF('Entry Information'!Q26=\"\",\"\",'Entry Information'!Q26)","v":""},null,"",{"$f":"IF('Entry Information'!R26=\"\",H26,H26-100)","v":""},"",{"$f":"IF($F26=\"\",\"\",(VLOOKUP($J$42,Worksheet!$A$11:$AE$41,J26+1,FALSE)))","v":""},{"$f":"IF('Entry Information'!S26=\"\",\"\",'Entry Information'!S26)","v":""},null,"",{"$f":"IF('Entry Information'!T26=\"\",N26,N26-100)","v":""},"",{"$f":"IF($L26=\"\",\"\",(VLOOKUP($P$42,Worksheet!$A$11:$AE$41,P26+1,FALSE)))","v":""},{"$f":"IF('Entry Information'!U26=\"\",\"\",'Entry Information'!U26)","v":""},null,"",{"$f":"IF('Entry Information'!V26=\"\",T26,T26-100)","v":""},"",{"$f":"IF($R26=\"\",\"\",(VLOOKUP($V$42,Worksheet!$A$11:$AE$41,V26+1,FALSE)))","v":""},{"$f":"IF('Entry Information'!W26=\"\",\"\",'Entry Information'!W26)","v":""},null,"",{"$f":"IF('Entry Information'!X26=\"\",Z26,Z26-100)","v":""},"",{"$f":"IF($X26=\"\",\"\",(VLOOKUP($AB$42,Worksheet!$A$11:$AE$41,AB26+1,FALSE)))","v":""},{"$f":"IF('Entry Information'!Y26=\"\",\"\",'Entry Information'!Y26)","v":""},null,"",{"$f":"IF('Entry Information'!Z26=\"\",AF26,AF26-100)","v":""},"",{"$f":"IF($AD26=\"\",\"\",(VLOOKUP($AH$42,Worksheet!$A$11:$AE$41,AH26+1,FALSE)))","v":""},null,{"$f":"IF('NOVICE All-AROUND RESULTS'!A25=\"\",\"\",(SUM('NOVICE All-AROUND RESULTS'!$K25,'NOVICE All-AROUND RESULTS'!$AC25,'NOVICE All-AROUND RESULTS'!$AI25, 'NOVICE All-AROUND RESULTS'!$W25,'NOVICE All-AROUND RESULTS'!$Q25)))","v":""},null,"",""]
[{"$f":"IF('Entry Information'!B27=\"\",\"\",'Entry Information'!B27)","v":""},{"$f":"IF('Entry Information'!C27=\"\",\"\",'Entry Information'!C27)","v":""},{"$f":"IF('Entry Information'!D27=\"\",\"\",'Entry Information'!D27)","v":""},{"$f":"IF('Entry Information'!E27=\"\",\"\",'Entry Information'!E27)","v":""},"NOV",{"$f":"IF('Entry Information'!Q27=\"\",\"\",'Entry Information'!Q27)","v":""},null,"",{"$f":"IF('Entry Information'!R27=\"\",H27,H27-100)","v":""},"",{"$f":"IF($F27=\"\",\"\",(VLOOKUP($J$42,Worksheet!$A$11:$AE$41,J27+1,FALSE)))","v":""},{"$f":"IF('Entry Information'!S27=\"\",\"\",'Entry Information'!S27)","v":""},null,"",{"$f":"IF('Entry Information'!T27=\"\",N27,N27-100)","v":""},"",{"$f":"IF($L27=\"\",\"\",(VLOOKUP($P$42,Worksheet!$A$11:$AE$41,P27+1,FALSE)))","v":""},{"$f":"IF('Entry Information'!U27=\"\",\"\",'Entry Information'!U27)","v":""},null,"",{"$f":"IF('Entry Information'!V27=\"\",T27,T27-100)","v":""},"",{"$f":"IF($R27=\"\",\"\",(VLOOKUP($V$42,Worksheet!$A$11:$AE$41,V27+1,FALSE)))","v":""},{"$f":"IF('Entry Information'!W27=\"\",\"\",'Entry Information'!W27)","v":""},null,"",{"$f":"IF('Entry Information'!X27=\"\",Z27,Z27-100)","v":""},"",{"$f":"IF($X27=\"\",\"\",(VLOOKUP($AB$42,Worksheet!$A$11:$AE$41,AB27+1,FALSE)))","v":""},{"$f":"IF('Entry Information'!Y27=\"\",\"\",'Entry Information'!Y27)","v":""},null,"",{"$f":"IF('Entry Information'!Z27=\"\",AF27,AF27-100)","v":""},"",{"$f":"IF($AD27=\"\",\"\",(VLOOKUP($AH$42,Worksheet!$A$11:$AE$41,AH27+1,FALSE)))","v":""},null,{"$f":"IF('NOVICE All-AROUND RESULTS'!A26=\"\",\"\",(SUM('NOVICE All-AROUND RESULTS'!$K26,'NOVICE All-AROUND RESULTS'!$AC26,'NOVICE All-AROUND RESULTS'!$AI26, 'NOVICE All-AROUND RESULTS'!$W26,'NOVICE All-AROUND RESULTS'!$Q26)))","v":""},null,"",""]
[{"$f":"IF('Entry Information'!B28=\"\",\"\",'Entry Information'!B28)","v":""},{"$f":"IF('Entry Information'!C28=\"\",\"\",'Entry Information'!C28)","v":""},{"$f":"IF('Entry Information'!D28=\"\",\"\",'Entry Information'!D28)","v":""},{"$f":"IF('Entry Information'!E28=\"\",\"\",'Entry Information'!E28)","v":""},"NOV",{"$f":"IF('Entry Information'!Q28=\"\",\"\",'Entry Information'!Q28)","v":""},null,"",{"$f":"IF('Entry Information'!R28=\"\",H28,H28-100)","v":""},"",{"$f":"IF($F28=\"\",\"\",(VLOOKUP($J$42,Worksheet!$A$11:$AE$41,J28+1,FALSE)))","v":""},{"$f":"IF('Entry Information'!S28=\"\",\"\",'Entry Information'!S28)","v":""},null,"",{"$f":"IF('Entry Information'!T28=\"\",N28,N28-100)","v":""},"",{"$f":"IF($L28=\"\",\"\",(VLOOKUP($P$42,Worksheet!$A$11:$AE$41,P28+1,FALSE)))","v":""},{"$f":"IF('Entry Information'!U28=\"\",\"\",'Entry Information'!U28)","v":""},null,"",{"$f":"IF('Entry Information'!V28=\"\",T28,T28-100)","v":""},"",{"$f":"IF($R28=\"\",\"\",(VLOOKUP($V$42,Worksheet!$A$11:$AE$41,V28+1,FALSE)))","v":""},{"$f":"IF('Entry Information'!W28=\"\",\"\",'Entry Information'!W28)","v":""},null,"",{"$f":"IF('Entry Information'!X28=\"\",Z28,Z28-100)","v":""},"",{"$f":"IF($X28=\"\",\"\",(VLOOKUP($AB$42,Worksheet!$A$11:$AE$41,AB28+1,FALSE)))","v":""},{"$f":"IF('Entry Information'!Y28=\"\",\"\",'Entry Information'!Y28)","v":""},null,"",{"$f":"IF('Entry Information'!Z28=\"\",AF28,AF28-100)","v":""},"",{"$f":"IF($AD28=\"\",\"\",(VLOOKUP($AH$42,Worksheet!$A$11:$AE$41,AH28+1,FALSE)))","v":""},null,{"$f":"IF('NOVICE All-AROUND RESULTS'!A27=\"\",\"\",(SUM('NOVICE All-AROUND RESULTS'!$K27,'NOVICE All-AROUND RESULTS'!$AC27,'NOVICE All-AROUND RESULTS'!$AI27, 'NOVICE All-AROUND RESULTS'!$W27,'NOVICE All-AROUND RESULTS'!$Q27)))","v":""},null,"",""]
[{"$f":"IF('Entry Information'!B29=\"\",\"\",'Entry Information'!B29)","v":""},{"$f":"IF('Entry Information'!C29=\"\",\"\",'Entry Information'!C29)","v":""},{"$f":"IF('Entry Information'!D29=\"\",\"\",'Entry Information'!D29)","v":""},{"$f":"IF('Entry Information'!E29=\"\",\"\",'Entry Information'!E29)","v":""},"NOV",{"$f":"IF('Entry Information'!Q29=\"\",\"\",'Entry Information'!Q29)","v":""},null,"",{"$f":"IF('Entry Information'!R29=\"\",H29,H29-100)","v":""},"",{"$f":"IF($F29=\"\",\"\",(VLOOKUP($J$42,Worksheet!$A$11:$AE$41,J29+1,FALSE)))","v":""},{"$f":"IF('Entry Information'!S29=\"\",\"\",'Entry Information'!S29)","v":""},null,"",{"$f":"IF('Entry Information'!T29=\"\",N29,N29-100)","v":""},"",{"$f":"IF($L29=\"\",\"\",(VLOOKUP($P$42,Worksheet!$A$11:$AE$41,P29+1,FALSE)))","v":""},{"$f":"IF('Entry Information'!U29=\"\",\"\",'Entry Information'!U29)","v":""},null,"",{"$f":"IF('Entry Information'!V29=\"\",T29,T29-100)","v":""},"",{"$f":"IF($R29=\"\",\"\",(VLOOKUP($V$42,Worksheet!$A$11:$AE$41,V29+1,FALSE)))","v":""},{"$f":"IF('Entry Information'!W29=\"\",\"\",'Entry Information'!W29)","v":""},null,"",{"$f":"IF('Entry Information'!X29=\"\",Z29,Z29-100)","v":""},"",{"$f":"IF($X29=\"\",\"\",(VLOOKUP($AB$42,Worksheet!$A$11:$AE$41,AB29+1,FALSE)))","v":""},{"$f":"IF('Entry Information'!Y29=\"\",\"\",'Entry Information'!Y29)","v":""},null,"",{"$f":"IF('Entry Information'!Z29=\"\",AF29,AF29-100)","v":""},"",{"$f":"IF($AD29=\"\",\"\",(VLOOKUP($AH$42,Worksheet!$A$11:$AE$41,AH29+1,FALSE)))","v":""},null,{"$f":"IF('NOVICE All-AROUND RESULTS'!A28=\"\",\"\",(SUM('NOVICE All-AROUND RESULTS'!$K28,'NOVICE All-AROUND RESULTS'!$AC28,'NOVICE All-AROUND RESULTS'!$AI28, 'NOVICE All-AROUND RESULTS'!$W28,'NOVICE All-AROUND RESULTS'!$Q28)))","v":""},null,"",""]
[{"$f":"IF('Entry Information'!B30=\"\",\"\",'Entry Information'!B30)","v":""},{"$f":"IF('Entry Information'!C30=\"\",\"\",'Entry Information'!C30)","v":""},{"$f":"IF('Entry Information'!D30=\"\",\"\",'Entry Information'!D30)","v":""},{"$f":"IF('Entry Information'!E30=\"\",\"\",'Entry Information'!E30)","v":""},"NOV",{"$f":"IF('Entry Information'!Q30=\"\",\"\",'Entry Information'!Q30)","v":""},null,"",{"$f":"IF('Entry Information'!R30=\"\",H30,H30-100)","v":""},"",{"$f":"IF($F30=\"\",\"\",(VLOOKUP($J$42,Worksheet!$A$11:$AE$41,J30+1,FALSE)))","v":""},{"$f":"IF('Entry Information'!S30=\"\",\"\",'Entry Information'!S30)","v":""},null,"",{"$f":"IF('Entry Information'!T30=\"\",N30,N30-100)","v":""},"",{"$f":"IF($L30=\"\",\"\",(VLOOKUP($P$42,Worksheet!$A$11:$AE$41,P30+1,FALSE)))","v":""},{"$f":"IF('Entry Information'!U30=\"\",\"\",'Entry Information'!U30)","v":""},null,"",{"$f":"IF('Entry Information'!V30=\"\",T30,T30-100)","v":""},"",{"$f":"IF($R30=\"\",\"\",(VLOOKUP($V$42,Worksheet!$A$11:$AE$41,V30+1,FALSE)))","v":""},{"$f":"IF('Entry Information'!W30=\"\",\"\",'Entry Information'!W30)","v":""},null,"",{"$f":"IF('Entry Information'!X30=\"\",Z30,Z30-100)","v":""},"",{"$f":"IF($X30=\"\",\"\",(VLOOKUP($AB$42,Worksheet!$A$11:$AE$41,AB30+1,FALSE)))","v":""},{"$f":"IF('Entry Information'!Y30=\"\",\"\",'Entry Information'!Y30)","v":""},null,"",{"$f":"IF('Entry Information'!Z30=\"\",AF30,AF30-100)","v":""},"",{"$f":"IF($AD30=\"\",\"\",(VLOOKUP($AH$42,Worksheet!$A$11:$AE$41,AH30+1,FALSE)))","v":""},null,{"$f":"IF('NOVICE All-AROUND RESULTS'!A29=\"\",\"\",(SUM('NOVICE All-AROUND RESULTS'!$K29,'NOVICE All-AROUND RESULTS'!$AC29,'NOVICE All-AROUND RESULTS'!$AI29, 'NOVICE All-AROUND RESULTS'!$W29,'NOVICE All-AROUND RESULTS'!$Q29)))","v":""},null,"",""]
[{"$f":"IF('Entry Information'!B31=\"\",\"\",'Entry Information'!B31)","v":""},{"$f":"IF('Entry Information'!C31=\"\",\"\",'Entry Information'!C31)","v":""},{"$f":"IF('Entry Information'!D31=\"\",\"\",'Entry Information'!D31)","v":""},{"$f":"IF('Entry Information'!E31=\"\",\"\",'Entry Information'!E31)","v":""},"NOV",{"$f":"IF('Entry Information'!Q31=\"\",\"\",'Entry Information'!Q31)","v":""},null,"",{"$f":"IF('Entry Information'!R31=\"\",H31,H31-100)","v":""},"",{"$f":"IF($F31=\"\",\"\",(VLOOKUP($J$42,Worksheet!$A$11:$AE$41,J31+1,FALSE)))","v":""},{"$f":"IF('Entry Information'!S31=\"\",\"\",'Entry Information'!S31)","v":""},null,"",{"$f":"IF('Entry Information'!T31=\"\",N31,N31-100)","v":""},"",{"$f":"IF($L31=\"\",\"\",(VLOOKUP($P$42,Worksheet!$A$11:$AE$41,P31+1,FALSE)))","v":""},{"$f":"IF('Entry Information'!U31=\"\",\"\",'Entry Information'!U31)","v":""},null,"",{"$f":"IF('Entry Information'!V31=\"\",T31,T31-100)","v":""},"",{"$f":"IF($R31=\"\",\"\",(VLOOKUP($V$42,Worksheet!$A$11:$AE$41,V31+1,FALSE)))","v":""},{"$f":"IF('Entry Information'!W31=\"\",\"\",'Entry Information'!W31)","v":""},null,"",{"$f":"IF('Entry Information'!X31=\"\",Z31,Z31-100)","v":""},"",{"$f":"IF($X31=\"\",\"\",(VLOOKUP($AB$42,Worksheet!$A$11:$AE$41,AB31+1,FALSE)))","v":""},{"$f":"IF('Entry Information'!Y31=\"\",\"\",'Entry Information'!Y31)","v":""},null,"",{"$f":"IF('Entry Information'!Z31=\"\",AF31,AF31-100)","v":""},"",{"$f":"IF($AD31=\"\",\"\",(VLOOKUP($AH$42,Worksheet!$A$11:$AE$41,AH31+1,FALSE)))","v":""},null,{"$f":"IF('NOVICE All-AROUND RESULTS'!A30=\"\",\"\",(SUM('NOVICE All-AROUND RESULTS'!$K30,'NOVICE All-AROUND RESULTS'!$AC30,'NOVICE All-AROUND RESULTS'!$AI30, 'NOVICE All-AROUND RESULTS'!$W30,'NOVICE All-AROUND RESULTS'!$Q30)))","v":""},null,"",""]
[{"$f":"IF('Entry Information'!B32=\"\",\"\",'Entry Information'!B32)","v":""},{"$f":"IF('Entry Information'!C32=\"\",\"\",'Entry Information'!C32)","v":""},{"$f":"IF('Entry Information'!D32=\"\",\"\",'Entry Information'!D32)","v":""},{"$f":"IF('Entry Information'!E32=\"\",\"\",'Entry Information'!E32)","v":""},"NOV",{"$f":"IF('Entry Information'!Q32=\"\",\"\",'Entry Information'!Q32)","v":""},null,"",{"$f":"IF('Entry Information'!R32=\"\",H32,H32-100)","v":""},"",{"$f":"IF($F32=\"\",\"\",(VLOOKUP($J$42,Worksheet!$A$11:$AE$41,J32+1,FALSE)))","v":""},{"$f":"IF('Entry Information'!S32=\"\",\"\",'Entry Information'!S32)","v":""},null,"",{"$f":"IF('Entry Information'!T32=\"\",N32,N32-100)","v":""},"",{"$f":"IF($L32=\"\",\"\",(VLOOKUP($P$42,Worksheet!$A$11:$AE$41,P32+1,FALSE)))","v":""},{"$f":"IF('Entry Information'!U32=\"\",\"\",'Entry Information'!U32)","v":""},null,"",{"$f":"IF('Entry Information'!V32=\"\",T32,T32-100)","v":""},"",{"$f":"IF($R32=\"\",\"\",(VLOOKUP($V$42,Worksheet!$A$11:$AE$41,V32+1,FALSE)))","v":""},{"$f":"IF('Entry Information'!W32=\"\",\"\",'Entry Information'!W32)","v":""},null,"",{"$f":"IF('Entry Information'!X32=\"\",Z32,Z32-100)","v":""},"",{"$f":"IF($X32=\"\",\"\",(VLOOKUP($AB$42,Worksheet!$A$11:$AE$41,AB32+1,FALSE)))","v":""},{"$f":"IF('Entry Information'!Y32=\"\",\"\",'Entry Information'!Y32)","v":""},null,"",{"$f":"IF('Entry Information'!Z32=\"\",AF32,AF32-100)","v":""},"",{"$f":"IF($AD32=\"\",\"\",(VLOOKUP($AH$42,Worksheet!$A$11:$AE$41,AH32+1,FALSE)))","v":""},null,{"$f":"IF('NOVICE All-AROUND RESULTS'!A31=\"\",\"\",(SUM('NOVICE All-AROUND RESULTS'!$K31,'NOVICE All-AROUND RESULTS'!$AC31,'NOVICE All-AROUND RESULTS'!$AI31, 'NOVICE All-AROUND RESULTS'!$W31,'NOVICE All-AROUND RESULTS'!$Q31)))","v":""},null,"",""]
[{"$f":"IF('Entry Information'!B33=\"\",\"\",'Entry Information'!B33)","v":""},{"$f":"IF('Entry Information'!C33=\"\",\"\",'Entry Information'!C33)","v":""},{"$f":"IF('Entry Information'!D33=\"\",\"\",'Entry Information'!D33)","v":""},{"$f":"IF('Entry Information'!E33=\"\",\"\",'Entry Information'!E33)","v":""},"NOV",{"$f":"IF('Entry Information'!Q33=\"\",\"\",'Entry Information'!Q33)","v":""},null,"",{"$f":"IF('Entry Information'!R33=\"\",H33,H33-100)","v":""},"",{"$f":"IF($F33=\"\",\"\",(VLOOKUP($J$42,Worksheet!$A$11:$AE$41,J33+1,FALSE)))","v":""},{"$f":"IF('Entry Information'!S33=\"\",\"\",'Entry Information'!S33)","v":""},null,"",{"$f":"IF('Entry Information'!T33=\"\",N33,N33-100)","v":""},"",{"$f":"IF($L33=\"\",\"\",(VLOOKUP($P$42,Worksheet!$A$11:$AE$41,P33+1,FALSE)))","v":""},{"$f":"IF('Entry Information'!U33=\"\",\"\",'Entry Information'!U33)","v":""},null,"",{"$f":"IF('Entry Information'!V33=\"\",T33,T33-100)","v":""},"",{"$f":"IF($R33=\"\",\"\",(VLOOKUP($V$42,Worksheet!$A$11:$AE$41,V33+1,FALSE)))","v":""},{"$f":"IF('Entry Information'!W33=\"\",\"\",'Entry Information'!W33)","v":""},null,"",{"$f":"IF('Entry Information'!X33=\"\",Z33,Z33-100)","v":""},"",{"$f":"IF($X33=\"\",\"\",(VLOOKUP($AB$42,Worksheet!$A$11:$AE$41,AB33+1,FALSE)))","v":""},{"$f":"IF('Entry Information'!Y33=\"\",\"\",'Entry Information'!Y33)","v":""},null,"",{"$f":"IF('Entry Information'!Z33=\"\",AF33,AF33-100)","v":""},"",{"$f":"IF($AD33=\"\",\"\",(VLOOKUP($AH$42,Worksheet!$A$11:$AE$41,AH33+1,FALSE)))","v":""},null,{"$f":"IF('NOVICE All-AROUND RESULTS'!A32=\"\",\"\",(SUM('NOVICE All-AROUND RESULTS'!$K32,'NOVICE All-AROUND RESULTS'!$AC32,'NOVICE All-AROUND RESULTS'!$AI32, 'NOVICE All-AROUND RESULTS'!$W32,'NOVICE All-AROUND RESULTS'!$Q32)))","v":""},null,"",""]
[{"$f":"IF('Entry Information'!B34=\"\",\"\",'Entry Information'!B34)","v":""},{"$f":"IF('Entry Information'!C34=\"\",\"\",'Entry Information'!C34)","v":""},{"$f":"IF('Entry Information'!D34=\"\",\"\",'Entry Information'!D34)","v":""},{"$f":"IF('Entry Information'!E34=\"\",\"\",'Entry Information'!E34)","v":""},"NOV",{"$f":"IF('Entry Information'!Q34=\"\",\"\",'Entry Information'!Q34)","v":""},null,"",{"$f":"IF('Entry Information'!R34=\"\",H34,H34-100)","v":""},"",{"$f":"IF($F34=\"\",\"\",(VLOOKUP($J$42,Worksheet!$A$11:$AE$41,J34+1,FALSE)))","v":""},{"$f":"IF('Entry Information'!S34=\"\",\"\",'Entry Information'!S34)","v":""},null,"",{"$f":"IF('Entry Information'!T34=\"\",N34,N34-100)","v":""},"",{"$f":"IF($L34=\"\",\"\",(VLOOKUP($P$42,Worksheet!$A$11:$AE$41,P34+1,FALSE)))","v":""},{"$f":"IF('Entry Information'!U34=\"\",\"\",'Entry Information'!U34)","v":""},null,"",{"$f":"IF('Entry Information'!V34=\"\",T34,T34-100)","v":""},"",{"$f":"IF($R34=\"\",\"\",(VLOOKUP($V$42,Worksheet!$A$11:$AE$41,V34+1,FALSE)))","v":""},{"$f":"IF('Entry Information'!W34=\"\",\"\",'Entry Information'!W34)","v":""},null,"",{"$f":"IF('Entry Information'!X34=\"\",Z34,Z34-100)","v":""},"",{"$f":"IF($X34=\"\",\"\",(VLOOKUP($AB$42,Worksheet!$A$11:$AE$41,AB34+1,FALSE)))","v":""},{"$f":"IF('Entry Information'!Y34=\"\",\"\",'Entry Information'!Y34)","v":""},null,"",{"$f":"IF('Entry Information'!Z34=\"\",AF34,AF34-100)","v":""},"",{"$f":"IF($AD34=\"\",\"\",(VLOOKUP($AH$42,Worksheet!$A$11:$AE$41,AH34+1,FALSE)))","v":""},null,{"$f":"IF('NOVICE All-AROUND RESULTS'!A33=\"\",\"\",(SUM('NOVICE All-AROUND RESULTS'!$K33,'NOVICE All-AROUND RESULTS'!$AC33,'NOVICE All-AROUND RESULTS'!$AI33, 'NOVICE All-AROUND RESULTS'!$W33,'NOVICE All-AROUND RESULTS'!$Q33)))","v":""},null,"",""]
[{"$f":"IF('Entry Information'!B35=\"\",\"\",'Entry Information'!B35)","v":""},{"$f":"IF('Entry Information'!C35=\"\",\"\",'Entry Information'!C35)","v":""},{"$f":"IF('Entry Information'!D35=\"\",\"\",'Entry Information'!D35)","v":""},{"$f":"IF('Entry Information'!E35=\"\",\"\",'Entry Information'!E35)","v":""},"NOV",{"$f":"IF('Entry Information'!Q35=\"\",\"\",'Entry Information'!Q35)","v":""},null,"",{"$f":"IF('Entry Information'!R35=\"\",H35,H35-100)","v":""},"",{"$f":"IF($F35=\"\",\"\",(VLOOKUP($J$42,Worksheet!$A$11:$AE$41,J35+1,FALSE)))","v":""},{"$f":"IF('Entry Information'!S35=\"\",\"\",'Entry Information'!S35)","v":""},null,"",{"$f":"IF('Entry Information'!T35=\"\",N35,N35-100)","v":""},"",{"$f":"IF($L35=\"\",\"\",(VLOOKUP($P$42,Worksheet!$A$11:$AE$41,P35+1,FALSE)))","v":""},{"$f":"IF('Entry Information'!U35=\"\",\"\",'Entry Information'!U35)","v":""},null,"",{"$f":"IF('Entry Information'!V35=\"\",T35,T35-100)","v":""},"",{"$f":"IF($R35=\"\",\"\",(VLOOKUP($V$42,Worksheet!$A$11:$AE$41,V35+1,FALSE)))","v":""},{"$f":"IF('Entry Information'!W35=\"\",\"\",'Entry Information'!W35)","v":""},null,"",{"$f":"IF('Entry Information'!X35=\"\",Z35,Z35-100)","v":""},"",{"$f":"IF($X35=\"\",\"\",(VLOOKUP($AB$42,Worksheet!$A$11:$AE$41,AB35+1,FALSE)))","v":""},{"$f":"IF('Entry Information'!Y35=\"\",\"\",'Entry Information'!Y35)","v":""},null,"",{"$f":"IF('Entry Information'!Z35=\"\",AF35,AF35-100)","v":""},"",{"$f":"IF($AD35=\"\",\"\",(VLOOKUP($AH$42,Worksheet!$A$11:$AE$41,AH35+1,FALSE)))","v":""},null,{"$f":"IF('NOVICE All-AROUND RESULTS'!A34=\"\",\"\",(SUM('NOVICE All-AROUND RESULTS'!$K34,'NOVICE All-AROUND RESULTS'!$AC34,'NOVICE All-AROUND RESULTS'!$AI34, 'NOVICE All-AROUND RESULTS'!$W34,'NOVICE All-AROUND RESULTS'!$Q34)))","v":""},null,"",""]
[{"$f":"IF('Entry Information'!B36=\"\",\"\",'Entry Information'!B36)","v":""},{"$f":"IF('Entry Information'!C36=\"\",\"\",'Entry Information'!C36)","v":""},{"$f":"IF('Entry Information'!D36=\"\",\"\",'Entry Information'!D36)","v":""},{"$f":"IF('Entry Information'!E36=\"\",\"\",'Entry Information'!E36)","v":""},"NOV",{"$f":"IF('Entry Information'!Q36=\"\",\"\",'Entry Information'!Q36)","v":""},null,"",{"$f":"IF('Entry Information'!R36=\"\",H36,H36-100)","v":""},"",{"$f":"IF($F36=\"\",\"\",(VLOOKUP($J$42,Worksheet!$A$11:$AE$41,J36+1,FALSE)))","v":""},{"$f":"IF('Entry Information'!S36=\"\",\"\",'Entry Information'!S36)","v":""},null,"",{"$f":"IF('Entry Information'!T36=\"\",N36,N36-100)","v":""},"",{"$f":"IF($L36=\"\",\"\",(VLOOKUP($P$42,Worksheet!$A$11:$AE$41,P36+1,FALSE)))","v":""},{"$f":"IF('Entry Information'!U36=\"\",\"\",'Entry Information'!U36)","v":""},null,"",{"$f":"IF('Entry Information'!V36=\"\",T36,T36-100)","v":""},"",{"$f":"IF($R36=\"\",\"\",(VLOOKUP($V$42,Worksheet!$A$11:$AE$41,V36+1,FALSE)))","v":""},{"$f":"IF('Entry Information'!W36=\"\",\"\",'Entry Information'!W36)","v":""},null,"",{"$f":"IF('Entry Information'!X36=\"\",Z36,Z36-100)","v":""},"",{"$f":"IF($X36=\"\",\"\",(VLOOKUP($AB$42,Worksheet!$A$11:$AE$41,AB36+1,FALSE)))","v":""},{"$f":"IF('Entry Information'!Y36=\"\",\"\",'Entry Information'!Y36)","v":""},null,"",{"$f":"IF('Entry Information'!Z36=\"\",AF36,AF36-100)","v":""},"",{"$f":"IF($AD36=\"\",\"\",(VLOOKUP($AH$42,Worksheet!$A$11:$AE$41,AH36+1,FALSE)))","v":""},null,{"$f":"IF('NOVICE All-AROUND RESULTS'!A35=\"\",\"\",(SUM('NOVICE All-AROUND RESULTS'!$K35,'NOVICE All-AROUND RESULTS'!$AC35,'NOVICE All-AROUND RESULTS'!$AI35, 'NOVICE All-AROUND RESULTS'!$W35,'NOVICE All-AROUND RESULTS'!$Q35)))","v":""},null,"",""]
[{"$f":"IF('Entry Information'!B37=\"\",\"\",'Entry Information'!B37)","v":""},{"$f":"IF('Entry Information'!C37=\"\",\"\",'Entry Information'!C37)","v":""},{"$f":"IF('Entry Information'!D37=\"\",\"\",'Entry Information'!D37)","v":""},{"$f":"IF('Entry Information'!E37=\"\",\"\",'Entry Information'!E37)","v":""},"NOV",{"$f":"IF('Entry Information'!Q37=\"\",\"\",'Entry Information'!Q37)","v":""},null,"",{"$f":"IF('Entry Information'!R37=\"\",H37,H37-100)","v":""},"",{"$f":"IF($F37=\"\",\"\",(VLOOKUP($J$42,Worksheet!$A$11:$AE$41,J37+1,FALSE)))","v":""},{"$f":"IF('Entry Information'!S37=\"\",\"\",'Entry Information'!S37)","v":""},null,"",{"$f":"IF('Entry Information'!T37=\"\",N37,N37-100)","v":""},"",{"$f":"IF($L37=\"\",\"\",(VLOOKUP($P$42,Worksheet!$A$11:$AE$41,P37+1,FALSE)))","v":""},{"$f":"IF('Entry Information'!U37=\"\",\"\",'Entry Information'!U37)","v":""},null,"",{"$f":"IF('Entry Information'!V37=\"\",T37,T37-100)","v":""},"",{"$f":"IF($R37=\"\",\"\",(VLOOKUP($V$42,Worksheet!$A$11:$AE$41,V37+1,FALSE)))","v":""},{"$f":"IF('Entry Information'!W37=\"\",\"\",'Entry Information'!W37)","v":""},null,"",{"$f":"IF('Entry Information'!X37=\"\",Z37,Z37-100)","v":""},"",{"$f":"IF($X37=\"\",\"\",(VLOOKUP($AB$42,Worksheet!$A$11:$AE$41,AB37+1,FALSE)))","v":""},{"$f":"IF('Entry Information'!Y37=\"\",\"\",'Entry Information'!Y37)","v":""},null,"",{"$f":"IF('Entry Information'!Z37=\"\",AF37,AF37-100)","v":""},"",{"$f":"IF($AD37=\"\",\"\",(VLOOKUP($AH$42,Worksheet!$A$11:$AE$41,AH37+1,FALSE)))","v":""},null,{"$f":"IF('NOVICE All-AROUND RESULTS'!A36=\"\",\"\",(SUM('NOVICE All-AROUND RESULTS'!$K36,'NOVICE All-AROUND RESULTS'!$AC36,'NOVICE All-AROUND RESULTS'!$AI36, 'NOVICE All-AROUND RESULTS'!$W36,'NOVICE All-AROUND RESULTS'!$Q36)))","v":""},null,"",""]
[{"$f":"IF('Entry Information'!B38=\"\",\"\",'Entry Information'!B38)","v":""},{"$f":"IF('Entry Information'!C38=\"\",\"\",'Entry Information'!C38)","v":""},{"$f":"IF('Entry Information'!D38=\"\",\"\",'Entry Information'!D38)","v":""},{"$f":"IF('Entry Information'!E38=\"\",\"\",'Entry Information'!E38)","v":""},"NOV",{"$f":"IF('Entry Information'!Q38=\"\",\"\",'Entry Information'!Q38)","v":""},null,"",{"$f":"IF('Entry Information'!R38=\"\",H38,H38-100)","v":""},"",{"$f":"IF($F38=\"\",\"\",(VLOOKUP($J$42,Worksheet!$A$11:$AE$41,J38+1,FALSE)))","v":""},{"$f":"IF('Entry Information'!S38=\"\",\"\",'Entry Information'!S38)","v":""},null,"",{"$f":"IF('Entry Information'!T38=\"\",N38,N38-100)","v":""},"",{"$f":"IF($L38=\"\",\"\",(VLOOKUP($P$42,Worksheet!$A$11:$AE$41,P38+1,FALSE)))","v":""},{"$f":"IF('Entry Information'!U38=\"\",\"\",'Entry Information'!U38)","v":""},null,"",{"$f":"IF('Entry Information'!V38=\"\",T38,T38-100)","v":""},"",{"$f":"IF($R38=\"\",\"\",(VLOOKUP($V$42,Worksheet!$A$11:$AE$41,V38+1,FALSE)))","v":""},{"$f":"IF('Entry Information'!W38=\"\",\"\",'Entry Information'!W38)","v":""},null,"",{"$f":"IF('Entry Information'!X38=\"\",Z38,Z38-100)","v":""},"",{"$f":"IF($X38=\"\",\"\",(VLOOKUP($AB$42,Worksheet!$A$11:$AE$41,AB38+1,FALSE)))","v":""},{"$f":"IF('Entry Information'!Y38=\"\",\"\",'Entry Information'!Y38)","v":""},null,"",{"$f":"IF('Entry Information'!Z38=\"\",AF38,AF38-100)","v":""},"",{"$f":"IF($AD38=\"\",\"\",(VLOOKUP($AH$42,Worksheet!$A$11:$AE$41,AH38+1,FALSE)))","v":""},null,{"$f":"IF('NOVICE All-AROUND RESULTS'!A37=\"\",\"\",(SUM('NOVICE All-AROUND RESULTS'!$K37,'NOVICE All-AROUND RESULTS'!$AC37,'NOVICE All-AROUND RESULTS'!$AI37, 'NOVICE All-AROUND RESULTS'!$W37,'NOVICE All-AROUND RESULTS'!$Q37)))","v":""},null,"",""]
[{"$f":"IF('Entry Information'!B39=\"\",\"\",'Entry Information'!B39)","v":""},{"$f":"IF('Entry Information'!C39=\"\",\"\",'Entry Information'!C39)","v":""},{"$f":"IF('Entry Information'!D39=\"\",\"\",'Entry Information'!D39)","v":""},{"$f":"IF('Entry Information'!E39=\"\",\"\",'Entry Information'!E39)","v":""},"NOV",{"$f":"IF('Entry Information'!Q39=\"\",\"\",'Entry Information'!Q39)","v":""},null,"",{"$f":"IF('Entry Information'!R39=\"\",H39,H39-100)","v":""},"",{"$f":"IF($F39=\"\",\"\",(VLOOKUP($J$42,Worksheet!$A$11:$AE$41,J39+1,FALSE)))","v":""},{"$f":"IF('Entry Information'!S39=\"\",\"\",'Entry Information'!S39)","v":""},null,"",{"$f":"IF('Entry Information'!T39=\"\",N39,N39-100)","v":""},"",{"$f":"IF($L39=\"\",\"\",(VLOOKUP($P$42,Worksheet!$A$11:$AE$41,P39+1,FALSE)))","v":""},{"$f":"IF('Entry Information'!U39=\"\",\"\",'Entry Information'!U39)","v":""},null,"",{"$f":"IF('Entry Information'!V39=\"\",T39,T39-100)","v":""},"",{"$f":"IF($R39=\"\",\"\",(VLOOKUP($V$42,Worksheet!$A$11:$AE$41,V39+1,FALSE)))","v":""},{"$f":"IF('Entry Information'!W39=\"\",\"\",'Entry Information'!W39)","v":""},null,"",{"$f":"IF('Entry Information'!X39=\"\",Z39,Z39-100)","v":""},"",{"$f":"IF($X39=\"\",\"\",(VLOOKUP($AB$42,Worksheet!$A$11:$AE$41,AB39+1,FALSE)))","v":""},{"$f":"IF('Entry Information'!Y39=\"\",\"\",'Entry Information'!Y39)","v":""},null,"",{"$f":"IF('Entry Information'!Z39=\"\",AF39,AF39-100)","v":""},"",{"$f":"IF($AD39=\"\",\"\",(VLOOKUP($AH$42,Worksheet!$A$11:$AE$41,AH39+1,FALSE)))","v":""},null,{"$f":"IF('NOVICE All-AROUND RESULTS'!A38=\"\",\"\",(SUM('NOVICE All-AROUND RESULTS'!$K38,'NOVICE All-AROUND RESULTS'!$AC38,'NOVICE All-AROUND RESULTS'!$AI38, 'NOVICE All-AROUND RESULTS'!$W38,'NOVICE All-AROUND RESULTS'!$Q38)))","v":""},null,"",""]
[{"$f":"IF('Entry Information'!B40=\"\",\"\",'Entry Information'!B40)","v":""},{"$f":"IF('Entry Information'!C40=\"\",\"\",'Entry Information'!C40)","v":""},{"$f":"IF('Entry Information'!D40=\"\",\"\",'Entry Information'!D40)","v":""},{"$f":"IF('Entry Information'!E40=\"\",\"\",'Entry Information'!E40)","v":""},"NOV",{"$f":"IF('Entry Information'!Q40=\"\",\"\",'Entry Information'!Q40)","v":""},null,"",{"$f":"IF('Entry Information'!R40=\"\",H40,H40-100)","v":""},"",{"$f":"IF($F40=\"\",\"\",(VLOOKUP($J$42,Worksheet!$A$11:$AE$41,J40+1,FALSE)))","v":""},{"$f":"IF('Entry Information'!S40=\"\",\"\",'Entry Information'!S40)","v":""},null,"",{"$f":"IF('Entry Information'!T40=\"\",N40,N40-100)","v":""},"",{"$f":"IF($L40=\"\",\"\",(VLOOKUP($P$42,Worksheet!$A$11:$AE$41,P40+1,FALSE)))","v":""},{"$f":"IF('Entry Information'!U40=\"\",\"\",'Entry Information'!U40)","v":""},null,"",{"$f":"IF('Entry Information'!V40=\"\",T40,T40-100)","v":""},"",{"$f":"IF($R40=\"\",\"\",(VLOOKUP($V$42,Worksheet!$A$11:$AE$41,V40+1,FALSE)))","v":""},{"$f":"IF('Entry Information'!W40=\"\",\"\",'Entry Information'!W40)","v":""},null,"",{"$f":"IF('Entry Information'!X40=\"\",Z40,Z40-100)","v":""},"",{"$f":"IF($X40=\"\",\"\",(VLOOKUP($AB$42,Worksheet!$A$11:$AE$41,AB40+1,FALSE)))","v":""},{"$f":"IF('Entry Information'!Y40=\"\",\"\",'Entry Information'!Y40)","v":""},null,"",{"$f":"IF('Entry Information'!Z40=\"\",AF40,AF40-100)","v":""},"",{"$f":"IF($AD40=\"\",\"\",(VLOOKUP($AH$42,Worksheet!$A$11:$AE$41,AH40+1,FALSE)))","v":""},null,{"$f":"IF('NOVICE All-AROUND RESULTS'!A39=\"\",\"\",(SUM('NOVICE All-AROUND RESULTS'!$K39,'NOVICE All-AROUND RESULTS'!$AC39,'NOVICE All-AROUND RESULTS'!$AI39, 'NOVICE All-AROUND RESULTS'!$W39,'NOVICE All-AROUND RESULTS'!$Q39)))","v":""},null,"",""]
[]
[null,null,null,null,null,null,null,null,null,{"$f":"COUNTIF(J11:J40,\">=0\")","v":5},null,null,null,null,null,{"$f":"COUNTIF(P11:P40,\">=0\")","v":5},null,null,null,null,null,{"$f":"COUNTIF(V11:V40,\">=0\")","v":3},null,null,null,null,null,{"$f":"COUNTIF(AB11:AB40,\">=0\")","v":5},null,null,null,null,null,{"$f":"COUNTIF(AH11:AH40,\">=0\")","v":3}]
[null,null,null,null,null,"1 - Total Penalty Points",null,null,null,null,null,"1 - Total Penalty Points",null,null,null,null,null,"1 - Total Penalty Points",null,null,null,null,null,"1 - Total Penalty Points",null,null,null,null,null,"1 - Total Penalty Points",null,null,null,null,null,null,"Working Ranch Score "]
[null,null,null,null,null,"2 - Extended Trot",null,null,null,null,null,"2 - Rope Handling",null,null,null,null,null,"2 - Working Center of Arena",null,null,null,null,null,"2 - First Lead Change",null,null,null,null,null,"2 - Box Cow",null,null,null,null,null,null,"and then use WR Tie-Breakers"]
[null,null,null,null,null,"3 - Transition down lope/walk/stop",null,null,null,null,null,"3 - Log Drag",null,null,null,null,null,"3 - First Cut From the Herd",null,null,null,null,null,"3 -Spin",null,null,null,null,null,"3 -Degree of Difficulty"]
[null,null,null,null,null,"4 - Transition to lope/lope",null,null,null,null,null,"4 - Gate",null,null,null,null,null,"4 - Second Cut From the Herd",null,null,null,null,null,"4 -First Stop",null,null,null,null,null,"4 -Time Worked"]
[]
[]
["Scores in RED are ties - enter a 1 in the Tie Breaker Column of the winner to break tie.  If multiple ties enter a 1 for the second place and a 2 for winner."]
[]
[]
["Places highlighted have a major penatly."]

{"sheet":"NOVICE All-AROUND RESULTS","index":4,"n_rows":51,"n_cols":35,"rows_kept":51,"cut":false,"hidden":true,"merged":[[2,24,2,28],[2,29,2,34],[4,29,4,34],[1,0,1,2],[1,4,1,5],[1,9,1,16],[1,24,1,28],[1,29,1,34],[2,1,2,2],[2,4,2,5],[2,9,2,11],[4,17,4,22],[4,23,4,28],[4,5,4,10],[4,11,4,16],[5,5,5,10],[5,11,5,16],[6,5,8,5],[6,8,8,8],[6,12,8,12],[6,15,8,15],[6,16,8,16],[6,9,8,9],[6,10,8,10],[6,11,8,11],[6,32,8,32],[6,33,8,33],[6,34,8,34],[5,17,5,22],[5,23,5,28],[5,29,5,34],[6,31,8,31],[6,19,8,19],[6,20,8,20],[6,21,8,21],[6,22,8,22],[6,23,8,23],[6,17,8,17],[6,30,8,30],[6,28,8,28],[6,29,8,29],[47,0,48,4],[6,24,8,24],[6,25,8,25],[6,26,8,26],[6,27,8,27],[6,13,8,13],[6,14,8,14],[6,18,8,18],[6,6,8,6],[6,7,8,7]]}
[]
[null,null,null,null,"Event Name:",null,null,null,null,{"$f":"'Entry Information'!C4","v":"Ranch Horse Challenge"},null,null,null,null,null,null,null,null,null,null,null,null,null,null,"Judge #1 Name/Classes:",null,null,null,null,{"$f":"'Entry Information'!F4","v":"Mike Lund"}]
["Division:","NOVICE",null,null,"Event Date:",null,null,null,null,{"$f":"'Entry Information'!C5","v":"2018-03-25"},null,null,null,null,null,null,null,null,null,null,null,null,null,null,"Judge #2 Name/Classes:",null,null,null,null,{"$f":"'Entry Information'!F5","v":"Karen Arlin"}]
[]
[null,null,null,null,null,"RANCH",null,null,null,null,null,"RANCH",null,null,null,null,null,"RANCH",null,null,null,null,null,"RANCH",null,null,null,null,null,"RANCH"]
[null,null,null,null,null,"RIDING",null,null,null,null,null,"TRAIL",null,null,null,null,null,"CUTING",null,null,null,null,null,"REINED WORK",null,null,null,null,null,"COW WORK"]
[null,null,null,null,null,"Score","Tie Breaker","Adjusted Score for Ties","Adjusted Score Major Penalty","Place","Placement Points","Score","Tie Breaker","Adjusted Score for Ties","Adjusted Score Major Penalty","Place","Placement Points","Score","Tie Breaker","Adjusted Score for Ties","Adjusted Score Major Penalty","Place","Placement Points","Score","Tie Breaker","Adjusted Score for Ties","Adjusted Score Major Penalty","Place","Placement Points","Score","Tie Breaker","Adjusted Score for Ties","Adjusted Score Major Penalty","Place","Placement Points"]
[]
["Back No.","Last Name","First Name","Registered Horse Name","Division"]
[{"$f":"IF('Entry Information'!J11=\"\",\"\",'Entry Information'!B11)","v":""},{"$f":"IF('Entry Information'!J11=\"\",\"\",'Entry Information'!C11)","v":""},{"$f":"IF('Entry Information'!J11=\"\",\"\",'Entry Information'!D11)","v":""},{"$f":"IF('Entry Information'!J11=\"\",\"\",'Entry Information'!E11)","v":""},"NOV",{"$f":"IF('Entry Information'!J11=\"\",\"\",'WALK TROT RESULTS'!F11)","v":""},{"$f":"IF('Entry Information'!$J11=\"\",\"\",IF('WALK TROT RESULTS'!G11=\"\",\"\",'WALK TROT RESULTS'!G11))","v":""},{"$f":"IF(G10=\"\",F10,(F10+(G10*0.001)))","v":""},{"$f":"IF('Entry Information'!$J11=\"\",\"\",IF('Entry Information'!R11=\"\",H10,H10-100))","v":""},{"$f":"IF(I10=\"\",\"\",(RANK(I10,$I$10:$I$39,0)))","v":""},{"$f":"IF($F10=\"\",\"\",(VLOOKUP($J$41,Worksheet!$A$11:$AE$41,J10+1,FALSE)))","v":""},{"$f":"IF('Entry Information'!J11=\"\",\"\",'WALK TROT RESULTS'!L11)","v":""},{"$f":"IF('Entry Information'!$J11=\"\",\"\",IF('WALK TROT RESULTS'!M11=\"\",\"\",'WALK TROT RESULTS'!M11))","v":""},{"$f":"IF(M10=\"\",L10,(L10+(M10*0.001)))","v":""},{"$f":"IF('Entry Information'!$J11=\"\",\"\",IF('Entry Information'!T11=\"\",N10,N10-100))","v":""},{"$f":"IF(O10=\"\",\"\",(RANK(O10,$O$10:$O$39,0)))","v":""},{"$f":"IF($L10=\"\",\"\",(VLOOKUP($P$41,Worksheet!$A$11:$AE$41,P10+1,FALSE)))","v":""},{"$f":"IF('Entry Information'!J11=\"\",\"\",'WALK TROT RESULTS'!R11)","v":""},{"$f":"IF('Entry Information'!$J11=\"\",\"\",IF('WALK TROT RESULTS'!S11=\"\",\"\",'WALK TROT RESULTS'!S11))","v":""},{"$f":"IF(S10=\"\",R10,(R10+(S10*0.001)))","v":""},{"$f":"IF('Entry Information'!$J11=\"\",\"\",IF('Entry Information'!V11=\"\",T10,T10-100))","v":""},{"$f":"IF(U10=\"\",\"\",(RANK(U10,$U$10:$U$39,0)))","v":""},{"$f":"IF($R10=\"\",\"\",(VLOOKUP($V$41,Worksheet!$A$11:$AE$41,V10+1,FALSE)))","v":""},{"$f":"IF('Entry Information'!$J11=\"\",\"\",'WALK TROT RESULTS'!X11)","v":""},{"$f":"IF('Entry Information'!$J11=\"\",\"\",IF('WALK TROT RESULTS'!Y11=\"\",\"\",'WALK TROT RESULTS'!Y11))","v":""},{"$f":"IF(Y10=\"\",X10,(X10+(Y10*0.001)))","v":""},{"$f":"IF('Entry Information'!$J11=\"\",\"\",IF('Entry Information'!X11=\"\",Z10,Z10-100))","v":""},{"$f":"IF(AA10=\"\",\"\",(RANK(AA10,$AA$10:$AA$39,0)))","v":""},{"$f":"IF($X10=\"\",\"\",(VLOOKUP($AB$41,Worksheet!$A$11:$AE$41,AB10+1,FALSE)))","v":""},{"$f":"IF('Entry Information'!$J11=\"\",\"\",'WALK TROT RESULTS'!AD11)","v":""},{"$f":"IF('Entry Information'!$J11=\"\",\"\",IF('WALK TROT RESULTS'!AE11=\"\",\"\",'WALK TROT RESULTS'!AE11))","v":""},{"$f":"IF(AE10=\"\",AD10,(AD10+(AE10*0.001)))","v":""},{"$f":"IF('Entry Information'!$J11=\"\",\"\",IF('Entry Information'!Z11=\"\",AF10,AF10-100))","v":""},{"$f":"IF(AG10=\"\",\"\",(RANK(AG10,$AG$10:$AG$39,0)))","v":""},{"$f":"IF($AD10=\"\",\"\",(VLOOKUP($AH$41,Worksheet!$A$11:$AE$41,AH10+1,FALSE)))","v":""}]
[{"$f":"IF('Entry Information'!J12=\"\",\"\",'Entry Information'!B12)","v":154},{"$f":"IF('Entry Information'!J12=\"\",\"\",'Entry Information'!C12)","v":"Finlayson"},{"$f":"IF('Entry Information'!J12=\"\",\"\",'Entry Information'!D12)","v":"Megan"},{"$f":"IF('Entry Information'!J12=\"\",\"\",'Entry Information'!E12)","v":"Freckles"},"NOV",{"$f":"IF('Entry Information'!J12=\"\",\"\",'WALK TROT RESULTS'!F12)","v":56.5},{"$f":"IF('Entry Information'!$J12=\"\",\"\",IF('WALK TROT RESULTS'!G12=\"\",\"\",'WALK TROT RESULTS'!G12))","v":""},{"$f":"IF(G11=\"\",F11,(F11+(G11*0.001)))","v":56.5},{"$f":"IF('Entry Information'!$J12=\"\",\"\",IF('Entry Information'!R12=\"\",H11,H11-100))","v":56.5},{"$f":"IF(I11=\"\",\"\",(RANK(I11,$I$10:$I$39,0)))","v":3},{"$f":"IF($F11=\"\",\"\",(VLOOKUP($J$41,Worksheet!$A$11:$AE$41,J11+1,FALSE)))","v":1},{"$f":"IF('Entry Information'!J12=\"\",\"\",'WALK TROT RESULTS'!L12)","v":54},{"$f":"IF('Entry Information'!$J12=\"\",\"\",IF('WALK TROT RESULTS'!M12=\"\",\"\",'WALK TROT RESULTS'!M12))","v":""},54,{"$f":"IF('Entry Information'!$J12=\"\",\"\",IF('Entry Information'!T12=\"\",N11,N11-100))","v":54},{"$f":"IF(O11=\"\",\"\",(RANK(O11,$O$10:$O$39,0)))","v":1},{"$f":"IF($L11=\"\",\"\",(VLOOKUP($P$41,Worksheet!$A$11:$AE$41,P11+1,FALSE)))","v":3},{"$f":"IF('Entry Information'!J12=\"\",\"\",'WALK TROT RESULTS'!R12)","v":69},{"$f":"IF('Entry Information'!$J12=\"\",\"\",IF('WALK TROT RESULTS'!S12=\"\",\"\",'WALK TROT RESULTS'!S12))","v":""},69,{"$f":"IF('Entry Information'!V12=\"\",T11,T11-100)","v":69},{"$f":"IF(U11=\"\",\"\",(RANK(U11,$U$10:$U$39,0)))","v":2},{"$f":"IF($R11=\"\",\"\",(VLOOKUP($V$41,Worksheet!$A$11:$AE$41,V11+1,FALSE)))","v":2},{"$f":"IF('Entry Information'!$J12=\"\",\"\",'WALK TROT RESULTS'!X12)","v":70.5},{"$f":"IF('Entry Information'!$J12=\"\",\"\",IF('WALK TROT RESULTS'!Y12=\"\",\"\",'WALK TROT RESULTS'!Y12))","v":""},{"$f":"IF(Y11=\"\",X11,(X11+(Y11*0.001)))","v":70.5},{"$f":"IF('Entry Information'!$J12=\"\",\"\",IF('Entry Information'!X12=\"\",Z11,Z11-100))","v":-29.5},{"$f":"IF(AA11=\"\",\"\",(RANK(AA11,$AA$10:$AA$39,0)))","v":2},{"$f":"IF($X11=\"\",\"\",(VLOOKUP($AB$41,Worksheet!$A$11:$AE$41,AB11+1,FALSE)))","v":2},{"$f":"IF('Entry Information'!$J12=\"\",\"\",'WALK TROT RESULTS'!AD12)","v":72.5},{"$f":"IF('Entry Information'!$J12=\"\",\"\",IF('WALK TROT RESULTS'!AE12=\"\",\"\",'WALK TROT RESULTS'!AE12))","v":""},{"$f":"IF(AE11=\"\",AD11,(AD11+(AE11*0.001)))","v":72.5},{"$f":"IF('Entry Information'!$J12=\"\",\"\",IF('Entry Information'!Z12=\"\",AF11,AF11-100))","v":72.5},{"$f":"IF(AG11=\"\",\"\",(RANK(AG11,$AG$10:$AG$39,0)))","v":2},{"$f":"IF($AD11=\"\",\"\",(VLOOKUP($AH$41,Worksheet!$A$11:$AE$41,AH11+1,FALSE)))","v":2}]
[{"$f":"IF('Entry Information'!J13=\"\",\"\",'Entry Information'!B13)","v":165},{"$f":"IF('Entry Information'!J13=\"\",\"\",'Entry Information'!C13)","v":"Little"},{"$f":"IF('Entry Information'!J13=\"\",\"\",'Entry Information'!D13)","v":"Laureen"},{"$f":"IF('Entry Information'!J13=\"\",\"\",'Entry Information'!E13)","v":"Smart Little Hemi"},"NOV",{"$f":"IF('Entry Information'!J13=\"\",\"\",'WALK TROT RESULTS'!F13)","v":61.5},{"$f":"IF('Entry Information'!$J13=\"\",\"\",IF('WALK TROT RESULTS'!G13=\"\",\"\",'WALK TROT RESULTS'!G13))","v":""},61.5,{"$f":"IF('Entry Information'!$J13=\"\",\"\",IF('Entry Information'!R13=\"\",H12,H12-100))","v":61.5},2,{"$f":"IF($F12=\"\",\"\",(VLOOKUP($J$41,Worksheet!$A$11:$AE$41,J12+1,FALSE)))","v":2},{"$f":"IF('Entry Information'!J13=\"\",\"\",'WALK TROT RESULTS'!L13)","v":53.5},{"$f":"IF('Entry Information'!$J13=\"\",\"\",IF('WALK TROT RESULTS'!M13=\"\",\"\",'WALK TROT RESULTS'!M13))","v":""},53.5,{"$f":"IF('Entry Information'!$J13=\"\",\"\",IF('Entry Information'!T13=\"\",N12,N12-100))","v":53.5},2,{"$f":"IF($L12=\"\",\"\",(VLOOKUP($P$41,Worksheet!$A$11:$AE$41,P12+1,FALSE)))","v":2},{"$f":"IF('Entry Information'!J13=\"\",\"\",'WALK TROT RESULTS'!R13)","v":72},{"$f":"IF('Entry Information'!$J13=\"\",\"\",IF('WALK TROT RESULTS'!S13=\"\",\"\",'WALK TROT RESULTS'!S13))","v":""},72,{"$f":"IF('Entry Information'!$J13=\"\",\"\",IF('Entry Information'!V13=\"\",T12,T12-100))","v":72},1,{"$f":"IF($R12=\"\",\"\",(VLOOKUP($V$41,Worksheet!$A$11:$AE$41,V12+1,FALSE)))","v":3},{"$f":"IF('Entry Information'!$J13=\"\",\"\",'WALK TROT RESULTS'!X13)","v":65},{"$f":"IF('Entry Information'!$J13=\"\",\"\",IF('WALK TROT RESULTS'!Y13=\"\",\"\",'WALK TROT RESULTS'!Y13))","v":""},65,{"$f":"IF('Entry Information'!$J13=\"\",\"\",IF('Entry Information'!X13=\"\",Z12,Z12-100))","v":-35},3,{"$f":"IF($X12=\"\",\"\",(VLOOKUP($AB$41,Worksheet!$A$11:$AE$41,AB12+1,FALSE)))","v":1},{"$f":"IF('Entry Information'!$J13=\"\",\"\",'WALK TROT RESULTS'!AD13)","v":73},{"$f":"IF('Entry Information'!$J13=\"\",\"\",IF('WALK TROT RESULTS'!AE13=\"\",\"\",'WALK TROT RESULTS'!AE13))","v":""},73,{"$f":"IF('Entry Information'!$J13=\"\",\"\",IF('Entry Information'!Z13=\"\",AF12,AF12-100))","v":73},1,{"$f":"IF($AD12=\"\",\"\",(VLOOKUP($AH$41,Worksheet!$A$11:$AE$41,AH12+1,FALSE)))","v":3}]
[{"$f":"IF('Entry Information'!J14=\"\",\"\",'Entry Information'!B14)","v":164},{"$f":"IF('Entry Information'!J14=\"\",\"\",'Entry Information'!C14)","v":"VanStaalduien"},{"$f":"IF('Entry Information'!J14=\"\",\"\",'Entry Information'!D14)","v":"Ian"},{"$f":"IF('Entry Information'!J14=\"\",\"\",'Entry Information'!E14)","v":"Meradas Truckin Chex"},"NOV",{"$f":"IF('Entry Information'!J14=\"\",\"\",'WALK TROT RESULTS'!F14)","v":67},{"$f":"IF('Entry Information'!$J14=\"\",\"\",IF('WALK TROT RESULTS'!G14=\"\",\"\",'WALK TROT RESULTS'!G14))","v":""},67,{"$f":"IF('Entry Information'!$J14=\"\",\"\",IF('Entry Information'!R14=\"\",H13,H13-100))","v":67},1,{"$f":"IF($F13=\"\",\"\",(VLOOKUP($J$41,Worksheet!$A$11:$AE$41,J13+1,FALSE)))","v":3},{"$f":"IF('Entry Information'!J14=\"\",\"\",'WALK TROT RESULTS'!L14)","v":41.5},{"$f":"IF('Entry Information'!$J14=\"\",\"\",IF('WALK TROT RESULTS'!M14=\"\",\"\",'WALK TROT RESULTS'!M14))","v":""},41.5,{"$f":"IF('Entry Information'!$J14=\"\",\"\",IF('Entry Information'!T14=\"\",N13,N13-100))","v":41.5},3,{"$f":"IF($L13=\"\",\"\",(VLOOKUP($P$41,Worksheet!$A$11:$AE$41,P13+1,FALSE)))","v":1},{"$f":"IF('Entry Information'!J14=\"\",\"\",'WALK TROT RESULTS'!R14)","v":66},{"$f":"IF('Entry Information'!$J14=\"\",\"\",IF('WALK TROT RESULTS'!S14=\"\",\"\",'WALK TROT RESULTS'!S14))","v":""},66,{"$f":"IF('Entry Information'!$J14=\"\",\"\",IF('Entry Information'!V14=\"\",T13,T13-100))","v":66},3,{"$f":"IF($R13=\"\",\"\",(VLOOKUP($V$41,Worksheet!$A$11:$AE$41,V13+1,FALSE)))","v":1},{"$f":"IF('Entry Information'!$J14=\"\",\"\",'WALK TROT RESULTS'!X14)","v":72.5},{"$f":"IF('Entry Information'!$J14=\"\",\"\",IF('WALK TROT RESULTS'!Y14=\"\",\"\",'WALK TROT RESULTS'!Y14))","v":""},72.5,{"$f":"IF('Entry Information'!$J14=\"\",\"\",IF('Entry Information'!X14=\"\",Z13,Z13-100))","v":72.5},1,{"$f":"IF($X13=\"\",\"\",(VLOOKUP($AB$41,Worksheet!$A$11:$AE$41,AB13+1,FALSE)))","v":3},{"$f":"IF('Entry Information'!$J14=\"\",\"\",'WALK TROT RESULTS'!AD14)","v":72},{"$f":"IF('Entry Information'!$J14=\"\",\"\",IF('WALK TROT RESULTS'!AE14=\"\",\"\",'WALK TROT RESULTS'!AE14))","v":""},72,{"$f":"IF('Entry Information'!$J14=\"\",\"\",IF('Entry Information'!Z14=\"\",AF13,AF13-100))","v":72},3,{"$f":"IF($AD13=\"\",\"\",(VLOOKUP($AH$41,Worksheet!$A$11:$AE$41,AH13+1,FALSE)))","v":1}]
[{"$f":"IF('Entry Information'!J15=\"\",\"\",'Entry Information'!B15)","v":""},{"$f":"IF('Entry Information'!J15=\"\",\"\",'Entry Information'!C15)","v":""},{"$f":"IF('Entry Information'!J15=\"\",\"\",'Entry Information'!D15)","v":""},{"$f":"IF('Entry Information'!J15=\"\",\"\",'Entry Information'!E15)","v":""},"NOV",{"$f":"IF('Entry Information'!J15=\"\",\"\",'WALK TROT RESULTS'!F15)","v":""},{"$f":"IF('Entry Information'!$J15=\"\",\"\",IF('WALK TROT RESULTS'!G15=\"\",\"\",'WALK TROT RESULTS'!G15))","v":""},"",{"$f":"IF('Entry Information'!$J15=\"\",\"\",IF('Entry Information'!R15=\"\",H14,H14-100))","v":""},"",{"$f":"IF($F14=\"\",\"\",(VLOOKUP($J$41,Worksheet!$A$11:$AE$41,J14+1,FALSE)))","v":""},{"$f":"IF('Entry Information'!J15=\"\",\"\",'WALK TROT RESULTS'!L15)","v":""},{"$f":"IF('Entry Information'!$J15=\"\",\"\",IF('WALK TROT RESULTS'!M15=\"\",\"\",'WALK TROT RESULTS'!M15))","v":""},"",{"$f":"IF('Entry Information'!$J15=\"\",\"\",IF('Entry Information'!T15=\"\",N14,N14-100))","v":""},"",{"$f":"IF($L14=\"\",\"\",(VLOOKUP($P$41,Worksheet!$A$11:$AE$41,P14+1,FALSE)))","v":""},{"$f":"IF('Entry Information'!J15=\"\",\"\",'WALK TROT RESULTS'!R15)","v":""},{"$f":"IF('Entry Information'!$J15=\"\",\"\",IF('WALK TROT RESULTS'!S15=\"\",\"\",'WALK TROT RESULTS'!S15))","v":""},"",{"$f":"IF('Entry Information'!$J15=\"\",\"\",IF('Entry Information'!V15=\"\",T14,T14-100))","v":""},"",{"$f":"IF($R14=\"\",\"\",(VLOOKUP($V$41,Worksheet!$A$11:$AE$41,V14+1,FALSE)))","v":""},{"$f":"IF('Entry Information'!$J15=\"\",\"\",'WALK TROT RESULTS'!X15)","v":""},{"$f":"IF('Entry Information'!$J15=\"\",\"\",IF('WALK TROT RESULTS'!Y15=\"\",\"\",'WALK TROT RESULTS'!Y15))","v":""},"",{"$f":"IF('Entry Information'!$J15=\"\",\"\",IF('Entry Information'!X15=\"\",Z14,Z14-100))","v":""},"",{"$f":"IF($X14=\"\",\"\",(VLOOKUP($AB$41,Worksheet!$A$11:$AE$41,AB14+1,FALSE)))","v":""},{"$f":"IF('Entry Information'!$J15=\"\",\"\",'WALK TROT RESULTS'!AD15)","v":""},{"$f":"IF('Entry Information'!$J15=\"\",\"\",IF('WALK TROT RESULTS'!AE15=\"\",\"\",'WALK TROT RESULTS'!AE15))","v":""},"",{"$f":"IF('Entry Information'!$J15=\"\",\"\",IF('Entry Information'!Z15=\"\",AF14,AF14-100))","v":""},"",{"$f":"IF($AD14=\"\",\"\",(VLOOKUP($AH$41,Worksheet!$A$11:$AE$41,AH14+1,FALSE)))","v":""}]
[{"$f":"IF('Entry Information'!J16=\"\",\"\",'Entry Information'!B16)","v":""},{"$f":"IF('Entry Information'!J16=\"\",\"\",'Entry Information'!C16)","v":""},{"$f":"IF('Entry Information'!J16=\"\",\"\",'Entry Information'!D16)","v":""},{"$f":"IF('Entry Information'!J16=\"\",\"\",'Entry Information'!E16)","v":""},"NOV",{"$f":"IF('Entry Information'!J16=\"\",\"\",'WALK TROT RESULTS'!F16)","v":""},{"$f":"IF('Entry Information'!$J16=\"\",\"\",IF('WALK TROT RESULTS'!G16=\"\",\"\",'WALK TROT RESULTS'!G16))","v":""},"",{"$f":"IF('Entry Information'!$J16=\"\",\"\",IF('Entry Information'!R16=\"\",H15,H15-100))","v":""},"",{"$f":"IF($F15=\"\",\"\",(VLOOKUP($J$41,Worksheet!$A$11:$AE$41,J15+1,FALSE)))","v":""},{"$f":"IF('Entry Information'!J16=\"\",\"\",'WALK TROT RESULTS'!L16)","v":""},{"$f":"IF('Entry Information'!$J16=\"\",\"\",IF('WALK TROT RESULTS'!M16=\"\",\"\",'WALK TROT RESULTS'!M16))","v":""},"",{"$f":"IF('Entry Information'!$J16=\"\",\"\",IF('Entry Information'!T16=\"\",N15,N15-100))","v":""},"",{"$f":"IF($L15=\"\",\"\",(VLOOKUP($P$41,Worksheet!$A$11:$AE$41,P15+1,FALSE)))","v":""},{"$f":"IF('Entry Information'!J16=\"\",\"\",'WALK TROT RESULTS'!R16)","v":""},{"$f":"IF('Entry Information'!$J16=\"\",\"\",IF('WALK TROT RESULTS'!S16=\"\",\"\",'WALK TROT RESULTS'!S16))","v":""},"",{"$f":"IF('Entry Information'!$J16=\"\",\"\",IF('Entry Information'!V16=\"\",T15,T15-100))","v":""},"",{"$f":"IF($R15=\"\",\"\",(VLOOKUP($V$41,Worksheet!$A$11:$AE$41,V15+1,FALSE)))","v":""},{"$f":"IF('Entry Information'!$J16=\"\",\"\",'WALK TROT RESULTS'!X16)","v":""},{"$f":"IF('Entry Information'!$J16=\"\",\"\",IF('WALK TROT RESULTS'!Y16=\"\",\"\",'WALK TROT RESULTS'!Y16))","v":""},"",{"$f":"IF('Entry Information'!$J16=\"\",\"\",IF('Entry Information'!X16=\"\",Z15,Z15-100))","v":""},"",{"$f":"IF($X15=\"\",\"\",(VLOOKUP($AB$41,Worksheet!$A$11:$AE$41,AB15+1,FALSE)))","v":""},{"$f":"IF('Entry Information'!$J16=\"\",\"\",'WALK TROT RESULTS'!AD16)","v":""},{"$f":"IF('Entry Information'!$J16=\"\",\"\",IF('WALK TROT RESULTS'!AE16=\"\",\"\",'WALK TROT RESULTS'!AE16))","v":""},"",{"$f":"IF('Entry Information'!$J16=\"\",\"\",IF('Entry Information'!Z16=\"\",AF15,AF15-100))","v":""},"",{"$f":"IF($AD15=\"\",\"\",(VLOOKUP($AH$41,Worksheet!$A$11:$AE$41,AH15+1,FALSE)))","v":""}]
[{"$f":"IF('Entry Information'!J17=\"\",\"\",'Entry Information'!B17)","v":""},{"$f":"IF('Entry Information'!J17=\"\",\"\",'Entry Information'!C17)","v":""},{"$f":"IF('Entry Information'!J17=\"\",\"\",'Entry Information'!D17)","v":""},{"$f":"IF('Entry Information'!J17=\"\",\"\",'Entry Information'!E17)","v":""},"NOV",{"$f":"IF('Entry Information'!J17=\"\",\"\",'WALK TROT RESULTS'!F17)","v":""},{"$f":"IF('Entry Information'!$J17=\"\",\"\",IF('WALK TROT RESULTS'!G17=\"\",\"\",'WALK TROT RESULTS'!G17))","v":""},"",{"$f":"IF('Entry Information'!$J17=\"\",\"\",IF('Entry Information'!R17=\"\",H16,H16-100))","v":""},"",{"$f":"IF($F16=\"\",\"\",(VLOOKUP($J$41,Worksheet!$A$11:$AE$41,J16+1,FALSE)))","v":""},{"$f":"IF('Entry Information'!J17=\"\",\"\",'WALK TROT RESULTS'!L17)","v":""},{"$f":"IF('Entry Information'!$J17=\"\",\"\",IF('WALK TROT RESULTS'!M17=\"\",\"\",'WALK TROT RESULTS'!M17))","v":""},"",{"$f":"IF('Entry Information'!$J17=\"\",\"\",IF('Entry Information'!T17=\"\",N16,N16-100))","v":""},"",{"$f":"IF($L16=\"\",\"\",(VLOOKUP($P$41,Worksheet!$A$11:$AE$41,P16+1,FALSE)))","v":""},{"$f":"IF('Entry Information'!J17=\"\",\"\",'WALK TROT RESULTS'!R17)","v":""},{"$f":"IF('Entry Information'!$J17=\"\",\"\",IF('WALK TROT RESULTS'!S17=\"\",\"\",'WALK TROT RESULTS'!S17))","v":""},"",{"$f":"IF('Entry Information'!$J17=\"\",\"\",IF('Entry Information'!V17=\"\",T16,T16-100))","v":""},"",{"$f":"IF($R16=\"\",\"\",(VLOOKUP($V$41,Worksheet!$A$11:$AE$41,V16+1,FALSE)))","v":""},{"$f":"IF('Entry Information'!$J17=\"\",\"\",'WALK TROT RESULTS'!X17)","v":""},{"$f":"IF('Entry Information'!$J17=\"\",\"\",IF('WALK TROT RESULTS'!Y17=\"\",\"\",'WALK TROT RESULTS'!Y17))","v":""},"",{"$f":"IF('Entry Information'!$J17=\"\",\"\",IF('Entry Information'!X17=\"\",Z16,Z16-100))","v":""},"",{"$f":"IF($X16=\"\",\"\",(VLOOKUP($AB$41,Worksheet!$A$11:$AE$41,AB16+1,FALSE)))","v":""},{"$f":"IF('Entry Information'!$J17=\"\",\"\",'WALK TROT RESULTS'!AD17)","v":""},{"$f":"IF('Entry Information'!$J17=\"\",\"\",IF('WALK TROT RESULTS'!AE17=\"\",\"\",'WALK TROT RESULTS'!AE17))","v":""},"",{"$f":"IF('Entry Information'!$J17=\"\",\"\",IF('Entry Information'!Z17=\"\",AF16,AF16-100))","v":""},"",{"$f":"IF($AD16=\"\",\"\",(VLOOKUP($AH$41,Worksheet!$A$11:$AE$41,AH16+1,FALSE)))","v":""}]
[{"$f":"IF('Entry Information'!J18=\"\",\"\",'Entry Information'!B18)","v":""},{"$f":"IF('Entry Information'!J18=\"\",\"\",'Entry Information'!C18)","v":""},{"$f":"IF('Entry Information'!J18=\"\",\"\",'Entry Information'!D18)","v":""},{"$f":"IF('Entry Information'!J18=\"\",\"\",'Entry Information'!E18)","v":""},"NOV",{"$f":"IF('Entry Information'!J18=\"\",\"\",'WALK TROT RESULTS'!F18)","v":""},{"$f":"IF('Entry Information'!$J18=\"\",\"\",IF('WALK TROT RESULTS'!G18=\"\",\"\",'WALK TROT RESULTS'!G18))","v":""},"",{"$f":"IF('Entry Information'!$J18=\"\",\"\",IF('Entry Information'!R18=\"\",H17,H17-100))","v":""},"",{"$f":"IF($F17=\"\",\"\",(VLOOKUP($J$41,Worksheet!$A$11:$AE$41,J17+1,FALSE)))","v":""},{"$f":"IF('Entry Information'!J18=\"\",\"\",'WALK TROT RESULTS'!L18)","v":""},{"$f":"IF('Entry Information'!$J18=\"\",\"\",IF('WALK TROT RESULTS'!M18=\"\",\"\",'WALK TROT RESULTS'!M18))","v":""},"",{"$f":"IF('Entry Information'!$J18=\"\",\"\",IF('Entry Information'!T18=\"\",N17,N17-100))","v":""},"",{"$f":"IF($L17=\"\",\"\",(VLOOKUP($P$41,Worksheet!$A$11:$AE$41,P17+1,FALSE)))","v":""},{"$f":"IF('Entry Information'!J18=\"\",\"\",'WALK TROT RESULTS'!R18)","v":""},{"$f":"IF('Entry Information'!$J18=\"\",\"\",IF('WALK TROT RESULTS'!S18=\"\",\"\",'WALK TROT RESULTS'!S18))","v":""},"",{"$f":"IF('Entry Information'!$J18=\"\",\"\",IF('Entry Information'!V18=\"\",T17,T17-100))","v":""},"",{"$f":"IF($R17=\"\",\"\",(VLOOKUP($V$41,Worksheet!$A$11:$AE$41,V17+1,FALSE)))","v":""},{"$f":"IF('Entry Information'!$J18=\"\",\"\",'WALK TROT RESULTS'!X18)","v":""},{"$f":"IF('Entry Information'!$J18=\"\",\"\",IF('WALK TROT RESULTS'!Y18=\"\",\"\",'WALK TROT RESULTS'!Y18))","v":""},"",{"$f":"IF('Entry Information'!$J18=\"\",\"\",IF('Entry Information'!X18=\"\",Z17,Z17-100))","v":""},"",{"$f":"IF($X17=\"\",\"\",(VLOOKUP($AB$41,Worksheet!$A$11:$AE$41,AB17+1,FALSE)))","v":""},{"$f":"IF('Entry Information'!$J18=\"\",\"\",'WALK TROT RESULTS'!AD18)","v":""},{"$f":"IF('Entry Information'!$J18=\"\",\"\",IF('WALK TROT RESULTS'!AE18=\"\",\"\",'WALK TROT RESULTS'!AE18))","v":""},"",{"$f":"IF('Entry Information'!$J18=\"\",\"\",IF('Entry Information'!Z18=\"\",AF17,AF17-100))","v":""},"",{"$f":"IF($AD17=\"\",\"\",(VLOOKUP($AH$41,Worksheet!$A$11:$AE$41,AH17+1,FALSE)))","v":""}]
[{"$f":"IF('Entry Information'!J19=\"\",\"\",'Entry Information'!B19)","v":""},{"$f":"IF('Entry Information'!J19=\"\",\"\",'Entry Information'!C19)","v":""},{"$f":"IF('Entry Information'!J19=\"\",\"\",'Entry Information'!D19)","v":""},{"$f":"IF('Entry Information'!J19=\"\",\"\",'Entry Information'!E19)","v":""},"NOV",{"$f":"IF('Entry Information'!J19=\"\",\"\",'WALK TROT RESULTS'!F19)","v":""},{"$f":"IF('Entry Information'!$J19=\"\",\"\",IF('WALK TROT RESULTS'!G19=\"\",\"\",'WALK TROT RESULTS'!G19))","v":""},"",{"$f":"IF('Entry Information'!$J19=\"\",\"\",IF('Entry Information'!R19=\"\",H18,H18-100))","v":""},"",{"$f":"IF($F18=\"\",\"\",(VLOOKUP($J$41,Worksheet!$A$11:$AE$41,J18+1,FALSE)))","v":""},{"$f":"IF('Entry Information'!J19=\"\",\"\",'WALK TROT RESULTS'!L19)","v":""},{"$f":"IF('Entry Information'!$J19=\"\",\"\",IF('WALK TROT RESULTS'!M19=\"\",\"\",'WALK TROT RESULTS'!M19))","v":""},"",{"$f":"IF('Entry Information'!$J19=\"\",\"\",IF('Entry Information'!T19=\"\",N18,N18-100))","v":""},"",{"$f":"IF($L18=\"\",\"\",(VLOOKUP($P$41,Worksheet!$A$11:$AE$41,P18+1,FALSE)))","v":""},{"$f":"IF('Entry Information'!J19=\"\",\"\",'WALK TROT RESULTS'!R19)","v":""},{"$f":"IF('Entry Information'!$J19=\"\",\"\",IF('WALK TROT RESULTS'!S19=\"\",\"\",'WALK TROT RESULTS'!S19))","v":""},"",{"$f":"IF('Entry Information'!$J19=\"\",\"\",IF('Entry Information'!V19=\"\",T18,T18-100))","v":""},"",{"$f":"IF($R18=\"\",\"\",(VLOOKUP($V$41,Worksheet!$A$11:$AE$41,V18+1,FALSE)))","v":""},{"$f":"IF('Entry Information'!$J19=\"\",\"\",'WALK TROT RESULTS'!X19)","v":""},{"$f":"IF('Entry Information'!$J19=\"\",\"\",IF('WALK TROT RESULTS'!Y19=\"\",\"\",'WALK TROT RESULTS'!Y19))","v":""},"",{"$f":"IF('Entry Information'!$J19=\"\",\"\",IF('Entry Information'!X19=\"\",Z18,Z18-100))","v":""},"",{"$f":"IF($X18=\"\",\"\",(VLOOKUP($AB$41,Worksheet!$A$11:$AE$41,AB18+1,FALSE)))","v":""},{"$f":"IF('Entry Information'!$J19=\"\",\"\",'WALK TROT RESULTS'!AD19)","v":""},{"$f":"IF('Entry Information'!$J19=\"\",\"\",IF('WALK TROT RESULTS'!AE19=\"\",\"\",'WALK TROT RESULTS'!AE19))","v":""},"",{"$f":"IF('Entry Information'!$J19=\"\",\"\",IF('Entry Information'!Z19=\"\",AF18,AF18-100))","v":""},"",{"$f":"IF($AD18=\"\",\"\",(VLOOKUP($AH$41,Worksheet!$A$11:$AE$41,AH18+1,FALSE)))","v":""}]
[{"$f":"IF('Entry Information'!J20=\"\",\"\",'Entry Information'!B20)","v":""},{"$f":"IF('Entry Information'!J20=\"\",\"\",'Entry Information'!C20)","v":""},{"$f":"IF('Entry Information'!J20=\"\",\"\",'Entry Information'!D20)","v":""},{"$f":"IF('Entry Information'!J20=\"\",\"\",'Entry Information'!E20)","v":""},"NOV",{"$f":"IF('Entry Information'!J20=\"\",\"\",'WALK TROT RESULTS'!F20)","v":""},{"$f":"IF('Entry Information'!$J20=\"\",\"\",IF('WALK TROT RESULTS'!G20=\"\",\"\",'WALK TROT RESULTS'!G20))","v":""},"",{"$f":"IF('Entry Information'!$J20=\"\",\"\",IF('Entry Information'!R20=\"\",H19,H19-100))","v":""},"",{"$f":"IF($F19=\"\",\"\",(VLOOKUP($J$41,Worksheet!$A$11:$AE$41,J19+1,FALSE)))","v":""},{"$f":"IF('Entry Information'!J20=\"\",\"\",'WALK TROT RESULTS'!L20)","v":""},{"$f":"IF('Entry Information'!$J20=\"\",\"\",IF('WALK TROT RESULTS'!M20=\"\",\"\",'WALK TROT RESULTS'!M20))","v":""},"",{"$f":"IF('Entry Information'!$J20=\"\",\"\",IF('Entry Information'!T20=\"\",N19,N19-100))","v":""},"",{"$f":"IF($L19=\"\",\"\",(VLOOKUP($P$41,Worksheet!$A$11:$AE$41,P19+1,FALSE)))","v":""},{"$f":"IF('Entry Information'!J20=\"\",\"\",'WALK TROT RESULTS'!R20)","v":""},{"$f":"IF('Entry Information'!$J20=\"\",\"\",IF('WALK TROT RESULTS'!S20=\"\",\"\",'WALK TROT RESULTS'!S20))","v":""},"",{"$f":"IF('Entry Information'!$J20=\"\",\"\",IF('Entry Information'!V20=\"\",T19,T19-100))","v":""},"",{"$f":"IF($R19=\"\",\"\",(VLOOKUP($V$41,Worksheet!$A$11:$AE$41,V19+1,FALSE)))","v":""},{"$f":"IF('Entry Information'!$J20=\"\",\"\",'WALK TROT RESULTS'!X20)","v":""},{"$f":"IF('Entry Information'!$J20=\"\",\"\",IF('WALK TROT RESULTS'!Y20=\"\",\"\",'WALK TROT RESULTS'!Y20))","v":""},"",{"$f":"IF('Entry Information'!$J20=\"\",\"\",IF('Entry Information'!X20=\"\",Z19,Z19-100))","v":""},"",{"$f":"IF($X19=\"\",\"\",(VLOOKUP($AB$41,Worksheet!$A$11:$AE$41,AB19+1,FALSE)))","v":""},{"$f":"IF('Entry Information'!$J20=\"\",\"\",'WALK TROT RESULTS'!AD20)","v":""},{"$f":"IF('Entry Information'!$J20=\"\",\"\",IF('WALK TROT RESULTS'!AE20=\"\",\"\",'WALK TROT RESULTS'!AE20))","v":""},"",{"$f":"IF('Entry Information'!$J20=\"\",\"\",IF('Entry Information'!Z20=\"\",AF19,AF19-100))","v":""},"",{"$f":"IF($AD19=\"\",\"\",(VLOOKUP($AH$41,Worksheet!$A$11:$AE$41,AH19+1,FALSE)))","v":""}]
[{"$f":"IF('Entry Information'!J21=\"\",\"\",'Entry Information'!B21)","v":""},{"$f":"IF('Entry Information'!J21=\"\",\"\",'Entry Information'!C21)","v":""},{"$f":"IF('Entry Information'!J21=\"\",\"\",'Entry Information'!D21)","v":""},{"$f":"IF('Entry Information'!J21=\"\",\"\",'Entry Information'!E21)","v":""},"NOV",{"$f":"IF('Entry Information'!J21=\"\",\"\",'WALK TROT RESULTS'!F21)","v":""},{"$f":"IF('Entry Information'!$J21=\"\",\"\",IF('WALK TROT RESULTS'!G21=\"\",\"\",'WALK TROT RESULTS'!G21))","v":""},"",{"$f":"IF('Entry Information'!$J21=\"\",\"\",IF('Entry Information'!R21=\"\",H20,H20-100))","v":""},"",{"$f":"IF($F20=\"\",\"\",(VLOOKUP($J$41,Worksheet!$A$11:$AE$41,J20+1,FALSE)))","v":""},{"$f":"IF('Entry Information'!J21=\"\",\"\",'WALK TROT RESULTS'!L21)","v":""},{"$f":"IF('Entry Information'!$J21=\"\",\"\",IF('WALK TROT RESULTS'!M21=\"\",\"\",'WALK TROT RESULTS'!M21))","v":""},"",{"$f":"IF('Entry Information'!$J21=\"\",\"\",IF('Entry Information'!T21=\"\",N20,N20-100))","v":""},"",{"$f":"IF($L20=\"\",\"\",(VLOOKUP($P$41,Worksheet!$A$11:$AE$41,P20+1,FALSE)))","v":""},{"$f":"IF('Entry Information'!J21=\"\",\"\",'WALK TROT RESULTS'!R21)","v":""},{"$f":"IF('Entry Information'!$J21=\"\",\"\",IF('WALK TROT RESULTS'!S21=\"\",\"\",'WALK TROT RESULTS'!S21))","v":""},"",{"$f":"IF('Entry Information'!$J21=\"\",\"\",IF('Entry Information'!V21=\"\",T20,T20-100))","v":""},"",{"$f":"IF($R20=\"\",\"\",(VLOOKUP($V$41,Worksheet!$A$11:$AE$41,V20+1,FALSE)))","v":""},{"$f":"IF('Entry Information'!$J21=\"\",\"\",'WALK TROT RESULTS'!X21)","v":""},{"$f":"IF('Entry Information'!$J21=\"\",\"\",IF('WALK TROT RESULTS'!Y21=\"\",\"\",'WALK TROT RESULTS'!Y21))","v":""},"",{"$f":"IF('Entry Information'!$J21=\"\",\"\",IF('Entry Information'!X21=\"\",Z20,Z20-100))","v":""},"",{"$f":"IF($X20=\"\",\"\",(VLOOKUP($AB$41,Worksheet!$A$11:$AE$41,AB20+1,FALSE)))","v":""},{"$f":"IF('Entry Information'!$J21=\"\",\"\",'WALK TROT RESULTS'!AD21)","v":""},{"$f":"IF('Entry Information'!$J21=\"\",\"\",IF('WALK TROT RESULTS'!AE21=\"\",\"\",'WALK TROT RESULTS'!AE21))","v":""},"",{"$f":"IF('Entry Information'!$J21=\"\",\"\",IF('Entry Information'!Z21=\"\",AF20,AF20-100))","v":""},"",{"$f":"IF($AD20=\"\",\"\",(VLOOKUP($AH$41,Worksheet!$A$11:$AE$41,AH20+1,FALSE)))","v":""}]
[{"$f":"IF('Entry Information'!J22=\"\",\"\",'Entry Information'!B22)","v":""},{"$f":"IF('Entry Information'!J22=\"\",\"\",'Entry Information'!C22)","v":""},{"$f":"IF('Entry Information'!J22=\"\",\"\",'Entry Information'!D22)","v":""},{"$f":"IF('Entry Information'!J22=\"\",\"\",'Entry Information'!E22)","v":""},"NOV",{"$f":"IF('Entry Information'!J22=\"\",\"\",'WALK TROT RESULTS'!F22)","v":""},{"$f":"IF('Entry Information'!$J22=\"\",\"\",IF('WALK TROT RESULTS'!G22=\"\",\"\",'WALK TROT RESULTS'!G22))","v":""},"",{"$f":"IF('Entry Information'!$J22=\"\",\"\",IF('Entry Information'!R22=\"\",H21,H21-100))","v":""},"",{"$f":"IF($F21=\"\",\"\",(VLOOKUP($J$41,Worksheet!$A$11:$AE$41,J21+1,FALSE)))","v":""},{"$f":"IF('Entry Information'!J22=\"\",\"\",'WALK TROT RESULTS'!L22)","v":""},{"$f":"IF('Entry Information'!$J22=\"\",\"\",IF('WALK TROT RESULTS'!M22=\"\",\"\",'WALK TROT RESULTS'!M22))","v":""},"",{"$f":"IF('Entry Information'!$J22=\"\",\"\",IF('Entry Information'!T22=\"\",N21,N21-100))","v":""},"",{"$f":"IF($L21=\"\",\"\",(VLOOKUP($P$41,Worksheet!$A$11:$AE$41,P21+1,FALSE)))","v":""},{"$f":"IF('Entry Information'!J22=\"\",\"\",'WALK TROT RESULTS'!R22)","v":""},{"$f":"IF('Entry Information'!$J22=\"\",\"\",IF('WALK TROT RESULTS'!S22=\"\",\"\",'WALK TROT RESULTS'!S22))","v":""},"",{"$f":"IF('Entry Information'!$J22=\"\",\"\",IF('Entry Information'!V22=\"\",T21,T21-100))","v":""},"",{"$f":"IF($R21=\"\",\"\",(VLOOKUP($V$41,Worksheet!$A$11:$AE$41,V21+1,FALSE)))","v":""},{"$f":"IF('Entry Information'!$J22=\"\",\"\",'WALK TROT RESULTS'!X22)","v":""},{"$f":"IF('Entry Information'!$J22=\"\",\"\",IF('WALK TROT RESULTS'!Y22=\"\",\"\",'WALK TROT RESULTS'!Y22))","v":""},"",{"$f":"IF('Entry Information'!$J22=\"\",\"\",IF('Entry Information'!X22=\"\",Z21,Z21-100))","v":""},"",{"$f":"IF($X21=\"\",\"\",(VLOOKUP($AB$41,Worksheet!$A$11:$AE$41,AB21+1,FALSE)))","v":""},{"$f":"IF('Entry Information'!$J22=\"\",\"\",'WALK TROT RESULTS'!AD22)","v":""},{"$f":"IF('Entry Information'!$J22=\"\",\"\",IF('WALK TROT RESULTS'!AE22=\"\",\"\",'WALK TROT RESULTS'!AE22))","v":""},"",{"$f":"IF('Entry Information'!$J22=\"\",\"\",IF('Entry Information'!Z22=\"\",AF21,AF21-100))","v":""},"",{"$f":"IF($AD21=\"\",\"\",(VLOOKUP($AH$41,Worksheet!$A$11:$AE$41,AH21+1,FALSE)))","v":""}]
[{"$f":"IF('Entry Information'!J23=\"\",\"\",'Entry Information'!B23)","v":""},{"$f":"IF('Entry Information'!J23=\"\",\"\",'Entry Information'!C23)","v":""},{"$f":"IF('Entry Information'!J23=\"\",\"\",'Entry Information'!D23)","v":""},{"$f":"IF('Entry Information'!J23=\"\",\"\",'Entry Information'!E23)","v":""},"NOV",{"$f":"IF('Entry Information'!J23=\"\",\"\",'WALK TROT RESULTS'!F23)","v":""},{"$f":"IF('Entry Information'!$J23=\"\",\"\",IF('WALK TROT RESULTS'!G23=\"\",\"\",'WALK TROT RESULTS'!G23))","v":""},"",{"$f":"IF('Entry Information'!$J23=\"\",\"\",IF('Entry Information'!R23=\"\",H22,H22-100))","v":""},"",{"$f":"IF($F22=\"\",\"\",(VLOOKUP($J$41,Worksheet!$A$11:$AE$41,J22+1,FALSE)))","v":""},{"$f":"IF('Entry Information'!J23=\"\",\"\",'WALK TROT RESULTS'!L23)","v":""},{"$f":"IF('Entry Information'!$J23=\"\",\"\",IF('WALK TROT RESULTS'!M23=\"\",\"\",'WALK TROT RESULTS'!M23))","v":""},"",{"$f":"IF('Entry Information'!$J23=\"\",\"\",IF('Entry Information'!T23=\"\",N22,N22-100))","v":""},"",{"$f":"IF($L22=\"\",\"\",(VLOOKUP($P$41,Worksheet!$A$11:$AE$41,P22+1,FALSE)))","v":""},{"$f":"IF('Entry Information'!J23=\"\",\"\",'WALK TROT RESULTS'!R23)","v":""},{"$f":"IF('Entry Information'!$J23=\"\",\"\",IF('WALK TROT RESULTS'!S23=\"\",\"\",'WALK TROT RESULTS'!S23))","v":""},"",{"$f":"IF('Entry Information'!$J23=\"\",\"\",IF('Entry Information'!V23=\"\",T22,T22-100))","v":""},"",{"$f":"IF($R22=\"\",\"\",(VLOOKUP($V$41,Worksheet!$A$11:$AE$41,V22+1,FALSE)))","v":""},{"$f":"IF('Entry Information'!$J23=\"\",\"\",'WALK TROT RESULTS'!X23)","v":""},{"$f":"IF('Entry Information'!$J23=\"\",\"\",IF('WALK TROT RESULTS'!Y23=\"\",\"\",'WALK TROT RESULTS'!Y23))","v":""},"",{"$f":"IF('Entry Information'!$J23=\"\",\"\",IF('Entry Information'!X23=\"\",Z22,Z22-100))","v":""},"",{"$f":"IF($X22=\"\",\"\",(VLOOKUP($AB$41,Worksheet!$A$11:$AE$41,AB22+1,FALSE)))","v":""},{"$f":"IF('Entry Information'!$J23=\"\",\"\",'WALK TROT RESULTS'!AD23)","v":""},{"$f":"IF('Entry Information'!$J23=\"\",\"\",IF('WALK TROT RESULTS'!AE23=\"\",\"\",'WALK TROT RESULTS'!AE23))","v":""},"",{"$f":"IF('Entry Information'!$J23=\"\",\"\",IF('Entry Information'!Z23=\"\",AF22,AF22-100))","v":""},"",{"$f":"IF($AD22=\"\",\"\",(VLOOKUP($AH$41,Worksheet!$A$11:$AE$41,AH22+1,FALSE)))","v":""}]
[{"$f":"IF('Entry Information'!J24=\"\",\"\",'Entry Information'!B24)","v":""},{"$f":"IF('Entry Information'!J24=\"\",\"\",'Entry Information'!C24)","v":""},{"$f":"IF('Entry Information'!J24=\"\",\"\",'Entry Information'!D24)","v":""},{"$f":"IF('Entry Information'!J24=\"\",\"\",'Entry Information'!E24)","v":""},"NOV",{"$f":"IF('Entry Information'!J24=\"\",\"\",'WALK TROT RESULTS'!F24)","v":""},{"$f":"IF('Entry Information'!$J24=\"\",\"\",IF('WALK TROT RESULTS'!G24=\"\",\"\",'WALK TROT RESULTS'!G24))","v":""},"",{"$f":"IF('Entry Information'!$J24=\"\",\"\",IF('Entry Information'!R24=\"\",H23,H23-100))","v":""},"",{"$f":"IF($F23=\"\",\"\",(VLOOKUP($J$41,Worksheet!$A$11:$AE$41,J23+1,FALSE)))","v":""},{"$f":"IF('Entry Information'!J24=\"\",\"\",'WALK TROT RESULTS'!L24)","v":""},{"$f":"IF('Entry Information'!$J24=\"\",\"\",IF('WALK TROT RESULTS'!M24=\"\",\"\",'WALK TROT RESULTS'!M24))","v":""},"",{"$f":"IF('Entry Information'!$J24=\"\",\"\",IF('Entry Information'!T24=\"\",N23,N23-100))","v":""},"",{"$f":"IF($L23=\"\",\"\",(VLOOKUP($P$41,Worksheet!$A$11:$AE$41,P23+1,FALSE)))","v":""},{"$f":"IF('Entry Information'!J24=\"\",\"\",'WALK TROT RESULTS'!R24)","v":""},{"$f":"IF('Entry Information'!$J24=\"\",\"\",IF('WALK TROT RESULTS'!S24=\"\",\"\",'WALK TROT RESULTS'!S24))","v":""},"",{"$f":"IF('Entry Information'!$J24=\"\",\"\",IF('Entry Information'!V24=\"\",T23,T23-100))","v":""},"",{"$f":"IF($R23=\"\",\"\",(VLOOKUP($V$41,Worksheet!$A$11:$AE$41,V23+1,FALSE)))","v":""},{"$f":"IF('Entry Information'!$J24=\"\",\"\",'WALK TROT RESULTS'!X24)","v":""},{"$f":"IF('Entry Information'!$J24=\"\",\"\",IF('WALK TROT RESULTS'!Y24=\"\",\"\",'WALK TROT RESULTS'!Y24))","v":""},"",{"$f":"IF('Entry Information'!$J24=\"\",\"\",IF('Entry Information'!X24=\"\",Z23,Z23-100))","v":""},"",{"$f":"IF($X23=\"\",\"\",(VLOOKUP($AB$41,Worksheet!$A$11:$AE$41,AB23+1,FALSE)))","v":""},{"$f":"IF('Entry Information'!$J24=\"\",\"\",'WALK TROT RESULTS'!AD24)","v":""},{"$f":"IF('Entry Information'!$J24=\"\",\"\",IF('WALK TROT RESULTS'!AE24=\"\",\"\",'WALK TROT RESULTS'!AE24))","v":""},"",{"$f":"IF('Entry Information'!$J24=\"\",\"\",IF('Entry Information'!Z24=\"\",AF23,AF23-100))","v":""},"",{"$f":"IF($AD23=\"\",\"\",(VLOOKUP($AH$41,Worksheet!$A$11:$AE$41,AH23+1,FALSE)))","v":""}]
[{"$f":"IF('Entry Information'!J25=\"\",\"\",'Entry Information'!B25)","v":""},{"$f":"IF('Entry Information'!J25=\"\",\"\",'Entry Information'!C25)","v":""},{"$f":"IF('Entry Information'!J25=\"\",\"\",'Entry Information'!D25)","v":""},{"$f":"IF('Entry Information'!J25=\"\",\"\",'Entry Information'!E25)","v":""},"NOV",{"$f":"IF('Entry Information'!J25=\"\",\"\",'WALK TROT RESULTS'!F25)","v":""},{"$f":"IF('Entry Information'!$J25=\"\",\"\",IF('WALK TROT RESULTS'!G25=\"\",\"\",'WALK TROT RESULTS'!G25))","v":""},"",{"$f":"IF('Entry Information'!$J25=\"\",\"\",IF('Entry Information'!R25=\"\",H24,H24-100))","v":""},"",{"$f":"IF($F24=\"\",\"\",(VLOOKUP($J$41,Worksheet!$A$11:$AE$41,J24+1,FALSE)))","v":""},{"$f":"IF('Entry Information'!J25=\"\",\"\",'WALK TROT RESULTS'!L25)","v":""},{"$f":"IF('Entry Information'!$J25=\"\",\"\",IF('WALK TROT RESULTS'!M25=\"\",\"\",'WALK TROT RESULTS'!M25))","v":""},"",{"$f":"IF('Entry Information'!$J25=\"\",\"\",IF('Entry Information'!T25=\"\",N24,N24-100))","v":""},"",{"$f":"IF($L24=\"\",\"\",(VLOOKUP($P$41,Worksheet!$A$11:$AE$41,P24+1,FALSE)))","v":""},{"$f":"IF('Entry Information'!J25=\"\",\"\",'WALK TROT RESULTS'!R25)","v":""},{"$f":"IF('Entry Information'!$J25=\"\",\"\",IF('WALK TROT RESULTS'!S25=\"\",\"\",'WALK TROT RESULTS'!S25))","v":""},"",{"$f":"IF('Entry Information'!$J25=\"\",\"\",IF('Entry Information'!V25=\"\",T24,T24-100))","v":""},"",{"$f":"IF($R24=\"\",\"\",(VLOOKUP($V$41,Worksheet!$A$11:$AE$41,V24+1,FALSE)))","v":""},{"$f":"IF('Entry Information'!$J25=\"\",\"\",'WALK TROT RESULTS'!X25)","v":""},{"$f":"IF('Entry Information'!$J25=\"\",\"\",IF('WALK TROT RESULTS'!Y25=\"\",\"\",'WALK TROT RESULTS'!Y25))","v":""},"",{"$f":"IF('Entry Information'!$J25=\"\",\"\",IF('Entry Information'!X25=\"\",Z24,Z24-100))","v":""},"",{"$f":"IF($X24=\"\",\"\",(VLOOKUP($AB$41,Worksheet!$A$11:$AE$41,AB24+1,FALSE)))","v":""},{"$f":"IF('Entry Information'!$J25=\"\",\"\",'WALK TROT RESULTS'!AD25)","v":""},{"$f":"IF('Entry Information'!$J25=\"\",\"\",IF('WALK TROT RESULTS'!AE25=\"\",\"\",'WALK TROT RESULTS'!AE25))","v":""},"",{"$f":"IF('Entry Information'!$J25=\"\",\"\",IF('Entry Information'!Z25=\"\",AF24,AF24-100))","v":""},"",{"$f":"IF($AD24=\"\",\"\",(VLOOKUP($AH$41,Worksheet!$A$11:$AE$41,AH24+1,FALSE)))","v":""}]
[{"$f":"IF('Entry Information'!J26=\"\",\"\",'Entry Information'!B26)","v":""},{"$f":"IF('Entry Information'!J26=\"\",\"\",'Entry Information'!C26)","v":""},{"$f":"IF('Entry Information'!J26=\"\",\"\",'Entry Information'!D26)","v":""},{"$f":"IF('Entry Information'!J26=\"\",\"\",'Entry Information'!E26)","v":""},"NOV",{"$f":"IF('Entry Information'!J26=\"\",\"\",'WALK TROT RESULTS'!F26)","v":""},{"$f":"IF('Entry Information'!$J26=\"\",\"\",IF('WALK TROT RESULTS'!G26=\"\",\"\",'WALK TROT RESULTS'!G26))","v":""},"",{"$f":"IF('Entry Information'!$J26=\"\",\"\",IF('Entry Information'!R26=\"\",H25,H25-100))","v":""},"",{"$f":"IF($F25=\"\",\"\",(VLOOKUP($J$41,Worksheet!$A$11:$AE$41,J25+1,FALSE)))","v":""},{"$f":"IF('Entry Information'!J26=\"\",\"\",'WALK TROT RESULTS'!L26)","v":""},{"$f":"IF('Entry Information'!$J26=\"\",\"\",IF('WALK TROT RESULTS'!M26=\"\",\"\",'WALK TROT RESULTS'!M26))","v":""},"",{"$f":"IF('Entry Information'!$J26=\"\",\"\",IF('Entry Information'!T26=\"\",N25,N25-100))","v":""},"",{"$f":"IF($L25=\"\",\"\",(VLOOKUP($P$41,Worksheet!$A$11:$AE$41,P25+1,FALSE)))","v":""},{"$f":"IF('Entry Information'!J26=\"\",\"\",'WALK TROT RESULTS'!R26)","v":""},{"$f":"IF('Entry Information'!$J26=\"\",\"\",IF('WALK TROT RESULTS'!S26=\"\",\"\",'WALK TROT RESULTS'!S26))","v":""},"",{"$f":"IF('Entry Information'!$J26=\"\",\"\",IF('Entry Information'!V26=\"\",T25,T25-100))","v":""},"",{"$f":"IF($R25=\"\",\"\",(VLOOKUP($V$41,Worksheet!$A$11:$AE$41,V25+1,FALSE)))","v":""},{"$f":"IF('Entry Information'!$J26=\"\",\"\",'WALK TROT RESULTS'!X26)","v":""},{"$f":"IF('Entry Information'!$J26=\"\",\"\",IF('WALK TROT RESULTS'!Y26=\"\",\"\",'WALK TROT RESULTS'!Y26))","v":""},"",{"$f":"IF('Entry Information'!$J26=\"\",\"\",IF('Entry Information'!X26=\"\",Z25,Z25-100))","v":""},"",{"$f":"IF($X25=\"\",\"\",(VLOOKUP($AB$41,Worksheet!$A$11:$AE$41,AB25+1,FALSE)))","v":""},{"$f":"IF('Entry Information'!$J26=\"\",\"\",'WALK TROT RESULTS'!AD26)","v":""},{"$f":"IF('Entry Information'!$J26=\"\",\"\",IF('WALK TROT RESULTS'!AE26=\"\",\"\",'WALK TROT RESULTS'!AE26))","v":""},"",{"$f":"IF('Entry Information'!$J26=\"\",\"\",IF('Entry Information'!Z26=\"\",AF25,AF25-100))","v":""},"",{"$f":"IF($AD25=\"\",\"\",(VLOOKUP($AH$41,Worksheet!$A$11:$AE$41,AH25+1,FALSE)))","v":""}]
[{"$f":"IF('Entry Information'!J27=\"\",\"\",'Entry Information'!B27)","v":""},{"$f":"IF('Entry Information'!J27=\"\",\"\",'Entry Information'!C27)","v":""},{"$f":"IF('Entry Information'!J27=\"\",\"\",'Entry Information'!D27)","v":""},{"$f":"IF('Entry Information'!J27=\"\",\"\",'Entry Information'!E27)","v":""},"NOV",{"$f":"IF('Entry Information'!J27=\"\",\"\",'WALK TROT RESULTS'!F27)","v":""},{"$f":"IF('Entry Information'!$J27=\"\",\"\",IF('WALK TROT RESULTS'!G27=\"\",\"\",'WALK TROT RESULTS'!G27))","v":""},"",{"$f":"IF('Entry Information'!$J27=\"\",\"\",IF('Entry Information'!R27=\"\",H26,H26-100))","v":""},"",{"$f":"IF($F26=\"\",\"\",(VLOOKUP($J$41,Worksheet!$A$11:$AE$41,J26+1,FALSE)))","v":""},{"$f":"IF('Entry Information'!J27=\"\",\"\",'WALK TROT RESULTS'!L27)","v":""},{"$f":"IF('Entry Information'!$J27=\"\",\"\",IF('WALK TROT RESULTS'!M27=\"\",\"\",'WALK TROT RESULTS'!M27))","v":""},"",{"$f":"IF('Entry Information'!$J27=\"\",\"\",IF('Entry Information'!T27=\"\",N26,N26-100))","v":""},"",{"$f":"IF($L26=\"\",\"\",(VLOOKUP($P$41,Worksheet!$A$11:$AE$41,P26+1,FALSE)))","v":""},{"$f":"IF('Entry Information'!J27=\"\",\"\",'WALK TROT RESULTS'!R27)","v":""},{"$f":"IF('Entry Information'!$J27=\"\",\"\",IF('WALK TROT RESULTS'!S27=\"\",\"\",'WALK TROT RESULTS'!S27))","v":""},"",{"$f":"IF('Entry Information'!$J27=\"\",\"\",IF('Entry Information'!V27=\"\",T26,T26-100))","v":""},"",{"$f":"IF($R26=\"\",\"\",(VLOOKUP($V$41,Worksheet!$A$11:$AE$41,V26+1,FALSE)))","v":""},{"$f":"IF('Entry Information'!$J27=\"\",\"\",'WALK TROT RESULTS'!X27)","v":""},{"$f":"IF('Entry Information'!$J27=\"\",\"\",IF('WALK TROT RESULTS'!Y27=\"\",\"\",'WALK TROT RESULTS'!Y27))","v":""},"",{"$f":"IF('Entry Information'!$J27=\"\",\"\",IF('Entry Information'!X27=\"\",Z26,Z26-100))","v":""},"",{"$f":"IF($X26=\"\",\"\",(VLOOKUP($AB$41,Worksheet!$A$11:$AE$41,AB26+1,FALSE)))","v":""},{"$f":"IF('Entry Information'!$J27=\"\",\"\",'WALK TROT RESULTS'!AD27)","v":""},{"$f":"IF('Entry Information'!$J27=\"\",\"\",IF('WALK TROT RESULTS'!AE27=\"\",\"\",'WALK TROT RESULTS'!AE27))","v":""},"",{"$f":"IF('Entry Information'!$J27=\"\",\"\",IF('Entry Information'!Z27=\"\",AF26,AF26-100))","v":""},"",{"$f":"IF($AD26=\"\",\"\",(VLOOKUP($AH$41,Worksheet!$A$11:$AE$41,AH26+1,FALSE)))","v":""}]
[{"$f":"IF('Entry Information'!J28=\"\",\"\",'Entry Information'!B28)","v":""},{"$f":"IF('Entry Information'!J28=\"\",\"\",'Entry Information'!C28)","v":""},{"$f":"IF('Entry Information'!J28=\"\",\"\",'Entry Information'!D28)","v":""},{"$f":"IF('Entry Information'!J28=\"\",\"\",'Entry Information'!E28)","v":""},"NOV",{"$f":"IF('Entry Information'!J28=\"\",\"\",'WALK TROT RESULTS'!F28)","v":""},{"$f":"IF('Entry Information'!$J28=\"\",\"\",IF('WALK TROT RESULTS'!G28=\"\",\"\",'WALK TROT RESULTS'!G28))","v":""},"",{"$f":"IF('Entry Information'!$J28=\"\",\"\",IF('Entry Information'!R28=\"\",H27,H27-100))","v":""},"",{"$f":"IF($F27=\"\",\"\",(VLOOKUP($J$41,Worksheet!$A$11:$AE$41,J27+1,FALSE)))","v":""},{"$f":"IF('Entry Information'!J28=\"\",\"\",'WALK TROT RESULTS'!L28)","v":""},{"$f":"IF('Entry Information'!$J28=\"\",\"\",IF('WALK TROT RESULTS'!M28=\"\",\"\",'WALK TROT RESULTS'!M28))","v":""},"",{"$f":"IF('Entry Information'!$J28=\"\",\"\",IF('Entry Information'!T28=\"\",N27,N27-100))","v":""},"",{"$f":"IF($L27=\"\",\"\",(VLOOKUP($P$41,Worksheet!$A$11:$AE$41,P27+1,FALSE)))","v":""},{"$f":"IF('Entry Information'!J28=\"\",\"\",'WALK TROT RESULTS'!R28)","v":""},{"$f":"IF('Entry Information'!$J28=\"\",\"\",IF('WALK TROT RESULTS'!S28=\"\",\"\",'WALK TROT RESULTS'!S28))","v":""},"",{"$f":"IF('Entry Information'!$J28=\"\",\"\",IF('Entry Information'!V28=\"\",T27,T27-100))","v":""},"",{"$f":"IF($R27=\"\",\"\",(VLOOKUP($V$41,Worksheet!$A$11:$AE$41,V27+1,FALSE)))","v":""},{"$f":"IF('Entry Information'!$J28=\"\",\"\",'WALK TROT RESULTS'!X28)","v":""},{"$f":"IF('Entry Information'!$J28=\"\",\"\",IF('WALK TROT RESULTS'!Y28=\"\",\"\",'WALK TROT RESULTS'!Y28))","v":""},"",{"$f":"IF('Entry Information'!$J28=\"\",\"\",IF('Entry Information'!X28=\"\",Z27,Z27-100))","v":""},"",{"$f":"IF($X27=\"\",\"\",(VLOOKUP($AB$41,Worksheet!$A$11:$AE$41,AB27+1,FALSE)))","v":""},{"$f":"IF('Entry Information'!$J28=\"\",\"\",'WALK TROT RESULTS'!AD28)","v":""},{"$f":"IF('Entry Information'!$J28=\"\",\"\",IF('WALK TROT RESULTS'!AE28=\"\",\"\",'WALK TROT RESULTS'!AE28))","v":""},"",{"$f":"IF('Entry Information'!$J28=\"\",\"\",IF('Entry Information'!Z28=\"\",AF27,AF27-100))","v":""},"",{"$f":"IF($AD27=\"\",\"\",(VLOOKUP($AH$41,Worksheet!$A$11:$AE$41,AH27+1,FALSE)))","v":""}]
[{"$f":"IF('Entry Information'!J29=\"\",\"\",'Entry Information'!B29)","v":""},{"$f":"IF('Entry Information'!J29=\"\",\"\",'Entry Information'!C29)","v":""},{"$f":"IF('Entry Information'!J29=\"\",\"\",'Entry Information'!D29)","v":""},{"$f":"IF('Entry Information'!J29=\"\",\"\",'Entry Information'!E29)","v":""},"NOV",{"$f":"IF('Entry Information'!J29=\"\",\"\",'WALK TROT RESULTS'!F29)","v":""},{"$f":"IF('Entry Information'!$J29=\"\",\"\",IF('WALK TROT RESULTS'!G29=\"\",\"\",'WALK TROT RESULTS'!G29))","v":""},"",{"$f":"IF('Entry Information'!$J29=\"\",\"\",IF('Entry Information'!R29=\"\",H28,H28-100))","v":""},"",{"$f":"IF($F28=\"\",\"\",(VLOOKUP($J$41,Worksheet!$A$11:$AE$41,J28+1,FALSE)))","v":""},{"$f":"IF('Entry Information'!J29=\"\",\"\",'WALK TROT RESULTS'!L29)","v":""},{"$f":"IF('Entry Information'!$J29=\"\",\"\",IF('WALK TROT RESULTS'!M29=\"\",\"\",'WALK TROT RESULTS'!M29))","v":""},"",{"$f":"IF('Entry Information'!$J29=\"\",\"\",IF('Entry Information'!T29=\"\",N28,N28-100))","v":""},"",{"$f":"IF($L28=\"\",\"\",(VLOOKUP($P$41,Worksheet!$A$11:$AE$41,P28+1,FALSE)))","v":""},{"$f":"IF('Entry Information'!J29=\"\",\"\",'WALK TROT RESULTS'!R29)","v":""},{"$f":"IF('Entry Information'!$J29=\"\",\"\",IF('WALK TROT RESULTS'!S29=\"\",\"\",'WALK TROT RESULTS'!S29))","v":""},"",{"$f":"IF('Entry Information'!$J29=\"\",\"\",IF('Entry Information'!V29=\"\",T28,T28-100))","v":""},"",{"$f":"IF($R28=\"\",\"\",(VLOOKUP($V$41,Worksheet!$A$11:$AE$41,V28+1,FALSE)))","v":""},{"$f":"IF('Entry Information'!$J29=\"\",\"\",'WALK TROT RESULTS'!X29)","v":""},{"$f":"IF('Entry Information'!$J29=\"\",\"\",IF('WALK TROT RESULTS'!Y29=\"\",\"\",'WALK TROT RESULTS'!Y29))","v":""},"",{"$f":"IF('Entry Information'!$J29=\"\",\"\",IF('Entry Information'!X29=\"\",Z28,Z28-100))","v":""},"",{"$f":"IF($X28=\"\",\"\",(VLOOKUP($AB$41,Worksheet!$A$11:$AE$41,AB28+1,FALSE)))","v":""},{"$f":"IF('Entry Information'!$J29=\"\",\"\",'WALK TROT RESULTS'!AD29)","v":""},{"$f":"IF('Entry Information'!$J29=\"\",\"\",IF('WALK TROT RESULTS'!AE29=\"\",\"\",'WALK TROT RESULTS'!AE29))","v":""},"",{"$f":"IF('Entry Information'!$J29=\"\",\"\",IF('Entry Information'!Z29=\"\",AF28,AF28-100))","v":""},"",{"$f":"IF($AD28=\"\",\"\",(VLOOKUP($AH$41,Worksheet!$A$11:$AE$41,AH28+1,FALSE)))","v":""}]
[{"$f":"IF('Entry Information'!J30=\"\",\"\",'Entry Information'!B30)","v":""},{"$f":"IF('Entry Information'!J30=\"\",\"\",'Entry Information'!C30)","v":""},{"$f":"IF('Entry Information'!J30=\"\",\"\",'Entry Information'!D30)","v":""},{"$f":"IF('Entry Information'!J30=\"\",\"\",'Entry Information'!E30)","v":""},"NOV",{"$f":"IF('Entry Information'!J30=\"\",\"\",'WALK TROT RESULTS'!F30)","v":""},{"$f":"IF('Entry Information'!$J30=\"\",\"\",IF('WALK TROT RESULTS'!G30=\"\",\"\",'WALK TROT RESULTS'!G30))","v":""},"",{"$f":"IF('Entry Information'!$J30=\"\",\"\",IF('Entry Information'!R30=\"\",H29,H29-100))","v":""},"",{"$f":"IF($F29=\"\",\"\",(VLOOKUP($J$41,Worksheet!$A$11:$AE$41,J29+1,FALSE)))","v":""},{"$f":"IF('Entry Information'!J30=\"\",\"\",'WALK TROT RESULTS'!L30)","v":""},{"$f":"IF('Entry Information'!$J30=\"\",\"\",IF('WALK TROT RESULTS'!M30=\"\",\"\",'WALK TROT RESULTS'!M30))","v":""},"",{"$f":"IF('Entry Information'!$J30=\"\",\"\",IF('Entry Information'!T30=\"\",N29,N29-100))","v":""},"",{"$f":"IF($L29=\"\",\"\",(VLOOKUP($P$41,Worksheet!$A$11:$AE$41,P29+1,FALSE)))","v":""},{"$f":"IF('Entry Information'!J30=\"\",\"\",'WALK TROT RESULTS'!R30)","v":""},{"$f":"IF('Entry Information'!$J30=\"\",\"\",IF('WALK TROT RESULTS'!S30=\"\",\"\",'WALK TROT RESULTS'!S30))","v":""},"",{"$f":"IF('Entry Information'!$J30=\"\",\"\",IF('Entry Information'!V30=\"\",T29,T29-100))","v":""},"",{"$f":"IF($R29=\"\",\"\",(VLOOKUP($V$41,Worksheet!$A$11:$AE$41,V29+1,FALSE)))","v":""},{"$f":"IF('Entry Information'!$J30=\"\",\"\",'WALK TROT RESULTS'!X30)","v":""},{"$f":"IF('Entry Information'!$J30=\"\",\"\",IF('WALK TROT RESULTS'!Y30=\"\",\"\",'WALK TROT RESULTS'!Y30))","v":""},"",{"$f":"IF('Entry Information'!$J30=\"\",\"\",IF('Entry Information'!X30=\"\",Z29,Z29-100))","v":""},"",{"$f":"IF($X29=\"\",\"\",(VLOOKUP($AB$41,Worksheet!$A$11:$AE$41,AB29+1,FALSE)))","v":""},{"$f":"IF('Entry Information'!$J30=\"\",\"\",'WALK TROT RESULTS'!AD30)","v":""},{"$f":"IF('Entry Information'!$J30=\"\",\"\",IF('WALK TROT RESULTS'!AE30=\"\",\"\",'WALK TROT RESULTS'!AE30))","v":""},"",{"$f":"IF('Entry Information'!$J30=\"\",\"\",IF('Entry Information'!Z30=\"\",AF29,AF29-100))","v":""},"",{"$f":"IF($AD29=\"\",\"\",(VLOOKUP($AH$41,Worksheet!$A$11:$AE$41,AH29+1,FALSE)))","v":""}]
[{"$f":"IF('Entry Information'!J31=\"\",\"\",'Entry Information'!B31)","v":""},{"$f":"IF('Entry Information'!J31=\"\",\"\",'Entry Information'!C31)","v":""},{"$f":"IF('Entry Information'!J31=\"\",\"\",'Entry Information'!D31)","v":""},{"$f":"IF('Entry Information'!J31=\"\",\"\",'Entry Information'!E31)","v":""},"NOV",{"$f":"IF('Entry Information'!J31=\"\",\"\",'WALK TROT RESULTS'!F31)","v":""},{"$f":"IF('Entry Information'!$J31=\"\",\"\",IF('WALK TROT RESULTS'!G31=\"\",\"\",'WALK TROT RESULTS'!G31))","v":""},"",{"$f":"IF('Entry Information'!$J31=\"\",\"\",IF('Entry Information'!R31=\"\",H30,H30-100))","v":""},"",{"$f":"IF($F30=\"\",\"\",(VLOOKUP($J$41,Worksheet!$A$11:$AE$41,J30+1,FALSE)))","v":""},{"$f":"IF('Entry Information'!J31=\"\",\"\",'WALK TROT RESULTS'!L31)","v":""},{"$f":"IF('Entry Information'!$J31=\"\",\"\",IF('WALK TROT RESULTS'!M31=\"\",\"\",'WALK TROT RESULTS'!M31))","v":""},"",{"$f":"IF('Entry Information'!$J31=\"\",\"\",IF('Entry Information'!T31=\"\",N30,N30-100))","v":""},"",{"$f":"IF($L30=\"\",\"\",(VLOOKUP($P$41,Worksheet!$A$11:$AE$41,P30+1,FALSE)))","v":""},{"$f":"IF('Entry Information'!J31=\"\",\"\",'WALK TROT RESULTS'!R31)","v":""},{"$f":"IF('Entry Information'!$J31=\"\",\"\",IF('WALK TROT RESULTS'!S31=\"\",\"\",'WALK TROT RESULTS'!S31))","v":""},"",{"$f":"IF('Entry Information'!$J31=\"\",\"\",IF('Entry Information'!V31=\"\",T30,T30-100))","v":""},"",{"$f":"IF($R30=\"\",\"\",(VLOOKUP($V$41,Worksheet!$A$11:$AE$41,V30+1,FALSE)))","v":""},{"$f":"IF('Entry Information'!$J31=\"\",\"\",'WALK TROT RESULTS'!X31)","v":""},{"$f":"IF('Entry Information'!$J31=\"\",\"\",IF('WALK TROT RESULTS'!Y31=\"\",\"\",'WALK TROT RESULTS'!Y31))","v":""},"",{"$f":"IF('Entry Information'!$J31=\"\",\"\",IF('Entry Information'!X31=\"\",Z30,Z30-100))","v":""},"",{"$f":"IF($X30=\"\",\"\",(VLOOKUP($AB$41,Worksheet!$A$11:$AE$41,AB30+1,FALSE)))","v":""},{"$f":"IF('Entry Information'!$J31=\"\",\"\",'WALK TROT RESULTS'!AD31)","v":""},{"$f":"IF('Entry Information'!$J31=\"\",\"\",IF('WALK TROT RESULTS'!AE31=\"\",\"\",'WALK TROT RESULTS'!AE31))","v":""},"",{"$f":"IF('Entry Information'!$J31=\"\",\"\",IF('Entry Information'!Z31=\"\",AF30,AF30-100))","v":""},"",{"$f":"IF($AD30=\"\",\"\",(VLOOKUP($AH$41,Worksheet!$A$11:$AE$41,AH30+1,FALSE)))","v":""}]
[{"$f":"IF('Entry Information'!J32=\"\",\"\",'Entry Information'!B32)","v":""},{"$f":"IF('Entry Information'!J32=\"\",\"\",'Entry Information'!C32)","v":""},{"$f":"IF('Entry Information'!J32=\"\",\"\",'Entry Information'!D32)","v":""},{"$f":"IF('Entry Information'!J32=\"\",\"\",'Entry Information'!E32)","v":""},"NOV",{"$f":"IF('Entry Information'!J32=\"\",\"\",'WALK TROT RESULTS'!F32)","v":""},{"$f":"IF('Entry Information'!$J32=\"\",\"\",IF('WALK TROT RESULTS'!G32=\"\",\"\",'WALK TROT RESULTS'!G32))","v":""},"",{"$f":"IF('Entry Information'!$J32=\"\",\"\",IF('Entry Information'!R32=\"\",H31,H31-100))","v":""},"",{"$f":"IF($F31=\"\",\"\",(VLOOKUP($J$41,Worksheet!$A$11:$AE$41,J31+1,FALSE)))","v":""},{"$f":"IF('Entry Information'!J32=\"\",\"\",'WALK TROT RESULTS'!L32)","v":""},{"$f":"IF('Entry Information'!$J32=\"\",\"\",IF('WALK TROT RESULTS'!M32=\"\",\"\",'WALK TROT RESULTS'!M32))","v":""},"",{"$f":"IF('Entry Information'!$J32=\"\",\"\",IF('Entry Information'!T32=\"\",N31,N31-100))","v":""},"",{"$f":"IF($L31=\"\",\"\",(VLOOKUP($P$41,Worksheet!$A$11:$AE$41,P31+1,FALSE)))","v":""},{"$f":"IF('Entry Information'!J32=\"\",\"\",'WALK TROT RESULTS'!R32)","v":""},{"$f":"IF('Entry Information'!$J32=\"\",\"\",IF('WALK TROT RESULTS'!S32=\"\",\"\",'WALK TROT RESULTS'!S32))","v":""},"",{"$f":"IF('Entry Information'!$J32=\"\",\"\",IF('Entry Information'!V32=\"\",T31,T31-100))","v":""},"",{"$f":"IF($R31=\"\",\"\",(VLOOKUP($V$41,Worksheet!$A$11:$AE$41,V31+1,FALSE)))","v":""},{"$f":"IF('Entry Information'!$J32=\"\",\"\",'WALK TROT RESULTS'!X32)","v":""},{"$f":"IF('Entry Information'!$J32=\"\",\"\",IF('WALK TROT RESULTS'!Y32=\"\",\"\",'WALK TROT RESULTS'!Y32))","v":""},"",{"$f":"IF('Entry Information'!$J32=\"\",\"\",IF('Entry Information'!X32=\"\",Z31,Z31-100))","v":""},"",{"$f":"IF($X31=\"\",\"\",(VLOOKUP($AB$41,Worksheet!$A$11:$AE$41,AB31+1,FALSE)))","v":""},{"$f":"IF('Entry Information'!$J32=\"\",\"\",'WALK TROT RESULTS'!AD32)","v":""},{"$f":"IF('Entry Information'!$J32=\"\",\"\",IF('WALK TROT RESULTS'!AE32=\"\",\"\",'WALK TROT RESULTS'!AE32))","v":""},"",{"$f":"IF('Entry Information'!$J32=\"\",\"\",IF('Entry Information'!Z32=\"\",AF31,AF31-100))","v":""},"",{"$f":"IF($AD31=\"\",\"\",(VLOOKUP($AH$41,Worksheet!$A$11:$AE$41,AH31+1,FALSE)))","v":""}]
[{"$f":"IF('Entry Information'!J33=\"\",\"\",'Entry Information'!B33)","v":""},{"$f":"IF('Entry Information'!J33=\"\",\"\",'Entry Information'!C33)","v":""},{"$f":"IF('Entry Information'!J33=\"\",\"\",'Entry Information'!D33)","v":""},{"$f":"IF('Entry Information'!J33=\"\",\"\",'Entry Information'!E33)","v":""},"NOV",{"$f":"IF('Entry Information'!J33=\"\",\"\",'WALK TROT RESULTS'!F33)","v":""},{"$f":"IF('Entry Information'!$J33=\"\",\"\",IF('WALK TROT RESULTS'!G33=\"\",\"\",'WALK TROT RESULTS'!G33))","v":""},"",{"$f":"IF('Entry Information'!$J33=\"\",\"\",IF('Entry Information'!R33=\"\",H32,H32-100))","v":""},"",{"$f":"IF($F32=\"\",\"\",(VLOOKUP($J$41,Worksheet!$A$11:$AE$41,J32+1,FALSE)))","v":""},{"$f":"IF('Entry Information'!J33=\"\",\"\",'WALK TROT RESULTS'!L33)","v":""},{"$f":"IF('Entry Information'!$J33=\"\",\"\",IF('WALK TROT RESULTS'!M33=\"\",\"\",'WALK TROT RESULTS'!M33))","v":""},"",{"$f":"IF('Entry Information'!$J33=\"\",\"\",IF('Entry Information'!T33=\"\",N32,N32-100))","v":""},"",{"$f":"IF($L32=\"\",\"\",(VLOOKUP($P$41,Worksheet!$A$11:$AE$41,P32+1,FALSE)))","v":""},{"$f":"IF('Entry Information'!J33=\"\",\"\",'WALK TROT RESULTS'!R33)","v":""},{"$f":"IF('Entry Information'!$J33=\"\",\"\",IF('WALK TROT RESULTS'!S33=\"\",\"\",'WALK TROT RESULTS'!S33))","v":""},"",{"$f":"IF('Entry Information'!$J33=\"\",\"\",IF('Entry Information'!V33=\"\",T32,T32-100))","v":""},"",{"$f":"IF($R32=\"\",\"\",(VLOOKUP($V$41,Worksheet!$A$11:$AE$41,V32+1,FALSE)))","v":""},{"$f":"IF('Entry Information'!$J33=\"\",\"\",'WALK TROT RESULTS'!X33)","v":""},{"$f":"IF('Entry Information'!$J33=\"\",\"\",IF('WALK TROT RESULTS'!Y33=\"\",\"\",'WALK TROT RESULTS'!Y33))","v":""},"",{"$f":"IF('Entry Information'!$J33=\"\",\"\",IF('Entry Information'!X33=\"\",Z32,Z32-100))","v":""},"",{"$f":"IF($X32=\"\",\"\",(VLOOKUP($AB$41,Worksheet!$A$11:$AE$41,AB32+1,FALSE)))","v":""},{"$f":"IF('Entry Information'!$J33=\"\",\"\",'WALK TROT RESULTS'!AD33)","v":""},{"$f":"IF('Entry Information'!$J33=\"\",\"\",IF('WALK TROT RESULTS'!AE33=\"\",\"\",'WALK TROT RESULTS'!AE33))","v":""},"",{"$f":"IF('Entry Information'!$J33=\"\",\"\",IF('Entry Information'!Z33=\"\",AF32,AF32-100))","v":""},"",{"$f":"IF($AD32=\"\",\"\",(VLOOKUP($AH$41,Worksheet!$A$11:$AE$41,AH32+1,FALSE)))","v":""}]
[{"$f":"IF('Entry Information'!J34=\"\",\"\",'Entry Information'!B34)","v":""},{"$f":"IF('Entry Information'!J34=\"\",\"\",'Entry Information'!C34)","v":""},{"$f":"IF('Entry Information'!J34=\"\",\"\",'Entry Information'!D34)","v":""},{"$f":"IF('Entry Information'!J34=\"\",\"\",'Entry Information'!E34)","v":""},"NOV",{"$f":"IF('Entry Information'!J34=\"\",\"\",'WALK TROT RESULTS'!F34)","v":""},{"$f":"IF('Entry Information'!$J34=\"\",\"\",IF('WALK TROT RESULTS'!G34=\"\",\"\",'WALK TROT RESULTS'!G34))","v":""},"",{"$f":"IF('Entry Information'!$J34=\"\",\"\",IF('Entry Information'!R34=\"\",H33,H33-100))","v":""},"",{"$f":"IF($F33=\"\",\"\",(VLOOKUP($J$41,Worksheet!$A$11:$AE$41,J33+1,FALSE)))","v":""},{"$f":"IF('Entry Information'!J34=\"\",\"\",'WALK TROT RESULTS'!L34)","v":""},{"$f":"IF('Entry Information'!$J34=\"\",\"\",IF('WALK TROT RESULTS'!M34=\"\",\"\",'WALK TROT RESULTS'!M34))","v":""},"",{"$f":"IF('Entry Information'!$J34=\"\",\"\",IF('Entry Information'!T34=\"\",N33,N33-100))","v":""},"",{"$f":"IF($L33=\"\",\"\",(VLOOKUP($P$41,Worksheet!$A$11:$AE$41,P33+1,FALSE)))","v":""},{"$f":"IF('Entry Information'!J34=\"\",\"\",'WALK TROT RESULTS'!R34)","v":""},{"$f":"IF('Entry Information'!$J34=\"\",\"\",IF('WALK TROT RESULTS'!S34=\"\",\"\",'WALK TROT RESULTS'!S34))","v":""},"",{"$f":"IF('Entry Information'!$J34=\"\",\"\",IF('Entry Information'!V34=\"\",T33,T33-100))","v":""},"",{"$f":"IF($R33=\"\",\"\",(VLOOKUP($V$41,Worksheet!$A$11:$AE$41,V33+1,FALSE)))","v":""},{"$f":"IF('Entry Information'!$J34=\"\",\"\",'WALK TROT RESULTS'!X34)","v":""},{"$f":"IF('Entry Information'!$J34=\"\",\"\",IF('WALK TROT RESULTS'!Y34=\"\",\"\",'WALK TROT RESULTS'!Y34))","v":""},"",{"$f":"IF('Entry Information'!$J34=\"\",\"\",IF('Entry Information'!X34=\"\",Z33,Z33-100))","v":""},"",{"$f":"IF($X33=\"\",\"\",(VLOOKUP($AB$41,Worksheet!$A$11:$AE$41,AB33+1,FALSE)))","v":""},{"$f":"IF('Entry Information'!$J34=\"\",\"\",'WALK TROT RESULTS'!AD34)","v":""},{"$f":"IF('Entry Information'!$J34=\"\",\"\",IF('WALK TROT RESULTS'!AE34=\"\",\"\",'WALK TROT RESULTS'!AE34))","v":""},"",{"$f":"IF('Entry Information'!$J34=\"\",\"\",IF('Entry Information'!Z34=\"\",AF33,AF33-100))","v":""},"",{"$f":"IF($AD33=\"\",\"\",(VLOOKUP($AH$41,Worksheet!$A$11:$AE$41,AH33+1,FALSE)))","v":""}]
[{"$f":"IF('Entry Information'!J35=\"\",\"\",'Entry Information'!B35)","v":""},{"$f":"IF('Entry Information'!J35=\"\",\"\",'Entry Information'!C35)","v":""},{"$f":"IF('Entry Information'!J35=\"\",\"\",'Entry Information'!D35)","v":""},{"$f":"IF('Entry Information'!J35=\"\",\"\",'Entry Information'!E35)","v":""},"NOV",{"$f":"IF('Entry Information'!J35=\"\",\"\",'WALK TROT RESULTS'!F35)","v":""},{"$f":"IF('Entry Information'!$J35=\"\",\"\",IF('WALK TROT RESULTS'!G35=\"\",\"\",'WALK TROT RESULTS'!G35))","v":""},"",{"$f":"IF('Entry Information'!$J35=\"\",\"\",IF('Entry Information'!R35=\"\",H34,H34-100))","v":""},"",{"$f":"IF($F34=\"\",\"\",(VLOOKUP($J$41,Worksheet!$A$11:$AE$41,J34+1,FALSE)))","v":""},{"$f":"IF('Entry Information'!J35=\"\",\"\",'WALK TROT RESULTS'!L35)","v":""},{"$f":"IF('Entry Information'!$J35=\"\",\"\",IF('WALK TROT RESULTS'!M35=\"\",\"\",'WALK TROT RESULTS'!M35))","v":""},"",{"$f":"IF('Entry Information'!$J35=\"\",\"\",IF('Entry Information'!T35=\"\",N34,N34-100))","v":""},"",{"$f":"IF($L34=\"\",\"\",(VLOOKUP($P$41,Worksheet!$A$11:$AE$41,P34+1,FALSE)))","v":""},{"$f":"IF('Entry Information'!J35=\"\",\"\",'WALK TROT RESULTS'!R35)","v":""},{"$f":"IF('Entry Information'!$J35=\"\",\"\",IF('WALK TROT RESULTS'!S35=\"\",\"\",'WALK TROT RESULTS'!S35))","v":""},"",{"$f":"IF('Entry Information'!$J35=\"\",\"\",IF('Entry Information'!V35=\"\",T34,T34-100))","v":""},"",{"$f":"IF($R34=\"\",\"\",(VLOOKUP($V$41,Worksheet!$A$11:$AE$41,V34+1,FALSE)))","v":""},{"$f":"IF('Entry Information'!$J35=\"\",\"\",'WALK TROT RESULTS'!X35)","v":""},{"$f":"IF('Entry Information'!$J35=\"\",\"\",IF('WALK TROT RESULTS'!Y35=\"\",\"\",'WALK TROT RESULTS'!Y35))","v":""},"",{"$f":"IF('Entry Information'!$J35=\"\",\"\",IF('Entry Information'!X35=\"\",Z34,Z34-100))","v":""},"",{"$f":"IF($X34=\"\",\"\",(VLOOKUP($AB$41,Worksheet!$A$11:$AE$41,AB34+1,FALSE)))","v":""},{"$f":"IF('Entry Information'!$J35=\"\",\"\",'WALK TROT RESULTS'!AD35)","v":""},{"$f":"IF('Entry Information'!$J35=\"\",\"\",IF('WALK TROT RESULTS'!AE35=\"\",\"\",'WALK TROT RESULTS'!AE35))","v":""},"",{"$f":"IF('Entry Information'!$J35=\"\",\"\",IF('Entry Information'!Z35=\"\",AF34,AF34-100))","v":""},"",{"$f":"IF($AD34=\"\",\"\",(VLOOKUP($AH$41,Worksheet!$A$11:$AE$41,AH34+1,FALSE)))","v":""}]
[{"$f":"IF('Entry Information'!J36=\"\",\"\",'Entry Information'!B36)","v":""},{"$f":"IF('Entry Information'!J36=\"\",\"\",'Entry Information'!C36)","v":""},{"$f":"IF('Entry Information'!J36=\"\",\"\",'Entry Information'!D36)","v":""},{"$f":"IF('Entry Information'!J36=\"\",\"\",'Entry Information'!E36)","v":""},"NOV",{"$f":"IF('Entry Information'!J36=\"\",\"\",'WALK TROT RESULTS'!F36)","v":""},{"$f":"IF('Entry Information'!$J36=\"\",\"\",IF('WALK TROT RESULTS'!G36=\"\",\"\",'WALK TROT RESULTS'!G36))","v":""},"",{"$f":"IF('Entry Information'!$J36=\"\",\"\",IF('Entry Information'!R36=\"\",H35,H35-100))","v":""},"",{"$f":"IF($F35=\"\",\"\",(VLOOKUP($J$41,Worksheet!$A$11:$AE$41,J35+1,FALSE)))","v":""},{"$f":"IF('Entry Information'!J36=\"\",\"\",'WALK TROT RESULTS'!L36)","v":""},{"$f":"IF('Entry Information'!$J36=\"\",\"\",IF('WALK TROT RESULTS'!M36=\"\",\"\",'WALK TROT RESULTS'!M36))","v":""},"",{"$f":"IF('Entry Information'!$J36=\"\",\"\",IF('Entry Information'!T36=\"\",N35,N35-100))","v":""},"",{"$f":"IF($L35=\"\",\"\",(VLOOKUP($P$41,Worksheet!$A$11:$AE$41,P35+1,FALSE)))","v":""},{"$f":"IF('Entry Information'!J36=\"\",\"\",'WALK TROT RESULTS'!R36)","v":""},{"$f":"IF('Entry Information'!$J36=\"\",\"\",IF('WALK TROT RESULTS'!S36=\"\",\"\",'WALK TROT RESULTS'!S36))","v":""},"",{"$f":"IF('Entry Information'!$J36=\"\",\"\",IF('Entry Information'!V36=\"\",T35,T35-100))","v":""},"",{"$f":"IF($R35=\"\",\"\",(VLOOKUP($V$41,Worksheet!$A$11:$AE$41,V35+1,FALSE)))","v":""},{"$f":"IF('Entry Information'!$J36=\"\",\"\",'WALK TROT RESULTS'!X36)","v":""},{"$f":"IF('Entry Information'!$J36=\"\",\"\",IF('WALK TROT RESULTS'!Y36=\"\",\"\",'WALK TROT RESULTS'!Y36))","v":""},"",{"$f":"IF('Entry Information'!$J36=\"\",\"\",IF('Entry Information'!X36=\"\",Z35,Z35-100))","v":""},"",{"$f":"IF($X35=\"\",\"\",(VLOOKUP($AB$41,Worksheet!$A$11:$AE$41,AB35+1,FALSE)))","v":""},{"$f":"IF('Entry Information'!$J36=\"\",\"\",'WALK TROT RESULTS'!AD36)","v":""},{"$f":"IF('Entry Information'!$J36=\"\",\"\",IF('WALK TROT RESULTS'!AE36=\"\",\"\",'WALK TROT RESULTS'!AE36))","v":""},"",{"$f":"IF('Entry Information'!$J36=\"\",\"\",IF('Entry Information'!Z36=\"\",AF35,AF35-100))","v":""},"",{"$f":"IF($AD35=\"\",\"\",(VLOOKUP($AH$41,Worksheet!$A$11:$AE$41,AH35+1,FALSE)))","v":""}]
[{"$f":"IF('Entry Information'!J37=\"\",\"\",'Entry Information'!B37)","v":""},{"$f":"IF('Entry Information'!J37=\"\",\"\",'Entry Information'!C37)","v":""},{"$f":"IF('Entry Information'!J37=\"\",\"\",'Entry Information'!D37)","v":""},{"$f":"IF('Entry Information'!J37=\"\",\"\",'Entry Information'!E37)","v":""},"NOV",{"$f":"IF('Entry Information'!J37=\"\",\"\",'WALK TROT RESULTS'!F37)","v":""},{"$f":"IF('Entry Information'!$J37=\"\",\"\",IF('WALK TROT RESULTS'!G37=\"\",\"\",'WALK TROT RESULTS'!G37))","v":""},"",{"$f":"IF('Entry Information'!$J37=\"\",\"\",IF('Entry Information'!R37=\"\",H36,H36-100))","v":""},"",{"$f":"IF($F36=\"\",\"\",(VLOOKUP($J$41,Worksheet!$A$11:$AE$41,J36+1,FALSE)))","v":""},{"$f":"IF('Entry Information'!J37=\"\",\"\",'WALK TROT RESULTS'!L37)","v":""},{"$f":"IF('Entry Information'!$J37=\"\",\"\",IF('WALK TROT RESULTS'!M37=\"\",\"\",'WALK TROT RESULTS'!M37))","v":""},"",{"$f":"IF('Entry Information'!$J37=\"\",\"\",IF('Entry Information'!T37=\"\",N36,N36-100))","v":""},"",{"$f":"IF($L36=\"\",\"\",(VLOOKUP($P$41,Worksheet!$A$11:$AE$41,P36+1,FALSE)))","v":""},{"$f":"IF('Entry Information'!J37=\"\",\"\",'WALK TROT RESULTS'!R37)","v":""},{"$f":"IF('Entry Information'!$J37=\"\",\"\",IF('WALK TROT RESULTS'!S37=\"\",\"\",'WALK TROT RESULTS'!S37))","v":""},"",{"$f":"IF('Entry Information'!$J37=\"\",\"\",IF('Entry Information'!V37=\"\",T36,T36-100))","v":""},"",{"$f":"IF($R36=\"\",\"\",(VLOOKUP($V$41,Worksheet!$A$11:$AE$41,V36+1,FALSE)))","v":""},{"$f":"IF('Entry Information'!$J37=\"\",\"\",'WALK TROT RESULTS'!X37)","v":""},{"$f":"IF('Entry Information'!$J37=\"\",\"\",IF('WALK TROT RESULTS'!Y37=\"\",\"\",'WALK TROT RESULTS'!Y37))","v":""},"",{"$f":"IF('Entry Information'!$J37=\"\",\"\",IF('Entry Information'!X37=\"\",Z36,Z36-100))","v":""},"",{"$f":"IF($X36=\"\",\"\",(VLOOKUP($AB$41,Worksheet!$A$11:$AE$41,AB36+1,FALSE)))","v":""},{"$f":"IF('Entry Information'!$J37=\"\",\"\",'WALK TROT RESULTS'!AD37)","v":""},{"$f":"IF('Entry Information'!$J37=\"\",\"\",IF('WALK TROT RESULTS'!AE37=\"\",\"\",'WALK TROT RESULTS'!AE37))","v":""},"",{"$f":"IF('Entry Information'!$J37=\"\",\"\",IF('Entry Information'!Z37=\"\",AF36,AF36-100))","v":""},"",{"$f":"IF($AD36=\"\",\"\",(VLOOKUP($AH$41,Worksheet!$A$11:$AE$41,AH36+1,FALSE)))","v":""}]
[{"$f":"IF('Entry Information'!J38=\"\",\"\",'Entry Information'!B38)","v":""},{"$f":"IF('Entry Information'!J38=\"\",\"\",'Entry Information'!C38)","v":""},{"$f":"IF('Entry Information'!J38=\"\",\"\",'Entry Information'!D38)","v":""},{"$f":"IF('Entry Information'!J38=\"\",\"\",'Entry Information'!E38)","v":""},"NOV",{"$f":"IF('Entry Information'!J38=\"\",\"\",'WALK TROT RESULTS'!F38)","v":""},{"$f":"IF('Entry Information'!$J38=\"\",\"\",IF('WALK TROT RESULTS'!G38=\"\",\"\",'WALK TROT RESULTS'!G38))","v":""},"",{"$f":"IF('Entry Information'!$J38=\"\",\"\",IF('Entry Information'!R38=\"\",H37,H37-100))","v":""},"",{"$f":"IF($F37=\"\",\"\",(VLOOKUP($J$41,Worksheet!$A$11:$AE$41,J37+1,FALSE)))","v":""},{"$f":"IF('Entry Information'!J38=\"\",\"\",'WALK TROT RESULTS'!L38)","v":""},{"$f":"IF('Entry Information'!$J38=\"\",\"\",IF('WALK TROT RESULTS'!M38=\"\",\"\",'WALK TROT RESULTS'!M38))","v":""},"",{"$f":"IF('Entry Information'!$J38=\"\",\"\",IF('Entry Information'!T38=\"\",N37,N37-100))","v":""},"",{"$f":"IF($L37=\"\",\"\",(VLOOKUP($P$41,Worksheet!$A$11:$AE$41,P37+1,FALSE)))","v":""},{"$f":"IF('Entry Information'!J38=\"\",\"\",'WALK TROT RESULTS'!R38)","v":""},{"$f":"IF('Entry Information'!$J38=\"\",\"\",IF('WALK TROT RESULTS'!S38=\"\",\"\",'WALK TROT RESULTS'!S38))","v":""},"",{"$f":"IF('Entry Information'!$J38=\"\",\"\",IF('Entry Information'!V38=\"\",T37,T37-100))","v":""},"",{"$f":"IF($R37=\"\",\"\",(VLOOKUP($V$41,Worksheet!$A$11:$AE$41,V37+1,FALSE)))","v":""},{"$f":"IF('Entry Information'!$J38=\"\",\"\",'WALK TROT RESULTS'!X38)","v":""},{"$f":"IF('Entry Information'!$J38=\"\",\"\",IF('WALK TROT RESULTS'!Y38=\"\",\"\",'WALK TROT RESULTS'!Y38))","v":""},"",{"$f":"IF('Entry Information'!$J38=\"\",\"\",IF('Entry Information'!X38=\"\",Z37,Z37-100))","v":""},"",{"$f":"IF($X37=\"\",\"\",(VLOOKUP($AB$41,Worksheet!$A$11:$AE$41,AB37+1,FALSE)))","v":""},{"$f":"IF('Entry Information'!$J38=\"\",\"\",'WALK TROT RESULTS'!AD38)","v":""},{"$f":"IF('Entry Information'!$J38=\"\",\"\",IF('WALK TROT RESULTS'!AE38=\"\",\"\",'WALK TROT RESULTS'!AE38))","v":""},"",{"$f":"IF('Entry Information'!$J38=\"\",\"\",IF('Entry Information'!Z38=\"\",AF37,AF37-100))","v":""},"",{"$f":"IF($AD37=\"\",\"\",(VLOOKUP($AH$41,Worksheet!$A$11:$AE$41,AH37+1,FALSE)))","v":""}]
[{"$f":"IF('Entry Information'!J39=\"\",\"\",'Entry Information'!B39)","v":""},{"$f":"IF('Entry Information'!J39=\"\",\"\",'Entry Information'!C39)","v":""},{"$f":"IF('Entry Information'!J39=\"\",\"\",'Entry Information'!D39)","v":""},{"$f":"IF('Entry Information'!J39=\"\",\"\",'Entry Information'!E39)","v":""},"NOV",{"$f":"IF('Entry Information'!J39=\"\",\"\",'WALK TROT RESULTS'!F39)","v":""},{"$f":"IF('Entry Information'!$J39=\"\",\"\",IF('WALK TROT RESULTS'!G39=\"\",\"\",'WALK TROT RESULTS'!G39))","v":""},"",{"$f":"IF('Entry Information'!$J39=\"\",\"\",IF('Entry Information'!R39=\"\",H38,H38-100))","v":""},"",{"$f":"IF($F38=\"\",\"\",(VLOOKUP($J$41,Worksheet!$A$11:$AE$41,J38+1,FALSE)))","v":""},{"$f":"IF('Entry Information'!J39=\"\",\"\",'WALK TROT RESULTS'!L39)","v":""},{"$f":"IF('Entry Information'!$J39=\"\",\"\",IF('WALK TROT RESULTS'!M39=\"\",\"\",'WALK TROT RESULTS'!M39))","v":""},"",{"$f":"IF('Entry Information'!$J39=\"\",\"\",IF('Entry Information'!T39=\"\",N38,N38-100))","v":""},"",{"$f":"IF($L38=\"\",\"\",(VLOOKUP($P$41,Worksheet!$A$11:$AE$41,P38+1,FALSE)))","v":""},{"$f":"IF('Entry Information'!J39=\"\",\"\",'WALK TROT RESULTS'!R39)","v":""},{"$f":"IF('Entry Information'!$J39=\"\",\"\",IF('WALK TROT RESULTS'!S39=\"\",\"\",'WALK TROT RESULTS'!S39))","v":""},"",{"$f":"IF('Entry Information'!$J39=\"\",\"\",IF('Entry Information'!V39=\"\",T38,T38-100))","v":""},"",{"$f":"IF($R38=\"\",\"\",(VLOOKUP($V$41,Worksheet!$A$11:$AE$41,V38+1,FALSE)))","v":""},{"$f":"IF('Entry Information'!$J39=\"\",\"\",'WALK TROT RESULTS'!X39)","v":""},{"$f":"IF('Entry Information'!$J39=\"\",\"\",IF('WALK TROT RESULTS'!Y39=\"\",\"\",'WALK TROT RESULTS'!Y39))","v":""},"",{"$f":"IF('Entry Information'!$J39=\"\",\"\",IF('Entry Information'!X39=\"\",Z38,Z38-100))","v":""},"",{"$f":"IF($X38=\"\",\"\",(VLOOKUP($AB$41,Worksheet!$A$11:$AE$41,AB38+1,FALSE)))","v":""},{"$f":"IF('Entry Information'!$J39=\"\",\"\",'WALK TROT RESULTS'!AD39)","v":""},{"$f":"IF('Entry Information'!$J39=\"\",\"\",IF('WALK TROT RESULTS'!AE39=\"\",\"\",'WALK TROT RESULTS'!AE39))","v":""},"",{"$f":"IF('Entry Information'!$J39=\"\",\"\",IF('Entry Information'!Z39=\"\",AF38,AF38-100))","v":""},"",{"$f":"IF($AD38=\"\",\"\",(VLOOKUP($AH$41,Worksheet!$A$11:$AE$41,AH38+1,FALSE)))","v":""}]
[{"$f":"IF('Entry Information'!J40=\"\",\"\",'Entry Information'!B40)","v":""},{"$f":"IF('Entry Information'!J40=\"\",\"\",'Entry Information'!C40)","v":""},{"$f":"IF('Entry Information'!J40=\"\",\"\",'Entry Information'!D40)","v":""},{"$f":"IF('Entry Information'!J40=\"\",\"\",'Entry Information'!E40)","v":""},"NOV",{"$f":"IF('Entry Information'!J40=\"\",\"\",'WALK TROT RESULTS'!F40)","v":""},{"$f":"IF('Entry Information'!$J40=\"\",\"\",IF('WALK TROT RESULTS'!G40=\"\",\"\",'WALK TROT RESULTS'!G40))","v":""},"",{"$f":"IF('Entry Information'!$J40=\"\",\"\",IF('Entry Information'!R40=\"\",H39,H39-100))","v":""},"",{"$f":"IF($F39=\"\",\"\",(VLOOKUP($J$41,Worksheet!$A$11:$AE$41,J39+1,FALSE)))","v":""},{"$f":"IF('Entry Information'!J40=\"\",\"\",'WALK TROT RESULTS'!L40)","v":""},{"$f":"IF('Entry Information'!$J40=\"\",\"\",IF('WALK TROT RESULTS'!M40=\"\",\"\",'WALK TROT RESULTS'!M40))","v":""},"",{"$f":"IF('Entry Information'!$J40=\"\",\"\",IF('Entry Information'!T40=\"\",N39,N39-100))","v":""},"",{"$f":"IF($L39=\"\",\"\",(VLOOKUP($P$41,Worksheet!$A$11:$AE$41,P39+1,FALSE)))","v":""},{"$f":"IF('Entry Information'!J40=\"\",\"\",'WALK TROT RESULTS'!R40)","v":""},{"$f":"IF('Entry Information'!$J40=\"\",\"\",IF('WALK TROT RESULTS'!S40=\"\",\"\",'WALK TROT RESULTS'!S40))","v":""},"",{"$f":"IF('Entry Information'!$J40=\"\",\"\",IF('Entry Information'!V40=\"\",T39,T39-100))","v":""},"",{"$f":"IF($R39=\"\",\"\",(VLOOKUP($V$41,Worksheet!$A$11:$AE$41,V39+1,FALSE)))","v":""},{"$f":"IF('Entry Information'!$J40=\"\",\"\",'WALK TROT RESULTS'!X40)","v":""},{"$f":"IF('Entry Information'!$J40=\"\",\"\",IF('WALK TROT RESULTS'!Y40=\"\",\"\",'WALK TROT RESULTS'!Y40))","v":""},"",{"$f":"IF('Entry Information'!$J40=\"\",\"\",IF('Entry Information'!X40=\"\",Z39,Z39-100))","v":""},"",{"$f":"IF($X39=\"\",\"\",(VLOOKUP($AB$41,Worksheet!$A$11:$AE$41,AB39+1,FALSE)))","v":""},{"$f":"IF('Entry Information'!$J40=\"\",\"\",'WALK TROT RESULTS'!AD40)","v":""},{"$f":"IF('Entry Information'!$J40=\"\",\"\",IF('WALK TROT RESULTS'!AE40=\"\",\"\",'WALK TROT RESULTS'!AE40))","v":""},"",{"$f":"IF('Entry Information'!$J40=\"\",\"\",IF('Entry Information'!Z40=\"\",AF39,AF39-100))","v":""},"",{"$f":"IF($AD39=\"\",\"\",(VLOOKUP($AH$41,Worksheet!$A$11:$AE$41,AH39+1,FALSE)))","v":""}]
[]
[null,null,null,null,null,null,null,null,null,{"$f":"COUNTIF(J10:J39,\">=0\")","v":3},null,null,null,null,null,{"$f":"COUNTIF(P10:P39,\">=0\")","v":3},null,null,null,null,null,{"$f":"COUNTIF(V10:V39,\">=0\")","v":3},null,null,null,null,null,{"$f":"COUNTIF(AB10:AB39,\">=0\")","v":3},null,null,null,null,null,{"$f":"COUNTIF(AH10:AH39,\">=0\")","v":3}]
[null,null,null,null,null,"1 - Total Penalty Points",null,null,null,null,null,"1 - Total Penalty Points",null,null,null,null,null,"1 - Total Penalty Points",null,null,null,null,null,"1 - Total Penalty Points",null,null,null,null,null,"1 - Total Penalty Points"]
[null,null,null,null,null,"2 - Extended Trot",null,null,null,null,null,"2 - Drag Log",null,null,null,null,null,"2 - Penning",null,null,null,null,null,"2 - Box Cow",null,null,null,null,null,"2 - Box Cow"]
[null,null,null,null,null,"3 - Transition down lope/walk/stop",null,null,null,null,null,"3 - Ground tie/bridle/pick-up legs",null,null,null,null,null,"3 - Working Center of arena",null,null,null,null,null,"3 -First Lead Change",null,null,null,null,null,"3 -First Lead Change"]
[null,null,null,null,null,"4 - Transition to lope/lope",null,null,null,null,null,"4 - Gate",null,null,null,null,null,"4 - Cut from Herd",null,null,null,null,null,"4 -Spin",null,null,null,null,null,"4 -Spin"]
[]
[]
["Scores in RED are ties - enter a 1 in the Tie Breaker Column of the winner to break tie.  If multiple ties enter a 1 for the second place and a 2 for winner."]
[]
[]
["Places highlighted have a major penatly."]

{"sheet":"NOVICE SELECT RESULTS","index":5,"n_rows":51,"n_cols":35,"rows_kept":51,"cut":false,"hidden":true,"merged":[[2,24,2,28],[2,29,2,34],[4,29,4,34],[1,0,1,2],[1,4,1,5],[1,9,1,16],[1,24,1,28],[1,29,1,34],[2,1,2,2],[2,4,2,5],[2,9,2,11],[4,17,4,22],[4,23,4,28],[4,5,4,10],[4,11,4,16],[5,5,5,10],[5,11,5,16],[6,5,8,5],[6,8,8,8],[6,12,8,12],[6,15,8,15],[6,16,8,16],[6,9,8,9],[6,10,8,10],[6,11,8,11],[6,32,8,32],[6,33,8,33],[6,34,8,34],[5,17,5,22],[5,23,5,28],[5,29,5,34],[6,31,8,31],[6,19,8,19],[6,20,8,20],[6,21,8,21],[6,22,8,22],[6,23,8,23],[6,17,8,17],[6,30,8,30],[6,28,8,28],[6,29,8,29],[47,0,48,4],[6,24,8,24],[6,25,8,25],[6,26,8,26],[6,27,8,27],[6,13,8,13],[6,14,8,14],[6,18,8,18],[6,6,8,6],[6,7,8,7]]}
[]
[null,null,null,null,"Event Name:",null,null,null,null,{"$f":"'Entry Information'!C4","v":"Ranch Horse Challenge"},null,null,null,null,null,null,null,null,null,null,null,null,null,null,"Judge #1 Name/Classes:",null,null,null,null,{"$f":"'Entry Information'!F4","v":"Mike Lund"}]
["Division:","NOVICE",null,null,"Event Date:",null,null,null,null,{"$f":"'Entry Information'!C5","v":"2018-03-25"},null,null,null,null,null,null,null,null,null,null,null,null,null,null,"Judge #2 Name/Classes:",null,null,null,null,{"$f":"'Entry Information'!F5","v":"Karen Arlin"}]
[]
[null,null,null,null,null,"RANCH",null,null,null,null,null,"RANCH",null,null,null,null,null,"RANCH",null,null,null,null,null,"RANCH",null,null,null,null,null,"RANCH"]
[null,null,null,null,null,"RIDING",null,null,null,null,null,"TRAIL",null,null,null,null,null,"CUTING",null,null,null,null,null,"REINED WORK",null,null,null,null,null,"COW WORK"]
[null,null,null,null,null,"Score","Tie Breaker","Adjusted Score for Ties","Adjusted Score Major Penalty","Place","Placement Points","Score","Tie Breaker","Adjusted Score for Ties","Adjusted Score Major Penalty","Place","Placement Points","Score","Tie Breaker","Adjusted Score for Ties","Adjusted Score Major Penalty","Place","Placement Points","Score","Tie Breaker","Adjusted Score for Ties","Adjusted Score Major Penalty","Place","Placement Points","Score","Tie Breaker","Adjusted Score for Ties","Adjusted Score Major Penalty","Place","Placement Points"]
[]
["Back No.","Last Name","First Name","Registered Horse Name","Division"]
[{"$f":"IF('Entry Information'!H11=\"\",\"\",'Entry Information'!B11)","v":""},{"$f":"IF('Entry Information'!H11=\"\",\"\",'Entry Information'!C11)","v":""},{"$f":"IF('Entry Information'!H11=\"\",\"\",'Entry Information'!D11)","v":""},{"$f":"IF('Entry Information'!H11=\"\",\"\",'Entry Information'!E11)","v":""},"NOV",{"$f":"IF('Entry Information'!H11=\"\",\"\",'WALK TROT RESULTS'!F11)","v":""},{"$f":"IF('Entry Information'!$H11=\"\",\"\",IF('WALK TROT RESULTS'!G11=\"\",\"\",'WALK TROT RESULTS'!G11))","v":""},{"$f":"IF(G10=\"\",F10,(F10+(G10*0.001)))","v":""},{"$f":"IF('Entry Information'!$H11=\"\",\"\",IF('Entry Information'!R11=\"\",H10,H10-100))","v":""},{"$f":"IF(I10=\"\",\"\",(RANK(I10,$I$10:$I$39,0)))","v":""},{"$f":"IF($F10=\"\",\"\",(VLOOKUP($J$41,Worksheet!$A$11:$AE$41,J10+1,FALSE)))","v":""},{"$f":"IF('Entry Information'!H11=\"\",\"\",'WALK TROT RESULTS'!L11)","v":""},{"$f":"IF('Entry Information'!$H11=\"\",\"\",IF('WALK TROT RESULTS'!M11=\"\",\"\",'WALK TROT RESULTS'!M11))","v":""},{"$f":"IF(M10=\"\",L10,(L10+(M10*0.001)))","v":""},{"$f":"IF('Entry Information'!$H11=\"\",\"\",IF('Entry Information'!T11=\"\",N10,N10-100))","v":""},{"$f":"IF(O10=\"\",\"\",(RANK(O10,$O$10:$O$39,0)))","v":""},{"$f":"IF($L10=\"\",\"\",(VLOOKUP($P$41,Worksheet!$A$11:$AE$41,P10+1,FALSE)))","v":""},{"$f":"IF('Entry Information'!H11=\"\",\"\",'WALK TROT RESULTS'!R11)","v":""},{"$f":"IF('Entry Information'!$H11=\"\",\"\",IF('WALK TROT RESULTS'!S11=\"\",\"\",'WALK TROT RESULTS'!S11))","v":""},{"$f":"IF(S10=\"\",R10,(R10+(S10*0.001)))","v":""},{"$f":"IF('Entry Information'!$H11=\"\",\"\",IF('Entry Information'!V11=\"\",T10,T10-100))","v":""},{"$f":"IF(U10=\"\",\"\",(RANK(U10,$U$10:$U$39,0)))","v":""},{"$f":"IF($R10=\"\",\"\",(VLOOKUP($V$41,Worksheet!$A$11:$AE$41,V10+1,FALSE)))","v":""},{"$f":"IF('Entry Information'!$H11=\"\",\"\",'WALK TROT RESULTS'!X11)","v":""},{"$f":"IF('Entry Information'!$H11=\"\",\"\",IF('WALK TROT RESULTS'!Y11=\"\",\"\",'WALK TROT RESULTS'!Y11))","v":""},{"$f":"IF(Y10=\"\",X10,(X10+(Y10*0.001)))","v":""},{"$f":"IF('Entry Information'!$H11=\"\",\"\",IF('Entry Information'!X11=\"\",Z10,Z10-100))","v":""},{"$f":"IF(AA10=\"\",\"\",(RANK(AA10,$AA$10:$AA$39,0)))","v":""},{"$f":"IF($X10=\"\",\"\",(VLOOKUP($AB$41,Worksheet!$A$11:$AE$41,AB10+1,FALSE)))","v":""},{"$f":"IF('Entry Information'!$H11=\"\",\"\",'WALK TROT RESULTS'!AD11)","v":""},{"$f":"IF('Entry Information'!$H11=\"\",\"\",IF('WALK TROT RESULTS'!AE11=\"\",\"\",'WALK TROT RESULTS'!AE11))","v":""},{"$f":"IF(AE10=\"\",AD10,(AD10+(AE10*0.001)))","v":""},{"$f":"IF('Entry Information'!$H11=\"\",\"\",IF('Entry Information'!Z11=\"\",AF10,AF10-100))","v":""},{"$f":"IF(AG10=\"\",\"\",(RANK(AG10,$AG$10:$AG$39,0)))","v":""},{"$f":"IF($AD10=\"\",\"\",(VLOOKUP($AH$41,Worksheet!$A$11:$AE$41,AH10+1,FALSE)))","v":""}]
[{"$f":"IF('Entry Information'!H12=\"\",\"\",'Entry Information'!B12)","v":""},{"$f":"IF('Entry Information'!H12=\"\",\"\",'Entry Information'!C12)","v":""},{"$f":"IF('Entry Information'!H12=\"\",\"\",'Entry Information'!D12)","v":""},{"$f":"IF('Entry Information'!H12=\"\",\"\",'Entry Information'!E12)","v":""},"NOV",{"$f":"IF('Entry Information'!H12=\"\",\"\",'WALK TROT RESULTS'!F12)","v":""},{"$f":"IF('Entry Information'!$H12=\"\",\"\",IF('WALK TROT RESULTS'!G12=\"\",\"\",'WALK TROT RESULTS'!G12))","v":""},{"$f":"IF(G11=\"\",F11,(F11+(G11*0.001)))","v":""},{"$f":"IF('Entry Information'!$H12=\"\",\"\",IF('Entry Information'!R12=\"\",H11,H11-100))","v":""},{"$f":"IF(I11=\"\",\"\",(RANK(I11,$I$10:$I$39,0)))","v":""},{"$f":"IF($F11=\"\",\"\",(VLOOKUP($J$41,Worksheet!$A$11:$AE$41,J11+1,FALSE)))","v":""},{"$f":"IF('Entry Information'!H12=\"\",\"\",'WALK TROT RESULTS'!L12)","v":""},{"$f":"IF('Entry Information'!$H12=\"\",\"\",IF('WALK TROT RESULTS'!M12=\"\",\"\",'WALK TROT RESULTS'!M12))","v":""},"",{"$f":"IF('Entry Information'!$H12=\"\",\"\",IF('Entry Information'!T12=\"\",N11,N11-100))","v":""},{"$f":"IF(O11=\"\",\"\",(RANK(O11,$O$10:$O$39,0)))","v":""},{"$f":"IF($L11=\"\",\"\",(VLOOKUP($P$41,Worksheet!$A$11:$AE$41,P11+1,FALSE)))","v":""},{"$f":"IF('Entry Information'!H12=\"\",\"\",'WALK TROT RESULTS'!R12)","v":""},{"$f":"IF('Entry Information'!$H12=\"\",\"\",IF('WALK TROT RESULTS'!S12=\"\",\"\",'WALK TROT RESULTS'!S12))","v":""},"",{"$f":"IF('Entry Information'!$H12=\"\",\"\",IF('Entry Information'!V12=\"\",T11,T11-100))","v":""},{"$f":"IF(U11=\"\",\"\",(RANK(U11,$U$10:$U$39,0)))","v":""},{"$f":"IF($R11=\"\",\"\",(VLOOKUP($V$41,Worksheet!$A$11:$AE$41,V11+1,FALSE)))","v":""},{"$f":"IF('Entry Information'!$H12=\"\",\"\",'WALK TROT RESULTS'!X12)","v":""},{"$f":"IF('Entry Information'!$H12=\"\",\"\",IF('WALK TROT RESULTS'!Y12=\"\",\"\",'WALK TROT RESULTS'!Y12))","v":""},{"$f":"IF(Y11=\"\",X11,(X11+(Y11*0.001)))","v":""},{"$f":"IF('Entry Information'!$H12=\"\",\"\",IF('Entry Information'!X12=\"\",Z11,Z11-100))","v":""},{"$f":"IF(AA11=\"\",\"\",(RANK(AA11,$AA$10:$AA$39,0)))","v":""},{"$f":"IF($X11=\"\",\"\",(VLOOKUP($AB$41,Worksheet!$A$11:$AE$41,AB11+1,FALSE)))","v":""},{"$f":"IF('Entry Information'!$H12=\"\",\"\",'WALK TROT RESULTS'!AD12)","v":""},{"$f":"IF('Entry Information'!$H12=\"\",\"\",IF('WALK TROT RESULTS'!AE12=\"\",\"\",'WALK TROT RESULTS'!AE12))","v":""},{"$f":"IF(AE11=\"\",AD11,(AD11+(AE11*0.001)))","v":""},{"$f":"IF('Entry Information'!$H12=\"\",\"\",IF('Entry Information'!Z12=\"\",AF11,AF11-100))","v":""},{"$f":"IF(AG11=\"\",\"\",(RANK(AG11,$AG$10:$AG$39,0)))","v":""},{"$f":"IF($AD11=\"\",\"\",(VLOOKUP($AH$41,Worksheet!$A$11:$AE$41,AH11+1,FALSE)))","v":""}]
[{"$f":"IF('Entry Information'!H13=\"\",\"\",'Entry Information'!B13)","v":""},{"$f":"IF('Entry Information'!H13=\"\",\"\",'Entry Information'!C13)","v":""},{"$f":"IF('Entry Information'!H13=\"\",\"\",'Entry Information'!D13)","v":""},{"$f":"IF('Entry Information'!H13=\"\",\"\",'Entry Information'!E13)","v":""},"NOV",{"$f":"IF('Entry Information'!H13=\"\",\"\",'WALK TROT RESULTS'!F13)","v":""},{"$f":"IF('Entry Information'!$H13=\"\",\"\",IF('WALK TROT RESULTS'!G13=\"\",\"\",'WALK TROT RESULTS'!G13))","v":""},"",{"$f":"IF('Entry Information'!$H13=\"\",\"\",IF('Entry Information'!R13=\"\",H12,H12-100))","v":""},"",{"$f":"IF($F12=\"\",\"\",(VLOOKUP($J$41,Worksheet!$A$11:$AE$41,J12+1,FALSE)))","v":""},{"$f":"IF('Entry Information'!H13=\"\",\"\",'WALK TROT RESULTS'!L13)","v":""},{"$f":"IF('Entry Information'!$H13=\"\",\"\",IF('WALK TROT RESULTS'!M13=\"\",\"\",'WALK TROT RESULTS'!M13))","v":""},"",{"$f":"IF('Entry Information'!$H13=\"\",\"\",IF('Entry Information'!T13=\"\",N12,N12-100))","v":""},"",{"$f":"IF($L12=\"\",\"\",(VLOOKUP($P$41,Worksheet!$A$11:$AE$41,P12+1,FALSE)))","v":""},{"$f":"IF('Entry Information'!H13=\"\",\"\",'WALK TROT RESULTS'!R13)","v":""},{"$f":"IF('Entry Information'!$H13=\"\",\"\",IF('WALK TROT RESULTS'!S13=\"\",\"\",'WALK TROT RESULTS'!S13))","v":""},"",{"$f":"IF('Entry Information'!$H13=\"\",\"\",IF('Entry Information'!V13=\"\",T12,T12-100))","v":""},"",{"$f":"IF($R12=\"\",\"\",(VLOOKUP($V$41,Worksheet!$A$11:$AE$41,V12+1,FALSE)))","v":""},{"$f":"IF('Entry Information'!$H13=\"\",\"\",'WALK TROT RESULTS'!X13)","v":""},{"$f":"IF('Entry Information'!$H13=\"\",\"\",IF('WALK TROT RESULTS'!Y13=\"\",\"\",'WALK TROT RESULTS'!Y13))","v":""},"",{"$f":"IF('Entry Information'!$H13=\"\",\"\",IF('Entry Information'!X13=\"\",Z12,Z12-100))","v":""},"",{"$f":"IF($X12=\"\",\"\",(VLOOKUP($AB$41,Worksheet!$A$11:$AE$41,AB12+1,FALSE)))","v":""},{"$f":"IF('Entry Information'!$H13=\"\",\"\",'WALK TROT RESULTS'!AD13)","v":""},{"$f":"IF('Entry Information'!$H13=\"\",\"\",IF('WALK TROT RESULTS'!AE13=\"\",\"\",'WALK TROT RESULTS'!AE13))","v":""},"",{"$f":"IF('Entry Information'!$H13=\"\",\"\",IF('Entry Information'!Z13=\"\",AF12,AF12-100))","v":""},"",{"$f":"IF($AD12=\"\",\"\",(VLOOKUP($AH$41,Worksheet!$A$11:$AE$41,AH12+1,FALSE)))","v":""}]
[{"$f":"IF('Entry Information'!H14=\"\",\"\",'Entry Information'!B14)","v":""},{"$f":"IF('Entry Information'!H14=\"\",\"\",'Entry Information'!C14)","v":""},{"$f":"IF('Entry Information'!H14=\"\",\"\",'Entry Information'!D14)","v":""},{"$f":"IF('Entry Information'!H14=\"\",\"\",'Entry Information'!E14)","v":""},"NOV",{"$f":"IF('Entry Information'!H14=\"\",\"\",'WALK TROT RESULTS'!F14)","v":""},{"$f":"IF('Entry Information'!$H14=\"\",\"\",IF('WALK TROT RESULTS'!G14=\"\",\"\",'WALK TROT RESULTS'!G14))","v":""},"",{"$f":"IF('Entry Information'!$H14=\"\",\"\",IF('Entry Information'!R14=\"\",H13,H13-100))","v":""},"",{"$f":"IF($F13=\"\",\"\",(VLOOKUP($J$41,Worksheet!$A$11:$AE$41,J13+1,FALSE)))","v":""},{"$f":"IF('Entry Information'!H14=\"\",\"\",'WALK TROT RESULTS'!L14)","v":""},{"$f":"IF('Entry Information'!$H14=\"\",\"\",IF('WALK TROT RESULTS'!M14=\"\",\"\",'WALK TROT RESULTS'!M14))","v":""},"",{"$f":"IF('Entry Information'!$H14=\"\",\"\",IF('Entry Information'!T14=\"\",N13,N13-100))","v":""},"",{"$f":"IF($L13=\"\",\"\",(VLOOKUP($P$41,Worksheet!$A$11:$AE$41,P13+1,FALSE)))","v":""},{"$f":"IF('Entry Information'!H14=\"\",\"\",'WALK TROT RESULTS'!R14)","v":""},{"$f":"IF('Entry Information'!$H14=\"\",\"\",IF('WALK TROT RESULTS'!S14=\"\",\"\",'WALK TROT RESULTS'!S14))","v":""},"",{"$f":"IF('Entry Information'!$H14=\"\",\"\",IF('Entry Information'!V14=\"\",T13,T13-100))","v":""},"",{"$f":"IF($R13=\"\",\"\",(VLOOKUP($V$41,Worksheet!$A$11:$AE$41,V13+1,FALSE)))","v":""},{"$f":"IF('Entry Information'!$H14=\"\",\"\",'WALK TROT RESULTS'!X14)","v":""},{"$f":"IF('Entry Information'!$H14=\"\",\"\",IF('WALK TROT RESULTS'!Y14=\"\",\"\",'WALK TROT RESULTS'!Y14))","v":""},"",{"$f":"IF('Entry Information'!$H14=\"\",\"\",IF('Entry Information'!X14=\"\",Z13,Z13-100))","v":""},"",{"$f":"IF($X13=\"\",\"\",(VLOOKUP($AB$41,Worksheet!$A$11:$AE$41,AB13+1,FALSE)))","v":""},{"$f":"IF('Entry Information'!$H14=\"\",\"\",'WALK TROT RESULTS'!AD14)","v":""},{"$f":"IF('Entry Information'!$H14=\"\",\"\",IF('WALK TROT RESULTS'!AE14=\"\",\"\",'WALK TROT RESULTS'!AE14))","v":""},"",{"$f":"IF('Entry Information'!$H14=\"\",\"\",IF('Entry Information'!Z14=\"\",AF13,AF13-100))","v":""},"",{"$f":"IF($AD13=\"\",\"\",(VLOOKUP($AH$41,Worksheet!$A$11:$AE$41,AH13+1,FALSE)))","v":""}]
[{"$f":"IF('Entry Information'!H15=\"\",\"\",'Entry Information'!B15)","v":""},{"$f":"IF('Entry Information'!H15=\"\",\"\",'Entry Information'!C15)","v":""},{"$f":"IF('Entry Information'!H15=\"\",\"\",'Entry Information'!D15)","v":""},{"$f":"IF('Entry Information'!H15=\"\",\"\",'Entry Information'!E15)","v":""},"NOV",{"$f":"IF('Entry Information'!H15=\"\",\"\",'WALK TROT RESULTS'!F15)","v":""},{"$f":"IF('Entry Information'!$H15=\"\",\"\",IF('WALK TROT RESULTS'!G15=\"\",\"\",'WALK TROT RESULTS'!G15))","v":""},"",{"$f":"IF('Entry Information'!$H15=\"\",\"\",IF('Entry Information'!R15=\"\",H14,H14-100))","v":""},"",{"$f":"IF($F14=\"\",\"\",(VLOOKUP($J$41,Worksheet!$A$11:$AE$41,J14+1,FALSE)))","v":""},{"$f":"IF('Entry Information'!H15=\"\",\"\",'WALK TROT RESULTS'!L15)","v":""},{"$f":"IF('Entry Information'!$H15=\"\",\"\",IF('WALK TROT RESULTS'!M15=\"\",\"\",'WALK TROT RESULTS'!M15))","v":""},"",{"$f":"IF('Entry Information'!$H15=\"\",\"\",IF('Entry Information'!T15=\"\",N14,N14-100))","v":""},"",{"$f":"IF($L14=\"\",\"\",(VLOOKUP($P$41,Worksheet!$A$11:$AE$41,P14+1,FALSE)))","v":""},{"$f":"IF('Entry Information'!H15=\"\",\"\",'WALK TROT RESULTS'!R15)","v":""},{"$f":"IF('Entry Information'!$H15=\"\",\"\",IF('WALK TROT RESULTS'!S15=\"\",\"\",'WALK TROT RESULTS'!S15))","v":""},"",{"$f":"IF('Entry Information'!$H15=\"\",\"\",IF('Entry Information'!V15=\"\",T14,T14-100))","v":""},"",{"$f":"IF($R14=\"\",\"\",(VLOOKUP($V$41,Worksheet!$A$11:$AE$41,V14+1,FALSE)))","v":""},{"$f":"IF('Entry Information'!$H15=\"\",\"\",'WALK TROT RESULTS'!X15)","v":""},{"$f":"IF('Entry Information'!$H15=\"\",\"\",IF('WALK TROT RESULTS'!Y15=\"\",\"\",'WALK TROT RESULTS'!Y15))","v":""},"",{"$f":"IF('Entry Information'!$H15=\"\",\"\",IF('Entry Information'!X15=\"\",Z14,Z14-100))","v":""},"",{"$f":"IF($X14=\"\",\"\",(VLOOKUP($AB$41,Worksheet!$A$11:$AE$41,AB14+1,FALSE)))","v":""},{"$f":"IF('Entry Information'!$H15=\"\",\"\",'WALK TROT RESULTS'!AD15)","v":""},{"$f":"IF('Entry Information'!$H15=\"\",\"\",IF('WALK TROT RESULTS'!AE15=\"\",\"\",'WALK TROT RESULTS'!AE15))","v":""},"",{"$f":"IF('Entry Information'!$H15=\"\",\"\",IF('Entry Information'!Z15=\"\",AF14,AF14-100))","v":""},"",{"$f":"IF($AD14=\"\",\"\",(VLOOKUP($AH$41,Worksheet!$A$11:$AE$41,AH14+1,FALSE)))","v":""}]
[{"$f":"IF('Entry Information'!H16=\"\",\"\",'Entry Information'!B16)","v":""},{"$f":"IF('Entry Information'!H16=\"\",\"\",'Entry Information'!C16)","v":""},{"$f":"IF('Entry Information'!H16=\"\",\"\",'Entry Information'!D16)","v":""},{"$f":"IF('Entry Information'!H16=\"\",\"\",'Entry Information'!E16)","v":""},"NOV",{"$f":"IF('Entry Information'!H16=\"\",\"\",'WALK TROT RESULTS'!F16)","v":""},{"$f":"IF('Entry Information'!$H16=\"\",\"\",IF('WALK TROT RESULTS'!G16=\"\",\"\",'WALK TROT RESULTS'!G16))","v":""},"",{"$f":"IF('Entry Information'!$H16=\"\",\"\",IF('Entry Information'!R16=\"\",H15,H15-100))","v":""},"",{"$f":"IF($F15=\"\",\"\",(VLOOKUP($J$41,Worksheet!$A$11:$AE$41,J15+1,FALSE)))","v":""},{"$f":"IF('Entry Information'!H16=\"\",\"\",'WALK TROT RESULTS'!L16)","v":""},{"$f":"IF('Entry Information'!$H16=\"\",\"\",IF('WALK TROT RESULTS'!M16=\"\",\"\",'WALK TROT RESULTS'!M16))","v":""},"",{"$f":"IF('Entry Information'!$H16=\"\",\"\",IF('Entry Information'!T16=\"\",N15,N15-100))","v":""},"",{"$f":"IF($L15=\"\",\"\",(VLOOKUP($P$41,Worksheet!$A$11:$AE$41,P15+1,FALSE)))","v":""},{"$f":"IF('Entry Information'!H16=\"\",\"\",'WALK TROT RESULTS'!R16)","v":""},{"$f":"IF('Entry Information'!$H16=\"\",\"\",IF('WALK TROT RESULTS'!S16=\"\",\"\",'WALK TROT RESULTS'!S16))","v":""},"",{"$f":"IF('Entry Information'!$H16=\"\",\"\",IF('Entry Information'!V16=\"\",T15,T15-100))","v":""},"",{"$f":"IF($R15=\"\",\"\",(VLOOKUP($V$41,Worksheet!$A$11:$AE$41,V15+1,FALSE)))","v":""},{"$f":"IF('Entry Information'!$H16=\"\",\"\",'WALK TROT RESULTS'!X16)","v":""},{"$f":"IF('Entry Information'!$H16=\"\",\"\",IF('WALK TROT RESULTS'!Y16=\"\",\"\",'WALK TROT RESULTS'!Y16))","v":""},"",{"$f":"IF('Entry Information'!$H16=\"\",\"\",IF('Entry Information'!X16=\"\",Z15,Z15-100))","v":""},"",{"$f":"IF($X15=\"\",\"\",(VLOOKUP($AB$41,Worksheet!$A$11:$AE$41,AB15+1,FALSE)))","v":""},{"$f":"IF('Entry Information'!$H16=\"\",\"\",'WALK TROT RESULTS'!AD16)","v":""},{"$f":"IF('Entry Information'!$H16=\"\",\"\",IF('WALK TROT RESULTS'!AE16=\"\",\"\",'WALK TROT RESULTS'!AE16))","v":""},"",{"$f":"IF('Entry Information'!$H16=\"\",\"\",IF('Entry Information'!Z16=\"\",AF15,AF15-100))","v":""},"",{"$f":"IF($AD15=\"\",\"\",(VLOOKUP($AH$41,Worksheet!$A$11:$AE$41,AH15+1,FALSE)))","v":""}]
[{"$f":"IF('Entry Information'!H17=\"\",\"\",'Entry Information'!B17)","v":""},{"$f":"IF('Entry Information'!H17=\"\",\"\",'Entry Information'!C17)","v":""},{"$f":"IF('Entry Information'!H17=\"\",\"\",'Entry Information'!D17)","v":""},{"$f":"IF('Entry Information'!H17=\"\",\"\",'Entry Information'!E17)","v":""},"NOV",{"$f":"IF('Entry Information'!H17=\"\",\"\",'WALK TROT RESULTS'!F17)","v":""},{"$f":"IF('Entry Information'!$H17=\"\",\"\",IF('WALK TROT RESULTS'!G17=\"\",\"\",'WALK TROT RESULTS'!G17))","v":""},"",{"$f":"IF('Entry Information'!$H17=\"\",\"\",IF('Entry Information'!R17=\"\",H16,H16-100))","v":""},"",{"$f":"IF($F16=\"\",\"\",(VLOOKUP($J$41,Worksheet!$A$11:$AE$41,J16+1,FALSE)))","v":""},{"$f":"IF('Entry Information'!H17=\"\",\"\",'WALK TROT RESULTS'!L17)","v":""},{"$f":"IF('Entry Information'!$H17=\"\",\"\",IF('WALK TROT RESULTS'!M17=\"\",\"\",'WALK TROT RESULTS'!M17))","v":""},"",{"$f":"IF('Entry Information'!$H17=\"\",\"\",IF('Entry Information'!T17=\"\",N16,N16-100))","v":""},"",{"$f":"IF($L16=\"\",\"\",(VLOOKUP($P$41,Worksheet!$A$11:$AE$41,P16+1,FALSE)))","v":""},{"$f":"IF('Entry Information'!H17=\"\",\"\",'WALK TROT RESULTS'!R17)","v":""},{"$f":"IF('Entry Information'!$H17=\"\",\"\",IF('WALK TROT RESULTS'!S17=\"\",\"\",'WALK TROT RESULTS'!S17))","v":""},"",{"$f":"IF('Entry Information'!$H17=\"\",\"\",IF('Entry Information'!V17=\"\",T16,T16-100))","v":""},"",{"$f":"IF($R16=\"\",\"\",(VLOOKUP($V$41,Worksheet!$A$11:$AE$41,V16+1,FALSE)))","v":""},{"$f":"IF('Entry Information'!$H17=\"\",\"\",'WALK TROT RESULTS'!X17)","v":""},{"$f":"IF('Entry Information'!$H17=\"\",\"\",IF('WALK TROT RESULTS'!Y17=\"\",\"\",'WALK TROT RESULTS'!Y17))","v":""},"",{"$f":"IF('Entry Information'!$H17=\"\",\"\",IF('Entry Information'!X17=\"\",Z16,Z16-100))","v":""},"",{"$f":"IF($X16=\"\",\"\",(VLOOKUP($AB$41,Worksheet!$A$11:$AE$41,AB16+1,FALSE)))","v":""},{"$f":"IF('Entry Information'!$H17=\"\",\"\",'WALK TROT RESULTS'!AD17)","v":""},{"$f":"IF('Entry Information'!$H17=\"\",\"\",IF('WALK TROT RESULTS'!AE17=\"\",\"\",'WALK TROT RESULTS'!AE17))","v":""},"",{"$f":"IF('Entry Information'!$H17=\"\",\"\",IF('Entry Information'!Z17=\"\",AF16,AF16-100))","v":""},"",{"$f":"IF($AD16=\"\",\"\",(VLOOKUP($AH$41,Worksheet!$A$11:$AE$41,AH16+1,FALSE)))","v":""}]
[{"$f":"IF('Entry Information'!H18=\"\",\"\",'Entry Information'!B18)","v":""},{"$f":"IF('Entry Information'!H18=\"\",\"\",'Entry Information'!C18)","v":""},{"$f":"IF('Entry Information'!H18=\"\",\"\",'Entry Information'!D18)","v":""},{"$f":"IF('Entry Information'!H18=\"\",\"\",'Entry Information'!E18)","v":""},"NOV",{"$f":"IF('Entry Information'!H18=\"\",\"\",'WALK TROT RESULTS'!F18)","v":""},{"$f":"IF('Entry Information'!$H18=\"\",\"\",IF('WALK TROT RESULTS'!G18=\"\",\"\",'WALK TROT RESULTS'!G18))","v":""},"",{"$f":"IF('Entry Information'!$H18=\"\",\"\",IF('Entry Information'!R18=\"\",H17,H17-100))","v":""},"",{"$f":"IF($F17=\"\",\"\",(VLOOKUP($J$41,Worksheet!$A$11:$AE$41,J17+1,FALSE)))","v":""},{"$f":"IF('Entry Information'!H18=\"\",\"\",'WALK TROT RESULTS'!L18)","v":""},{"$f":"IF('Entry Information'!$H18=\"\",\"\",IF('WALK TROT RESULTS'!M18=\"\",\"\",'WALK TROT RESULTS'!M18))","v":""},"",{"$f":"IF('Entry Information'!$H18=\"\",\"\",IF('Entry Information'!T18=\"\",N17,N17-100))","v":""},"",{"$f":"IF($L17=\"\",\"\",(VLOOKUP($P$41,Worksheet!$A$11:$AE$41,P17+1,FALSE)))","v":""},{"$f":"IF('Entry Information'!H18=\"\",\"\",'WALK TROT RESULTS'!R18)","v":""},{"$f":"IF('Entry Information'!$H18=\"\",\"\",IF('WALK TROT RESULTS'!S18=\"\",\"\",'WALK TROT RESULTS'!S18))","v":""},"",{"$f":"IF('Entry Information'!$H18=\"\",\"\",IF('Entry Information'!V18=\"\",T17,T17-100))","v":""},"",{"$f":"IF($R17=\"\",\"\",(VLOOKUP($V$41,Worksheet!$A$11:$AE$41,V17+1,FALSE)))","v":""},{"$f":"IF('Entry Information'!$H18=\"\",\"\",'WALK TROT RESULTS'!X18)","v":""},{"$f":"IF('Entry Information'!$H18=\"\",\"\",IF('WALK TROT RESULTS'!Y18=\"\",\"\",'WALK TROT RESULTS'!Y18))","v":""},"",{"$f":"IF('Entry Information'!$H18=\"\",\"\",IF('Entry Information'!X18=\"\",Z17,Z17-100))","v":""},"",{"$f":"IF($X17=\"\",\"\",(VLOOKUP($AB$41,Worksheet!$A$11:$AE$41,AB17+1,FALSE)))","v":""},{"$f":"IF('Entry Information'!$H18=\"\",\"\",'WALK TROT RESULTS'!AD18)","v":""},{"$f":"IF('Entry Information'!$H18=\"\",\"\",IF('WALK TROT RESULTS'!AE18=\"\",\"\",'WALK TROT RESULTS'!AE18))","v":""},"",{"$f":"IF('Entry Information'!$H18=\"\",\"\",IF('Entry Information'!Z18=\"\",AF17,AF17-100))","v":""},"",{"$f":"IF($AD17=\"\",\"\",(VLOOKUP($AH$41,Worksheet!$A$11:$AE$41,AH17+1,FALSE)))","v":""}]
[{"$f":"IF('Entry Information'!H19=\"\",\"\",'Entry Information'!B19)","v":""},{"$f":"IF('Entry Information'!H19=\"\",\"\",'Entry Information'!C19)","v":""},{"$f":"IF('Entry Information'!H19=\"\",\"\",'Entry Information'!D19)","v":""},{"$f":"IF('Entry Information'!H19=\"\",\"\",'Entry Information'!E19)","v":""},"NOV",{"$f":"IF('Entry Information'!H19=\"\",\"\",'WALK TROT RESULTS'!F19)","v":""},{"$f":"IF('Entry Information'!$H19=\"\",\"\",IF('WALK TROT RESULTS'!G19=\"\",\"\",'WALK TROT RESULTS'!G19))","v":""},"",{"$f":"IF('Entry Information'!$H19=\"\",\"\",IF('Entry Information'!R19=\"\",H18,H18-100))","v":""},"",{"$f":"IF($F18=\"\",\"\",(VLOOKUP($J$41,Worksheet!$A$11:$AE$41,J18+1,FALSE)))","v":""},{"$f":"IF('Entry Information'!H19=\"\",\"\",'WALK TROT RESULTS'!L19)","v":""},{"$f":"IF('Entry Information'!$H19=\"\",\"\",IF('WALK TROT RESULTS'!M19=\"\",\"\",'WALK TROT RESULTS'!M19))","v":""},"",{"$f":"IF('Entry Information'!$H19=\"\",\"\",IF('Entry Information'!T19=\"\",N18,N18-100))","v":""},"",{"$f":"IF($L18=\"\",\"\",(VLOOKUP($P$41,Worksheet!$A$11:$AE$41,P18+1,FALSE)))","v":""},{"$f":"IF('Entry Information'!H19=\"\",\"\",'WALK TROT RESULTS'!R19)","v":""},{"$f":"IF('Entry Information'!$H19=\"\",\"\",IF('WALK TROT RESULTS'!S19=\"\",\"\",'WALK TROT RESULTS'!S19))","v":""},"",{"$f":"IF('Entry Information'!$H19=\"\",\"\",IF('Entry Information'!V19=\"\",T18,T18-100))","v":""},"",{"$f":"IF($R18=\"\",\"\",(VLOOKUP($V$41,Worksheet!$A$11:$AE$41,V18+1,FALSE)))","v":""},{"$f":"IF('Entry Information'!$H19=\"\",\"\",'WALK TROT RESULTS'!X19)","v":""},{"$f":"IF('Entry Information'!$H19=\"\",\"\",IF('WALK TROT RESULTS'!Y19=\"\",\"\",'WALK TROT RESULTS'!Y19))","v":""},"",{"$f":"IF('Entry Information'!$H19=\"\",\"\",IF('Entry Information'!X19=\"\",Z18,Z18-100))","v":""},"",{"$f":"IF($X18=\"\",\"\",(VLOOKUP($AB$41,Worksheet!$A$11:$AE$41,AB18+1,FALSE)))","v":""},{"$f":"IF('Entry Information'!$H19=\"\",\"\",'WALK TROT RESULTS'!AD19)","v":""},{"$f":"IF('Entry Information'!$H19=\"\",\"\",IF('WALK TROT RESULTS'!AE19=\"\",\"\",'WALK TROT RESULTS'!AE19))","v":""},"",{"$f":"IF('Entry Information'!$H19=\"\",\"\",IF('Entry Information'!Z19=\"\",AF18,AF18-100))","v":""},"",{"$f":"IF($AD18=\"\",\"\",(VLOOKUP($AH$41,Worksheet!$A$11:$AE$41,AH18+1,FALSE)))","v":""}]
[{"$f":"IF('Entry Information'!H20=\"\",\"\",'Entry Information'!B20)","v":""},{"$f":"IF('Entry Information'!H20=\"\",\"\",'Entry Information'!C20)","v":""},{"$f":"IF('Entry Information'!H20=\"\",\"\",'Entry Information'!D20)","v":""},{"$f":"IF('Entry Information'!H20=\"\",\"\",'Entry Information'!E20)","v":""},"NOV",{"$f":"IF('Entry Information'!H20=\"\",\"\",'WALK TROT RESULTS'!F20)","v":""},{"$f":"IF('Entry Information'!$H20=\"\",\"\",IF('WALK TROT RESULTS'!G20=\"\",\"\",'WALK TROT RESULTS'!G20))","v":""},"",{"$f":"IF('Entry Information'!$H20=\"\",\"\",IF('Entry Information'!R20=\"\",H19,H19-100))","v":""},"",{"$f":"IF($F19=\"\",\"\",(VLOOKUP($J$41,Worksheet!$A$11:$AE$41,J19+1,FALSE)))","v":""},{"$f":"IF('Entry Information'!H20=\"\",\"\",'WALK TROT RESULTS'!L20)","v":""},{"$f":"IF('Entry Information'!$H20=\"\",\"\",IF('WALK TROT RESULTS'!M20=\"\",\"\",'WALK TROT RESULTS'!M20))","v":""},"",{"$f":"IF('Entry Information'!$H20=\"\",\"\",IF('Entry Information'!T20=\"\",N19,N19-100))","v":""},"",{"$f":"IF($L19=\"\",\"\",(VLOOKUP($P$41,Worksheet!$A$11:$AE$41,P19+1,FALSE)))","v":""},{"$f":"IF('Entry Information'!H20=\"\",\"\",'WALK TROT RESULTS'!R20)","v":""},{"$f":"IF('Entry Information'!$H20=\"\",\"\",IF('WALK TROT RESULTS'!S20=\"\",\"\",'WALK TROT RESULTS'!S20))","v":""},"",{"$f":"IF('Entry Information'!$H20=\"\",\"\",IF('Entry Information'!V20=\"\",T19,T19-100))","v":""},"",{"$f":"IF($R19=\"\",\"\",(VLOOKUP($V$41,Worksheet!$A$11:$AE$41,V19+1,FALSE)))","v":""},{"$f":"IF('Entry Information'!$H20=\"\",\"\",'WALK TROT RESULTS'!X20)","v":""},{"$f":"IF('Entry Information'!$H20=\"\",\"\",IF('WALK TROT RESULTS'!Y20=\"\",\"\",'WALK TROT RESULTS'!Y20))","v":""},"",{"$f":"IF('Entry Information'!$H20=\"\",\"\",IF('Entry Information'!X20=\"\",Z19,Z19-100))","v":""},"",{"$f":"IF($X19=\"\",\"\",(VLOOKUP($AB$41,Worksheet!$A$11:$AE$41,AB19+1,FALSE)))","v":""},{"$f":"IF('Entry Information'!$H20=\"\",\"\",'WALK TROT RESULTS'!AD20)","v":""},{"$f":"IF('Entry Information'!$H20=\"\",\"\",IF('WALK TROT RESULTS'!AE20=\"\",\"\",'WALK TROT RESULTS'!AE20))","v":""},"",{"$f":"IF('Entry Information'!$H20=\"\",\"\",IF('Entry Information'!Z20=\"\",AF19,AF19-100))","v":""},"",{"$f":"IF($AD19=\"\",\"\",(VLOOKUP($AH$41,Worksheet!$A$11:$AE$41,AH19+1,FALSE)))","v":""}]
[{"$f":"IF('Entry Information'!H21=\"\",\"\",'Entry Information'!B21)","v":""},{"$f":"IF('Entry Information'!H21=\"\",\"\",'Entry Information'!C21)","v":""},{"$f":"IF('Entry Information'!H21=\"\",\"\",'Entry Information'!D21)","v":""},{"$f":"IF('Entry Information'!H21=\"\",\"\",'Entry Information'!E21)","v":""},"NOV",{"$f":"IF('Entry Information'!H21=\"\",\"\",'WALK TROT RESULTS'!F21)","v":""},{"$f":"IF('Entry Information'!$H21=\"\",\"\",IF('WALK TROT RESULTS'!G21=\"\",\"\",'WALK TROT RESULTS'!G21))","v":""},"",{"$f":"IF('Entry Information'!$H21=\"\",\"\",IF('Entry Information'!R21=\"\",H20,H20-100))","v":""},"",{"$f":"IF($F20=\"\",\"\",(VLOOKUP($J$41,Worksheet!$A$11:$AE$41,J20+1,FALSE)))","v":""},{"$f":"IF('Entry Information'!H21=\"\",\"\",'WALK TROT RESULTS'!L21)","v":""},{"$f":"IF('Entry Information'!$H21=\"\",\"\",IF('WALK TROT RESULTS'!M21=\"\",\"\",'WALK TROT RESULTS'!M21))","v":""},"",{"$f":"IF('Entry Information'!$H21=\"\",\"\",IF('Entry Information'!T21=\"\",N20,N20-100))","v":""},"",{"$f":"IF($L20=\"\",\"\",(VLOOKUP($P$41,Worksheet!$A$11:$AE$41,P20+1,FALSE)))","v":""},{"$f":"IF('Entry Information'!H21=\"\",\"\",'WALK TROT RESULTS'!R21)","v":""},{"$f":"IF('Entry Information'!$H21=\"\",\"\",IF('WALK TROT RESULTS'!S21=\"\",\"\",'WALK TROT RESULTS'!S21))","v":""},"",{"$f":"IF('Entry Information'!$H21=\"\",\"\",IF('Entry Information'!V21=\"\",T20,T20-100))","v":""},"",{"$f":"IF($R20=\"\",\"\",(VLOOKUP($V$41,Worksheet!$A$11:$AE$41,V20+1,FALSE)))","v":""},{"$f":"IF('Entry Information'!$H21=\"\",\"\",'WALK TROT RESULTS'!X21)","v":""},{"$f":"IF('Entry Information'!$H21=\"\",\"\",IF('WALK TROT RESULTS'!Y21=\"\",\"\",'WALK TROT RESULTS'!Y21))","v":""},"",{"$f":"IF('Entry Information'!$H21=\"\",\"\",IF('Entry Information'!X21=\"\",Z20,Z20-100))","v":""},"",{"$f":"IF($X20=\"\",\"\",(VLOOKUP($AB$41,Worksheet!$A$11:$AE$41,AB20+1,FALSE)))","v":""},{"$f":"IF('Entry Information'!$H21=\"\",\"\",'WALK TROT RESULTS'!AD21)","v":""},{"$f":"IF('Entry Information'!$H21=\"\",\"\",IF('WALK TROT RESULTS'!AE21=\"\",\"\",'WALK TROT RESULTS'!AE21))","v":""},"",{"$f":"IF('Entry Information'!$H21=\"\",\"\",IF('Entry Information'!Z21=\"\",AF20,AF20-100))","v":""},"",{"$f":"IF($AD20=\"\",\"\",(VLOOKUP($AH$41,Worksheet!$A$11:$AE$41,AH20+1,FALSE)))","v":""}]
[{"$f":"IF('Entry Information'!H22=\"\",\"\",'Entry Information'!B22)","v":""},{"$f":"IF('Entry Information'!H22=\"\",\"\",'Entry Information'!C22)","v":""},{"$f":"IF('Entry Information'!H22=\"\",\"\",'Entry Information'!D22)","v":""},{"$f":"IF('Entry Information'!H22=\"\",\"\",'Entry Information'!E22)","v":""},"NOV",{"$f":"IF('Entry Information'!H22=\"\",\"\",'WALK TROT RESULTS'!F22)","v":""},{"$f":"IF('Entry Information'!$H22=\"\",\"\",IF('WALK TROT RESULTS'!G22=\"\",\"\",'WALK TROT RESULTS'!G22))","v":""},"",{"$f":"IF('Entry Information'!$H22=\"\",\"\",IF('Entry Information'!R22=\"\",H21,H21-100))","v":""},"",{"$f":"IF($F21=\"\",\"\",(VLOOKUP($J$41,Worksheet!$A$11:$AE$41,J21+1,FALSE)))","v":""},{"$f":"IF('Entry Information'!H22=\"\",\"\",'WALK TROT RESULTS'!L22)","v":""},{"$f":"IF('Entry Information'!$H22=\"\",\"\",IF('WALK TROT RESULTS'!M22=\"\",\"\",'WALK TROT RESULTS'!M22))","v":""},"",{"$f":"IF('Entry Information'!$H22=\"\",\"\",IF('Entry Information'!T22=\"\",N21,N21-100))","v":""},"",{"$f":"IF($L21=\"\",\"\",(VLOOKUP($P$41,Worksheet!$A$11:$AE$41,P21+1,FALSE)))","v":""},{"$f":"IF('Entry Information'!H22=\"\",\"\",'WALK TROT RESULTS'!R22)","v":""},{"$f":"IF('Entry Information'!$H22=\"\",\"\",IF('WALK TROT RESULTS'!S22=\"\",\"\",'WALK TROT RESULTS'!S22))","v":""},"",{"$f":"IF('Entry Information'!$H22=\"\",\"\",IF('Entry Information'!V22=\"\",T21,T21-100))","v":""},"",{"$f":"IF($R21=\"\",\"\",(VLOOKUP($V$41,Worksheet!$A$11:$AE$41,V21+1,FALSE)))","v":""},{"$f":"IF('Entry Information'!$H22=\"\",\"\",'WALK TROT RESULTS'!X22)","v":""},{"$f":"IF('Entry Information'!$H22=\"\",\"\",IF('WALK TROT RESULTS'!Y22=\"\",\"\",'WALK TROT RESULTS'!Y22))","v":""},"",{"$f":"IF('Entry Information'!$H22=\"\",\"\",IF('Entry Information'!X22=\"\",Z21,Z21-100))","v":""},"",{"$f":"IF($X21=\"\",\"\",(VLOOKUP($AB$41,Worksheet!$A$11:$AE$41,AB21+1,FALSE)))","v":""},{"$f":"IF('Entry Information'!$H22=\"\",\"\",'WALK TROT RESULTS'!AD22)","v":""},{"$f":"IF('Entry Information'!$H22=\"\",\"\",IF('WALK TROT RESULTS'!AE22=\"\",\"\",'WALK TROT RESULTS'!AE22))","v":""},"",{"$f":"IF('Entry Information'!$H22=\"\",\"\",IF('Entry Information'!Z22=\"\",AF21,AF21-100))","v":""},"",{"$f":"IF($AD21=\"\",\"\",(VLOOKUP($AH$41,Worksheet!$A$11:$AE$41,AH21+1,FALSE)))","v":""}]
[{"$f":"IF('Entry Information'!H23=\"\",\"\",'Entry Information'!B23)","v":""},{"$f":"IF('Entry Information'!H23=\"\",\"\",'Entry Information'!C23)","v":""},{"$f":"IF('Entry Information'!H23=\"\",\"\",'Entry Information'!D23)","v":""},{"$f":"IF('Entry Information'!H23=\"\",\"\",'Entry Information'!E23)","v":""},"NOV",{"$f":"IF('Entry Information'!H23=\"\",\"\",'WALK TROT RESULTS'!F23)","v":""},{"$f":"IF('Entry Information'!$H23=\"\",\"\",IF('WALK TROT RESULTS'!G23=\"\",\"\",'WALK TROT RESULTS'!G23))","v":""},"",{"$f":"IF('Entry Information'!$H23=\"\",\"\",IF('Entry Information'!R23=\"\",H22,H22-100))","v":""},"",{"$f":"IF($F22=\"\",\"\",(VLOOKUP($J$41,Worksheet!$A$11:$AE$41,J22+1,FALSE)))","v":""},{"$f":"IF('Entry Information'!H23=\"\",\"\",'WALK TROT RESULTS'!L23)","v":""},{"$f":"IF('Entry Information'!$H23=\"\",\"\",IF('WALK TROT RESULTS'!M23=\"\",\"\",'WALK TROT RESULTS'!M23))","v":""},"",{"$f":"IF('Entry Information'!$H23=\"\",\"\",IF('Entry Information'!T23=\"\",N22,N22-100))","v":""},"",{"$f":"IF($L22=\"\",\"\",(VLOOKUP($P$41,Worksheet!$A$11:$AE$41,P22+1,FALSE)))","v":""},{"$f":"IF('Entry Information'!H23=\"\",\"\",'WALK TROT RESULTS'!R23)","v":""},{"$f":"IF('Entry Information'!$H23=\"\",\"\",IF('WALK TROT RESULTS'!S23=\"\",\"\",'WALK TROT RESULTS'!S23))","v":""},"",{"$f":"IF('Entry Information'!$H23=\"\",\"\",IF('Entry Information'!V23=\"\",T22,T22-100))","v":""},"",{"$f":"IF($R22=\"\",\"\",(VLOOKUP($V$41,Worksheet!$A$11:$AE$41,V22+1,FALSE)))","v":""},{"$f":"IF('Entry Information'!$H23=\"\",\"\",'WALK TROT RESULTS'!X23)","v":""},{"$f":"IF('Entry Information'!$H23=\"\",\"\",IF('WALK TROT RESULTS'!Y23=\"\",\"\",'WALK TROT RESULTS'!Y23))","v":""},"",{"$f":"IF('Entry Information'!$H23=\"\",\"\",IF('Entry Information'!X23=\"\",Z22,Z22-100))","v":""},"",{"$f":"IF($X22=\"\",\"\",(VLOOKUP($AB$41,Worksheet!$A$11:$AE$41,AB22+1,FALSE)))","v":""},{"$f":"IF('Entry Information'!$H23=\"\",\"\",'WALK TROT RESULTS'!AD23)","v":""},{"$f":"IF('Entry Information'!$H23=\"\",\"\",IF('WALK TROT RESULTS'!AE23=\"\",\"\",'WALK TROT RESULTS'!AE23))","v":""},"",{"$f":"IF('Entry Information'!$H23=\"\",\"\",IF('Entry Information'!Z23=\"\",AF22,AF22-100))","v":""},"",{"$f":"IF($AD22=\"\",\"\",(VLOOKUP($AH$41,Worksheet!$A$11:$AE$41,AH22+1,FALSE)))","v":""}]
[{"$f":"IF('Entry Information'!H24=\"\",\"\",'Entry Information'!B24)","v":""},{"$f":"IF('Entry Information'!H24=\"\",\"\",'Entry Information'!C24)","v":""},{"$f":"IF('Entry Information'!H24=\"\",\"\",'Entry Information'!D24)","v":""},{"$f":"IF('Entry Information'!H24=\"\",\"\",'Entry Information'!E24)","v":""},"NOV",{"$f":"IF('Entry Information'!H24=\"\",\"\",'WALK TROT RESULTS'!F24)","v":""},{"$f":"IF('Entry Information'!$H24=\"\",\"\",IF('WALK TROT RESULTS'!G24=\"\",\"\",'WALK TROT RESULTS'!G24))","v":""},"",{"$f":"IF('Entry Information'!$H24=\"\",\"\",IF('Entry Information'!R24=\"\",H23,H23-100))","v":""},"",{"$f":"IF($F23=\"\",\"\",(VLOOKUP($J$41,Worksheet!$A$11:$AE$41,J23+1,FALSE)))","v":""},{"$f":"IF('Entry Information'!H24=\"\",\"\",'WALK TROT RESULTS'!L24)","v":""},{"$f":"IF('Entry Information'!$H24=\"\",\"\",IF('WALK TROT RESULTS'!M24=\"\",\"\",'WALK TROT RESULTS'!M24))","v":""},"",{"$f":"IF('Entry Information'!$H24=\"\",\"\",IF('Entry Information'!T24=\"\",N23,N23-100))","v":""},"",{"$f":"IF($L23=\"\",\"\",(VLOOKUP($P$41,Worksheet!$A$11:$AE$41,P23+1,FALSE)))","v":""},{"$f":"IF('Entry Information'!H24=\"\",\"\",'WALK TROT RESULTS'!R24)","v":""},{"$f":"IF('Entry Information'!$H24=\"\",\"\",IF('WALK TROT RESULTS'!S24=\"\",\"\",'WALK TROT RESULTS'!S24))","v":""},"",{"$f":"IF('Entry Information'!$H24=\"\",\"\",IF('Entry Information'!V24=\"\",T23,T23-100))","v":""},"",{"$f":"IF($R23=\"\",\"\",(VLOOKUP($V$41,Worksheet!$A$11:$AE$41,V23+1,FALSE)))","v":""},{"$f":"IF('Entry Information'!$H24=\"\",\"\",'WALK TROT RESULTS'!X24)","v":""},{"$f":"IF('Entry Information'!$H24=\"\",\"\",IF('WALK TROT RESULTS'!Y24=\"\",\"\",'WALK TROT RESULTS'!Y24))","v":""},"",{"$f":"IF('Entry Information'!$H24=\"\",\"\",IF('Entry Information'!X24=\"\",Z23,Z23-100))","v":""},"",{"$f":"IF($X23=\"\",\"\",(VLOOKUP($AB$41,Worksheet!$A$11:$AE$41,AB23+1,FALSE)))","v":""},{"$f":"IF('Entry Information'!$H24=\"\",\"\",'WALK TROT RESULTS'!AD24)","v":""},{"$f":"IF('Entry Information'!$H24=\"\",\"\",IF('WALK TROT RESULTS'!AE24=\"\",\"\",'WALK TROT RESULTS'!AE24))","v":""},"",{"$f":"IF('Entry Information'!$H24=\"\",\"\",IF('Entry Information'!Z24=\"\",AF23,AF23-100))","v":""},"",{"$f":"IF($AD23=\"\",\"\",(VLOOKUP($AH$41,Worksheet!$A$11:$AE$41,AH23+1,FALSE)))","v":""}]
[{"$f":"IF('Entry Information'!H25=\"\",\"\",'Entry Information'!B25)","v":""},{"$f":"IF('Entry Information'!H25=\"\",\"\",'Entry Information'!C25)","v":""},{"$f":"IF('Entry Information'!H25=\"\",\"\",'Entry Information'!D25)","v":""},{"$f":"IF('Entry Information'!H25=\"\",\"\",'Entry Information'!E25)","v":""},"NOV",{"$f":"IF('Entry Information'!H25=\"\",\"\",'WALK TROT RESULTS'!F25)","v":""},{"$f":"IF('Entry Information'!$H25=\"\",\"\",IF('WALK TROT RESULTS'!G25=\"\",\"\",'WALK TROT RESULTS'!G25))","v":""},"",{"$f":"IF('Entry Information'!$H25=\"\",\"\",IF('Entry Information'!R25=\"\",H24,H24-100))","v":""},"",{"$f":"IF($F24=\"\",\"\",(VLOOKUP($J$41,Worksheet!$A$11:$AE$41,J24+1,FALSE)))","v":""},{"$f":"IF('Entry Information'!H25=\"\",\"\",'WALK TROT RESULTS'!L25)","v":""},{"$f":"IF('Entry Information'!$H25=\"\",\"\",IF('WALK TROT RESULTS'!M25=\"\",\"\",'WALK TROT RESULTS'!M25))","v":""},"",{"$f":"IF('Entry Information'!$H25=\"\",\"\",IF('Entry Information'!T25=\"\",N24,N24-100))","v":""},"",{"$f":"IF($L24=\"\",\"\",(VLOOKUP($P$41,Worksheet!$A$11:$AE$41,P24+1,FALSE)))","v":""},{"$f":"IF('Entry Information'!H25=\"\",\"\",'WALK TROT RESULTS'!R25)","v":""},{"$f":"IF('Entry Information'!$H25=\"\",\"\",IF('WALK TROT RESULTS'!S25=\"\",\"\",'WALK TROT RESULTS'!S25))","v":""},"",{"$f":"IF('Entry Information'!$H25=\"\",\"\",IF('Entry Information'!V25=\"\",T24,T24-100))","v":""},"",{"$f":"IF($R24=\"\",\"\",(VLOOKUP($V$41,Worksheet!$A$11:$AE$41,V24+1,FALSE)))","v":""},{"$f":"IF('Entry Information'!$H25=\"\",\"\",'WALK TROT RESULTS'!X25)","v":""},{"$f":"IF('Entry Information'!$H25=\"\",\"\",IF('WALK TROT RESULTS'!Y25=\"\",\"\",'WALK TROT RESULTS'!Y25))","v":""},"",{"$f":"IF('Entry Information'!$H25=\"\",\"\",IF('Entry Information'!X25=\"\",Z24,Z24-100))","v":""},"",{"$f":"IF($X24=\"\",\"\",(VLOOKUP($AB$41,Worksheet!$A$11:$AE$41,AB24+1,FALSE)))","v":""},{"$f":"IF('Entry Information'!$H25=\"\",\"\",'WALK TROT RESULTS'!AD25)","v":""},{"$f":"IF('Entry Information'!$H25=\"\",\"\",IF('WALK TROT RESULTS'!AE25=\"\",\"\",'WALK TROT RESULTS'!AE25))","v":""},"",{"$f":"IF('Entry Information'!$H25=\"\",\"\",IF('Entry Information'!Z25=\"\",AF24,AF24-100))","v":""},"",{"$f":"IF($AD24=\"\",\"\",(VLOOKUP($AH$41,Worksheet!$A$11:$AE$41,AH24+1,FALSE)))","v":""}]
[{"$f":"IF('Entry Information'!H26=\"\",\"\",'Entry Information'!B26)","v":""},{"$f":"IF('Entry Information'!H26=\"\",\"\",'Entry Information'!C26)","v":""},{"$f":"IF('Entry Information'!H26=\"\",\"\",'Entry Information'!D26)","v":""},{"$f":"IF('Entry Information'!H26=\"\",\"\",'Entry Information'!E26)","v":""},"NOV",{"$f":"IF('Entry Information'!H26=\"\",\"\",'WALK TROT RESULTS'!F26)","v":""},{"$f":"IF('Entry Information'!$H26=\"\",\"\",IF('WALK TROT RESULTS'!G26=\"\",\"\",'WALK TROT RESULTS'!G26))","v":""},"",{"$f":"IF('Entry Information'!$H26=\"\",\"\",IF('Entry Information'!R26=\"\",H25,H25-100))","v":""},"",{"$f":"IF($F25=\"\",\"\",(VLOOKUP($J$41,Worksheet!$A$11:$AE$41,J25+1,FALSE)))","v":""},{"$f":"IF('Entry Information'!H26=\"\",\"\",'WALK TROT RESULTS'!L26)","v":""},{"$f":"IF('Entry Information'!$H26=\"\",\"\",IF('WALK TROT RESULTS'!M26=\"\",\"\",'WALK TROT RESULTS'!M26))","v":""},"",{"$f":"IF('Entry Information'!$H26=\"\",\"\",IF('Entry Information'!T26=\"\",N25,N25-100))","v":""},"",{"$f":"IF($L25=\"\",\"\",(VLOOKUP($P$41,Worksheet!$A$11:$AE$41,P25+1,FALSE)))","v":""},{"$f":"IF('Entry Information'!H26=\"\",\"\",'WALK TROT RESULTS'!R26)","v":""},{"$f":"IF('Entry Information'!$H26=\"\",\"\",IF('WALK TROT RESULTS'!S26=\"\",\"\",'WALK TROT RESULTS'!S26))","v":""},"",{"$f":"IF('Entry Information'!$H26=\"\",\"\",IF('Entry Information'!V26=\"\",T25,T25-100))","v":""},"",{"$f":"IF($R25=\"\",\"\",(VLOOKUP($V$41,Worksheet!$A$11:$AE$41,V25+1,FALSE)))","v":""},{"$f":"IF('Entry Information'!$H26=\"\",\"\",'WALK TROT RESULTS'!X26)","v":""},{"$f":"IF('Entry Information'!$H26=\"\",\"\",IF('WALK TROT RESULTS'!Y26=\"\",\"\",'WALK TROT RESULTS'!Y26))","v":""},"",{"$f":"IF('Entry Information'!$H26=\"\",\"\",IF('Entry Information'!X26=\"\",Z25,Z25-100))","v":""},"",{"$f":"IF($X25=\"\",\"\",(VLOOKUP($AB$41,Worksheet!$A$11:$AE$41,AB25+1,FALSE)))","v":""},{"$f":"IF('Entry Information'!$H26=\"\",\"\",'WALK TROT RESULTS'!AD26)","v":""},{"$f":"IF('Entry Information'!$H26=\"\",\"\",IF('WALK TROT RESULTS'!AE26=\"\",\"\",'WALK TROT RESULTS'!AE26))","v":""},"",{"$f":"IF('Entry Information'!$H26=\"\",\"\",IF('Entry Information'!Z26=\"\",AF25,AF25-100))","v":""},"",{"$f":"IF($AD25=\"\",\"\",(VLOOKUP($AH$41,Worksheet!$A$11:$AE$41,AH25+1,FALSE)))","v":""}]
[{"$f":"IF('Entry Information'!H27=\"\",\"\",'Entry Information'!B27)","v":""},{"$f":"IF('Entry Information'!H27=\"\",\"\",'Entry Information'!C27)","v":""},{"$f":"IF('Entry Information'!H27=\"\",\"\",'Entry Information'!D27)","v":""},{"$f":"IF('Entry Information'!H27=\"\",\"\",'Entry Information'!E27)","v":""},"NOV",{"$f":"IF('Entry Information'!H27=\"\",\"\",'WALK TROT RESULTS'!F27)","v":""},{"$f":"IF('Entry Information'!$H27=\"\",\"\",IF('WALK TROT RESULTS'!G27=\"\",\"\",'WALK TROT RESULTS'!G27))","v":""},"",{"$f":"IF('Entry Information'!$H27=\"\",\"\",IF('Entry Information'!R27=\"\",H26,H26-100))","v":""},"",{"$f":"IF($F26=\"\",\"\",(VLOOKUP($J$41,Worksheet!$A$11:$AE$41,J26+1,FALSE)))","v":""},{"$f":"IF('Entry Information'!H27=\"\",\"\",'WALK TROT RESULTS'!L27)","v":""},{"$f":"IF('Entry Information'!$H27=\"\",\"\",IF('WALK TROT RESULTS'!M27=\"\",\"\",'WALK TROT RESULTS'!M27))","v":""},"",{"$f":"IF('Entry Information'!$H27=\"\",\"\",IF('Entry Information'!T27=\"\",N26,N26-100))","v":""},"",{"$f":"IF($L26=\"\",\"\",(VLOOKUP($P$41,Worksheet!$A$11:$AE$41,P26+1,FALSE)))","v":""},{"$f":"IF('Entry Information'!H27=\"\",\"\",'WALK TROT RESULTS'!R27)","v":""},{"$f":"IF('Entry Information'!$H27=\"\",\"\",IF('WALK TROT RESULTS'!S27=\"\",\"\",'WALK TROT RESULTS'!S27))","v":""},"",{"$f":"IF('Entry Information'!$H27=\"\",\"\",IF('Entry Information'!V27=\"\",T26,T26-100))","v":""},"",{"$f":"IF($R26=\"\",\"\",(VLOOKUP($V$41,Worksheet!$A$11:$AE$41,V26+1,FALSE)))","v":""},{"$f":"IF('Entry Information'!$H27=\"\",\"\",'WALK TROT RESULTS'!X27)","v":""},{"$f":"IF('Entry Information'!$H27=\"\",\"\",IF('WALK TROT RESULTS'!Y27=\"\",\"\",'WALK TROT RESULTS'!Y27))","v":""},"",{"$f":"IF('Entry Information'!$H27=\"\",\"\",IF('Entry Information'!X27=\"\",Z26,Z26-100))","v":""},"",{"$f":"IF($X26=\"\",\"\",(VLOOKUP($AB$41,Worksheet!$A$11:$AE$41,AB26+1,FALSE)))","v":""},{"$f":"IF('Entry Information'!$H27=\"\",\"\",'WALK TROT RESULTS'!AD27)","v":""},{"$f":"IF('Entry Information'!$H27=\"\",\"\",IF('WALK TROT RESULTS'!AE27=\"\",\"\",'WALK TROT RESULTS'!AE27))","v":""},"",{"$f":"IF('Entry Information'!$H27=\"\",\"\",IF('Entry Information'!Z27=\"\",AF26,AF26-100))","v":""},"",{"$f":"IF($AD26=\"\",\"\",(VLOOKUP($AH$41,Worksheet!$A$11:$AE$41,AH26+1,FALSE)))","v":""}]
[{"$f":"IF('Entry Information'!H28=\"\",\"\",'Entry Information'!B28)","v":""},{"$f":"IF('Entry Information'!H28=\"\",\"\",'Entry Information'!C28)","v":""},{"$f":"IF('Entry Information'!H28=\"\",\"\",'Entry Information'!D28)","v":""},{"$f":"IF('Entry Information'!H28=\"\",\"\",'Entry Information'!E28)","v":""},"NOV",{"$f":"IF('Entry Information'!H28=\"\",\"\",'WALK TROT RESULTS'!F28)","v":""},{"$f":"IF('Entry Information'!$H28=\"\",\"\",IF('WALK TROT RESULTS'!G28=\"\",\"\",'WALK TROT RESULTS'!G28))","v":""},"",{"$f":"IF('Entry Information'!$H28=\"\",\"\",IF('Entry Information'!R28=\"\",H27,H27-100))","v":""},"",{"$f":"IF($F27=\"\",\"\",(VLOOKUP($J$41,Worksheet!$A$11:$AE$41,J27+1,FALSE)))","v":""},{"$f":"IF('Entry Information'!H28=\"\",\"\",'WALK TROT RESULTS'!L28)","v":""},{"$f":"IF('Entry Information'!$H28=\"\",\"\",IF('WALK TROT RESULTS'!M28=\"\",\"\",'WALK TROT RESULTS'!M28))","v":""},"",{"$f":"IF('Entry Information'!$H28=\"\",\"\",IF('Entry Information'!T28=\"\",N27,N27-100))","v":""},"",{"$f":"IF($L27=\"\",\"\",(VLOOKUP($P$41,Worksheet!$A$11:$AE$41,P27+1,FALSE)))","v":""},{"$f":"IF('Entry Information'!H28=\"\",\"\",'WALK TROT RESULTS'!R28)","v":""},{"$f":"IF('Entry Information'!$H28=\"\",\"\",IF('WALK TROT RESULTS'!S28=\"\",\"\",'WALK TROT RESULTS'!S28))","v":""},"",{"$f":"IF('Entry Information'!$H28=\"\",\"\",IF('Entry Information'!V28=\"\",T27,T27-100))","v":""},"",{"$f":"IF($R27=\"\",\"\",(VLOOKUP($V$41,Worksheet!$A$11:$AE$41,V27+1,FALSE)))","v":""},{"$f":"IF('Entry Information'!$H28=\"\",\"\",'WALK TROT RESULTS'!X28)","v":""},{"$f":"IF('Entry Information'!$H28=\"\",\"\",IF('WALK TROT RESULTS'!Y28=\"\",\"\",'WALK TROT RESULTS'!Y28))","v":""},"",{"$f":"IF('Entry Information'!$H28=\"\",\"\",IF('Entry Information'!X28=\"\",Z27,Z27-100))","v":""},"",{"$f":"IF($X27=\"\",\"\",(VLOOKUP($AB$41,Worksheet!$A$11:$AE$41,AB27+1,FALSE)))","v":""},{"$f":"IF('Entry Information'!$H28=\"\",\"\",'WALK TROT RESULTS'!AD28)","v":""},{"$f":"IF('Entry Information'!$H28=\"\",\"\",IF('WALK TROT RESULTS'!AE28=\"\",\"\",'WALK TROT RESULTS'!AE28))","v":""},"",{"$f":"IF('Entry Information'!$H28=\"\",\"\",IF('Entry Information'!Z28=\"\",AF27,AF27-100))","v":""},"",{"$f":"IF($AD27=\"\",\"\",(VLOOKUP($AH$41,Worksheet!$A$11:$AE$41,AH27+1,FALSE)))","v":""}]
[{"$f":"IF('Entry Information'!H29=\"\",\"\",'Entry Information'!B29)","v":""},{"$f":"IF('Entry Information'!H29=\"\",\"\",'Entry Information'!C29)","v":""},{"$f":"IF('Entry Information'!H29=\"\",\"\",'Entry Information'!D29)","v":""},{"$f":"IF('Entry Information'!H29=\"\",\"\",'Entry Information'!E29)","v":""},"NOV",{"$f":"IF('Entry Information'!H29=\"\",\"\",'WALK TROT RESULTS'!F29)","v":""},{"$f":"IF('Entry Information'!$H29=\"\",\"\",IF('WALK TROT RESULTS'!G29=\"\",\"\",'WALK TROT RESULTS'!G29))","v":""},"",{"$f":"IF('Entry Information'!$H29=\"\",\"\",IF('Entry Information'!R29=\"\",H28,H28-100))","v":""},"",{"$f":"IF($F28=\"\",\"\",(VLOOKUP($J$41,Worksheet!$A$11:$AE$41,J28+1,FALSE)))","v":""},{"$f":"IF('Entry Information'!H29=\"\",\"\",'WALK TROT RESULTS'!L29)","v":""},{"$f":"IF('Entry Information'!$H29=\"\",\"\",IF('WALK TROT RESULTS'!M29=\"\",\"\",'WALK TROT RESULTS'!M29))","v":""},"",{"$f":"IF('Entry Information'!$H29=\"\",\"\",IF('Entry Information'!T29=\"\",N28,N28-100))","v":""},"",{"$f":"IF($L28=\"\",\"\",(VLOOKUP($P$41,Worksheet!$A$11:$AE$41,P28+1,FALSE)))","v":""},{"$f":"IF('Entry Information'!H29=\"\",\"\",'WALK TROT RESULTS'!R29)","v":""},{"$f":"IF('Entry Information'!$H29=\"\",\"\",IF('WALK TROT RESULTS'!S29=\"\",\"\",'WALK TROT RESULTS'!S29))","v":""},"",{"$f":"IF('Entry Information'!$H29=\"\",\"\",IF('Entry Information'!V29=\"\",T28,T28-100))","v":""},"",{"$f":"IF($R28=\"\",\"\",(VLOOKUP($V$41,Worksheet!$A$11:$AE$41,V28+1,FALSE)))","v":""},{"$f":"IF('Entry Information'!$H29=\"\",\"\",'WALK TROT RESULTS'!X29)","v":""},{"$f":"IF('Entry Information'!$H29=\"\",\"\",IF('WALK TROT RESULTS'!Y29=\"\",\"\",'WALK TROT RESULTS'!Y29))","v":""},"",{"$f":"IF('Entry Information'!$H29=\"\",\"\",IF('Entry Information'!X29=\"\",Z28,Z28-100))","v":""},"",{"$f":"IF($X28=\"\",\"\",(VLOOKUP($AB$41,Worksheet!$A$11:$AE$41,AB28+1,FALSE)))","v":""},{"$f":"IF('Entry Information'!$H29=\"\",\"\",'WALK TROT RESULTS'!AD29)","v":""},{"$f":"IF('Entry Information'!$H29=\"\",\"\",IF('WALK TROT RESULTS'!AE29=\"\",\"\",'WALK TROT RESULTS'!AE29))","v":""},"",{"$f":"IF('Entry Information'!$H29=\"\",\"\",IF('Entry Information'!Z29=\"\",AF28,AF28-100))","v":""},"",{"$f":"IF($AD28=\"\",\"\",(VLOOKUP($AH$41,Worksheet!$A$11:$AE$41,AH28+1,FALSE)))","v":""}]
[{"$f":"IF('Entry Information'!H30=\"\",\"\",'Entry Information'!B30)","v":""},{"$f":"IF('Entry Information'!H30=\"\",\"\",'Entry Information'!C30)","v":""},{"$f":"IF('Entry Information'!H30=\"\",\"\",'Entry Information'!D30)","v":""},{"$f":"IF('Entry Information'!H30=\"\",\"\",'Entry Information'!E30)","v":""},"NOV",{"$f":"IF('Entry Information'!H30=\"\",\"\",'WALK TROT RESULTS'!F30)","v":""},{"$f":"IF('Entry Information'!$H30=\"\",\"\",IF('WALK TROT RESULTS'!G30=\"\",\"\",'WALK TROT RESULTS'!G30))","v":""},"",{"$f":"IF('Entry Information'!$H30=\"\",\"\",IF('Entry Information'!R30=\"\",H29,H29-100))","v":""},"",{"$f":"IF($F29=\"\",\"\",(VLOOKUP($J$41,Worksheet!$A$11:$AE$41,J29+1,FALSE)))","v":""},{"$f":"IF('Entry Information'!H30=\"\",\"\",'WALK TROT RESULTS'!L30)","v":""},{"$f":"IF('Entry Information'!$H30=\"\",\"\",IF('WALK TROT RESULTS'!M30=\"\",\"\",'WALK TROT RESULTS'!M30))","v":""},"",{"$f":"IF('Entry Information'!$H30=\"\",\"\",IF('Entry Information'!T30=\"\",N29,N29-100))","v":""},"",{"$f":"IF($L29=\"\",\"\",(VLOOKUP($P$41,Worksheet!$A$11:$AE$41,P29+1,FALSE)))","v":""},{"$f":"IF('Entry Information'!H30=\"\",\"\",'WALK TROT RESULTS'!R30)","v":""},{"$f":"IF('Entry Information'!$H30=\"\",\"\",IF('WALK TROT RESULTS'!S30=\"\",\"\",'WALK TROT RESULTS'!S30))","v":""},"",{"$f":"IF('Entry Information'!$H30=\"\",\"\",IF('Entry Information'!V30=\"\",T29,T29-100))","v":""},"",{"$f":"IF($R29=\"\",\"\",(VLOOKUP($V$41,Worksheet!$A$11:$AE$41,V29+1,FALSE)))","v":""},{"$f":"IF('Entry Information'!$H30=\"\",\"\",'WALK TROT RESULTS'!X30)","v":""},{"$f":"IF('Entry Information'!$H30=\"\",\"\",IF('WALK TROT RESULTS'!Y30=\"\",\"\",'WALK TROT RESULTS'!Y30))","v":""},"",{"$f":"IF('Entry Information'!$H30=\"\",\"\",IF('Entry Information'!X30=\"\",Z29,Z29-100))","v":""},"",{"$f":"IF($X29=\"\",\"\",(VLOOKUP($AB$41,Worksheet!$A$11:$AE$41,AB29+1,FALSE)))","v":""},{"$f":"IF('Entry Information'!$H30=\"\",\"\",'WALK TROT RESULTS'!AD30)","v":""},{"$f":"IF('Entry Information'!$H30=\"\",\"\",IF('WALK TROT RESULTS'!AE30=\"\",\"\",'WALK TROT RESULTS'!AE30))","v":""},"",{"$f":"IF('Entry Information'!$H30=\"\",\"\",IF('Entry Information'!Z30=\"\",AF29,AF29-100))","v":""},"",{"$f":"IF($AD29=\"\",\"\",(VLOOKUP($AH$41,Worksheet!$A$11:$AE$41,AH29+1,FALSE)))","v":""}]
[{"$f":"IF('Entry Information'!H31=\"\",\"\",'Entry Information'!B31)","v":""},{"$f":"IF('Entry Information'!H31=\"\",\"\",'Entry Information'!C31)","v":""},{"$f":"IF('Entry Information'!H31=\"\",\"\",'Entry Information'!D31)","v":""},{"$f":"IF('Entry Information'!H31=\"\",\"\",'Entry Information'!E31)","v":""},"NOV",{"$f":"IF('Entry Information'!H31=\"\",\"\",'WALK TROT RESULTS'!F31)","v":""},{"$f":"IF('Entry Information'!$H31=\"\",\"\",IF('WALK TROT RESULTS'!G31=\"\",\"\",'WALK TROT RESULTS'!G31))","v":""},"",{"$f":"IF('Entry Information'!$H31=\"\",\"\",IF('Entry Information'!R31=\"\",H30,H30-100))","v":""},"",{"$f":"IF($F30=\"\",\"\",(VLOOKUP($J$41,Worksheet!$A$11:$AE$41,J30+1,FALSE)))","v":""},{"$f":"IF('Entry Information'!H31=\"\",\"\",'WALK TROT RESULTS'!L31)","v":""},{"$f":"IF('Entry Information'!$H31=\"\",\"\",IF('WALK TROT RESULTS'!M31=\"\",\"\",'WALK TROT RESULTS'!M31))","v":""},"",{"$f":"IF('Entry Information'!$H31=\"\",\"\",IF('Entry Information'!T31=\"\",N30,N30-100))","v":""},"",{"$f":"IF($L30=\"\",\"\",(VLOOKUP($P$41,Worksheet!$A$11:$AE$41,P30+1,FALSE)))","v":""},{"$f":"IF('Entry Information'!H31=\"\",\"\",'WALK TROT RESULTS'!R31)","v":""},{"$f":"IF('Entry Information'!$H31=\"\",\"\",IF('WALK TROT RESULTS'!S31=\"\",\"\",'WALK TROT RESULTS'!S31))","v":""},"",{"$f":"IF('Entry Information'!$H31=\"\",\"\",IF('Entry Information'!V31=\"\",T30,T30-100))","v":""},"",{"$f":"IF($R30=\"\",\"\",(VLOOKUP($V$41,Worksheet!$A$11:$AE$41,V30+1,FALSE)))","v":""},{"$f":"IF('Entry Information'!$H31=\"\",\"\",'WALK TROT RESULTS'!X31)","v":""},{"$f":"IF('Entry Information'!$H31=\"\",\"\",IF('WALK TROT RESULTS'!Y31=\"\",\"\",'WALK TROT RESULTS'!Y31))","v":""},"",{"$f":"IF('Entry Information'!$H31=\"\",\"\",IF('Entry Information'!X31=\"\",Z30,Z30-100))","v":""},"",{"$f":"IF($X30=\"\",\"\",(VLOOKUP($AB$41,Worksheet!$A$11:$AE$41,AB30+1,FALSE)))","v":""},{"$f":"IF('Entry Information'!$H31=\"\",\"\",'WALK TROT RESULTS'!AD31)","v":""},{"$f":"IF('Entry Information'!$H31=\"\",\"\",IF('WALK TROT RESULTS'!AE31=\"\",\"\",'WALK TROT RESULTS'!AE31))","v":""},"",{"$f":"IF('Entry Information'!$H31=\"\",\"\",IF('Entry Information'!Z31=\"\",AF30,AF30-100))","v":""},"",{"$f":"IF($AD30=\"\",\"\",(VLOOKUP($AH$41,Worksheet!$A$11:$AE$41,AH30+1,FALSE)))","v":""}]
[{"$f":"IF('Entry Information'!H32=\"\",\"\",'Entry Information'!B32)","v":""},{"$f":"IF('Entry Information'!H32=\"\",\"\",'Entry Information'!C32)","v":""},{"$f":"IF('Entry Information'!H32=\"\",\"\",'Entry Information'!D32)","v":""},{"$f":"IF('Entry Information'!H32=\"\",\"\",'Entry Information'!E32)","v":""},"NOV",{"$f":"IF('Entry Information'!H32=\"\",\"\",'WALK TROT RESULTS'!F32)","v":""},{"$f":"IF('Entry Information'!$H32=\"\",\"\",IF('WALK TROT RESULTS'!G32=\"\",\"\",'WALK TROT RESULTS'!G32))","v":""},"",{"$f":"IF('Entry Information'!$H32=\"\",\"\",IF('Entry Information'!R32=\"\",H31,H31-100))","v":""},"",{"$f":"IF($F31=\"\",\"\",(VLOOKUP($J$41,Worksheet!$A$11:$AE$41,J31+1,FALSE)))","v":""},{"$f":"IF('Entry Information'!H32=\"\",\"\",'WALK TROT RESULTS'!L32)","v":""},{"$f":"IF('Entry Information'!$H32=\"\",\"\",IF('WALK TROT RESULTS'!M32=\"\",\"\",'WALK TROT RESULTS'!M32))","v":""},"",{"$f":"IF('Entry Information'!$H32=\"\",\"\",IF('Entry Information'!T32=\"\",N31,N31-100))","v":""},"",{"$f":"IF($L31=\"\",\"\",(VLOOKUP($P$41,Worksheet!$A$11:$AE$41,P31+1,FALSE)))","v":""},{"$f":"IF('Entry Information'!H32=\"\",\"\",'WALK TROT RESULTS'!R32)","v":""},{"$f":"IF('Entry Information'!$H32=\"\",\"\",IF('WALK TROT RESULTS'!S32=\"\",\"\",'WALK TROT RESULTS'!S32))","v":""},"",{"$f":"IF('Entry Information'!$H32=\"\",\"\",IF('Entry Information'!V32=\"\",T31,T31-100))","v":""},"",{"$f":"IF($R31=\"\",\"\",(VLOOKUP($V$41,Worksheet!$A$11:$AE$41,V31+1,FALSE)))","v":""},{"$f":"IF('Entry Information'!$H32=\"\",\"\",'WALK TROT RESULTS'!X32)","v":""},{"$f":"IF('Entry Information'!$H32=\"\",\"\",IF('WALK TROT RESULTS'!Y32=\"\",\"\",'WALK TROT RESULTS'!Y32))","v":""},"",{"$f":"IF('Entry Information'!$H32=\"\",\"\",IF('Entry Information'!X32=\"\",Z31,Z31-100))","v":""},"",{"$f":"IF($X31=\"\",\"\",(VLOOKUP($AB$41,Worksheet!$A$11:$AE$41,AB31+1,FALSE)))","v":""},{"$f":"IF('Entry Information'!$H32=\"\",\"\",'WALK TROT RESULTS'!AD32)","v":""},{"$f":"IF('Entry Information'!$H32=\"\",\"\",IF('WALK TROT RESULTS'!AE32=\"\",\"\",'WALK TROT RESULTS'!AE32))","v":""},"",{"$f":"IF('Entry Information'!$H32=\"\",\"\",IF('Entry Information'!Z32=\"\",AF31,AF31-100))","v":""},"",{"$f":"IF($AD31=\"\",\"\",(VLOOKUP($AH$41,Worksheet!$A$11:$AE$41,AH31+1,FALSE)))","v":""}]
[{"$f":"IF('Entry Information'!H33=\"\",\"\",'Entry Information'!B33)","v":""},{"$f":"IF('Entry Information'!H33=\"\",\"\",'Entry Information'!C33)","v":""},{"$f":"IF('Entry Information'!H33=\"\",\"\",'Entry Information'!D33)","v":""},{"$f":"IF('Entry Information'!H33=\"\",\"\",'Entry Information'!E33)","v":""},"NOV",{"$f":"IF('Entry Information'!H33=\"\",\"\",'WALK TROT RESULTS'!F33)","v":""},{"$f":"IF('Entry Information'!$H33=\"\",\"\",IF('WALK TROT RESULTS'!G33=\"\",\"\",'WALK TROT RESULTS'!G33))","v":""},"",{"$f":"IF('Entry Information'!$H33=\"\",\"\",IF('Entry Information'!R33=\"\",H32,H32-100))","v":""},"",{"$f":"IF($F32=\"\",\"\",(VLOOKUP($J$41,Worksheet!$A$11:$AE$41,J32+1,FALSE)))","v":""},{"$f":"IF('Entry Information'!H33=\"\",\"\",'WALK TROT RESULTS'!L33)","v":""},{"$f":"IF('Entry Information'!$H33=\"\",\"\",IF('WALK TROT RESULTS'!M33=\"\",\"\",'WALK TROT RESULTS'!M33))","v":""},"",{"$f":"IF('Entry Information'!$H33=\"\",\"\",IF('Entry Information'!T33=\"\",N32,N32-100))","v":""},"",{"$f":"IF($L32=\"\",\"\",(VLOOKUP($P$41,Worksheet!$A$11:$AE$41,P32+1,FALSE)))","v":""},{"$f":"IF('Entry Information'!H33=\"\",\"\",'WALK TROT RESULTS'!R33)","v":""},{"$f":"IF('Entry Information'!$H33=\"\",\"\",IF('WALK TROT RESULTS'!S33=\"\",\"\",'WALK TROT RESULTS'!S33))","v":""},"",{"$f":"IF('Entry Information'!$H33=\"\",\"\",IF('Entry Information'!V33=\"\",T32,T32-100))","v":""},"",{"$f":"IF($R32=\"\",\"\",(VLOOKUP($V$41,Worksheet!$A$11:$AE$41,V32+1,FALSE)))","v":""},{"$f":"IF('Entry Information'!$H33=\"\",\"\",'WALK TROT RESULTS'!X33)","v":""},{"$f":"IF('Entry Information'!$H33=\"\",\"\",IF('WALK TROT RESULTS'!Y33=\"\",\"\",'WALK TROT RESULTS'!Y33))","v":""},"",{"$f":"IF('Entry Information'!$H33=\"\",\"\",IF('Entry Information'!X33=\"\",Z32,Z32-100))","v":""},"",{"$f":"IF($X32=\"\",\"\",(VLOOKUP($AB$41,Worksheet!$A$11:$AE$41,AB32+1,FALSE)))","v":""},{"$f":"IF('Entry Information'!$H33=\"\",\"\",'WALK TROT RESULTS'!AD33)","v":""},{"$f":"IF('Entry Information'!$H33=\"\",\"\",IF('WALK TROT RESULTS'!AE33=\"\",\"\",'WALK TROT RESULTS'!AE33))","v":""},"",{"$f":"IF('Entry Information'!$H33=\"\",\"\",IF('Entry Information'!Z33=\"\",AF32,AF32-100))","v":""},"",{"$f":"IF($AD32=\"\",\"\",(VLOOKUP($AH$41,Worksheet!$A$11:$AE$41,AH32+1,FALSE)))","v":""}]
[{"$f":"IF('Entry Information'!H34=\"\",\"\",'Entry Information'!B34)","v":""},{"$f":"IF('Entry Information'!H34=\"\",\"\",'Entry Information'!C34)","v":""},{"$f":"IF('Entry Information'!H34=\"\",\"\",'Entry Information'!D34)","v":""},{"$f":"IF('Entry Information'!H34=\"\",\"\",'Entry Information'!E34)","v":""},"NOV",{"$f":"IF('Entry Information'!H34=\"\",\"\",'WALK TROT RESULTS'!F34)","v":""},{"$f":"IF('Entry Information'!$H34=\"\",\"\",IF('WALK TROT RESULTS'!G34=\"\",\"\",'WALK TROT RESULTS'!G34))","v":""},"",{"$f":"IF('Entry Information'!$H34=\"\",\"\",IF('Entry Information'!R34=\"\",H33,H33-100))","v":""},"",{"$f":"IF($F33=\"\",\"\",(VLOOKUP($J$41,Worksheet!$A$11:$AE$41,J33+1,FALSE)))","v":""},{"$f":"IF('Entry Information'!H34=\"\",\"\",'WALK TROT RESULTS'!L34)","v":""},{"$f":"IF('Entry Information'!$H34=\"\",\"\",IF('WALK TROT RESULTS'!M34=\"\",\"\",'WALK TROT RESULTS'!M34))","v":""},"",{"$f":"IF('Entry Information'!$H34=\"\",\"\",IF('Entry Information'!T34=\"\",N33,N33-100))","v":""},"",{"$f":"IF($L33=\"\",\"\",(VLOOKUP($P$41,Worksheet!$A$11:$AE$41,P33+1,FALSE)))","v":""},{"$f":"IF('Entry Information'!H34=\"\",\"\",'WALK TROT RESULTS'!R34)","v":""},{"$f":"IF('Entry Information'!$H34=\"\",\"\",IF('WALK TROT RESULTS'!S34=\"\",\"\",'WALK TROT RESULTS'!S34))","v":""},"",{"$f":"IF('Entry Information'!$H34=\"\",\"\",IF('Entry Information'!V34=\"\",T33,T33-100))","v":""},"",{"$f":"IF($R33=\"\",\"\",(VLOOKUP($V$41,Worksheet!$A$11:$AE$41,V33+1,FALSE)))","v":""},{"$f":"IF('Entry Information'!$H34=\"\",\"\",'WALK TROT RESULTS'!X34)","v":""},{"$f":"IF('Entry Information'!$H34=\"\",\"\",IF('WALK TROT RESULTS'!Y34=\"\",\"\",'WALK TROT RESULTS'!Y34))","v":""},"",{"$f":"IF('Entry Information'!$H34=\"\",\"\",IF('Entry Information'!X34=\"\",Z33,Z33-100))","v":""},"",{"$f":"IF($X33=\"\",\"\",(VLOOKUP($AB$41,Worksheet!$A$11:$AE$41,AB33+1,FALSE)))","v":""},{"$f":"IF('Entry Information'!$H34=\"\",\"\",'WALK TROT RESULTS'!AD34)","v":""},{"$f":"IF('Entry Information'!$H34=\"\",\"\",IF('WALK TROT RESULTS'!AE34=\"\",\"\",'WALK TROT RESULTS'!AE34))","v":""},"",{"$f":"IF('Entry Information'!$H34=\"\",\"\",IF('Entry Information'!Z34=\"\",AF33,AF33-100))","v":""},"",{"$f":"IF($AD33=\"\",\"\",(VLOOKUP($AH$41,Worksheet!$A$11:$AE$41,AH33+1,FALSE)))","v":""}]
[{"$f":"IF('Entry Information'!H35=\"\",\"\",'Entry Information'!B35)","v":""},{"$f":"IF('Entry Information'!H35=\"\",\"\",'Entry Information'!C35)","v":""},{"$f":"IF('Entry Information'!H35=\"\",\"\",'Entry Information'!D35)","v":""},{"$f":"IF('Entry Information'!H35=\"\",\"\",'Entry Information'!E35)","v":""},"NOV",{"$f":"IF('Entry Information'!H35=\"\",\"\",'WALK TROT RESULTS'!F35)","v":""},{"$f":"IF('Entry Information'!$H35=\"\",\"\",IF('WALK TROT RESULTS'!G35=\"\",\"\",'WALK TROT RESULTS'!G35))","v":""},"",{"$f":"IF('Entry Information'!$H35=\"\",\"\",IF('Entry Information'!R35=\"\",H34,H34-100))","v":""},"",{"$f":"IF($F34=\"\",\"\",(VLOOKUP($J$41,Worksheet!$A$11:$AE$41,J34+1,FALSE)))","v":""},{"$f":"IF('Entry Information'!H35=\"\",\"\",'WALK TROT RESULTS'!L35)","v":""},{"$f":"IF('Entry Information'!$H35=\"\",\"\",IF('WALK TROT RESULTS'!M35=\"\",\"\",'WALK TROT RESULTS'!M35))","v":""},"",{"$f":"IF('Entry Information'!$H35=\"\",\"\",IF('Entry Information'!T35=\"\",N34,N34-100))","v":""},"",{"$f":"IF($L34=\"\",\"\",(VLOOKUP($P$41,Worksheet!$A$11:$AE$41,P34+1,FALSE)))","v":""},{"$f":"IF('Entry Information'!H35=\"\",\"\",'WALK TROT RESULTS'!R35)","v":""},{"$f":"IF('Entry Information'!$H35=\"\",\"\",IF('WALK TROT RESULTS'!S35=\"\",\"\",'WALK TROT RESULTS'!S35))","v":""},"",{"$f":"IF('Entry Information'!$H35=\"\",\"\",IF('Entry Information'!V35=\"\",T34,T34-100))","v":""},"",{"$f":"IF($R34=\"\",\"\",(VLOOKUP($V$41,Worksheet!$A$11:$AE$41,V34+1,FALSE)))","v":""},{"$f":"IF('Entry Information'!$H35=\"\",\"\",'WALK TROT RESULTS'!X35)","v":""},{"$f":"IF('Entry Information'!$H35=\"\",\"\",IF('WALK TROT RESULTS'!Y35=\"\",\"\",'WALK TROT RESULTS'!Y35))","v":""},"",{"$f":"IF('Entry Information'!$H35=\"\",\"\",IF('Entry Information'!X35=\"\",Z34,Z34-100))","v":""},"",{"$f":"IF($X34=\"\",\"\",(VLOOKUP($AB$41,Worksheet!$A$11:$AE$41,AB34+1,FALSE)))","v":""},{"$f":"IF('Entry Information'!$H35=\"\",\"\",'WALK TROT RESULTS'!AD35)","v":""},{"$f":"IF('Entry Information'!$H35=\"\",\"\",IF('WALK TROT RESULTS'!AE35=\"\",\"\",'WALK TROT RESULTS'!AE35))","v":""},"",{"$f":"IF('Entry Information'!$H35=\"\",\"\",IF('Entry Information'!Z35=\"\",AF34,AF34-100))","v":""},"",{"$f":"IF($AD34=\"\",\"\",(VLOOKUP($AH$41,Worksheet!$A$11:$AE$41,AH34+1,FALSE)))","v":""}]
[{"$f":"IF('Entry Information'!H36=\"\",\"\",'Entry Information'!B36)","v":""},{"$f":"IF('Entry Information'!H36=\"\",\"\",'Entry Information'!C36)","v":""},{"$f":"IF('Entry Information'!H36=\"\",\"\",'Entry Information'!D36)","v":""},{"$f":"IF('Entry Information'!H36=\"\",\"\",'Entry Information'!E36)","v":""},"NOV",{"$f":"IF('Entry Information'!H36=\"\",\"\",'WALK TROT RESULTS'!F36)","v":""},{"$f":"IF('Entry Information'!$H36=\"\",\"\",IF('WALK TROT RESULTS'!G36=\"\",\"\",'WALK TROT RESULTS'!G36))","v":""},"",{"$f":"IF('Entry Information'!$H36=\"\",\"\",IF('Entry Information'!R36=\"\",H35,H35-100))","v":""},"",{"$f":"IF($F35=\"\",\"\",(VLOOKUP($J$41,Worksheet!$A$11:$AE$41,J35+1,FALSE)))","v":""},{"$f":"IF('Entry Information'!H36=\"\",\"\",'WALK TROT RESULTS'!L36)","v":""},{"$f":"IF('Entry Information'!$H36=\"\",\"\",IF('WALK TROT RESULTS'!M36=\"\",\"\",'WALK TROT RESULTS'!M36))","v":""},"",{"$f":"IF('Entry Information'!$H36=\"\",\"\",IF('Entry Information'!T36=\"\",N35,N35-100))","v":""},"",{"$f":"IF($L35=\"\",\"\",(VLOOKUP($P$41,Worksheet!$A$11:$AE$41,P35+1,FALSE)))","v":""},{"$f":"IF('Entry Information'!H36=\"\",\"\",'WALK TROT RESULTS'!R36)","v":""},{"$f":"IF('Entry Information'!$H36=\"\",\"\",IF('WALK TROT RESULTS'!S36=\"\",\"\",'WALK TROT RESULTS'!S36))","v":""},"",{"$f":"IF('Entry Information'!$H36=\"\",\"\",IF('Entry Information'!V36=\"\",T35,T35-100))","v":""},"",{"$f":"IF($R35=\"\",\"\",(VLOOKUP($V$41,Worksheet!$A$11:$AE$41,V35+1,FALSE)))","v":""},{"$f":"IF('Entry Information'!$H36=\"\",\"\",'WALK TROT RESULTS'!X36)","v":""},{"$f":"IF('Entry Information'!$H36=\"\",\"\",IF('WALK TROT RESULTS'!Y36=\"\",\"\",'WALK TROT RESULTS'!Y36))","v":""},"",{"$f":"IF('Entry Information'!$H36=\"\",\"\",IF('Entry Information'!X36=\"\",Z35,Z35-100))","v":""},"",{"$f":"IF($X35=\"\",\"\",(VLOOKUP($AB$41,Worksheet!$A$11:$AE$41,AB35+1,FALSE)))","v":""},{"$f":"IF('Entry Information'!$H36=\"\",\"\",'WALK TROT RESULTS'!AD36)","v":""},{"$f":"IF('Entry Information'!$H36=\"\",\"\",IF('WALK TROT RESULTS'!AE36=\"\",\"\",'WALK TROT RESULTS'!AE36))","v":""},"",{"$f":"IF('Entry Information'!$H36=\"\",\"\",IF('Entry Information'!Z36=\"\",AF35,AF35-100))","v":""},"",{"$f":"IF($AD35=\"\",\"\",(VLOOKUP($AH$41,Worksheet!$A$11:$AE$41,AH35+1,FALSE)))","v":""}]
[{"$f":"IF('Entry Information'!H37=\"\",\"\",'Entry Information'!B37)","v":""},{"$f":"IF('Entry Information'!H37=\"\",\"\",'Entry Information'!C37)","v":""},{"$f":"IF('Entry Information'!H37=\"\",\"\",'Entry Information'!D37)","v":""},{"$f":"IF('Entry Information'!H37=\"\",\"\",'Entry Information'!E37)","v":""},"NOV",{"$f":"IF('Entry Information'!H37=\"\",\"\",'WALK TROT RESULTS'!F37)","v":""},{"$f":"IF('Entry Information'!$H37=\"\",\"\",IF('WALK TROT RESULTS'!G37=\"\",\"\",'WALK TROT RESULTS'!G37))","v":""},"",{"$f":"IF('Entry Information'!$H37=\"\",\"\",IF('Entry Information'!R37=\"\",H36,H36-100))","v":""},"",{"$f":"IF($F36=\"\",\"\",(VLOOKUP($J$41,Worksheet!$A$11:$AE$41,J36+1,FALSE)))","v":""},{"$f":"IF('Entry Information'!H37=\"\",\"\",'WALK TROT RESULTS'!L37)","v":""},{"$f":"IF('Entry Information'!$H37=\"\",\"\",IF('WALK TROT RESULTS'!M37=\"\",\"\",'WALK TROT RESULTS'!M37))","v":""},"",{"$f":"IF('Entry Information'!$H37=\"\",\"\",IF('Entry Information'!T37=\"\",N36,N36-100))","v":""},"",{"$f":"IF($L36=\"\",\"\",(VLOOKUP($P$41,Worksheet!$A$11:$AE$41,P36+1,FALSE)))","v":""},{"$f":"IF('Entry Information'!H37=\"\",\"\",'WALK TROT RESULTS'!R37)","v":""},{"$f":"IF('Entry Information'!$H37=\"\",\"\",IF('WALK TROT RESULTS'!S37=\"\",\"\",'WALK TROT RESULTS'!S37))","v":""},"",{"$f":"IF('Entry Information'!$H37=\"\",\"\",IF('Entry Information'!V37=\"\",T36,T36-100))","v":""},"",{"$f":"IF($R36=\"\",\"\",(VLOOKUP($V$41,Worksheet!$A$11:$AE$41,V36+1,FALSE)))","v":""},{"$f":"IF('Entry Information'!$H37=\"\",\"\",'WALK TROT RESULTS'!X37)","v":""},{"$f":"IF('Entry Information'!$H37=\"\",\"\",IF('WALK TROT RESULTS'!Y37=\"\",\"\",'WALK TROT RESULTS'!Y37))","v":""},"",{"$f":"IF('Entry Information'!$H37=\"\",\"\",IF('Entry Information'!X37=\"\",Z36,Z36-100))","v":""},"",{"$f":"IF($X36=\"\",\"\",(VLOOKUP($AB$41,Worksheet!$A$11:$AE$41,AB36+1,FALSE)))","v":""},{"$f":"IF('Entry Information'!$H37=\"\",\"\",'WALK TROT RESULTS'!AD37)","v":""},{"$f":"IF('Entry Information'!$H37=\"\",\"\",IF('WALK TROT RESULTS'!AE37=\"\",\"\",'WALK TROT RESULTS'!AE37))","v":""},"",{"$f":"IF('Entry Information'!$H37=\"\",\"\",IF('Entry Information'!Z37=\"\",AF36,AF36-100))","v":""},"",{"$f":"IF($AD36=\"\",\"\",(VLOOKUP($AH$41,Worksheet!$A$11:$AE$41,AH36+1,FALSE)))","v":""}]
[{"$f":"IF('Entry Information'!H38=\"\",\"\",'Entry Information'!B38)","v":""},{"$f":"IF('Entry Information'!H38=\"\",\"\",'Entry Information'!C38)","v":""},{"$f":"IF('Entry Information'!H38=\"\",\"\",'Entry Information'!D38)","v":""},{"$f":"IF('Entry Information'!H38=\"\",\"\",'Entry Information'!E38)","v":""},"NOV",{"$f":"IF('Entry Information'!H38=\"\",\"\",'WALK TROT RESULTS'!F38)","v":""},{"$f":"IF('Entry Information'!$H38=\"\",\"\",IF('WALK TROT RESULTS'!G38=\"\",\"\",'WALK TROT RESULTS'!G38))","v":""},"",{"$f":"IF('Entry Information'!$H38=\"\",\"\",IF('Entry Information'!R38=\"\",H37,H37-100))","v":""},"",{"$f":"IF($F37=\"\",\"\",(VLOOKUP($J$41,Worksheet!$A$11:$AE$41,J37+1,FALSE)))","v":""},{"$f":"IF('Entry Information'!H38=\"\",\"\",'WALK TROT RESULTS'!L38)","v":""},{"$f":"IF('Entry Information'!$H38=\"\",\"\",IF('WALK TROT RESULTS'!M38=\"\",\"\",'WALK TROT RESULTS'!M38))","v":""},"",{"$f":"IF('Entry Information'!$H38=\"\",\"\",IF('Entry Information'!T38=\"\",N37,N37-100))","v":""},"",{"$f":"IF($L37=\"\",\"\",(VLOOKUP($P$41,Worksheet!$A$11:$AE$41,P37+1,FALSE)))","v":""},{"$f":"IF('Entry Information'!H38=\"\",\"\",'WALK TROT RESULTS'!R38)","v":""},{"$f":"IF('Entry Information'!$H38=\"\",\"\",IF('WALK TROT RESULTS'!S38=\"\",\"\",'WALK TROT RESULTS'!S38))","v":""},"",{"$f":"IF('Entry Information'!$H38=\"\",\"\",IF('Entry Information'!V38=\"\",T37,T37-100))","v":""},"",{"$f":"IF($R37=\"\",\"\",(VLOOKUP($V$41,Worksheet!$A$11:$AE$41,V37+1,FALSE)))","v":""},{"$f":"IF('Entry Information'!$H38=\"\",\"\",'WALK TROT RESULTS'!X38)","v":""},{"$f":"IF('Entry Information'!$H38=\"\",\"\",IF('WALK TROT RESULTS'!Y38=\"\",\"\",'WALK TROT RESULTS'!Y38))","v":""},"",{"$f":"IF('Entry Information'!$H38=\"\",\"\",IF('Entry Information'!X38=\"\",Z37,Z37-100))","v":""},"",{"$f":"IF($X37=\"\",\"\",(VLOOKUP($AB$41,Worksheet!$A$11:$AE$41,AB37+1,FALSE)))","v":""},{"$f":"IF('Entry Information'!$H38=\"\",\"\",'WALK TROT RESULTS'!AD38)","v":""},{"$f":"IF('Entry Information'!$H38=\"\",\"\",IF('WALK TROT RESULTS'!AE38=\"\",\"\",'WALK TROT RESULTS'!AE38))","v":""},"",{"$f":"IF('Entry Information'!$H38=\"\",\"\",IF('Entry Information'!Z38=\"\",AF37,AF37-100))","v":""},"",{"$f":"IF($AD37=\"\",\"\",(VLOOKUP($AH$41,Worksheet!$A$11:$AE$41,AH37+1,FALSE)))","v":""}]
[{"$f":"IF('Entry Information'!H39=\"\",\"\",'Entry Information'!B39)","v":""},{"$f":"IF('Entry Information'!H39=\"\",\"\",'Entry Information'!C39)","v":""},{"$f":"IF('Entry Information'!H39=\"\",\"\",'Entry Information'!D39)","v":""},{"$f":"IF('Entry Information'!H39=\"\",\"\",'Entry Information'!E39)","v":""},"NOV",{"$f":"IF('Entry Information'!H39=\"\",\"\",'WALK TROT RESULTS'!F39)","v":""},{"$f":"IF('Entry Information'!$H39=\"\",\"\",IF('WALK TROT RESULTS'!G39=\"\",\"\",'WALK TROT RESULTS'!G39))","v":""},"",{"$f":"IF('Entry Information'!$H39=\"\",\"\",IF('Entry Information'!R39=\"\",H38,H38-100))","v":""},"",{"$f":"IF($F38=\"\",\"\",(VLOOKUP($J$41,Worksheet!$A$11:$AE$41,J38+1,FALSE)))","v":""},{"$f":"IF('Entry Information'!H39=\"\",\"\",'WALK TROT RESULTS'!L39)","v":""},{"$f":"IF('Entry Information'!$H39=\"\",\"\",IF('WALK TROT RESULTS'!M39=\"\",\"\",'WALK TROT RESULTS'!M39))","v":""},"",{"$f":"IF('Entry Information'!$H39=\"\",\"\",IF('Entry Information'!T39=\"\",N38,N38-100))","v":""},"",{"$f":"IF($L38=\"\",\"\",(VLOOKUP($P$41,Worksheet!$A$11:$AE$41,P38+1,FALSE)))","v":""},{"$f":"IF('Entry Information'!H39=\"\",\"\",'WALK TROT RESULTS'!R39)","v":""},{"$f":"IF('Entry Information'!$H39=\"\",\"\",IF('WALK TROT RESULTS'!S39=\"\",\"\",'WALK TROT RESULTS'!S39))","v":""},"",{"$f":"IF('Entry Information'!$H39=\"\",\"\",IF('Entry Information'!V39=\"\",T38,T38-100))","v":""},"",{"$f":"IF($R38=\"\",\"\",(VLOOKUP($V$41,Worksheet!$A$11:$AE$41,V38+1,FALSE)))","v":""},{"$f":"IF('Entry Information'!$H39=\"\",\"\",'WALK TROT RESULTS'!X39)","v":""},{"$f":"IF('Entry Information'!$H39=\"\",\"\",IF('WALK TROT RESULTS'!Y39=\"\",\"\",'WALK TROT RESULTS'!Y39))","v":""},"",{"$f":"IF('Entry Information'!$H39=\"\",\"\",IF('Entry Information'!X39=\"\",Z38,Z38-100))","v":""},"",{"$f":"IF($X38=\"\",\"\",(VLOOKUP($AB$41,Worksheet!$A$11:$AE$41,AB38+1,FALSE)))","v":""},{"$f":"IF('Entry Information'!$H39=\"\",\"\",'WALK TROT RESULTS'!AD39)","v":""},{"$f":"IF('Entry Information'!$H39=\"\",\"\",IF('WALK TROT RESULTS'!AE39=\"\",\"\",'WALK TROT RESULTS'!AE39))","v":""},"",{"$f":"IF('Entry Information'!$H39=\"\",\"\",IF('Entry Information'!Z39=\"\",AF38,AF38-100))","v":""},"",{"$f":"IF($AD38=\"\",\"\",(VLOOKUP($AH$41,Worksheet!$A$11:$AE$41,AH38+1,FALSE)))","v":""}]
[{"$f":"IF('Entry Information'!H40=\"\",\"\",'Entry Information'!B40)","v":""},{"$f":"IF('Entry Information'!H40=\"\",\"\",'Entry Information'!C40)","v":""},{"$f":"IF('Entry Information'!H40=\"\",\"\",'Entry Information'!D40)","v":""},{"$f":"IF('Entry Information'!H40=\"\",\"\",'Entry Information'!E40)","v":""},"NOV",{"$f":"IF('Entry Information'!H40=\"\",\"\",'WALK TROT RESULTS'!F40)","v":""},{"$f":"IF('Entry Information'!$H40=\"\",\"\",IF('WALK TROT RESULTS'!G40=\"\",\"\",'WALK TROT RESULTS'!G40))","v":""},"",{"$f":"IF('Entry Information'!$H40=\"\",\"\",IF('Entry Information'!R40=\"\",H39,H39-100))","v":""},"",{"$f":"IF($F39=\"\",\"\",(VLOOKUP($J$41,Worksheet!$A$11:$AE$41,J39+1,FALSE)))","v":""},{"$f":"IF('Entry Information'!H40=\"\",\"\",'WALK TROT RESULTS'!L40)","v":""},{"$f":"IF('Entry Information'!$H40=\"\",\"\",IF('WALK TROT RESULTS'!M40=\"\",\"\",'WALK TROT RESULTS'!M40))","v":""},"",{"$f":"IF('Entry Information'!$H40=\"\",\"\",IF('Entry Information'!T40=\"\",N39,N39-100))","v":""},"",{"$f":"IF($L39=\"\",\"\",(VLOOKUP($P$41,Worksheet!$A$11:$AE$41,P39+1,FALSE)))","v":""},{"$f":"IF('Entry Information'!H40=\"\",\"\",'WALK TROT RESULTS'!R40)","v":""},{"$f":"IF('Entry Information'!$H40=\"\",\"\",IF('WALK TROT RESULTS'!S40=\"\",\"\",'WALK TROT RESULTS'!S40))","v":""},"",{"$f":"IF('Entry Information'!$H40=\"\",\"\",IF('Entry Information'!V40=\"\",T39,T39-100))","v":""},"",{"$f":"IF($R39=\"\",\"\",(VLOOKUP($V$41,Worksheet!$A$11:$AE$41,V39+1,FALSE)))","v":""},{"$f":"IF('Entry Information'!$H40=\"\",\"\",'WALK TROT RESULTS'!X40)","v":""},{"$f":"IF('Entry Information'!$H40=\"\",\"\",IF('WALK TROT RESULTS'!Y40=\"\",\"\",'WALK TROT RESULTS'!Y40))","v":""},"",{"$f":"IF('Entry Information'!$H40=\"\",\"\",IF('Entry Information'!X40=\"\",Z39,Z39-100))","v":""},"",{"$f":"IF($X39=\"\",\"\",(VLOOKUP($AB$41,Worksheet!$A$11:$AE$41,AB39+1,FALSE)))","v":""},{"$f":"IF('Entry Information'!$H40=\"\",\"\",'WALK TROT RESULTS'!AD40)","v":""},{"$f":"IF('Entry Information'!$H40=\"\",\"\",IF('WALK TROT RESULTS'!AE40=\"\",\"\",'WALK TROT RESULTS'!AE40))","v":""},"",{"$f":"IF('Entry Information'!$H40=\"\",\"\",IF('Entry Information'!Z40=\"\",AF39,AF39-100))","v":""},"",{"$f":"IF($AD39=\"\",\"\",(VLOOKUP($AH$41,Worksheet!$A$11:$AE$41,AH39+1,FALSE)))","v":""}]
[]
[null,null,null,null,null,null,null,null,null,{"$f":"COUNTIF(J10:J39,\">=0\")","v":0},null,null,null,null,null,{"$f":"COUNTIF(P10:P39,\">=0\")","v":0},null,null,null,null,null,{"$f":"COUNTIF(V10:V39,\">=0\")","v":0},null,null,null,null,null,{"$f":"COUNTIF(AB10:AB39,\">=0\")","v":0},null,null,null,null,null,{"$f":"COUNTIF(AH10:AH39,\">=0\")","v":0}]
[null,null,null,null,null,"1 - Total Penalty Points",null,null,null,null,null,"1 - Total Penalty Points",null,null,null,null,null,"1 - Total Penalty Points",null,null,null,null,null,"1 - Total Penalty Points",null,null,null,null,null,"1 - Total Penalty Points"]
[null,null,null,null,null,"2 - Extended Trot",null,null,null,null,null,"2 - Drag Log",null,null,null,null,null,"2 - Penning",null,null,null,null,null,"2 - Box Cow",null,null,null,null,null,"2 - Box Cow"]
[null,null,null,null,null,"3 - Transition down lope/walk/stop",null,null,null,null,null,"3 - Ground tie/bridle/pick-up legs",null,null,null,null,null,"3 - Working Center of arena",null,null,null,null,null,"3 -First Lead Change",null,null,null,null,null,"3 -First Lead Change"]
[null,null,null,null,null,"4 - Transition to lope/lope",null,null,null,null,null,"4 - Gate",null,null,null,null,null,"4 - Cut from Herd",null,null,null,null,null,"4 -Spin",null,null,null,null,null,"4 -Spin"]
[]
[]
["Scores in RED are ties - enter a 1 in the Tie Breaker Column of the winner to break tie.  If multiple ties enter a 1 for the second place and a 2 for winner."]
[]
[]
["Places highlighted have a major penatly."]

{"sheet":"NOVICE JR HORSE RESULTS","index":6,"n_rows":51,"n_cols":35,"rows_kept":51,"cut":false,"hidden":true,"merged":[[2,24,2,28],[2,29,2,34],[4,29,4,34],[1,0,1,2],[1,4,1,5],[1,9,1,16],[1,24,1,28],[1,29,1,34],[2,1,2,2],[2,4,2,5],[2,9,2,11],[4,17,4,22],[4,23,4,28],[4,5,4,10],[4,11,4,16],[5,5,5,10],[5,11,5,16],[6,5,8,5],[6,8,8,8],[6,12,8,12],[6,15,8,15],[6,16,8,16],[6,9,8,9],[6,10,8,10],[6,11,8,11],[6,32,8,32],[6,33,8,33],[6,34,8,34],[5,17,5,22],[5,23,5,28],[5,29,5,34],[6,31,8,31],[6,19,8,19],[6,20,8,20],[6,21,8,21],[6,22,8,22],[6,23,8,23],[6,17,8,17],[6,30,8,30],[6,28,8,28],[6,29,8,29],[47,0,48,4],[6,24,8,24],[6,25,8,25],[6,26,8,26],[6,27,8,27],[6,13,8,13],[6,14,8,14],[6,18,8,18],[6,6,8,6],[6,7,8,7]]}
[]
[null,null,null,null,"Event Name:",null,null,null,null,{"$f":"'Entry Information'!C4","v":"Ranch Horse Challenge"},null,null,null,null,null,null,null,null,null,null,null,null,null,null,"Judge #1 Name/Classes:",null,null,null,null,{"$f":"'Entry Information'!F4","v":"Mike Lund"}]
["Division:","NOVICE",null,null,"Event Date:",null,null,null,null,{"$f":"'Entry Information'!C5","v":"2018-03-25"},null,null,null,null,null,null,null,null,null,null,null,null,null,null,"Judge #2 Name/Classes:",null,null,null,null,{"$f":"'Entry Information'!F5","v":"Karen Arlin"}]
[]
[null,null,null,null,null,"RANCH",null,null,null,null,null,"RANCH",null,null,null,null,null,"RANCH",null,null,null,null,null,"RANCH",null,null,null,null,null,"RANCH"]
[null,null,null,null,null,"RIDING",null,null,null,null,null,"TRAIL",null,null,null,null,null,"CUTING",null,null,null,null,null,"REINED WORK",null,null,null,null,null,"COW WORK"]
[null,null,null,null,null,"Score","Tie Breaker","Adjusted Score for Ties","Adjusted Score Major Penalty","Place","Placement Points","Score","Tie Breaker","Adjusted Score for Ties","Adjusted Score Major Penalty","Place","Placement Points","Score","Tie Breaker","Adjusted Score for Ties","Adjusted Score Major Penalty","Place","Placement Points","Score","Tie Breaker","Adjusted Score for Ties","Adjusted Score Major Penalty","Place","Placement Points","Score","Tie Breaker","Adjusted Score for Ties","Adjusted Score Major Penalty","Place","Placement Points"]
[]
["Back No.","Last Name","First Name","Registered Horse Name","Division"]
[{"$f":"IF('Entry Information'!I11=\"\",\"\",'Entry Information'!B11)","v":""},{"$f":"IF('Entry Information'!I11=\"\",\"\",'Entry Information'!C11)","v":""},{"$f":"IF('Entry Information'!I11=\"\",\"\",'Entry Information'!D11)","v":""},{"$f":"IF('Entry Information'!I11=\"\",\"\",'Entry Information'!E11)","v":""},"NOV",{"$f":"IF('Entry Information'!I11=\"\",\"\",'WALK TROT RESULTS'!F11)","v":""},{"$f":"IF('Entry Information'!$I11=\"\",\"\",IF('WALK TROT RESULTS'!G11=\"\",\"\",'WALK TROT RESULTS'!G11))","v":""},{"$f":"IF(G10=\"\",F10,(F10+(G10*0.001)))","v":""},{"$f":"IF('Entry Information'!$I11=\"\",\"\",IF('Entry Information'!R11=\"\",H10,H10-100))","v":""},{"$f":"IF(I10=\"\",\"\",(RANK(I10,$I$10:$I$39,0)))","v":""},{"$f":"IF($F10=\"\",\"\",(VLOOKUP($J$41,Worksheet!$A$11:$AE$41,J10+1,FALSE)))","v":""},{"$f":"IF('Entry Information'!I11=\"\",\"\",'WALK TROT RESULTS'!L11)","v":""},{"$f":"IF('Entry Information'!$I11=\"\",\"\",IF('WALK TROT RESULTS'!M11=\"\",\"\",'WALK TROT RESULTS'!M11))","v":""},{"$f":"IF(M10=\"\",L10,(L10+(M10*0.001)))","v":""},{"$f":"IF('Entry Information'!$I11=\"\",\"\",IF('Entry Information'!T11=\"\",N10,N10-100))","v":""},{"$f":"IF(O10=\"\",\"\",(RANK(O10,$O$10:$O$39,0)))","v":""},{"$f":"IF($L10=\"\",\"\",(VLOOKUP($P$41,Worksheet!$A$11:$AE$41,P10+1,FALSE)))","v":""},{"$f":"IF('Entry Information'!I11=\"\",\"\",'WALK TROT RESULTS'!R11)","v":""},{"$f":"IF('Entry Information'!$I11=\"\",\"\",IF('WALK TROT RESULTS'!S11=\"\",\"\",'WALK TROT RESULTS'!S11))","v":""},{"$f":"IF(S10=\"\",R10,(R10+(S10*0.001)))","v":""},{"$f":"IF('Entry Information'!$I11=\"\",\"\",IF('Entry Information'!V11=\"\",T10,T10-100))","v":""},{"$f":"IF(U10=\"\",\"\",(RANK(U10,$U$10:$U$39,0)))","v":""},{"$f":"IF($R10=\"\",\"\",(VLOOKUP($V$41,Worksheet!$A$11:$AE$41,V10+1,FALSE)))","v":""},{"$f":"IF('Entry Information'!$I11=\"\",\"\",'WALK TROT RESULTS'!X11)","v":""},null,{"$f":"IF(Y10=\"\",X10,(X10+(Y10*0.001)))","v":""},{"$f":"IF('Entry Information'!$I11=\"\",\"\",IF('Entry Information'!X11=\"\",Z10,Z10-100))","v":""},{"$f":"IF(AA10=\"\",\"\",(RANK(AA10,$AA$10:$AA$39,0)))","v":""},{"$f":"IF($X10=\"\",\"\",(VLOOKUP($AB$41,Worksheet!$A$11:$AE$41,AB10+1,FALSE)))","v":""},{"$f":"IF('Entry Information'!$I11=\"\",\"\",'WALK TROT RESULTS'!AD11)","v":""},null,{"$f":"IF(AE10=\"\",AD10,(AD10+(AE10*0.001)))","v":""},{"$f":"IF('Entry Information'!$I11=\"\",\"\",IF('Entry Information'!Z11=\"\",AF10,AF10-100))","v":""},{"$f":"IF(AG10=\"\",\"\",(RANK(AG10,$AG$10:$AG$39,0)))","v":""},{"$f":"IF($AD10=\"\",\"\",(VLOOKUP($AH$41,Worksheet!$A$11:$AE$41,AH10+1,FALSE)))","v":""}]
[{"$f":"IF('Entry Information'!I12=\"\",\"\",'Entry Information'!B12)","v":""},{"$f":"IF('Entry Information'!I12=\"\",\"\",'Entry Information'!C12)","v":""},{"$f":"IF('Entry Information'!I12=\"\",\"\",'Entry Information'!D12)","v":""},{"$f":"IF('Entry Information'!I12=\"\",\"\",'Entry Information'!E12)","v":""},"NOV",{"$f":"IF('Entry Information'!I12=\"\",\"\",'WALK TROT RESULTS'!F12)","v":""},{"$f":"IF('Entry Information'!$I12=\"\",\"\",IF('WALK TROT RESULTS'!G12=\"\",\"\",'WALK TROT RESULTS'!G12))","v":""},{"$f":"IF(G11=\"\",F11,(F11+(G11*0.001)))","v":""},{"$f":"IF('Entry Information'!$I12=\"\",\"\",IF('Entry Information'!R12=\"\",H11,H11-100))","v":""},{"$f":"IF(I11=\"\",\"\",(RANK(I11,$I$10:$I$39,0)))","v":""},{"$f":"IF($F11=\"\",\"\",(VLOOKUP($J$41,Worksheet!$A$11:$AE$41,J11+1,FALSE)))","v":""},{"$f":"IF('Entry Information'!I12=\"\",\"\",'WALK TROT RESULTS'!L12)","v":""},{"$f":"IF('Entry Information'!$I12=\"\",\"\",IF('WALK TROT RESULTS'!M12=\"\",\"\",'WALK TROT RESULTS'!M12))","v":""},"",{"$f":"IF('Entry Information'!$I12=\"\",\"\",IF('Entry Information'!T12=\"\",N11,N11-100))","v":""},{"$f":"IF(O11=\"\",\"\",(RANK(O11,$O$10:$O$39,0)))","v":""},{"$f":"IF($L11=\"\",\"\",(VLOOKUP($P$41,Worksheet!$A$11:$AE$41,P11+1,FALSE)))","v":""},{"$f":"IF('Entry Information'!I12=\"\",\"\",'WALK TROT RESULTS'!R12)","v":""},{"$f":"IF('Entry Information'!$I12=\"\",\"\",IF('WALK TROT RESULTS'!S12=\"\",\"\",'WALK TROT RESULTS'!S12))","v":""},"",{"$f":"IF('Entry Information'!$I12=\"\",\"\",IF('Entry Information'!V12=\"\",T11,T11-100))","v":""},{"$f":"IF(U11=\"\",\"\",(RANK(U11,$U$10:$U$39,0)))","v":""},{"$f":"IF($R11=\"\",\"\",(VLOOKUP($V$41,Worksheet!$A$11:$AE$41,V11+1,FALSE)))","v":""},{"$f":"IF('Entry Information'!$I12=\"\",\"\",'WALK TROT RESULTS'!X12)","v":""},null,{"$f":"IF(Y11=\"\",X11,(X11+(Y11*0.001)))","v":""},{"$f":"IF('Entry Information'!$I12=\"\",\"\",IF('Entry Information'!X12=\"\",Z11,Z11-100))","v":""},{"$f":"IF(AA11=\"\",\"\",(RANK(AA11,$AA$10:$AA$39,0)))","v":""},{"$f":"IF($X11=\"\",\"\",(VLOOKUP($AB$41,Worksheet!$A$11:$AE$41,AB11+1,FALSE)))","v":""},{"$f":"IF('Entry Information'!$I12=\"\",\"\",'WALK TROT RESULTS'!AD12)","v":""},null,{"$f":"IF(AE11=\"\",AD11,(AD11+(AE11*0.001)))","v":""},{"$f":"IF('Entry Information'!$I12=\"\",\"\",IF('Entry Information'!Z12=\"\",AF11,AF11-100))","v":""},{"$f":"IF(AG11=\"\",\"\",(RANK(AG11,$AG$10:$AG$39,0)))","v":""},{"$f":"IF($AD11=\"\",\"\",(VLOOKUP($AH$41,Worksheet!$A$11:$AE$41,AH11+1,FALSE)))","v":""}]
[{"$f":"IF('Entry Information'!I13=\"\",\"\",'Entry Information'!B13)","v":""},{"$f":"IF('Entry Information'!I13=\"\",\"\",'Entry Information'!C13)","v":""},{"$f":"IF('Entry Information'!I13=\"\",\"\",'Entry Information'!D13)","v":""},{"$f":"IF('Entry Information'!I13=\"\",\"\",'Entry Information'!E13)","v":""},"NOV",{"$f":"IF('Entry Information'!I13=\"\",\"\",'WALK TROT RESULTS'!F13)","v":""},{"$f":"IF('Entry Information'!$I13=\"\",\"\",IF('WALK TROT RESULTS'!G13=\"\",\"\",'WALK TROT RESULTS'!G13))","v":""},"",{"$f":"IF('Entry Information'!$I13=\"\",\"\",IF('Entry Information'!R13=\"\",H12,H12-100))","v":""},"",{"$f":"IF($F12=\"\",\"\",(VLOOKUP($J$41,Worksheet!$A$11:$AE$41,J12+1,FALSE)))","v":""},{"$f":"IF('Entry Information'!I13=\"\",\"\",'WALK TROT RESULTS'!L13)","v":""},{"$f":"IF('Entry Information'!$I13=\"\",\"\",IF('WALK TROT RESULTS'!M13=\"\",\"\",'WALK TROT RESULTS'!M13))","v":""},"",{"$f":"IF('Entry Information'!$I13=\"\",\"\",IF('Entry Information'!T13=\"\",N12,N12-100))","v":""},"",{"$f":"IF($L12=\"\",\"\",(VLOOKUP($P$41,Worksheet!$A$11:$AE$41,P12+1,FALSE)))","v":""},{"$f":"IF('Entry Information'!I13=\"\",\"\",'WALK TROT RESULTS'!R13)","v":""},{"$f":"IF('Entry Information'!$I13=\"\",\"\",IF('WALK TROT RESULTS'!S13=\"\",\"\",'WALK TROT RESULTS'!S13))","v":""},"",{"$f":"IF('Entry Information'!$I13=\"\",\"\",IF('Entry Information'!V13=\"\",T12,T12-100))","v":""},"",{"$f":"IF($R12=\"\",\"\",(VLOOKUP($V$41,Worksheet!$A$11:$AE$41,V12+1,FALSE)))","v":""},{"$f":"IF('Entry Information'!$I13=\"\",\"\",'WALK TROT RESULTS'!X13)","v":""},null,"",{"$f":"IF('Entry Information'!$I13=\"\",\"\",IF('Entry Information'!X13=\"\",Z12,Z12-100))","v":""},"",{"$f":"IF($X12=\"\",\"\",(VLOOKUP($AB$41,Worksheet!$A$11:$AE$41,AB12+1,FALSE)))","v":""},{"$f":"IF('Entry Information'!$I13=\"\",\"\",'WALK TROT RESULTS'!AD13)","v":""},null,"",{"$f":"IF('Entry Information'!$I13=\"\",\"\",IF('Entry Information'!Z13=\"\",AF12,AF12-100))","v":""},"",{"$f":"IF($AD12=\"\",\"\",(VLOOKUP($AH$41,Worksheet!$A$11:$AE$41,AH12+1,FALSE)))","v":""}]
[{"$f":"IF('Entry Information'!I14=\"\",\"\",'Entry Information'!B14)","v":""},{"$f":"IF('Entry Information'!I14=\"\",\"\",'Entry Information'!C14)","v":""},{"$f":"IF('Entry Information'!I14=\"\",\"\",'Entry Information'!D14)","v":""},{"$f":"IF('Entry Information'!I14=\"\",\"\",'Entry Information'!E14)","v":""},"NOV",{"$f":"IF('Entry Information'!I14=\"\",\"\",'WALK TROT RESULTS'!F14)","v":""},{"$f":"IF('Entry Information'!$I14=\"\",\"\",IF('WALK TROT RESULTS'!G14=\"\",\"\",'WALK TROT RESULTS'!G14))","v":""},"",{"$f":"IF('Entry Information'!$I14=\"\",\"\",IF('Entry Information'!R14=\"\",H13,H13-100))","v":""},"",{"$f":"IF($F13=\"\",\"\",(VLOOKUP($J$41,Worksheet!$A$11:$AE$41,J13+1,FALSE)))","v":""},{"$f":"IF('Entry Information'!I14=\"\",\"\",'WALK TROT RESULTS'!L14)","v":""},{"$f":"IF('Entry Information'!$I14=\"\",\"\",IF('WALK TROT RESULTS'!M14=\"\",\"\",'WALK TROT RESULTS'!M14))","v":""},"",{"$f":"IF('Entry Information'!$I14=\"\",\"\",IF('Entry Information'!T14=\"\",N13,N13-100))","v":""},"",{"$f":"IF($L13=\"\",\"\",(VLOOKUP($P$41,Worksheet!$A$11:$AE$41,P13+1,FALSE)))","v":""},{"$f":"IF('Entry Information'!I14=\"\",\"\",'WALK TROT RESULTS'!R14)","v":""},{"$f":"IF('Entry Information'!$I14=\"\",\"\",IF('WALK TROT RESULTS'!S14=\"\",\"\",'WALK TROT RESULTS'!S14))","v":""},"",{"$f":"IF('Entry Information'!$I14=\"\",\"\",IF('Entry Information'!V14=\"\",T13,T13-100))","v":""},"",{"$f":"IF($R13=\"\",\"\",(VLOOKUP($V$41,Worksheet!$A$11:$AE$41,V13+1,FALSE)))","v":""},{"$f":"IF('Entry Information'!$I14=\"\",\"\",'WALK TROT RESULTS'!X14)","v":""},null,"",{"$f":"IF('Entry Information'!$I14=\"\",\"\",IF('Entry Information'!X14=\"\",Z13,Z13-100))","v":""},"",{"$f":"IF($X13=\"\",\"\",(VLOOKUP($AB$41,Worksheet!$A$11:$AE$41,AB13+1,FALSE)))","v":""},{"$f":"IF('Entry Information'!$I14=\"\",\"\",'WALK TROT RESULTS'!AD14)","v":""},null,"",{"$f":"IF('Entry Information'!$I14=\"\",\"\",IF('Entry Information'!Z14=\"\",AF13,AF13-100))","v":""},"",{"$f":"IF($AD13=\"\",\"\",(VLOOKUP($AH$41,Worksheet!$A$11:$AE$41,AH13+1,FALSE)))","v":""}]
[{"$f":"IF('Entry Information'!I15=\"\",\"\",'Entry Information'!B15)","v":""},{"$f":"IF('Entry Information'!I15=\"\",\"\",'Entry Information'!C15)","v":""},{"$f":"IF('Entry Information'!I15=\"\",\"\",'Entry Information'!D15)","v":""},{"$f":"IF('Entry Information'!I15=\"\",\"\",'Entry Information'!E15)","v":""},"NOV",{"$f":"IF('Entry Information'!I15=\"\",\"\",'WALK TROT RESULTS'!F15)","v":""},{"$f":"IF('Entry Information'!$I15=\"\",\"\",IF('WALK TROT RESULTS'!G15=\"\",\"\",'WALK TROT RESULTS'!G15))","v":""},"",{"$f":"IF('Entry Information'!$I15=\"\",\"\",IF('Entry Information'!R15=\"\",H14,H14-100))","v":""},"",{"$f":"IF($F14=\"\",\"\",(VLOOKUP($J$41,Worksheet!$A$11:$AE$41,J14+1,FALSE)))","v":""},{"$f":"IF('Entry Information'!I15=\"\",\"\",'WALK TROT RESULTS'!L15)","v":""},{"$f":"IF('Entry Information'!$I15=\"\",\"\",IF('WALK TROT RESULTS'!M15=\"\",\"\",'WALK TROT RESULTS'!M15))","v":""},"",{"$f":"IF('Entry Information'!$I15=\"\",\"\",IF('Entry Information'!T15=\"\",N14,N14-100))","v":""},"",{"$f":"IF($L14=\"\",\"\",(VLOOKUP($P$41,Worksheet!$A$11:$AE$41,P14+1,FALSE)))","v":""},{"$f":"IF('Entry Information'!I15=\"\",\"\",'WALK TROT RESULTS'!R15)","v":""},{"$f":"IF('Entry Information'!$I15=\"\",\"\",IF('WALK TROT RESULTS'!S15=\"\",\"\",'WALK TROT RESULTS'!S15))","v":""},"",{"$f":"IF('Entry Information'!$I15=\"\",\"\",IF('Entry Information'!V15=\"\",T14,T14-100))","v":""},"",{"$f":"IF($R14=\"\",\"\",(VLOOKUP($V$41,Worksheet!$A$11:$AE$41,V14+1,FALSE)))","v":""},{"$f":"IF('Entry Information'!$I15=\"\",\"\",'WALK TROT RESULTS'!X15)","v":""},null,"",{"$f":"IF('Entry Information'!$I15=\"\",\"\",IF('Entry Information'!X15=\"\",Z14,Z14-100))","v":""},"",{"$f":"IF($X14=\"\",\"\",(VLOOKUP($AB$41,Worksheet!$A$11:$AE$41,AB14+1,FALSE)))","v":""},{"$f":"IF('Entry Information'!$I15=\"\",\"\",'WALK TROT RESULTS'!AD15)","v":""},null,"",{"$f":"IF('Entry Information'!$I15=\"\",\"\",IF('Entry Information'!Z15=\"\",AF14,AF14-100))","v":""},"",{"$f":"IF($AD14=\"\",\"\",(VLOOKUP($AH$41,Worksheet!$A$11:$AE$41,AH14+1,FALSE)))","v":""}]
[{"$f":"IF('Entry Information'!I16=\"\",\"\",'Entry Information'!B16)","v":""},{"$f":"IF('Entry Information'!I16=\"\",\"\",'Entry Information'!C16)","v":""},{"$f":"IF('Entry Information'!I16=\"\",\"\",'Entry Information'!D16)","v":""},{"$f":"IF('Entry Information'!I16=\"\",\"\",'Entry Information'!E16)","v":""},"NOV",{"$f":"IF('Entry Information'!I16=\"\",\"\",'WALK TROT RESULTS'!F16)","v":""},{"$f":"IF('Entry Information'!$I16=\"\",\"\",IF('WALK TROT RESULTS'!G16=\"\",\"\",'WALK TROT RESULTS'!G16))","v":""},"",{"$f":"IF('Entry Information'!$I16=\"\",\"\",IF('Entry Information'!R16=\"\",H15,H15-100))","v":""},"",{"$f":"IF($F15=\"\",\"\",(VLOOKUP($J$41,Worksheet!$A$11:$AE$41,J15+1,FALSE)))","v":""},{"$f":"IF('Entry Information'!I16=\"\",\"\",'WALK TROT RESULTS'!L16)","v":""},{"$f":"IF('Entry Information'!$I16=\"\",\"\",IF('WALK TROT RESULTS'!M16=\"\",\"\",'WALK TROT RESULTS'!M16))","v":""},"",{"$f":"IF('Entry Information'!$I16=\"\",\"\",IF('Entry Information'!T16=\"\",N15,N15-100))","v":""},"",{"$f":"IF($L15=\"\",\"\",(VLOOKUP($P$41,Worksheet!$A$11:$AE$41,P15+1,FALSE)))","v":""},{"$f":"IF('Entry Information'!I16=\"\",\"\",'WALK TROT RESULTS'!R16)","v":""},{"$f":"IF('Entry Information'!$I16=\"\",\"\",IF('WALK TROT RESULTS'!S16=\"\",\"\",'WALK TROT RESULTS'!S16))","v":""},"",{"$f":"IF('Entry Information'!$I16=\"\",\"\",IF('Entry Information'!V16=\"\",T15,T15-100))","v":""},"",{"$f":"IF($R15=\"\",\"\",(VLOOKUP($V$41,Worksheet!$A$11:$AE$41,V15+1,FALSE)))","v":""},{"$f":"IF('Entry Information'!$I16=\"\",\"\",'WALK TROT RESULTS'!X16)","v":""},null,"",{"$f":"IF('Entry Information'!$I16=\"\",\"\",IF('Entry Information'!X16=\"\",Z15,Z15-100))","v":""},"",{"$f":"IF($X15=\"\",\"\",(VLOOKUP($AB$41,Worksheet!$A$11:$AE$41,AB15+1,FALSE)))","v":""},{"$f":"IF('Entry Information'!$I16=\"\",\"\",'WALK TROT RESULTS'!AD16)","v":""},null,"",{"$f":"IF('Entry Information'!$I16=\"\",\"\",IF('Entry Information'!Z16=\"\",AF15,AF15-100))","v":""},"",{"$f":"IF($AD15=\"\",\"\",(VLOOKUP($AH$41,Worksheet!$A$11:$AE$41,AH15+1,FALSE)))","v":""}]
[{"$f":"IF('Entry Information'!I17=\"\",\"\",'Entry Information'!B17)","v":""},{"$f":"IF('Entry Information'!I17=\"\",\"\",'Entry Information'!C17)","v":""},{"$f":"IF('Entry Information'!I17=\"\",\"\",'Entry Information'!D17)","v":""},{"$f":"IF('Entry Information'!I17=\"\",\"\",'Entry Information'!E17)","v":""},"NOV",{"$f":"IF('Entry Information'!I17=\"\",\"\",'WALK TROT RESULTS'!F17)","v":""},{"$f":"IF('Entry Information'!$I17=\"\",\"\",IF('WALK TROT RESULTS'!G17=\"\",\"\",'WALK TROT RESULTS'!G17))","v":""},"",{"$f":"IF('Entry Information'!$I17=\"\",\"\",IF('Entry Information'!R17=\"\",H16,H16-100))","v":""},"",{"$f":"IF($F16=\"\",\"\",(VLOOKUP($J$41,Worksheet!$A$11:$AE$41,J16+1,FALSE)))","v":""},{"$f":"IF('Entry Information'!I17=\"\",\"\",'WALK TROT RESULTS'!L17)","v":""},{"$f":"IF('Entry Information'!$I17=\"\",\"\",IF('WALK TROT RESULTS'!M17=\"\",\"\",'WALK TROT RESULTS'!M17))","v":""},"",{"$f":"IF('Entry Information'!$I17=\"\",\"\",IF('Entry Information'!T17=\"\",N16,N16-100))","v":""},"",{"$f":"IF($L16=\"\",\"\",(VLOOKUP($P$41,Worksheet!$A$11:$AE$41,P16+1,FALSE)))","v":""},{"$f":"IF('Entry Information'!I17=\"\",\"\",'WALK TROT RESULTS'!R17)","v":""},{"$f":"IF('Entry Information'!$I17=\"\",\"\",IF('WALK TROT RESULTS'!S17=\"\",\"\",'WALK TROT RESULTS'!S17))","v":""},"",{"$f":"IF('Entry Information'!$I17=\"\",\"\",IF('Entry Information'!V17=\"\",T16,T16-100))","v":""},"",{"$f":"IF($R16=\"\",\"\",(VLOOKUP($V$41,Worksheet!$A$11:$AE$41,V16+1,FALSE)))","v":""},{"$f":"IF('Entry Information'!$I17=\"\",\"\",'WALK TROT RESULTS'!X17)","v":""},null,"",{"$f":"IF('Entry Information'!$I17=\"\",\"\",IF('Entry Information'!X17=\"\",Z16,Z16-100))","v":""},"",{"$f":"IF($X16=\"\",\"\",(VLOOKUP($AB$41,Worksheet!$A$11:$AE$41,AB16+1,FALSE)))","v":""},{"$f":"IF('Entry Information'!$I17=\"\",\"\",'WALK TROT RESULTS'!AD17)","v":""},null,"",{"$f":"IF('Entry Information'!$I17=\"\",\"\",IF('Entry Information'!Z17=\"\",AF16,AF16-100))","v":""},"",{"$f":"IF($AD16=\"\",\"\",(VLOOKUP($AH$41,Worksheet!$A$11:$AE$41,AH16+1,FALSE)))","v":""}]
[{"$f":"IF('Entry Information'!I18=\"\",\"\",'Entry Information'!B18)","v":""},{"$f":"IF('Entry Information'!I18=\"\",\"\",'Entry Information'!C18)","v":""},{"$f":"IF('Entry Information'!I18=\"\",\"\",'Entry Information'!D18)","v":""},{"$f":"IF('Entry Information'!I18=\"\",\"\",'Entry Information'!E18)","v":""},"NOV",{"$f":"IF('Entry Information'!I18=\"\",\"\",'WALK TROT RESULTS'!F18)","v":""},{"$f":"IF('Entry Information'!$I18=\"\",\"\",IF('WALK TROT RESULTS'!G18=\"\",\"\",'WALK TROT RESULTS'!G18))","v":""},"",{"$f":"IF('Entry Information'!$I18=\"\",\"\",IF('Entry Information'!R18=\"\",H17,H17-100))","v":""},"",{"$f":"IF($F17=\"\",\"\",(VLOOKUP($J$41,Worksheet!$A$11:$AE$41,J17+1,FALSE)))","v":""},{"$f":"IF('Entry Information'!I18=\"\",\"\",'WALK TROT RESULTS'!L18)","v":""},{"$f":"IF('Entry Information'!$I18=\"\",\"\",IF('WALK TROT RESULTS'!M18=\"\",\"\",'WALK TROT RESULTS'!M18))","v":""},"",{"$f":"IF('Entry Information'!$I18=\"\",\"\",IF('Entry Information'!T18=\"\",N17,N17-100))","v":""},"",{"$f":"IF($L17=\"\",\"\",(VLOOKUP($P$41,Worksheet!$A$11:$AE$41,P17+1,FALSE)))","v":""},{"$f":"IF('Entry Information'!I18=\"\",\"\",'WALK TROT RESULTS'!R18)","v":""},{"$f":"IF('Entry Information'!$I18=\"\",\"\",IF('WALK TROT RESULTS'!S18=\"\",\"\",'WALK TROT RESULTS'!S18))","v":""},"",{"$f":"IF('Entry Information'!$I18=\"\",\"\",IF('Entry Information'!V18=\"\",T17,T17-100))","v":""},"",{"$f":"IF($R17=\"\",\"\",(VLOOKUP($V$41,Worksheet!$A$11:$AE$41,V17+1,FALSE)))","v":""},{"$f":"IF('Entry Information'!$I18=\"\",\"\",'WALK TROT RESULTS'!X18)","v":""},null,"",{"$f":"IF('Entry Information'!$I18=\"\",\"\",IF('Entry Information'!X18=\"\",Z17,Z17-100))","v":""},"",{"$f":"IF($X17=\"\",\"\",(VLOOKUP($AB$41,Worksheet!$A$11:$AE$41,AB17+1,FALSE)))","v":""},{"$f":"IF('Entry Information'!$I18=\"\",\"\",'WALK TROT RESULTS'!AD18)","v":""},null,"",{"$f":"IF('Entry Information'!$I18=\"\",\"\",IF('Entry Information'!Z18=\"\",AF17,AF17-100))","v":""},"",{"$f":"IF($AD17=\"\",\"\",(VLOOKUP($AH$41,Worksheet!$A$11:$AE$41,AH17+1,FALSE)))","v":""}]
[{"$f":"IF('Entry Information'!I19=\"\",\"\",'Entry Information'!B19)","v":""},{"$f":"IF('Entry Information'!I19=\"\",\"\",'Entry Information'!C19)","v":""},{"$f":"IF('Entry Information'!I19=\"\",\"\",'Entry Information'!D19)","v":""},{"$f":"IF('Entry Information'!I19=\"\",\"\",'Entry Information'!E19)","v":""},"NOV",{"$f":"IF('Entry Information'!I19=\"\",\"\",'WALK TROT RESULTS'!F19)","v":""},{"$f":"IF('Entry Information'!$I19=\"\",\"\",IF('WALK TROT RESULTS'!G19=\"\",\"\",'WALK TROT RESULTS'!G19))","v":""},"",{"$f":"IF('Entry Information'!$I19=\"\",\"\",IF('Entry Information'!R19=\"\",H18,H18-100))","v":""},"",{"$f":"IF($F18=\"\",\"\",(VLOOKUP($J$41,Worksheet!$A$11:$AE$41,J18+1,FALSE)))","v":""},{"$f":"IF('Entry Information'!I19=\"\",\"\",'WALK TROT RESULTS'!L19)","v":""},{"$f":"IF('Entry Information'!$I19=\"\",\"\",IF('WALK TROT RESULTS'!M19=\"\",\"\",'WALK TROT RESULTS'!M19))","v":""},"",{"$f":"IF('Entry Information'!$I19=\"\",\"\",IF('Entry Information'!T19=\"\",N18,N18-100))","v":""},"",{"$f":"IF($L18=\"\",\"\",(VLOOKUP($P$41,Worksheet!$A$11:$AE$41,P18+1,FALSE)))","v":""},{"$f":"IF('Entry Information'!I19=\"\",\"\",'WALK TROT RESULTS'!R19)","v":""},{"$f":"IF('Entry Information'!$I19=\"\",\"\",IF('WALK TROT RESULTS'!S19=\"\",\"\",'WALK TROT RESULTS'!S19))","v":""},"",{"$f":"IF('Entry Information'!$I19=\"\",\"\",IF('Entry Information'!V19=\"\",T18,T18-100))","v":""},"",{"$f":"IF($R18=\"\",\"\",(VLOOKUP($V$41,Worksheet!$A$11:$AE$41,V18+1,FALSE)))","v":""},{"$f":"IF('Entry Information'!$I19=\"\",\"\",'WALK TROT RESULTS'!X19)","v":""},null,"",{"$f":"IF('Entry Information'!$I19=\"\",\"\",IF('Entry Information'!X19=\"\",Z18,Z18-100))","v":""},"",{"$f":"IF($X18=\"\",\"\",(VLOOKUP($AB$41,Worksheet!$A$11:$AE$41,AB18+1,FALSE)))","v":""},{"$f":"IF('Entry Information'!$I19=\"\",\"\",'WALK TROT RESULTS'!AD19)","v":""},null,"",{"$f":"IF('Entry Information'!$I19=\"\",\"\",IF('Entry Information'!Z19=\"\",AF18,AF18-100))","v":""},"",{"$f":"IF($AD18=\"\",\"\",(VLOOKUP($AH$41,Worksheet!$A$11:$AE$41,AH18+1,FALSE)))","v":""}]
[{"$f":"IF('Entry Information'!I20=\"\",\"\",'Entry Information'!B20)","v":""},{"$f":"IF('Entry Information'!I20=\"\",\"\",'Entry Information'!C20)","v":""},{"$f":"IF('Entry Information'!I20=\"\",\"\",'Entry Information'!D20)","v":""},{"$f":"IF('Entry Information'!I20=\"\",\"\",'Entry Information'!E20)","v":""},"NOV",{"$f":"IF('Entry Information'!I20=\"\",\"\",'WALK TROT RESULTS'!F20)","v":""},{"$f":"IF('Entry Information'!$I20=\"\",\"\",IF('WALK TROT RESULTS'!G20=\"\",\"\",'WALK TROT RESULTS'!G20))","v":""},"",{"$f":"IF('Entry Information'!$I20=\"\",\"\",IF('Entry Information'!R20=\"\",H19,H19-100))","v":""},"",{"$f":"IF($F19=\"\",\"\",(VLOOKUP($J$41,Worksheet!$A$11:$AE$41,J19+1,FALSE)))","v":""},{"$f":"IF('Entry Information'!I20=\"\",\"\",'WALK TROT RESULTS'!L20)","v":""},{"$f":"IF('Entry Information'!$I20=\"\",\"\",IF('WALK TROT RESULTS'!M20=\"\",\"\",'WALK TROT RESULTS'!M20))","v":""},"",{"$f":"IF('Entry Information'!$I20=\"\",\"\",IF('Entry Information'!T20=\"\",N19,N19-100))","v":""},"",{"$f":"IF($L19=\"\",\"\",(VLOOKUP($P$41,Worksheet!$A$11:$AE$41,P19+1,FALSE)))","v":""},{"$f":"IF('Entry Information'!I20=\"\",\"\",'WALK TROT RESULTS'!R20)","v":""},{"$f":"IF('Entry Information'!$I20=\"\",\"\",IF('WALK TROT RESULTS'!S20=\"\",\"\",'WALK TROT RESULTS'!S20))","v":""},"",{"$f":"IF('Entry Information'!$I20=\"\",\"\",IF('Entry Information'!V20=\"\",T19,T19-100))","v":""},"",{"$f":"IF($R19=\"\",\"\",(VLOOKUP($V$41,Worksheet!$A$11:$AE$41,V19+1,FALSE)))","v":""},{"$f":"IF('Entry Information'!$I20=\"\",\"\",'WALK TROT RESULTS'!X20)","v":""},null,"",{"$f":"IF('Entry Information'!$I20=\"\",\"\",IF('Entry Information'!X20=\"\",Z19,Z19-100))","v":""},"",{"$f":"IF($X19=\"\",\"\",(VLOOKUP($AB$41,Worksheet!$A$11:$AE$41,AB19+1,FALSE)))","v":""},{"$f":"IF('Entry Information'!$I20=\"\",\"\",'WALK TROT RESULTS'!AD20)","v":""},null,"",{"$f":"IF('Entry Information'!$I20=\"\",\"\",IF('Entry Information'!Z20=\"\",AF19,AF19-100))","v":""},"",{"$f":"IF($AD19=\"\",\"\",(VLOOKUP($AH$41,Worksheet!$A$11:$AE$41,AH19+1,FALSE)))","v":""}]
[{"$f":"IF('Entry Information'!I21=\"\",\"\",'Entry Information'!B21)","v":""},{"$f":"IF('Entry Information'!I21=\"\",\"\",'Entry Information'!C21)","v":""},{"$f":"IF('Entry Information'!I21=\"\",\"\",'Entry Information'!D21)","v":""},{"$f":"IF('Entry Information'!I21=\"\",\"\",'Entry Information'!E21)","v":""},"NOV",{"$f":"IF('Entry Information'!I21=\"\",\"\",'WALK TROT RESULTS'!F21)","v":""},{"$f":"IF('Entry Information'!$I21=\"\",\"\",IF('WALK TROT RESULTS'!G21=\"\",\"\",'WALK TROT RESULTS'!G21))","v":""},"",{"$f":"IF('Entry Information'!$I21=\"\",\"\",IF('Entry Information'!R21=\"\",H20,H20-100))","v":""},"",{"$f":"IF($F20=\"\",\"\",(VLOOKUP($J$41,Worksheet!$A$11:$AE$41,J20+1,FALSE)))","v":""},{"$f":"IF('Entry Information'!I21=\"\",\"\",'WALK TROT RESULTS'!L21)","v":""},{"$f":"IF('Entry Information'!$I21=\"\",\"\",IF('WALK TROT RESULTS'!M21=\"\",\"\",'WALK TROT RESULTS'!M21))","v":""},"",{"$f":"IF('Entry Information'!$I21=\"\",\"\",IF('Entry Information'!T21=\"\",N20,N20-100))","v":""},"",{"$f":"IF($L20=\"\",\"\",(VLOOKUP($P$41,Worksheet!$A$11:$AE$41,P20+1,FALSE)))","v":""},{"$f":"IF('Entry Information'!I21=\"\",\"\",'WALK TROT RESULTS'!R21)","v":""},{"$f":"IF('Entry Information'!$I21=\"\",\"\",IF('WALK TROT RESULTS'!S21=\"\",\"\",'WALK TROT RESULTS'!S21))","v":""},"",{"$f":"IF('Entry Information'!$I21=\"\",\"\",IF('Entry Information'!V21=\"\",T20,T20-100))","v":""},"",{"$f":"IF($R20=\"\",\"\",(VLOOKUP($V$41,Worksheet!$A$11:$AE$41,V20+1,FALSE)))","v":""},{"$f":"IF('Entry Information'!$I21=\"\",\"\",'WALK TROT RESULTS'!X21)","v":""},null,"",{"$f":"IF('Entry Information'!$I21=\"\",\"\",IF('Entry Information'!X21=\"\",Z20,Z20-100))","v":""},"",{"$f":"IF($X20=\"\",\"\",(VLOOKUP($AB$41,Worksheet!$A$11:$AE$41,AB20+1,FALSE)))","v":""},{"$f":"IF('Entry Information'!$I21=\"\",\"\",'WALK TROT RESULTS'!AD21)","v":""},null,"",{"$f":"IF('Entry Information'!$I21=\"\",\"\",IF('Entry Information'!Z21=\"\",AF20,AF20-100))","v":""},"",{"$f":"IF($AD20=\"\",\"\",(VLOOKUP($AH$41,Worksheet!$A$11:$AE$41,AH20+1,FALSE)))","v":""}]
[{"$f":"IF('Entry Information'!I22=\"\",\"\",'Entry Information'!B22)","v":""},{"$f":"IF('Entry Information'!I22=\"\",\"\",'Entry Information'!C22)","v":""},{"$f":"IF('Entry Information'!I22=\"\",\"\",'Entry Information'!D22)","v":""},{"$f":"IF('Entry Information'!I22=\"\",\"\",'Entry Information'!E22)","v":""},"NOV",{"$f":"IF('Entry Information'!I22=\"\",\"\",'WALK TROT RESULTS'!F22)","v":""},{"$f":"IF('Entry Information'!$I22=\"\",\"\",IF('WALK TROT RESULTS'!G22=\"\",\"\",'WALK TROT RESULTS'!G22))","v":""},"",{"$f":"IF('Entry Information'!$I22=\"\",\"\",IF('Entry Information'!R22=\"\",H21,H21-100))","v":""},"",{"$f":"IF($F21=\"\",\"\",(VLOOKUP($J$41,Worksheet!$A$11:$AE$41,J21+1,FALSE)))","v":""},{"$f":"IF('Entry Information'!I22=\"\",\"\",'WALK TROT RESULTS'!L22)","v":""},{"$f":"IF('Entry Information'!$I22=\"\",\"\",IF('WALK TROT RESULTS'!M22=\"\",\"\",'WALK TROT RESULTS'!M22))","v":""},"",{"$f":"IF('Entry Information'!$I22=\"\",\"\",IF('Entry Information'!T22=\"\",N21,N21-100))","v":""},"",{"$f":"IF($L21=\"\",\"\",(VLOOKUP($P$41,Worksheet!$A$11:$AE$41,P21+1,FALSE)))","v":""},{"$f":"IF('Entry Information'!I22=\"\",\"\",'WALK TROT RESULTS'!R22)","v":""},{"$f":"IF('Entry Information'!$I22=\"\",\"\",IF('WALK TROT RESULTS'!S22=\"\",\"\",'WALK TROT RESULTS'!S22))","v":""},"",{"$f":"IF('Entry Information'!$I22=\"\",\"\",IF('Entry Information'!V22=\"\",T21,T21-100))","v":""},"",{"$f":"IF($R21=\"\",\"\",(VLOOKUP($V$41,Worksheet!$A$11:$AE$41,V21+1,FALSE)))","v":""},{"$f":"IF('Entry Information'!$I22=\"\",\"\",'WALK TROT RESULTS'!X22)","v":""},null,"",{"$f":"IF('Entry Information'!$I22=\"\",\"\",IF('Entry Information'!X22=\"\",Z21,Z21-100))","v":""},"",{"$f":"IF($X21=\"\",\"\",(VLOOKUP($AB$41,Worksheet!$A$11:$AE$41,AB21+1,FALSE)))","v":""},{"$f":"IF('Entry Information'!$I22=\"\",\"\",'WALK TROT RESULTS'!AD22)","v":""},null,"",{"$f":"IF('Entry Information'!$I22=\"\",\"\",IF('Entry Information'!Z22=\"\",AF21,AF21-100))","v":""},"",{"$f":"IF($AD21=\"\",\"\",(VLOOKUP($AH$41,Worksheet!$A$11:$AE$41,AH21+1,FALSE)))","v":""}]
[{"$f":"IF('Entry Information'!I23=\"\",\"\",'Entry Information'!B23)","v":""},{"$f":"IF('Entry Information'!I23=\"\",\"\",'Entry Information'!C23)","v":""},{"$f":"IF('Entry Information'!I23=\"\",\"\",'Entry Information'!D23)","v":""},{"$f":"IF('Entry Information'!I23=\"\",\"\",'Entry Information'!E23)","v":""},"NOV",{"$f":"IF('Entry Information'!I23=\"\",\"\",'WALK TROT RESULTS'!F23)","v":""},{"$f":"IF('Entry Information'!$I23=\"\",\"\",IF('WALK TROT RESULTS'!G23=\"\",\"\",'WALK TROT RESULTS'!G23))","v":""},"",{"$f":"IF('Entry Information'!$I23=\"\",\"\",IF('Entry Information'!R23=\"\",H22,H22-100))","v":""},"",{"$f":"IF($F22=\"\",\"\",(VLOOKUP($J$41,Worksheet!$A$11:$AE$41,J22+1,FALSE)))","v":""},{"$f":"IF('Entry Information'!I23=\"\",\"\",'WALK TROT RESULTS'!L23)","v":""},{"$f":"IF('Entry Information'!$I23=\"\",\"\",IF('WALK TROT RESULTS'!M23=\"\",\"\",'WALK TROT RESULTS'!M23))","v":""},"",{"$f":"IF('Entry Information'!$I23=\"\",\"\",IF('Entry Information'!T23=\"\",N22,N22-100))","v":""},"",{"$f":"IF($L22=\"\",\"\",(VLOOKUP($P$41,Worksheet!$A$11:$AE$41,P22+1,FALSE)))","v":""},{"$f":"IF('Entry Information'!I23=\"\",\"\",'WALK TROT RESULTS'!R23)","v":""},{"$f":"IF('Entry Information'!$I23=\"\",\"\",IF('WALK TROT RESULTS'!S23=\"\",\"\",'WALK TROT RESULTS'!S23))","v":""},"",{"$f":"IF('Entry Information'!$I23=\"\",\"\",IF('Entry Information'!V23=\"\",T22,T22-100))","v":""},"",{"$f":"IF($R22=\"\",\"\",(VLOOKUP($V$41,Worksheet!$A$11:$AE$41,V22+1,FALSE)))","v":""},{"$f":"IF('Entry Information'!$I23=\"\",\"\",'WALK TROT RESULTS'!X23)","v":""},null,"",{"$f":"IF('Entry Information'!$I23=\"\",\"\",IF('Entry Information'!X23=\"\",Z22,Z22-100))","v":""},"",{"$f":"IF($X22=\"\",\"\",(VLOOKUP($AB$41,Worksheet!$A$11:$AE$41,AB22+1,FALSE)))","v":""},{"$f":"IF('Entry Information'!$I23=\"\",\"\",'WALK TROT RESULTS'!AD23)","v":""},null,"",{"$f":"IF('Entry Information'!$I23=\"\",\"\",IF('Entry Information'!Z23=\"\",AF22,AF22-100))","v":""},"",{"$f":"IF($AD22=\"\",\"\",(VLOOKUP($AH$41,Worksheet!$A$11:$AE$41,AH22+1,FALSE)))","v":""}]
[{"$f":"IF('Entry Information'!I24=\"\",\"\",'Entry Information'!B24)","v":""},{"$f":"IF('Entry Information'!I24=\"\",\"\",'Entry Information'!C24)","v":""},{"$f":"IF('Entry Information'!I24=\"\",\"\",'Entry Information'!D24)","v":""},{"$f":"IF('Entry Information'!I24=\"\",\"\",'Entry Information'!E24)","v":""},"NOV",{"$f":"IF('Entry Information'!I24=\"\",\"\",'WALK TROT RESULTS'!F24)","v":""},{"$f":"IF('Entry Information'!$I24=\"\",\"\",IF('WALK TROT RESULTS'!G24=\"\",\"\",'WALK TROT RESULTS'!G24))","v":""},"",{"$f":"IF('Entry Information'!$I24=\"\",\"\",IF('Entry Information'!R24=\"\",H23,H23-100))","v":""},"",{"$f":"IF($F23=\"\",\"\",(VLOOKUP($J$41,Worksheet!$A$11:$AE$41,J23+1,FALSE)))","v":""},{"$f":"IF('Entry Information'!I24=\"\",\"\",'WALK TROT RESULTS'!L24)","v":""},{"$f":"IF('Entry Information'!$I24=\"\",\"\",IF('WALK TROT RESULTS'!M24=\"\",\"\",'WALK TROT RESULTS'!M24))","v":""},"",{"$f":"IF('Entry Information'!$I24=\"\",\"\",IF('Entry Information'!T24=\"\",N23,N23-100))","v":""},"",{"$f":"IF($L23=\"\",\"\",(VLOOKUP($P$41,Worksheet!$A$11:$AE$41,P23+1,FALSE)))","v":""},{"$f":"IF('Entry Information'!I24=\"\",\"\",'WALK TROT RESULTS'!R24)","v":""},{"$f":"IF('Entry Information'!$I24=\"\",\"\",IF('WALK TROT RESULTS'!S24=\"\",\"\",'WALK TROT RESULTS'!S24))","v":""},"",{"$f":"IF('Entry Information'!$I24=\"\",\"\",IF('Entry Information'!V24=\"\",T23,T23-100))","v":""},"",{"$f":"IF($R23=\"\",\"\",(VLOOKUP($V$41,Worksheet!$A$11:$AE$41,V23+1,FALSE)))","v":""},{"$f":"IF('Entry Information'!$I24=\"\",\"\",'WALK TROT RESULTS'!X24)","v":""},null,"",{"$f":"IF('Entry Information'!$I24=\"\",\"\",IF('Entry Information'!X24=\"\",Z23,Z23-100))","v":""},"",{"$f":"IF($X23=\"\",\"\",(VLOOKUP($AB$41,Worksheet!$A$11:$AE$41,AB23+1,FALSE)))","v":""},{"$f":"IF('Entry Information'!$I24=\"\",\"\",'WALK TROT RESULTS'!AD24)","v":""},null,"",{"$f":"IF('Entry Information'!$I24=\"\",\"\",IF('Entry Information'!Z24=\"\",AF23,AF23-100))","v":""},"",{"$f":"IF($AD23=\"\",\"\",(VLOOKUP($AH$41,Worksheet!$A$11:$AE$41,AH23+1,FALSE)))","v":""}]
[{"$f":"IF('Entry Information'!I25=\"\",\"\",'Entry Information'!B25)","v":""},{"$f":"IF('Entry Information'!I25=\"\",\"\",'Entry Information'!C25)","v":""},{"$f":"IF('Entry Information'!I25=\"\",\"\",'Entry Information'!D25)","v":""},{"$f":"IF('Entry Information'!I25=\"\",\"\",'Entry Information'!E25)","v":""},"NOV",{"$f":"IF('Entry Information'!I25=\"\",\"\",'WALK TROT RESULTS'!F25)","v":""},{"$f":"IF('Entry Information'!$I25=\"\",\"\",IF('WALK TROT RESULTS'!G25=\"\",\"\",'WALK TROT RESULTS'!G25))","v":""},"",{"$f":"IF('Entry Information'!$I25=\"\",\"\",IF('Entry Information'!R25=\"\",H24,H24-100))","v":""},"",{"$f":"IF($F24=\"\",\"\",(VLOOKUP($J$41,Worksheet!$A$11:$AE$41,J24+1,FALSE)))","v":""},{"$f":"IF('Entry Information'!I25=\"\",\"\",'WALK TROT RESULTS'!L25)","v":""},{"$f":"IF('Entry Information'!$I25=\"\",\"\",IF('WALK TROT RESULTS'!M25=\"\",\"\",'WALK TROT RESULTS'!M25))","v":""},"",{"$f":"IF('Entry Information'!$I25=\"\",\"\",IF('Entry Information'!T25=\"\",N24,N24-100))","v":""},"",{"$f":"IF($L24=\"\",\"\",(VLOOKUP($P$41,Worksheet!$A$11:$AE$41,P24+1,FALSE)))","v":""},{"$f":"IF('Entry Information'!I25=\"\",\"\",'WALK TROT RESULTS'!R25)","v":""},{"$f":"IF('Entry Information'!$I25=\"\",\"\",IF('WALK TROT RESULTS'!S25=\"\",\"\",'WALK TROT RESULTS'!S25))","v":""},"",{"$f":"IF('Entry Information'!$I25=\"\",\"\",IF('Entry Information'!V25=\"\",T24,T24-100))","v":""},"",{"$f":"IF($R24=\"\",\"\",(VLOOKUP($V$41,Worksheet!$A$11:$AE$41,V24+1,FALSE)))","v":""},{"$f":"IF('Entry Information'!$I25=\"\",\"\",'WALK TROT RESULTS'!X25)","v":""},null,"",{"$f":"IF('Entry Information'!$I25=\"\",\"\",IF('Entry Information'!X25=\"\",Z24,Z24-100))","v":""},"",{"$f":"IF($X24=\"\",\"\",(VLOOKUP($AB$41,Worksheet!$A$11:$AE$41,AB24+1,FALSE)))","v":""},{"$f":"IF('Entry Information'!$I25=\"\",\"\",'WALK TROT RESULTS'!AD25)","v":""},null,"",{"$f":"IF('Entry Information'!$I25=\"\",\"\",IF('Entry Information'!Z25=\"\",AF24,AF24-100))","v":""},"",{"$f":"IF($AD24=\"\",\"\",(VLOOKUP($AH$41,Worksheet!$A$11:$AE$41,AH24+1,FALSE)))","v":""}]
[{"$f":"IF('Entry Information'!I26=\"\",\"\",'Entry Information'!B26)","v":""},{"$f":"IF('Entry Information'!I26=\"\",\"\",'Entry Information'!C26)","v":""},{"$f":"IF('Entry Information'!I26=\"\",\"\",'Entry Information'!D26)","v":""},{"$f":"IF('Entry Information'!I26=\"\",\"\",'Entry Information'!E26)","v":""},"NOV",{"$f":"IF('Entry Information'!I26=\"\",\"\",'WALK TROT RESULTS'!F26)","v":""},{"$f":"IF('Entry Information'!$I26=\"\",\"\",IF('WALK TROT RESULTS'!G26=\"\",\"\",'WALK TROT RESULTS'!G26))","v":""},"",{"$f":"IF('Entry Information'!$I26=\"\",\"\",IF('Entry Information'!R26=\"\",H25,H25-100))","v":""},"",{"$f":"IF($F25=\"\",\"\",(VLOOKUP($J$41,Worksheet!$A$11:$AE$41,J25+1,FALSE)))","v":""},{"$f":"IF('Entry Information'!I26=\"\",\"\",'WALK TROT RESULTS'!L26)","v":""},{"$f":"IF('Entry Information'!$I26=\"\",\"\",IF('WALK TROT RESULTS'!M26=\"\",\"\",'WALK TROT RESULTS'!M26))","v":""},"",{"$f":"IF('Entry Information'!$I26=\"\",\"\",IF('Entry Information'!T26=\"\",N25,N25-100))","v":""},"",{"$f":"IF($L25=\"\",\"\",(VLOOKUP($P$41,Worksheet!$A$11:$AE$41,P25+1,FALSE)))","v":""},{"$f":"IF('Entry Information'!I26=\"\",\"\",'WALK TROT RESULTS'!R26)","v":""},{"$f":"IF('Entry Information'!$I26=\"\",\"\",IF('WALK TROT RESULTS'!S26=\"\",\"\",'WALK TROT RESULTS'!S26))","v":""},"",{"$f":"IF('Entry Information'!$I26=\"\",\"\",IF('Entry Information'!V26=\"\",T25,T25-100))","v":""},"",{"$f":"IF($R25=\"\",\"\",(VLOOKUP($V$41,Worksheet!$A$11:$AE$41,V25+1,FALSE)))","v":""},{"$f":"IF('Entry Information'!$I26=\"\",\"\",'WALK TROT RESULTS'!X26)","v":""},null,"",{"$f":"IF('Entry Information'!$I26=\"\",\"\",IF('Entry Information'!X26=\"\",Z25,Z25-100))","v":""},"",{"$f":"IF($X25=\"\",\"\",(VLOOKUP($AB$41,Worksheet!$A$11:$AE$41,AB25+1,FALSE)))","v":""},{"$f":"IF('Entry Information'!$I26=\"\",\"\",'WALK TROT RESULTS'!AD26)","v":""},null,"",{"$f":"IF('Entry Information'!$I26=\"\",\"\",IF('Entry Information'!Z26=\"\",AF25,AF25-100))","v":""},"",{"$f":"IF($AD25=\"\",\"\",(VLOOKUP($AH$41,Worksheet!$A$11:$AE$41,AH25+1,FALSE)))","v":""}]
[{"$f":"IF('Entry Information'!I27=\"\",\"\",'Entry Information'!B27)","v":""},{"$f":"IF('Entry Information'!I27=\"\",\"\",'Entry Information'!C27)","v":""},{"$f":"IF('Entry Information'!I27=\"\",\"\",'Entry Information'!D27)","v":""},{"$f":"IF('Entry Information'!I27=\"\",\"\",'Entry Information'!E27)","v":""},"NOV",{"$f":"IF('Entry Information'!I27=\"\",\"\",'WALK TROT RESULTS'!F27)","v":""},{"$f":"IF('Entry Information'!$I27=\"\",\"\",IF('WALK TROT RESULTS'!G27=\"\",\"\",'WALK TROT RESULTS'!G27))","v":""},"",{"$f":"IF('Entry Information'!$I27=\"\",\"\",IF('Entry Information'!R27=\"\",H26,H26-100))","v":""},"",{"$f":"IF($F26=\"\",\"\",(VLOOKUP($J$41,Worksheet!$A$11:$AE$41,J26+1,FALSE)))","v":""},{"$f":"IF('Entry Information'!I27=\"\",\"\",'WALK TROT RESULTS'!L27)","v":""},{"$f":"IF('Entry Information'!$I27=\"\",\"\",IF('WALK TROT RESULTS'!M27=\"\",\"\",'WALK TROT RESULTS'!M27))","v":""},"",{"$f":"IF('Entry Information'!$I27=\"\",\"\",IF('Entry Information'!T27=\"\",N26,N26-100))","v":""},"",{"$f":"IF($L26=\"\",\"\",(VLOOKUP($P$41,Worksheet!$A$11:$AE$41,P26+1,FALSE)))","v":""},{"$f":"IF('Entry Information'!I27=\"\",\"\",'WALK TROT RESULTS'!R27)","v":""},{"$f":"IF('Entry Information'!$I27=\"\",\"\",IF('WALK TROT RESULTS'!S27=\"\",\"\",'WALK TROT RESULTS'!S27))","v":""},"",{"$f":"IF('Entry Information'!$I27=\"\",\"\",IF('Entry Information'!V27=\"\",T26,T26-100))","v":""},"",{"$f":"IF($R26=\"\",\"\",(VLOOKUP($V$41,Worksheet!$A$11:$AE$41,V26+1,FALSE)))","v":""},{"$f":"IF('Entry Information'!$I27=\"\",\"\",'WALK TROT RESULTS'!X27)","v":""},null,"",{"$f":"IF('Entry Information'!$I27=\"\",\"\",IF('Entry Information'!X27=\"\",Z26,Z26-100))","v":""},"",{"$f":"IF($X26=\"\",\"\",(VLOOKUP($AB$41,Worksheet!$A$11:$AE$41,AB26+1,FALSE)))","v":""},{"$f":"IF('Entry Information'!$I27=\"\",\"\",'WALK TROT RESULTS'!AD27)","v":""},null,"",{"$f":"IF('Entry Information'!$I27=\"\",\"\",IF('Entry Information'!Z27=\"\",AF26,AF26-100))","v":""},"",{"$f":"IF($AD26=\"\",\"\",(VLOOKUP($AH$41,Worksheet!$A$11:$AE$41,AH26+1,FALSE)))","v":""}]
[{"$f":"IF('Entry Information'!I28=\"\",\"\",'Entry Information'!B28)","v":""},{"$f":"IF('Entry Information'!I28=\"\",\"\",'Entry Information'!C28)","v":""},{"$f":"IF('Entry Information'!I28=\"\",\"\",'Entry Information'!D28)","v":""},{"$f":"IF('Entry Information'!I28=\"\",\"\",'Entry Information'!E28)","v":""},"NOV",{"$f":"IF('Entry Information'!I28=\"\",\"\",'WALK TROT RESULTS'!F28)","v":""},{"$f":"IF('Entry Information'!$I28=\"\",\"\",IF('WALK TROT RESULTS'!G28=\"\",\"\",'WALK TROT RESULTS'!G28))","v":""},"",{"$f":"IF('Entry Information'!$I28=\"\",\"\",IF('Entry Information'!R28=\"\",H27,H27-100))","v":""},"",{"$f":"IF($F27=\"\",\"\",(VLOOKUP($J$41,Worksheet!$A$11:$AE$41,J27+1,FALSE)))","v":""},{"$f":"IF('Entry Information'!I28=\"\",\"\",'WALK TROT RESULTS'!L28)","v":""},{"$f":"IF('Entry Information'!$I28=\"\",\"\",IF('WALK TROT RESULTS'!M28=\"\",\"\",'WALK TROT RESULTS'!M28))","v":""},"",{"$f":"IF('Entry Information'!$I28=\"\",\"\",IF('Entry Information'!T28=\"\",N27,N27-100))","v":""},"",{"$f":"IF($L27=\"\",\"\",(VLOOKUP($P$41,Worksheet!$A$11:$AE$41,P27+1,FALSE)))","v":""},{"$f":"IF('Entry Information'!I28=\"\",\"\",'WALK TROT RESULTS'!R28)","v":""},{"$f":"IF('Entry Information'!$I28=\"\",\"\",IF('WALK TROT RESULTS'!S28=\"\",\"\",'WALK TROT RESULTS'!S28))","v":""},"",{"$f":"IF('Entry Information'!$I28=\"\",\"\",IF('Entry Information'!V28=\"\",T27,T27-100))","v":""},"",{"$f":"IF($R27=\"\",\"\",(VLOOKUP($V$41,Worksheet!$A$11:$AE$41,V27+1,FALSE)))","v":""},{"$f":"IF('Entry Information'!$I28=\"\",\"\",'WALK TROT RESULTS'!X28)","v":""},null,"",{"$f":"IF('Entry Information'!$I28=\"\",\"\",IF('Entry Information'!X28=\"\",Z27,Z27-100))","v":""},"",{"$f":"IF($X27=\"\",\"\",(VLOOKUP($AB$41,Worksheet!$A$11:$AE$41,AB27+1,FALSE)))","v":""},{"$f":"IF('Entry Information'!$I28=\"\",\"\",'WALK TROT RESULTS'!AD28)","v":""},null,"",{"$f":"IF('Entry Information'!$I28=\"\",\"\",IF('Entry Information'!Z28=\"\",AF27,AF27-100))","v":""},"",{"$f":"IF($AD27=\"\",\"\",(VLOOKUP($AH$41,Worksheet!$A$11:$AE$41,AH27+1,FALSE)))","v":""}]
[{"$f":"IF('Entry Information'!I29=\"\",\"\",'Entry Information'!B29)","v":""},{"$f":"IF('Entry Information'!I29=\"\",\"\",'Entry Information'!C29)","v":""},{"$f":"IF('Entry Information'!I29=\"\",\"\",'Entry Information'!D29)","v":""},{"$f":"IF('Entry Information'!I29=\"\",\"\",'Entry Information'!E29)","v":""},"NOV",{"$f":"IF('Entry Information'!I29=\"\",\"\",'WALK TROT RESULTS'!F29)","v":""},{"$f":"IF('Entry Information'!$I29=\"\",\"\",IF('WALK TROT RESULTS'!G29=\"\",\"\",'WALK TROT RESULTS'!G29))","v":""},"",{"$f":"IF('Entry Information'!$I29=\"\",\"\",IF('Entry Information'!R29=\"\",H28,H28-100))","v":""},"",{"$f":"IF($F28=\"\",\"\",(VLOOKUP($J$41,Worksheet!$A$11:$AE$41,J28+1,FALSE)))","v":""},{"$f":"IF('Entry Information'!I29=\"\",\"\",'WALK TROT RESULTS'!L29)","v":""},{"$f":"IF('Entry Information'!$I29=\"\",\"\",IF('WALK TROT RESULTS'!M29=\"\",\"\",'WALK TROT RESULTS'!M29))","v":""},"",{"$f":"IF('Entry Information'!$I29=\"\",\"\",IF('Entry Information'!T29=\"\",N28,N28-100))","v":""},"",{"$f":"IF($L28=\"\",\"\",(VLOOKUP($P$41,Worksheet!$A$11:$AE$41,P28+1,FALSE)))","v":""},{"$f":"IF('Entry Information'!I29=\"\",\"\",'WALK TROT RESULTS'!R29)","v":""},{"$f":"IF('Entry Information'!$I29=\"\",\"\",IF('WALK TROT RESULTS'!S29=\"\",\"\",'WALK TROT RESULTS'!S29))","v":""},"",{"$f":"IF('Entry Information'!$I29=\"\",\"\",IF('Entry Information'!V29=\"\",T28,T28-100))","v":""},"",{"$f":"IF($R28=\"\",\"\",(VLOOKUP($V$41,Worksheet!$A$11:$AE$41,V28+1,FALSE)))","v":""},{"$f":"IF('Entry Information'!$I29=\"\",\"\",'WALK TROT RESULTS'!X29)","v":""},null,"",{"$f":"IF('Entry Information'!$I29=\"\",\"\",IF('Entry Information'!X29=\"\",Z28,Z28-100))","v":""},"",{"$f":"IF($X28=\"\",\"\",(VLOOKUP($AB$41,Worksheet!$A$11:$AE$41,AB28+1,FALSE)))","v":""},{"$f":"IF('Entry Information'!$I29=\"\",\"\",'WALK TROT RESULTS'!AD29)","v":""},null,"",{"$f":"IF('Entry Information'!$I29=\"\",\"\",IF('Entry Information'!Z29=\"\",AF28,AF28-100))","v":""},"",{"$f":"IF($AD28=\"\",\"\",(VLOOKUP($AH$41,Worksheet!$A$11:$AE$41,AH28+1,FALSE)))","v":""}]
[{"$f":"IF('Entry Information'!I30=\"\",\"\",'Entry Information'!B30)","v":""},{"$f":"IF('Entry Information'!I30=\"\",\"\",'Entry Information'!C30)","v":""},{"$f":"IF('Entry Information'!I30=\"\",\"\",'Entry Information'!D30)","v":""},{"$f":"IF('Entry Information'!I30=\"\",\"\",'Entry Information'!E30)","v":""},"NOV",{"$f":"IF('Entry Information'!I30=\"\",\"\",'WALK TROT RESULTS'!F30)","v":""},{"$f":"IF('Entry Information'!$I30=\"\",\"\",IF('WALK TROT RESULTS'!G30=\"\",\"\",'WALK TROT RESULTS'!G30))","v":""},"",{"$f":"IF('Entry Information'!$I30=\"\",\"\",IF('Entry Information'!R30=\"\",H29,H29-100))","v":""},"",{"$f":"IF($F29=\"\",\"\",(VLOOKUP($J$41,Worksheet!$A$11:$AE$41,J29+1,FALSE)))","v":""},{"$f":"IF('Entry Information'!I30=\"\",\"\",'WALK TROT RESULTS'!L30)","v":""},{"$f":"IF('Entry Information'!$I30=\"\",\"\",IF('WALK TROT RESULTS'!M30=\"\",\"\",'WALK TROT RESULTS'!M30))","v":""},"",{"$f":"IF('Entry Information'!$I30=\"\",\"\",IF('Entry Information'!T30=\"\",N29,N29-100))","v":""},"",{"$f":"IF($L29=\"\",\"\",(VLOOKUP($P$41,Worksheet!$A$11:$AE$41,P29+1,FALSE)))","v":""},{"$f":"IF('Entry Information'!I30=\"\",\"\",'WALK TROT RESULTS'!R30)","v":""},{"$f":"IF('Entry Information'!$I30=\"\",\"\",IF('WALK TROT RESULTS'!S30=\"\",\"\",'WALK TROT RESULTS'!S30))","v":""},"",{"$f":"IF('Entry Information'!$I30=\"\",\"\",IF('Entry Information'!V30=\"\",T29,T29-100))","v":""},"",{"$f":"IF($R29=\"\",\"\",(VLOOKUP($V$41,Worksheet!$A$11:$AE$41,V29+1,FALSE)))","v":""},{"$f":"IF('Entry Information'!$I30=\"\",\"\",'WALK TROT RESULTS'!X30)","v":""},null,"",{"$f":"IF('Entry Information'!$I30=\"\",\"\",IF('Entry Information'!X30=\"\",Z29,Z29-100))","v":""},"",{"$f":"IF($X29=\"\",\"\",(VLOOKUP($AB$41,Worksheet!$A$11:$AE$41,AB29+1,FALSE)))","v":""},{"$f":"IF('Entry Information'!$I30=\"\",\"\",'WALK TROT RESULTS'!AD30)","v":""},null,"",{"$f":"IF('Entry Information'!$I30=\"\",\"\",IF('Entry Information'!Z30=\"\",AF29,AF29-100))","v":""},"",{"$f":"IF($AD29=\"\",\"\",(VLOOKUP($AH$41,Worksheet!$A$11:$AE$41,AH29+1,FALSE)))","v":""}]
[{"$f":"IF('Entry Information'!I31=\"\",\"\",'Entry Information'!B31)","v":""},{"$f":"IF('Entry Information'!I31=\"\",\"\",'Entry Information'!C31)","v":""},{"$f":"IF('Entry Information'!I31=\"\",\"\",'Entry Information'!D31)","v":""},{"$f":"IF('Entry Information'!I31=\"\",\"\",'Entry Information'!E31)","v":""},"NOV",{"$f":"IF('Entry Information'!I31=\"\",\"\",'WALK TROT RESULTS'!F31)","v":""},{"$f":"IF('Entry Information'!$I31=\"\",\"\",IF('WALK TROT RESULTS'!G31=\"\",\"\",'WALK TROT RESULTS'!G31))","v":""},"",{"$f":"IF('Entry Information'!$I31=\"\",\"\",IF('Entry Information'!R31=\"\",H30,H30-100))","v":""},"",{"$f":"IF($F30=\"\",\"\",(VLOOKUP($J$41,Worksheet!$A$11:$AE$41,J30+1,FALSE)))","v":""},{"$f":"IF('Entry Information'!I31=\"\",\"\",'WALK TROT RESULTS'!L31)","v":""},{"$f":"IF('Entry Information'!$I31=\"\",\"\",IF('WALK TROT RESULTS'!M31=\"\",\"\",'WALK TROT RESULTS'!M31))","v":""},"",{"$f":"IF('Entry Information'!$I31=\"\",\"\",IF('Entry Information'!T31=\"\",N30,N30-100))","v":""},"",{"$f":"IF($L30=\"\",\"\",(VLOOKUP($P$41,Worksheet!$A$11:$AE$41,P30+1,FALSE)))","v":""},{"$f":"IF('Entry Information'!I31=\"\",\"\",'WALK TROT RESULTS'!R31)","v":""},{"$f":"IF('Entry Information'!$I31=\"\",\"\",IF('WALK TROT RESULTS'!S31=\"\",\"\",'WALK TROT RESULTS'!S31))","v":""},"",{"$f":"IF('Entry Information'!$I31=\"\",\"\",IF('Entry Information'!V31=\"\",T30,T30-100))","v":""},"",{"$f":"IF($R30=\"\",\"\",(VLOOKUP($V$41,Worksheet!$A$11:$AE$41,V30+1,FALSE)))","v":""},{"$f":"IF('Entry Information'!$I31=\"\",\"\",'WALK TROT RESULTS'!X31)","v":""},null,"",{"$f":"IF('Entry Information'!$I31=\"\",\"\",IF('Entry Information'!X31=\"\",Z30,Z30-100))","v":""},"",{"$f":"IF($X30=\"\",\"\",(VLOOKUP($AB$41,Worksheet!$A$11:$AE$41,AB30+1,FALSE)))","v":""},{"$f":"IF('Entry Information'!$I31=\"\",\"\",'WALK TROT RESULTS'!AD31)","v":""},null,"",{"$f":"IF('Entry Information'!$I31=\"\",\"\",IF('Entry Information'!Z31=\"\",AF30,AF30-100))","v":""},"",{"$f":"IF($AD30=\"\",\"\",(VLOOKUP($AH$41,Worksheet!$A$11:$AE$41,AH30+1,FALSE)))","v":""}]
[{"$f":"IF('Entry Information'!I32=\"\",\"\",'Entry Information'!B32)","v":""},{"$f":"IF('Entry Information'!I32=\"\",\"\",'Entry Information'!C32)","v":""},{"$f":"IF('Entry Information'!I32=\"\",\"\",'Entry Information'!D32)","v":""},{"$f":"IF('Entry Information'!I32=\"\",\"\",'Entry Information'!E32)","v":""},"NOV",{"$f":"IF('Entry Information'!I32=\"\",\"\",'WALK TROT RESULTS'!F32)","v":""},{"$f":"IF('Entry Information'!$I32=\"\",\"\",IF('WALK TROT RESULTS'!G32=\"\",\"\",'WALK TROT RESULTS'!G32))","v":""},"",{"$f":"IF('Entry Information'!$I32=\"\",\"\",IF('Entry Information'!R32=\"\",H31,H31-100))","v":""},"",{"$f":"IF($F31=\"\",\"\",(VLOOKUP($J$41,Worksheet!$A$11:$AE$41,J31+1,FALSE)))","v":""},{"$f":"IF('Entry Information'!I32=\"\",\"\",'WALK TROT RESULTS'!L32)","v":""},{"$f":"IF('Entry Information'!$I32=\"\",\"\",IF('WALK TROT RESULTS'!M32=\"\",\"\",'WALK TROT RESULTS'!M32))","v":""},"",{"$f":"IF('Entry Information'!$I32=\"\",\"\",IF('Entry Information'!T32=\"\",N31,N31-100))","v":""},"",{"$f":"IF($L31=\"\",\"\",(VLOOKUP($P$41,Worksheet!$A$11:$AE$41,P31+1,FALSE)))","v":""},{"$f":"IF('Entry Information'!I32=\"\",\"\",'WALK TROT RESULTS'!R32)","v":""},{"$f":"IF('Entry Information'!$I32=\"\",\"\",IF('WALK TROT RESULTS'!S32=\"\",\"\",'WALK TROT RESULTS'!S32))","v":""},"",{"$f":"IF('Entry Information'!$I32=\"\",\"\",IF('Entry Information'!V32=\"\",T31,T31-100))","v":""},"",{"$f":"IF($R31=\"\",\"\",(VLOOKUP($V$41,Worksheet!$A$11:$AE$41,V31+1,FALSE)))","v":""},{"$f":"IF('Entry Information'!$I32=\"\",\"\",'WALK TROT RESULTS'!X32)","v":""},null,"",{"$f":"IF('Entry Information'!$I32=\"\",\"\",IF('Entry Information'!X32=\"\",Z31,Z31-100))","v":""},"",{"$f":"IF($X31=\"\",\"\",(VLOOKUP($AB$41,Worksheet!$A$11:$AE$41,AB31+1,FALSE)))","v":""},{"$f":"IF('Entry Information'!$I32=\"\",\"\",'WALK TROT RESULTS'!AD32)","v":""},null,"",{"$f":"IF('Entry Information'!$I32=\"\",\"\",IF('Entry Information'!Z32=\"\",AF31,AF31-100))","v":""},"",{"$f":"IF($AD31=\"\",\"\",(VLOOKUP($AH$41,Worksheet!$A$11:$AE$41,AH31+1,FALSE)))","v":""}]
[{"$f":"IF('Entry Information'!I33=\"\",\"\",'Entry Information'!B33)","v":""},{"$f":"IF('Entry Information'!I33=\"\",\"\",'Entry Information'!C33)","v":""},{"$f":"IF('Entry Information'!I33=\"\",\"\",'Entry Information'!D33)","v":""},{"$f":"IF('Entry Information'!I33=\"\",\"\",'Entry Information'!E33)","v":""},"NOV",{"$f":"IF('Entry Information'!I33=\"\",\"\",'WALK TROT RESULTS'!F33)","v":""},{"$f":"IF('Entry Information'!$I33=\"\",\"\",IF('WALK TROT RESULTS'!G33=\"\",\"\",'WALK TROT RESULTS'!G33))","v":""},"",{"$f":"IF('Entry Information'!$I33=\"\",\"\",IF('Entry Information'!R33=\"\",H32,H32-100))","v":""},"",{"$f":"IF($F32=\"\",\"\",(VLOOKUP($J$41,Worksheet!$A$11:$AE$41,J32+1,FALSE)))","v":""},{"$f":"IF('Entry Information'!I33=\"\",\"\",'WALK TROT RESULTS'!L33)","v":""},{"$f":"IF('Entry Information'!$I33=\"\",\"\",IF('WALK TROT RESULTS'!M33=\"\",\"\",'WALK TROT RESULTS'!M33))","v":""},"",{"$f":"IF('Entry Information'!$I33=\"\",\"\",IF('Entry Information'!T33=\"\",N32,N32-100))","v":""},"",{"$f":"IF($L32=\"\",\"\",(VLOOKUP($P$41,Worksheet!$A$11:$AE$41,P32+1,FALSE)))","v":""},{"$f":"IF('Entry Information'!I33=\"\",\"\",'WALK TROT RESULTS'!R33)","v":""},{"$f":"IF('Entry Information'!$I33=\"\",\"\",IF('WALK TROT RESULTS'!S33=\"\",\"\",'WALK TROT RESULTS'!S33))","v":""},"",{"$f":"IF('Entry Information'!$I33=\"\",\"\",IF('Entry Information'!V33=\"\",T32,T32-100))","v":""},"",{"$f":"IF($R32=\"\",\"\",(VLOOKUP($V$41,Worksheet!$A$11:$AE$41,V32+1,FALSE)))","v":""},{"$f":"IF('Entry Information'!$I33=\"\",\"\",'WALK TROT RESULTS'!X33)","v":""},null,"",{"$f":"IF('Entry Information'!$I33=\"\",\"\",IF('Entry Information'!X33=\"\",Z32,Z32-100))","v":""},"",{"$f":"IF($X32=\"\",\"\",(VLOOKUP($AB$41,Worksheet!$A$11:$AE$41,AB32+1,FALSE)))","v":""},{"$f":"IF('Entry Information'!$I33=\"\",\"\",'WALK TROT RESULTS'!AD33)","v":""},null,"",{"$f":"IF('Entry Information'!$I33=\"\",\"\",IF('Entry Information'!Z33=\"\",AF32,AF32-100))","v":""},"",{"$f":"IF($AD32=\"\",\"\",(VLOOKUP($AH$41,Worksheet!$A$11:$AE$41,AH32+1,FALSE)))","v":""}]
[{"$f":"IF('Entry Information'!I34=\"\",\"\",'Entry Information'!B34)","v":""},{"$f":"IF('Entry Information'!I34=\"\",\"\",'Entry Information'!C34)","v":""},{"$f":"IF('Entry Information'!I34=\"\",\"\",'Entry Information'!D34)","v":""},{"$f":"IF('Entry Information'!I34=\"\",\"\",'Entry Information'!E34)","v":""},"NOV",{"$f":"IF('Entry Information'!I34=\"\",\"\",'WALK TROT RESULTS'!F34)","v":""},{"$f":"IF('Entry Information'!$I34=\"\",\"\",IF('WALK TROT RESULTS'!G34=\"\",\"\",'WALK TROT RESULTS'!G34))","v":""},"",{"$f":"IF('Entry Information'!$I34=\"\",\"\",IF('Entry Information'!R34=\"\",H33,H33-100))","v":""},"",{"$f":"IF($F33=\"\",\"\",(VLOOKUP($J$41,Worksheet!$A$11:$AE$41,J33+1,FALSE)))","v":""},{"$f":"IF('Entry Information'!I34=\"\",\"\",'WALK TROT RESULTS'!L34)","v":""},{"$f":"IF('Entry Information'!$I34=\"\",\"\",IF('WALK TROT RESULTS'!M34=\"\",\"\",'WALK TROT RESULTS'!M34))","v":""},"",{"$f":"IF('Entry Information'!$I34=\"\",\"\",IF('Entry Information'!T34=\"\",N33,N33-100))","v":""},"",{"$f":"IF($L33=\"\",\"\",(VLOOKUP($P$41,Worksheet!$A$11:$AE$41,P33+1,FALSE)))","v":""},{"$f":"IF('Entry Information'!I34=\"\",\"\",'WALK TROT RESULTS'!R34)","v":""},{"$f":"IF('Entry Information'!$I34=\"\",\"\",IF('WALK TROT RESULTS'!S34=\"\",\"\",'WALK TROT RESULTS'!S34))","v":""},"",{"$f":"IF('Entry Information'!$I34=\"\",\"\",IF('Entry Information'!V34=\"\",T33,T33-100))","v":""},"",{"$f":"IF($R33=\"\",\"\",(VLOOKUP($V$41,Worksheet!$A$11:$AE$41,V33+1,FALSE)))","v":""},{"$f":"IF('Entry Information'!$I34=\"\",\"\",'WALK TROT RESULTS'!X34)","v":""},null,"",{"$f":"IF('Entry Information'!$I34=\"\",\"\",IF('Entry Information'!X34=\"\",Z33,Z33-100))","v":""},"",{"$f":"IF($X33=\"\",\"\",(VLOOKUP($AB$41,Worksheet!$A$11:$AE$41,AB33+1,FALSE)))","v":""},{"$f":"IF('Entry Information'!$I34=\"\",\"\",'WALK TROT RESULTS'!AD34)","v":""},null,"",{"$f":"IF('Entry Information'!$I34=\"\",\"\",IF('Entry Information'!Z34=\"\",AF33,AF33-100))","v":""},"",{"$f":"IF($AD33=\"\",\"\",(VLOOKUP($AH$41,Worksheet!$A$11:$AE$41,AH33+1,FALSE)))","v":""}]
[{"$f":"IF('Entry Information'!I35=\"\",\"\",'Entry Information'!B35)","v":""},{"$f":"IF('Entry Information'!I35=\"\",\"\",'Entry Information'!C35)","v":""},{"$f":"IF('Entry Information'!I35=\"\",\"\",'Entry Information'!D35)","v":""},{"$f":"IF('Entry Information'!I35=\"\",\"\",'Entry Information'!E35)","v":""},"NOV",{"$f":"IF('Entry Information'!I35=\"\",\"\",'WALK TROT RESULTS'!F35)","v":""},{"$f":"IF('Entry Information'!$I35=\"\",\"\",IF('WALK TROT RESULTS'!G35=\"\",\"\",'WALK TROT RESULTS'!G35))","v":""},"",{"$f":"IF('Entry Information'!$I35=\"\",\"\",IF('Entry Information'!R35=\"\",H34,H34-100))","v":""},"",{"$f":"IF($F34=\"\",\"\",(VLOOKUP($J$41,Worksheet!$A$11:$AE$41,J34+1,FALSE)))","v":""},{"$f":"IF('Entry Information'!I35=\"\",\"\",'WALK TROT RESULTS'!L35)","v":""},{"$f":"IF('Entry Information'!$I35=\"\",\"\",IF('WALK TROT RESULTS'!M35=\"\",\"\",'WALK TROT RESULTS'!M35))","v":""},"",{"$f":"IF('Entry Information'!$I35=\"\",\"\",IF('Entry Information'!T35=\"\",N34,N34-100))","v":""},"",{"$f":"IF($L34=\"\",\"\",(VLOOKUP($P$41,Worksheet!$A$11:$AE$41,P34+1,FALSE)))","v":""},{"$f":"IF('Entry Information'!I35=\"\",\"\",'WALK TROT RESULTS'!R35)","v":""},{"$f":"IF('Entry Information'!$I35=\"\",\"\",IF('WALK TROT RESULTS'!S35=\"\",\"\",'WALK TROT RESULTS'!S35))","v":""},"",{"$f":"IF('Entry Information'!$I35=\"\",\"\",IF('Entry Information'!V35=\"\",T34,T34-100))","v":""},"",{"$f":"IF($R34=\"\",\"\",(VLOOKUP($V$41,Worksheet!$A$11:$AE$41,V34+1,FALSE)))","v":""},{"$f":"IF('Entry Information'!$I35=\"\",\"\",'WALK TROT RESULTS'!X35)","v":""},null,"",{"$f":"IF('Entry Information'!$I35=\"\",\"\",IF('Entry Information'!X35=\"\",Z34,Z34-100))","v":""},"",{"$f":"IF($X34=\"\",\"\",(VLOOKUP($AB$41,Worksheet!$A$11:$AE$41,AB34+1,FALSE)))","v":""},{"$f":"IF('Entry Information'!$I35=\"\",\"\",'WALK TROT RESULTS'!AD35)","v":""},null,"",{"$f":"IF('Entry Information'!$I35=\"\",\"\",IF('Entry Information'!Z35=\"\",AF34,AF34-100))","v":""},"",{"$f":"IF($AD34=\"\",\"\",(VLOOKUP($AH$41,Worksheet!$A$11:$AE$41,AH34+1,FALSE)))","v":""}]
[{"$f":"IF('Entry Information'!I36=\"\",\"\",'Entry Information'!B36)","v":""},{"$f":"IF('Entry Information'!I36=\"\",\"\",'Entry Information'!C36)","v":""},{"$f":"IF('Entry Information'!I36=\"\",\"\",'Entry Information'!D36)","v":""},{"$f":"IF('Entry Information'!I36=\"\",\"\",'Entry Information'!E36)","v":""},"NOV",{"$f":"IF('Entry Information'!I36=\"\",\"\",'WALK TROT RESULTS'!F36)","v":""},{"$f":"IF('Entry Information'!$I36=\"\",\"\",IF('WALK TROT RESULTS'!G36=\"\",\"\",'WALK TROT RESULTS'!G36))","v":""},"",{"$f":"IF('Entry Information'!$I36=\"\",\"\",IF('Entry Information'!R36=\"\",H35,H35-100))","v":""},"",{"$f":"IF($F35=\"\",\"\",(VLOOKUP($J$41,Worksheet!$A$11:$AE$41,J35+1,FALSE)))","v":""},{"$f":"IF('Entry Information'!I36=\"\",\"\",'WALK TROT RESULTS'!L36)","v":""},{"$f":"IF('Entry Information'!$I36=\"\",\"\",IF('WALK TROT RESULTS'!M36=\"\",\"\",'WALK TROT RESULTS'!M36))","v":""},"",{"$f":"IF('Entry Information'!$I36=\"\",\"\",IF('Entry Information'!T36=\"\",N35,N35-100))","v":""},"",{"$f":"IF($L35=\"\",\"\",(VLOOKUP($P$41,Worksheet!$A$11:$AE$41,P35+1,FALSE)))","v":""},{"$f":"IF('Entry Information'!I36=\"\",\"\",'WALK TROT RESULTS'!R36)","v":""},{"$f":"IF('Entry Information'!$I36=\"\",\"\",IF('WALK TROT RESULTS'!S36=\"\",\"\",'WALK TROT RESULTS'!S36))","v":""},"",{"$f":"IF('Entry Information'!$I36=\"\",\"\",IF('Entry Information'!V36=\"\",T35,T35-100))","v":""},"",{"$f":"IF($R35=\"\",\"\",(VLOOKUP($V$41,Worksheet!$A$11:$AE$41,V35+1,FALSE)))","v":""},{"$f":"IF('Entry Information'!$I36=\"\",\"\",'WALK TROT RESULTS'!X36)","v":""},null,"",{"$f":"IF('Entry Information'!$I36=\"\",\"\",IF('Entry Information'!X36=\"\",Z35,Z35-100))","v":""},"",{"$f":"IF($X35=\"\",\"\",(VLOOKUP($AB$41,Worksheet!$A$11:$AE$41,AB35+1,FALSE)))","v":""},{"$f":"IF('Entry Information'!$I36=\"\",\"\",'WALK TROT RESULTS'!AD36)","v":""},null,"",{"$f":"IF('Entry Information'!$I36=\"\",\"\",IF('Entry Information'!Z36=\"\",AF35,AF35-100))","v":""},"",{"$f":"IF($AD35=\"\",\"\",(VLOOKUP($AH$41,Worksheet!$A$11:$AE$41,AH35+1,FALSE)))","v":""}]
[{"$f":"IF('Entry Information'!I37=\"\",\"\",'Entry Information'!B37)","v":""},{"$f":"IF('Entry Information'!I37=\"\",\"\",'Entry Information'!C37)","v":""},{"$f":"IF('Entry Information'!I37=\"\",\"\",'Entry Information'!D37)","v":""},{"$f":"IF('Entry Information'!I37=\"\",\"\",'Entry Information'!E37)","v":""},"NOV",{"$f":"IF('Entry Information'!I37=\"\",\"\",'WALK TROT RESULTS'!F37)","v":""},{"$f":"IF('Entry Information'!$I37=\"\",\"\",IF('WALK TROT RESULTS'!G37=\"\",\"\",'WALK TROT RESULTS'!G37))","v":""},"",{"$f":"IF('Entry Information'!$I37=\"\",\"\",IF('Entry Information'!R37=\"\",H36,H36-100))","v":""},"",{"$f":"IF($F36=\"\",\"\",(VLOOKUP($J$41,Worksheet!$A$11:$AE$41,J36+1,FALSE)))","v":""},{"$f":"IF('Entry Information'!I37=\"\",\"\",'WALK TROT RESULTS'!L37)","v":""},{"$f":"IF('Entry Information'!$I37=\"\",\"\",IF('WALK TROT RESULTS'!M37=\"\",\"\",'WALK TROT RESULTS'!M37))","v":""},"",{"$f":"IF('Entry Information'!$I37=\"\",\"\",IF('Entry Information'!T37=\"\",N36,N36-100))","v":""},"",{"$f":"IF($L36=\"\",\"\",(VLOOKUP($P$41,Worksheet!$A$11:$AE$41,P36+1,FALSE)))","v":""},{"$f":"IF('Entry Information'!I37=\"\",\"\",'WALK TROT RESULTS'!R37)","v":""},{"$f":"IF('Entry Information'!$I37=\"\",\"\",IF('WALK TROT RESULTS'!S37=\"\",\"\",'WALK TROT RESULTS'!S37))","v":""},"",{"$f":"IF('Entry Information'!$I37=\"\",\"\",IF('Entry Information'!V37=\"\",T36,T36-100))","v":""},"",{"$f":"IF($R36=\"\",\"\",(VLOOKUP($V$41,Worksheet!$A$11:$AE$41,V36+1,FALSE)))","v":""},{"$f":"IF('Entry Information'!$I37=\"\",\"\",'WALK TROT RESULTS'!X37)","v":""},null,"",{"$f":"IF('Entry Information'!$I37=\"\",\"\",IF('Entry Information'!X37=\"\",Z36,Z36-100))","v":""},"",{"$f":"IF($X36=\"\",\"\",(VLOOKUP($AB$41,Worksheet!$A$11:$AE$41,AB36+1,FALSE)))","v":""},{"$f":"IF('Entry Information'!$I37=\"\",\"\",'WALK TROT RESULTS'!AD37)","v":""},null,"",{"$f":"IF('Entry Information'!$I37=\"\",\"\",IF('Entry Information'!Z37=\"\",AF36,AF36-100))","v":""},"",{"$f":"IF($AD36=\"\",\"\",(VLOOKUP($AH$41,Worksheet!$A$11:$AE$41,AH36+1,FALSE)))","v":""}]
[{"$f":"IF('Entry Information'!I38=\"\",\"\",'Entry Information'!B38)","v":""},{"$f":"IF('Entry Information'!I38=\"\",\"\",'Entry Information'!C38)","v":""},{"$f":"IF('Entry Information'!I38=\"\",\"\",'Entry Information'!D38)","v":""},{"$f":"IF('Entry Information'!I38=\"\",\"\",'Entry Information'!E38)","v":""},"NOV",{"$f":"IF('Entry Information'!I38=\"\",\"\",'WALK TROT RESULTS'!F38)","v":""},{"$f":"IF('Entry Information'!$I38=\"\",\"\",IF('WALK TROT RESULTS'!G38=\"\",\"\",'WALK TROT RESULTS'!G38))","v":""},"",{"$f":"IF('Entry Information'!$I38=\"\",\"\",IF('Entry Information'!R38=\"\",H37,H37-100))","v":""},"",{"$f":"IF($F37=\"\",\"\",(VLOOKUP($J$41,Worksheet!$A$11:$AE$41,J37+1,FALSE)))","v":""},{"$f":"IF('Entry Information'!I38=\"\",\"\",'WALK TROT RESULTS'!L38)","v":""},{"$f":"IF('Entry Information'!$I38=\"\",\"\",IF('WALK TROT RESULTS'!M38=\"\",\"\",'WALK TROT RESULTS'!M38))","v":""},"",{"$f":"IF('Entry Information'!$I38=\"\",\"\",IF('Entry Information'!T38=\"\",N37,N37-100))","v":""},"",{"$f":"IF($L37=\"\",\"\",(VLOOKUP($P$41,Worksheet!$A$11:$AE$41,P37+1,FALSE)))","v":""},{"$f":"IF('Entry Information'!I38=\"\",\"\",'WALK TROT RESULTS'!R38)","v":""},{"$f":"IF('Entry Information'!$I38=\"\",\"\",IF('WALK TROT RESULTS'!S38=\"\",\"\",'WALK TROT RESULTS'!S38))","v":""},"",{"$f":"IF('Entry Information'!$I38=\"\",\"\",IF('Entry Information'!V38=\"\",T37,T37-100))","v":""},"",{"$f":"IF($R37=\"\",\"\",(VLOOKUP($V$41,Worksheet!$A$11:$AE$41,V37+1,FALSE)))","v":""},{"$f":"IF('Entry Information'!$I38=\"\",\"\",'WALK TROT RESULTS'!X38)","v":""},null,"",{"$f":"IF('Entry Information'!$I38=\"\",\"\",IF('Entry Information'!X38=\"\",Z37,Z37-100))","v":""},"",{"$f":"IF($X37=\"\",\"\",(VLOOKUP($AB$41,Worksheet!$A$11:$AE$41,AB37+1,FALSE)))","v":""},{"$f":"IF('Entry Information'!$I38=\"\",\"\",'WALK TROT RESULTS'!AD38)","v":""},null,"",{"$f":"IF('Entry Information'!$I38=\"\",\"\",IF('Entry Information'!Z38=\"\",AF37,AF37-100))","v":""},"",{"$f":"IF($AD37=\"\",\"\",(VLOOKUP($AH$41,Worksheet!$A$11:$AE$41,AH37+1,FALSE)))","v":""}]
[{"$f":"IF('Entry Information'!I39=\"\",\"\",'Entry Information'!B39)","v":""},{"$f":"IF('Entry Information'!I39=\"\",\"\",'Entry Information'!C39)","v":""},{"$f":"IF('Entry Information'!I39=\"\",\"\",'Entry Information'!D39)","v":""},{"$f":"IF('Entry Information'!I39=\"\",\"\",'Entry Information'!E39)","v":""},"NOV",{"$f":"IF('Entry Information'!I39=\"\",\"\",'WALK TROT RESULTS'!F39)","v":""},{"$f":"IF('Entry Information'!$I39=\"\",\"\",IF('WALK TROT RESULTS'!G39=\"\",\"\",'WALK TROT RESULTS'!G39))","v":""},"",{"$f":"IF('Entry Information'!$I39=\"\",\"\",IF('Entry Information'!R39=\"\",H38,H38-100))","v":""},"",{"$f":"IF($F38=\"\",\"\",(VLOOKUP($J$41,Worksheet!$A$11:$AE$41,J38+1,FALSE)))","v":""},{"$f":"IF('Entry Information'!I39=\"\",\"\",'WALK TROT RESULTS'!L39)","v":""},{"$f":"IF('Entry Information'!$I39=\"\",\"\",IF('WALK TROT RESULTS'!M39=\"\",\"\",'WALK TROT RESULTS'!M39))","v":""},"",{"$f":"IF('Entry Information'!$I39=\"\",\"\",IF('Entry Information'!T39=\"\",N38,N38-100))","v":""},"",{"$f":"IF($L38=\"\",\"\",(VLOOKUP($P$41,Worksheet!$A$11:$AE$41,P38+1,FALSE)))","v":""},{"$f":"IF('Entry Information'!I39=\"\",\"\",'WALK TROT RESULTS'!R39)","v":""},{"$f":"IF('Entry Information'!$I39=\"\",\"\",IF('WALK TROT RESULTS'!S39=\"\",\"\",'WALK TROT RESULTS'!S39))","v":""},"",{"$f":"IF('Entry Information'!$I39=\"\",\"\",IF('Entry Information'!V39=\"\",T38,T38-100))","v":""},"",{"$f":"IF($R38=\"\",\"\",(VLOOKUP($V$41,Worksheet!$A$11:$AE$41,V38+1,FALSE)))","v":""},{"$f":"IF('Entry Information'!$I39=\"\",\"\",'WALK TROT RESULTS'!X39)","v":""},null,"",{"$f":"IF('Entry Information'!$I39=\"\",\"\",IF('Entry Information'!X39=\"\",Z38,Z38-100))","v":""},"",{"$f":"IF($X38=\"\",\"\",(VLOOKUP($AB$41,Worksheet!$A$11:$AE$41,AB38+1,FALSE)))","v":""},{"$f":"IF('Entry Information'!$I39=\"\",\"\",'WALK TROT RESULTS'!AD39)","v":""},null,"",{"$f":"IF('Entry Information'!$I39=\"\",\"\",IF('Entry Information'!Z39=\"\",AF38,AF38-100))","v":""},"",{"$f":"IF($AD38=\"\",\"\",(VLOOKUP($AH$41,Worksheet!$A$11:$AE$41,AH38+1,FALSE)))","v":""}]
[{"$f":"IF('Entry Information'!I40=\"\",\"\",'Entry Information'!B40)","v":""},{"$f":"IF('Entry Information'!I40=\"\",\"\",'Entry Information'!C40)","v":""},{"$f":"IF('Entry Information'!I40=\"\",\"\",'Entry Information'!D40)","v":""},{"$f":"IF('Entry Information'!I40=\"\",\"\",'Entry Information'!E40)","v":""},"NOV",{"$f":"IF('Entry Information'!I40=\"\",\"\",'WALK TROT RESULTS'!F40)","v":""},{"$f":"IF('Entry Information'!$I40=\"\",\"\",IF('WALK TROT RESULTS'!G40=\"\",\"\",'WALK TROT RESULTS'!G40))","v":""},"",{"$f":"IF('Entry Information'!$I40=\"\",\"\",IF('Entry Information'!R40=\"\",H39,H39-100))","v":""},"",{"$f":"IF($F39=\"\",\"\",(VLOOKUP($J$41,Worksheet!$A$11:$AE$41,J39+1,FALSE)))","v":""},{"$f":"IF('Entry Information'!I40=\"\",\"\",'WALK TROT RESULTS'!L40)","v":""},{"$f":"IF('Entry Information'!$I40=\"\",\"\",IF('WALK TROT RESULTS'!M40=\"\",\"\",'WALK TROT RESULTS'!M40))","v":""},"",{"$f":"IF('Entry Information'!$I40=\"\",\"\",IF('Entry Information'!T40=\"\",N39,N39-100))","v":""},"",{"$f":"IF($L39=\"\",\"\",(VLOOKUP($P$41,Worksheet!$A$11:$AE$41,P39+1,FALSE)))","v":""},{"$f":"IF('Entry Information'!I40=\"\",\"\",'WALK TROT RESULTS'!R40)","v":""},{"$f":"IF('Entry Information'!$I40=\"\",\"\",IF('WALK TROT RESULTS'!S40=\"\",\"\",'WALK TROT RESULTS'!S40))","v":""},"",{"$f":"IF('Entry Information'!$I40=\"\",\"\",IF('Entry Information'!V40=\"\",T39,T39-100))","v":""},"",{"$f":"IF($R39=\"\",\"\",(VLOOKUP($V$41,Worksheet!$A$11:$AE$41,V39+1,FALSE)))","v":""},{"$f":"IF('Entry Information'!$I40=\"\",\"\",'WALK TROT RESULTS'!X40)","v":""},null,"",{"$f":"IF('Entry Information'!$I40=\"\",\"\",IF('Entry Information'!X40=\"\",Z39,Z39-100))","v":""},"",{"$f":"IF($X39=\"\",\"\",(VLOOKUP($AB$41,Worksheet!$A$11:$AE$41,AB39+1,FALSE)))","v":""},{"$f":"IF('Entry Information'!$I40=\"\",\"\",'WALK TROT RESULTS'!AD40)","v":""},null,"",{"$f":"IF('Entry Information'!$I40=\"\",\"\",IF('Entry Information'!Z40=\"\",AF39,AF39-100))","v":""},"",{"$f":"IF($AD39=\"\",\"\",(VLOOKUP($AH$41,Worksheet!$A$11:$AE$41,AH39+1,FALSE)))","v":""}]
[]
[null,null,null,null,null,null,null,null,null,{"$f":"COUNTIF(J10:J39,\">=0\")","v":0},null,null,null,null,null,{"$f":"COUNTIF(P10:P39,\">=0\")","v":0},null,null,null,null,null,{"$f":"COUNTIF(V10:V39,\">=0\")","v":0},null,null,null,null,null,{"$f":"COUNTIF(AB10:AB39,\">=0\")","v":0},null,null,null,null,null,{"$f":"COUNTIF(AH10:AH39,\">=0\")","v":0}]
[null,null,null,null,null,"1 - Total Penalty Points",null,null,null,null,null,"1 - Total Penalty Points",null,null,null,null,null,"1 - Total Penalty Points",null,null,null,null,null,"1 - Total Penalty Points",null,null,null,null,null,"1 - Total Penalty Points"]
[null,null,null,null,null,"2 - Extended Trot",null,null,null,null,null,"2 - Drag Log",null,null,null,null,null,"2 - Penning",null,null,null,null,null,"2 - Box Cow",null,null,null,null,null,"2 - Box Cow"]
[null,null,null,null,null,"3 - Transition down lope/walk/stop",null,null,null,null,null,"3 - Ground tie/bridle/pick-up legs",null,null,null,null,null,"3 - Working Center of arena",null,null,null,null,null,"3 -First Lead Change",null,null,null,null,null,"3 -First Lead Change"]
[null,null,null,null,null,"4 - Transition to lope/lope",null,null,null,null,null,"4 - Gate",null,null,null,null,null,"4 - Cut from Herd",null,null,null,null,null,"4 -Spin",null,null,null,null,null,"4 -Spin"]
[]
[]
["Scores in RED are ties - enter a 1 in the Tie Breaker Column of the winner to break tie.  If multiple ties enter a 1 for the second place and a 2 for winner."]
[]
[]
["Places highlighted have a major penatly."]

{"sheet":"LIMITED RESULTS","index":7,"n_rows":52,"n_cols":50,"rows_kept":52,"cut":false,"hidden":true,"merged":[[4,36,4,49],[5,49,9,49],[5,47,9,47],[5,46,9,46],[5,42,9,42],[5,44,9,44],[5,41,9,41],[5,39,9,39],[5,37,9,37],[5,36,9,36],[1,0,1,2],[1,4,1,5],[1,9,1,16],[1,24,1,28],[7,12,9,12],[7,15,9,15],[2,1,2,2],[2,4,2,5],[2,9,2,11],[5,5,5,10],[5,11,5,16],[6,5,6,10],[6,23,6,28],[5,17,5,22],[4,5,4,34],[6,11,6,16],[1,29,1,34],[6,17,6,22],[6,29,6,34],[7,7,9,7],[2,29,2,34],[7,8,9,8],[7,27,9,27],[7,31,9,31],[7,34,9,34],[7,23,9,23],[7,18,9,18],[7,22,9,22],[2,24,2,28],[7,21,9,21],[7,30,9,30],[7,24,9,24],[48,0,49,4],[7,14,9,14],[7,13,9,13],[7,19,9,19],[7,33,9,33],[7,28,9,28],[7,32,9,32],[7,26,9,26],[7,29,9,29],[7,25,9,25],[7,5,9,5],[7,6,9,6],[5,23,5,28],[5,29,5,34],[7,9,9,9],[7,10,9,10],[7,11,9,11],[7,16,9,16],[7,20,9,20],[7,17,9,17]]}
[]
[null,null,null,null,"Event Name:",null,null,null,null,{"$f":"'Entry Information'!C4","v":"Ranch Horse Challenge"},null,null,null,null,null,null,null,null,null,null,null,null,null,null,"Judge #1 Name/Classes:",null,null,null,null,{"$f":"'Entry Information'!F4","v":"Mike Lund"}]
["Division:","LIMITED",null,null,"Event Date:",null,null,null,null,{"$f":"'Entry Information'!C5","v":"2018-03-25"},null,null,null,null,null,null,null,null,null,null,null,null,null,null,"Judge #2 Name/Classes:",null,null,null,null,{"$f":"'Entry Information'!F5","v":"Karen Arlin"}]
[]
[null,null,null,null,null,"LIMITED INDIVIDUAL CLASS RESULTS",null,null,null,null,null,null,null,null,null,null,null,null,null,null,null,null,null,null,null,null,null,null,null,null,null,null,null,null,null,null,"LIMITED ALL AROUND RESULTS"]
[null,null,null,null,null,"RANCH",null,null,null,null,null,"RANCH",null,null,null,null,null,"RANCH",null,null,null,null,null,"RANCH",null,null,null,null,null,"RANCH",null,null,null,null,null,null,"TOTAL  ALL AROUND PLACEMENT POINTS","Tie Breaker","Adjusted ","EVENT ALL AROUND",null,"TOTAL SELECT ALL AROUND PLACEMENT POINTS","Tie Breaker","Adjusted ","SELECT ALL AROUND",null,"TOTAL   JR HORSE ALL AROUND PLACEMENT POINTS","Tie Breaker","Adjusted ","JR HORSE ALL AROUND"]
[null,null,null,null,null,"RIDING",null,null,null,null,null,"TRAIL",null,null,null,null,null,"CUTING",null,null,null,null,null,"REINED WORK",null,null,null,null,null,"COW WORK",null,null,null,null,null,null,null,null,"Placement",null,null,null,null,"Placement",null,null,null,null,"Placement"]
[null,null,null,null,null,"Score","Tie Breaker","Adjusted Score for Ties","Adjusted Score Major Penalty","Place","Placement Points","Score","Tie Breaker","Adjusted Score for Ties","Adjusted Score Major Penalty","Place","Placement Points","Score","Tie Breaker","Adjusted Score for Ties","Adjusted Score Major Penalty","Place","Placement Points","Score","Tie Breaker","Adjusted Score for Ties","Adjusted Score Major Penalty","Place","Placement Points","Score","Tie Breaker","Adjusted Score for Ties","Adjusted Score Major Penalty","Place","Placement Points",null,null,null,"Points",null,null,null,null,"Points",null,null,null,null,"Points"]
[]
["Back No.","Last Name","First Name","Registered Horse Name","Division"]
[{"$f":"IF('Entry Information'!B41=\"\",\"\",'Entry Information'!B41)","v":""},{"$f":"IF('Entry Information'!C41=\"\",\"\",'Entry Information'!C41)","v":""},{"$f":"IF('Entry Information'!D41=\"\",\"\",'Entry Information'!D41)","v":""},{"$f":"IF('Entry Information'!E41=\"\",\"\",'Entry Information'!E41)","v":""},"LIM",{"$f":"IF('Entry Information'!Q41=\"\",\"\",'Entry Information'!Q41)","v":""},null,{"$f":"IF(G11=\"\",F11,(F11+(G11*0.001)))","v":""},{"$f":"IF('Entry Information'!R41=\"\",H11,H11-100)","v":""},{"$f":"IF(I11=\"\",\"\",(RANK(I11,$I$11:$I$40,0)))","v":""},{"$f":"IF($F11=\"\",\"\",(VLOOKUP($J$42,Worksheet!$A$11:$AE$41,J11+1,FALSE)))","v":""},{"$f":"IF('Entry Information'!S41=\"\",\"\",'Entry Information'!S41)","v":""},null,{"$f":"IF(M11=\"\",L11,(L11+(M11*0.001)))","v":""},{"$f":"IF('Entry Information'!T41=\"\",N11,N11-100)","v":""},{"$f":"IF(O11=\"\",\"\",(RANK(O11,$O$11:$O$40,0)))","v":""},{"$f":"IF($L11=\"\",\"\",(VLOOKUP($P$42,Worksheet!$A$11:$AE$41,P11+1,FALSE)))","v":""},{"$f":"IF('Entry Information'!U41=\"\",\"\",'Entry Information'!U41)","v":""},null,{"$f":"IF(S11=\"\",R11,(R11+(S11*0.001)))","v":""},{"$f":"IF('Entry Information'!V41=\"\",T11,T11-100)","v":""},{"$f":"IF(U11=\"\",\"\",(RANK(U11,$U$11:$U$40,0)))","v":""},{"$f":"IF($R11=\"\",\"\",(VLOOKUP($V$42,Worksheet!$A$11:$AE$41,V11+1,FALSE)))","v":""},{"$f":"IF('Entry Information'!W41=\"\",\"\",'Entry Information'!W41)","v":""},null,{"$f":"IF(Y11=\"\",X11,(X11+(Y11*0.001)))","v":""},{"$f":"IF('Entry Information'!X41=\"\",Z11,Z11-100)","v":""},{"$f":"IF(AA11=\"\",\"\",(RANK(AA11,$AA$11:$AA$40,0)))","v":""},{"$f":"IF($X11=\"\",\"\",(VLOOKUP($AB$42,Worksheet!$A$11:$AE$41,AB11+1,FALSE)))","v":""},{"$f":"IF('Entry Information'!Y41=\"\",\"\",'Entry Information'!Y41)","v":""},null,{"$f":"IF(AE11=\"\",AD11,(AD11+(AE11*0.001)))","v":""},{"$f":"IF('Entry Information'!Z41=\"\",AF11,AF11-100)","v":""},{"$f":"IF(AG11=\"\",\"\",(RANK(AG11,$AG$11:$AG$40,0)))","v":""},{"$f":"IF($AD11=\"\",\"\",(VLOOKUP($AH$42,Worksheet!$A$11:$AE$41,AH11+1,FALSE)))","v":""},null,{"$f":"IF('LIMITED ALL-AROUND RESULTS'!A10=\"\",\"\",(SUM('LIMITED ALL-AROUND RESULTS'!$K10,'LIMITED ALL-AROUND RESULTS'!$AC10,'LIMITED ALL-AROUND RESULTS'!$AI10, 'LIMITED ALL-AROUND RESULTS'!$W10,'LIMITED ALL-AROUND RESULTS'!$Q10)))","v":""},null,{"$f":"IF(AL11=\"\",AK11,(AK11+(AL11*0.001)))","v":""},{"$f":"IF(AM11=\"\",\"\",(RANK(AM11,$AM$11:$AM$40,0)))","v":""},null,{"$f":"IF(OR('Entry Information'!H41=\"\",'Entry Information'!J41=\"\"),\"\",(SUM('LIMITED SELECT RESULTS'!$K10,'LIMITED SELECT RESULTS'!$AC10,'LIMITED SELECT RESULTS'!$AI10, 'LIMITED SELECT RESULTS'!$W10,'LIMITED SELECT RESULTS'!$Q10)))","v":""},null,{"$f":"IF(AQ11=\"\",AP11,(AP11+(AQ11*0.001)))","v":""},{"$f":"IF(AR11=\"\",\"\",(RANK(AR11,$AR$11:$AR$40,0)))","v":""},null,{"$f":"IF(OR('Entry Information'!I41=\"\",'Entry Information'!J41=\"\"),\"\",(SUM('LIMITED JR HORSE RESULTS'!$K10,'LIMITED JR HORSE RESULTS'!$AC10,'LIMITED JR HORSE RESULTS'!$AI10, 'LIMITED JR HORSE RESULTS'!$W10,'LIMITED JR HORSE RESULTS'!$Q10)))","v":""},null,{"$f":"IF(AV11=\"\",AU11,(AU11+(AV11*0.001)))","v":""},{"$f":"IF(AW11=\"\",\"\",(RANK(AW11,$AW$11:$AW$40,0)))","v":""}]
[{"$f":"IF('Entry Information'!B42=\"\",\"\",'Entry Information'!B42)","v":""},{"$f":"IF('Entry Information'!C42=\"\",\"\",'Entry Information'!C42)","v":""},{"$f":"IF('Entry Information'!D42=\"\",\"\",'Entry Information'!D42)","v":""},{"$f":"IF('Entry Information'!E42=\"\",\"\",'Entry Information'!E42)","v":""},"LIM",{"$f":"IF('Entry Information'!Q42=\"\",\"\",'Entry Information'!Q42)","v":""},null,{"$f":"IF(G12=\"\",F12,(F12+(G12*0.001)))","v":""},{"$f":"IF('Entry Information'!R42=\"\",H12,H12-100)","v":""},{"$f":"IF(I12=\"\",\"\",(RANK(I12,$I$11:$I$40,0)))","v":""},{"$f":"IF($F12=\"\",\"\",(VLOOKUP($J$42,Worksheet!$A$11:$AE$41,J12+1,FALSE)))","v":""},{"$f":"IF('Entry Information'!S42=\"\",\"\",'Entry Information'!S42)","v":""},null,{"$f":"IF(M12=\"\",L12,(L12+(M12*0.001)))","v":""},{"$f":"IF('Entry Information'!T42=\"\",N12,N12-100)","v":""},{"$f":"IF(O12=\"\",\"\",(RANK(O12,$O$11:$O$40,0)))","v":""},{"$f":"IF($L12=\"\",\"\",(VLOOKUP($P$42,Worksheet!$A$11:$AE$41,P12+1,FALSE)))","v":""},{"$f":"IF('Entry Information'!U42=\"\",\"\",'Entry Information'!U42)","v":""},null,{"$f":"IF(S12=\"\",R12,(R12+(S12*0.001)))","v":""},{"$f":"IF('Entry Information'!V42=\"\",T12,T12-100)","v":""},{"$f":"IF(U12=\"\",\"\",(RANK(U12,$U$11:$U$40,0)))","v":""},{"$f":"IF($R12=\"\",\"\",(VLOOKUP($V$42,Worksheet!$A$11:$AE$41,V12+1,FALSE)))","v":""},{"$f":"IF('Entry Information'!W42=\"\",\"\",'Entry Information'!W42)","v":""},null,{"$f":"IF(Y12=\"\",X12,(X12+(Y12*0.001)))","v":""},{"$f":"IF('Entry Information'!X42=\"\",Z12,Z12-100)","v":""},{"$f":"IF(AA12=\"\",\"\",(RANK(AA12,$AA$11:$AA$40,0)))","v":""},{"$f":"IF($X12=\"\",\"\",(VLOOKUP($AB$42,Worksheet!$A$11:$AE$41,AB12+1,FALSE)))","v":""},{"$f":"IF('Entry Information'!Y42=\"\",\"\",'Entry Information'!Y42)","v":""},null,{"$f":"IF(AE12=\"\",AD12,(AD12+(AE12*0.001)))","v":""},{"$f":"IF('Entry Information'!Z42=\"\",AF12,AF12-100)","v":""},{"$f":"IF(AG12=\"\",\"\",(RANK(AG12,$AG$11:$AG$40,0)))","v":""},{"$f":"IF($AD12=\"\",\"\",(VLOOKUP($AH$42,Worksheet!$A$11:$AE$41,AH12+1,FALSE)))","v":""},null,{"$f":"IF('LIMITED ALL-AROUND RESULTS'!A11=\"\",\"\",(SUM('LIMITED ALL-AROUND RESULTS'!$K11,'LIMITED ALL-AROUND RESULTS'!$AC11,'LIMITED ALL-AROUND RESULTS'!$AI11, 'LIMITED ALL-AROUND RESULTS'!$W11,'LIMITED ALL-AROUND RESULTS'!$Q11)))","v":""},null,"","",null,{"$f":"IF(OR('Entry Information'!H42=\"\",'Entry Information'!J42=\"\"),\"\",(SUM('LIMITED SELECT RESULTS'!$K11,'LIMITED SELECT RESULTS'!$AC11,'LIMITED SELECT RESULTS'!$AI11, 'LIMITED SELECT RESULTS'!$W11,'LIMITED SELECT RESULTS'!$Q11)))","v":""},null,"","",null,{"$f":"IF(OR('Entry Information'!I42=\"\",'Entry Information'!J42=\"\"),\"\",(SUM('LIMITED JR HORSE RESULTS'!$K11,'LIMITED JR HORSE RESULTS'!$AC11,'LIMITED JR HORSE RESULTS'!$AI11, 'LIMITED JR HORSE RESULTS'!$W11,'LIMITED JR HORSE RESULTS'!$Q11)))","v":""},null,"",""]
[{"$f":"IF('Entry Information'!B43=\"\",\"\",'Entry Information'!B43)","v":""},{"$f":"IF('Entry Information'!C43=\"\",\"\",'Entry Information'!C43)","v":""},{"$f":"IF('Entry Information'!D43=\"\",\"\",'Entry Information'!D43)","v":""},{"$f":"IF('Entry Information'!E43=\"\",\"\",'Entry Information'!E43)","v":""},"LIM",{"$f":"IF('Entry Information'!Q43=\"\",\"\",'Entry Information'!Q43)","v":""},null,"",{"$f":"IF('Entry Information'!R43=\"\",H13,H13-100)","v":""},"",{"$f":"IF($F13=\"\",\"\",(VLOOKUP($J$42,Worksheet!$A$11:$AE$41,J13+1,FALSE)))","v":""},{"$f":"IF('Entry Information'!S43=\"\",\"\",'Entry Information'!S43)","v":""},null,"",{"$f":"IF('Entry Information'!T43=\"\",N13,N13-100)","v":""},"",{"$f":"IF($L13=\"\",\"\",(VLOOKUP($P$42,Worksheet!$A$11:$AE$41,P13+1,FALSE)))","v":""},{"$f":"IF('Entry Information'!U43=\"\",\"\",'Entry Information'!U43)","v":""},null,"",{"$f":"IF('Entry Information'!V43=\"\",T13,T13-100)","v":""},"",{"$f":"IF($R13=\"\",\"\",(VLOOKUP($V$42,Worksheet!$A$11:$AE$41,V13+1,FALSE)))","v":""},{"$f":"IF('Entry Information'!W43=\"\",\"\",'Entry Information'!W43)","v":""},null,"",{"$f":"IF('Entry Information'!X43=\"\",Z13,Z13-100)","v":""},"",{"$f":"IF($X13=\"\",\"\",(VLOOKUP($AB$42,Worksheet!$A$11:$AE$41,AB13+1,FALSE)))","v":""},{"$f":"IF('Entry Information'!Y43=\"\",\"\",'Entry Information'!Y43)","v":""},null,"",{"$f":"IF('Entry Information'!Z43=\"\",AF13,AF13-100)","v":""},"",{"$f":"IF($AD13=\"\",\"\",(VLOOKUP($AH$42,Worksheet!$A$11:$AE$41,AH13+1,FALSE)))","v":""},null,{"$f":"IF('LIMITED ALL-AROUND RESULTS'!A12=\"\",\"\",(SUM('LIMITED ALL-AROUND RESULTS'!$K12,'LIMITED ALL-AROUND RESULTS'!$AC12,'LIMITED ALL-AROUND RESULTS'!$AI12, 'LIMITED ALL-AROUND RESULTS'!$W12,'LIMITED ALL-AROUND RESULTS'!$Q12)))","v":""},null,"","",null,{"$f":"IF(OR('Entry Information'!H43=\"\",'Entry Information'!J43=\"\"),\"\",(SUM('LIMITED SELECT RESULTS'!$K12,'LIMITED SELECT RESULTS'!$AC12,'LIMITED SELECT RESULTS'!$AI12, 'LIMITED SELECT RESULTS'!$W12,'LIMITED SELECT RESULTS'!$Q12)))","v":""},null,"","",null,{"$f":"IF(OR('Entry Information'!I43=\"\",'Entry Information'!J43=\"\"),\"\",(SUM('LIMITED JR HORSE RESULTS'!$K12,'LIMITED JR HORSE RESULTS'!$AC12,'LIMITED JR HORSE RESULTS'!$AI12, 'LIMITED JR HORSE RESULTS'!$W12,'LIMITED JR HORSE RESULTS'!$Q12)))","v":""},null,"",""]
[{"$f":"IF('Entry Information'!B44=\"\",\"\",'Entry Information'!B44)","v":""},{"$f":"IF('Entry Information'!C44=\"\",\"\",'Entry Information'!C44)","v":""},{"$f":"IF('Entry Information'!D44=\"\",\"\",'Entry Information'!D44)","v":""},{"$f":"IF('Entry Information'!E44=\"\",\"\",'Entry Information'!E44)","v":""},"LIM",{"$f":"IF('Entry Information'!Q44=\"\",\"\",'Entry Information'!Q44)","v":""},null,"",{"$f":"IF('Entry Information'!R44=\"\",H14,H14-100)","v":""},"",{"$f":"IF($F14=\"\",\"\",(VLOOKUP($J$42,Worksheet!$A$11:$AE$41,J14+1,FALSE)))","v":""},{"$f":"IF('Entry Information'!S44=\"\",\"\",'Entry Information'!S44)","v":""},null,"",{"$f":"IF('Entry Information'!T44=\"\",N14,N14-100)","v":""},"",{"$f":"IF($L14=\"\",\"\",(VLOOKUP($P$42,Worksheet!$A$11:$AE$41,P14+1,FALSE)))","v":""},{"$f":"IF('Entry Information'!U44=\"\",\"\",'Entry Information'!U44)","v":""},null,"",{"$f":"IF('Entry Information'!V44=\"\",T14,T14-100)","v":""},"",{"$f":"IF($R14=\"\",\"\",(VLOOKUP($V$42,Worksheet!$A$11:$AE$41,V14+1,FALSE)))","v":""},{"$f":"IF('Entry Information'!W44=\"\",\"\",'Entry Information'!W44)","v":""},null,"",{"$f":"IF('Entry Information'!X44=\"\",Z14,Z14-100)","v":""},"",{"$f":"IF($X14=\"\",\"\",(VLOOKUP($AB$42,Worksheet!$A$11:$AE$41,AB14+1,FALSE)))","v":""},{"$f":"IF('Entry Information'!Y44=\"\",\"\",'Entry Information'!Y44)","v":""},null,"",{"$f":"IF('Entry Information'!Z44=\"\",AF14,AF14-100)","v":""},"",{"$f":"IF($AD14=\"\",\"\",(VLOOKUP($AH$42,Worksheet!$A$11:$AE$41,AH14+1,FALSE)))","v":""},null,{"$f":"IF('LIMITED ALL-AROUND RESULTS'!A13=\"\",\"\",(SUM('LIMITED ALL-AROUND RESULTS'!$K13,'LIMITED ALL-AROUND RESULTS'!$AC13,'LIMITED ALL-AROUND RESULTS'!$AI13, 'LIMITED ALL-AROUND RESULTS'!$W13,'LIMITED ALL-AROUND RESULTS'!$Q13)))","v":""},null,"","",null,{"$f":"IF(OR('Entry Information'!H44=\"\",'Entry Information'!J44=\"\"),\"\",(SUM('LIMITED SELECT RESULTS'!$K13,'LIMITED SELECT RESULTS'!$AC13,'LIMITED SELECT RESULTS'!$AI13, 'LIMITED SELECT RESULTS'!$W13,'LIMITED SELECT RESULTS'!$Q13)))","v":""},null,"","",null,{"$f":"IF(OR('Entry Information'!I44=\"\",'Entry Information'!J44=\"\"),\"\",(SUM('LIMITED JR HORSE RESULTS'!$K13,'LIMITED JR HORSE RESULTS'!$AC13,'LIMITED JR HORSE RESULTS'!$AI13, 'LIMITED JR HORSE RESULTS'!$W13,'LIMITED JR HORSE RESULTS'!$Q13)))","v":""},null,"",""]
[{"$f":"IF('Entry Information'!B45=\"\",\"\",'Entry Information'!B45)","v":""},{"$f":"IF('Entry Information'!C45=\"\",\"\",'Entry Information'!C45)","v":""},{"$f":"IF('Entry Information'!D45=\"\",\"\",'Entry Information'!D45)","v":""},{"$f":"IF('Entry Information'!E45=\"\",\"\",'Entry Information'!E45)","v":""},"LIM",{"$f":"IF('Entry Information'!Q45=\"\",\"\",'Entry Information'!Q45)","v":""},null,"",{"$f":"IF('Entry Information'!R45=\"\",H15,H15-100)","v":""},"",{"$f":"IF($F15=\"\",\"\",(VLOOKUP($J$42,Worksheet!$A$11:$AE$41,J15+1,FALSE)))","v":""},{"$f":"IF('Entry Information'!S45=\"\",\"\",'Entry Information'!S45)","v":""},null,"",{"$f":"IF('Entry Information'!T45=\"\",N15,N15-100)","v":""},"",{"$f":"IF($L15=\"\",\"\",(VLOOKUP($P$42,Worksheet!$A$11:$AE$41,P15+1,FALSE)))","v":""},{"$f":"IF('Entry Information'!U45=\"\",\"\",'Entry Information'!U45)","v":""},null,"",{"$f":"IF('Entry Information'!V45=\"\",T15,T15-100)","v":""},"",{"$f":"IF($R15=\"\",\"\",(VLOOKUP($V$42,Worksheet!$A$11:$AE$41,V15+1,FALSE)))","v":""},{"$f":"IF('Entry Information'!W45=\"\",\"\",'Entry Information'!W45)","v":""},null,"",{"$f":"IF('Entry Information'!X45=\"\",Z15,Z15-100)","v":""},"",{"$f":"IF($X15=\"\",\"\",(VLOOKUP($AB$42,Worksheet!$A$11:$AE$41,AB15+1,FALSE)))","v":""},{"$f":"IF('Entry Information'!Y45=\"\",\"\",'Entry Information'!Y45)","v":""},null,"",{"$f":"IF('Entry Information'!Z45=\"\",AF15,AF15-100)","v":""},"",{"$f":"IF($AD15=\"\",\"\",(VLOOKUP($AH$42,Worksheet!$A$11:$AE$41,AH15+1,FALSE)))","v":""},null,{"$f":"IF('LIMITED ALL-AROUND RESULTS'!A14=\"\",\"\",(SUM('LIMITED ALL-AROUND RESULTS'!$K14,'LIMITED ALL-AROUND RESULTS'!$AC14,'LIMITED ALL-AROUND RESULTS'!$AI14, 'LIMITED ALL-AROUND RESULTS'!$W14,'LIMITED ALL-AROUND RESULTS'!$Q14)))","v":""},null,"","",null,{"$f":"IF(OR('Entry Information'!H45=\"\",'Entry Information'!J45=\"\"),\"\",(SUM('LIMITED SELECT RESULTS'!$K14,'LIMITED SELECT RESULTS'!$AC14,'LIMITED SELECT RESULTS'!$AI14, 'LIMITED SELECT RESULTS'!$W14,'LIMITED SELECT RESULTS'!$Q14)))","v":""},null,"","",null,{"$f":"IF(OR('Entry Information'!I45=\"\",'Entry Information'!J45=\"\"),\"\",(SUM('LIMITED JR HORSE RESULTS'!$K14,'LIMITED JR HORSE RESULTS'!$AC14,'LIMITED JR HORSE RESULTS'!$AI14, 'LIMITED JR HORSE RESULTS'!$W14,'LIMITED JR HORSE RESULTS'!$Q14)))","v":""},null,"",""]
[{"$f":"IF('Entry Information'!B46=\"\",\"\",'Entry Information'!B46)","v":""},{"$f":"IF('Entry Information'!C46=\"\",\"\",'Entry Information'!C46)","v":""},{"$f":"IF('Entry Information'!D46=\"\",\"\",'Entry Information'!D46)","v":""},{"$f":"IF('Entry Information'!E46=\"\",\"\",'Entry Information'!E46)","v":""},"LIM",{"$f":"IF('Entry Information'!Q46=\"\",\"\",'Entry Information'!Q46)","v":""},null,"",{"$f":"IF('Entry Information'!R46=\"\",H16,H16-100)","v":""},"",{"$f":"IF($F16=\"\",\"\",(VLOOKUP($J$42,Worksheet!$A$11:$AE$41,J16+1,FALSE)))","v":""},{"$f":"IF('Entry Information'!S46=\"\",\"\",'Entry Information'!S46)","v":""},null,"",{"$f":"IF('Entry Information'!T46=\"\",N16,N16-100)","v":""},"",{"$f":"IF($L16=\"\",\"\",(VLOOKUP($P$42,Worksheet!$A$11:$AE$41,P16+1,FALSE)))","v":""},{"$f":"IF('Entry Information'!U46=\"\",\"\",'Entry Information'!U46)","v":""},null,"",{"$f":"IF('Entry Information'!V46=\"\",T16,T16-100)","v":""},"",{"$f":"IF($R16=\"\",\"\",(VLOOKUP($V$42,Worksheet!$A$11:$AE$41,V16+1,FALSE)))","v":""},{"$f":"IF('Entry Information'!W46=\"\",\"\",'Entry Information'!W46)","v":""},null,"",{"$f":"IF('Entry Information'!X46=\"\",Z16,Z16-100)","v":""},"",{"$f":"IF($X16=\"\",\"\",(VLOOKUP($AB$42,Worksheet!$A$11:$AE$41,AB16+1,FALSE)))","v":""},{"$f":"IF('Entry Information'!Y46=\"\",\"\",'Entry Information'!Y46)","v":""},null,"",{"$f":"IF('Entry Information'!Z46=\"\",AF16,AF16-100)","v":""},"",{"$f":"IF($AD16=\"\",\"\",(VLOOKUP($AH$42,Worksheet!$A$11:$AE$41,AH16+1,FALSE)))","v":""},null,{"$f":"IF('LIMITED ALL-AROUND RESULTS'!A15=\"\",\"\",(SUM('LIMITED ALL-AROUND RESULTS'!$K15,'LIMITED ALL-AROUND RESULTS'!$AC15,'LIMITED ALL-AROUND RESULTS'!$AI15, 'LIMITED ALL-AROUND RESULTS'!$W15,'LIMITED ALL-AROUND RESULTS'!$Q15)))","v":""},null,"","",null,{"$f":"IF(OR('Entry Information'!H46=\"\",'Entry Information'!J46=\"\"),\"\",(SUM('LIMITED SELECT RESULTS'!$K15,'LIMITED SELECT RESULTS'!$AC15,'LIMITED SELECT RESULTS'!$AI15, 'LIMITED SELECT RESULTS'!$W15,'LIMITED SELECT RESULTS'!$Q15)))","v":""},null,"","",null,{"$f":"IF(OR('Entry Information'!I46=\"\",'Entry Information'!J46=\"\"),\"\",(SUM('LIMITED JR HORSE RESULTS'!$K15,'LIMITED JR HORSE RESULTS'!$AC15,'LIMITED JR HORSE RESULTS'!$AI15, 'LIMITED JR HORSE RESULTS'!$W15,'LIMITED JR HORSE RESULTS'!$Q15)))","v":""},null,"",""]
[{"$f":"IF('Entry Information'!B47=\"\",\"\",'Entry Information'!B47)","v":""},{"$f":"IF('Entry Information'!C47=\"\",\"\",'Entry Information'!C47)","v":""},{"$f":"IF('Entry Information'!D47=\"\",\"\",'Entry Information'!D47)","v":""},{"$f":"IF('Entry Information'!E47=\"\",\"\",'Entry Information'!E47)","v":""},"LIM",{"$f":"IF('Entry Information'!Q47=\"\",\"\",'Entry Information'!Q47)","v":""},null,"",{"$f":"IF('Entry Information'!R47=\"\",H17,H17-100)","v":""},"",{"$f":"IF($F17=\"\",\"\",(VLOOKUP($J$42,Worksheet!$A$11:$AE$41,J17+1,FALSE)))","v":""},{"$f":"IF('Entry Information'!S47=\"\",\"\",'Entry Information'!S47)","v":""},null,"",{"$f":"IF('Entry Information'!T47=\"\",N17,N17-100)","v":""},"",{"$f":"IF($L17=\"\",\"\",(VLOOKUP($P$42,Worksheet!$A$11:$AE$41,P17+1,FALSE)))","v":""},{"$f":"IF('Entry Information'!U47=\"\",\"\",'Entry Information'!U47)","v":""},null,"",{"$f":"IF('Entry Information'!V47=\"\",T17,T17-100)","v":""},"",{"$f":"IF($R17=\"\",\"\",(VLOOKUP($V$42,Worksheet!$A$11:$AE$41,V17+1,FALSE)))","v":""},{"$f":"IF('Entry Information'!W47=\"\",\"\",'Entry Information'!W47)","v":""},null,"",{"$f":"IF('Entry Information'!X47=\"\",Z17,Z17-100)","v":""},"",{"$f":"IF($X17=\"\",\"\",(VLOOKUP($AB$42,Worksheet!$A$11:$AE$41,AB17+1,FALSE)))","v":""},{"$f":"IF('Entry Information'!Y47=\"\",\"\",'Entry Information'!Y47)","v":""},null,"",{"$f":"IF('Entry Information'!Z47=\"\",AF17,AF17-100)","v":""},"",{"$f":"IF($AD17=\"\",\"\",(VLOOKUP($AH$42,Worksheet!$A$11:$AE$41,AH17+1,FALSE)))","v":""},null,{"$f":"IF('LIMITED ALL-AROUND RESULTS'!A16=\"\",\"\",(SUM('LIMITED ALL-AROUND RESULTS'!$K16,'LIMITED ALL-AROUND RESULTS'!$AC16,'LIMITED ALL-AROUND RESULTS'!$AI16, 'LIMITED ALL-AROUND RESULTS'!$W16,'LIMITED ALL-AROUND RESULTS'!$Q16)))","v":""},null,"","",null,{"$f":"IF(OR('Entry Information'!H47=\"\",'Entry Information'!J47=\"\"),\"\",(SUM('LIMITED SELECT RESULTS'!$K16,'LIMITED SELECT RESULTS'!$AC16,'LIMITED SELECT RESULTS'!$AI16, 'LIMITED SELECT RESULTS'!$W16,'LIMITED SELECT RESULTS'!$Q16)))","v":""},null,"","",null,{"$f":"IF(OR('Entry Information'!I47=\"\",'Entry Information'!J47=\"\"),\"\",(SUM('LIMITED JR HORSE RESULTS'!$K16,'LIMITED JR HORSE RESULTS'!$AC16,'LIMITED JR HORSE RESULTS'!$AI16, 'LIMITED JR HORSE RESULTS'!$W16,'LIMITED JR HORSE RESULTS'!$Q16)))","v":""},null,"",""]
[{"$f":"IF('Entry Information'!B48=\"\",\"\",'Entry Information'!B48)","v":""},{"$f":"IF('Entry Information'!C48=\"\",\"\",'Entry Information'!C48)","v":""},{"$f":"IF('Entry Information'!D48=\"\",\"\",'Entry Information'!D48)","v":""},{"$f":"IF('Entry Information'!E48=\"\",\"\",'Entry Information'!E48)","v":""},"LIM",{"$f":"IF('Entry Information'!Q48=\"\",\"\",'Entry Information'!Q48)","v":""},null,"",{"$f":"IF('Entry Information'!R48=\"\",H18,H18-100)","v":""},"",{"$f":"IF($F18=\"\",\"\",(VLOOKUP($J$42,Worksheet!$A$11:$AE$41,J18+1,FALSE)))","v":""},{"$f":"IF('Entry Information'!S48=\"\",\"\",'Entry Information'!S48)","v":""},null,"",{"$f":"IF('Entry Information'!T48=\"\",N18,N18-100)","v":""},"",{"$f":"IF($L18=\"\",\"\",(VLOOKUP($P$42,Worksheet!$A$11:$AE$41,P18+1,FALSE)))","v":""},{"$f":"IF('Entry Information'!U48=\"\",\"\",'Entry Information'!U48)","v":""},null,"",{"$f":"IF('Entry Information'!V48=\"\",T18,T18-100)","v":""},"",{"$f":"IF($R18=\"\",\"\",(VLOOKUP($V$42,Worksheet!$A$11:$AE$41,V18+1,FALSE)))","v":""},{"$f":"IF('Entry Information'!W48=\"\",\"\",'Entry Information'!W48)","v":""},null,"",{"$f":"IF('Entry Information'!X48=\"\",Z18,Z18-100)","v":""},"",{"$f":"IF($X18=\"\",\"\",(VLOOKUP($AB$42,Worksheet!$A$11:$AE$41,AB18+1,FALSE)))","v":""},{"$f":"IF('Entry Information'!Y48=\"\",\"\",'Entry Information'!Y48)","v":""},null,"",{"$f":"IF('Entry Information'!Z48=\"\",AF18,AF18-100)","v":""},"",{"$f":"IF($AD18=\"\",\"\",(VLOOKUP($AH$42,Worksheet!$A$11:$AE$41,AH18+1,FALSE)))","v":""},null,{"$f":"IF('LIMITED ALL-AROUND RESULTS'!A17=\"\",\"\",(SUM('LIMITED ALL-AROUND RESULTS'!$K17,'LIMITED ALL-AROUND RESULTS'!$AC17,'LIMITED ALL-AROUND RESULTS'!$AI17, 'LIMITED ALL-AROUND RESULTS'!$W17,'LIMITED ALL-AROUND RESULTS'!$Q17)))","v":""},null,"","",null,{"$f":"IF(OR('Entry Information'!H48=\"\",'Entry Information'!J48=\"\"),\"\",(SUM('LIMITED SELECT RESULTS'!$K17,'LIMITED SELECT RESULTS'!$AC17,'LIMITED SELECT RESULTS'!$AI17, 'LIMITED SELECT RESULTS'!$W17,'LIMITED SELECT RESULTS'!$Q17)))","v":""},null,"","",null,{"$f":"IF(OR('Entry Information'!I48=\"\",'Entry Information'!J48=\"\"),\"\",(SUM('LIMITED JR HORSE RESULTS'!$K17,'LIMITED JR HORSE RESULTS'!$AC17,'LIMITED JR HORSE RESULTS'!$AI17, 'LIMITED JR HORSE RESULTS'!$W17,'LIMITED JR HORSE RESULTS'!$Q17)))","v":""},null,"",""]
[{"$f":"IF('Entry Information'!B49=\"\",\"\",'Entry Information'!B49)","v":""},{"$f":"IF('Entry Information'!C49=\"\",\"\",'Entry Information'!C49)","v":""},{"$f":"IF('Entry Information'!D49=\"\",\"\",'Entry Information'!D49)","v":""},{"$f":"IF('Entry Information'!E49=\"\",\"\",'Entry Information'!E49)","v":""},"LIM",{"$f":"IF('Entry Information'!Q49=\"\",\"\",'Entry Information'!Q49)","v":""},null,"",{"$f":"IF('Entry Information'!R49=\"\",H19,H19-100)","v":""},"",{"$f":"IF($F19=\"\",\"\",(VLOOKUP($J$42,Worksheet!$A$11:$AE$41,J19+1,FALSE)))","v":""},{"$f":"IF('Entry Information'!S49=\"\",\"\",'Entry Information'!S49)","v":""},null,"",{"$f":"IF('Entry Information'!T49=\"\",N19,N19-100)","v":""},"",{"$f":"IF($L19=\"\",\"\",(VLOOKUP($P$42,Worksheet!$A$11:$AE$41,P19+1,FALSE)))","v":""},{"$f":"IF('Entry Information'!U49=\"\",\"\",'Entry Information'!U49)","v":""},null,"",{"$f":"IF('Entry Information'!V49=\"\",T19,T19-100)","v":""},"",{"$f":"IF($R19=\"\",\"\",(VLOOKUP($V$42,Worksheet!$A$11:$AE$41,V19+1,FALSE)))","v":""},{"$f":"IF('Entry Information'!W49=\"\",\"\",'Entry Information'!W49)","v":""},null,"",{"$f":"IF('Entry Information'!X49=\"\",Z19,Z19-100)","v":""},"",{"$f":"IF($X19=\"\",\"\",(VLOOKUP($AB$42,Worksheet!$A$11:$AE$41,AB19+1,FALSE)))","v":""},{"$f":"IF('Entry Information'!Y49=\"\",\"\",'Entry Information'!Y49)","v":""},null,"",{"$f":"IF('Entry Information'!Z49=\"\",AF19,AF19-100)","v":""},"",{"$f":"IF($AD19=\"\",\"\",(VLOOKUP($AH$42,Worksheet!$A$11:$AE$41,AH19+1,FALSE)))","v":""},null,{"$f":"IF('LIMITED ALL-AROUND RESULTS'!A18=\"\",\"\",(SUM('LIMITED ALL-AROUND RESULTS'!$K18,'LIMITED ALL-AROUND RESULTS'!$AC18,'LIMITED ALL-AROUND RESULTS'!$AI18, 'LIMITED ALL-AROUND RESULTS'!$W18,'LIMITED ALL-AROUND RESULTS'!$Q18)))","v":""},null,"","",null,{"$f":"IF(OR('Entry Information'!H49=\"\",'Entry Information'!J49=\"\"),\"\",(SUM('LIMITED SELECT RESULTS'!$K18,'LIMITED SELECT RESULTS'!$AC18,'LIMITED SELECT RESULTS'!$AI18, 'LIMITED SELECT RESULTS'!$W18,'LIMITED SELECT RESULTS'!$Q18)))","v":""},null,"","",null,{"$f":"IF(OR('Entry Information'!I49=\"\",'Entry Information'!J49=\"\"),\"\",(SUM('LIMITED JR HORSE RESULTS'!$K18,'LIMITED JR HORSE RESULTS'!$AC18,'LIMITED JR HORSE RESULTS'!$AI18, 'LIMITED JR HORSE RESULTS'!$W18,'LIMITED JR HORSE RESULTS'!$Q18)))","v":""},null,"",""]
[{"$f":"IF('Entry Information'!B50=\"\",\"\",'Entry Information'!B50)","v":""},{"$f":"IF('Entry Information'!C50=\"\",\"\",'Entry Information'!C50)","v":""},{"$f":"IF('Entry Information'!D50=\"\",\"\",'Entry Information'!D50)","v":""},{"$f":"IF('Entry Information'!E50=\"\",\"\",'Entry Information'!E50)","v":""},"LIM",{"$f":"IF('Entry Information'!Q50=\"\",\"\",'Entry Information'!Q50)","v":""},null,"",{"$f":"IF('Entry Information'!R50=\"\",H20,H20-100)","v":""},"",{"$f":"IF($F20=\"\",\"\",(VLOOKUP($J$42,Worksheet!$A$11:$AE$41,J20+1,FALSE)))","v":""},{"$f":"IF('Entry Information'!S50=\"\",\"\",'Entry Information'!S50)","v":""},null,"",{"$f":"IF('Entry Information'!T50=\"\",N20,N20-100)","v":""},"",{"$f":"IF($L20=\"\",\"\",(VLOOKUP($P$42,Worksheet!$A$11:$AE$41,P20+1,FALSE)))","v":""},{"$f":"IF('Entry Information'!U50=\"\",\"\",'Entry Information'!U50)","v":""},null,"",{"$f":"IF('Entry Information'!V50=\"\",T20,T20-100)","v":""},"",{"$f":"IF($R20=\"\",\"\",(VLOOKUP($V$42,Worksheet!$A$11:$AE$41,V20+1,FALSE)))","v":""},{"$f":"IF('Entry Information'!W50=\"\",\"\",'Entry Information'!W50)","v":""},null,"",{"$f":"IF('Entry Information'!X50=\"\",Z20,Z20-100)","v":""},"",{"$f":"IF($X20=\"\",\"\",(VLOOKUP($AB$42,Worksheet!$A$11:$AE$41,AB20+1,FALSE)))","v":""},{"$f":"IF('Entry Information'!Y50=\"\",\"\",'Entry Information'!Y50)","v":""},null,"",{"$f":"IF('Entry Information'!Z50=\"\",AF20,AF20-100)","v":""},"",{"$f":"IF($AD20=\"\",\"\",(VLOOKUP($AH$42,Worksheet!$A$11:$AE$41,AH20+1,FALSE)))","v":""},null,{"$f":"IF('LIMITED ALL-AROUND RESULTS'!A19=\"\",\"\",(SUM('LIMITED ALL-AROUND RESULTS'!$K19,'LIMITED ALL-AROUND RESULTS'!$AC19,'LIMITED ALL-AROUND RESULTS'!$AI19, 'LIMITED ALL-AROUND RESULTS'!$W19,'LIMITED ALL-AROUND RESULTS'!$Q19)))","v":""},null,"","",null,{"$f":"IF(OR('Entry Information'!H50=\"\",'Entry Information'!J50=\"\"),\"\",(SUM('LIMITED SELECT RESULTS'!$K19,'LIMITED SELECT RESULTS'!$AC19,'LIMITED SELECT RESULTS'!$AI19, 'LIMITED SELECT RESULTS'!$W19,'LIMITED SELECT RESULTS'!$Q19)))","v":""},null,"","",null,{"$f":"IF(OR('Entry Information'!I50=\"\",'Entry Information'!J50=\"\"),\"\",(SUM('LIMITED JR HORSE RESULTS'!$K19,'LIMITED JR HORSE RESULTS'!$AC19,'LIMITED JR HORSE RESULTS'!$AI19, 'LIMITED JR HORSE RESULTS'!$W19,'LIMITED JR HORSE RESULTS'!$Q19)))","v":""},null,"",""]
[{"$f":"IF('Entry Information'!B51=\"\",\"\",'Entry Information'!B51)","v":""},{"$f":"IF('Entry Information'!C51=\"\",\"\",'Entry Information'!C51)","v":""},{"$f":"IF('Entry Information'!D51=\"\",\"\",'Entry Information'!D51)","v":""},{"$f":"IF('Entry Information'!E51=\"\",\"\",'Entry Information'!E51)","v":""},"LIM",{"$f":"IF('Entry Information'!Q51=\"\",\"\",'Entry Information'!Q51)","v":""},null,"",{"$f":"IF('Entry Information'!R51=\"\",H21,H21-100)","v":""},"",{"$f":"IF($F21=\"\",\"\",(VLOOKUP($J$42,Worksheet!$A$11:$AE$41,J21+1,FALSE)))","v":""},{"$f":"IF('Entry Information'!S51=\"\",\"\",'Entry Information'!S51)","v":""},null,"",{"$f":"IF('Entry Information'!T51=\"\",N21,N21-100)","v":""},"",{"$f":"IF($L21=\"\",\"\",(VLOOKUP($P$42,Worksheet!$A$11:$AE$41,P21+1,FALSE)))","v":""},{"$f":"IF('Entry Information'!U51=\"\",\"\",'Entry Information'!U51)","v":""},null,"",{"$f":"IF('Entry Information'!V51=\"\",T21,T21-100)","v":""},"",{"$f":"IF($R21=\"\",\"\",(VLOOKUP($V$42,Worksheet!$A$11:$AE$41,V21+1,FALSE)))","v":""},{"$f":"IF('Entry Information'!W51=\"\",\"\",'Entry Information'!W51)","v":""},null,"",{"$f":"IF('Entry Information'!X51=\"\",Z21,Z21-100)","v":""},"",{"$f":"IF($X21=\"\",\"\",(VLOOKUP($AB$42,Worksheet!$A$11:$AE$41,AB21+1,FALSE)))","v":""},{"$f":"IF('Entry Information'!Y51=\"\",\"\",'Entry Information'!Y51)","v":""},null,"",{"$f":"IF('Entry Information'!Z51=\"\",AF21,AF21-100)","v":""},"",{"$f":"IF($AD21=\"\",\"\",(VLOOKUP($AH$42,Worksheet!$A$11:$AE$41,AH21+1,FALSE)))","v":""},null,{"$f":"IF('LIMITED ALL-AROUND RESULTS'!A20=\"\",\"\",(SUM('LIMITED ALL-AROUND RESULTS'!$K20,'LIMITED ALL-AROUND RESULTS'!$AC20,'LIMITED ALL-AROUND RESULTS'!$AI20, 'LIMITED ALL-AROUND RESULTS'!$W20,'LIMITED ALL-AROUND RESULTS'!$Q20)))","v":""},null,"","",null,{"$f":"IF(OR('Entry Information'!H51=\"\",'Entry Information'!J51=\"\"),\"\",(SUM('LIMITED SELECT RESULTS'!$K20,'LIMITED SELECT RESULTS'!$AC20,'LIMITED SELECT RESULTS'!$AI20, 'LIMITED SELECT RESULTS'!$W20,'LIMITED SELECT RESULTS'!$Q20)))","v":""},null,"","",null,{"$f":"IF(OR('Entry Information'!I51=\"\",'Entry Information'!J51=\"\"),\"\",(SUM('LIMITED JR HORSE RESULTS'!$K20,'LIMITED JR HORSE RESULTS'!$AC20,'LIMITED JR HORSE RESULTS'!$AI20, 'LIMITED JR HORSE RESULTS'!$W20,'LIMITED JR HORSE RESULTS'!$Q20)))","v":""},null,"",""]
[{"$f":"IF('Entry Information'!B52=\"\",\"\",'Entry Information'!B52)","v":""},{"$f":"IF('Entry Information'!C52=\"\",\"\",'Entry Information'!C52)","v":""},{"$f":"IF('Entry Information'!D52=\"\",\"\",'Entry Information'!D52)","v":""},{"$f":"IF('Entry Information'!E52=\"\",\"\",'Entry Information'!E52)","v":""},"LIM",{"$f":"IF('Entry Information'!Q52=\"\",\"\",'Entry Information'!Q52)","v":""},null,"",{"$f":"IF('Entry Information'!R52=\"\",H22,H22-100)","v":""},"",{"$f":"IF($F22=\"\",\"\",(VLOOKUP($J$42,Worksheet!$A$11:$AE$41,J22+1,FALSE)))","v":""},{"$f":"IF('Entry Information'!S52=\"\",\"\",'Entry Information'!S52)","v":""},null,"",{"$f":"IF('Entry Information'!T52=\"\",N22,N22-100)","v":""},"",{"$f":"IF($L22=\"\",\"\",(VLOOKUP($P$42,Worksheet!$A$11:$AE$41,P22+1,FALSE)))","v":""},{"$f":"IF('Entry Information'!U52=\"\",\"\",'Entry Information'!U52)","v":""},null,"",{"$f":"IF('Entry Information'!V52=\"\",T22,T22-100)","v":""},"",{"$f":"IF($R22=\"\",\"\",(VLOOKUP($V$42,Worksheet!$A$11:$AE$41,V22+1,FALSE)))","v":""},{"$f":"IF('Entry Information'!W52=\"\",\"\",'Entry Information'!W52)","v":""},null,"",{"$f":"IF('Entry Information'!X52=\"\",Z22,Z22-100)","v":""},"",{"$f":"IF($X22=\"\",\"\",(VLOOKUP($AB$42,Worksheet!$A$11:$AE$41,AB22+1,FALSE)))","v":""},{"$f":"IF('Entry Information'!Y52=\"\",\"\",'Entry Information'!Y52)","v":""},null,"",{"$f":"IF('Entry Information'!Z52=\"\",AF22,AF22-100)","v":""},"",{"$f":"IF($AD22=\"\",\"\",(VLOOKUP($AH$42,Worksheet!$A$11:$AE$41,AH22+1,FALSE)))","v":""},null,{"$f":"IF('LIMITED ALL-AROUND RESULTS'!A21=\"\",\"\",(SUM('LIMITED ALL-AROUND RESULTS'!$K21,'LIMITED ALL-AROUND RESULTS'!$AC21,'LIMITED ALL-AROUND RESULTS'!$AI21, 'LIMITED ALL-AROUND RESULTS'!$W21,'LIMITED ALL-AROUND RESULTS'!$Q21)))","v":""},null,"","",null,{"$f":"IF(OR('Entry Information'!H52=\"\",'Entry Information'!J52=\"\"),\"\",(SUM('LIMITED SELECT RESULTS'!$K21,'LIMITED SELECT RESULTS'!$AC21,'LIMITED SELECT RESULTS'!$AI21, 'LIMITED SELECT RESULTS'!$W21,'LIMITED SELECT RESULTS'!$Q21)))","v":""},null,"","",null,{"$f":"IF(OR('Entry Information'!I52=\"\",'Entry Information'!J52=\"\"),\"\",(SUM('LIMITED JR HORSE RESULTS'!$K21,'LIMITED JR HORSE RESULTS'!$AC21,'LIMITED JR HORSE RESULTS'!$AI21, 'LIMITED JR HORSE RESULTS'!$W21,'LIMITED JR HORSE RESULTS'!$Q21)))","v":""},null,"",""]
[{"$f":"IF('Entry Information'!B53=\"\",\"\",'Entry Information'!B53)","v":""},{"$f":"IF('Entry Information'!C53=\"\",\"\",'Entry Information'!C53)","v":""},{"$f":"IF('Entry Information'!D53=\"\",\"\",'Entry Information'!D53)","v":""},{"$f":"IF('Entry Information'!E53=\"\",\"\",'Entry Information'!E53)","v":""},"LIM",{"$f":"IF('Entry Information'!Q53=\"\",\"\",'Entry Information'!Q53)","v":""},null,"",{"$f":"IF('Entry Information'!R53=\"\",H23,H23-100)","v":""},"",{"$f":"IF($F23=\"\",\"\",(VLOOKUP($J$42,Worksheet!$A$11:$AE$41,J23+1,FALSE)))","v":""},{"$f":"IF('Entry Information'!S53=\"\",\"\",'Entry Information'!S53)","v":""},null,"",{"$f":"IF('Entry Information'!T53=\"\",N23,N23-100)","v":""},"",{"$f":"IF($L23=\"\",\"\",(VLOOKUP($P$42,Worksheet!$A$11:$AE$41,P23+1,FALSE)))","v":""},{"$f":"IF('Entry Information'!U53=\"\",\"\",'Entry Information'!U53)","v":""},null,"",{"$f":"IF('Entry Information'!V53=\"\",T23,T23-100)","v":""},"",{"$f":"IF($R23=\"\",\"\",(VLOOKUP($V$42,Worksheet!$A$11:$AE$41,V23+1,FALSE)))","v":""},{"$f":"IF('Entry Information'!W53=\"\",\"\",'Entry Information'!W53)","v":""},null,"",{"$f":"IF('Entry Information'!X53=\"\",Z23,Z23-100)","v":""},"",{"$f":"IF($X23=\"\",\"\",(VLOOKUP($AB$42,Worksheet!$A$11:$AE$41,AB23+1,FALSE)))","v":""},{"$f":"IF('Entry Information'!Y53=\"\",\"\",'Entry Information'!Y53)","v":""},null,"",{"$f":"IF('Entry Information'!Z53=\"\",AF23,AF23-100)","v":""},"",{"$f":"IF($AD23=\"\",\"\",(VLOOKUP($AH$42,Worksheet!$A$11:$AE$41,AH23+1,FALSE)))","v":""},null,{"$f":"IF('LIMITED ALL-AROUND RESULTS'!A22=\"\",\"\",(SUM('LIMITED ALL-AROUND RESULTS'!$K22,'LIMITED ALL-AROUND RESULTS'!$AC22,'LIMITED ALL-AROUND RESULTS'!$AI22, 'LIMITED ALL-AROUND RESULTS'!$W22,'LIMITED ALL-AROUND RESULTS'!$Q22)))","v":""},null,"","",null,{"$f":"IF(OR('Entry Information'!H53=\"\",'Entry Information'!J53=\"\"),\"\",(SUM('LIMITED SELECT RESULTS'!$K22,'LIMITED SELECT RESULTS'!$AC22,'LIMITED SELECT RESULTS'!$AI22, 'LIMITED SELECT RESULTS'!$W22,'LIMITED SELECT RESULTS'!$Q22)))","v":""},null,"","",null,{"$f":"IF(OR('Entry Information'!I53=\"\",'Entry Information'!J53=\"\"),\"\",(SUM('LIMITED JR HORSE RESULTS'!$K22,'LIMITED JR HORSE RESULTS'!$AC22,'LIMITED JR HORSE RESULTS'!$AI22, 'LIMITED JR HORSE RESULTS'!$W22,'LIMITED JR HORSE RESULTS'!$Q22)))","v":""},null,"",""]
[{"$f":"IF('Entry Information'!B54=\"\",\"\",'Entry Information'!B54)","v":""},{"$f":"IF('Entry Information'!C54=\"\",\"\",'Entry Information'!C54)","v":""},{"$f":"IF('Entry Information'!D54=\"\",\"\",'Entry Information'!D54)","v":""},{"$f":"IF('Entry Information'!E54=\"\",\"\",'Entry Information'!E54)","v":""},"LIM",{"$f":"IF('Entry Information'!Q54=\"\",\"\",'Entry Information'!Q54)","v":""},null,"",{"$f":"IF('Entry Information'!R54=\"\",H24,H24-100)","v":""},"",{"$f":"IF($F24=\"\",\"\",(VLOOKUP($J$42,Worksheet!$A$11:$AE$41,J24+1,FALSE)))","v":""},{"$f":"IF('Entry Information'!S54=\"\",\"\",'Entry Information'!S54)","v":""},null,"",{"$f":"IF('Entry Information'!T54=\"\",N24,N24-100)","v":""},"",{"$f":"IF($L24=\"\",\"\",(VLOOKUP($P$42,Worksheet!$A$11:$AE$41,P24+1,FALSE)))","v":""},{"$f":"IF('Entry Information'!U54=\"\",\"\",'Entry Information'!U54)","v":""},null,"",{"$f":"IF('Entry Information'!V54=\"\",T24,T24-100)","v":""},"",{"$f":"IF($R24=\"\",\"\",(VLOOKUP($V$42,Worksheet!$A$11:$AE$41,V24+1,FALSE)))","v":""},{"$f":"IF('Entry Information'!W54=\"\",\"\",'Entry Information'!W54)","v":""},null,"",{"$f":"IF('Entry Information'!X54=\"\",Z24,Z24-100)","v":""},"",{"$f":"IF($X24=\"\",\"\",(VLOOKUP($AB$42,Worksheet!$A$11:$AE$41,AB24+1,FALSE)))","v":""},{"$f":"IF('Entry Information'!Y54=\"\",\"\",'Entry Information'!Y54)","v":""},null,"",{"$f":"IF('Entry Information'!Z54=\"\",AF24,AF24-100)","v":""},"",{"$f":"IF($AD24=\"\",\"\",(VLOOKUP($AH$42,Worksheet!$A$11:$AE$41,AH24+1,FALSE)))","v":""},null,{"$f":"IF('LIMITED ALL-AROUND RESULTS'!A23=\"\",\"\",(SUM('LIMITED ALL-AROUND RESULTS'!$K23,'LIMITED ALL-AROUND RESULTS'!$AC23,'LIMITED ALL-AROUND RESULTS'!$AI23, 'LIMITED ALL-AROUND RESULTS'!$W23,'LIMITED ALL-AROUND RESULTS'!$Q23)))","v":""},null,"","",null,{"$f":"IF(OR('Entry Information'!H54=\"\",'Entry Information'!J54=\"\"),\"\",(SUM('LIMITED SELECT RESULTS'!$K23,'LIMITED SELECT RESULTS'!$AC23,'LIMITED SELECT RESULTS'!$AI23, 'LIMITED SELECT RESULTS'!$W23,'LIMITED SELECT RESULTS'!$Q23)))","v":""},null,"","",null,{"$f":"IF(OR('Entry Information'!I54=\"\",'Entry Information'!J54=\"\"),\"\",(SUM('LIMITED JR HORSE RESULTS'!$K23,'LIMITED JR HORSE RESULTS'!$AC23,'LIMITED JR HORSE RESULTS'!$AI23, 'LIMITED JR HORSE RESULTS'!$W23,'LIMITED JR HORSE RESULTS'!$Q23)))","v":""},null,"",""]
[{"$f":"IF('Entry Information'!B55=\"\",\"\",'Entry Information'!B55)","v":""},{"$f":"IF('Entry Information'!C55=\"\",\"\",'Entry Information'!C55)","v":""},{"$f":"IF('Entry Information'!D55=\"\",\"\",'Entry Information'!D55)","v":""},{"$f":"IF('Entry Information'!E55=\"\",\"\",'Entry Information'!E55)","v":""},"LIM",{"$f":"IF('Entry Information'!Q55=\"\",\"\",'Entry Information'!Q55)","v":""},null,"",{"$f":"IF('Entry Information'!R55=\"\",H25,H25-100)","v":""},"",{"$f":"IF($F25=\"\",\"\",(VLOOKUP($J$42,Worksheet!$A$11:$AE$41,J25+1,FALSE)))","v":""},{"$f":"IF('Entry Information'!S55=\"\",\"\",'Entry Information'!S55)","v":""},null,"",{"$f":"IF('Entry Information'!T55=\"\",N25,N25-100)","v":""},"",{"$f":"IF($L25=\"\",\"\",(VLOOKUP($P$42,Worksheet!$A$11:$AE$41,P25+1,FALSE)))","v":""},{"$f":"IF('Entry Information'!U55=\"\",\"\",'Entry Information'!U55)","v":""},null,"",{"$f":"IF('Entry Information'!V55=\"\",T25,T25-100)","v":""},"",{"$f":"IF($R25=\"\",\"\",(VLOOKUP($V$42,Worksheet!$A$11:$AE$41,V25+1,FALSE)))","v":""},{"$f":"IF('Entry Information'!W55=\"\",\"\",'Entry Information'!W55)","v":""},null,"",{"$f":"IF('Entry Information'!X55=\"\",Z25,Z25-100)","v":""},"",{"$f":"IF($X25=\"\",\"\",(VLOOKUP($AB$42,Worksheet!$A$11:$AE$41,AB25+1,FALSE)))","v":""},{"$f":"IF('Entry Information'!Y55=\"\",\"\",'Entry Information'!Y55)","v":""},null,"",{"$f":"IF('Entry Information'!Z55=\"\",AF25,AF25-100)","v":""},"",{"$f":"IF($AD25=\"\",\"\",(VLOOKUP($AH$42,Worksheet!$A$11:$AE$41,AH25+1,FALSE)))","v":""},null,{"$f":"IF('LIMITED ALL-AROUND RESULTS'!A24=\"\",\"\",(SUM('LIMITED ALL-AROUND RESULTS'!$K24,'LIMITED ALL-AROUND RESULTS'!$AC24,'LIMITED ALL-AROUND RESULTS'!$AI24, 'LIMITED ALL-AROUND RESULTS'!$W24,'LIMITED ALL-AROUND RESULTS'!$Q24)))","v":""},null,"","",null,{"$f":"IF(OR('Entry Information'!H55=\"\",'Entry Information'!J55=\"\"),\"\",(SUM('LIMITED SELECT RESULTS'!$K24,'LIMITED SELECT RESULTS'!$AC24,'LIMITED SELECT RESULTS'!$AI24, 'LIMITED SELECT RESULTS'!$W24,'LIMITED SELECT RESULTS'!$Q24)))","v":""},null,"","",null,{"$f":"IF(OR('Entry Information'!I55=\"\",'Entry Information'!J55=\"\"),\"\",(SUM('LIMITED JR HORSE RESULTS'!$K24,'LIMITED JR HORSE RESULTS'!$AC24,'LIMITED JR HORSE RESULTS'!$AI24, 'LIMITED JR HORSE RESULTS'!$W24,'LIMITED JR HORSE RESULTS'!$Q24)))","v":""},null,"",""]
[{"$f":"IF('Entry Information'!B56=\"\",\"\",'Entry Information'!B56)","v":""},{"$f":"IF('Entry Information'!C56=\"\",\"\",'Entry Information'!C56)","v":""},{"$f":"IF('Entry Information'!D56=\"\",\"\",'Entry Information'!D56)","v":""},{"$f":"IF('Entry Information'!E56=\"\",\"\",'Entry Information'!E56)","v":""},"LIM",{"$f":"IF('Entry Information'!Q56=\"\",\"\",'Entry Information'!Q56)","v":""},null,"",{"$f":"IF('Entry Information'!R56=\"\",H26,H26-100)","v":""},"",{"$f":"IF($F26=\"\",\"\",(VLOOKUP($J$42,Worksheet!$A$11:$AE$41,J26+1,FALSE)))","v":""},{"$f":"IF('Entry Information'!S56=\"\",\"\",'Entry Information'!S56)","v":""},null,"",{"$f":"IF('Entry Information'!T56=\"\",N26,N26-100)","v":""},"",{"$f":"IF($L26=\"\",\"\",(VLOOKUP($P$42,Worksheet!$A$11:$AE$41,P26+1,FALSE)))","v":""},{"$f":"IF('Entry Information'!U56=\"\",\"\",'Entry Information'!U56)","v":""},null,"",{"$f":"IF('Entry Information'!V56=\"\",T26,T26-100)","v":""},"",{"$f":"IF($R26=\"\",\"\",(VLOOKUP($V$42,Worksheet!$A$11:$AE$41,V26+1,FALSE)))","v":""},{"$f":"IF('Entry Information'!W56=\"\",\"\",'Entry Information'!W56)","v":""},null,"",{"$f":"IF('Entry Information'!X56=\"\",Z26,Z26-100)","v":""},"",{"$f":"IF($X26=\"\",\"\",(VLOOKUP($AB$42,Worksheet!$A$11:$AE$41,AB26+1,FALSE)))","v":""},{"$f":"IF('Entry Information'!Y56=\"\",\"\",'Entry Information'!Y56)","v":""},null,"",{"$f":"IF('Entry Information'!Z56=\"\",AF26,AF26-100)","v":""},"",{"$f":"IF($AD26=\"\",\"\",(VLOOKUP($AH$42,Worksheet!$A$11:$AE$41,AH26+1,FALSE)))","v":""},null,{"$f":"IF('LIMITED ALL-AROUND RESULTS'!A25=\"\",\"\",(SUM('LIMITED ALL-AROUND RESULTS'!$K25,'LIMITED ALL-AROUND RESULTS'!$AC25,'LIMITED ALL-AROUND RESULTS'!$AI25, 'LIMITED ALL-AROUND RESULTS'!$W25,'LIMITED ALL-AROUND RESULTS'!$Q25)))","v":""},null,"","",null,{"$f":"IF(OR('Entry Information'!H56=\"\",'Entry Information'!J56=\"\"),\"\",(SUM('LIMITED SELECT RESULTS'!$K25,'LIMITED SELECT RESULTS'!$AC25,'LIMITED SELECT RESULTS'!$AI25, 'LIMITED SELECT RESULTS'!$W25,'LIMITED SELECT RESULTS'!$Q25)))","v":""},null,"","",null,{"$f":"IF(OR('Entry Information'!I56=\"\",'Entry Information'!J56=\"\"),\"\",(SUM('LIMITED JR HORSE RESULTS'!$K25,'LIMITED JR HORSE RESULTS'!$AC25,'LIMITED JR HORSE RESULTS'!$AI25, 'LIMITED JR HORSE RESULTS'!$W25,'LIMITED JR HORSE RESULTS'!$Q25)))","v":""},null,"",""]
[{"$f":"IF('Entry Information'!B57=\"\",\"\",'Entry Information'!B57)","v":""},{"$f":"IF('Entry Information'!C57=\"\",\"\",'Entry Information'!C57)","v":""},{"$f":"IF('Entry Information'!D57=\"\",\"\",'Entry Information'!D57)","v":""},{"$f":"IF('Entry Information'!E57=\"\",\"\",'Entry Information'!E57)","v":""},"LIM",{"$f":"IF('Entry Information'!Q57=\"\",\"\",'Entry Information'!Q57)","v":""},null,"",{"$f":"IF('Entry Information'!R57=\"\",H27,H27-100)","v":""},"",{"$f":"IF($F27=\"\",\"\",(VLOOKUP($J$42,Worksheet!$A$11:$AE$41,J27+1,FALSE)))","v":""},{"$f":"IF('Entry Information'!S57=\"\",\"\",'Entry Information'!S57)","v":""},null,"",{"$f":"IF('Entry Information'!T57=\"\",N27,N27-100)","v":""},"",{"$f":"IF($L27=\"\",\"\",(VLOOKUP($P$42,Worksheet!$A$11:$AE$41,P27+1,FALSE)))","v":""},{"$f":"IF('Entry Information'!U57=\"\",\"\",'Entry Information'!U57)","v":""},null,"",{"$f":"IF('Entry Information'!V57=\"\",T27,T27-100)","v":""},"",{"$f":"IF($R27=\"\",\"\",(VLOOKUP($V$42,Worksheet!$A$11:$AE$41,V27+1,FALSE)))","v":""},{"$f":"IF('Entry Information'!W57=\"\",\"\",'Entry Information'!W57)","v":""},null,"",{"$f":"IF('Entry Information'!X57=\"\",Z27,Z27-100)","v":""},"",{"$f":"IF($X27=\"\",\"\",(VLOOKUP($AB$42,Worksheet!$A$11:$AE$41,AB27+1,FALSE)))","v":""},{"$f":"IF('Entry Information'!Y57=\"\",\"\",'Entry Information'!Y57)","v":""},null,"",{"$f":"IF('Entry Information'!Z57=\"\",AF27,AF27-100)","v":""},"",{"$f":"IF($AD27=\"\",\"\",(VLOOKUP($AH$42,Worksheet!$A$11:$AE$41,AH27+1,FALSE)))","v":""},null,{"$f":"IF('LIMITED ALL-AROUND RESULTS'!A26=\"\",\"\",(SUM('LIMITED ALL-AROUND RESULTS'!$K26,'LIMITED ALL-AROUND RESULTS'!$AC26,'LIMITED ALL-AROUND RESULTS'!$AI26, 'LIMITED ALL-AROUND RESULTS'!$W26,'LIMITED ALL-AROUND RESULTS'!$Q26)))","v":""},null,"","",null,{"$f":"IF(OR('Entry Information'!H57=\"\",'Entry Information'!J57=\"\"),\"\",(SUM('LIMITED SELECT RESULTS'!$K26,'LIMITED SELECT RESULTS'!$AC26,'LIMITED SELECT RESULTS'!$AI26, 'LIMITED SELECT RESULTS'!$W26,'LIMITED SELECT RESULTS'!$Q26)))","v":""},null,"","",null,{"$f":"IF(OR('Entry Information'!I57=\"\",'Entry Information'!J57=\"\"),\"\",(SUM('LIMITED JR HORSE RESULTS'!$K26,'LIMITED JR HORSE RESULTS'!$AC26,'LIMITED JR HORSE RESULTS'!$AI26, 'LIMITED JR HORSE RESULTS'!$W26,'LIMITED JR HORSE RESULTS'!$Q26)))","v":""},null,"",""]
[{"$f":"IF('Entry Information'!B58=\"\",\"\",'Entry Information'!B58)","v":""},{"$f":"IF('Entry Information'!C58=\"\",\"\",'Entry Information'!C58)","v":""},{"$f":"IF('Entry Information'!D58=\"\",\"\",'Entry Information'!D58)","v":""},{"$f":"IF('Entry Information'!E58=\"\",\"\",'Entry Information'!E58)","v":""},"LIM",{"$f":"IF('Entry Information'!Q58=\"\",\"\",'Entry Information'!Q58)","v":""},null,"",{"$f":"IF('Entry Information'!R58=\"\",H28,H28-100)","v":""},"",{"$f":"IF($F28=\"\",\"\",(VLOOKUP($J$42,Worksheet!$A$11:$AE$41,J28+1,FALSE)))","v":""},{"$f":"IF('Entry Information'!S58=\"\",\"\",'Entry Information'!S58)","v":""},null,"",{"$f":"IF('Entry Information'!T58=\"\",N28,N28-100)","v":""},"",{"$f":"IF($L28=\"\",\"\",(VLOOKUP($P$42,Worksheet!$A$11:$AE$41,P28+1,FALSE)))","v":""},{"$f":"IF('Entry Information'!U58=\"\",\"\",'Entry Information'!U58)","v":""},null,"",{"$f":"IF('Entry Information'!V58=\"\",T28,T28-100)","v":""},"",{"$f":"IF($R28=\"\",\"\",(VLOOKUP($V$42,Worksheet!$A$11:$AE$41,V28+1,FALSE)))","v":""},{"$f":"IF('Entry Information'!W58=\"\",\"\",'Entry Information'!W58)","v":""},null,"",{"$f":"IF('Entry Information'!X58=\"\",Z28,Z28-100)","v":""},"",{"$f":"IF($X28=\"\",\"\",(VLOOKUP($AB$42,Worksheet!$A$11:$AE$41,AB28+1,FALSE)))","v":""},{"$f":"IF('Entry Information'!Y58=\"\",\"\",'Entry Information'!Y58)","v":""},null,"",{"$f":"IF('Entry Information'!Z58=\"\",AF28,AF28-100)","v":""},"",{"$f":"IF($AD28=\"\",\"\",(VLOOKUP($AH$42,Worksheet!$A$11:$AE$41,AH28+1,FALSE)))","v":""},null,{"$f":"IF('LIMITED ALL-AROUND RESULTS'!A27=\"\",\"\",(SUM('LIMITED ALL-AROUND RESULTS'!$K27,'LIMITED ALL-AROUND RESULTS'!$AC27,'LIMITED ALL-AROUND RESULTS'!$AI27, 'LIMITED ALL-AROUND RESULTS'!$W27,'LIMITED ALL-AROUND RESULTS'!$Q27)))","v":""},null,"","",null,{"$f":"IF(OR('Entry Information'!H58=\"\",'Entry Information'!J58=\"\"),\"\",(SUM('LIMITED SELECT RESULTS'!$K27,'LIMITED SELECT RESULTS'!$AC27,'LIMITED SELECT RESULTS'!$AI27, 'LIMITED SELECT RESULTS'!$W27,'LIMITED SELECT RESULTS'!$Q27)))","v":""},null,"","",null,{"$f":"IF(OR('Entry Information'!I58=\"\",'Entry Information'!J58=\"\"),\"\",(SUM('LIMITED JR HORSE RESULTS'!$K27,'LIMITED JR HORSE RESULTS'!$AC27,'LIMITED JR HORSE RESULTS'!$AI27, 'LIMITED JR HORSE RESULTS'!$W27,'LIMITED JR HORSE RESULTS'!$Q27)))","v":""},null,"",""]
[{"$f":"IF('Entry Information'!B59=\"\",\"\",'Entry Information'!B59)","v":""},{"$f":"IF('Entry Information'!C59=\"\",\"\",'Entry Information'!C59)","v":""},{"$f":"IF('Entry Information'!D59=\"\",\"\",'Entry Information'!D59)","v":""},{"$f":"IF('Entry Information'!E59=\"\",\"\",'Entry Information'!E59)","v":""},"LIM",{"$f":"IF('Entry Information'!Q59=\"\",\"\",'Entry Information'!Q59)","v":""},null,"",{"$f":"IF('Entry Information'!R59=\"\",H29,H29-100)","v":""},"",{"$f":"IF($F29=\"\",\"\",(VLOOKUP($J$42,Worksheet!$A$11:$AE$41,J29+1,FALSE)))","v":""},{"$f":"IF('Entry Information'!S59=\"\",\"\",'Entry Information'!S59)","v":""},null,"",{"$f":"IF('Entry Information'!T59=\"\",N29,N29-100)","v":""},"",{"$f":"IF($L29=\"\",\"\",(VLOOKUP($P$42,Worksheet!$A$11:$AE$41,P29+1,FALSE)))","v":""},{"$f":"IF('Entry Information'!U59=\"\",\"\",'Entry Information'!U59)","v":""},null,"",{"$f":"IF('Entry Information'!V59=\"\",T29,T29-100)","v":""},"",{"$f":"IF($R29=\"\",\"\",(VLOOKUP($V$42,Worksheet!$A$11:$AE$41,V29+1,FALSE)))","v":""},{"$f":"IF('Entry Information'!W59=\"\",\"\",'Entry Information'!W59)","v":""},null,"",{"$f":"IF('Entry Information'!X59=\"\",Z29,Z29-100)","v":""},"",{"$f":"IF($X29=\"\",\"\",(VLOOKUP($AB$42,Worksheet!$A$11:$AE$41,AB29+1,FALSE)))","v":""},{"$f":"IF('Entry Information'!Y59=\"\",\"\",'Entry Information'!Y59)","v":""},null,"",{"$f":"IF('Entry Information'!Z59=\"\",AF29,AF29-100)","v":""},"",{"$f":"IF($AD29=\"\",\"\",(VLOOKUP($AH$42,Worksheet!$A$11:$AE$41,AH29+1,FALSE)))","v":""},null,{"$f":"IF('LIMITED ALL-AROUND RESULTS'!A28=\"\",\"\",(SUM('LIMITED ALL-AROUND RESULTS'!$K28,'LIMITED ALL-AROUND RESULTS'!$AC28,'LIMITED ALL-AROUND RESULTS'!$AI28, 'LIMITED ALL-AROUND RESULTS'!$W28,'LIMITED ALL-AROUND RESULTS'!$Q28)))","v":""},null,"","",null,{"$f":"IF(OR('Entry Information'!H59=\"\",'Entry Information'!J59=\"\"),\"\",(SUM('LIMITED SELECT RESULTS'!$K28,'LIMITED SELECT RESULTS'!$AC28,'LIMITED SELECT RESULTS'!$AI28, 'LIMITED SELECT RESULTS'!$W28,'LIMITED SELECT RESULTS'!$Q28)))","v":""},null,"","",null,{"$f":"IF(OR('Entry Information'!I59=\"\",'Entry Information'!J59=\"\"),\"\",(SUM('LIMITED JR HORSE RESULTS'!$K28,'LIMITED JR HORSE RESULTS'!$AC28,'LIMITED JR HORSE RESULTS'!$AI28, 'LIMITED JR HORSE RESULTS'!$W28,'LIMITED JR HORSE RESULTS'!$Q28)))","v":""},null,"",""]
[{"$f":"IF('Entry Information'!B60=\"\",\"\",'Entry Information'!B60)","v":""},{"$f":"IF('Entry Information'!C60=\"\",\"\",'Entry Information'!C60)","v":""},{"$f":"IF('Entry Information'!D60=\"\",\"\",'Entry Information'!D60)","v":""},{"$f":"IF('Entry Information'!E60=\"\",\"\",'Entry Information'!E60)","v":""},"LIM",{"$f":"IF('Entry Information'!Q60=\"\",\"\",'Entry Information'!Q60)","v":""},null,"",{"$f":"IF('Entry Information'!R60=\"\",H30,H30-100)","v":""},"",{"$f":"IF($F30=\"\",\"\",(VLOOKUP($J$42,Worksheet!$A$11:$AE$41,J30+1,FALSE)))","v":""},{"$f":"IF('Entry Information'!S60=\"\",\"\",'Entry Information'!S60)","v":""},null,"",{"$f":"IF('Entry Information'!T60=\"\",N30,N30-100)","v":""},"",{"$f":"IF($L30=\"\",\"\",(VLOOKUP($P$42,Worksheet!$A$11:$AE$41,P30+1,FALSE)))","v":""},{"$f":"IF('Entry Information'!U60=\"\",\"\",'Entry Information'!U60)","v":""},null,"",{"$f":"IF('Entry Information'!V60=\"\",T30,T30-100)","v":""},"",{"$f":"IF($R30=\"\",\"\",(VLOOKUP($V$42,Worksheet!$A$11:$AE$41,V30+1,FALSE)))","v":""},{"$f":"IF('Entry Information'!W60=\"\",\"\",'Entry Information'!W60)","v":""},null,"",{"$f":"IF('Entry Information'!X60=\"\",Z30,Z30-100)","v":""},"",{"$f":"IF($X30=\"\",\"\",(VLOOKUP($AB$42,Worksheet!$A$11:$AE$41,AB30+1,FALSE)))","v":""},{"$f":"IF('Entry Information'!Y60=\"\",\"\",'Entry Information'!Y60)","v":""},null,"",{"$f":"IF('Entry Information'!Z60=\"\",AF30,AF30-100)","v":""},"",{"$f":"IF($AD30=\"\",\"\",(VLOOKUP($AH$42,Worksheet!$A$11:$AE$41,AH30+1,FALSE)))","v":""},null,{"$f":"IF('LIMITED ALL-AROUND RESULTS'!A29=\"\",\"\",(SUM('LIMITED ALL-AROUND RESULTS'!$K29,'LIMITED ALL-AROUND RESULTS'!$AC29,'LIMITED ALL-AROUND RESULTS'!$AI29, 'LIMITED ALL-AROUND RESULTS'!$W29,'LIMITED ALL-AROUND RESULTS'!$Q29)))","v":""},null,"","",null,{"$f":"IF(OR('Entry Information'!H60=\"\",'Entry Information'!J60=\"\"),\"\",(SUM('LIMITED SELECT RESULTS'!$K29,'LIMITED SELECT RESULTS'!$AC29,'LIMITED SELECT RESULTS'!$AI29, 'LIMITED SELECT RESULTS'!$W29,'LIMITED SELECT RESULTS'!$Q29)))","v":""},null,"","",null,{"$f":"IF(OR('Entry Information'!I60=\"\",'Entry Information'!J60=\"\"),\"\",(SUM('LIMITED JR HORSE RESULTS'!$K29,'LIMITED JR HORSE RESULTS'!$AC29,'LIMITED JR HORSE RESULTS'!$AI29, 'LIMITED JR HORSE RESULTS'!$W29,'LIMITED JR HORSE RESULTS'!$Q29)))","v":""},null,"",""]
[{"$f":"IF('Entry Information'!B61=\"\",\"\",'Entry Information'!B61)","v":""},{"$f":"IF('Entry Information'!C61=\"\",\"\",'Entry Information'!C61)","v":""},{"$f":"IF('Entry Information'!D61=\"\",\"\",'Entry Information'!D61)","v":""},{"$f":"IF('Entry Information'!E61=\"\",\"\",'Entry Information'!E61)","v":""},"LIM",{"$f":"IF('Entry Information'!Q61=\"\",\"\",'Entry Information'!Q61)","v":""},null,"",{"$f":"IF('Entry Information'!R61=\"\",H31,H31-100)","v":""},"",{"$f":"IF($F31=\"\",\"\",(VLOOKUP($J$42,Worksheet!$A$11:$AE$41,J31+1,FALSE)))","v":""},{"$f":"IF('Entry Information'!S61=\"\",\"\",'Entry Information'!S61)","v":""},null,"",{"$f":"IF('Entry Information'!T61=\"\",N31,N31-100)","v":""},"",{"$f":"IF($L31=\"\",\"\",(VLOOKUP($P$42,Worksheet!$A$11:$AE$41,P31+1,FALSE)))","v":""},{"$f":"IF('Entry Information'!U61=\"\",\"\",'Entry Information'!U61)","v":""},null,"",{"$f":"IF('Entry Information'!V61=\"\",T31,T31-100)","v":""},"",{"$f":"IF($R31=\"\",\"\",(VLOOKUP($V$42,Worksheet!$A$11:$AE$41,V31+1,FALSE)))","v":""},{"$f":"IF('Entry Information'!W61=\"\",\"\",'Entry Information'!W61)","v":""},null,"",{"$f":"IF('Entry Information'!X61=\"\",Z31,Z31-100)","v":""},"",{"$f":"IF($X31=\"\",\"\",(VLOOKUP($AB$42,Worksheet!$A$11:$AE$41,AB31+1,FALSE)))","v":""},{"$f":"IF('Entry Information'!Y61=\"\",\"\",'Entry Information'!Y61)","v":""},null,"",{"$f":"IF('Entry Information'!Z61=\"\",AF31,AF31-100)","v":""},"",{"$f":"IF($AD31=\"\",\"\",(VLOOKUP($AH$42,Worksheet!$A$11:$AE$41,AH31+1,FALSE)))","v":""},null,{"$f":"IF('LIMITED ALL-AROUND RESULTS'!A30=\"\",\"\",(SUM('LIMITED ALL-AROUND RESULTS'!$K30,'LIMITED ALL-AROUND RESULTS'!$AC30,'LIMITED ALL-AROUND RESULTS'!$AI30, 'LIMITED ALL-AROUND RESULTS'!$W30,'LIMITED ALL-AROUND RESULTS'!$Q30)))","v":""},null,"","",null,{"$f":"IF(OR('Entry Information'!H61=\"\",'Entry Information'!J61=\"\"),\"\",(SUM('LIMITED SELECT RESULTS'!$K30,'LIMITED SELECT RESULTS'!$AC30,'LIMITED SELECT RESULTS'!$AI30, 'LIMITED SELECT RESULTS'!$W30,'LIMITED SELECT RESULTS'!$Q30)))","v":""},null,"","",null,{"$f":"IF(OR('Entry Information'!I61=\"\",'Entry Information'!J61=\"\"),\"\",(SUM('LIMITED JR HORSE RESULTS'!$K30,'LIMITED JR HORSE RESULTS'!$AC30,'LIMITED JR HORSE RESULTS'!$AI30, 'LIMITED JR HORSE RESULTS'!$W30,'LIMITED JR HORSE RESULTS'!$Q30)))","v":""},null,"",""]
[{"$f":"IF('Entry Information'!B62=\"\",\"\",'Entry Information'!B62)","v":""},{"$f":"IF('Entry Information'!C62=\"\",\"\",'Entry Information'!C62)","v":""},{"$f":"IF('Entry Information'!D62=\"\",\"\",'Entry Information'!D62)","v":""},{"$f":"IF('Entry Information'!E62=\"\",\"\",'Entry Information'!E62)","v":""},"LIM",{"$f":"IF('Entry Information'!Q62=\"\",\"\",'Entry Information'!Q62)","v":""},null,"",{"$f":"IF('Entry Information'!R62=\"\",H32,H32-100)","v":""},"",{"$f":"IF($F32=\"\",\"\",(VLOOKUP($J$42,Worksheet!$A$11:$AE$41,J32+1,FALSE)))","v":""},{"$f":"IF('Entry Information'!S62=\"\",\"\",'Entry Information'!S62)","v":""},null,"",{"$f":"IF('Entry Information'!T62=\"\",N32,N32-100)","v":""},"",{"$f":"IF($L32=\"\",\"\",(VLOOKUP($P$42,Worksheet!$A$11:$AE$41,P32+1,FALSE)))","v":""},{"$f":"IF('Entry Information'!U62=\"\",\"\",'Entry Information'!U62)","v":""},null,"",{"$f":"IF('Entry Information'!V62=\"\",T32,T32-100)","v":""},"",{"$f":"IF($R32=\"\",\"\",(VLOOKUP($V$42,Worksheet!$A$11:$AE$41,V32+1,FALSE)))","v":""},{"$f":"IF('Entry Information'!W62=\"\",\"\",'Entry Information'!W62)","v":""},null,"",{"$f":"IF('Entry Information'!X62=\"\",Z32,Z32-100)","v":""},"",{"$f":"IF($X32=\"\",\"\",(VLOOKUP($AB$42,Worksheet!$A$11:$AE$41,AB32+1,FALSE)))","v":""},{"$f":"IF('Entry Information'!Y62=\"\",\"\",'Entry Information'!Y62)","v":""},null,"",{"$f":"IF('Entry Information'!Z62=\"\",AF32,AF32-100)","v":""},"",{"$f":"IF($AD32=\"\",\"\",(VLOOKUP($AH$42,Worksheet!$A$11:$AE$41,AH32+1,FALSE)))","v":""},null,{"$f":"IF('LIMITED ALL-AROUND RESULTS'!A31=\"\",\"\",(SUM('LIMITED ALL-AROUND RESULTS'!$K31,'LIMITED ALL-AROUND RESULTS'!$AC31,'LIMITED ALL-AROUND RESULTS'!$AI31, 'LIMITED ALL-AROUND RESULTS'!$W31,'LIMITED ALL-AROUND RESULTS'!$Q31)))","v":""},null,"","",null,{"$f":"IF(OR('Entry Information'!H62=\"\",'Entry Information'!J62=\"\"),\"\",(SUM('LIMITED SELECT RESULTS'!$K31,'LIMITED SELECT RESULTS'!$AC31,'LIMITED SELECT RESULTS'!$AI31, 'LIMITED SELECT RESULTS'!$W31,'LIMITED SELECT RESULTS'!$Q31)))","v":""},null,"","",null,{"$f":"IF(OR('Entry Information'!I62=\"\",'Entry Information'!J62=\"\"),\"\",(SUM('LIMITED JR HORSE RESULTS'!$K31,'LIMITED JR HORSE RESULTS'!$AC31,'LIMITED JR HORSE RESULTS'!$AI31, 'LIMITED JR HORSE RESULTS'!$W31,'LIMITED JR HORSE RESULTS'!$Q31)))","v":""},null,"",""]
[{"$f":"IF('Entry Information'!B63=\"\",\"\",'Entry Information'!B63)","v":""},{"$f":"IF('Entry Information'!C63=\"\",\"\",'Entry Information'!C63)","v":""},{"$f":"IF('Entry Information'!D63=\"\",\"\",'Entry Information'!D63)","v":""},{"$f":"IF('Entry Information'!E63=\"\",\"\",'Entry Information'!E63)","v":""},"LIM",{"$f":"IF('Entry Information'!Q63=\"\",\"\",'Entry Information'!Q63)","v":""},null,"",{"$f":"IF('Entry Information'!R63=\"\",H33,H33-100)","v":""},"",{"$f":"IF($F33=\"\",\"\",(VLOOKUP($J$42,Worksheet!$A$11:$AE$41,J33+1,FALSE)))","v":""},{"$f":"IF('Entry Information'!S63=\"\",\"\",'Entry Information'!S63)","v":""},null,"",{"$f":"IF('Entry Information'!T63=\"\",N33,N33-100)","v":""},"",{"$f":"IF($L33=\"\",\"\",(VLOOKUP($P$42,Worksheet!$A$11:$AE$41,P33+1,FALSE)))","v":""},{"$f":"IF('Entry Information'!U63=\"\",\"\",'Entry Information'!U63)","v":""},null,"",{"$f":"IF('Entry Information'!V63=\"\",T33,T33-100)","v":""},"",{"$f":"IF($R33=\"\",\"\",(VLOOKUP($V$42,Worksheet!$A$11:$AE$41,V33+1,FALSE)))","v":""},{"$f":"IF('Entry Information'!W63=\"\",\"\",'Entry Information'!W63)","v":""},null,"",{"$f":"IF('Entry Information'!X63=\"\",Z33,Z33-100)","v":""},"",{"$f":"IF($X33=\"\",\"\",(VLOOKUP($AB$42,Worksheet!$A$11:$AE$41,AB33+1,FALSE)))","v":""},{"$f":"IF('Entry Information'!Y63=\"\",\"\",'Entry Information'!Y63)","v":""},null,"",{"$f":"IF('Entry Information'!Z63=\"\",AF33,AF33-100)","v":""},"",{"$f":"IF($AD33=\"\",\"\",(VLOOKUP($AH$42,Worksheet!$A$11:$AE$41,AH33+1,FALSE)))","v":""},null,{"$f":"IF('LIMITED ALL-AROUND RESULTS'!A32=\"\",\"\",(SUM('LIMITED ALL-AROUND RESULTS'!$K32,'LIMITED ALL-AROUND RESULTS'!$AC32,'LIMITED ALL-AROUND RESULTS'!$AI32, 'LIMITED ALL-AROUND RESULTS'!$W32,'LIMITED ALL-AROUND RESULTS'!$Q32)))","v":""},null,"","",null,{"$f":"IF(OR('Entry Information'!H63=\"\",'Entry Information'!J63=\"\"),\"\",(SUM('LIMITED SELECT RESULTS'!$K32,'LIMITED SELECT RESULTS'!$AC32,'LIMITED SELECT RESULTS'!$AI32, 'LIMITED SELECT RESULTS'!$W32,'LIMITED SELECT RESULTS'!$Q32)))","v":""},null,"","",null,{"$f":"IF(OR('Entry Information'!I63=\"\",'Entry Information'!J63=\"\"),\"\",(SUM('LIMITED JR HORSE RESULTS'!$K32,'LIMITED JR HORSE RESULTS'!$AC32,'LIMITED JR HORSE RESULTS'!$AI32, 'LIMITED JR HORSE RESULTS'!$W32,'LIMITED JR HORSE RESULTS'!$Q32)))","v":""},null,"",""]
[{"$f":"IF('Entry Information'!B64=\"\",\"\",'Entry Information'!B64)","v":""},{"$f":"IF('Entry Information'!C64=\"\",\"\",'Entry Information'!C64)","v":""},{"$f":"IF('Entry Information'!D64=\"\",\"\",'Entry Information'!D64)","v":""},{"$f":"IF('Entry Information'!E64=\"\",\"\",'Entry Information'!E64)","v":""},"LIM",{"$f":"IF('Entry Information'!Q64=\"\",\"\",'Entry Information'!Q64)","v":""},null,"",{"$f":"IF('Entry Information'!R64=\"\",H34,H34-100)","v":""},"",{"$f":"IF($F34=\"\",\"\",(VLOOKUP($J$42,Worksheet!$A$11:$AE$41,J34+1,FALSE)))","v":""},{"$f":"IF('Entry Information'!S64=\"\",\"\",'Entry Information'!S64)","v":""},null,"",{"$f":"IF('Entry Information'!T64=\"\",N34,N34-100)","v":""},"",{"$f":"IF($L34=\"\",\"\",(VLOOKUP($P$42,Worksheet!$A$11:$AE$41,P34+1,FALSE)))","v":""},{"$f":"IF('Entry Information'!U64=\"\",\"\",'Entry Information'!U64)","v":""},null,"",{"$f":"IF('Entry Information'!V64=\"\",T34,T34-100)","v":""},"",{"$f":"IF($R34=\"\",\"\",(VLOOKUP($V$42,Worksheet!$A$11:$AE$41,V34+1,FALSE)))","v":""},{"$f":"IF('Entry Information'!W64=\"\",\"\",'Entry Information'!W64)","v":""},null,"",{"$f":"IF('Entry Information'!X64=\"\",Z34,Z34-100)","v":""},"",{"$f":"IF($X34=\"\",\"\",(VLOOKUP($AB$42,Worksheet!$A$11:$AE$41,AB34+1,FALSE)))","v":""},{"$f":"IF('Entry Information'!Y64=\"\",\"\",'Entry Information'!Y64)","v":""},null,"",{"$f":"IF('Entry Information'!Z64=\"\",AF34,AF34-100)","v":""},"",{"$f":"IF($AD34=\"\",\"\",(VLOOKUP($AH$42,Worksheet!$A$11:$AE$41,AH34+1,FALSE)))","v":""},null,{"$f":"IF('LIMITED ALL-AROUND RESULTS'!A33=\"\",\"\",(SUM('LIMITED ALL-AROUND RESULTS'!$K33,'LIMITED ALL-AROUND RESULTS'!$AC33,'LIMITED ALL-AROUND RESULTS'!$AI33, 'LIMITED ALL-AROUND RESULTS'!$W33,'LIMITED ALL-AROUND RESULTS'!$Q33)))","v":""},null,"","",null,{"$f":"IF(OR('Entry Information'!H64=\"\",'Entry Information'!J64=\"\"),\"\",(SUM('LIMITED SELECT RESULTS'!$K33,'LIMITED SELECT RESULTS'!$AC33,'LIMITED SELECT RESULTS'!$AI33, 'LIMITED SELECT RESULTS'!$W33,'LIMITED SELECT RESULTS'!$Q33)))","v":""},null,"","",null,{"$f":"IF(OR('Entry Information'!I64=\"\",'Entry Information'!J64=\"\"),\"\",(SUM('LIMITED JR HORSE RESULTS'!$K33,'LIMITED JR HORSE RESULTS'!$AC33,'LIMITED JR HORSE RESULTS'!$AI33, 'LIMITED JR HORSE RESULTS'!$W33,'LIMITED JR HORSE RESULTS'!$Q33)))","v":""},null,"",""]
[{"$f":"IF('Entry Information'!B65=\"\",\"\",'Entry Information'!B65)","v":""},{"$f":"IF('Entry Information'!C65=\"\",\"\",'Entry Information'!C65)","v":""},{"$f":"IF('Entry Information'!D65=\"\",\"\",'Entry Information'!D65)","v":""},{"$f":"IF('Entry Information'!E65=\"\",\"\",'Entry Information'!E65)","v":""},"LIM",{"$f":"IF('Entry Information'!Q65=\"\",\"\",'Entry Information'!Q65)","v":""},null,"",{"$f":"IF('Entry Information'!R65=\"\",H35,H35-100)","v":""},"",{"$f":"IF($F35=\"\",\"\",(VLOOKUP($J$42,Worksheet!$A$11:$AE$41,J35+1,FALSE)))","v":""},{"$f":"IF('Entry Information'!S65=\"\",\"\",'Entry Information'!S65)","v":""},null,"",{"$f":"IF('Entry Information'!T65=\"\",N35,N35-100)","v":""},"",{"$f":"IF($L35=\"\",\"\",(VLOOKUP($P$42,Worksheet!$A$11:$AE$41,P35+1,FALSE)))","v":""},{"$f":"IF('Entry Information'!U65=\"\",\"\",'Entry Information'!U65)","v":""},null,"",{"$f":"IF('Entry Information'!V65=\"\",T35,T35-100)","v":""},"",{"$f":"IF($R35=\"\",\"\",(VLOOKUP($V$42,Worksheet!$A$11:$AE$41,V35+1,FALSE)))","v":""},{"$f":"IF('Entry Information'!W65=\"\",\"\",'Entry Information'!W65)","v":""},null,"",{"$f":"IF('Entry Information'!X65=\"\",Z35,Z35-100)","v":""},"",{"$f":"IF($X35=\"\",\"\",(VLOOKUP($AB$42,Worksheet!$A$11:$AE$41,AB35+1,FALSE)))","v":""},{"$f":"IF('Entry Information'!Y65=\"\",\"\",'Entry Information'!Y65)","v":""},null,"",{"$f":"IF('Entry Information'!Z65=\"\",AF35,AF35-100)","v":""},"",{"$f":"IF($AD35=\"\",\"\",(VLOOKUP($AH$42,Worksheet!$A$11:$AE$41,AH35+1,FALSE)))","v":""},null,{"$f":"IF('LIMITED ALL-AROUND RESULTS'!A34=\"\",\"\",(SUM('LIMITED ALL-AROUND RESULTS'!$K34,'LIMITED ALL-AROUND RESULTS'!$AC34,'LIMITED ALL-AROUND RESULTS'!$AI34, 'LIMITED ALL-AROUND RESULTS'!$W34,'LIMITED ALL-AROUND RESULTS'!$Q34)))","v":""},null,"","",null,{"$f":"IF(OR('Entry Information'!H65=\"\",'Entry Information'!J65=\"\"),\"\",(SUM('LIMITED SELECT RESULTS'!$K34,'LIMITED SELECT RESULTS'!$AC34,'LIMITED SELECT RESULTS'!$AI34, 'LIMITED SELECT RESULTS'!$W34,'LIMITED SELECT RESULTS'!$Q34)))","v":""},null,"","",null,{"$f":"IF(OR('Entry Information'!I65=\"\",'Entry Information'!J65=\"\"),\"\",(SUM('LIMITED JR HORSE RESULTS'!$K34,'LIMITED JR HORSE RESULTS'!$AC34,'LIMITED JR HORSE RESULTS'!$AI34, 'LIMITED JR HORSE RESULTS'!$W34,'LIMITED JR HORSE RESULTS'!$Q34)))","v":""},null,"",""]
[{"$f":"IF('Entry Information'!B66=\"\",\"\",'Entry Information'!B66)","v":""},{"$f":"IF('Entry Information'!C66=\"\",\"\",'Entry Information'!C66)","v":""},{"$f":"IF('Entry Information'!D66=\"\",\"\",'Entry Information'!D66)","v":""},{"$f":"IF('Entry Information'!E66=\"\",\"\",'Entry Information'!E66)","v":""},"LIM",{"$f":"IF('Entry Information'!Q66=\"\",\"\",'Entry Information'!Q66)","v":""},null,"",{"$f":"IF('Entry Information'!R66=\"\",H36,H36-100)","v":""},"",{"$f":"IF($F36=\"\",\"\",(VLOOKUP($J$42,Worksheet!$A$11:$AE$41,J36+1,FALSE)))","v":""},{"$f":"IF('Entry Information'!S66=\"\",\"\",'Entry Information'!S66)","v":""},null,"",{"$f":"IF('Entry Information'!T66=\"\",N36,N36-100)","v":""},"",{"$f":"IF($L36=\"\",\"\",(VLOOKUP($P$42,Worksheet!$A$11:$AE$41,P36+1,FALSE)))","v":""},{"$f":"IF('Entry Information'!U66=\"\",\"\",'Entry Information'!U66)","v":""},null,"",{"$f":"IF('Entry Information'!V66=\"\",T36,T36-100)","v":""},"",{"$f":"IF($R36=\"\",\"\",(VLOOKUP($V$42,Worksheet!$A$11:$AE$41,V36+1,FALSE)))","v":""},{"$f":"IF('Entry Information'!W66=\"\",\"\",'Entry Information'!W66)","v":""},null,"",{"$f":"IF('Entry Information'!X66=\"\",Z36,Z36-100)","v":""},"",{"$f":"IF($X36=\"\",\"\",(VLOOKUP($AB$42,Worksheet!$A$11:$AE$41,AB36+1,FALSE)))","v":""},{"$f":"IF('Entry Information'!Y66=\"\",\"\",'Entry Information'!Y66)","v":""},null,"",{"$f":"IF('Entry Information'!Z66=\"\",AF36,AF36-100)","v":""},"",{"$f":"IF($AD36=\"\",\"\",(VLOOKUP($AH$42,Worksheet!$A$11:$AE$41,AH36+1,FALSE)))","v":""},null,{"$f":"IF('LIMITED ALL-AROUND RESULTS'!A35=\"\",\"\",(SUM('LIMITED ALL-AROUND RESULTS'!$K35,'LIMITED ALL-AROUND RESULTS'!$AC35,'LIMITED ALL-AROUND RESULTS'!$AI35, 'LIMITED ALL-AROUND RESULTS'!$W35,'LIMITED ALL-AROUND RESULTS'!$Q35)))","v":""},null,"","",null,{"$f":"IF(OR('Entry Information'!H66=\"\",'Entry Information'!J66=\"\"),\"\",(SUM('LIMITED SELECT RESULTS'!$K35,'LIMITED SELECT RESULTS'!$AC35,'LIMITED SELECT RESULTS'!$AI35, 'LIMITED SELECT RESULTS'!$W35,'LIMITED SELECT RESULTS'!$Q35)))","v":""},null,"","",null,{"$f":"IF(OR('Entry Information'!I66=\"\",'Entry Information'!J66=\"\"),\"\",(SUM('LIMITED JR HORSE RESULTS'!$K35,'LIMITED JR HORSE RESULTS'!$AC35,'LIMITED JR HORSE RESULTS'!$AI35, 'LIMITED JR HORSE RESULTS'!$W35,'LIMITED JR HORSE RESULTS'!$Q35)))","v":""},null,"",""]
[{"$f":"IF('Entry Information'!B67=\"\",\"\",'Entry Information'!B67)","v":""},{"$f":"IF('Entry Information'!C67=\"\",\"\",'Entry Information'!C67)","v":""},{"$f":"IF('Entry Information'!D67=\"\",\"\",'Entry Information'!D67)","v":""},{"$f":"IF('Entry Information'!E67=\"\",\"\",'Entry Information'!E67)","v":""},"LIM",{"$f":"IF('Entry Information'!Q67=\"\",\"\",'Entry Information'!Q67)","v":""},null,"",{"$f":"IF('Entry Information'!R67=\"\",H37,H37-100)","v":""},"",{"$f":"IF($F37=\"\",\"\",(VLOOKUP($J$42,Worksheet!$A$11:$AE$41,J37+1,FALSE)))","v":""},{"$f":"IF('Entry Information'!S67=\"\",\"\",'Entry Information'!S67)","v":""},null,"",{"$f":"IF('Entry Information'!T67=\"\",N37,N37-100)","v":""},"",{"$f":"IF($L37=\"\",\"\",(VLOOKUP($P$42,Worksheet!$A$11:$AE$41,P37+1,FALSE)))","v":""},{"$f":"IF('Entry Information'!U67=\"\",\"\",'Entry Information'!U67)","v":""},null,"",{"$f":"IF('Entry Information'!V67=\"\",T37,T37-100)","v":""},"",{"$f":"IF($R37=\"\",\"\",(VLOOKUP($V$42,Worksheet!$A$11:$AE$41,V37+1,FALSE)))","v":""},{"$f":"IF('Entry Information'!W67=\"\",\"\",'Entry Information'!W67)","v":""},null,"",{"$f":"IF('Entry Information'!X67=\"\",Z37,Z37-100)","v":""},"",{"$f":"IF($X37=\"\",\"\",(VLOOKUP($AB$42,Worksheet!$A$11:$AE$41,AB37+1,FALSE)))","v":""},{"$f":"IF('Entry Information'!Y67=\"\",\"\",'Entry Information'!Y67)","v":""},null,"",{"$f":"IF('Entry Information'!Z67=\"\",AF37,AF37-100)","v":""},"",{"$f":"IF($AD37=\"\",\"\",(VLOOKUP($AH$42,Worksheet!$A$11:$AE$41,AH37+1,FALSE)))","v":""},null,{"$f":"IF('LIMITED ALL-AROUND RESULTS'!A36=\"\",\"\",(SUM('LIMITED ALL-AROUND RESULTS'!$K36,'LIMITED ALL-AROUND RESULTS'!$AC36,'LIMITED ALL-AROUND RESULTS'!$AI36, 'LIMITED ALL-AROUND RESULTS'!$W36,'LIMITED ALL-AROUND RESULTS'!$Q36)))","v":""},null,"","",null,{"$f":"IF(OR('Entry Information'!H67=\"\",'Entry Information'!J67=\"\"),\"\",(SUM('LIMITED SELECT RESULTS'!$K36,'LIMITED SELECT RESULTS'!$AC36,'LIMITED SELECT RESULTS'!$AI36, 'LIMITED SELECT RESULTS'!$W36,'LIMITED SELECT RESULTS'!$Q36)))","v":""},null,"","",null,{"$f":"IF(OR('Entry Information'!I67=\"\",'Entry Information'!J67=\"\"),\"\",(SUM('LIMITED JR HORSE RESULTS'!$K36,'LIMITED JR HORSE RESULTS'!$AC36,'LIMITED JR HORSE RESULTS'!$AI36, 'LIMITED JR HORSE RESULTS'!$W36,'LIMITED JR HORSE RESULTS'!$Q36)))","v":""},null,"",""]
[{"$f":"IF('Entry Information'!B68=\"\",\"\",'Entry Information'!B68)","v":""},{"$f":"IF('Entry Information'!C68=\"\",\"\",'Entry Information'!C68)","v":""},{"$f":"IF('Entry Information'!D68=\"\",\"\",'Entry Information'!D68)","v":""},{"$f":"IF('Entry Information'!E68=\"\",\"\",'Entry Information'!E68)","v":""},"LIM",{"$f":"IF('Entry Information'!Q68=\"\",\"\",'Entry Information'!Q68)","v":""},null,"",{"$f":"IF('Entry Information'!R68=\"\",H38,H38-100)","v":""},"",{"$f":"IF($F38=\"\",\"\",(VLOOKUP($J$42,Worksheet!$A$11:$AE$41,J38+1,FALSE)))","v":""},{"$f":"IF('Entry Information'!S68=\"\",\"\",'Entry Information'!S68)","v":""},null,"",{"$f":"IF('Entry Information'!T68=\"\",N38,N38-100)","v":""},"",{"$f":"IF($L38=\"\",\"\",(VLOOKUP($P$42,Worksheet!$A$11:$AE$41,P38+1,FALSE)))","v":""},{"$f":"IF('Entry Information'!U68=\"\",\"\",'Entry Information'!U68)","v":""},null,"",{"$f":"IF('Entry Information'!V68=\"\",T38,T38-100)","v":""},"",{"$f":"IF($R38=\"\",\"\",(VLOOKUP($V$42,Worksheet!$A$11:$AE$41,V38+1,FALSE)))","v":""},{"$f":"IF('Entry Information'!W68=\"\",\"\",'Entry Information'!W68)","v":""},null,"",{"$f":"IF('Entry Information'!X68=\"\",Z38,Z38-100)","v":""},"",{"$f":"IF($X38=\"\",\"\",(VLOOKUP($AB$42,Worksheet!$A$11:$AE$41,AB38+1,FALSE)))","v":""},{"$f":"IF('Entry Information'!Y68=\"\",\"\",'Entry Information'!Y68)","v":""},null,"",{"$f":"IF('Entry Information'!Z68=\"\",AF38,AF38-100)","v":""},"",{"$f":"IF($AD38=\"\",\"\",(VLOOKUP($AH$42,Worksheet!$A$11:$AE$41,AH38+1,FALSE)))","v":""},null,{"$f":"IF('LIMITED ALL-AROUND RESULTS'!A37=\"\",\"\",(SUM('LIMITED ALL-AROUND RESULTS'!$K37,'LIMITED ALL-AROUND RESULTS'!$AC37,'LIMITED ALL-AROUND RESULTS'!$AI37, 'LIMITED ALL-AROUND RESULTS'!$W37,'LIMITED ALL-AROUND RESULTS'!$Q37)))","v":""},null,"","",null,{"$f":"IF(OR('Entry Information'!H68=\"\",'Entry Information'!J68=\"\"),\"\",(SUM('LIMITED SELECT RESULTS'!$K37,'LIMITED SELECT RESULTS'!$AC37,'LIMITED SELECT RESULTS'!$AI37, 'LIMITED SELECT RESULTS'!$W37,'LIMITED SELECT RESULTS'!$Q37)))","v":""},null,"","",null,{"$f":"IF(OR('Entry Information'!I68=\"\",'Entry Information'!J68=\"\"),\"\",(SUM('LIMITED JR HORSE RESULTS'!$K37,'LIMITED JR HORSE RESULTS'!$AC37,'LIMITED JR HORSE RESULTS'!$AI37, 'LIMITED JR HORSE RESULTS'!$W37,'LIMITED JR HORSE RESULTS'!$Q37)))","v":""},null,"",""]
[{"$f":"IF('Entry Information'!B69=\"\",\"\",'Entry Information'!B69)","v":""},{"$f":"IF('Entry Information'!C69=\"\",\"\",'Entry Information'!C69)","v":""},{"$f":"IF('Entry Information'!D69=\"\",\"\",'Entry Information'!D69)","v":""},{"$f":"IF('Entry Information'!E69=\"\",\"\",'Entry Information'!E69)","v":""},"LIM",{"$f":"IF('Entry Information'!Q69=\"\",\"\",'Entry Information'!Q69)","v":""},null,"",{"$f":"IF('Entry Information'!R69=\"\",H39,H39-100)","v":""},"",{"$f":"IF($F39=\"\",\"\",(VLOOKUP($J$42,Worksheet!$A$11:$AE$41,J39+1,FALSE)))","v":""},{"$f":"IF('Entry Information'!S69=\"\",\"\",'Entry Information'!S69)","v":""},null,"",{"$f":"IF('Entry Information'!T69=\"\",N39,N39-100)","v":""},"",{"$f":"IF($L39=\"\",\"\",(VLOOKUP($P$42,Worksheet!$A$11:$AE$41,P39+1,FALSE)))","v":""},{"$f":"IF('Entry Information'!U69=\"\",\"\",'Entry Information'!U69)","v":""},null,"",{"$f":"IF('Entry Information'!V69=\"\",T39,T39-100)","v":""},"",{"$f":"IF($R39=\"\",\"\",(VLOOKUP($V$42,Worksheet!$A$11:$AE$41,V39+1,FALSE)))","v":""},{"$f":"IF('Entry Information'!W69=\"\",\"\",'Entry Information'!W69)","v":""},null,"",{"$f":"IF('Entry Information'!X69=\"\",Z39,Z39-100)","v":""},"",{"$f":"IF($X39=\"\",\"\",(VLOOKUP($AB$42,Worksheet!$A$11:$AE$41,AB39+1,FALSE)))","v":""},{"$f":"IF('Entry Information'!Y69=\"\",\"\",'Entry Information'!Y69)","v":""},null,"",{"$f":"IF('Entry Information'!Z69=\"\",AF39,AF39-100)","v":""},"",{"$f":"IF($AD39=\"\",\"\",(VLOOKUP($AH$42,Worksheet!$A$11:$AE$41,AH39+1,FALSE)))","v":""},null,{"$f":"IF('LIMITED ALL-AROUND RESULTS'!A38=\"\",\"\",(SUM('LIMITED ALL-AROUND RESULTS'!$K38,'LIMITED ALL-AROUND RESULTS'!$AC38,'LIMITED ALL-AROUND RESULTS'!$AI38, 'LIMITED ALL-AROUND RESULTS'!$W38,'LIMITED ALL-AROUND RESULTS'!$Q38)))","v":""},null,"","",null,{"$f":"IF(OR('Entry Information'!H69=\"\",'Entry Information'!J69=\"\"),\"\",(SUM('LIMITED SELECT RESULTS'!$K38,'LIMITED SELECT RESULTS'!$AC38,'LIMITED SELECT RESULTS'!$AI38, 'LIMITED SELECT RESULTS'!$W38,'LIMITED SELECT RESULTS'!$Q38)))","v":""},null,"","",null,{"$f":"IF(OR('Entry Information'!I69=\"\",'Entry Information'!J69=\"\"),\"\",(SUM('LIMITED JR HORSE RESULTS'!$K38,'LIMITED JR HORSE RESULTS'!$AC38,'LIMITED JR HORSE RESULTS'!$AI38, 'LIMITED JR HORSE RESULTS'!$W38,'LIMITED JR HORSE RESULTS'!$Q38)))","v":""},null,"",""]
[{"$f":"IF('Entry Information'!B70=\"\",\"\",'Entry Information'!B70)","v":""},{"$f":"IF('Entry Information'!C70=\"\",\"\",'Entry Information'!C70)","v":""},{"$f":"IF('Entry Information'!D70=\"\",\"\",'Entry Information'!D70)","v":""},{"$f":"IF('Entry Information'!E70=\"\",\"\",'Entry Information'!E70)","v":""},"LIM",{"$f":"IF('Entry Information'!Q70=\"\",\"\",'Entry Information'!Q70)","v":""},null,"",{"$f":"IF('Entry Information'!R70=\"\",H40,H40-100)","v":""},"",{"$f":"IF($F40=\"\",\"\",(VLOOKUP($J$42,Worksheet!$A$11:$AE$41,J40+1,FALSE)))","v":""},{"$f":"IF('Entry Information'!S70=\"\",\"\",'Entry Information'!S70)","v":""},null,"",{"$f":"IF('Entry Information'!T70=\"\",N40,N40-100)","v":""},"",{"$f":"IF($L40=\"\",\"\",(VLOOKUP($P$42,Worksheet!$A$11:$AE$41,P40+1,FALSE)))","v":""},{"$f":"IF('Entry Information'!U70=\"\",\"\",'Entry Information'!U70)","v":""},null,"",{"$f":"IF('Entry Information'!V70=\"\",T40,T40-100)","v":""},"",{"$f":"IF($R40=\"\",\"\",(VLOOKUP($V$42,Worksheet!$A$11:$AE$41,V40+1,FALSE)))","v":""},{"$f":"IF('Entry Information'!W70=\"\",\"\",'Entry Information'!W70)","v":""},null,"",{"$f":"IF('Entry Information'!X70=\"\",Z40,Z40-100)","v":""},"",{"$f":"IF($X40=\"\",\"\",(VLOOKUP($AB$42,Worksheet!$A$11:$AE$41,AB40+1,FALSE)))","v":""},{"$f":"IF('Entry Information'!Y70=\"\",\"\",'Entry Information'!Y70)","v":""},null,"",{"$f":"IF('Entry Information'!Z70=\"\",AF40,AF40-100)","v":""},"",{"$f":"IF($AD40=\"\",\"\",(VLOOKUP($AH$42,Worksheet!$A$11:$AE$41,AH40+1,FALSE)))","v":""},null,{"$f":"IF('LIMITED ALL-AROUND RESULTS'!A39=\"\",\"\",(SUM('LIMITED ALL-AROUND RESULTS'!$K39,'LIMITED ALL-AROUND RESULTS'!$AC39,'LIMITED ALL-AROUND RESULTS'!$AI39, 'LIMITED ALL-AROUND RESULTS'!$W39,'LIMITED ALL-AROUND RESULTS'!$Q39)))","v":""},null,"","",null,{"$f":"IF(OR('Entry Information'!H70=\"\",'Entry Information'!J70=\"\"),\"\",(SUM('LIMITED SELECT RESULTS'!$K39,'LIMITED SELECT RESULTS'!$AC39,'LIMITED SELECT RESULTS'!$AI39, 'LIMITED SELECT RESULTS'!$W39,'LIMITED SELECT RESULTS'!$Q39)))","v":""},null,"","",null,{"$f":"IF(OR('Entry Information'!I70=\"\",'Entry Information'!J70=\"\"),\"\",(SUM('LIMITED JR HORSE RESULTS'!$K39,'LIMITED JR HORSE RESULTS'!$AC39,'LIMITED JR HORSE RESULTS'!$AI39, 'LIMITED JR HORSE RESULTS'!$W39,'LIMITED JR HORSE RESULTS'!$Q39)))","v":""},null,"",""]
[]
[null,null,null,null,null,null,null,null,null,{"$f":"COUNTIF(J11:J40,\">=0\")","v":0},null,null,null,null,null,{"$f":"COUNTIF(P11:P40,\">=0\")","v":0},null,null,null,null,null,{"$f":"COUNTIF(V11:V40,\">=0\")","v":0},null,null,null,null,null,{"$f":"COUNTIF(AB11:AB40,\">=0\")","v":0},null,null,null,null,null,{"$f":"COUNTIF(AH11:AH40,\">=0\")","v":0}]
[null,null,null,null,null,"1 - Total Penalty Points",null,null,null,null,null,"1 - Total Penalty Points",null,null,null,null,null,"1 - Total Penalty Points",null,null,null,null,null,"1 - Total Penalty Points",null,null,null,null,null,"1 - Total Penalty Points",null,null,null,null,null,null,"Working Ranch Score ",null,null,null,null,"Working Ranch Score ",null,null,null,null,"Working Ranch Score "]
[null,null,null,null,null,"2 - Extended Trot",null,null,null,null,null,"2 - Rope Handling",null,null,null,null,null,"2 - Working Center of Arena",null,null,null,null,null,"2 - First Lead Change",null,null,null,null,null,"2 - Box Cow",null,null,null,null,null,null,"and then use WR Tie-Breakers",null,null,null,null,"and then use WR Tie-Breakers",null,null,null,null,"and then use WR Tie-Breakers"]
[null,null,null,null,null,"3 - Transition down lope/walk/stop",null,null,null,null,null,"3 - Log Drag",null,null,null,null,null,"3 - First Cut From the Herd",null,null,null,null,null,"3 -Spin",null,null,null,null,null,"3 -Degree of Difficulty"]
[null,null,null,null,null,"4 - Transition to lope/lope",null,null,null,null,null,"4 - Gate",null,null,null,null,null,"4 - Second Cut From the Herd",null,null,null,null,null,"4 -First Stop",null,null,null,null,null,"4 -Time Worked"]
[]
[]
["Scores in RED are ties - enter a 1 in the Tie Breaker Column of the winner to break tie.  If multiple ties enter a 1 for the second place and a 2 for winner."]
[]
[]
["Places highlighted have a major penatly."]

{"sheet":"LIMITED ALL-AROUND RESULTS","index":8,"n_rows":51,"n_cols":35,"rows_kept":51,"cut":false,"hidden":true,"merged":[[2,24,2,28],[2,29,2,34],[4,29,4,34],[1,0,1,2],[1,4,1,5],[1,9,1,16],[1,24,1,28],[1,29,1,34],[2,1,2,2],[2,4,2,5],[2,9,2,11],[4,17,4,22],[4,23,4,28],[4,5,4,10],[4,11,4,16],[5,5,5,10],[5,11,5,16],[6,5,8,5],[6,8,8,8],[6,12,8,12],[6,15,8,15],[6,16,8,16],[6,9,8,9],[6,10,8,10],[6,11,8,11],[6,32,8,32],[6,33,8,33],[6,34,8,34],[5,17,5,22],[5,23,5,28],[5,29,5,34],[6,31,8,31],[6,19,8,19],[6,20,8,20],[6,21,8,21],[6,22,8,22],[6,23,8,23],[6,17,8,17],[6,30,8,30],[6,28,8,28],[6,29,8,29],[47,0,48,4],[6,24,8,24],[6,25,8,25],[6,26,8,26],[6,27,8,27],[6,13,8,13],[6,14,8,14],[6,18,8,18],[6,6,8,6],[6,7,8,7]]}
[]
[null,null,null,null,"Event Name:",null,null,null,null,{"$f":"'Entry Information'!C4","v":"Ranch Horse Challenge"},null,null,null,null,null,null,null,null,null,null,null,null,null,null,"Judge #1 Name/Classes:",null,null,null,null,{"$f":"'Entry Information'!F4","v":"Mike Lund"}]
["Division:","LIMITED",null,null,"Event Date:",null,null,null,null,{"$f":"'Entry Information'!C5","v":"2018-03-25"},null,null,null,null,null,null,null,null,null,null,null,null,null,null,"Judge #2 Name/Classes:",null,null,null,null,{"$f":"'Entry Information'!F5","v":"Karen Arlin"}]
[]
[null,null,null,null,null,"RANCH",null,null,null,null,null,"RANCH",null,null,null,null,null,"RANCH",null,null,null,null,null,"RANCH",null,null,null,null,null,"RANCH"]
[null,null,null,null,null,"RIDING",null,null,null,null,null,"TRAIL",null,null,null,null,null,"CUTING",null,null,null,null,null,"REINED WORK",null,null,null,null,null,"COW WORK"]
[null,null,null,null,null,"Score","Tie Breaker","Adjusted Score for Ties","Adjusted Score Major Penalty","Place","Placement Points","Score","Tie Breaker","Adjusted Score for Ties","Adjusted Score Major Penalty","Place","Placement Points","Score","Tie Breaker","Adjusted Score for Ties","Adjusted Score Major Penalty","Place","Placement Points","Score","Tie Breaker","Adjusted Score for Ties","Adjusted Score Major Penalty","Place","Placement Points","Score","Tie Breaker","Adjusted Score for Ties","Adjusted Score Major Penalty","Place","Placement Points"]
[]
["Back No.","Last Name","First Name","Registered Horse Name","Division"]
[{"$f":"IF('Entry Information'!J41=\"\",\"\",'Entry Information'!B41)","v":""},{"$f":"IF('Entry Information'!J41=\"\",\"\",'Entry Information'!C41)","v":""},{"$f":"IF('Entry Information'!J41=\"\",\"\",'Entry Information'!D41)","v":""},{"$f":"IF('Entry Information'!J41=\"\",\"\",'Entry Information'!E41)","v":""},"LIM",{"$f":"IF('Entry Information'!$J41=\"\",\"\",'LIMITED RESULTS'!F11)","v":""},{"$f":"IF('Entry Information'!$J41=\"\",\"\",IF('LIMITED RESULTS'!G11=\"\",\"\",'LIMITED RESULTS'!G11))","v":""},{"$f":"IF(G10=\"\",F10,(F10+(G10*0.001)))","v":""},{"$f":"IF('Entry Information'!$J41=\"\",\"\",IF('Entry Information'!R41=\"\",H10,H10-100))","v":""},{"$f":"IF(I10=\"\",\"\",(RANK(I10,$I$10:$I$39,0)))","v":""},{"$f":"IF($F10=\"\",\"\",(VLOOKUP($J$41,Worksheet!$A$11:$AE$41,J10+1,FALSE)))","v":""},{"$f":"IF('Entry Information'!$J41=\"\",\"\",'LIMITED RESULTS'!L11)","v":""},{"$f":"IF('Entry Information'!$J41=\"\",\"\",IF('LIMITED RESULTS'!M11=\"\",\"\",'LIMITED RESULTS'!M11))","v":""},{"$f":"IF(M10=\"\",L10,(L10+(M10*0.001)))","v":""},{"$f":"IF('Entry Information'!$J41=\"\",\"\",IF('Entry Information'!T41=\"\",N10,N10-100))","v":""},{"$f":"IF(O10=\"\",\"\",(RANK(O10,$O$10:$O$39,0)))","v":""},{"$f":"IF($L10=\"\",\"\",(VLOOKUP($P$41,Worksheet!$A$11:$AE$41,P10+1,FALSE)))","v":""},{"$f":"IF('Entry Information'!$J41=\"\",\"\",'LIMITED RESULTS'!R11)","v":""},{"$f":"IF('Entry Information'!$J41=\"\",\"\",IF('LIMITED RESULTS'!S11=\"\",\"\",'LIMITED RESULTS'!S11))","v":""},{"$f":"IF(S10=\"\",R10,(R10+(S10*0.001)))","v":""},{"$f":"IF('Entry Information'!$J41=\"\",\"\",IF('Entry Information'!V41=\"\",T10,T10-100))","v":""},{"$f":"IF(U10=\"\",\"\",(RANK(U10,$U$10:$U$39,0)))","v":""},{"$f":"IF($R10=\"\",\"\",(VLOOKUP($V$41,Worksheet!$A$11:$AE$41,V10+1,FALSE)))","v":""},{"$f":"IF('Entry Information'!$J41=\"\",\"\",'LIMITED RESULTS'!X11)","v":""},{"$f":"IF('Entry Information'!$J41=\"\",\"\",IF('LIMITED RESULTS'!Y11=\"\",\"\",'LIMITED RESULTS'!Y11))","v":""},{"$f":"IF(Y10=\"\",X10,(X10+(Y10*0.001)))","v":""},{"$f":"IF('Entry Information'!$J41=\"\",\"\",IF('Entry Information'!X41=\"\",Z10,Z10-100))","v":""},{"$f":"IF(AA10=\"\",\"\",(RANK(AA10,$AA$10:$AA$39,0)))","v":""},{"$f":"IF($X10=\"\",\"\",(VLOOKUP($AB$41,Worksheet!$A$11:$AE$41,AB10+1,FALSE)))","v":""},{"$f":"IF('Entry Information'!$J41=\"\",\"\",'LIMITED RESULTS'!AD11)","v":""},{"$f":"IF('Entry Information'!$J41=\"\",\"\",IF('LIMITED RESULTS'!AE11=\"\",\"\",'LIMITED RESULTS'!AE11))","v":""},{"$f":"IF(AE10=\"\",AD10,(AD10+(AE10*0.001)))","v":""},{"$f":"IF('Entry Information'!$J41=\"\",\"\",IF('Entry Information'!Z41=\"\",AF10,AF10-100))","v":""},{"$f":"IF(AG10=\"\",\"\",(RANK(AG10,$AG$10:$AG$39,0)))","v":""},{"$f":"IF($AD10=\"\",\"\",(VLOOKUP($AH$41,Worksheet!$A$11:$AE$41,AH10+1,FALSE)))","v":""}]
[{"$f":"IF('Entry Information'!J42=\"\",\"\",'Entry Information'!B42)","v":""},{"$f":"IF('Entry Information'!J42=\"\",\"\",'Entry Information'!C42)","v":""},{"$f":"IF('Entry Information'!J42=\"\",\"\",'Entry Information'!D42)","v":""},{"$f":"IF('Entry Information'!J42=\"\",\"\",'Entry Information'!E42)","v":""},"LIM",{"$f":"IF('Entry Information'!$J42=\"\",\"\",'LIMITED RESULTS'!F12)","v":""},{"$f":"IF('Entry Information'!$J42=\"\",\"\",IF('LIMITED RESULTS'!G12=\"\",\"\",'LIMITED RESULTS'!G12))","v":""},{"$f":"IF(G11=\"\",F11,(F11+(G11*0.001)))","v":""},{"$f":"IF('Entry Information'!$J42=\"\",\"\",IF('Entry Information'!R42=\"\",H11,H11-100))","v":""},{"$f":"IF(I11=\"\",\"\",(RANK(I11,$I$10:$I$39,0)))","v":""},{"$f":"IF($F11=\"\",\"\",(VLOOKUP($J$41,Worksheet!$A$11:$AE$41,J11+1,FALSE)))","v":""},{"$f":"IF('Entry Information'!$J42=\"\",\"\",'LIMITED RESULTS'!L12)","v":""},{"$f":"IF('Entry Information'!$J42=\"\",\"\",IF('LIMITED RESULTS'!M12=\"\",\"\",'LIMITED RESULTS'!M12))","v":""},{"$f":"IF(M11=\"\",L11,(L11+(M11*0.001)))","v":""},{"$f":"IF('Entry Information'!$J42=\"\",\"\",IF('Entry Information'!T42=\"\",N11,N11-100))","v":""},{"$f":"IF(O11=\"\",\"\",(RANK(O11,$O$10:$O$39,0)))","v":""},{"$f":"IF($L11=\"\",\"\",(VLOOKUP($P$41,Worksheet!$A$11:$AE$41,P11+1,FALSE)))","v":""},{"$f":"IF('Entry Information'!$J42=\"\",\"\",'LIMITED RESULTS'!R12)","v":""},{"$f":"IF('Entry Information'!$J42=\"\",\"\",IF('LIMITED RESULTS'!S12=\"\",\"\",'LIMITED RESULTS'!S12))","v":""},{"$f":"IF(S11=\"\",R11,(R11+(S11*0.001)))","v":""},{"$f":"IF('Entry Information'!$J42=\"\",\"\",IF('Entry Information'!V42=\"\",T11,T11-100))","v":""},{"$f":"IF(U11=\"\",\"\",(RANK(U11,$U$10:$U$39,0)))","v":""},{"$f":"IF($R11=\"\",\"\",(VLOOKUP($V$41,Worksheet!$A$11:$AE$41,V11+1,FALSE)))","v":""},{"$f":"IF('Entry Information'!$J42=\"\",\"\",'LIMITED RESULTS'!X12)","v":""},{"$f":"IF('Entry Information'!$J42=\"\",\"\",IF('LIMITED RESULTS'!Y12=\"\",\"\",'LIMITED RESULTS'!Y12))","v":""},{"$f":"IF(Y11=\"\",X11,(X11+(Y11*0.001)))","v":""},{"$f":"IF('Entry Information'!$J42=\"\",\"\",IF('Entry Information'!X42=\"\",Z11,Z11-100))","v":""},{"$f":"IF(AA11=\"\",\"\",(RANK(AA11,$AA$10:$AA$39,0)))","v":""},{"$f":"IF($X11=\"\",\"\",(VLOOKUP($AB$41,Worksheet!$A$11:$AE$41,AB11+1,FALSE)))","v":""},{"$f":"IF('Entry Information'!$J42=\"\",\"\",'LIMITED RESULTS'!AD12)","v":""},{"$f":"IF('Entry Information'!$J42=\"\",\"\",IF('LIMITED RESULTS'!AE12=\"\",\"\",'LIMITED RESULTS'!AE12))","v":""},{"$f":"IF(AE11=\"\",AD11,(AD11+(AE11*0.001)))","v":""},{"$f":"IF('Entry Information'!$J42=\"\",\"\",IF('Entry Information'!Z42=\"\",AF11,AF11-100))","v":""},{"$f":"IF(AG11=\"\",\"\",(RANK(AG11,$AG$10:$AG$39,0)))","v":""},{"$f":"IF($AD11=\"\",\"\",(VLOOKUP($AH$41,Worksheet!$A$11:$AE$41,AH11+1,FALSE)))","v":""}]
[{"$f":"IF('Entry Information'!J43=\"\",\"\",'Entry Information'!B43)","v":""},{"$f":"IF('Entry Information'!J43=\"\",\"\",'Entry Information'!C43)","v":""},{"$f":"IF('Entry Information'!J43=\"\",\"\",'Entry Information'!D43)","v":""},{"$f":"IF('Entry Information'!J43=\"\",\"\",'Entry Information'!E43)","v":""},"LIM",{"$f":"IF('Entry Information'!$J43=\"\",\"\",'LIMITED RESULTS'!F13)","v":""},{"$f":"IF('Entry Information'!$J43=\"\",\"\",IF('LIMITED RESULTS'!G13=\"\",\"\",'LIMITED RESULTS'!G13))","v":""},"",{"$f":"IF('Entry Information'!$J43=\"\",\"\",IF('Entry Information'!R43=\"\",H12,H12-100))","v":""},"",{"$f":"IF($F12=\"\",\"\",(VLOOKUP($J$41,Worksheet!$A$11:$AE$41,J12+1,FALSE)))","v":""},{"$f":"IF('Entry Information'!$J43=\"\",\"\",'LIMITED RESULTS'!L13)","v":""},{"$f":"IF('Entry Information'!$J43=\"\",\"\",IF('LIMITED RESULTS'!M13=\"\",\"\",'LIMITED RESULTS'!M13))","v":""},"",{"$f":"IF('Entry Information'!$J43=\"\",\"\",IF('Entry Information'!T43=\"\",N12,N12-100))","v":""},"",{"$f":"IF($L12=\"\",\"\",(VLOOKUP($P$41,Worksheet!$A$11:$AE$41,P12+1,FALSE)))","v":""},{"$f":"IF('Entry Information'!$J43=\"\",\"\",'LIMITED RESULTS'!R13)","v":""},{"$f":"IF('Entry Information'!$J43=\"\",\"\",IF('LIMITED RESULTS'!S13=\"\",\"\",'LIMITED RESULTS'!S13))","v":""},"",{"$f":"IF('Entry Information'!$J43=\"\",\"\",IF('Entry Information'!V43=\"\",T12,T12-100))","v":""},"",{"$f":"IF($R12=\"\",\"\",(VLOOKUP($V$41,Worksheet!$A$11:$AE$41,V12+1,FALSE)))","v":""},{"$f":"IF('Entry Information'!$J43=\"\",\"\",'LIMITED RESULTS'!X13)","v":""},{"$f":"IF('Entry Information'!$J43=\"\",\"\",IF('LIMITED RESULTS'!Y13=\"\",\"\",'LIMITED RESULTS'!Y13))","v":""},"",{"$f":"IF('Entry Information'!$J43=\"\",\"\",IF('Entry Information'!X43=\"\",Z12,Z12-100))","v":""},"",{"$f":"IF($X12=\"\",\"\",(VLOOKUP($AB$41,Worksheet!$A$11:$AE$41,AB12+1,FALSE)))","v":""},{"$f":"IF('Entry Information'!$J43=\"\",\"\",'LIMITED RESULTS'!AD13)","v":""},{"$f":"IF('Entry Information'!$J43=\"\",\"\",IF('LIMITED RESULTS'!AE13=\"\",\"\",'LIMITED RESULTS'!AE13))","v":""},"",{"$f":"IF('Entry Information'!$J43=\"\",\"\",IF('Entry Information'!Z43=\"\",AF12,AF12-100))","v":""},"",{"$f":"IF($AD12=\"\",\"\",(VLOOKUP($AH$41,Worksheet!$A$11:$AE$41,AH12+1,FALSE)))","v":""}]
[{"$f":"IF('Entry Information'!J44=\"\",\"\",'Entry Information'!B44)","v":""},{"$f":"IF('Entry Information'!J44=\"\",\"\",'Entry Information'!C44)","v":""},{"$f":"IF('Entry Information'!J44=\"\",\"\",'Entry Information'!D44)","v":""},{"$f":"IF('Entry Information'!J44=\"\",\"\",'Entry Information'!E44)","v":""},"LIM",{"$f":"IF('Entry Information'!$J44=\"\",\"\",'LIMITED RESULTS'!F14)","v":""},{"$f":"IF('Entry Information'!$J44=\"\",\"\",IF('LIMITED RESULTS'!G14=\"\",\"\",'LIMITED RESULTS'!G14))","v":""},"",{"$f":"IF('Entry Information'!$J44=\"\",\"\",IF('Entry Information'!R44=\"\",H13,H13-100))","v":""},"",{"$f":"IF($F13=\"\",\"\",(VLOOKUP($J$41,Worksheet!$A$11:$AE$41,J13+1,FALSE)))","v":""},{"$f":"IF('Entry Information'!$J44=\"\",\"\",'LIMITED RESULTS'!L14)","v":""},{"$f":"IF('Entry Information'!$J44=\"\",\"\",IF('LIMITED RESULTS'!M14=\"\",\"\",'LIMITED RESULTS'!M14))","v":""},"",{"$f":"IF('Entry Information'!$J44=\"\",\"\",IF('Entry Information'!T44=\"\",N13,N13-100))","v":""},"",{"$f":"IF($L13=\"\",\"\",(VLOOKUP($P$41,Worksheet!$A$11:$AE$41,P13+1,FALSE)))","v":""},{"$f":"IF('Entry Information'!$J44=\"\",\"\",'LIMITED RESULTS'!R14)","v":""},{"$f":"IF('Entry Information'!$J44=\"\",\"\",IF('LIMITED RESULTS'!S14=\"\",\"\",'LIMITED RESULTS'!S14))","v":""},"",{"$f":"IF('Entry Information'!$J44=\"\",\"\",IF('Entry Information'!V44=\"\",T13,T13-100))","v":""},"",{"$f":"IF($R13=\"\",\"\",(VLOOKUP($V$41,Worksheet!$A$11:$AE$41,V13+1,FALSE)))","v":""},{"$f":"IF('Entry Information'!$J44=\"\",\"\",'LIMITED RESULTS'!X14)","v":""},{"$f":"IF('Entry Information'!$J44=\"\",\"\",IF('LIMITED RESULTS'!Y14=\"\",\"\",'LIMITED RESULTS'!Y14))","v":""},"",{"$f":"IF('Entry Information'!$J44=\"\",\"\",IF('Entry Information'!X44=\"\",Z13,Z13-100))","v":""},"",{"$f":"IF($X13=\"\",\"\",(VLOOKUP($AB$41,Worksheet!$A$11:$AE$41,AB13+1,FALSE)))","v":""},{"$f":"IF('Entry Information'!$J44=\"\",\"\",'LIMITED RESULTS'!AD14)","v":""},{"$f":"IF('Entry Information'!$J44=\"\",\"\",IF('LIMITED RESULTS'!AE14=\"\",\"\",'LIMITED RESULTS'!AE14))","v":""},"",{"$f":"IF('Entry Information'!$J44=\"\",\"\",IF('Entry Information'!Z44=\"\",AF13,AF13-100))","v":""},"",{"$f":"IF($AD13=\"\",\"\",(VLOOKUP($AH$41,Worksheet!$A$11:$AE$41,AH13+1,FALSE)))","v":""}]
[{"$f":"IF('Entry Information'!J45=\"\",\"\",'Entry Information'!B45)","v":""},{"$f":"IF('Entry Information'!J45=\"\",\"\",'Entry Information'!C45)","v":""},{"$f":"IF('Entry Information'!J45=\"\",\"\",'Entry Information'!D45)","v":""},{"$f":"IF('Entry Information'!J45=\"\",\"\",'Entry Information'!E45)","v":""},"LIM",{"$f":"IF('Entry Information'!$J45=\"\",\"\",'LIMITED RESULTS'!F15)","v":""},{"$f":"IF('Entry Information'!$J45=\"\",\"\",IF('LIMITED RESULTS'!G15=\"\",\"\",'LIMITED RESULTS'!G15))","v":""},"",{"$f":"IF('Entry Information'!$J45=\"\",\"\",IF('Entry Information'!R45=\"\",H14,H14-100))","v":""},"",{"$f":"IF($F14=\"\",\"\",(VLOOKUP($J$41,Worksheet!$A$11:$AE$41,J14+1,FALSE)))","v":""},{"$f":"IF('Entry Information'!$J45=\"\",\"\",'LIMITED RESULTS'!L15)","v":""},{"$f":"IF('Entry Information'!$J45=\"\",\"\",IF('LIMITED RESULTS'!M15=\"\",\"\",'LIMITED RESULTS'!M15))","v":""},"",{"$f":"IF('Entry Information'!$J45=\"\",\"\",IF('Entry Information'!T45=\"\",N14,N14-100))","v":""},"",{"$f":"IF($L14=\"\",\"\",(VLOOKUP($P$41,Worksheet!$A$11:$AE$41,P14+1,FALSE)))","v":""},{"$f":"IF('Entry Information'!$J45=\"\",\"\",'LIMITED RESULTS'!R15)","v":""},{"$f":"IF('Entry Information'!$J45=\"\",\"\",IF('LIMITED RESULTS'!S15=\"\",\"\",'LIMITED RESULTS'!S15))","v":""},"",{"$f":"IF('Entry Information'!$J45=\"\",\"\",IF('Entry Information'!V45=\"\",T14,T14-100))","v":""},"",{"$f":"IF($R14=\"\",\"\",(VLOOKUP($V$41,Worksheet!$A$11:$AE$41,V14+1,FALSE)))","v":""},{"$f":"IF('Entry Information'!$J45=\"\",\"\",'LIMITED RESULTS'!X15)","v":""},{"$f":"IF('Entry Information'!$J45=\"\",\"\",IF('LIMITED RESULTS'!Y15=\"\",\"\",'LIMITED RESULTS'!Y15))","v":""},"",{"$f":"IF('Entry Information'!$J45=\"\",\"\",IF('Entry Information'!X45=\"\",Z14,Z14-100))","v":""},"",{"$f":"IF($X14=\"\",\"\",(VLOOKUP($AB$41,Worksheet!$A$11:$AE$41,AB14+1,FALSE)))","v":""},{"$f":"IF('Entry Information'!$J45=\"\",\"\",'LIMITED RESULTS'!AD15)","v":""},{"$f":"IF('Entry Information'!$J45=\"\",\"\",IF('LIMITED RESULTS'!AE15=\"\",\"\",'LIMITED RESULTS'!AE15))","v":""},"",{"$f":"IF('Entry Information'!$J45=\"\",\"\",IF('Entry Information'!Z45=\"\",AF14,AF14-100))","v":""},"",{"$f":"IF($AD14=\"\",\"\",(VLOOKUP($AH$41,Worksheet!$A$11:$AE$41,AH14+1,FALSE)))","v":""}]
[{"$f":"IF('Entry Information'!J46=\"\",\"\",'Entry Information'!B46)","v":""},{"$f":"IF('Entry Information'!J46=\"\",\"\",'Entry Information'!C46)","v":""},{"$f":"IF('Entry Information'!J46=\"\",\"\",'Entry Information'!D46)","v":""},{"$f":"IF('Entry Information'!J46=\"\",\"\",'Entry Information'!E46)","v":""},"LIM",{"$f":"IF('Entry Information'!$J46=\"\",\"\",'LIMITED RESULTS'!F16)","v":""},{"$f":"IF('Entry Information'!$J46=\"\",\"\",IF('LIMITED RESULTS'!G16=\"\",\"\",'LIMITED RESULTS'!G16))","v":""},"",{"$f":"IF('Entry Information'!$J46=\"\",\"\",IF('Entry Information'!R46=\"\",H15,H15-100))","v":""},"",{"$f":"IF($F15=\"\",\"\",(VLOOKUP($J$41,Worksheet!$A$11:$AE$41,J15+1,FALSE)))","v":""},{"$f":"IF('Entry Information'!$J46=\"\",\"\",'LIMITED RESULTS'!L16)","v":""},{"$f":"IF('Entry Information'!$J46=\"\",\"\",IF('LIMITED RESULTS'!M16=\"\",\"\",'LIMITED RESULTS'!M16))","v":""},"",{"$f":"IF('Entry Information'!$J46=\"\",\"\",IF('Entry Information'!T46=\"\",N15,N15-100))","v":""},"",{"$f":"IF($L15=\"\",\"\",(VLOOKUP($P$41,Worksheet!$A$11:$AE$41,P15+1,FALSE)))","v":""},{"$f":"IF('Entry Information'!$J46=\"\",\"\",'LIMITED RESULTS'!R16)","v":""},{"$f":"IF('Entry Information'!$J46=\"\",\"\",IF('LIMITED RESULTS'!S16=\"\",\"\",'LIMITED RESULTS'!S16))","v":""},"",{"$f":"IF('Entry Information'!$J46=\"\",\"\",IF('Entry Information'!V46=\"\",T15,T15-100))","v":""},"",{"$f":"IF($R15=\"\",\"\",(VLOOKUP($V$41,Worksheet!$A$11:$AE$41,V15+1,FALSE)))","v":""},{"$f":"IF('Entry Information'!$J46=\"\",\"\",'LIMITED RESULTS'!X16)","v":""},{"$f":"IF('Entry Information'!$J46=\"\",\"\",IF('LIMITED RESULTS'!Y16=\"\",\"\",'LIMITED RESULTS'!Y16))","v":""},"",{"$f":"IF('Entry Information'!$J46=\"\",\"\",IF('Entry Information'!X46=\"\",Z15,Z15-100))","v":""},"",{"$f":"IF($X15=\"\",\"\",(VLOOKUP($AB$41,Worksheet!$A$11:$AE$41,AB15+1,FALSE)))","v":""},{"$f":"IF('Entry Information'!$J46=\"\",\"\",'LIMITED RESULTS'!AD16)","v":""},{"$f":"IF('Entry Information'!$J46=\"\",\"\",IF('LIMITED RESULTS'!AE16=\"\",\"\",'LIMITED RESULTS'!AE16))","v":""},"",{"$f":"IF('Entry Information'!$J46=\"\",\"\",IF('Entry Information'!Z46=\"\",AF15,AF15-100))","v":""},"",{"$f":"IF($AD15=\"\",\"\",(VLOOKUP($AH$41,Worksheet!$A$11:$AE$41,AH15+1,FALSE)))","v":""}]
[{"$f":"IF('Entry Information'!J47=\"\",\"\",'Entry Information'!B47)","v":""},{"$f":"IF('Entry Information'!J47=\"\",\"\",'Entry Information'!C47)","v":""},{"$f":"IF('Entry Information'!J47=\"\",\"\",'Entry Information'!D47)","v":""},{"$f":"IF('Entry Information'!J47=\"\",\"\",'Entry Information'!E47)","v":""},"LIM",{"$f":"IF('Entry Information'!$J47=\"\",\"\",'LIMITED RESULTS'!F17)","v":""},{"$f":"IF('Entry Information'!$J47=\"\",\"\",IF('LIMITED RESULTS'!G17=\"\",\"\",'LIMITED RESULTS'!G17))","v":""},"",{"$f":"IF('Entry Information'!$J47=\"\",\"\",IF('Entry Information'!R47=\"\",H16,H16-100))","v":""},"",{"$f":"IF($F16=\"\",\"\",(VLOOKUP($J$41,Worksheet!$A$11:$AE$41,J16+1,FALSE)))","v":""},{"$f":"IF('Entry Information'!$J47=\"\",\"\",'LIMITED RESULTS'!L17)","v":""},{"$f":"IF('Entry Information'!$J47=\"\",\"\",IF('LIMITED RESULTS'!M17=\"\",\"\",'LIMITED RESULTS'!M17))","v":""},"",{"$f":"IF('Entry Information'!$J47=\"\",\"\",IF('Entry Information'!T47=\"\",N16,N16-100))","v":""},"",{"$f":"IF($L16=\"\",\"\",(VLOOKUP($P$41,Worksheet!$A$11:$AE$41,P16+1,FALSE)))","v":""},{"$f":"IF('Entry Information'!$J47=\"\",\"\",'LIMITED RESULTS'!R17)","v":""},{"$f":"IF('Entry Information'!$J47=\"\",\"\",IF('LIMITED RESULTS'!S17=\"\",\"\",'LIMITED RESULTS'!S17))","v":""},"",{"$f":"IF('Entry Information'!$J47=\"\",\"\",IF('Entry Information'!V47=\"\",T16,T16-100))","v":""},"",{"$f":"IF($R16=\"\",\"\",(VLOOKUP($V$41,Worksheet!$A$11:$AE$41,V16+1,FALSE)))","v":""},{"$f":"IF('Entry Information'!$J47=\"\",\"\",'LIMITED RESULTS'!X17)","v":""},{"$f":"IF('Entry Information'!$J47=\"\",\"\",IF('LIMITED RESULTS'!Y17=\"\",\"\",'LIMITED RESULTS'!Y17))","v":""},"",{"$f":"IF('Entry Information'!$J47=\"\",\"\",IF('Entry Information'!X47=\"\",Z16,Z16-100))","v":""},"",{"$f":"IF($X16=\"\",\"\",(VLOOKUP($AB$41,Worksheet!$A$11:$AE$41,AB16+1,FALSE)))","v":""},{"$f":"IF('Entry Information'!$J47=\"\",\"\",'LIMITED RESULTS'!AD17)","v":""},{"$f":"IF('Entry Information'!$J47=\"\",\"\",IF('LIMITED RESULTS'!AE17=\"\",\"\",'LIMITED RESULTS'!AE17))","v":""},"",{"$f":"IF('Entry Information'!$J47=\"\",\"\",IF('Entry Information'!Z47=\"\",AF16,AF16-100))","v":""},"",{"$f":"IF($AD16=\"\",\"\",(VLOOKUP($AH$41,Worksheet!$A$11:$AE$41,AH16+1,FALSE)))","v":""}]
[{"$f":"IF('Entry Information'!J48=\"\",\"\",'Entry Information'!B48)","v":""},{"$f":"IF('Entry Information'!J48=\"\",\"\",'Entry Information'!C48)","v":""},{"$f":"IF('Entry Information'!J48=\"\",\"\",'Entry Information'!D48)","v":""},{"$f":"IF('Entry Information'!J48=\"\",\"\",'Entry Information'!E48)","v":""},"LIM",{"$f":"IF('Entry Information'!$J48=\"\",\"\",'LIMITED RESULTS'!F18)","v":""},{"$f":"IF('Entry Information'!$J48=\"\",\"\",IF('LIMITED RESULTS'!G18=\"\",\"\",'LIMITED RESULTS'!G18))","v":""},"",{"$f":"IF('Entry Information'!$J48=\"\",\"\",IF('Entry Information'!R48=\"\",H17,H17-100))","v":""},"",{"$f":"IF($F17=\"\",\"\",(VLOOKUP($J$41,Worksheet!$A$11:$AE$41,J17+1,FALSE)))","v":""},{"$f":"IF('Entry Information'!$J48=\"\",\"\",'LIMITED RESULTS'!L18)","v":""},{"$f":"IF('Entry Information'!$J48=\"\",\"\",IF('LIMITED RESULTS'!M18=\"\",\"\",'LIMITED RESULTS'!M18))","v":""},"",{"$f":"IF('Entry Information'!$J48=\"\",\"\",IF('Entry Information'!T48=\"\",N17,N17-100))","v":""},"",{"$f":"IF($L17=\"\",\"\",(VLOOKUP($P$41,Worksheet!$A$11:$AE$41,P17+1,FALSE)))","v":""},{"$f":"IF('Entry Information'!$J48=\"\",\"\",'LIMITED RESULTS'!R18)","v":""},{"$f":"IF('Entry Information'!$J48=\"\",\"\",IF('LIMITED RESULTS'!S18=\"\",\"\",'LIMITED RESULTS'!S18))","v":""},"",{"$f":"IF('Entry Information'!$J48=\"\",\"\",IF('Entry Information'!V48=\"\",T17,T17-100))","v":""},"",{"$f":"IF($R17=\"\",\"\",(VLOOKUP($V$41,Worksheet!$A$11:$AE$41,V17+1,FALSE)))","v":""},{"$f":"IF('Entry Information'!$J48=\"\",\"\",'LIMITED RESULTS'!X18)","v":""},{"$f":"IF('Entry Information'!$J48=\"\",\"\",IF('LIMITED RESULTS'!Y18=\"\",\"\",'LIMITED RESULTS'!Y18))","v":""},"",{"$f":"IF('Entry Information'!$J48=\"\",\"\",IF('Entry Information'!X48=\"\",Z17,Z17-100))","v":""},"",{"$f":"IF($X17=\"\",\"\",(VLOOKUP($AB$41,Worksheet!$A$11:$AE$41,AB17+1,FALSE)))","v":""},{"$f":"IF('Entry Information'!$J48=\"\",\"\",'LIMITED RESULTS'!AD18)","v":""},{"$f":"IF('Entry Information'!$J48=\"\",\"\",IF('LIMITED RESULTS'!AE18=\"\",\"\",'LIMITED RESULTS'!AE18))","v":""},"",{"$f":"IF('Entry Information'!$J48=\"\",\"\",IF('Entry Information'!Z48=\"\",AF17,AF17-100))","v":""},"",{"$f":"IF($AD17=\"\",\"\",(VLOOKUP($AH$41,Worksheet!$A$11:$AE$41,AH17+1,FALSE)))","v":""}]
[{"$f":"IF('Entry Information'!J49=\"\",\"\",'Entry Information'!B49)","v":""},{"$f":"IF('Entry Information'!J49=\"\",\"\",'Entry Information'!C49)","v":""},{"$f":"IF('Entry Information'!J49=\"\",\"\",'Entry Information'!D49)","v":""},{"$f":"IF('Entry Information'!J49=\"\",\"\",'Entry Information'!E49)","v":""},"LIM",{"$f":"IF('Entry Information'!$J49=\"\",\"\",'LIMITED RESULTS'!F19)","v":""},{"$f":"IF('Entry Information'!$J49=\"\",\"\",IF('LIMITED RESULTS'!G19=\"\",\"\",'LIMITED RESULTS'!G19))","v":""},"",{"$f":"IF('Entry Information'!$J49=\"\",\"\",IF('Entry Information'!R49=\"\",H18,H18-100))","v":""},"",{"$f":"IF($F18=\"\",\"\",(VLOOKUP($J$41,Worksheet!$A$11:$AE$41,J18+1,FALSE)))","v":""},{"$f":"IF('Entry Information'!$J49=\"\",\"\",'LIMITED RESULTS'!L19)","v":""},{"$f":"IF('Entry Information'!$J49=\"\",\"\",IF('LIMITED RESULTS'!M19=\"\",\"\",'LIMITED RESULTS'!M19))","v":""},"",{"$f":"IF('Entry Information'!$J49=\"\",\"\",IF('Entry Information'!T49=\"\",N18,N18-100))","v":""},"",{"$f":"IF($L18=\"\",\"\",(VLOOKUP($P$41,Worksheet!$A$11:$AE$41,P18+1,FALSE)))","v":""},{"$f":"IF('Entry Information'!$J49=\"\",\"\",'LIMITED RESULTS'!R19)","v":""},{"$f":"IF('Entry Information'!$J49=\"\",\"\",IF('LIMITED RESULTS'!S19=\"\",\"\",'LIMITED RESULTS'!S19))","v":""},"",{"$f":"IF('Entry Information'!$J49=\"\",\"\",IF('Entry Information'!V49=\"\",T18,T18-100))","v":""},"",{"$f":"IF($R18=\"\",\"\",(VLOOKUP($V$41,Worksheet!$A$11:$AE$41,V18+1,FALSE)))","v":""},{"$f":"IF('Entry Information'!$J49=\"\",\"\",'LIMITED RESULTS'!X19)","v":""},{"$f":"IF('Entry Information'!$J49=\"\",\"\",IF('LIMITED RESULTS'!Y19=\"\",\"\",'LIMITED RESULTS'!Y19))","v":""},"",{"$f":"IF('Entry Information'!$J49=\"\",\"\",IF('Entry Information'!X49=\"\",Z18,Z18-100))","v":""},"",{"$f":"IF($X18=\"\",\"\",(VLOOKUP($AB$41,Worksheet!$A$11:$AE$41,AB18+1,FALSE)))","v":""},{"$f":"IF('Entry Information'!$J49=\"\",\"\",'LIMITED RESULTS'!AD19)","v":""},{"$f":"IF('Entry Information'!$J49=\"\",\"\",IF('LIMITED RESULTS'!AE19=\"\",\"\",'LIMITED RESULTS'!AE19))","v":""},"",{"$f":"IF('Entry Information'!$J49=\"\",\"\",IF('Entry Information'!Z49=\"\",AF18,AF18-100))","v":""},"",{"$f":"IF($AD18=\"\",\"\",(VLOOKUP($AH$41,Worksheet!$A$11:$AE$41,AH18+1,FALSE)))","v":""}]
[{"$f":"IF('Entry Information'!J50=\"\",\"\",'Entry Information'!B50)","v":""},{"$f":"IF('Entry Information'!J50=\"\",\"\",'Entry Information'!C50)","v":""},{"$f":"IF('Entry Information'!J50=\"\",\"\",'Entry Information'!D50)","v":""},{"$f":"IF('Entry Information'!J50=\"\",\"\",'Entry Information'!E50)","v":""},"LIM",{"$f":"IF('Entry Information'!$J50=\"\",\"\",'LIMITED RESULTS'!F20)","v":""},{"$f":"IF('Entry Information'!$J50=\"\",\"\",IF('LIMITED RESULTS'!G20=\"\",\"\",'LIMITED RESULTS'!G20))","v":""},"",{"$f":"IF('Entry Information'!$J50=\"\",\"\",IF('Entry Information'!R50=\"\",H19,H19-100))","v":""},"",{"$f":"IF($F19=\"\",\"\",(VLOOKUP($J$41,Worksheet!$A$11:$AE$41,J19+1,FALSE)))","v":""},{"$f":"IF('Entry Information'!$J50=\"\",\"\",'LIMITED RESULTS'!L20)","v":""},{"$f":"IF('Entry Information'!$J50=\"\",\"\",IF('LIMITED RESULTS'!M20=\"\",\"\",'LIMITED RESULTS'!M20))","v":""},"",{"$f":"IF('Entry Information'!$J50=\"\",\"\",IF('Entry Information'!T50=\"\",N19,N19-100))","v":""},"",{"$f":"IF($L19=\"\",\"\",(VLOOKUP($P$41,Worksheet!$A$11:$AE$41,P19+1,FALSE)))","v":""},{"$f":"IF('Entry Information'!$J50=\"\",\"\",'LIMITED RESULTS'!R20)","v":""},{"$f":"IF('Entry Information'!$J50=\"\",\"\",IF('LIMITED RESULTS'!S20=\"\",\"\",'LIMITED RESULTS'!S20))","v":""},"",{"$f":"IF('Entry Information'!$J50=\"\",\"\",IF('Entry Information'!V50=\"\",T19,T19-100))","v":""},"",{"$f":"IF($R19=\"\",\"\",(VLOOKUP($V$41,Worksheet!$A$11:$AE$41,V19+1,FALSE)))","v":""},{"$f":"IF('Entry Information'!$J50=\"\",\"\",'LIMITED RESULTS'!X20)","v":""},{"$f":"IF('Entry Information'!$J50=\"\",\"\",IF('LIMITED RESULTS'!Y20=\"\",\"\",'LIMITED RESULTS'!Y20))","v":""},"",{"$f":"IF('Entry Information'!$J50=\"\",\"\",IF('Entry Information'!X50=\"\",Z19,Z19-100))","v":""},"",{"$f":"IF($X19=\"\",\"\",(VLOOKUP($AB$41,Worksheet!$A$11:$AE$41,AB19+1,FALSE)))","v":""},{"$f":"IF('Entry Information'!$J50=\"\",\"\",'LIMITED RESULTS'!AD20)","v":""},{"$f":"IF('Entry Information'!$J50=\"\",\"\",IF('LIMITED RESULTS'!AE20=\"\",\"\",'LIMITED RESULTS'!AE20))","v":""},"",{"$f":"IF('Entry Information'!$J50=\"\",\"\",IF('Entry Information'!Z50=\"\",AF19,AF19-100))","v":""},"",{"$f":"IF($AD19=\"\",\"\",(VLOOKUP($AH$41,Worksheet!$A$11:$AE$41,AH19+1,FALSE)))","v":""}]
[{"$f":"IF('Entry Information'!J51=\"\",\"\",'Entry Information'!B51)","v":""},{"$f":"IF('Entry Information'!J51=\"\",\"\",'Entry Information'!C51)","v":""},{"$f":"IF('Entry Information'!J51=\"\",\"\",'Entry Information'!D51)","v":""},{"$f":"IF('Entry Information'!J51=\"\",\"\",'Entry Information'!E51)","v":""},"LIM",{"$f":"IF('Entry Information'!$J51=\"\",\"\",'LIMITED RESULTS'!F21)","v":""},{"$f":"IF('Entry Information'!$J51=\"\",\"\",IF('LIMITED RESULTS'!G21=\"\",\"\",'LIMITED RESULTS'!G21))","v":""},"",{"$f":"IF('Entry Information'!$J51=\"\",\"\",IF('Entry Information'!R51=\"\",H20,H20-100))","v":""},"",{"$f":"IF($F20=\"\",\"\",(VLOOKUP($J$41,Worksheet!$A$11:$AE$41,J20+1,FALSE)))","v":""},{"$f":"IF('Entry Information'!$J51=\"\",\"\",'LIMITED RESULTS'!L21)","v":""},{"$f":"IF('Entry Information'!$J51=\"\",\"\",IF('LIMITED RESULTS'!M21=\"\",\"\",'LIMITED RESULTS'!M21))","v":""},"",{"$f":"IF('Entry Information'!$J51=\"\",\"\",IF('Entry Information'!T51=\"\",N20,N20-100))","v":""},"",{"$f":"IF($L20=\"\",\"\",(VLOOKUP($P$41,Worksheet!$A$11:$AE$41,P20+1,FALSE)))","v":""},{"$f":"IF('Entry Information'!$J51=\"\",\"\",'LIMITED RESULTS'!R21)","v":""},{"$f":"IF('Entry Information'!$J51=\"\",\"\",IF('LIMITED RESULTS'!S21=\"\",\"\",'LIMITED RESULTS'!S21))","v":""},"",{"$f":"IF('Entry Information'!$J51=\"\",\"\",IF('Entry Information'!V51=\"\",T20,T20-100))","v":""},"",{"$f":"IF($R20=\"\",\"\",(VLOOKUP($V$41,Worksheet!$A$11:$AE$41,V20+1,FALSE)))","v":""},{"$f":"IF('Entry Information'!$J51=\"\",\"\",'LIMITED RESULTS'!X21)","v":""},{"$f":"IF('Entry Information'!$J51=\"\",\"\",IF('LIMITED RESULTS'!Y21=\"\",\"\",'LIMITED RESULTS'!Y21))","v":""},"",{"$f":"IF('Entry Information'!$J51=\"\",\"\",IF('Entry Information'!X51=\"\",Z20,Z20-100))","v":""},"",{"$f":"IF($X20=\"\",\"\",(VLOOKUP($AB$41,Worksheet!$A$11:$AE$41,AB20+1,FALSE)))","v":""},{"$f":"IF('Entry Information'!$J51=\"\",\"\",'LIMITED RESULTS'!AD21)","v":""},{"$f":"IF('Entry Information'!$J51=\"\",\"\",IF('LIMITED RESULTS'!AE21=\"\",\"\",'LIMITED RESULTS'!AE21))","v":""},"",{"$f":"IF('Entry Information'!$J51=\"\",\"\",IF('Entry Information'!Z51=\"\",AF20,AF20-100))","v":""},"",{"$f":"IF($AD20=\"\",\"\",(VLOOKUP($AH$41,Worksheet!$A$11:$AE$41,AH20+1,FALSE)))","v":""}]
[{"$f":"IF('Entry Information'!J52=\"\",\"\",'Entry Information'!B52)","v":""},{"$f":"IF('Entry Information'!J52=\"\",\"\",'Entry Information'!C52)","v":""},{"$f":"IF('Entry Information'!J52=\"\",\"\",'Entry Information'!D52)","v":""},{"$f":"IF('Entry Information'!J52=\"\",\"\",'Entry Information'!E52)","v":""},"LIM",{"$f":"IF('Entry Information'!$J52=\"\",\"\",'LIMITED RESULTS'!F22)","v":""},{"$f":"IF('Entry Information'!$J52=\"\",\"\",IF('LIMITED RESULTS'!G22=\"\",\"\",'LIMITED RESULTS'!G22))","v":""},"",{"$f":"IF('Entry Information'!$J52=\"\",\"\",IF('Entry Information'!R52=\"\",H21,H21-100))","v":""},"",{"$f":"IF($F21=\"\",\"\",(VLOOKUP($J$41,Worksheet!$A$11:$AE$41,J21+1,FALSE)))","v":""},{"$f":"IF('Entry Information'!$J52=\"\",\"\",'LIMITED RESULTS'!L22)","v":""},{"$f":"IF('Entry Information'!$J52=\"\",\"\",IF('LIMITED RESULTS'!M22=\"\",\"\",'LIMITED RESULTS'!M22))","v":""},"",{"$f":"IF('Entry Information'!$J52=\"\",\"\",IF('Entry Information'!T52=\"\",N21,N21-100))","v":""},"",{"$f":"IF($L21=\"\",\"\",(VLOOKUP($P$41,Worksheet!$A$11:$AE$41,P21+1,FALSE)))","v":""},{"$f":"IF('Entry Information'!$J52=\"\",\"\",'LIMITED RESULTS'!R22)","v":""},{"$f":"IF('Entry Information'!$J52=\"\",\"\",IF('LIMITED RESULTS'!S22=\"\",\"\",'LIMITED RESULTS'!S22))","v":""},"",{"$f":"IF('Entry Information'!$J52=\"\",\"\",IF('Entry Information'!V52=\"\",T21,T21-100))","v":""},"",{"$f":"IF($R21=\"\",\"\",(VLOOKUP($V$41,Worksheet!$A$11:$AE$41,V21+1,FALSE)))","v":""},{"$f":"IF('Entry Information'!$J52=\"\",\"\",'LIMITED RESULTS'!X22)","v":""},{"$f":"IF('Entry Information'!$J52=\"\",\"\",IF('LIMITED RESULTS'!Y22=\"\",\"\",'LIMITED RESULTS'!Y22))","v":""},"",{"$f":"IF('Entry Information'!$J52=\"\",\"\",IF('Entry Information'!X52=\"\",Z21,Z21-100))","v":""},"",{"$f":"IF($X21=\"\",\"\",(VLOOKUP($AB$41,Worksheet!$A$11:$AE$41,AB21+1,FALSE)))","v":""},{"$f":"IF('Entry Information'!$J52=\"\",\"\",'LIMITED RESULTS'!AD22)","v":""},{"$f":"IF('Entry Information'!$J52=\"\",\"\",IF('LIMITED RESULTS'!AE22=\"\",\"\",'LIMITED RESULTS'!AE22))","v":""},"",{"$f":"IF('Entry Information'!$J52=\"\",\"\",IF('Entry Information'!Z52=\"\",AF21,AF21-100))","v":""},"",{"$f":"IF($AD21=\"\",\"\",(VLOOKUP($AH$41,Worksheet!$A$11:$AE$41,AH21+1,FALSE)))","v":""}]
[{"$f":"IF('Entry Information'!J53=\"\",\"\",'Entry Information'!B53)","v":""},{"$f":"IF('Entry Information'!J53=\"\",\"\",'Entry Information'!C53)","v":""},{"$f":"IF('Entry Information'!J53=\"\",\"\",'Entry Information'!D53)","v":""},{"$f":"IF('Entry Information'!J53=\"\",\"\",'Entry Information'!E53)","v":""},"LIM",{"$f":"IF('Entry Information'!$J53=\"\",\"\",'LIMITED RESULTS'!F23)","v":""},{"$f":"IF('Entry Information'!$J53=\"\",\"\",IF('LIMITED RESULTS'!G23=\"\",\"\",'LIMITED RESULTS'!G23))","v":""},"",{"$f":"IF('Entry Information'!$J53=\"\",\"\",IF('Entry Information'!R53=\"\",H22,H22-100))","v":""},"",{"$f":"IF($F22=\"\",\"\",(VLOOKUP($J$41,Worksheet!$A$11:$AE$41,J22+1,FALSE)))","v":""},{"$f":"IF('Entry Information'!$J53=\"\",\"\",'LIMITED RESULTS'!L23)","v":""},{"$f":"IF('Entry Information'!$J53=\"\",\"\",IF('LIMITED RESULTS'!M23=\"\",\"\",'LIMITED RESULTS'!M23))","v":""},"",{"$f":"IF('Entry Information'!$J53=\"\",\"\",IF('Entry Information'!T53=\"\",N22,N22-100))","v":""},"",{"$f":"IF($L22=\"\",\"\",(VLOOKUP($P$41,Worksheet!$A$11:$AE$41,P22+1,FALSE)))","v":""},{"$f":"IF('Entry Information'!$J53=\"\",\"\",'LIMITED RESULTS'!R23)","v":""},{"$f":"IF('Entry Information'!$J53=\"\",\"\",IF('LIMITED RESULTS'!S23=\"\",\"\",'LIMITED RESULTS'!S23))","v":""},"",{"$f":"IF('Entry Information'!$J53=\"\",\"\",IF('Entry Information'!V53=\"\",T22,T22-100))","v":""},"",{"$f":"IF($R22=\"\",\"\",(VLOOKUP($V$41,Worksheet!$A$11:$AE$41,V22+1,FALSE)))","v":""},{"$f":"IF('Entry Information'!$J53=\"\",\"\",'LIMITED RESULTS'!X23)","v":""},{"$f":"IF('Entry Information'!$J53=\"\",\"\",IF('LIMITED RESULTS'!Y23=\"\",\"\",'LIMITED RESULTS'!Y23))","v":""},"",{"$f":"IF('Entry Information'!$J53=\"\",\"\",IF('Entry Information'!X53=\"\",Z22,Z22-100))","v":""},"",{"$f":"IF($X22=\"\",\"\",(VLOOKUP($AB$41,Worksheet!$A$11:$AE$41,AB22+1,FALSE)))","v":""},{"$f":"IF('Entry Information'!$J53=\"\",\"\",'LIMITED RESULTS'!AD23)","v":""},{"$f":"IF('Entry Information'!$J53=\"\",\"\",IF('LIMITED RESULTS'!AE23=\"\",\"\",'LIMITED RESULTS'!AE23))","v":""},"",{"$f":"IF('Entry Information'!$J53=\"\",\"\",IF('Entry Information'!Z53=\"\",AF22,AF22-100))","v":""},"",{"$f":"IF($AD22=\"\",\"\",(VLOOKUP($AH$41,Worksheet!$A$11:$AE$41,AH22+1,FALSE)))","v":""}]
[{"$f":"IF('Entry Information'!J54=\"\",\"\",'Entry Information'!B54)","v":""},{"$f":"IF('Entry Information'!J54=\"\",\"\",'Entry Information'!C54)","v":""},{"$f":"IF('Entry Information'!J54=\"\",\"\",'Entry Information'!D54)","v":""},{"$f":"IF('Entry Information'!J54=\"\",\"\",'Entry Information'!E54)","v":""},"LIM",{"$f":"IF('Entry Information'!$J54=\"\",\"\",'LIMITED RESULTS'!F24)","v":""},{"$f":"IF('Entry Information'!$J54=\"\",\"\",IF('LIMITED RESULTS'!G24=\"\",\"\",'LIMITED RESULTS'!G24))","v":""},"",{"$f":"IF('Entry Information'!$J54=\"\",\"\",IF('Entry Information'!R54=\"\",H23,H23-100))","v":""},"",{"$f":"IF($F23=\"\",\"\",(VLOOKUP($J$41,Worksheet!$A$11:$AE$41,J23+1,FALSE)))","v":""},{"$f":"IF('Entry Information'!$J54=\"\",\"\",'LIMITED RESULTS'!L24)","v":""},{"$f":"IF('Entry Information'!$J54=\"\",\"\",IF('LIMITED RESULTS'!M24=\"\",\"\",'LIMITED RESULTS'!M24))","v":""},"",{"$f":"IF('Entry Information'!$J54=\"\",\"\",IF('Entry Information'!T54=\"\",N23,N23-100))","v":""},"",{"$f":"IF($L23=\"\",\"\",(VLOOKUP($P$41,Worksheet!$A$11:$AE$41,P23+1,FALSE)))","v":""},{"$f":"IF('Entry Information'!$J54=\"\",\"\",'LIMITED RESULTS'!R24)","v":""},{"$f":"IF('Entry Information'!$J54=\"\",\"\",IF('LIMITED RESULTS'!S24=\"\",\"\",'LIMITED RESULTS'!S24))","v":""},"",{"$f":"IF('Entry Information'!$J54=\"\",\"\",IF('Entry Information'!V54=\"\",T23,T23-100))","v":""},"",{"$f":"IF($R23=\"\",\"\",(VLOOKUP($V$41,Worksheet!$A$11:$AE$41,V23+1,FALSE)))","v":""},{"$f":"IF('Entry Information'!$J54=\"\",\"\",'LIMITED RESULTS'!X24)","v":""},{"$f":"IF('Entry Information'!$J54=\"\",\"\",IF('LIMITED RESULTS'!Y24=\"\",\"\",'LIMITED RESULTS'!Y24))","v":""},"",{"$f":"IF('Entry Information'!$J54=\"\",\"\",IF('Entry Information'!X54=\"\",Z23,Z23-100))","v":""},"",{"$f":"IF($X23=\"\",\"\",(VLOOKUP($AB$41,Worksheet!$A$11:$AE$41,AB23+1,FALSE)))","v":""},{"$f":"IF('Entry Information'!$J54=\"\",\"\",'LIMITED RESULTS'!AD24)","v":""},{"$f":"IF('Entry Information'!$J54=\"\",\"\",IF('LIMITED RESULTS'!AE24=\"\",\"\",'LIMITED RESULTS'!AE24))","v":""},"",{"$f":"IF('Entry Information'!$J54=\"\",\"\",IF('Entry Information'!Z54=\"\",AF23,AF23-100))","v":""},"",{"$f":"IF($AD23=\"\",\"\",(VLOOKUP($AH$41,Worksheet!$A$11:$AE$41,AH23+1,FALSE)))","v":""}]
[{"$f":"IF('Entry Information'!J55=\"\",\"\",'Entry Information'!B55)","v":""},{"$f":"IF('Entry Information'!J55=\"\",\"\",'Entry Information'!C55)","v":""},{"$f":"IF('Entry Information'!J55=\"\",\"\",'Entry Information'!D55)","v":""},{"$f":"IF('Entry Information'!J55=\"\",\"\",'Entry Information'!E55)","v":""},"LIM",{"$f":"IF('Entry Information'!$J55=\"\",\"\",'LIMITED RESULTS'!F25)","v":""},{"$f":"IF('Entry Information'!$J55=\"\",\"\",IF('LIMITED RESULTS'!G25=\"\",\"\",'LIMITED RESULTS'!G25))","v":""},"",{"$f":"IF('Entry Information'!$J55=\"\",\"\",IF('Entry Information'!R55=\"\",H24,H24-100))","v":""},"",{"$f":"IF($F24=\"\",\"\",(VLOOKUP($J$41,Worksheet!$A$11:$AE$41,J24+1,FALSE)))","v":""},{"$f":"IF('Entry Information'!$J55=\"\",\"\",'LIMITED RESULTS'!L25)","v":""},{"$f":"IF('Entry Information'!$J55=\"\",\"\",IF('LIMITED RESULTS'!M25=\"\",\"\",'LIMITED RESULTS'!M25))","v":""},"",{"$f":"IF('Entry Information'!$J55=\"\",\"\",IF('Entry Information'!T55=\"\",N24,N24-100))","v":""},"",{"$f":"IF($L24=\"\",\"\",(VLOOKUP($P$41,Worksheet!$A$11:$AE$41,P24+1,FALSE)))","v":""},{"$f":"IF('Entry Information'!$J55=\"\",\"\",'LIMITED RESULTS'!R25)","v":""},{"$f":"IF('Entry Information'!$J55=\"\",\"\",IF('LIMITED RESULTS'!S25=\"\",\"\",'LIMITED RESULTS'!S25))","v":""},"",{"$f":"IF('Entry Information'!$J55=\"\",\"\",IF('Entry Information'!V55=\"\",T24,T24-100))","v":""},"",{"$f":"IF($R24=\"\",\"\",(VLOOKUP($V$41,Worksheet!$A$11:$AE$41,V24+1,FALSE)))","v":""},{"$f":"IF('Entry Information'!$J55=\"\",\"\",'LIMITED RESULTS'!X25)","v":""},{"$f":"IF('Entry Information'!$J55=\"\",\"\",IF('LIMITED RESULTS'!Y25=\"\",\"\",'LIMITED RESULTS'!Y25))","v":""},"",{"$f":"IF('Entry Information'!$J55=\"\",\"\",IF('Entry Information'!X55=\"\",Z24,Z24-100))","v":""},"",{"$f":"IF($X24=\"\",\"\",(VLOOKUP($AB$41,Worksheet!$A$11:$AE$41,AB24+1,FALSE)))","v":""},{"$f":"IF('Entry Information'!$J55=\"\",\"\",'LIMITED RESULTS'!AD25)","v":""},{"$f":"IF('Entry Information'!$J55=\"\",\"\",IF('LIMITED RESULTS'!AE25=\"\",\"\",'LIMITED RESULTS'!AE25))","v":""},"",{"$f":"IF('Entry Information'!$J55=\"\",\"\",IF('Entry Information'!Z55=\"\",AF24,AF24-100))","v":""},"",{"$f":"IF($AD24=\"\",\"\",(VLOOKUP($AH$41,Worksheet!$A$11:$AE$41,AH24+1,FALSE)))","v":""}]
[{"$f":"IF('Entry Information'!J56=\"\",\"\",'Entry Information'!B56)","v":""},{"$f":"IF('Entry Information'!J56=\"\",\"\",'Entry Information'!C56)","v":""},{"$f":"IF('Entry Information'!J56=\"\",\"\",'Entry Information'!D56)","v":""},{"$f":"IF('Entry Information'!J56=\"\",\"\",'Entry Information'!E56)","v":""},"LIM",{"$f":"IF('Entry Information'!$J56=\"\",\"\",'LIMITED RESULTS'!F26)","v":""},{"$f":"IF('Entry Information'!$J56=\"\",\"\",IF('LIMITED RESULTS'!G26=\"\",\"\",'LIMITED RESULTS'!G26))","v":""},"",{"$f":"IF('Entry Information'!$J56=\"\",\"\",IF('Entry Information'!R56=\"\",H25,H25-100))","v":""},"",{"$f":"IF($F25=\"\",\"\",(VLOOKUP($J$41,Worksheet!$A$11:$AE$41,J25+1,FALSE)))","v":""},{"$f":"IF('Entry Information'!$J56=\"\",\"\",'LIMITED RESULTS'!L26)","v":""},{"$f":"IF('Entry Information'!$J56=\"\",\"\",IF('LIMITED RESULTS'!M26=\"\",\"\",'LIMITED RESULTS'!M26))","v":""},"",{"$f":"IF('Entry Information'!$J56=\"\",\"\",IF('Entry Information'!T56=\"\",N25,N25-100))","v":""},"",{"$f":"IF($L25=\"\",\"\",(VLOOKUP($P$41,Worksheet!$A$11:$AE$41,P25+1,FALSE)))","v":""},{"$f":"IF('Entry Information'!$J56=\"\",\"\",'LIMITED RESULTS'!R26)","v":""},{"$f":"IF('Entry Information'!$J56=\"\",\"\",IF('LIMITED RESULTS'!S26=\"\",\"\",'LIMITED RESULTS'!S26))","v":""},"",{"$f":"IF('Entry Information'!$J56=\"\",\"\",IF('Entry Information'!V56=\"\",T25,T25-100))","v":""},"",{"$f":"IF($R25=\"\",\"\",(VLOOKUP($V$41,Worksheet!$A$11:$AE$41,V25+1,FALSE)))","v":""},{"$f":"IF('Entry Information'!$J56=\"\",\"\",'LIMITED RESULTS'!X26)","v":""},{"$f":"IF('Entry Information'!$J56=\"\",\"\",IF('LIMITED RESULTS'!Y26=\"\",\"\",'LIMITED RESULTS'!Y26))","v":""},"",{"$f":"IF('Entry Information'!$J56=\"\",\"\",IF('Entry Information'!X56=\"\",Z25,Z25-100))","v":""},"",{"$f":"IF($X25=\"\",\"\",(VLOOKUP($AB$41,Worksheet!$A$11:$AE$41,AB25+1,FALSE)))","v":""},{"$f":"IF('Entry Information'!$J56=\"\",\"\",'LIMITED RESULTS'!AD26)","v":""},{"$f":"IF('Entry Information'!$J56=\"\",\"\",IF('LIMITED RESULTS'!AE26=\"\",\"\",'LIMITED RESULTS'!AE26))","v":""},"",{"$f":"IF('Entry Information'!$J56=\"\",\"\",IF('Entry Information'!Z56=\"\",AF25,AF25-100))","v":""},"",{"$f":"IF($AD25=\"\",\"\",(VLOOKUP($AH$41,Worksheet!$A$11:$AE$41,AH25+1,FALSE)))","v":""}]
[{"$f":"IF('Entry Information'!J57=\"\",\"\",'Entry Information'!B57)","v":""},{"$f":"IF('Entry Information'!J57=\"\",\"\",'Entry Information'!C57)","v":""},{"$f":"IF('Entry Information'!J57=\"\",\"\",'Entry Information'!D57)","v":""},{"$f":"IF('Entry Information'!J57=\"\",\"\",'Entry Information'!E57)","v":""},"LIM",{"$f":"IF('Entry Information'!$J57=\"\",\"\",'LIMITED RESULTS'!F27)","v":""},{"$f":"IF('Entry Information'!$J57=\"\",\"\",IF('LIMITED RESULTS'!G27=\"\",\"\",'LIMITED RESULTS'!G27))","v":""},"",{"$f":"IF('Entry Information'!$J57=\"\",\"\",IF('Entry Information'!R57=\"\",H26,H26-100))","v":""},"",{"$f":"IF($F26=\"\",\"\",(VLOOKUP($J$41,Worksheet!$A$11:$AE$41,J26+1,FALSE)))","v":""},{"$f":"IF('Entry Information'!$J57=\"\",\"\",'LIMITED RESULTS'!L27)","v":""},{"$f":"IF('Entry Information'!$J57=\"\",\"\",IF('LIMITED RESULTS'!M27=\"\",\"\",'LIMITED RESULTS'!M27))","v":""},"",{"$f":"IF('Entry Information'!$J57=\"\",\"\",IF('Entry Information'!T57=\"\",N26,N26-100))","v":""},"",{"$f":"IF($L26=\"\",\"\",(VLOOKUP($P$41,Worksheet!$A$11:$AE$41,P26+1,FALSE)))","v":""},{"$f":"IF('Entry Information'!$J57=\"\",\"\",'LIMITED RESULTS'!R27)","v":""},{"$f":"IF('Entry Information'!$J57=\"\",\"\",IF('LIMITED RESULTS'!S27=\"\",\"\",'LIMITED RESULTS'!S27))","v":""},"",{"$f":"IF('Entry Information'!$J57=\"\",\"\",IF('Entry Information'!V57=\"\",T26,T26-100))","v":""},"",{"$f":"IF($R26=\"\",\"\",(VLOOKUP($V$41,Worksheet!$A$11:$AE$41,V26+1,FALSE)))","v":""},{"$f":"IF('Entry Information'!$J57=\"\",\"\",'LIMITED RESULTS'!X27)","v":""},{"$f":"IF('Entry Information'!$J57=\"\",\"\",IF('LIMITED RESULTS'!Y27=\"\",\"\",'LIMITED RESULTS'!Y27))","v":""},"",{"$f":"IF('Entry Information'!$J57=\"\",\"\",IF('Entry Information'!X57=\"\",Z26,Z26-100))","v":""},"",{"$f":"IF($X26=\"\",\"\",(VLOOKUP($AB$41,Worksheet!$A$11:$AE$41,AB26+1,FALSE)))","v":""},{"$f":"IF('Entry Information'!$J57=\"\",\"\",'LIMITED RESULTS'!AD27)","v":""},{"$f":"IF('Entry Information'!$J57=\"\",\"\",IF('LIMITED RESULTS'!AE27=\"\",\"\",'LIMITED RESULTS'!AE27))","v":""},"",{"$f":"IF('Entry Information'!$J57=\"\",\"\",IF('Entry Information'!Z57=\"\",AF26,AF26-100))","v":""},"",{"$f":"IF($AD26=\"\",\"\",(VLOOKUP($AH$41,Worksheet!$A$11:$AE$41,AH26+1,FALSE)))","v":""}]
[{"$f":"IF('Entry Information'!J58=\"\",\"\",'Entry Information'!B58)","v":""},{"$f":"IF('Entry Information'!J58=\"\",\"\",'Entry Information'!C58)","v":""},{"$f":"IF('Entry Information'!J58=\"\",\"\",'Entry Information'!D58)","v":""},{"$f":"IF('Entry Information'!J58=\"\",\"\",'Entry Information'!E58)","v":""},"LIM",{"$f":"IF('Entry Information'!$J58=\"\",\"\",'LIMITED RESULTS'!F28)","v":""},{"$f":"IF('Entry Information'!$J58=\"\",\"\",IF('LIMITED RESULTS'!G28=\"\",\"\",'LIMITED RESULTS'!G28))","v":""},"",{"$f":"IF('Entry Information'!$J58=\"\",\"\",IF('Entry Information'!R58=\"\",H27,H27-100))","v":""},"",{"$f":"IF($F27=\"\",\"\",(VLOOKUP($J$41,Worksheet!$A$11:$AE$41,J27+1,FALSE)))","v":""},{"$f":"IF('Entry Information'!$J58=\"\",\"\",'LIMITED RESULTS'!L28)","v":""},{"$f":"IF('Entry Information'!$J58=\"\",\"\",IF('LIMITED RESULTS'!M28=\"\",\"\",'LIMITED RESULTS'!M28))","v":""},"",{"$f":"IF('Entry Information'!$J58=\"\",\"\",IF('Entry Information'!T58=\"\",N27,N27-100))","v":""},"",{"$f":"IF($L27=\"\",\"\",(VLOOKUP($P$41,Worksheet!$A$11:$AE$41,P27+1,FALSE)))","v":""},{"$f":"IF('Entry Information'!$J58=\"\",\"\",'LIMITED RESULTS'!R28)","v":""},{"$f":"IF('Entry Information'!$J58=\"\",\"\",IF('LIMITED RESULTS'!S28=\"\",\"\",'LIMITED RESULTS'!S28))","v":""},"",{"$f":"IF('Entry Information'!$J58=\"\",\"\",IF('Entry Information'!V58=\"\",T27,T27-100))","v":""},"",{"$f":"IF($R27=\"\",\"\",(VLOOKUP($V$41,Worksheet!$A$11:$AE$41,V27+1,FALSE)))","v":""},{"$f":"IF('Entry Information'!$J58=\"\",\"\",'LIMITED RESULTS'!X28)","v":""},{"$f":"IF('Entry Information'!$J58=\"\",\"\",IF('LIMITED RESULTS'!Y28=\"\",\"\",'LIMITED RESULTS'!Y28))","v":""},"",{"$f":"IF('Entry Information'!$J58=\"\",\"\",IF('Entry Information'!X58=\"\",Z27,Z27-100))","v":""},"",{"$f":"IF($X27=\"\",\"\",(VLOOKUP($AB$41,Worksheet!$A$11:$AE$41,AB27+1,FALSE)))","v":""},{"$f":"IF('Entry Information'!$J58=\"\",\"\",'LIMITED RESULTS'!AD28)","v":""},{"$f":"IF('Entry Information'!$J58=\"\",\"\",IF('LIMITED RESULTS'!AE28=\"\",\"\",'LIMITED RESULTS'!AE28))","v":""},"",{"$f":"IF('Entry Information'!$J58=\"\",\"\",IF('Entry Information'!Z58=\"\",AF27,AF27-100))","v":""},"",{"$f":"IF($AD27=\"\",\"\",(VLOOKUP($AH$41,Worksheet!$A$11:$AE$41,AH27+1,FALSE)))","v":""}]
[{"$f":"IF('Entry Information'!J59=\"\",\"\",'Entry Information'!B59)","v":""},{"$f":"IF('Entry Information'!J59=\"\",\"\",'Entry Information'!C59)","v":""},{"$f":"IF('Entry Information'!J59=\"\",\"\",'Entry Information'!D59)","v":""},{"$f":"IF('Entry Information'!J59=\"\",\"\",'Entry Information'!E59)","v":""},"LIM",{"$f":"IF('Entry Information'!$J59=\"\",\"\",'LIMITED RESULTS'!F29)","v":""},{"$f":"IF('Entry Information'!$J59=\"\",\"\",IF('LIMITED RESULTS'!G29=\"\",\"\",'LIMITED RESULTS'!G29))","v":""},"",{"$f":"IF('Entry Information'!$J59=\"\",\"\",IF('Entry Information'!R59=\"\",H28,H28-100))","v":""},"",{"$f":"IF($F28=\"\",\"\",(VLOOKUP($J$41,Worksheet!$A$11:$AE$41,J28+1,FALSE)))","v":""},{"$f":"IF('Entry Information'!$J59=\"\",\"\",'LIMITED RESULTS'!L29)","v":""},{"$f":"IF('Entry Information'!$J59=\"\",\"\",IF('LIMITED RESULTS'!M29=\"\",\"\",'LIMITED RESULTS'!M29))","v":""},"",{"$f":"IF('Entry Information'!$J59=\"\",\"\",IF('Entry Information'!T59=\"\",N28,N28-100))","v":""},"",{"$f":"IF($L28=\"\",\"\",(VLOOKUP($P$41,Worksheet!$A$11:$AE$41,P28+1,FALSE)))","v":""},{"$f":"IF('Entry Information'!$J59=\"\",\"\",'LIMITED RESULTS'!R29)","v":""},{"$f":"IF('Entry Information'!$J59=\"\",\"\",IF('LIMITED RESULTS'!S29=\"\",\"\",'LIMITED RESULTS'!S29))","v":""},"",{"$f":"IF('Entry Information'!$J59=\"\",\"\",IF('Entry Information'!V59=\"\",T28,T28-100))","v":""},"",{"$f":"IF($R28=\"\",\"\",(VLOOKUP($V$41,Worksheet!$A$11:$AE$41,V28+1,FALSE)))","v":""},{"$f":"IF('Entry Information'!$J59=\"\",\"\",'LIMITED RESULTS'!X29)","v":""},{"$f":"IF('Entry Information'!$J59=\"\",\"\",IF('LIMITED RESULTS'!Y29=\"\",\"\",'LIMITED RESULTS'!Y29))","v":""},"",{"$f":"IF('Entry Information'!$J59=\"\",\"\",IF('Entry Information'!X59=\"\",Z28,Z28-100))","v":""},"",{"$f":"IF($X28=\"\",\"\",(VLOOKUP($AB$41,Worksheet!$A$11:$AE$41,AB28+1,FALSE)))","v":""},{"$f":"IF('Entry Information'!$J59=\"\",\"\",'LIMITED RESULTS'!AD29)","v":""},{"$f":"IF('Entry Information'!$J59=\"\",\"\",IF('LIMITED RESULTS'!AE29=\"\",\"\",'LIMITED RESULTS'!AE29))","v":""},"",{"$f":"IF('Entry Information'!$J59=\"\",\"\",IF('Entry Information'!Z59=\"\",AF28,AF28-100))","v":""},"",{"$f":"IF($AD28=\"\",\"\",(VLOOKUP($AH$41,Worksheet!$A$11:$AE$41,AH28+1,FALSE)))","v":""}]
[{"$f":"IF('Entry Information'!J60=\"\",\"\",'Entry Information'!B60)","v":""},{"$f":"IF('Entry Information'!J60=\"\",\"\",'Entry Information'!C60)","v":""},{"$f":"IF('Entry Information'!J60=\"\",\"\",'Entry Information'!D60)","v":""},{"$f":"IF('Entry Information'!J60=\"\",\"\",'Entry Information'!E60)","v":""},"LIM",{"$f":"IF('Entry Information'!$J60=\"\",\"\",'LIMITED RESULTS'!F30)","v":""},{"$f":"IF('Entry Information'!$J60=\"\",\"\",IF('LIMITED RESULTS'!G30=\"\",\"\",'LIMITED RESULTS'!G30))","v":""},"",{"$f":"IF('Entry Information'!$J60=\"\",\"\",IF('Entry Information'!R60=\"\",H29,H29-100))","v":""},"",{"$f":"IF($F29=\"\",\"\",(VLOOKUP($J$41,Worksheet!$A$11:$AE$41,J29+1,FALSE)))","v":""},{"$f":"IF('Entry Information'!$J60=\"\",\"\",'LIMITED RESULTS'!L30)","v":""},{"$f":"IF('Entry Information'!$J60=\"\",\"\",IF('LIMITED RESULTS'!M30=\"\",\"\",'LIMITED RESULTS'!M30))","v":""},"",{"$f":"IF('Entry Information'!$J60=\"\",\"\",IF('Entry Information'!T60=\"\",N29,N29-100))","v":""},"",{"$f":"IF($L29=\"\",\"\",(VLOOKUP($P$41,Worksheet!$A$11:$AE$41,P29+1,FALSE)))","v":""},{"$f":"IF('Entry Information'!$J60=\"\",\"\",'LIMITED RESULTS'!R30)","v":""},{"$f":"IF('Entry Information'!$J60=\"\",\"\",IF('LIMITED RESULTS'!S30=\"\",\"\",'LIMITED RESULTS'!S30))","v":""},"",{"$f":"IF('Entry Information'!$J60=\"\",\"\",IF('Entry Information'!V60=\"\",T29,T29-100))","v":""},"",{"$f":"IF($R29=\"\",\"\",(VLOOKUP($V$41,Worksheet!$A$11:$AE$41,V29+1,FALSE)))","v":""},{"$f":"IF('Entry Information'!$J60=\"\",\"\",'LIMITED RESULTS'!X30)","v":""},{"$f":"IF('Entry Information'!$J60=\"\",\"\",IF('LIMITED RESULTS'!Y30=\"\",\"\",'LIMITED RESULTS'!Y30))","v":""},"",{"$f":"IF('Entry Information'!$J60=\"\",\"\",IF('Entry Information'!X60=\"\",Z29,Z29-100))","v":""},"",{"$f":"IF($X29=\"\",\"\",(VLOOKUP($AB$41,Worksheet!$A$11:$AE$41,AB29+1,FALSE)))","v":""},{"$f":"IF('Entry Information'!$J60=\"\",\"\",'LIMITED RESULTS'!AD30)","v":""},{"$f":"IF('Entry Information'!$J60=\"\",\"\",IF('LIMITED RESULTS'!AE30=\"\",\"\",'LIMITED RESULTS'!AE30))","v":""},"",{"$f":"IF('Entry Information'!$J60=\"\",\"\",IF('Entry Information'!Z60=\"\",AF29,AF29-100))","v":""},"",{"$f":"IF($AD29=\"\",\"\",(VLOOKUP($AH$41,Worksheet!$A$11:$AE$41,AH29+1,FALSE)))","v":""}]
[{"$f":"IF('Entry Information'!J61=\"\",\"\",'Entry Information'!B61)","v":""},{"$f":"IF('Entry Information'!J61=\"\",\"\",'Entry Information'!C61)","v":""},{"$f":"IF('Entry Information'!J61=\"\",\"\",'Entry Information'!D61)","v":""},{"$f":"IF('Entry Information'!J61=\"\",\"\",'Entry Information'!E61)","v":""},"LIM",{"$f":"IF('Entry Information'!$J61=\"\",\"\",'LIMITED RESULTS'!F31)","v":""},{"$f":"IF('Entry Information'!$J61=\"\",\"\",IF('LIMITED RESULTS'!G31=\"\",\"\",'LIMITED RESULTS'!G31))","v":""},"",{"$f":"IF('Entry Information'!$J61=\"\",\"\",IF('Entry Information'!R61=\"\",H30,H30-100))","v":""},"",{"$f":"IF($F30=\"\",\"\",(VLOOKUP($J$41,Worksheet!$A$11:$AE$41,J30+1,FALSE)))","v":""},{"$f":"IF('Entry Information'!$J61=\"\",\"\",'LIMITED RESULTS'!L31)","v":""},{"$f":"IF('Entry Information'!$J61=\"\",\"\",IF('LIMITED RESULTS'!M31=\"\",\"\",'LIMITED RESULTS'!M31))","v":""},"",{"$f":"IF('Entry Information'!$J61=\"\",\"\",IF('Entry Information'!T61=\"\",N30,N30-100))","v":""},"",{"$f":"IF($L30=\"\",\"\",(VLOOKUP($P$41,Worksheet!$A$11:$AE$41,P30+1,FALSE)))","v":""},{"$f":"IF('Entry Information'!$J61=\"\",\"\",'LIMITED RESULTS'!R31)","v":""},{"$f":"IF('Entry Information'!$J61=\"\",\"\",IF('LIMITED RESULTS'!S31=\"\",\"\",'LIMITED RESULTS'!S31))","v":""},"",{"$f":"IF('Entry Information'!$J61=\"\",\"\",IF('Entry Information'!V61=\"\",T30,T30-100))","v":""},"",{"$f":"IF($R30=\"\",\"\",(VLOOKUP($V$41,Worksheet!$A$11:$AE$41,V30+1,FALSE)))","v":""},{"$f":"IF('Entry Information'!$J61=\"\",\"\",'LIMITED RESULTS'!X31)","v":""},{"$f":"IF('Entry Information'!$J61=\"\",\"\",IF('LIMITED RESULTS'!Y31=\"\",\"\",'LIMITED RESULTS'!Y31))","v":""},"",{"$f":"IF('Entry Information'!$J61=\"\",\"\",IF('Entry Information'!X61=\"\",Z30,Z30-100))","v":""},"",{"$f":"IF($X30=\"\",\"\",(VLOOKUP($AB$41,Worksheet!$A$11:$AE$41,AB30+1,FALSE)))","v":""},{"$f":"IF('Entry Information'!$J61=\"\",\"\",'LIMITED RESULTS'!AD31)","v":""},{"$f":"IF('Entry Information'!$J61=\"\",\"\",IF('LIMITED RESULTS'!AE31=\"\",\"\",'LIMITED RESULTS'!AE31))","v":""},"",{"$f":"IF('Entry Information'!$J61=\"\",\"\",IF('Entry Information'!Z61=\"\",AF30,AF30-100))","v":""},"",{"$f":"IF($AD30=\"\",\"\",(VLOOKUP($AH$41,Worksheet!$A$11:$AE$41,AH30+1,FALSE)))","v":""}]
[{"$f":"IF('Entry Information'!J62=\"\",\"\",'Entry Information'!B62)","v":""},{"$f":"IF('Entry Information'!J62=\"\",\"\",'Entry Information'!C62)","v":""},{"$f":"IF('Entry Information'!J62=\"\",\"\",'Entry Information'!D62)","v":""},{"$f":"IF('Entry Information'!J62=\"\",\"\",'Entry Information'!E62)","v":""},"LIM",{"$f":"IF('Entry Information'!$J62=\"\",\"\",'LIMITED RESULTS'!F32)","v":""},{"$f":"IF('Entry Information'!$J62=\"\",\"\",IF('LIMITED RESULTS'!G32=\"\",\"\",'LIMITED RESULTS'!G32))","v":""},"",{"$f":"IF('Entry Information'!$J62=\"\",\"\",IF('Entry Information'!R62=\"\",H31,H31-100))","v":""},"",{"$f":"IF($F31=\"\",\"\",(VLOOKUP($J$41,Worksheet!$A$11:$AE$41,J31+1,FALSE)))","v":""},{"$f":"IF('Entry Information'!$J62=\"\",\"\",'LIMITED RESULTS'!L32)","v":""},{"$f":"IF('Entry Information'!$J62=\"\",\"\",IF('LIMITED RESULTS'!M32=\"\",\"\",'LIMITED RESULTS'!M32))","v":""},"",{"$f":"IF('Entry Information'!$J62=\"\",\"\",IF('Entry Information'!T62=\"\",N31,N31-100))","v":""},"",{"$f":"IF($L31=\"\",\"\",(VLOOKUP($P$41,Worksheet!$A$11:$AE$41,P31+1,FALSE)))","v":""},{"$f":"IF('Entry Information'!$J62=\"\",\"\",'LIMITED RESULTS'!R32)","v":""},{"$f":"IF('Entry Information'!$J62=\"\",\"\",IF('LIMITED RESULTS'!S32=\"\",\"\",'LIMITED RESULTS'!S32))","v":""},"",{"$f":"IF('Entry Information'!$J62=\"\",\"\",IF('Entry Information'!V62=\"\",T31,T31-100))","v":""},"",{"$f":"IF($R31=\"\",\"\",(VLOOKUP($V$41,Worksheet!$A$11:$AE$41,V31+1,FALSE)))","v":""},{"$f":"IF('Entry Information'!$J62=\"\",\"\",'LIMITED RESULTS'!X32)","v":""},{"$f":"IF('Entry Information'!$J62=\"\",\"\",IF('LIMITED RESULTS'!Y32=\"\",\"\",'LIMITED RESULTS'!Y32))","v":""},"",{"$f":"IF('Entry Information'!$J62=\"\",\"\",IF('Entry Information'!X62=\"\",Z31,Z31-100))","v":""},"",{"$f":"IF($X31=\"\",\"\",(VLOOKUP($AB$41,Worksheet!$A$11:$AE$41,AB31+1,FALSE)))","v":""},{"$f":"IF('Entry Information'!$J62=\"\",\"\",'LIMITED RESULTS'!AD32)","v":""},{"$f":"IF('Entry Information'!$J62=\"\",\"\",IF('LIMITED RESULTS'!AE32=\"\",\"\",'LIMITED RESULTS'!AE32))","v":""},"",{"$f":"IF('Entry Information'!$J62=\"\",\"\",IF('Entry Information'!Z62=\"\",AF31,AF31-100))","v":""},"",{"$f":"IF($AD31=\"\",\"\",(VLOOKUP($AH$41,Worksheet!$A$11:$AE$41,AH31+1,FALSE)))","v":""}]
[{"$f":"IF('Entry Information'!J63=\"\",\"\",'Entry Information'!B63)","v":""},{"$f":"IF('Entry Information'!J63=\"\",\"\",'Entry Information'!C63)","v":""},{"$f":"IF('Entry Information'!J63=\"\",\"\",'Entry Information'!D63)","v":""},{"$f":"IF('Entry Information'!J63=\"\",\"\",'Entry Information'!E63)","v":""},"LIM",{"$f":"IF('Entry Information'!$J63=\"\",\"\",'LIMITED RESULTS'!F33)","v":""},{"$f":"IF('Entry Information'!$J63=\"\",\"\",IF('LIMITED RESULTS'!G33=\"\",\"\",'LIMITED RESULTS'!G33))","v":""},"",{"$f":"IF('Entry Information'!$J63=\"\",\"\",IF('Entry Information'!R63=\"\",H32,H32-100))","v":""},"",{"$f":"IF($F32=\"\",\"\",(VLOOKUP($J$41,Worksheet!$A$11:$AE$41,J32+1,FALSE)))","v":""},{"$f":"IF('Entry Information'!$J63=\"\",\"\",'LIMITED RESULTS'!L33)","v":""},{"$f":"IF('Entry Information'!$J63=\"\",\"\",IF('LIMITED RESULTS'!M33=\"\",\"\",'LIMITED RESULTS'!M33))","v":""},"",{"$f":"IF('Entry Information'!$J63=\"\",\"\",IF('Entry Information'!T63=\"\",N32,N32-100))","v":""},"",{"$f":"IF($L32=\"\",\"\",(VLOOKUP($P$41,Worksheet!$A$11:$AE$41,P32+1,FALSE)))","v":""},{"$f":"IF('Entry Information'!$J63=\"\",\"\",'LIMITED RESULTS'!R33)","v":""},{"$f":"IF('Entry Information'!$J63=\"\",\"\",IF('LIMITED RESULTS'!S33=\"\",\"\",'LIMITED RESULTS'!S33))","v":""},"",{"$f":"IF('Entry Information'!$J63=\"\",\"\",IF('Entry Information'!V63=\"\",T32,T32-100))","v":""},"",{"$f":"IF($R32=\"\",\"\",(VLOOKUP($V$41,Worksheet!$A$11:$AE$41,V32+1,FALSE)))","v":""},{"$f":"IF('Entry Information'!$J63=\"\",\"\",'LIMITED RESULTS'!X33)","v":""},{"$f":"IF('Entry Information'!$J63=\"\",\"\",IF('LIMITED RESULTS'!Y33=\"\",\"\",'LIMITED RESULTS'!Y33))","v":""},"",{"$f":"IF('Entry Information'!$J63=\"\",\"\",IF('Entry Information'!X63=\"\",Z32,Z32-100))","v":""},"",{"$f":"IF($X32=\"\",\"\",(VLOOKUP($AB$41,Worksheet!$A$11:$AE$41,AB32+1,FALSE)))","v":""},{"$f":"IF('Entry Information'!$J63=\"\",\"\",'LIMITED RESULTS'!AD33)","v":""},{"$f":"IF('Entry Information'!$J63=\"\",\"\",IF('LIMITED RESULTS'!AE33=\"\",\"\",'LIMITED RESULTS'!AE33))","v":""},"",{"$f":"IF('Entry Information'!$J63=\"\",\"\",IF('Entry Information'!Z63=\"\",AF32,AF32-100))","v":""},"",{"$f":"IF($AD32=\"\",\"\",(VLOOKUP($AH$41,Worksheet!$A$11:$AE$41,AH32+1,FALSE)))","v":""}]
[{"$f":"IF('Entry Information'!J64=\"\",\"\",'Entry Information'!B64)","v":""},{"$f":"IF('Entry Information'!J64=\"\",\"\",'Entry Information'!C64)","v":""},{"$f":"IF('Entry Information'!J64=\"\",\"\",'Entry Information'!D64)","v":""},{"$f":"IF('Entry Information'!J64=\"\",\"\",'Entry Information'!E64)","v":""},"LIM",{"$f":"IF('Entry Information'!$J64=\"\",\"\",'LIMITED RESULTS'!F34)","v":""},{"$f":"IF('Entry Information'!$J64=\"\",\"\",IF('LIMITED RESULTS'!G34=\"\",\"\",'LIMITED RESULTS'!G34))","v":""},"",{"$f":"IF('Entry Information'!$J64=\"\",\"\",IF('Entry Information'!R64=\"\",H33,H33-100))","v":""},"",{"$f":"IF($F33=\"\",\"\",(VLOOKUP($J$41,Worksheet!$A$11:$AE$41,J33+1,FALSE)))","v":""},{"$f":"IF('Entry Information'!$J64=\"\",\"\",'LIMITED RESULTS'!L34)","v":""},{"$f":"IF('Entry Information'!$J64=\"\",\"\",IF('LIMITED RESULTS'!M34=\"\",\"\",'LIMITED RESULTS'!M34))","v":""},"",{"$f":"IF('Entry Information'!$J64=\"\",\"\",IF('Entry Information'!T64=\"\",N33,N33-100))","v":""},"",{"$f":"IF($L33=\"\",\"\",(VLOOKUP($P$41,Worksheet!$A$11:$AE$41,P33+1,FALSE)))","v":""},{"$f":"IF('Entry Information'!$J64=\"\",\"\",'LIMITED RESULTS'!R34)","v":""},{"$f":"IF('Entry Information'!$J64=\"\",\"\",IF('LIMITED RESULTS'!S34=\"\",\"\",'LIMITED RESULTS'!S34))","v":""},"",{"$f":"IF('Entry Information'!$J64=\"\",\"\",IF('Entry Information'!V64=\"\",T33,T33-100))","v":""},"",{"$f":"IF($R33=\"\",\"\",(VLOOKUP($V$41,Worksheet!$A$11:$AE$41,V33+1,FALSE)))","v":""},{"$f":"IF('Entry Information'!$J64=\"\",\"\",'LIMITED RESULTS'!X34)","v":""},{"$f":"IF('Entry Information'!$J64=\"\",\"\",IF('LIMITED RESULTS'!Y34=\"\",\"\",'LIMITED RESULTS'!Y34))","v":""},"",{"$f":"IF('Entry Information'!$J64=\"\",\"\",IF('Entry Information'!X64=\"\",Z33,Z33-100))","v":""},"",{"$f":"IF($X33=\"\",\"\",(VLOOKUP($AB$41,Worksheet!$A$11:$AE$41,AB33+1,FALSE)))","v":""},{"$f":"IF('Entry Information'!$J64=\"\",\"\",'LIMITED RESULTS'!AD34)","v":""},{"$f":"IF('Entry Information'!$J64=\"\",\"\",IF('LIMITED RESULTS'!AE34=\"\",\"\",'LIMITED RESULTS'!AE34))","v":""},"",{"$f":"IF('Entry Information'!$J64=\"\",\"\",IF('Entry Information'!Z64=\"\",AF33,AF33-100))","v":""},"",{"$f":"IF($AD33=\"\",\"\",(VLOOKUP($AH$41,Worksheet!$A$11:$AE$41,AH33+1,FALSE)))","v":""}]
[{"$f":"IF('Entry Information'!J65=\"\",\"\",'Entry Information'!B65)","v":""},{"$f":"IF('Entry Information'!J65=\"\",\"\",'Entry Information'!C65)","v":""},{"$f":"IF('Entry Information'!J65=\"\",\"\",'Entry Information'!D65)","v":""},{"$f":"IF('Entry Information'!J65=\"\",\"\",'Entry Information'!E65)","v":""},"LIM",{"$f":"IF('Entry Information'!$J65=\"\",\"\",'LIMITED RESULTS'!F35)","v":""},{"$f":"IF('Entry Information'!$J65=\"\",\"\",IF('LIMITED RESULTS'!G35=\"\",\"\",'LIMITED RESULTS'!G35))","v":""},"",{"$f":"IF('Entry Information'!$J65=\"\",\"\",IF('Entry Information'!R65=\"\",H34,H34-100))","v":""},"",{"$f":"IF($F34=\"\",\"\",(VLOOKUP($J$41,Worksheet!$A$11:$AE$41,J34+1,FALSE)))","v":""},{"$f":"IF('Entry Information'!$J65=\"\",\"\",'LIMITED RESULTS'!L35)","v":""},{"$f":"IF('Entry Information'!$J65=\"\",\"\",IF('LIMITED RESULTS'!M35=\"\",\"\",'LIMITED RESULTS'!M35))","v":""},"",{"$f":"IF('Entry Information'!$J65=\"\",\"\",IF('Entry Information'!T65=\"\",N34,N34-100))","v":""},"",{"$f":"IF($L34=\"\",\"\",(VLOOKUP($P$41,Worksheet!$A$11:$AE$41,P34+1,FALSE)))","v":""},{"$f":"IF('Entry Information'!$J65=\"\",\"\",'LIMITED RESULTS'!R35)","v":""},{"$f":"IF('Entry Information'!$J65=\"\",\"\",IF('LIMITED RESULTS'!S35=\"\",\"\",'LIMITED RESULTS'!S35))","v":""},"",{"$f":"IF('Entry Information'!$J65=\"\",\"\",IF('Entry Information'!V65=\"\",T34,T34-100))","v":""},"",{"$f":"IF($R34=\"\",\"\",(VLOOKUP($V$41,Worksheet!$A$11:$AE$41,V34+1,FALSE)))","v":""},{"$f":"IF('Entry Information'!$J65=\"\",\"\",'LIMITED RESULTS'!X35)","v":""},{"$f":"IF('Entry Information'!$J65=\"\",\"\",IF('LIMITED RESULTS'!Y35=\"\",\"\",'LIMITED RESULTS'!Y35))","v":""},"",{"$f":"IF('Entry Information'!$J65=\"\",\"\",IF('Entry Information'!X65=\"\",Z34,Z34-100))","v":""},"",{"$f":"IF($X34=\"\",\"\",(VLOOKUP($AB$41,Worksheet!$A$11:$AE$41,AB34+1,FALSE)))","v":""},{"$f":"IF('Entry Information'!$J65=\"\",\"\",'LIMITED RESULTS'!AD35)","v":""},{"$f":"IF('Entry Information'!$J65=\"\",\"\",IF('LIMITED RESULTS'!AE35=\"\",\"\",'LIMITED RESULTS'!AE35))","v":""},"",{"$f":"IF('Entry Information'!$J65=\"\",\"\",IF('Entry Information'!Z65=\"\",AF34,AF34-100))","v":""},"",{"$f":"IF($AD34=\"\",\"\",(VLOOKUP($AH$41,Worksheet!$A$11:$AE$41,AH34+1,FALSE)))","v":""}]
[{"$f":"IF('Entry Information'!J66=\"\",\"\",'Entry Information'!B66)","v":""},{"$f":"IF('Entry Information'!J66=\"\",\"\",'Entry Information'!C66)","v":""},{"$f":"IF('Entry Information'!J66=\"\",\"\",'Entry Information'!D66)","v":""},{"$f":"IF('Entry Information'!J66=\"\",\"\",'Entry Information'!E66)","v":""},"LIM",{"$f":"IF('Entry Information'!$J66=\"\",\"\",'LIMITED RESULTS'!F36)","v":""},{"$f":"IF('Entry Information'!$J66=\"\",\"\",IF('LIMITED RESULTS'!G36=\"\",\"\",'LIMITED RESULTS'!G36))","v":""},"",{"$f":"IF('Entry Information'!$J66=\"\",\"\",IF('Entry Information'!R66=\"\",H35,H35-100))","v":""},"",{"$f":"IF($F35=\"\",\"\",(VLOOKUP($J$41,Worksheet!$A$11:$AE$41,J35+1,FALSE)))","v":""},{"$f":"IF('Entry Information'!$J66=\"\",\"\",'LIMITED RESULTS'!L36)","v":""},{"$f":"IF('Entry Information'!$J66=\"\",\"\",IF('LIMITED RESULTS'!M36=\"\",\"\",'LIMITED RESULTS'!M36))","v":""},"",{"$f":"IF('Entry Information'!$J66=\"\",\"\",IF('Entry Information'!T66=\"\",N35,N35-100))","v":""},"",{"$f":"IF($L35=\"\",\"\",(VLOOKUP($P$41,Worksheet!$A$11:$AE$41,P35+1,FALSE)))","v":""},{"$f":"IF('Entry Information'!$J66=\"\",\"\",'LIMITED RESULTS'!R36)","v":""},{"$f":"IF('Entry Information'!$J66=\"\",\"\",IF('LIMITED RESULTS'!S36=\"\",\"\",'LIMITED RESULTS'!S36))","v":""},"",{"$f":"IF('Entry Information'!$J66=\"\",\"\",IF('Entry Information'!V66=\"\",T35,T35-100))","v":""},"",{"$f":"IF($R35=\"\",\"\",(VLOOKUP($V$41,Worksheet!$A$11:$AE$41,V35+1,FALSE)))","v":""},{"$f":"IF('Entry Information'!$J66=\"\",\"\",'LIMITED RESULTS'!X36)","v":""},{"$f":"IF('Entry Information'!$J66=\"\",\"\",IF('LIMITED RESULTS'!Y36=\"\",\"\",'LIMITED RESULTS'!Y36))","v":""},"",{"$f":"IF('Entry Information'!$J66=\"\",\"\",IF('Entry Information'!X66=\"\",Z35,Z35-100))","v":""},"",{"$f":"IF($X35=\"\",\"\",(VLOOKUP($AB$41,Worksheet!$A$11:$AE$41,AB35+1,FALSE)))","v":""},{"$f":"IF('Entry Information'!$J66=\"\",\"\",'LIMITED RESULTS'!AD36)","v":""},{"$f":"IF('Entry Information'!$J66=\"\",\"\",IF('LIMITED RESULTS'!AE36=\"\",\"\",'LIMITED RESULTS'!AE36))","v":""},"",{"$f":"IF('Entry Information'!$J66=\"\",\"\",IF('Entry Information'!Z66=\"\",AF35,AF35-100))","v":""},"",{"$f":"IF($AD35=\"\",\"\",(VLOOKUP($AH$41,Worksheet!$A$11:$AE$41,AH35+1,FALSE)))","v":""}]
[{"$f":"IF('Entry Information'!J67=\"\",\"\",'Entry Information'!B67)","v":""},{"$f":"IF('Entry Information'!J67=\"\",\"\",'Entry Information'!C67)","v":""},{"$f":"IF('Entry Information'!J67=\"\",\"\",'Entry Information'!D67)","v":""},{"$f":"IF('Entry Information'!J67=\"\",\"\",'Entry Information'!E67)","v":""},"LIM",{"$f":"IF('Entry Information'!$J67=\"\",\"\",'LIMITED RESULTS'!F37)","v":""},{"$f":"IF('Entry Information'!$J67=\"\",\"\",IF('LIMITED RESULTS'!G37=\"\",\"\",'LIMITED RESULTS'!G37))","v":""},"",{"$f":"IF('Entry Information'!$J67=\"\",\"\",IF('Entry Information'!R67=\"\",H36,H36-100))","v":""},"",{"$f":"IF($F36=\"\",\"\",(VLOOKUP($J$41,Worksheet!$A$11:$AE$41,J36+1,FALSE)))","v":""},{"$f":"IF('Entry Information'!$J67=\"\",\"\",'LIMITED RESULTS'!L37)","v":""},{"$f":"IF('Entry Information'!$J67=\"\",\"\",IF('LIMITED RESULTS'!M37=\"\",\"\",'LIMITED RESULTS'!M37))","v":""},"",{"$f":"IF('Entry Information'!$J67=\"\",\"\",IF('Entry Information'!T67=\"\",N36,N36-100))","v":""},"",{"$f":"IF($L36=\"\",\"\",(VLOOKUP($P$41,Worksheet!$A$11:$AE$41,P36+1,FALSE)))","v":""},{"$f":"IF('Entry Information'!$J67=\"\",\"\",'LIMITED RESULTS'!R37)","v":""},{"$f":"IF('Entry Information'!$J67=\"\",\"\",IF('LIMITED RESULTS'!S37=\"\",\"\",'LIMITED RESULTS'!S37))","v":""},"",{"$f":"IF('Entry Information'!$J67=\"\",\"\",IF('Entry Information'!V67=\"\",T36,T36-100))","v":""},"",{"$f":"IF($R36=\"\",\"\",(VLOOKUP($V$41,Worksheet!$A$11:$AE$41,V36+1,FALSE)))","v":""},{"$f":"IF('Entry Information'!$J67=\"\",\"\",'LIMITED RESULTS'!X37)","v":""},{"$f":"IF('Entry Information'!$J67=\"\",\"\",IF('LIMITED RESULTS'!Y37=\"\",\"\",'LIMITED RESULTS'!Y37))","v":""},"",{"$f":"IF('Entry Information'!$J67=\"\",\"\",IF('Entry Information'!X67=\"\",Z36,Z36-100))","v":""},"",{"$f":"IF($X36=\"\",\"\",(VLOOKUP($AB$41,Worksheet!$A$11:$AE$41,AB36+1,FALSE)))","v":""},{"$f":"IF('Entry Information'!$J67=\"\",\"\",'LIMITED RESULTS'!AD37)","v":""},{"$f":"IF('Entry Information'!$J67=\"\",\"\",IF('LIMITED RESULTS'!AE37=\"\",\"\",'LIMITED RESULTS'!AE37))","v":""},"",{"$f":"IF('Entry Information'!$J67=\"\",\"\",IF('Entry Information'!Z67=\"\",AF36,AF36-100))","v":""},"",{"$f":"IF($AD36=\"\",\"\",(VLOOKUP($AH$41,Worksheet!$A$11:$AE$41,AH36+1,FALSE)))","v":""}]
[{"$f":"IF('Entry Information'!J68=\"\",\"\",'Entry Information'!B68)","v":""},{"$f":"IF('Entry Information'!J68=\"\",\"\",'Entry Information'!C68)","v":""},{"$f":"IF('Entry Information'!J68=\"\",\"\",'Entry Information'!D68)","v":""},{"$f":"IF('Entry Information'!J68=\"\",\"\",'Entry Information'!E68)","v":""},"LIM",{"$f":"IF('Entry Information'!$J68=\"\",\"\",'LIMITED RESULTS'!F38)","v":""},{"$f":"IF('Entry Information'!$J68=\"\",\"\",IF('LIMITED RESULTS'!G38=\"\",\"\",'LIMITED RESULTS'!G38))","v":""},"",{"$f":"IF('Entry Information'!$J68=\"\",\"\",IF('Entry Information'!R68=\"\",H37,H37-100))","v":""},"",{"$f":"IF($F37=\"\",\"\",(VLOOKUP($J$41,Worksheet!$A$11:$AE$41,J37+1,FALSE)))","v":""},{"$f":"IF('Entry Information'!$J68=\"\",\"\",'LIMITED RESULTS'!L38)","v":""},{"$f":"IF('Entry Information'!$J68=\"\",\"\",IF('LIMITED RESULTS'!M38=\"\",\"\",'LIMITED RESULTS'!M38))","v":""},"",{"$f":"IF('Entry Information'!$J68=\"\",\"\",IF('Entry Information'!T68=\"\",N37,N37-100))","v":""},"",{"$f":"IF($L37=\"\",\"\",(VLOOKUP($P$41,Worksheet!$A$11:$AE$41,P37+1,FALSE)))","v":""},{"$f":"IF('Entry Information'!$J68=\"\",\"\",'LIMITED RESULTS'!R38)","v":""},{"$f":"IF('Entry Information'!$J68=\"\",\"\",IF('LIMITED RESULTS'!S38=\"\",\"\",'LIMITED RESULTS'!S38))","v":""},"",{"$f":"IF('Entry Information'!$J68=\"\",\"\",IF('Entry Information'!V68=\"\",T37,T37-100))","v":""},"",{"$f":"IF($R37=\"\",\"\",(VLOOKUP($V$41,Worksheet!$A$11:$AE$41,V37+1,FALSE)))","v":""},{"$f":"IF('Entry Information'!$J68=\"\",\"\",'LIMITED RESULTS'!X38)","v":""},{"$f":"IF('Entry Information'!$J68=\"\",\"\",IF('LIMITED RESULTS'!Y38=\"\",\"\",'LIMITED RESULTS'!Y38))","v":""},"",{"$f":"IF('Entry Information'!$J68=\"\",\"\",IF('Entry Information'!X68=\"\",Z37,Z37-100))","v":""},"",{"$f":"IF($X37=\"\",\"\",(VLOOKUP($AB$41,Worksheet!$A$11:$AE$41,AB37+1,FALSE)))","v":""},{"$f":"IF('Entry Information'!$J68=\"\",\"\",'LIMITED RESULTS'!AD38)","v":""},{"$f":"IF('Entry Information'!$J68=\"\",\"\",IF('LIMITED RESULTS'!AE38=\"\",\"\",'LIMITED RESULTS'!AE38))","v":""},"",{"$f":"IF('Entry Information'!$J68=\"\",\"\",IF('Entry Information'!Z68=\"\",AF37,AF37-100))","v":""},"",{"$f":"IF($AD37=\"\",\"\",(VLOOKUP($AH$41,Worksheet!$A$11:$AE$41,AH37+1,FALSE)))","v":""}]
[{"$f":"IF('Entry Information'!J69=\"\",\"\",'Entry Information'!B69)","v":""},{"$f":"IF('Entry Information'!J69=\"\",\"\",'Entry Information'!C69)","v":""},{"$f":"IF('Entry Information'!J69=\"\",\"\",'Entry Information'!D69)","v":""},{"$f":"IF('Entry Information'!J69=\"\",\"\",'Entry Information'!E69)","v":""},"LIM",{"$f":"IF('Entry Information'!$J69=\"\",\"\",'LIMITED RESULTS'!F39)","v":""},{"$f":"IF('Entry Information'!$J69=\"\",\"\",IF('LIMITED RESULTS'!G39=\"\",\"\",'LIMITED RESULTS'!G39))","v":""},"",{"$f":"IF('Entry Information'!$J69=\"\",\"\",IF('Entry Information'!R69=\"\",H38,H38-100))","v":""},"",{"$f":"IF($F38=\"\",\"\",(VLOOKUP($J$41,Worksheet!$A$11:$AE$41,J38+1,FALSE)))","v":""},{"$f":"IF('Entry Information'!$J69=\"\",\"\",'LIMITED RESULTS'!L39)","v":""},{"$f":"IF('Entry Information'!$J69=\"\",\"\",IF('LIMITED RESULTS'!M39=\"\",\"\",'LIMITED RESULTS'!M39))","v":""},"",{"$f":"IF('Entry Information'!$J69=\"\",\"\",IF('Entry Information'!T69=\"\",N38,N38-100))","v":""},"",{"$f":"IF($L38=\"\",\"\",(VLOOKUP($P$41,Worksheet!$A$11:$AE$41,P38+1,FALSE)))","v":""},{"$f":"IF('Entry Information'!$J69=\"\",\"\",'LIMITED RESULTS'!R39)","v":""},{"$f":"IF('Entry Information'!$J69=\"\",\"\",IF('LIMITED RESULTS'!S39=\"\",\"\",'LIMITED RESULTS'!S39))","v":""},"",{"$f":"IF('Entry Information'!$J69=\"\",\"\",IF('Entry Information'!V69=\"\",T38,T38-100))","v":""},"",{"$f":"IF($R38=\"\",\"\",(VLOOKUP($V$41,Worksheet!$A$11:$AE$41,V38+1,FALSE)))","v":""},{"$f":"IF('Entry Information'!$J69=\"\",\"\",'LIMITED RESULTS'!X39)","v":""},{"$f":"IF('Entry Information'!$J69=\"\",\"\",IF('LIMITED RESULTS'!Y39=\"\",\"\",'LIMITED RESULTS'!Y39))","v":""},"",{"$f":"IF('Entry Information'!$J69=\"\",\"\",IF('Entry Information'!X69=\"\",Z38,Z38-100))","v":""},"",{"$f":"IF($X38=\"\",\"\",(VLOOKUP($AB$41,Worksheet!$A$11:$AE$41,AB38+1,FALSE)))","v":""},{"$f":"IF('Entry Information'!$J69=\"\",\"\",'LIMITED RESULTS'!AD39)","v":""},{"$f":"IF('Entry Information'!$J69=\"\",\"\",IF('LIMITED RESULTS'!AE39=\"\",\"\",'LIMITED RESULTS'!AE39))","v":""},"",{"$f":"IF('Entry Information'!$J69=\"\",\"\",IF('Entry Information'!Z69=\"\",AF38,AF38-100))","v":""},"",{"$f":"IF($AD38=\"\",\"\",(VLOOKUP($AH$41,Worksheet!$A$11:$AE$41,AH38+1,FALSE)))","v":""}]
[{"$f":"IF('Entry Information'!J70=\"\",\"\",'Entry Information'!B70)","v":""},{"$f":"IF('Entry Information'!J70=\"\",\"\",'Entry Information'!C70)","v":""},{"$f":"IF('Entry Information'!J70=\"\",\"\",'Entry Information'!D70)","v":""},{"$f":"IF('Entry Information'!J70=\"\",\"\",'Entry Information'!E70)","v":""},"LIM",{"$f":"IF('Entry Information'!$J70=\"\",\"\",'LIMITED RESULTS'!F40)","v":""},{"$f":"IF('Entry Information'!$J70=\"\",\"\",IF('LIMITED RESULTS'!G40=\"\",\"\",'LIMITED RESULTS'!G40))","v":""},"",{"$f":"IF('Entry Information'!$J70=\"\",\"\",IF('Entry Information'!R70=\"\",H39,H39-100))","v":""},"",{"$f":"IF($F39=\"\",\"\",(VLOOKUP($J$41,Worksheet!$A$11:$AE$41,J39+1,FALSE)))","v":""},{"$f":"IF('Entry Information'!$J70=\"\",\"\",'LIMITED RESULTS'!L40)","v":""},{"$f":"IF('Entry Information'!$J70=\"\",\"\",IF('LIMITED RESULTS'!M40=\"\",\"\",'LIMITED RESULTS'!M40))","v":""},"",{"$f":"IF('Entry Information'!$J70=\"\",\"\",IF('Entry Information'!T70=\"\",N39,N39-100))","v":""},"",{"$f":"IF($L39=\"\",\"\",(VLOOKUP($P$41,Worksheet!$A$11:$AE$41,P39+1,FALSE)))","v":""},{"$f":"IF('Entry Information'!$J70=\"\",\"\",'LIMITED RESULTS'!R40)","v":""},{"$f":"IF('Entry Information'!$J70=\"\",\"\",IF('LIMITED RESULTS'!S40=\"\",\"\",'LIMITED RESULTS'!S40))","v":""},"",{"$f":"IF('Entry Information'!$J70=\"\",\"\",IF('Entry Information'!V70=\"\",T39,T39-100))","v":""},"",{"$f":"IF($R39=\"\",\"\",(VLOOKUP($V$41,Worksheet!$A$11:$AE$41,V39+1,FALSE)))","v":""},{"$f":"IF('Entry Information'!$J70=\"\",\"\",'LIMITED RESULTS'!X40)","v":""},{"$f":"IF('Entry Information'!$J70=\"\",\"\",IF('LIMITED RESULTS'!Y40=\"\",\"\",'LIMITED RESULTS'!Y40))","v":""},"",{"$f":"IF('Entry Information'!$J70=\"\",\"\",IF('Entry Information'!X70=\"\",Z39,Z39-100))","v":""},"",{"$f":"IF($X39=\"\",\"\",(VLOOKUP($AB$41,Worksheet!$A$11:$AE$41,AB39+1,FALSE)))","v":""},{"$f":"IF('Entry Information'!$J70=\"\",\"\",'LIMITED RESULTS'!AD40)","v":""},{"$f":"IF('Entry Information'!$J70=\"\",\"\",IF('LIMITED RESULTS'!AE40=\"\",\"\",'LIMITED RESULTS'!AE40))","v":""},"",{"$f":"IF('Entry Information'!$J70=\"\",\"\",IF('Entry Information'!Z70=\"\",AF39,AF39-100))","v":""},"",{"$f":"IF($AD39=\"\",\"\",(VLOOKUP($AH$41,Worksheet!$A$11:$AE$41,AH39+1,FALSE)))","v":""}]
[]
[null,null,null,null,null,null,null,null,null,{"$f":"COUNTIF(J10:J39,\">=0\")","v":0},null,null,null,null,null,{"$f":"COUNTIF(P10:P39,\">=0\")","v":0},null,null,null,null,null,{"$f":"COUNTIF(V10:V39,\">=0\")","v":0},null,null,null,null,null,{"$f":"COUNTIF(AB10:AB39,\">=0\")","v":0},null,null,null,null,null,{"$f":"COUNTIF(AH10:AH39,\">=0\")","v":0}]
[null,null,null,null,null,"1 - Total Penalty Points",null,null,null,null,null,"1 - Total Penalty Points",null,null,null,null,null,"1 - Total Penalty Points",null,null,null,null,null,"1 - Total Penalty Points",null,null,null,null,null,"1 - Total Penalty Points"]
[null,null,null,null,null,"2 - Extended Trot",null,null,null,null,null,"2 - Drag Log",null,null,null,null,null,"2 - Penning",null,null,null,null,null,"2 - Box Cow",null,null,null,null,null,"2 - Box Cow"]
[null,null,null,null,null,"3 - Transition down lope/walk/stop",null,null,null,null,null,"3 - Ground tie/bridle/pick-up legs",null,null,null,null,null,"3 - Working Center of arena",null,null,null,null,null,"3 -First Lead Change",null,null,null,null,null,"3 -First Lead Change"]
[null,null,null,null,null,"4 - Transition to lope/lope",null,null,null,null,null,"4 - Gate",null,null,null,null,null,"4 - Cut from Herd",null,null,null,null,null,"4 -Spin",null,null,null,null,null,"4 -Spin"]
[]
[]
["Scores in RED are ties - enter a 1 in the Tie Breaker Column of the winner to break tie.  If multiple ties enter a 1 for the second place and a 2 for winner."]
[]
[]
["Places highlighted have a major penatly."]

{"sheet":"LIMITED SELECT RESULTS","index":9,"n_rows":51,"n_cols":35,"rows_kept":51,"cut":false,"hidden":true,"merged":[[6,33,8,33],[6,34,8,34],[6,22,8,22],[6,23,8,23],[6,30,8,30],[6,31,8,31],[6,32,8,32],[4,29,4,34],[47,0,48,4],[6,24,8,24],[6,8,8,8],[6,9,8,9],[6,10,8,10],[6,11,8,11],[6,25,8,25],[6,26,8,26],[6,27,8,27],[6,12,8,12],[6,13,8,13],[6,14,8,14],[6,15,8,15],[6,16,8,16],[6,17,8,17],[5,5,5,10],[5,11,5,16],[5,17,5,22],[5,23,5,28],[5,29,5,34],[6,5,8,5],[6,6,8,6],[6,7,8,7],[6,28,8,28],[6,29,8,29],[6,18,8,18],[6,19,8,19],[6,20,8,20],[6,21,8,21],[4,5,4,10],[2,1,2,2],[2,4,2,5],[2,9,2,11],[2,24,2,28],[4,11,4,16],[4,17,4,22],[4,23,4,28],[2,29,2,34],[1,0,1,2],[1,4,1,5],[1,9,1,16],[1,24,1,28],[1,29,1,34]]}
[]
[null,null,null,null,"Event Name:",null,null,null,null,{"$f":"'Entry Information'!C4","v":"Ranch Horse Challenge"},null,null,null,null,null,null,null,null,null,null,null,null,null,null,"Judge #1 Name/Classes:",null,null,null,null,{"$f":"'Entry Information'!F4","v":"Mike Lund"}]
["Division:","LIMITED",null,null,"Event Date:",null,null,null,null,{"$f":"'Entry Information'!C5","v":"2018-03-25"},null,null,null,null,null,null,null,null,null,null,null,null,null,null,"Judge #2 Name/Classes:",null,null,null,null,{"$f":"'Entry Information'!F5","v":"Karen Arlin"}]
[]
[null,null,null,null,null,"RANCH",null,null,null,null,null,"RANCH",null,null,null,null,null,"RANCH",null,null,null,null,null,"RANCH",null,null,null,null,null,"RANCH"]
[null,null,null,null,null,"RIDING",null,null,null,null,null,"TRAIL",null,null,null,null,null,"CUTING",null,null,null,null,null,"REINED WORK",null,null,null,null,null,"COW WORK"]
[null,null,null,null,null,"Score","Tie Breaker","Adjusted Score for Ties","Adjusted Score Major Penalty","Place","Placement Points","Score","Tie Breaker","Adjusted Score for Ties","Adjusted Score Major Penalty","Place","Placement Points","Score","Tie Breaker","Adjusted Score for Ties","Adjusted Score Major Penalty","Place","Placement Points","Score","Tie Breaker","Adjusted Score for Ties","Adjusted Score Major Penalty","Place","Placement Points","Score","Tie Breaker","Adjusted Score for Ties","Adjusted Score Major Penalty","Place","Placement Points"]
[]
["Back No.","Last Name","First Name","Registered Horse Name","Division"]
[{"$f":"IF('Entry Information'!H41=\"\",\"\",'Entry Information'!B41)","v":""},{"$f":"IF('Entry Information'!H41=\"\",\"\",'Entry Information'!C41)","v":""},{"$f":"IF('Entry Information'!H41=\"\",\"\",'Entry Information'!D41)","v":""},{"$f":"IF('Entry Information'!H41=\"\",\"\",'Entry Information'!E41)","v":""},"LIM",{"$f":"IF('Entry Information'!$H41=\"\",\"\",'LIMITED RESULTS'!F11)","v":""},{"$f":"IF('Entry Information'!$H41=\"\",\"\",IF('LIMITED RESULTS'!G11=\"\",\"\",'LIMITED RESULTS'!G11))","v":""},{"$f":"IF(G10=\"\",F10,(F10+(G10*0.001)))","v":""},{"$f":"IF('Entry Information'!$H41=\"\",\"\",IF('Entry Information'!R41=\"\",H10,H10-100))","v":""},{"$f":"IF(I10=\"\",\"\",(RANK(I10,$I$10:$I$39,0)))","v":""},{"$f":"IF($F10=\"\",\"\",(VLOOKUP($J$41,Worksheet!$A$11:$AE$41,J10+1,FALSE)))","v":""},{"$f":"IF('Entry Information'!$H41=\"\",\"\",'LIMITED RESULTS'!L11)","v":""},{"$f":"IF('Entry Information'!$H41=\"\",\"\",IF('LIMITED RESULTS'!M11=\"\",\"\",'LIMITED RESULTS'!M11))","v":""},{"$f":"IF(M10=\"\",L10,(L10+(M10*0.001)))","v":""},{"$f":"IF('Entry Information'!$H41=\"\",\"\",IF('Entry Information'!T41=\"\",N10,N10-100))","v":""},{"$f":"IF(O10=\"\",\"\",(RANK(O10,$O$10:$O$39,0)))","v":""},{"$f":"IF($L10=\"\",\"\",(VLOOKUP($P$41,Worksheet!$A$11:$AE$41,P10+1,FALSE)))","v":""},{"$f":"IF('Entry Information'!$H41=\"\",\"\",'LIMITED RESULTS'!R11)","v":""},{"$f":"IF('Entry Information'!$H41=\"\",\"\",IF('LIMITED RESULTS'!S11=\"\",\"\",'LIMITED RESULTS'!S11))","v":""},{"$f":"IF(S10=\"\",R10,(R10+(S10*0.001)))","v":""},{"$f":"IF('Entry Information'!$H41=\"\",\"\",IF('Entry Information'!V41=\"\",T10,T10-100))","v":""},{"$f":"IF(U10=\"\",\"\",(RANK(U10,$U$10:$U$39,0)))","v":""},{"$f":"IF($R10=\"\",\"\",(VLOOKUP($V$41,Worksheet!$A$11:$AE$41,V10+1,FALSE)))","v":""},{"$f":"IF('Entry Information'!$H41=\"\",\"\",'LIMITED RESULTS'!X11)","v":""},{"$f":"IF('Entry Information'!$H41=\"\",\"\",IF('LIMITED RESULTS'!Y11=\"\",\"\",'LIMITED RESULTS'!Y11))","v":""},{"$f":"IF(Y10=\"\",X10,(X10+(Y10*0.001)))","v":""},{"$f":"IF('Entry Information'!$H41=\"\",\"\",IF('Entry Information'!X41=\"\",Z10,Z10-100))","v":""},{"$f":"IF(AA10=\"\",\"\",(RANK(AA10,$AA$10:$AA$39,0)))","v":""},{"$f":"IF($X10=\"\",\"\",(VLOOKUP($AB$41,Worksheet!$A$11:$AE$41,AB10+1,FALSE)))","v":""},{"$f":"IF('Entry Information'!$H41=\"\",\"\",'LIMITED RESULTS'!AD11)","v":""},{"$f":"IF('Entry Information'!$H41=\"\",\"\",IF('LIMITED RESULTS'!AE11=\"\",\"\",'LIMITED RESULTS'!AE11))","v":""},{"$f":"IF(AE10=\"\",AD10,(AD10+(AE10*0.001)))","v":""},{"$f":"IF('Entry Information'!$H41=\"\",\"\",IF('Entry Information'!Z41=\"\",AF10,AF10-100))","v":""},{"$f":"IF(AG10=\"\",\"\",(RANK(AG10,$AG$10:$AG$39,0)))","v":""},{"$f":"IF($AD10=\"\",\"\",(VLOOKUP($AH$41,Worksheet!$A$11:$AE$41,AH10+1,FALSE)))","v":""}]
[{"$f":"IF('Entry Information'!H42=\"\",\"\",'Entry Information'!B42)","v":""},{"$f":"IF('Entry Information'!H42=\"\",\"\",'Entry Information'!C42)","v":""},{"$f":"IF('Entry Information'!H42=\"\",\"\",'Entry Information'!D42)","v":""},{"$f":"IF('Entry Information'!H42=\"\",\"\",'Entry Information'!E42)","v":""},"LIM",{"$f":"IF('Entry Information'!$H42=\"\",\"\",'LIMITED RESULTS'!F12)","v":""},{"$f":"IF('Entry Information'!$H42=\"\",\"\",IF('LIMITED RESULTS'!G12=\"\",\"\",'LIMITED RESULTS'!G12))","v":""},{"$f":"IF(G11=\"\",F11,(F11+(G11*0.001)))","v":""},{"$f":"IF('Entry Information'!$H42=\"\",\"\",IF('Entry Information'!R42=\"\",H11,H11-100))","v":""},{"$f":"IF(I11=\"\",\"\",(RANK(I11,$I$10:$I$39,0)))","v":""},{"$f":"IF($F11=\"\",\"\",(VLOOKUP($J$41,Worksheet!$A$11:$AE$41,J11+1,FALSE)))","v":""},{"$f":"IF('Entry Information'!$H42=\"\",\"\",'LIMITED RESULTS'!L12)","v":""},{"$f":"IF('Entry Information'!$H42=\"\",\"\",IF('LIMITED RESULTS'!M12=\"\",\"\",'LIMITED RESULTS'!M12))","v":""},{"$f":"IF(M11=\"\",L11,(L11+(M11*0.001)))","v":""},{"$f":"IF('Entry Information'!$H42=\"\",\"\",IF('Entry Information'!T42=\"\",N11,N11-100))","v":""},{"$f":"IF(O11=\"\",\"\",(RANK(O11,$O$10:$O$39,0)))","v":""},{"$f":"IF($L11=\"\",\"\",(VLOOKUP($P$41,Worksheet!$A$11:$AE$41,P11+1,FALSE)))","v":""},{"$f":"IF('Entry Information'!$H42=\"\",\"\",'LIMITED RESULTS'!R12)","v":""},{"$f":"IF('Entry Information'!$H42=\"\",\"\",IF('LIMITED RESULTS'!S12=\"\",\"\",'LIMITED RESULTS'!S12))","v":""},{"$f":"IF(S11=\"\",R11,(R11+(S11*0.001)))","v":""},{"$f":"IF('Entry Information'!$H42=\"\",\"\",IF('Entry Information'!V42=\"\",T11,T11-100))","v":""},{"$f":"IF(U11=\"\",\"\",(RANK(U11,$U$10:$U$39,0)))","v":""},{"$f":"IF($R11=\"\",\"\",(VLOOKUP($V$41,Worksheet!$A$11:$AE$41,V11+1,FALSE)))","v":""},{"$f":"IF('Entry Information'!$H42=\"\",\"\",'LIMITED RESULTS'!X12)","v":""},{"$f":"IF('Entry Information'!$H42=\"\",\"\",IF('LIMITED RESULTS'!Y12=\"\",\"\",'LIMITED RESULTS'!Y12))","v":""},{"$f":"IF(Y11=\"\",X11,(X11+(Y11*0.001)))","v":""},{"$f":"IF('Entry Information'!$H42=\"\",\"\",IF('Entry Information'!X42=\"\",Z11,Z11-100))","v":""},{"$f":"IF(AA11=\"\",\"\",(RANK(AA11,$AA$10:$AA$39,0)))","v":""},{"$f":"IF($X11=\"\",\"\",(VLOOKUP($AB$41,Worksheet!$A$11:$AE$41,AB11+1,FALSE)))","v":""},{"$f":"IF('Entry Information'!$H42=\"\",\"\",'LIMITED RESULTS'!AD12)","v":""},{"$f":"IF('Entry Information'!$H42=\"\",\"\",IF('LIMITED RESULTS'!AE12=\"\",\"\",'LIMITED RESULTS'!AE12))","v":""},{"$f":"IF(AE11=\"\",AD11,(AD11+(AE11*0.001)))","v":""},{"$f":"IF('Entry Information'!$H42=\"\",\"\",IF('Entry Information'!Z42=\"\",AF11,AF11-100))","v":""},{"$f":"IF(AG11=\"\",\"\",(RANK(AG11,$AG$10:$AG$39,0)))","v":""},{"$f":"IF($AD11=\"\",\"\",(VLOOKUP($AH$41,Worksheet!$A$11:$AE$41,AH11+1,FALSE)))","v":""}]
[{"$f":"IF('Entry Information'!H43=\"\",\"\",'Entry Information'!B43)","v":""},{"$f":"IF('Entry Information'!H43=\"\",\"\",'Entry Information'!C43)","v":""},{"$f":"IF('Entry Information'!H43=\"\",\"\",'Entry Information'!D43)","v":""},{"$f":"IF('Entry Information'!H43=\"\",\"\",'Entry Information'!E43)","v":""},"LIM",{"$f":"IF('Entry Information'!$H43=\"\",\"\",'LIMITED RESULTS'!F13)","v":""},{"$f":"IF('Entry Information'!$H43=\"\",\"\",IF('LIMITED RESULTS'!G13=\"\",\"\",'LIMITED RESULTS'!G13))","v":""},"",{"$f":"IF('Entry Information'!$H43=\"\",\"\",IF('Entry Information'!R43=\"\",H12,H12-100))","v":""},"",{"$f":"IF($F12=\"\",\"\",(VLOOKUP($J$41,Worksheet!$A$11:$AE$41,J12+1,FALSE)))","v":""},{"$f":"IF('Entry Information'!$H43=\"\",\"\",'LIMITED RESULTS'!L13)","v":""},{"$f":"IF('Entry Information'!$H43=\"\",\"\",IF('LIMITED RESULTS'!M13=\"\",\"\",'LIMITED RESULTS'!M13))","v":""},"",{"$f":"IF('Entry Information'!$H43=\"\",\"\",IF('Entry Information'!T43=\"\",N12,N12-100))","v":""},"",{"$f":"IF($L12=\"\",\"\",(VLOOKUP($P$41,Worksheet!$A$11:$AE$41,P12+1,FALSE)))","v":""},{"$f":"IF('Entry Information'!$H43=\"\",\"\",'LIMITED RESULTS'!R13)","v":""},{"$f":"IF('Entry Information'!$H43=\"\",\"\",IF('LIMITED RESULTS'!S13=\"\",\"\",'LIMITED RESULTS'!S13))","v":""},"",{"$f":"IF('Entry Information'!$H43=\"\",\"\",IF('Entry Information'!V43=\"\",T12,T12-100))","v":""},"",{"$f":"IF($R12=\"\",\"\",(VLOOKUP($V$41,Worksheet!$A$11:$AE$41,V12+1,FALSE)))","v":""},{"$f":"IF('Entry Information'!$H43=\"\",\"\",'LIMITED RESULTS'!X13)","v":""},{"$f":"IF('Entry Information'!$H43=\"\",\"\",IF('LIMITED RESULTS'!Y13=\"\",\"\",'LIMITED RESULTS'!Y13))","v":""},"",{"$f":"IF('Entry Information'!$H43=\"\",\"\",IF('Entry Information'!X43=\"\",Z12,Z12-100))","v":""},"",{"$f":"IF($X12=\"\",\"\",(VLOOKUP($AB$41,Worksheet!$A$11:$AE$41,AB12+1,FALSE)))","v":""},{"$f":"IF('Entry Information'!$H43=\"\",\"\",'LIMITED RESULTS'!AD13)","v":""},{"$f":"IF('Entry Information'!$H43=\"\",\"\",IF('LIMITED RESULTS'!AE13=\"\",\"\",'LIMITED RESULTS'!AE13))","v":""},"",{"$f":"IF('Entry Information'!$H43=\"\",\"\",IF('Entry Information'!Z43=\"\",AF12,AF12-100))","v":""},"",{"$f":"IF($AD12=\"\",\"\",(VLOOKUP($AH$41,Worksheet!$A$11:$AE$41,AH12+1,FALSE)))","v":""}]
[{"$f":"IF('Entry Information'!H44=\"\",\"\",'Entry Information'!B44)","v":""},{"$f":"IF('Entry Information'!H44=\"\",\"\",'Entry Information'!C44)","v":""},{"$f":"IF('Entry Information'!H44=\"\",\"\",'Entry Information'!D44)","v":""},{"$f":"IF('Entry Information'!H44=\"\",\"\",'Entry Information'!E44)","v":""},"LIM",{"$f":"IF('Entry Information'!$H44=\"\",\"\",'LIMITED RESULTS'!F14)","v":""},{"$f":"IF('Entry Information'!$H44=\"\",\"\",IF('LIMITED RESULTS'!G14=\"\",\"\",'LIMITED RESULTS'!G14))","v":""},"",{"$f":"IF('Entry Information'!$H44=\"\",\"\",IF('Entry Information'!R44=\"\",H13,H13-100))","v":""},"",{"$f":"IF($F13=\"\",\"\",(VLOOKUP($J$41,Worksheet!$A$11:$AE$41,J13+1,FALSE)))","v":""},{"$f":"IF('Entry Information'!$H44=\"\",\"\",'LIMITED RESULTS'!L14)","v":""},{"$f":"IF('Entry Information'!$H44=\"\",\"\",IF('LIMITED RESULTS'!M14=\"\",\"\",'LIMITED RESULTS'!M14))","v":""},"",{"$f":"IF('Entry Information'!$H44=\"\",\"\",IF('Entry Information'!T44=\"\",N13,N13-100))","v":""},"",{"$f":"IF($L13=\"\",\"\",(VLOOKUP($P$41,Worksheet!$A$11:$AE$41,P13+1,FALSE)))","v":""},{"$f":"IF('Entry Information'!$H44=\"\",\"\",'LIMITED RESULTS'!R14)","v":""},{"$f":"IF('Entry Information'!$H44=\"\",\"\",IF('LIMITED RESULTS'!S14=\"\",\"\",'LIMITED RESULTS'!S14))","v":""},"",{"$f":"IF('Entry Information'!$H44=\"\",\"\",IF('Entry Information'!V44=\"\",T13,T13-100))","v":""},"",{"$f":"IF($R13=\"\",\"\",(VLOOKUP($V$41,Worksheet!$A$11:$AE$41,V13+1,FALSE)))","v":""},{"$f":"IF('Entry Information'!$H44=\"\",\"\",'LIMITED RESULTS'!X14)","v":""},{"$f":"IF('Entry Information'!$H44=\"\",\"\",IF('LIMITED RESULTS'!Y14=\"\",\"\",'LIMITED RESULTS'!Y14))","v":""},"",{"$f":"IF('Entry Information'!$H44=\"\",\"\",IF('Entry Information'!X44=\"\",Z13,Z13-100))","v":""},"",{"$f":"IF($X13=\"\",\"\",(VLOOKUP($AB$41,Worksheet!$A$11:$AE$41,AB13+1,FALSE)))","v":""},{"$f":"IF('Entry Information'!$H44=\"\",\"\",'LIMITED RESULTS'!AD14)","v":""},{"$f":"IF('Entry Information'!$H44=\"\",\"\",IF('LIMITED RESULTS'!AE14=\"\",\"\",'LIMITED RESULTS'!AE14))","v":""},"",{"$f":"IF('Entry Information'!$H44=\"\",\"\",IF('Entry Information'!Z44=\"\",AF13,AF13-100))","v":""},"",{"$f":"IF($AD13=\"\",\"\",(VLOOKUP($AH$41,Worksheet!$A$11:$AE$41,AH13+1,FALSE)))","v":""}]
[{"$f":"IF('Entry Information'!H45=\"\",\"\",'Entry Information'!B45)","v":""},{"$f":"IF('Entry Information'!H45=\"\",\"\",'Entry Information'!C45)","v":""},{"$f":"IF('Entry Information'!H45=\"\",\"\",'Entry Information'!D45)","v":""},{"$f":"IF('Entry Information'!H45=\"\",\"\",'Entry Information'!E45)","v":""},"LIM",{"$f":"IF('Entry Information'!$H45=\"\",\"\",'LIMITED RESULTS'!F15)","v":""},{"$f":"IF('Entry Information'!$H45=\"\",\"\",IF('LIMITED RESULTS'!G15=\"\",\"\",'LIMITED RESULTS'!G15))","v":""},"",{"$f":"IF('Entry Information'!$H45=\"\",\"\",IF('Entry Information'!R45=\"\",H14,H14-100))","v":""},"",{"$f":"IF($F14=\"\",\"\",(VLOOKUP($J$41,Worksheet!$A$11:$AE$41,J14+1,FALSE)))","v":""},{"$f":"IF('Entry Information'!$H45=\"\",\"\",'LIMITED RESULTS'!L15)","v":""},{"$f":"IF('Entry Information'!$H45=\"\",\"\",IF('LIMITED RESULTS'!M15=\"\",\"\",'LIMITED RESULTS'!M15))","v":""},"",{"$f":"IF('Entry Information'!$H45=\"\",\"\",IF('Entry Information'!T45=\"\",N14,N14-100))","v":""},"",{"$f":"IF($L14=\"\",\"\",(VLOOKUP($P$41,Worksheet!$A$11:$AE$41,P14+1,FALSE)))","v":""},{"$f":"IF('Entry Information'!$H45=\"\",\"\",'LIMITED RESULTS'!R15)","v":""},{"$f":"IF('Entry Information'!$H45=\"\",\"\",IF('LIMITED RESULTS'!S15=\"\",\"\",'LIMITED RESULTS'!S15))","v":""},"",{"$f":"IF('Entry Information'!$H45=\"\",\"\",IF('Entry Information'!V45=\"\",T14,T14-100))","v":""},"",{"$f":"IF($R14=\"\",\"\",(VLOOKUP($V$41,Worksheet!$A$11:$AE$41,V14+1,FALSE)))","v":""},{"$f":"IF('Entry Information'!$H45=\"\",\"\",'LIMITED RESULTS'!X15)","v":""},{"$f":"IF('Entry Information'!$H45=\"\",\"\",IF('LIMITED RESULTS'!Y15=\"\",\"\",'LIMITED RESULTS'!Y15))","v":""},"",{"$f":"IF('Entry Information'!$H45=\"\",\"\",IF('Entry Information'!X45=\"\",Z14,Z14-100))","v":""},"",{"$f":"IF($X14=\"\",\"\",(VLOOKUP($AB$41,Worksheet!$A$11:$AE$41,AB14+1,FALSE)))","v":""},{"$f":"IF('Entry Information'!$H45=\"\",\"\",'LIMITED RESULTS'!AD15)","v":""},{"$f":"IF('Entry Information'!$H45=\"\",\"\",IF('LIMITED RESULTS'!AE15=\"\",\"\",'LIMITED RESULTS'!AE15))","v":""},"",{"$f":"IF('Entry Information'!$H45=\"\",\"\",IF('Entry Information'!Z45=\"\",AF14,AF14-100))","v":""},"",{"$f":"IF($AD14=\"\",\"\",(VLOOKUP($AH$41,Worksheet!$A$11:$AE$41,AH14+1,FALSE)))","v":""}]
[{"$f":"IF('Entry Information'!H46=\"\",\"\",'Entry Information'!B46)","v":""},{"$f":"IF('Entry Information'!H46=\"\",\"\",'Entry Information'!C46)","v":""},{"$f":"IF('Entry Information'!H46=\"\",\"\",'Entry Information'!D46)","v":""},{"$f":"IF('Entry Information'!H46=\"\",\"\",'Entry Information'!E46)","v":""},"LIM",{"$f":"IF('Entry Information'!$H46=\"\",\"\",'LIMITED RESULTS'!F16)","v":""},{"$f":"IF('Entry Information'!$H46=\"\",\"\",IF('LIMITED RESULTS'!G16=\"\",\"\",'LIMITED RESULTS'!G16))","v":""},"",{"$f":"IF('Entry Information'!$H46=\"\",\"\",IF('Entry Information'!R46=\"\",H15,H15-100))","v":""},"",{"$f":"IF($F15=\"\",\"\",(VLOOKUP($J$41,Worksheet!$A$11:$AE$41,J15+1,FALSE)))","v":""},{"$f":"IF('Entry Information'!$H46=\"\",\"\",'LIMITED RESULTS'!L16)","v":""},{"$f":"IF('Entry Information'!$H46=\"\",\"\",IF('LIMITED RESULTS'!M16=\"\",\"\",'LIMITED RESULTS'!M16))","v":""},"",{"$f":"IF('Entry Information'!$H46=\"\",\"\",IF('Entry Information'!T46=\"\",N15,N15-100))","v":""},"",{"$f":"IF($L15=\"\",\"\",(VLOOKUP($P$41,Worksheet!$A$11:$AE$41,P15+1,FALSE)))","v":""},{"$f":"IF('Entry Information'!$H46=\"\",\"\",'LIMITED RESULTS'!R16)","v":""},{"$f":"IF('Entry Information'!$H46=\"\",\"\",IF('LIMITED RESULTS'!S16=\"\",\"\",'LIMITED RESULTS'!S16))","v":""},"",{"$f":"IF('Entry Information'!$H46=\"\",\"\",IF('Entry Information'!V46=\"\",T15,T15-100))","v":""},"",{"$f":"IF($R15=\"\",\"\",(VLOOKUP($V$41,Worksheet!$A$11:$AE$41,V15+1,FALSE)))","v":""},{"$f":"IF('Entry Information'!$H46=\"\",\"\",'LIMITED RESULTS'!X16)","v":""},{"$f":"IF('Entry Information'!$H46=\"\",\"\",IF('LIMITED RESULTS'!Y16=\"\",\"\",'LIMITED RESULTS'!Y16))","v":""},"",{"$f":"IF('Entry Information'!$H46=\"\",\"\",IF('Entry Information'!X46=\"\",Z15,Z15-100))","v":""},"",{"$f":"IF($X15=\"\",\"\",(VLOOKUP($AB$41,Worksheet!$A$11:$AE$41,AB15+1,FALSE)))","v":""},{"$f":"IF('Entry Information'!$H46=\"\",\"\",'LIMITED RESULTS'!AD16)","v":""},{"$f":"IF('Entry Information'!$H46=\"\",\"\",IF('LIMITED RESULTS'!AE16=\"\",\"\",'LIMITED RESULTS'!AE16))","v":""},"",{"$f":"IF('Entry Information'!$H46=\"\",\"\",IF('Entry Information'!Z46=\"\",AF15,AF15-100))","v":""},"",{"$f":"IF($AD15=\"\",\"\",(VLOOKUP($AH$41,Worksheet!$A$11:$AE$41,AH15+1,FALSE)))","v":""}]
[{"$f":"IF('Entry Information'!H47=\"\",\"\",'Entry Information'!B47)","v":""},{"$f":"IF('Entry Information'!H47=\"\",\"\",'Entry Information'!C47)","v":""},{"$f":"IF('Entry Information'!H47=\"\",\"\",'Entry Information'!D47)","v":""},{"$f":"IF('Entry Information'!H47=\"\",\"\",'Entry Information'!E47)","v":""},"LIM",{"$f":"IF('Entry Information'!$H47=\"\",\"\",'LIMITED RESULTS'!F17)","v":""},{"$f":"IF('Entry Information'!$H47=\"\",\"\",IF('LIMITED RESULTS'!G17=\"\",\"\",'LIMITED RESULTS'!G17))","v":""},"",{"$f":"IF('Entry Information'!$H47=\"\",\"\",IF('Entry Information'!R47=\"\",H16,H16-100))","v":""},"",{"$f":"IF($F16=\"\",\"\",(VLOOKUP($J$41,Worksheet!$A$11:$AE$41,J16+1,FALSE)))","v":""},{"$f":"IF('Entry Information'!$H47=\"\",\"\",'LIMITED RESULTS'!L17)","v":""},{"$f":"IF('Entry Information'!$H47=\"\",\"\",IF('LIMITED RESULTS'!M17=\"\",\"\",'LIMITED RESULTS'!M17))","v":""},"",{"$f":"IF('Entry Information'!$H47=\"\",\"\",IF('Entry Information'!T47=\"\",N16,N16-100))","v":""},"",{"$f":"IF($L16=\"\",\"\",(VLOOKUP($P$41,Worksheet!$A$11:$AE$41,P16+1,FALSE)))","v":""},{"$f":"IF('Entry Information'!$H47=\"\",\"\",'LIMITED RESULTS'!R17)","v":""},{"$f":"IF('Entry Information'!$H47=\"\",\"\",IF('LIMITED RESULTS'!S17=\"\",\"\",'LIMITED RESULTS'!S17))","v":""},"",{"$f":"IF('Entry Information'!$H47=\"\",\"\",IF('Entry Information'!V47=\"\",T16,T16-100))","v":""},"",{"$f":"IF($R16=\"\",\"\",(VLOOKUP($V$41,Worksheet!$A$11:$AE$41,V16+1,FALSE)))","v":""},{"$f":"IF('Entry Information'!$H47=\"\",\"\",'LIMITED RESULTS'!X17)","v":""},{"$f":"IF('Entry Information'!$H47=\"\",\"\",IF('LIMITED RESULTS'!Y17=\"\",\"\",'LIMITED RESULTS'!Y17))","v":""},"",{"$f":"IF('Entry Information'!$H47=\"\",\"\",IF('Entry Information'!X47=\"\",Z16,Z16-100))","v":""},"",{"$f":"IF($X16=\"\",\"\",(VLOOKUP($AB$41,Worksheet!$A$11:$AE$41,AB16+1,FALSE)))","v":""},{"$f":"IF('Entry Information'!$H47=\"\",\"\",'LIMITED RESULTS'!AD17)","v":""},{"$f":"IF('Entry Information'!$H47=\"\",\"\",IF('LIMITED RESULTS'!AE17=\"\",\"\",'LIMITED RESULTS'!AE17))","v":""},"",{"$f":"IF('Entry Information'!$H47=\"\",\"\",IF('Entry Information'!Z47=\"\",AF16,AF16-100))","v":""},"",{"$f":"IF($AD16=\"\",\"\",(VLOOKUP($AH$41,Worksheet!$A$11:$AE$41,AH16+1,FALSE)))","v":""}]
[{"$f":"IF('Entry Information'!H48=\"\",\"\",'Entry Information'!B48)","v":""},{"$f":"IF('Entry Information'!H48=\"\",\"\",'Entry Information'!C48)","v":""},{"$f":"IF('Entry Information'!H48=\"\",\"\",'Entry Information'!D48)","v":""},{"$f":"IF('Entry Information'!H48=\"\",\"\",'Entry Information'!E48)","v":""},"LIM",{"$f":"IF('Entry Information'!$H48=\"\",\"\",'LIMITED RESULTS'!F18)","v":""},{"$f":"IF('Entry Information'!$H48=\"\",\"\",IF('LIMITED RESULTS'!G18=\"\",\"\",'LIMITED RESULTS'!G18))","v":""},"",{"$f":"IF('Entry Information'!$H48=\"\",\"\",IF('Entry Information'!R48=\"\",H17,H17-100))","v":""},"",{"$f":"IF($F17=\"\",\"\",(VLOOKUP($J$41,Worksheet!$A$11:$AE$41,J17+1,FALSE)))","v":""},{"$f":"IF('Entry Information'!$H48=\"\",\"\",'LIMITED RESULTS'!L18)","v":""},{"$f":"IF('Entry Information'!$H48=\"\",\"\",IF('LIMITED RESULTS'!M18=\"\",\"\",'LIMITED RESULTS'!M18))","v":""},"",{"$f":"IF('Entry Information'!$H48=\"\",\"\",IF('Entry Information'!T48=\"\",N17,N17-100))","v":""},"",{"$f":"IF($L17=\"\",\"\",(VLOOKUP($P$41,Worksheet!$A$11:$AE$41,P17+1,FALSE)))","v":""},{"$f":"IF('Entry Information'!$H48=\"\",\"\",'LIMITED RESULTS'!R18)","v":""},{"$f":"IF('Entry Information'!$H48=\"\",\"\",IF('LIMITED RESULTS'!S18=\"\",\"\",'LIMITED RESULTS'!S18))","v":""},"",{"$f":"IF('Entry Information'!$H48=\"\",\"\",IF('Entry Information'!V48=\"\",T17,T17-100))","v":""},"",{"$f":"IF($R17=\"\",\"\",(VLOOKUP($V$41,Worksheet!$A$11:$AE$41,V17+1,FALSE)))","v":""},{"$f":"IF('Entry Information'!$H48=\"\",\"\",'LIMITED RESULTS'!X18)","v":""},{"$f":"IF('Entry Information'!$H48=\"\",\"\",IF('LIMITED RESULTS'!Y18=\"\",\"\",'LIMITED RESULTS'!Y18))","v":""},"",{"$f":"IF('Entry Information'!$H48=\"\",\"\",IF('Entry Information'!X48=\"\",Z17,Z17-100))","v":""},"",{"$f":"IF($X17=\"\",\"\",(VLOOKUP($AB$41,Worksheet!$A$11:$AE$41,AB17+1,FALSE)))","v":""},{"$f":"IF('Entry Information'!$H48=\"\",\"\",'LIMITED RESULTS'!AD18)","v":""},{"$f":"IF('Entry Information'!$H48=\"\",\"\",IF('LIMITED RESULTS'!AE18=\"\",\"\",'LIMITED RESULTS'!AE18))","v":""},"",{"$f":"IF('Entry Information'!$H48=\"\",\"\",IF('Entry Information'!Z48=\"\",AF17,AF17-100))","v":""},"",{"$f":"IF($AD17=\"\",\"\",(VLOOKUP($AH$41,Worksheet!$A$11:$AE$41,AH17+1,FALSE)))","v":""}]
[{"$f":"IF('Entry Information'!H49=\"\",\"\",'Entry Information'!B49)","v":""},{"$f":"IF('Entry Information'!H49=\"\",\"\",'Entry Information'!C49)","v":""},{"$f":"IF('Entry Information'!H49=\"\",\"\",'Entry Information'!D49)","v":""},{"$f":"IF('Entry Information'!H49=\"\",\"\",'Entry Information'!E49)","v":""},"LIM",{"$f":"IF('Entry Information'!$H49=\"\",\"\",'LIMITED RESULTS'!F19)","v":""},{"$f":"IF('Entry Information'!$H49=\"\",\"\",IF('LIMITED RESULTS'!G19=\"\",\"\",'LIMITED RESULTS'!G19))","v":""},"",{"$f":"IF('Entry Information'!$H49=\"\",\"\",IF('Entry Information'!R49=\"\",H18,H18-100))","v":""},"",{"$f":"IF($F18=\"\",\"\",(VLOOKUP($J$41,Worksheet!$A$11:$AE$41,J18+1,FALSE)))","v":""},{"$f":"IF('Entry Information'!$H49=\"\",\"\",'LIMITED RESULTS'!L19)","v":""},{"$f":"IF('Entry Information'!$H49=\"\",\"\",IF('LIMITED RESULTS'!M19=\"\",\"\",'LIMITED RESULTS'!M19))","v":""},"",{"$f":"IF('Entry Information'!$H49=\"\",\"\",IF('Entry Information'!T49=\"\",N18,N18-100))","v":""},"",{"$f":"IF($L18=\"\",\"\",(VLOOKUP($P$41,Worksheet!$A$11:$AE$41,P18+1,FALSE)))","v":""},{"$f":"IF('Entry Information'!$H49=\"\",\"\",'LIMITED RESULTS'!R19)","v":""},{"$f":"IF('Entry Information'!$H49=\"\",\"\",IF('LIMITED RESULTS'!S19=\"\",\"\",'LIMITED RESULTS'!S19))","v":""},"",{"$f":"IF('Entry Information'!$H49=\"\",\"\",IF('Entry Information'!V49=\"\",T18,T18-100))","v":""},"",{"$f":"IF($R18=\"\",\"\",(VLOOKUP($V$41,Worksheet!$A$11:$AE$41,V18+1,FALSE)))","v":""},{"$f":"IF('Entry Information'!$H49=\"\",\"\",'LIMITED RESULTS'!X19)","v":""},{"$f":"IF('Entry Information'!$H49=\"\",\"\",IF('LIMITED RESULTS'!Y19=\"\",\"\",'LIMITED RESULTS'!Y19))","v":""},"",{"$f":"IF('Entry Information'!$H49=\"\",\"\",IF('Entry Information'!X49=\"\",Z18,Z18-100))","v":""},"",{"$f":"IF($X18=\"\",\"\",(VLOOKUP($AB$41,Worksheet!$A$11:$AE$41,AB18+1,FALSE)))","v":""},{"$f":"IF('Entry Information'!$H49=\"\",\"\",'LIMITED RESULTS'!AD19)","v":""},{"$f":"IF('Entry Information'!$H49=\"\",\"\",IF('LIMITED RESULTS'!AE19=\"\",\"\",'LIMITED RESULTS'!AE19))","v":""},"",{"$f":"IF('Entry Information'!$H49=\"\",\"\",IF('Entry Information'!Z49=\"\",AF18,AF18-100))","v":""},"",{"$f":"IF($AD18=\"\",\"\",(VLOOKUP($AH$41,Worksheet!$A$11:$AE$41,AH18+1,FALSE)))","v":""}]
[{"$f":"IF('Entry Information'!H50=\"\",\"\",'Entry Information'!B50)","v":""},{"$f":"IF('Entry Information'!H50=\"\",\"\",'Entry Information'!C50)","v":""},{"$f":"IF('Entry Information'!H50=\"\",\"\",'Entry Information'!D50)","v":""},{"$f":"IF('Entry Information'!H50=\"\",\"\",'Entry Information'!E50)","v":""},"LIM",{"$f":"IF('Entry Information'!$H50=\"\",\"\",'LIMITED RESULTS'!F20)","v":""},{"$f":"IF('Entry Information'!$H50=\"\",\"\",IF('LIMITED RESULTS'!G20=\"\",\"\",'LIMITED RESULTS'!G20))","v":""},"",{"$f":"IF('Entry Information'!$H50=\"\",\"\",IF('Entry Information'!R50=\"\",H19,H19-100))","v":""},"",{"$f":"IF($F19=\"\",\"\",(VLOOKUP($J$41,Worksheet!$A$11:$AE$41,J19+1,FALSE)))","v":""},{"$f":"IF('Entry Information'!$H50=\"\",\"\",'LIMITED RESULTS'!L20)","v":""},{"$f":"IF('Entry Information'!$H50=\"\",\"\",IF('LIMITED RESULTS'!M20=\"\",\"\",'LIMITED RESULTS'!M20))","v":""},"",{"$f":"IF('Entry Information'!$H50=\"\",\"\",IF('Entry Information'!T50=\"\",N19,N19-100))","v":""},"",{"$f":"IF($L19=\"\",\"\",(VLOOKUP($P$41,Worksheet!$A$11:$AE$41,P19+1,FALSE)))","v":""},{"$f":"IF('Entry Information'!$H50=\"\",\"\",'LIMITED RESULTS'!R20)","v":""},{"$f":"IF('Entry Information'!$H50=\"\",\"\",IF('LIMITED RESULTS'!S20=\"\",\"\",'LIMITED RESULTS'!S20))","v":""},"",{"$f":"IF('Entry Information'!$H50=\"\",\"\",IF('Entry Information'!V50=\"\",T19,T19-100))","v":""},"",{"$f":"IF($R19=\"\",\"\",(VLOOKUP($V$41,Worksheet!$A$11:$AE$41,V19+1,FALSE)))","v":""},{"$f":"IF('Entry Information'!$H50=\"\",\"\",'LIMITED RESULTS'!X20)","v":""},{"$f":"IF('Entry Information'!$H50=\"\",\"\",IF('LIMITED RESULTS'!Y20=\"\",\"\",'LIMITED RESULTS'!Y20))","v":""},"",{"$f":"IF('Entry Information'!$H50=\"\",\"\",IF('Entry Information'!X50=\"\",Z19,Z19-100))","v":""},"",{"$f":"IF($X19=\"\",\"\",(VLOOKUP($AB$41,Worksheet!$A$11:$AE$41,AB19+1,FALSE)))","v":""},{"$f":"IF('Entry Information'!$H50=\"\",\"\",'LIMITED RESULTS'!AD20)","v":""},{"$f":"IF('Entry Information'!$H50=\"\",\"\",IF('LIMITED RESULTS'!AE20=\"\",\"\",'LIMITED RESULTS'!AE20))","v":""},"",{"$f":"IF('Entry Information'!$H50=\"\",\"\",IF('Entry Information'!Z50=\"\",AF19,AF19-100))","v":""},"",{"$f":"IF($AD19=\"\",\"\",(VLOOKUP($AH$41,Worksheet!$A$11:$AE$41,AH19+1,FALSE)))","v":""}]
[{"$f":"IF('Entry Information'!H51=\"\",\"\",'Entry Information'!B51)","v":""},{"$f":"IF('Entry Information'!H51=\"\",\"\",'Entry Information'!C51)","v":""},{"$f":"IF('Entry Information'!H51=\"\",\"\",'Entry Information'!D51)","v":""},{"$f":"IF('Entry Information'!H51=\"\",\"\",'Entry Information'!E51)","v":""},"LIM",{"$f":"IF('Entry Information'!$H51=\"\",\"\",'LIMITED RESULTS'!F21)","v":""},{"$f":"IF('Entry Information'!$H51=\"\",\"\",IF('LIMITED RESULTS'!G21=\"\",\"\",'LIMITED RESULTS'!G21))","v":""},"",{"$f":"IF('Entry Information'!$H51=\"\",\"\",IF('Entry Information'!R51=\"\",H20,H20-100))","v":""},"",{"$f":"IF($F20=\"\",\"\",(VLOOKUP($J$41,Worksheet!$A$11:$AE$41,J20+1,FALSE)))","v":""},{"$f":"IF('Entry Information'!$H51=\"\",\"\",'LIMITED RESULTS'!L21)","v":""},{"$f":"IF('Entry Information'!$H51=\"\",\"\",IF('LIMITED RESULTS'!M21=\"\",\"\",'LIMITED RESULTS'!M21))","v":""},"",{"$f":"IF('Entry Information'!$H51=\"\",\"\",IF('Entry Information'!T51=\"\",N20,N20-100))","v":""},"",{"$f":"IF($L20=\"\",\"\",(VLOOKUP($P$41,Worksheet!$A$11:$AE$41,P20+1,FALSE)))","v":""},{"$f":"IF('Entry Information'!$H51=\"\",\"\",'LIMITED RESULTS'!R21)","v":""},{"$f":"IF('Entry Information'!$H51=\"\",\"\",IF('LIMITED RESULTS'!S21=\"\",\"\",'LIMITED RESULTS'!S21))","v":""},"",{"$f":"IF('Entry Information'!$H51=\"\",\"\",IF('Entry Information'!V51=\"\",T20,T20-100))","v":""},"",{"$f":"IF($R20=\"\",\"\",(VLOOKUP($V$41,Worksheet!$A$11:$AE$41,V20+1,FALSE)))","v":""},{"$f":"IF('Entry Information'!$H51=\"\",\"\",'LIMITED RESULTS'!X21)","v":""},{"$f":"IF('Entry Information'!$H51=\"\",\"\",IF('LIMITED RESULTS'!Y21=\"\",\"\",'LIMITED RESULTS'!Y21))","v":""},"",{"$f":"IF('Entry Information'!$H51=\"\",\"\",IF('Entry Information'!X51=\"\",Z20,Z20-100))","v":""},"",{"$f":"IF($X20=\"\",\"\",(VLOOKUP($AB$41,Worksheet!$A$11:$AE$41,AB20+1,FALSE)))","v":""},{"$f":"IF('Entry Information'!$H51=\"\",\"\",'LIMITED RESULTS'!AD21)","v":""},{"$f":"IF('Entry Information'!$H51=\"\",\"\",IF('LIMITED RESULTS'!AE21=\"\",\"\",'LIMITED RESULTS'!AE21))","v":""},"",{"$f":"IF('Entry Information'!$H51=\"\",\"\",IF('Entry Information'!Z51=\"\",AF20,AF20-100))","v":""},"",{"$f":"IF($AD20=\"\",\"\",(VLOOKUP($AH$41,Worksheet!$A$11:$AE$41,AH20+1,FALSE)))","v":""}]
[{"$f":"IF('Entry Information'!H52=\"\",\"\",'Entry Information'!B52)","v":""},{"$f":"IF('Entry Information'!H52=\"\",\"\",'Entry Information'!C52)","v":""},{"$f":"IF('Entry Information'!H52=\"\",\"\",'Entry Information'!D52)","v":""},{"$f":"IF('Entry Information'!H52=\"\",\"\",'Entry Information'!E52)","v":""},"LIM",{"$f":"IF('Entry Information'!$H52=\"\",\"\",'LIMITED RESULTS'!F22)","v":""},{"$f":"IF('Entry Information'!$H52=\"\",\"\",IF('LIMITED RESULTS'!G22=\"\",\"\",'LIMITED RESULTS'!G22))","v":""},"",{"$f":"IF('Entry Information'!$H52=\"\",\"\",IF('Entry Information'!R52=\"\",H21,H21-100))","v":""},"",{"$f":"IF($F21=\"\",\"\",(VLOOKUP($J$41,Worksheet!$A$11:$AE$41,J21+1,FALSE)))","v":""},{"$f":"IF('Entry Information'!$H52=\"\",\"\",'LIMITED RESULTS'!L22)","v":""},{"$f":"IF('Entry Information'!$H52=\"\",\"\",IF('LIMITED RESULTS'!M22=\"\",\"\",'LIMITED RESULTS'!M22))","v":""},"",{"$f":"IF('Entry Information'!$H52=\"\",\"\",IF('Entry Information'!T52=\"\",N21,N21-100))","v":""},"",{"$f":"IF($L21=\"\",\"\",(VLOOKUP($P$41,Worksheet!$A$11:$AE$41,P21+1,FALSE)))","v":""},{"$f":"IF('Entry Information'!$H52=\"\",\"\",'LIMITED RESULTS'!R22)","v":""},{"$f":"IF('Entry Information'!$H52=\"\",\"\",IF('LIMITED RESULTS'!S22=\"\",\"\",'LIMITED RESULTS'!S22))","v":""},"",{"$f":"IF('Entry Information'!$H52=\"\",\"\",IF('Entry Information'!V52=\"\",T21,T21-100))","v":""},"",{"$f":"IF($R21=\"\",\"\",(VLOOKUP($V$41,Worksheet!$A$11:$AE$41,V21+1,FALSE)))","v":""},{"$f":"IF('Entry Information'!$H52=\"\",\"\",'LIMITED RESULTS'!X22)","v":""},{"$f":"IF('Entry Information'!$H52=\"\",\"\",IF('LIMITED RESULTS'!Y22=\"\",\"\",'LIMITED RESULTS'!Y22))","v":""},"",{"$f":"IF('Entry Information'!$H52=\"\",\"\",IF('Entry Information'!X52=\"\",Z21,Z21-100))","v":""},"",{"$f":"IF($X21=\"\",\"\",(VLOOKUP($AB$41,Worksheet!$A$11:$AE$41,AB21+1,FALSE)))","v":""},{"$f":"IF('Entry Information'!$H52=\"\",\"\",'LIMITED RESULTS'!AD22)","v":""},{"$f":"IF('Entry Information'!$H52=\"\",\"\",IF('LIMITED RESULTS'!AE22=\"\",\"\",'LIMITED RESULTS'!AE22))","v":""},"",{"$f":"IF('Entry Information'!$H52=\"\",\"\",IF('Entry Information'!Z52=\"\",AF21,AF21-100))","v":""},"",{"$f":"IF($AD21=\"\",\"\",(VLOOKUP($AH$41,Worksheet!$A$11:$AE$41,AH21+1,FALSE)))","v":""}]
[{"$f":"IF('Entry Information'!H53=\"\",\"\",'Entry Information'!B53)","v":""},{"$f":"IF('Entry Information'!H53=\"\",\"\",'Entry Information'!C53)","v":""},{"$f":"IF('Entry Information'!H53=\"\",\"\",'Entry Information'!D53)","v":""},{"$f":"IF('Entry Information'!H53=\"\",\"\",'Entry Information'!E53)","v":""},"LIM",{"$f":"IF('Entry Information'!$H53=\"\",\"\",'LIMITED RESULTS'!F23)","v":""},{"$f":"IF('Entry Information'!$H53=\"\",\"\",IF('LIMITED RESULTS'!G23=\"\",\"\",'LIMITED RESULTS'!G23))","v":""},"",{"$f":"IF('Entry Information'!$H53=\"\",\"\",IF('Entry Information'!R53=\"\",H22,H22-100))","v":""},"",{"$f":"IF($F22=\"\",\"\",(VLOOKUP($J$41,Worksheet!$A$11:$AE$41,J22+1,FALSE)))","v":""},{"$f":"IF('Entry Information'!$H53=\"\",\"\",'LIMITED RESULTS'!L23)","v":""},{"$f":"IF('Entry Information'!$H53=\"\",\"\",IF('LIMITED RESULTS'!M23=\"\",\"\",'LIMITED RESULTS'!M23))","v":""},"",{"$f":"IF('Entry Information'!$H53=\"\",\"\",IF('Entry Information'!T53=\"\",N22,N22-100))","v":""},"",{"$f":"IF($L22=\"\",\"\",(VLOOKUP($P$41,Worksheet!$A$11:$AE$41,P22+1,FALSE)))","v":""},{"$f":"IF('Entry Information'!$H53=\"\",\"\",'LIMITED RESULTS'!R23)","v":""},{"$f":"IF('Entry Information'!$H53=\"\",\"\",IF('LIMITED RESULTS'!S23=\"\",\"\",'LIMITED RESULTS'!S23))","v":""},"",{"$f":"IF('Entry Information'!$H53=\"\",\"\",IF('Entry Information'!V53=\"\",T22,T22-100))","v":""},"",{"$f":"IF($R22=\"\",\"\",(VLOOKUP($V$41,Worksheet!$A$11:$AE$41,V22+1,FALSE)))","v":""},{"$f":"IF('Entry Information'!$H53=\"\",\"\",'LIMITED RESULTS'!X23)","v":""},{"$f":"IF('Entry Information'!$H53=\"\",\"\",IF('LIMITED RESULTS'!Y23=\"\",\"\",'LIMITED RESULTS'!Y23))","v":""},"",{"$f":"IF('Entry Information'!$H53=\"\",\"\",IF('Entry Information'!X53=\"\",Z22,Z22-100))","v":""},"",{"$f":"IF($X22=\"\",\"\",(VLOOKUP($AB$41,Worksheet!$A$11:$AE$41,AB22+1,FALSE)))","v":""},{"$f":"IF('Entry Information'!$H53=\"\",\"\",'LIMITED RESULTS'!AD23)","v":""},{"$f":"IF('Entry Information'!$H53=\"\",\"\",IF('LIMITED RESULTS'!AE23=\"\",\"\",'LIMITED RESULTS'!AE23))","v":""},"",{"$f":"IF('Entry Information'!$H53=\"\",\"\",IF('Entry Information'!Z53=\"\",AF22,AF22-100))","v":""},"",{"$f":"IF($AD22=\"\",\"\",(VLOOKUP($AH$41,Worksheet!$A$11:$AE$41,AH22+1,FALSE)))","v":""}]
[{"$f":"IF('Entry Information'!H54=\"\",\"\",'Entry Information'!B54)","v":""},{"$f":"IF('Entry Information'!H54=\"\",\"\",'Entry Information'!C54)","v":""},{"$f":"IF('Entry Information'!H54=\"\",\"\",'Entry Information'!D54)","v":""},{"$f":"IF('Entry Information'!H54=\"\",\"\",'Entry Information'!E54)","v":""},"LIM",{"$f":"IF('Entry Information'!$H54=\"\",\"\",'LIMITED RESULTS'!F24)","v":""},{"$f":"IF('Entry Information'!$H54=\"\",\"\",IF('LIMITED RESULTS'!G24=\"\",\"\",'LIMITED RESULTS'!G24))","v":""},"",{"$f":"IF('Entry Information'!$H54=\"\",\"\",IF('Entry Information'!R54=\"\",H23,H23-100))","v":""},"",{"$f":"IF($F23=\"\",\"\",(VLOOKUP($J$41,Worksheet!$A$11:$AE$41,J23+1,FALSE)))","v":""},{"$f":"IF('Entry Information'!$H54=\"\",\"\",'LIMITED RESULTS'!L24)","v":""},{"$f":"IF('Entry Information'!$H54=\"\",\"\",IF('LIMITED RESULTS'!M24=\"\",\"\",'LIMITED RESULTS'!M24))","v":""},"",{"$f":"IF('Entry Information'!$H54=\"\",\"\",IF('Entry Information'!T54=\"\",N23,N23-100))","v":""},"",{"$f":"IF($L23=\"\",\"\",(VLOOKUP($P$41,Worksheet!$A$11:$AE$41,P23+1,FALSE)))","v":""},{"$f":"IF('Entry Information'!$H54=\"\",\"\",'LIMITED RESULTS'!R24)","v":""},{"$f":"IF('Entry Information'!$H54=\"\",\"\",IF('LIMITED RESULTS'!S24=\"\",\"\",'LIMITED RESULTS'!S24))","v":""},"",{"$f":"IF('Entry Information'!$H54=\"\",\"\",IF('Entry Information'!V54=\"\",T23,T23-100))","v":""},"",{"$f":"IF($R23=\"\",\"\",(VLOOKUP($V$41,Worksheet!$A$11:$AE$41,V23+1,FALSE)))","v":""},{"$f":"IF('Entry Information'!$H54=\"\",\"\",'LIMITED RESULTS'!X24)","v":""},{"$f":"IF('Entry Information'!$H54=\"\",\"\",IF('LIMITED RESULTS'!Y24=\"\",\"\",'LIMITED RESULTS'!Y24))","v":""},"",{"$f":"IF('Entry Information'!$H54=\"\",\"\",IF('Entry Information'!X54=\"\",Z23,Z23-100))","v":""},"",{"$f":"IF($X23=\"\",\"\",(VLOOKUP($AB$41,Worksheet!$A$11:$AE$41,AB23+1,FALSE)))","v":""},{"$f":"IF('Entry Information'!$H54=\"\",\"\",'LIMITED RESULTS'!AD24)","v":""},{"$f":"IF('Entry Information'!$H54=\"\",\"\",IF('LIMITED RESULTS'!AE24=\"\",\"\",'LIMITED RESULTS'!AE24))","v":""},"",{"$f":"IF('Entry Information'!$H54=\"\",\"\",IF('Entry Information'!Z54=\"\",AF23,AF23-100))","v":""},"",{"$f":"IF($AD23=\"\",\"\",(VLOOKUP($AH$41,Worksheet!$A$11:$AE$41,AH23+1,FALSE)))","v":""}]
[{"$f":"IF('Entry Information'!H55=\"\",\"\",'Entry Information'!B55)","v":""},{"$f":"IF('Entry Information'!H55=\"\",\"\",'Entry Information'!C55)","v":""},{"$f":"IF('Entry Information'!H55=\"\",\"\",'Entry Information'!D55)","v":""},{"$f":"IF('Entry Information'!H55=\"\",\"\",'Entry Information'!E55)","v":""},"LIM",{"$f":"IF('Entry Information'!$H55=\"\",\"\",'LIMITED RESULTS'!F25)","v":""},{"$f":"IF('Entry Information'!$H55=\"\",\"\",IF('LIMITED RESULTS'!G25=\"\",\"\",'LIMITED RESULTS'!G25))","v":""},"",{"$f":"IF('Entry Information'!$H55=\"\",\"\",IF('Entry Information'!R55=\"\",H24,H24-100))","v":""},"",{"$f":"IF($F24=\"\",\"\",(VLOOKUP($J$41,Worksheet!$A$11:$AE$41,J24+1,FALSE)))","v":""},{"$f":"IF('Entry Information'!$H55=\"\",\"\",'LIMITED RESULTS'!L25)","v":""},{"$f":"IF('Entry Information'!$H55=\"\",\"\",IF('LIMITED RESULTS'!M25=\"\",\"\",'LIMITED RESULTS'!M25))","v":""},"",{"$f":"IF('Entry Information'!$H55=\"\",\"\",IF('Entry Information'!T55=\"\",N24,N24-100))","v":""},"",{"$f":"IF($L24=\"\",\"\",(VLOOKUP($P$41,Worksheet!$A$11:$AE$41,P24+1,FALSE)))","v":""},{"$f":"IF('Entry Information'!$H55=\"\",\"\",'LIMITED RESULTS'!R25)","v":""},{"$f":"IF('Entry Information'!$H55=\"\",\"\",IF('LIMITED RESULTS'!S25=\"\",\"\",'LIMITED RESULTS'!S25))","v":""},"",{"$f":"IF('Entry Information'!$H55=\"\",\"\",IF('Entry Information'!V55=\"\",T24,T24-100))","v":""},"",{"$f":"IF($R24=\"\",\"\",(VLOOKUP($V$41,Worksheet!$A$11:$AE$41,V24+1,FALSE)))","v":""},{"$f":"IF('Entry Information'!$H55=\"\",\"\",'LIMITED RESULTS'!X25)","v":""},{"$f":"IF('Entry Information'!$H55=\"\",\"\",IF('LIMITED RESULTS'!Y25=\"\",\"\",'LIMITED RESULTS'!Y25))","v":""},"",{"$f":"IF('Entry Information'!$H55=\"\",\"\",IF('Entry Information'!X55=\"\",Z24,Z24-100))","v":""},"",{"$f":"IF($X24=\"\",\"\",(VLOOKUP($AB$41,Worksheet!$A$11:$AE$41,AB24+1,FALSE)))","v":""},{"$f":"IF('Entry Information'!$H55=\"\",\"\",'LIMITED RESULTS'!AD25)","v":""},{"$f":"IF('Entry Information'!$H55=\"\",\"\",IF('LIMITED RESULTS'!AE25=\"\",\"\",'LIMITED RESULTS'!AE25))","v":""},"",{"$f":"IF('Entry Information'!$H55=\"\",\"\",IF('Entry Information'!Z55=\"\",AF24,AF24-100))","v":""},"",{"$f":"IF($AD24=\"\",\"\",(VLOOKUP($AH$41,Worksheet!$A$11:$AE$41,AH24+1,FALSE)))","v":""}]
[{"$f":"IF('Entry Information'!H56=\"\",\"\",'Entry Information'!B56)","v":""},{"$f":"IF('Entry Information'!H56=\"\",\"\",'Entry Information'!C56)","v":""},{"$f":"IF('Entry Information'!H56=\"\",\"\",'Entry Information'!D56)","v":""},{"$f":"IF('Entry Information'!H56=\"\",\"\",'Entry Information'!E56)","v":""},"LIM",{"$f":"IF('Entry Information'!$H56=\"\",\"\",'LIMITED RESULTS'!F26)","v":""},{"$f":"IF('Entry Information'!$H56=\"\",\"\",IF('LIMITED RESULTS'!G26=\"\",\"\",'LIMITED RESULTS'!G26))","v":""},"",{"$f":"IF('Entry Information'!$H56=\"\",\"\",IF('Entry Information'!R56=\"\",H25,H25-100))","v":""},"",{"$f":"IF($F25=\"\",\"\",(VLOOKUP($J$41,Worksheet!$A$11:$AE$41,J25+1,FALSE)))","v":""},{"$f":"IF('Entry Information'!$H56=\"\",\"\",'LIMITED RESULTS'!L26)","v":""},{"$f":"IF('Entry Information'!$H56=\"\",\"\",IF('LIMITED RESULTS'!M26=\"\",\"\",'LIMITED RESULTS'!M26))","v":""},"",{"$f":"IF('Entry Information'!$H56=\"\",\"\",IF('Entry Information'!T56=\"\",N25,N25-100))","v":""},"",{"$f":"IF($L25=\"\",\"\",(VLOOKUP($P$41,Worksheet!$A$11:$AE$41,P25+1,FALSE)))","v":""},{"$f":"IF('Entry Information'!$H56=\"\",\"\",'LIMITED RESULTS'!R26)","v":""},{"$f":"IF('Entry Information'!$H56=\"\",\"\",IF('LIMITED RESULTS'!S26=\"\",\"\",'LIMITED RESULTS'!S26))","v":""},"",{"$f":"IF('Entry Information'!$H56=\"\",\"\",IF('Entry Information'!V56=\"\",T25,T25-100))","v":""},"",{"$f":"IF($R25=\"\",\"\",(VLOOKUP($V$41,Worksheet!$A$11:$AE$41,V25+1,FALSE)))","v":""},{"$f":"IF('Entry Information'!$H56=\"\",\"\",'LIMITED RESULTS'!X26)","v":""},{"$f":"IF('Entry Information'!$H56=\"\",\"\",IF('LIMITED RESULTS'!Y26=\"\",\"\",'LIMITED RESULTS'!Y26))","v":""},"",{"$f":"IF('Entry Information'!$H56=\"\",\"\",IF('Entry Information'!X56=\"\",Z25,Z25-100))","v":""},"",{"$f":"IF($X25=\"\",\"\",(VLOOKUP($AB$41,Worksheet!$A$11:$AE$41,AB25+1,FALSE)))","v":""},{"$f":"IF('Entry Information'!$H56=\"\",\"\",'LIMITED RESULTS'!AD26)","v":""},{"$f":"IF('Entry Information'!$H56=\"\",\"\",IF('LIMITED RESULTS'!AE26=\"\",\"\",'LIMITED RESULTS'!AE26))","v":""},"",{"$f":"IF('Entry Information'!$H56=\"\",\"\",IF('Entry Information'!Z56=\"\",AF25,AF25-100))","v":""},"",{"$f":"IF($AD25=\"\",\"\",(VLOOKUP($AH$41,Worksheet!$A$11:$AE$41,AH25+1,FALSE)))","v":""}]
[{"$f":"IF('Entry Information'!H57=\"\",\"\",'Entry Information'!B57)","v":""},{"$f":"IF('Entry Information'!H57=\"\",\"\",'Entry Information'!C57)","v":""},{"$f":"IF('Entry Information'!H57=\"\",\"\",'Entry Information'!D57)","v":""},{"$f":"IF('Entry Information'!H57=\"\",\"\",'Entry Information'!E57)","v":""},"LIM",{"$f":"IF('Entry Information'!$H57=\"\",\"\",'LIMITED RESULTS'!F27)","v":""},{"$f":"IF('Entry Information'!$H57=\"\",\"\",IF('LIMITED RESULTS'!G27=\"\",\"\",'LIMITED RESULTS'!G27))","v":""},"",{"$f":"IF('Entry Information'!$H57=\"\",\"\",IF('Entry Information'!R57=\"\",H26,H26-100))","v":""},"",{"$f":"IF($F26=\"\",\"\",(VLOOKUP($J$41,Worksheet!$A$11:$AE$41,J26+1,FALSE)))","v":""},{"$f":"IF('Entry Information'!$H57=\"\",\"\",'LIMITED RESULTS'!L27)","v":""},{"$f":"IF('Entry Information'!$H57=\"\",\"\",IF('LIMITED RESULTS'!M27=\"\",\"\",'LIMITED RESULTS'!M27))","v":""},"",{"$f":"IF('Entry Information'!$H57=\"\",\"\",IF('Entry Information'!T57=\"\",N26,N26-100))","v":""},"",{"$f":"IF($L26=\"\",\"\",(VLOOKUP($P$41,Worksheet!$A$11:$AE$41,P26+1,FALSE)))","v":""},{"$f":"IF('Entry Information'!$H57=\"\",\"\",'LIMITED RESULTS'!R27)","v":""},{"$f":"IF('Entry Information'!$H57=\"\",\"\",IF('LIMITED RESULTS'!S27=\"\",\"\",'LIMITED RESULTS'!S27))","v":""},"",{"$f":"IF('Entry Information'!$H57=\"\",\"\",IF('Entry Information'!V57=\"\",T26,T26-100))","v":""},"",{"$f":"IF($R26=\"\",\"\",(VLOOKUP($V$41,Worksheet!$A$11:$AE$41,V26+1,FALSE)))","v":""},{"$f":"IF('Entry Information'!$H57=\"\",\"\",'LIMITED RESULTS'!X27)","v":""},{"$f":"IF('Entry Information'!$H57=\"\",\"\",IF('LIMITED RESULTS'!Y27=\"\",\"\",'LIMITED RESULTS'!Y27))","v":""},"",{"$f":"IF('Entry Information'!$H57=\"\",\"\",IF('Entry Information'!X57=\"\",Z26,Z26-100))","v":""},"",{"$f":"IF($X26=\"\",\"\",(VLOOKUP($AB$41,Worksheet!$A$11:$AE$41,AB26+1,FALSE)))","v":""},{"$f":"IF('Entry Information'!$H57=\"\",\"\",'LIMITED RESULTS'!AD27)","v":""},{"$f":"IF('Entry Information'!$H57=\"\",\"\",IF('LIMITED RESULTS'!AE27=\"\",\"\",'LIMITED RESULTS'!AE27))","v":""},"",{"$f":"IF('Entry Information'!$H57=\"\",\"\",IF('Entry Information'!Z57=\"\",AF26,AF26-100))","v":""},"",{"$f":"IF($AD26=\"\",\"\",(VLOOKUP($AH$41,Worksheet!$A$11:$AE$41,AH26+1,FALSE)))","v":""}]
[{"$f":"IF('Entry Information'!H58=\"\",\"\",'Entry Information'!B58)","v":""},{"$f":"IF('Entry Information'!H58=\"\",\"\",'Entry Information'!C58)","v":""},{"$f":"IF('Entry Information'!H58=\"\",\"\",'Entry Information'!D58)","v":""},{"$f":"IF('Entry Information'!H58=\"\",\"\",'Entry Information'!E58)","v":""},"LIM",{"$f":"IF('Entry Information'!$H58=\"\",\"\",'LIMITED RESULTS'!F28)","v":""},{"$f":"IF('Entry Information'!$H58=\"\",\"\",IF('LIMITED RESULTS'!G28=\"\",\"\",'LIMITED RESULTS'!G28))","v":""},"",{"$f":"IF('Entry Information'!$H58=\"\",\"\",IF('Entry Information'!R58=\"\",H27,H27-100))","v":""},"",{"$f":"IF($F27=\"\",\"\",(VLOOKUP($J$41,Worksheet!$A$11:$AE$41,J27+1,FALSE)))","v":""},{"$f":"IF('Entry Information'!$H58=\"\",\"\",'LIMITED RESULTS'!L28)","v":""},{"$f":"IF('Entry Information'!$H58=\"\",\"\",IF('LIMITED RESULTS'!M28=\"\",\"\",'LIMITED RESULTS'!M28))","v":""},"",{"$f":"IF('Entry Information'!$H58=\"\",\"\",IF('Entry Information'!T58=\"\",N27,N27-100))","v":""},"",{"$f":"IF($L27=\"\",\"\",(VLOOKUP($P$41,Worksheet!$A$11:$AE$41,P27+1,FALSE)))","v":""},{"$f":"IF('Entry Information'!$H58=\"\",\"\",'LIMITED RESULTS'!R28)","v":""},{"$f":"IF('Entry Information'!$H58=\"\",\"\",IF('LIMITED RESULTS'!S28=\"\",\"\",'LIMITED RESULTS'!S28))","v":""},"",{"$f":"IF('Entry Information'!$H58=\"\",\"\",IF('Entry Information'!V58=\"\",T27,T27-100))","v":""},"",{"$f":"IF($R27=\"\",\"\",(VLOOKUP($V$41,Worksheet!$A$11:$AE$41,V27+1,FALSE)))","v":""},{"$f":"IF('Entry Information'!$H58=\"\",\"\",'LIMITED RESULTS'!X28)","v":""},{"$f":"IF('Entry Information'!$H58=\"\",\"\",IF('LIMITED RESULTS'!Y28=\"\",\"\",'LIMITED RESULTS'!Y28))","v":""},"",{"$f":"IF('Entry Information'!$H58=\"\",\"\",IF('Entry Information'!X58=\"\",Z27,Z27-100))","v":""},"",{"$f":"IF($X27=\"\",\"\",(VLOOKUP($AB$41,Worksheet!$A$11:$AE$41,AB27+1,FALSE)))","v":""},{"$f":"IF('Entry Information'!$H58=\"\",\"\",'LIMITED RESULTS'!AD28)","v":""},{"$f":"IF('Entry Information'!$H58=\"\",\"\",IF('LIMITED RESULTS'!AE28=\"\",\"\",'LIMITED RESULTS'!AE28))","v":""},"",{"$f":"IF('Entry Information'!$H58=\"\",\"\",IF('Entry Information'!Z58=\"\",AF27,AF27-100))","v":""},"",{"$f":"IF($AD27=\"\",\"\",(VLOOKUP($AH$41,Worksheet!$A$11:$AE$41,AH27+1,FALSE)))","v":""}]
[{"$f":"IF('Entry Information'!H59=\"\",\"\",'Entry Information'!B59)","v":""},{"$f":"IF('Entry Information'!H59=\"\",\"\",'Entry Information'!C59)","v":""},{"$f":"IF('Entry Information'!H59=\"\",\"\",'Entry Information'!D59)","v":""},{"$f":"IF('Entry Information'!H59=\"\",\"\",'Entry Information'!E59)","v":""},"LIM",{"$f":"IF('Entry Information'!$H59=\"\",\"\",'LIMITED RESULTS'!F29)","v":""},{"$f":"IF('Entry Information'!$H59=\"\",\"\",IF('LIMITED RESULTS'!G29=\"\",\"\",'LIMITED RESULTS'!G29))","v":""},"",{"$f":"IF('Entry Information'!$H59=\"\",\"\",IF('Entry Information'!R59=\"\",H28,H28-100))","v":""},"",{"$f":"IF($F28=\"\",\"\",(VLOOKUP($J$41,Worksheet!$A$11:$AE$41,J28+1,FALSE)))","v":""},{"$f":"IF('Entry Information'!$H59=\"\",\"\",'LIMITED RESULTS'!L29)","v":""},{"$f":"IF('Entry Information'!$H59=\"\",\"\",IF('LIMITED RESULTS'!M29=\"\",\"\",'LIMITED RESULTS'!M29))","v":""},"",{"$f":"IF('Entry Information'!$H59=\"\",\"\",IF('Entry Information'!T59=\"\",N28,N28-100))","v":""},"",{"$f":"IF($L28=\"\",\"\",(VLOOKUP($P$41,Worksheet!$A$11:$AE$41,P28+1,FALSE)))","v":""},{"$f":"IF('Entry Information'!$H59=\"\",\"\",'LIMITED RESULTS'!R29)","v":""},{"$f":"IF('Entry Information'!$H59=\"\",\"\",IF('LIMITED RESULTS'!S29=\"\",\"\",'LIMITED RESULTS'!S29))","v":""},"",{"$f":"IF('Entry Information'!$H59=\"\",\"\",IF('Entry Information'!V59=\"\",T28,T28-100))","v":""},"",{"$f":"IF($R28=\"\",\"\",(VLOOKUP($V$41,Worksheet!$A$11:$AE$41,V28+1,FALSE)))","v":""},{"$f":"IF('Entry Information'!$H59=\"\",\"\",'LIMITED RESULTS'!X29)","v":""},{"$f":"IF('Entry Information'!$H59=\"\",\"\",IF('LIMITED RESULTS'!Y29=\"\",\"\",'LIMITED RESULTS'!Y29))","v":""},"",{"$f":"IF('Entry Information'!$H59=\"\",\"\",IF('Entry Information'!X59=\"\",Z28,Z28-100))","v":""},"",{"$f":"IF($X28=\"\",\"\",(VLOOKUP($AB$41,Worksheet!$A$11:$AE$41,AB28+1,FALSE)))","v":""},{"$f":"IF('Entry Information'!$H59=\"\",\"\",'LIMITED RESULTS'!AD29)","v":""},{"$f":"IF('Entry Information'!$H59=\"\",\"\",IF('LIMITED RESULTS'!AE29=\"\",\"\",'LIMITED RESULTS'!AE29))","v":""},"",{"$f":"IF('Entry Information'!$H59=\"\",\"\",IF('Entry Information'!Z59=\"\",AF28,AF28-100))","v":""},"",{"$f":"IF($AD28=\"\",\"\",(VLOOKUP($AH$41,Worksheet!$A$11:$AE$41,AH28+1,FALSE)))","v":""}]
[{"$f":"IF('Entry Information'!H60=\"\",\"\",'Entry Information'!B60)","v":""},{"$f":"IF('Entry Information'!H60=\"\",\"\",'Entry Information'!C60)","v":""},{"$f":"IF('Entry Information'!H60=\"\",\"\",'Entry Information'!D60)","v":""},{"$f":"IF('Entry Information'!H60=\"\",\"\",'Entry Information'!E60)","v":""},"LIM",{"$f":"IF('Entry Information'!$H60=\"\",\"\",'LIMITED RESULTS'!F30)","v":""},{"$f":"IF('Entry Information'!$H60=\"\",\"\",IF('LIMITED RESULTS'!G30=\"\",\"\",'LIMITED RESULTS'!G30))","v":""},"",{"$f":"IF('Entry Information'!$H60=\"\",\"\",IF('Entry Information'!R60=\"\",H29,H29-100))","v":""},"",{"$f":"IF($F29=\"\",\"\",(VLOOKUP($J$41,Worksheet!$A$11:$AE$41,J29+1,FALSE)))","v":""},{"$f":"IF('Entry Information'!$H60=\"\",\"\",'LIMITED RESULTS'!L30)","v":""},{"$f":"IF('Entry Information'!$H60=\"\",\"\",IF('LIMITED RESULTS'!M30=\"\",\"\",'LIMITED RESULTS'!M30))","v":""},"",{"$f":"IF('Entry Information'!$H60=\"\",\"\",IF('Entry Information'!T60=\"\",N29,N29-100))","v":""},"",{"$f":"IF($L29=\"\",\"\",(VLOOKUP($P$41,Worksheet!$A$11:$AE$41,P29+1,FALSE)))","v":""},{"$f":"IF('Entry Information'!$H60=\"\",\"\",'LIMITED RESULTS'!R30)","v":""},{"$f":"IF('Entry Information'!$H60=\"\",\"\",IF('LIMITED RESULTS'!S30=\"\",\"\",'LIMITED RESULTS'!S30))","v":""},"",{"$f":"IF('Entry Information'!$H60=\"\",\"\",IF('Entry Information'!V60=\"\",T29,T29-100))","v":""},"",{"$f":"IF($R29=\"\",\"\",(VLOOKUP($V$41,Worksheet!$A$11:$AE$41,V29+1,FALSE)))","v":""},{"$f":"IF('Entry Information'!$H60=\"\",\"\",'LIMITED RESULTS'!X30)","v":""},{"$f":"IF('Entry Information'!$H60=\"\",\"\",IF('LIMITED RESULTS'!Y30=\"\",\"\",'LIMITED RESULTS'!Y30))","v":""},"",{"$f":"IF('Entry Information'!$H60=\"\",\"\",IF('Entry Information'!X60=\"\",Z29,Z29-100))","v":""},"",{"$f":"IF($X29=\"\",\"\",(VLOOKUP($AB$41,Worksheet!$A$11:$AE$41,AB29+1,FALSE)))","v":""},{"$f":"IF('Entry Information'!$H60=\"\",\"\",'LIMITED RESULTS'!AD30)","v":""},{"$f":"IF('Entry Information'!$H60=\"\",\"\",IF('LIMITED RESULTS'!AE30=\"\",\"\",'LIMITED RESULTS'!AE30))","v":""},"",{"$f":"IF('Entry Information'!$H60=\"\",\"\",IF('Entry Information'!Z60=\"\",AF29,AF29-100))","v":""},"",{"$f":"IF($AD29=\"\",\"\",(VLOOKUP($AH$41,Worksheet!$A$11:$AE$41,AH29+1,FALSE)))","v":""}]
[{"$f":"IF('Entry Information'!H61=\"\",\"\",'Entry Information'!B61)","v":""},{"$f":"IF('Entry Information'!H61=\"\",\"\",'Entry Information'!C61)","v":""},{"$f":"IF('Entry Information'!H61=\"\",\"\",'Entry Information'!D61)","v":""},{"$f":"IF('Entry Information'!H61=\"\",\"\",'Entry Information'!E61)","v":""},"LIM",{"$f":"IF('Entry Information'!$H61=\"\",\"\",'LIMITED RESULTS'!F31)","v":""},{"$f":"IF('Entry Information'!$H61=\"\",\"\",IF('LIMITED RESULTS'!G31=\"\",\"\",'LIMITED RESULTS'!G31))","v":""},"",{"$f":"IF('Entry Information'!$H61=\"\",\"\",IF('Entry Information'!R61=\"\",H30,H30-100))","v":""},"",{"$f":"IF($F30=\"\",\"\",(VLOOKUP($J$41,Worksheet!$A$11:$AE$41,J30+1,FALSE)))","v":""},{"$f":"IF('Entry Information'!$H61=\"\",\"\",'LIMITED RESULTS'!L31)","v":""},{"$f":"IF('Entry Information'!$H61=\"\",\"\",IF('LIMITED RESULTS'!M31=\"\",\"\",'LIMITED RESULTS'!M31))","v":""},"",{"$f":"IF('Entry Information'!$H61=\"\",\"\",IF('Entry Information'!T61=\"\",N30,N30-100))","v":""},"",{"$f":"IF($L30=\"\",\"\",(VLOOKUP($P$41,Worksheet!$A$11:$AE$41,P30+1,FALSE)))","v":""},{"$f":"IF('Entry Information'!$H61=\"\",\"\",'LIMITED RESULTS'!R31)","v":""},{"$f":"IF('Entry Information'!$H61=\"\",\"\",IF('LIMITED RESULTS'!S31=\"\",\"\",'LIMITED RESULTS'!S31))","v":""},"",{"$f":"IF('Entry Information'!$H61=\"\",\"\",IF('Entry Information'!V61=\"\",T30,T30-100))","v":""},"",{"$f":"IF($R30=\"\",\"\",(VLOOKUP($V$41,Worksheet!$A$11:$AE$41,V30+1,FALSE)))","v":""},{"$f":"IF('Entry Information'!$H61=\"\",\"\",'LIMITED RESULTS'!X31)","v":""},{"$f":"IF('Entry Information'!$H61=\"\",\"\",IF('LIMITED RESULTS'!Y31=\"\",\"\",'LIMITED RESULTS'!Y31))","v":""},"",{"$f":"IF('Entry Information'!$H61=\"\",\"\",IF('Entry Information'!X61=\"\",Z30,Z30-100))","v":""},"",{"$f":"IF($X30=\"\",\"\",(VLOOKUP($AB$41,Worksheet!$A$11:$AE$41,AB30+1,FALSE)))","v":""},{"$f":"IF('Entry Information'!$H61=\"\",\"\",'LIMITED RESULTS'!AD31)","v":""},{"$f":"IF('Entry Information'!$H61=\"\",\"\",IF('LIMITED RESULTS'!AE31=\"\",\"\",'LIMITED RESULTS'!AE31))","v":""},"",{"$f":"IF('Entry Information'!$H61=\"\",\"\",IF('Entry Information'!Z61=\"\",AF30,AF30-100))","v":""},"",{"$f":"IF($AD30=\"\",\"\",(VLOOKUP($AH$41,Worksheet!$A$11:$AE$41,AH30+1,FALSE)))","v":""}]
[{"$f":"IF('Entry Information'!H62=\"\",\"\",'Entry Information'!B62)","v":""},{"$f":"IF('Entry Information'!H62=\"\",\"\",'Entry Information'!C62)","v":""},{"$f":"IF('Entry Information'!H62=\"\",\"\",'Entry Information'!D62)","v":""},{"$f":"IF('Entry Information'!H62=\"\",\"\",'Entry Information'!E62)","v":""},"LIM",{"$f":"IF('Entry Information'!$H62=\"\",\"\",'LIMITED RESULTS'!F32)","v":""},{"$f":"IF('Entry Information'!$H62=\"\",\"\",IF('LIMITED RESULTS'!G32=\"\",\"\",'LIMITED RESULTS'!G32))","v":""},"",{"$f":"IF('Entry Information'!$H62=\"\",\"\",IF('Entry Information'!R62=\"\",H31,H31-100))","v":""},"",{"$f":"IF($F31=\"\",\"\",(VLOOKUP($J$41,Worksheet!$A$11:$AE$41,J31+1,FALSE)))","v":""},{"$f":"IF('Entry Information'!$H62=\"\",\"\",'LIMITED RESULTS'!L32)","v":""},{"$f":"IF('Entry Information'!$H62=\"\",\"\",IF('LIMITED RESULTS'!M32=\"\",\"\",'LIMITED RESULTS'!M32))","v":""},"",{"$f":"IF('Entry Information'!$H62=\"\",\"\",IF('Entry Information'!T62=\"\",N31,N31-100))","v":""},"",{"$f":"IF($L31=\"\",\"\",(VLOOKUP($P$41,Worksheet!$A$11:$AE$41,P31+1,FALSE)))","v":""},{"$f":"IF('Entry Information'!$H62=\"\",\"\",'LIMITED RESULTS'!R32)","v":""},{"$f":"IF('Entry Information'!$H62=\"\",\"\",IF('LIMITED RESULTS'!S32=\"\",\"\",'LIMITED RESULTS'!S32))","v":""},"",{"$f":"IF('Entry Information'!$H62=\"\",\"\",IF('Entry Information'!V62=\"\",T31,T31-100))","v":""},"",{"$f":"IF($R31=\"\",\"\",(VLOOKUP($V$41,Worksheet!$A$11:$AE$41,V31+1,FALSE)))","v":""},{"$f":"IF('Entry Information'!$H62=\"\",\"\",'LIMITED RESULTS'!X32)","v":""},{"$f":"IF('Entry Information'!$H62=\"\",\"\",IF('LIMITED RESULTS'!Y32=\"\",\"\",'LIMITED RESULTS'!Y32))","v":""},"",{"$f":"IF('Entry Information'!$H62=\"\",\"\",IF('Entry Information'!X62=\"\",Z31,Z31-100))","v":""},"",{"$f":"IF($X31=\"\",\"\",(VLOOKUP($AB$41,Worksheet!$A$11:$AE$41,AB31+1,FALSE)))","v":""},{"$f":"IF('Entry Information'!$H62=\"\",\"\",'LIMITED RESULTS'!AD32)","v":""},{"$f":"IF('Entry Information'!$H62=\"\",\"\",IF('LIMITED RESULTS'!AE32=\"\",\"\",'LIMITED RESULTS'!AE32))","v":""},"",{"$f":"IF('Entry Information'!$H62=\"\",\"\",IF('Entry Information'!Z62=\"\",AF31,AF31-100))","v":""},"",{"$f":"IF($AD31=\"\",\"\",(VLOOKUP($AH$41,Worksheet!$A$11:$AE$41,AH31+1,FALSE)))","v":""}]
[{"$f":"IF('Entry Information'!H63=\"\",\"\",'Entry Information'!B63)","v":""},{"$f":"IF('Entry Information'!H63=\"\",\"\",'Entry Information'!C63)","v":""},{"$f":"IF('Entry Information'!H63=\"\",\"\",'Entry Information'!D63)","v":""},{"$f":"IF('Entry Information'!H63=\"\",\"\",'Entry Information'!E63)","v":""},"LIM",{"$f":"IF('Entry Information'!$H63=\"\",\"\",'LIMITED RESULTS'!F33)","v":""},{"$f":"IF('Entry Information'!$H63=\"\",\"\",IF('LIMITED RESULTS'!G33=\"\",\"\",'LIMITED RESULTS'!G33))","v":""},"",{"$f":"IF('Entry Information'!$H63=\"\",\"\",IF('Entry Information'!R63=\"\",H32,H32-100))","v":""},"",{"$f":"IF($F32=\"\",\"\",(VLOOKUP($J$41,Worksheet!$A$11:$AE$41,J32+1,FALSE)))","v":""},{"$f":"IF('Entry Information'!$H63=\"\",\"\",'LIMITED RESULTS'!L33)","v":""},{"$f":"IF('Entry Information'!$H63=\"\",\"\",IF('LIMITED RESULTS'!M33=\"\",\"\",'LIMITED RESULTS'!M33))","v":""},"",{"$f":"IF('Entry Information'!$H63=\"\",\"\",IF('Entry Information'!T63=\"\",N32,N32-100))","v":""},"",{"$f":"IF($L32=\"\",\"\",(VLOOKUP($P$41,Worksheet!$A$11:$AE$41,P32+1,FALSE)))","v":""},{"$f":"IF('Entry Information'!$H63=\"\",\"\",'LIMITED RESULTS'!R33)","v":""},{"$f":"IF('Entry Information'!$H63=\"\",\"\",IF('LIMITED RESULTS'!S33=\"\",\"\",'LIMITED RESULTS'!S33))","v":""},"",{"$f":"IF('Entry Information'!$H63=\"\",\"\",IF('Entry Information'!V63=\"\",T32,T32-100))","v":""},"",{"$f":"IF($R32=\"\",\"\",(VLOOKUP($V$41,Worksheet!$A$11:$AE$41,V32+1,FALSE)))","v":""},{"$f":"IF('Entry Information'!$H63=\"\",\"\",'LIMITED RESULTS'!X33)","v":""},{"$f":"IF('Entry Information'!$H63=\"\",\"\",IF('LIMITED RESULTS'!Y33=\"\",\"\",'LIMITED RESULTS'!Y33))","v":""},"",{"$f":"IF('Entry Information'!$H63=\"\",\"\",IF('Entry Information'!X63=\"\",Z32,Z32-100))","v":""},"",{"$f":"IF($X32=\"\",\"\",(VLOOKUP($AB$41,Worksheet!$A$11:$AE$41,AB32+1,FALSE)))","v":""},{"$f":"IF('Entry Information'!$H63=\"\",\"\",'LIMITED RESULTS'!AD33)","v":""},{"$f":"IF('Entry Information'!$H63=\"\",\"\",IF('LIMITED RESULTS'!AE33=\"\",\"\",'LIMITED RESULTS'!AE33))","v":""},"",{"$f":"IF('Entry Information'!$H63=\"\",\"\",IF('Entry Information'!Z63=\"\",AF32,AF32-100))","v":""},"",{"$f":"IF($AD32=\"\",\"\",(VLOOKUP($AH$41,Worksheet!$A$11:$AE$41,AH32+1,FALSE)))","v":""}]
[{"$f":"IF('Entry Information'!H64=\"\",\"\",'Entry Information'!B64)","v":""},{"$f":"IF('Entry Information'!H64=\"\",\"\",'Entry Information'!C64)","v":""},{"$f":"IF('Entry Information'!H64=\"\",\"\",'Entry Information'!D64)","v":""},{"$f":"IF('Entry Information'!H64=\"\",\"\",'Entry Information'!E64)","v":""},"LIM",{"$f":"IF('Entry Information'!$H64=\"\",\"\",'LIMITED RESULTS'!F34)","v":""},{"$f":"IF('Entry Information'!$H64=\"\",\"\",IF('LIMITED RESULTS'!G34=\"\",\"\",'LIMITED RESULTS'!G34))","v":""},"",{"$f":"IF('Entry Information'!$H64=\"\",\"\",IF('Entry Information'!R64=\"\",H33,H33-100))","v":""},"",{"$f":"IF($F33=\"\",\"\",(VLOOKUP($J$41,Worksheet!$A$11:$AE$41,J33+1,FALSE)))","v":""},{"$f":"IF('Entry Information'!$H64=\"\",\"\",'LIMITED RESULTS'!L34)","v":""},{"$f":"IF('Entry Information'!$H64=\"\",\"\",IF('LIMITED RESULTS'!M34=\"\",\"\",'LIMITED RESULTS'!M34))","v":""},"",{"$f":"IF('Entry Information'!$H64=\"\",\"\",IF('Entry Information'!T64=\"\",N33,N33-100))","v":""},"",{"$f":"IF($L33=\"\",\"\",(VLOOKUP($P$41,Worksheet!$A$11:$AE$41,P33+1,FALSE)))","v":""},{"$f":"IF('Entry Information'!$H64=\"\",\"\",'LIMITED RESULTS'!R34)","v":""},{"$f":"IF('Entry Information'!$H64=\"\",\"\",IF('LIMITED RESULTS'!S34=\"\",\"\",'LIMITED RESULTS'!S34))","v":""},"",{"$f":"IF('Entry Information'!$H64=\"\",\"\",IF('Entry Information'!V64=\"\",T33,T33-100))","v":""},"",{"$f":"IF($R33=\"\",\"\",(VLOOKUP($V$41,Worksheet!$A$11:$AE$41,V33+1,FALSE)))","v":""},{"$f":"IF('Entry Information'!$H64=\"\",\"\",'LIMITED RESULTS'!X34)","v":""},{"$f":"IF('Entry Information'!$H64=\"\",\"\",IF('LIMITED RESULTS'!Y34=\"\",\"\",'LIMITED RESULTS'!Y34))","v":""},"",{"$f":"IF('Entry Information'!$H64=\"\",\"\",IF('Entry Information'!X64=\"\",Z33,Z33-100))","v":""},"",{"$f":"IF($X33=\"\",\"\",(VLOOKUP($AB$41,Worksheet!$A$11:$AE$41,AB33+1,FALSE)))","v":""},{"$f":"IF('Entry Information'!$H64=\"\",\"\",'LIMITED RESULTS'!AD34)","v":""},{"$f":"IF('Entry Information'!$H64=\"\",\"\",IF('LIMITED RESULTS'!AE34=\"\",\"\",'LIMITED RESULTS'!AE34))","v":""},"",{"$f":"IF('Entry Information'!$H64=\"\",\"\",IF('Entry Information'!Z64=\"\",AF33,AF33-100))","v":""},"",{"$f":"IF($AD33=\"\",\"\",(VLOOKUP($AH$41,Worksheet!$A$11:$AE$41,AH33+1,FALSE)))","v":""}]
[{"$f":"IF('Entry Information'!H65=\"\",\"\",'Entry Information'!B65)","v":""},{"$f":"IF('Entry Information'!H65=\"\",\"\",'Entry Information'!C65)","v":""},{"$f":"IF('Entry Information'!H65=\"\",\"\",'Entry Information'!D65)","v":""},{"$f":"IF('Entry Information'!H65=\"\",\"\",'Entry Information'!E65)","v":""},"LIM",{"$f":"IF('Entry Information'!$H65=\"\",\"\",'LIMITED RESULTS'!F35)","v":""},{"$f":"IF('Entry Information'!$H65=\"\",\"\",IF('LIMITED RESULTS'!G35=\"\",\"\",'LIMITED RESULTS'!G35))","v":""},"",{"$f":"IF('Entry Information'!$H65=\"\",\"\",IF('Entry Information'!R65=\"\",H34,H34-100))","v":""},"",{"$f":"IF($F34=\"\",\"\",(VLOOKUP($J$41,Worksheet!$A$11:$AE$41,J34+1,FALSE)))","v":""},{"$f":"IF('Entry Information'!$H65=\"\",\"\",'LIMITED RESULTS'!L35)","v":""},{"$f":"IF('Entry Information'!$H65=\"\",\"\",IF('LIMITED RESULTS'!M35=\"\",\"\",'LIMITED RESULTS'!M35))","v":""},"",{"$f":"IF('Entry Information'!$H65=\"\",\"\",IF('Entry Information'!T65=\"\",N34,N34-100))","v":""},"",{"$f":"IF($L34=\"\",\"\",(VLOOKUP($P$41,Worksheet!$A$11:$AE$41,P34+1,FALSE)))","v":""},{"$f":"IF('Entry Information'!$H65=\"\",\"\",'LIMITED RESULTS'!R35)","v":""},{"$f":"IF('Entry Information'!$H65=\"\",\"\",IF('LIMITED RESULTS'!S35=\"\",\"\",'LIMITED RESULTS'!S35))","v":""},"",{"$f":"IF('Entry Information'!$H65=\"\",\"\",IF('Entry Information'!V65=\"\",T34,T34-100))","v":""},"",{"$f":"IF($R34=\"\",\"\",(VLOOKUP($V$41,Worksheet!$A$11:$AE$41,V34+1,FALSE)))","v":""},{"$f":"IF('Entry Information'!$H65=\"\",\"\",'LIMITED RESULTS'!X35)","v":""},{"$f":"IF('Entry Information'!$H65=\"\",\"\",IF('LIMITED RESULTS'!Y35=\"\",\"\",'LIMITED RESULTS'!Y35))","v":""},"",{"$f":"IF('Entry Information'!$H65=\"\",\"\",IF('Entry Information'!X65=\"\",Z34,Z34-100))","v":""},"",{"$f":"IF($X34=\"\",\"\",(VLOOKUP($AB$41,Worksheet!$A$11:$AE$41,AB34+1,FALSE)))","v":""},{"$f":"IF('Entry Information'!$H65=\"\",\"\",'LIMITED RESULTS'!AD35)","v":""},{"$f":"IF('Entry Information'!$H65=\"\",\"\",IF('LIMITED RESULTS'!AE35=\"\",\"\",'LIMITED RESULTS'!AE35))","v":""},"",{"$f":"IF('Entry Information'!$H65=\"\",\"\",IF('Entry Information'!Z65=\"\",AF34,AF34-100))","v":""},"",{"$f":"IF($AD34=\"\",\"\",(VLOOKUP($AH$41,Worksheet!$A$11:$AE$41,AH34+1,FALSE)))","v":""}]
[{"$f":"IF('Entry Information'!H66=\"\",\"\",'Entry Information'!B66)","v":""},{"$f":"IF('Entry Information'!H66=\"\",\"\",'Entry Information'!C66)","v":""},{"$f":"IF('Entry Information'!H66=\"\",\"\",'Entry Information'!D66)","v":""},{"$f":"IF('Entry Information'!H66=\"\",\"\",'Entry Information'!E66)","v":""},"LIM",{"$f":"IF('Entry Information'!$H66=\"\",\"\",'LIMITED RESULTS'!F36)","v":""},{"$f":"IF('Entry Information'!$H66=\"\",\"\",IF('LIMITED RESULTS'!G36=\"\",\"\",'LIMITED RESULTS'!G36))","v":""},"",{"$f":"IF('Entry Information'!$H66=\"\",\"\",IF('Entry Information'!R66=\"\",H35,H35-100))","v":""},"",{"$f":"IF($F35=\"\",\"\",(VLOOKUP($J$41,Worksheet!$A$11:$AE$41,J35+1,FALSE)))","v":""},{"$f":"IF('Entry Information'!$H66=\"\",\"\",'LIMITED RESULTS'!L36)","v":""},{"$f":"IF('Entry Information'!$H66=\"\",\"\",IF('LIMITED RESULTS'!M36=\"\",\"\",'LIMITED RESULTS'!M36))","v":""},"",{"$f":"IF('Entry Information'!$H66=\"\",\"\",IF('Entry Information'!T66=\"\",N35,N35-100))","v":""},"",{"$f":"IF($L35=\"\",\"\",(VLOOKUP($P$41,Worksheet!$A$11:$AE$41,P35+1,FALSE)))","v":""},{"$f":"IF('Entry Information'!$H66=\"\",\"\",'LIMITED RESULTS'!R36)","v":""},{"$f":"IF('Entry Information'!$H66=\"\",\"\",IF('LIMITED RESULTS'!S36=\"\",\"\",'LIMITED RESULTS'!S36))","v":""},"",{"$f":"IF('Entry Information'!$H66=\"\",\"\",IF('Entry Information'!V66=\"\",T35,T35-100))","v":""},"",{"$f":"IF($R35=\"\",\"\",(VLOOKUP($V$41,Worksheet!$A$11:$AE$41,V35+1,FALSE)))","v":""},{"$f":"IF('Entry Information'!$H66=\"\",\"\",'LIMITED RESULTS'!X36)","v":""},{"$f":"IF('Entry Information'!$H66=\"\",\"\",IF('LIMITED RESULTS'!Y36=\"\",\"\",'LIMITED RESULTS'!Y36))","v":""},"",{"$f":"IF('Entry Information'!$H66=\"\",\"\",IF('Entry Information'!X66=\"\",Z35,Z35-100))","v":""},"",{"$f":"IF($X35=\"\",\"\",(VLOOKUP($AB$41,Worksheet!$A$11:$AE$41,AB35+1,FALSE)))","v":""},{"$f":"IF('Entry Information'!$H66=\"\",\"\",'LIMITED RESULTS'!AD36)","v":""},{"$f":"IF('Entry Information'!$H66=\"\",\"\",IF('LIMITED RESULTS'!AE36=\"\",\"\",'LIMITED RESULTS'!AE36))","v":""},"",{"$f":"IF('Entry Information'!$H66=\"\",\"\",IF('Entry Information'!Z66=\"\",AF35,AF35-100))","v":""},"",{"$f":"IF($AD35=\"\",\"\",(VLOOKUP($AH$41,Worksheet!$A$11:$AE$41,AH35+1,FALSE)))","v":""}]
[{"$f":"IF('Entry Information'!H67=\"\",\"\",'Entry Information'!B67)","v":""},{"$f":"IF('Entry Information'!H67=\"\",\"\",'Entry Information'!C67)","v":""},{"$f":"IF('Entry Information'!H67=\"\",\"\",'Entry Information'!D67)","v":""},{"$f":"IF('Entry Information'!H67=\"\",\"\",'Entry Information'!E67)","v":""},"LIM",{"$f":"IF('Entry Information'!$H67=\"\",\"\",'LIMITED RESULTS'!F37)","v":""},{"$f":"IF('Entry Information'!$H67=\"\",\"\",IF('LIMITED RESULTS'!G37=\"\",\"\",'LIMITED RESULTS'!G37))","v":""},"",{"$f":"IF('Entry Information'!$H67=\"\",\"\",IF('Entry Information'!R67=\"\",H36,H36-100))","v":""},"",{"$f":"IF($F36=\"\",\"\",(VLOOKUP($J$41,Worksheet!$A$11:$AE$41,J36+1,FALSE)))","v":""},{"$f":"IF('Entry Information'!$H67=\"\",\"\",'LIMITED RESULTS'!L37)","v":""},{"$f":"IF('Entry Information'!$H67=\"\",\"\",IF('LIMITED RESULTS'!M37=\"\",\"\",'LIMITED RESULTS'!M37))","v":""},"",{"$f":"IF('Entry Information'!$H67=\"\",\"\",IF('Entry Information'!T67=\"\",N36,N36-100))","v":""},"",{"$f":"IF($L36=\"\",\"\",(VLOOKUP($P$41,Worksheet!$A$11:$AE$41,P36+1,FALSE)))","v":""},{"$f":"IF('Entry Information'!$H67=\"\",\"\",'LIMITED RESULTS'!R37)","v":""},{"$f":"IF('Entry Information'!$H67=\"\",\"\",IF('LIMITED RESULTS'!S37=\"\",\"\",'LIMITED RESULTS'!S37))","v":""},"",{"$f":"IF('Entry Information'!$H67=\"\",\"\",IF('Entry Information'!V67=\"\",T36,T36-100))","v":""},"",{"$f":"IF($R36=\"\",\"\",(VLOOKUP($V$41,Worksheet!$A$11:$AE$41,V36+1,FALSE)))","v":""},{"$f":"IF('Entry Information'!$H67=\"\",\"\",'LIMITED RESULTS'!X37)","v":""},{"$f":"IF('Entry Information'!$H67=\"\",\"\",IF('LIMITED RESULTS'!Y37=\"\",\"\",'LIMITED RESULTS'!Y37))","v":""},"",{"$f":"IF('Entry Information'!$H67=\"\",\"\",IF('Entry Information'!X67=\"\",Z36,Z36-100))","v":""},"",{"$f":"IF($X36=\"\",\"\",(VLOOKUP($AB$41,Worksheet!$A$11:$AE$41,AB36+1,FALSE)))","v":""},{"$f":"IF('Entry Information'!$H67=\"\",\"\",'LIMITED RESULTS'!AD37)","v":""},{"$f":"IF('Entry Information'!$H67=\"\",\"\",IF('LIMITED RESULTS'!AE37=\"\",\"\",'LIMITED RESULTS'!AE37))","v":""},"",{"$f":"IF('Entry Information'!$H67=\"\",\"\",IF('Entry Information'!Z67=\"\",AF36,AF36-100))","v":""},"",{"$f":"IF($AD36=\"\",\"\",(VLOOKUP($AH$41,Worksheet!$A$11:$AE$41,AH36+1,FALSE)))","v":""}]
[{"$f":"IF('Entry Information'!H68=\"\",\"\",'Entry Information'!B68)","v":""},{"$f":"IF('Entry Information'!H68=\"\",\"\",'Entry Information'!C68)","v":""},{"$f":"IF('Entry Information'!H68=\"\",\"\",'Entry Information'!D68)","v":""},{"$f":"IF('Entry Information'!H68=\"\",\"\",'Entry Information'!E68)","v":""},"LIM",{"$f":"IF('Entry Information'!$H68=\"\",\"\",'LIMITED RESULTS'!F38)","v":""},{"$f":"IF('Entry Information'!$H68=\"\",\"\",IF('LIMITED RESULTS'!G38=\"\",\"\",'LIMITED RESULTS'!G38))","v":""},"",{"$f":"IF('Entry Information'!$H68=\"\",\"\",IF('Entry Information'!R68=\"\",H37,H37-100))","v":""},"",{"$f":"IF($F37=\"\",\"\",(VLOOKUP($J$41,Worksheet!$A$11:$AE$41,J37+1,FALSE)))","v":""},{"$f":"IF('Entry Information'!$H68=\"\",\"\",'LIMITED RESULTS'!L38)","v":""},{"$f":"IF('Entry Information'!$H68=\"\",\"\",IF('LIMITED RESULTS'!M38=\"\",\"\",'LIMITED RESULTS'!M38))","v":""},"",{"$f":"IF('Entry Information'!$H68=\"\",\"\",IF('Entry Information'!T68=\"\",N37,N37-100))","v":""},"",{"$f":"IF($L37=\"\",\"\",(VLOOKUP($P$41,Worksheet!$A$11:$AE$41,P37+1,FALSE)))","v":""},{"$f":"IF('Entry Information'!$H68=\"\",\"\",'LIMITED RESULTS'!R38)","v":""},{"$f":"IF('Entry Information'!$H68=\"\",\"\",IF('LIMITED RESULTS'!S38=\"\",\"\",'LIMITED RESULTS'!S38))","v":""},"",{"$f":"IF('Entry Information'!$H68=\"\",\"\",IF('Entry Information'!V68=\"\",T37,T37-100))","v":""},"",{"$f":"IF($R37=\"\",\"\",(VLOOKUP($V$41,Worksheet!$A$11:$AE$41,V37+1,FALSE)))","v":""},{"$f":"IF('Entry Information'!$H68=\"\",\"\",'LIMITED RESULTS'!X38)","v":""},{"$f":"IF('Entry Information'!$H68=\"\",\"\",IF('LIMITED RESULTS'!Y38=\"\",\"\",'LIMITED RESULTS'!Y38))","v":""},"",{"$f":"IF('Entry Information'!$H68=\"\",\"\",IF('Entry Information'!X68=\"\",Z37,Z37-100))","v":""},"",{"$f":"IF($X37=\"\",\"\",(VLOOKUP($AB$41,Worksheet!$A$11:$AE$41,AB37+1,FALSE)))","v":""},{"$f":"IF('Entry Information'!$H68=\"\",\"\",'LIMITED RESULTS'!AD38)","v":""},{"$f":"IF('Entry Information'!$H68=\"\",\"\",IF('LIMITED RESULTS'!AE38=\"\",\"\",'LIMITED RESULTS'!AE38))","v":""},"",{"$f":"IF('Entry Information'!$H68=\"\",\"\",IF('Entry Information'!Z68=\"\",AF37,AF37-100))","v":""},"",{"$f":"IF($AD37=\"\",\"\",(VLOOKUP($AH$41,Worksheet!$A$11:$AE$41,AH37+1,FALSE)))","v":""}]
[{"$f":"IF('Entry Information'!H69=\"\",\"\",'Entry Information'!B69)","v":""},{"$f":"IF('Entry Information'!H69=\"\",\"\",'Entry Information'!C69)","v":""},{"$f":"IF('Entry Information'!H69=\"\",\"\",'Entry Information'!D69)","v":""},{"$f":"IF('Entry Information'!H69=\"\",\"\",'Entry Information'!E69)","v":""},"LIM",{"$f":"IF('Entry Information'!$H69=\"\",\"\",'LIMITED RESULTS'!F39)","v":""},{"$f":"IF('Entry Information'!$H69=\"\",\"\",IF('LIMITED RESULTS'!G39=\"\",\"\",'LIMITED RESULTS'!G39))","v":""},"",{"$f":"IF('Entry Information'!$H69=\"\",\"\",IF('Entry Information'!R69=\"\",H38,H38-100))","v":""},"",{"$f":"IF($F38=\"\",\"\",(VLOOKUP($J$41,Worksheet!$A$11:$AE$41,J38+1,FALSE)))","v":""},{"$f":"IF('Entry Information'!$H69=\"\",\"\",'LIMITED RESULTS'!L39)","v":""},{"$f":"IF('Entry Information'!$H69=\"\",\"\",IF('LIMITED RESULTS'!M39=\"\",\"\",'LIMITED RESULTS'!M39))","v":""},"",{"$f":"IF('Entry Information'!$H69=\"\",\"\",IF('Entry Information'!T69=\"\",N38,N38-100))","v":""},"",{"$f":"IF($L38=\"\",\"\",(VLOOKUP($P$41,Worksheet!$A$11:$AE$41,P38+1,FALSE)))","v":""},{"$f":"IF('Entry Information'!$H69=\"\",\"\",'LIMITED RESULTS'!R39)","v":""},{"$f":"IF('Entry Information'!$H69=\"\",\"\",IF('LIMITED RESULTS'!S39=\"\",\"\",'LIMITED RESULTS'!S39))","v":""},"",{"$f":"IF('Entry Information'!$H69=\"\",\"\",IF('Entry Information'!V69=\"\",T38,T38-100))","v":""},"",{"$f":"IF($R38=\"\",\"\",(VLOOKUP($V$41,Worksheet!$A$11:$AE$41,V38+1,FALSE)))","v":""},{"$f":"IF('Entry Information'!$H69=\"\",\"\",'LIMITED RESULTS'!X39)","v":""},{"$f":"IF('Entry Information'!$H69=\"\",\"\",IF('LIMITED RESULTS'!Y39=\"\",\"\",'LIMITED RESULTS'!Y39))","v":""},"",{"$f":"IF('Entry Information'!$H69=\"\",\"\",IF('Entry Information'!X69=\"\",Z38,Z38-100))","v":""},"",{"$f":"IF($X38=\"\",\"\",(VLOOKUP($AB$41,Worksheet!$A$11:$AE$41,AB38+1,FALSE)))","v":""},{"$f":"IF('Entry Information'!$H69=\"\",\"\",'LIMITED RESULTS'!AD39)","v":""},{"$f":"IF('Entry Information'!$H69=\"\",\"\",IF('LIMITED RESULTS'!AE39=\"\",\"\",'LIMITED RESULTS'!AE39))","v":""},"",{"$f":"IF('Entry Information'!$H69=\"\",\"\",IF('Entry Information'!Z69=\"\",AF38,AF38-100))","v":""},"",{"$f":"IF($AD38=\"\",\"\",(VLOOKUP($AH$41,Worksheet!$A$11:$AE$41,AH38+1,FALSE)))","v":""}]
[{"$f":"IF('Entry Information'!H70=\"\",\"\",'Entry Information'!B70)","v":""},{"$f":"IF('Entry Information'!H70=\"\",\"\",'Entry Information'!C70)","v":""},{"$f":"IF('Entry Information'!H70=\"\",\"\",'Entry Information'!D70)","v":""},{"$f":"IF('Entry Information'!H70=\"\",\"\",'Entry Information'!E70)","v":""},"LIM",{"$f":"IF('Entry Information'!$H70=\"\",\"\",'LIMITED RESULTS'!F40)","v":""},{"$f":"IF('Entry Information'!$H70=\"\",\"\",IF('LIMITED RESULTS'!G40=\"\",\"\",'LIMITED RESULTS'!G40))","v":""},"",{"$f":"IF('Entry Information'!$H70=\"\",\"\",IF('Entry Information'!R70=\"\",H39,H39-100))","v":""},"",{"$f":"IF($F39=\"\",\"\",(VLOOKUP($J$41,Worksheet!$A$11:$AE$41,J39+1,FALSE)))","v":""},{"$f":"IF('Entry Information'!$H70=\"\",\"\",'LIMITED RESULTS'!L40)","v":""},{"$f":"IF('Entry Information'!$H70=\"\",\"\",IF('LIMITED RESULTS'!M40=\"\",\"\",'LIMITED RESULTS'!M40))","v":""},"",{"$f":"IF('Entry Information'!$H70=\"\",\"\",IF('Entry Information'!T70=\"\",N39,N39-100))","v":""},"",{"$f":"IF($L39=\"\",\"\",(VLOOKUP($P$41,Worksheet!$A$11:$AE$41,P39+1,FALSE)))","v":""},{"$f":"IF('Entry Information'!$H70=\"\",\"\",'LIMITED RESULTS'!R40)","v":""},{"$f":"IF('Entry Information'!$H70=\"\",\"\",IF('LIMITED RESULTS'!S40=\"\",\"\",'LIMITED RESULTS'!S40))","v":""},"",{"$f":"IF('Entry Information'!$H70=\"\",\"\",IF('Entry Information'!V70=\"\",T39,T39-100))","v":""},"",{"$f":"IF($R39=\"\",\"\",(VLOOKUP($V$41,Worksheet!$A$11:$AE$41,V39+1,FALSE)))","v":""},{"$f":"IF('Entry Information'!$H70=\"\",\"\",'LIMITED RESULTS'!X40)","v":""},{"$f":"IF('Entry Information'!$H70=\"\",\"\",IF('LIMITED RESULTS'!Y40=\"\",\"\",'LIMITED RESULTS'!Y40))","v":""},"",{"$f":"IF('Entry Information'!$H70=\"\",\"\",IF('Entry Information'!X70=\"\",Z39,Z39-100))","v":""},"",{"$f":"IF($X39=\"\",\"\",(VLOOKUP($AB$41,Worksheet!$A$11:$AE$41,AB39+1,FALSE)))","v":""},{"$f":"IF('Entry Information'!$H70=\"\",\"\",'LIMITED RESULTS'!AD40)","v":""},{"$f":"IF('Entry Information'!$H70=\"\",\"\",IF('LIMITED RESULTS'!AE40=\"\",\"\",'LIMITED RESULTS'!AE40))","v":""},"",{"$f":"IF('Entry Information'!$H70=\"\",\"\",IF('Entry Information'!Z70=\"\",AF39,AF39-100))","v":""},"",{"$f":"IF($AD39=\"\",\"\",(VLOOKUP($AH$41,Worksheet!$A$11:$AE$41,AH39+1,FALSE)))","v":""}]
[]
[null,null,null,null,null,null,null,null,null,{"$f":"COUNTIF(J10:J39,\">=0\")","v":0},null,null,null,null,null,{"$f":"COUNTIF(P10:P39,\">=0\")","v":0},null,null,null,null,null,{"$f":"COUNTIF(V10:V39,\">=0\")","v":0},null,null,null,null,null,{"$f":"COUNTIF(AB10:AB39,\">=0\")","v":0},null,null,null,null,null,{"$f":"COUNTIF(AH10:AH39,\">=0\")","v":0}]
[null,null,null,null,null,"1 - Total Penalty Points",null,null,null,null,null,"1 - Total Penalty Points",null,null,null,null,null,"1 - Total Penalty Points",null,null,null,null,null,"1 - Total Penalty Points",null,null,null,null,null,"1 - Total Penalty Points"]
[null,null,null,null,null,"2 - Extended Trot",null,null,null,null,null,"2 - Drag Log",null,null,null,null,null,"2 - Penning",null,null,null,null,null,"2 - Box Cow",null,null,null,null,null,"2 - Box Cow"]
[null,null,null,null,null,"3 - Transition down lope/walk/stop",null,null,null,null,null,"3 - Ground tie/bridle/pick-up legs",null,null,null,null,null,"3 - Working Center of arena",null,null,null,null,null,"3 -First Lead Change",null,null,null,null,null,"3 -First Lead Change"]
[null,null,null,null,null,"4 - Transition to lope/lope",null,null,null,null,null,"4 - Gate",null,null,null,null,null,"4 - Cut from Herd",null,null,null,null,null,"4 -Spin",null,null,null,null,null,"4 -Spin"]
[]
[]
["Scores in RED are ties - enter a 1 in the Tie Breaker Column of the winner to break tie.  If multiple ties enter a 1 for the second place and a 2 for winner."]
[]
[]
["Places highlighted have a major penatly."]

{"sheet":"LIMITED JR HORSE RESULTS","index":10,"n_rows":51,"n_cols":35,"rows_kept":51,"cut":false,"hidden":true,"merged":[[6,33,8,33],[6,34,8,34],[6,22,8,22],[6,23,8,23],[6,30,8,30],[6,31,8,31],[6,32,8,32],[4,29,4,34],[47,0,48,4],[6,24,8,24],[6,8,8,8],[6,9,8,9],[6,10,8,10],[6,11,8,11],[6,25,8,25],[6,26,8,26],[6,27,8,27],[6,12,8,12],[6,13,8,13],[6,14,8,14],[6,15,8,15],[6,16,8,16],[6,17,8,17],[5,5,5,10],[5,11,5,16],[5,17,5,22],[5,23,5,28],[5,29,5,34],[6,5,8,5],[6,6,8,6],[6,7,8,7],[6,28,8,28],[6,29,8,29],[6,18,8,18],[6,19,8,19],[6,20,8,20],[6,21,8,21],[4,5,4,10],[2,1,2,2],[2,4,2,5],[2,9,2,11],[2,24,2,28],[4,11,4,16],[4,17,4,22],[4,23,4,28],[2,29,2,34],[1,0,1,2],[1,4,1,5],[1,9,1,16],[1,24,1,28],[1,29,1,34]]}
[]
[null,null,null,null,"Event Name:",null,null,null,null,{"$f":"'Entry Information'!C4","v":"Ranch Horse Challenge"},null,null,null,null,null,null,null,null,null,null,null,null,null,null,"Judge #1 Name/Classes:",null,null,null,null,{"$f":"'Entry Information'!F4","v":"Mike Lund"}]
["Division:","LIMITED",null,null,"Event Date:",null,null,null,null,{"$f":"'Entry Information'!C5","v":"2018-03-25"},null,null,null,null,null,null,null,null,null,null,null,null,null,null,"Judge #2 Name/Classes:",null,null,null,null,{"$f":"'Entry Information'!F5","v":"Karen Arlin"}]
[]
[null,null,null,null,null,"RANCH",null,null,null,null,null,"RANCH",null,null,null,null,null,"RANCH",null,null,null,null,null,"RANCH",null,null,null,null,null,"RANCH"]
[null,null,null,null,null,"RIDING",null,null,null,null,null,"TRAIL",null,null,null,null,null,"CUTING",null,null,null,null,null,"REINED WORK",null,null,null,null,null,"COW WORK"]
[null,null,null,null,null,"Score","Tie Breaker","Adjusted Score for Ties","Adjusted Score Major Penalty","Place","Placement Points","Score","Tie Breaker","Adjusted Score for Ties","Adjusted Score Major Penalty","Place","Placement Points","Score","Tie Breaker","Adjusted Score for Ties","Adjusted Score Major Penalty","Place","Placement Points","Score","Tie Breaker","Adjusted Score for Ties","Adjusted Score Major Penalty","Place","Placement Points","Score","Tie Breaker","Adjusted Score for Ties","Adjusted Score Major Penalty","Place","Placement Points"]
[]
["Back No.","Last Name","First Name","Registered Horse Name","Division"]
[{"$f":"IF('Entry Information'!I41=\"\",\"\",'Entry Information'!B41)","v":""},{"$f":"IF('Entry Information'!I41=\"\",\"\",'Entry Information'!C41)","v":""},{"$f":"IF('Entry Information'!I41=\"\",\"\",'Entry Information'!D41)","v":""},{"$f":"IF('Entry Information'!I41=\"\",\"\",'Entry Information'!E41)","v":""},"LIM",{"$f":"IF('Entry Information'!$I41=\"\",\"\",'LIMITED RESULTS'!F11)","v":""},{"$f":"IF('Entry Information'!$I41=\"\",\"\",IF('LIMITED RESULTS'!G11=\"\",\"\",'LIMITED RESULTS'!G11))","v":""},{"$f":"IF(G10=\"\",F10,(F10+(G10*0.001)))","v":""},{"$f":"IF('Entry Information'!$I41=\"\",\"\",IF('Entry Information'!R41=\"\",H10,H10-100))","v":""},{"$f":"IF(I10=\"\",\"\",(RANK(I10,$I$10:$I$39,0)))","v":""},{"$f":"IF($F10=\"\",\"\",(VLOOKUP($J$41,Worksheet!$A$11:$AE$41,J10+1,FALSE)))","v":""},{"$f":"IF('Entry Information'!$I41=\"\",\"\",'LIMITED RESULTS'!L11)","v":""},{"$f":"IF('Entry Information'!$I41=\"\",\"\",IF('LIMITED RESULTS'!M11=\"\",\"\",'LIMITED RESULTS'!M11))","v":""},{"$f":"IF(M10=\"\",L10,(L10+(M10*0.001)))","v":""},{"$f":"IF('Entry Information'!$I41=\"\",\"\",IF('Entry Information'!T41=\"\",N10,N10-100))","v":""},{"$f":"IF(O10=\"\",\"\",(RANK(O10,$O$10:$O$39,0)))","v":""},{"$f":"IF($L10=\"\",\"\",(VLOOKUP($P$41,Worksheet!$A$11:$AE$41,P10+1,FALSE)))","v":""},{"$f":"IF('Entry Information'!$I41=\"\",\"\",'LIMITED RESULTS'!R11)","v":""},{"$f":"IF('Entry Information'!$I41=\"\",\"\",IF('LIMITED RESULTS'!S11=\"\",\"\",'LIMITED RESULTS'!S11))","v":""},{"$f":"IF(S10=\"\",R10,(R10+(S10*0.001)))","v":""},{"$f":"IF('Entry Information'!$I41=\"\",\"\",IF('Entry Information'!V41=\"\",T10,T10-100))","v":""},{"$f":"IF(U10=\"\",\"\",(RANK(U10,$U$10:$U$39,0)))","v":""},{"$f":"IF($R10=\"\",\"\",(VLOOKUP($V$41,Worksheet!$A$11:$AE$41,V10+1,FALSE)))","v":""},{"$f":"IF('Entry Information'!$I41=\"\",\"\",'LIMITED RESULTS'!X11)","v":""},{"$f":"IF('Entry Information'!$I41=\"\",\"\",IF('LIMITED RESULTS'!Y11=\"\",\"\",'LIMITED RESULTS'!Y11))","v":""},{"$f":"IF(Y10=\"\",X10,(X10+(Y10*0.001)))","v":""},{"$f":"IF('Entry Information'!$I41=\"\",\"\",IF('Entry Information'!X41=\"\",Z10,Z10-100))","v":""},{"$f":"IF(AA10=\"\",\"\",(RANK(AA10,$AA$10:$AA$39,0)))","v":""},{"$f":"IF($X10=\"\",\"\",(VLOOKUP($AB$41,Worksheet!$A$11:$AE$41,AB10+1,FALSE)))","v":""},{"$f":"IF('Entry Information'!$I41=\"\",\"\",'LIMITED RESULTS'!AD11)","v":""},{"$f":"IF('Entry Information'!$I41=\"\",\"\",IF('LIMITED RESULTS'!AE11=\"\",\"\",'LIMITED RESULTS'!AE11))","v":""},{"$f":"IF(AE10=\"\",AD10,(AD10+(AE10*0.001)))","v":""},{"$f":"IF('Entry Information'!$I41=\"\",\"\",IF('Entry Information'!Z41=\"\",AF10,AF10-100))","v":""},{"$f":"IF(AG10=\"\",\"\",(RANK(AG10,$AG$10:$AG$39,0)))","v":""},{"$f":"IF($AD10=\"\",\"\",(VLOOKUP($AH$41,Worksheet!$A$11:$AE$41,AH10+1,FALSE)))","v":""}]
[{"$f":"IF('Entry Information'!I42=\"\",\"\",'Entry Information'!B42)","v":""},{"$f":"IF('Entry Information'!I42=\"\",\"\",'Entry Information'!C42)","v":""},{"$f":"IF('Entry Information'!I42=\"\",\"\",'Entry Information'!D42)","v":""},{"$f":"IF('Entry Information'!I42=\"\",\"\",'Entry Information'!E42)","v":""},"LIM",{"$f":"IF('Entry Information'!$I42=\"\",\"\",'LIMITED RESULTS'!F12)","v":""},{"$f":"IF('Entry Information'!$I42=\"\",\"\",IF('LIMITED RESULTS'!G12=\"\",\"\",'LIMITED RESULTS'!G12))","v":""},{"$f":"IF(G11=\"\",F11,(F11+(G11*0.001)))","v":""},{"$f":"IF('Entry Information'!$I42=\"\",\"\",IF('Entry Information'!R42=\"\",H11,H11-100))","v":""},{"$f":"IF(I11=\"\",\"\",(RANK(I11,$I$10:$I$39,0)))","v":""},{"$f":"IF($F11=\"\",\"\",(VLOOKUP($J$41,Worksheet!$A$11:$AE$41,J11+1,FALSE)))","v":""},{"$f":"IF('Entry Information'!$I42=\"\",\"\",'LIMITED RESULTS'!L12)","v":""},{"$f":"IF('Entry Information'!$I42=\"\",\"\",IF('LIMITED RESULTS'!M12=\"\",\"\",'LIMITED RESULTS'!M12))","v":""},{"$f":"IF(M11=\"\",L11,(L11+(M11*0.001)))","v":""},{"$f":"IF('Entry Information'!$I42=\"\",\"\",IF('Entry Information'!T42=\"\",N11,N11-100))","v":""},{"$f":"IF(O11=\"\",\"\",(RANK(O11,$O$10:$O$39,0)))","v":""},{"$f":"IF($L11=\"\",\"\",(VLOOKUP($P$41,Worksheet!$A$11:$AE$41,P11+1,FALSE)))","v":""},{"$f":"IF('Entry Information'!$I42=\"\",\"\",'LIMITED RESULTS'!R12)","v":""},{"$f":"IF('Entry Information'!$I42=\"\",\"\",IF('LIMITED RESULTS'!S12=\"\",\"\",'LIMITED RESULTS'!S12))","v":""},{"$f":"IF(S11=\"\",R11,(R11+(S11*0.001)))","v":""},{"$f":"IF('Entry Information'!$I42=\"\",\"\",IF('Entry Information'!V42=\"\",T11,T11-100))","v":""},{"$f":"IF(U11=\"\",\"\",(RANK(U11,$U$10:$U$39,0)))","v":""},{"$f":"IF($R11=\"\",\"\",(VLOOKUP($V$41,Worksheet!$A$11:$AE$41,V11+1,FALSE)))","v":""},{"$f":"IF('Entry Information'!$I42=\"\",\"\",'LIMITED RESULTS'!X12)","v":""},{"$f":"IF('Entry Information'!$I42=\"\",\"\",IF('LIMITED RESULTS'!Y12=\"\",\"\",'LIMITED RESULTS'!Y12))","v":""},{"$f":"IF(Y11=\"\",X11,(X11+(Y11*0.001)))","v":""},{"$f":"IF('Entry Information'!$I42=\"\",\"\",IF('Entry Information'!X42=\"\",Z11,Z11-100))","v":""},{"$f":"IF(AA11=\"\",\"\",(RANK(AA11,$AA$10:$AA$39,0)))","v":""},{"$f":"IF($X11=\"\",\"\",(VLOOKUP($AB$41,Worksheet!$A$11:$AE$41,AB11+1,FALSE)))","v":""},{"$f":"IF('Entry Information'!$I42=\"\",\"\",'LIMITED RESULTS'!AD12)","v":""},{"$f":"IF('Entry Information'!$I42=\"\",\"\",IF('LIMITED RESULTS'!AE12=\"\",\"\",'LIMITED RESULTS'!AE12))","v":""},{"$f":"IF(AE11=\"\",AD11,(AD11+(AE11*0.001)))","v":""},{"$f":"IF('Entry Information'!$I42=\"\",\"\",IF('Entry Information'!Z42=\"\",AF11,AF11-100))","v":""},{"$f":"IF(AG11=\"\",\"\",(RANK(AG11,$AG$10:$AG$39,0)))","v":""},{"$f":"IF($AD11=\"\",\"\",(VLOOKUP($AH$41,Worksheet!$A$11:$AE$41,AH11+1,FALSE)))","v":""}]
[{"$f":"IF('Entry Information'!I43=\"\",\"\",'Entry Information'!B43)","v":""},{"$f":"IF('Entry Information'!I43=\"\",\"\",'Entry Information'!C43)","v":""},{"$f":"IF('Entry Information'!I43=\"\",\"\",'Entry Information'!D43)","v":""},{"$f":"IF('Entry Information'!I43=\"\",\"\",'Entry Information'!E43)","v":""},"LIM",{"$f":"IF('Entry Information'!$I43=\"\",\"\",'LIMITED RESULTS'!F13)","v":""},{"$f":"IF('Entry Information'!$I43=\"\",\"\",IF('LIMITED RESULTS'!G13=\"\",\"\",'LIMITED RESULTS'!G13))","v":""},"",{"$f":"IF('Entry Information'!$I43=\"\",\"\",IF('Entry Information'!R43=\"\",H12,H12-100))","v":""},"",{"$f":"IF($F12=\"\",\"\",(VLOOKUP($J$41,Worksheet!$A$11:$AE$41,J12+1,FALSE)))","v":""},{"$f":"IF('Entry Information'!$I43=\"\",\"\",'LIMITED RESULTS'!L13)","v":""},{"$f":"IF('Entry Information'!$I43=\"\",\"\",IF('LIMITED RESULTS'!M13=\"\",\"\",'LIMITED RESULTS'!M13))","v":""},"",{"$f":"IF('Entry Information'!$I43=\"\",\"\",IF('Entry Information'!T43=\"\",N12,N12-100))","v":""},"",{"$f":"IF($L12=\"\",\"\",(VLOOKUP($P$41,Worksheet!$A$11:$AE$41,P12+1,FALSE)))","v":""},{"$f":"IF('Entry Information'!$I43=\"\",\"\",'LIMITED RESULTS'!R13)","v":""},{"$f":"IF('Entry Information'!$I43=\"\",\"\",IF('LIMITED RESULTS'!S13=\"\",\"\",'LIMITED RESULTS'!S13))","v":""},"",{"$f":"IF('Entry Information'!$I43=\"\",\"\",IF('Entry Information'!V43=\"\",T12,T12-100))","v":""},"",{"$f":"IF($R12=\"\",\"\",(VLOOKUP($V$41,Worksheet!$A$11:$AE$41,V12+1,FALSE)))","v":""},{"$f":"IF('Entry Information'!$I43=\"\",\"\",'LIMITED RESULTS'!X13)","v":""},{"$f":"IF('Entry Information'!$I43=\"\",\"\",IF('LIMITED RESULTS'!Y13=\"\",\"\",'LIMITED RESULTS'!Y13))","v":""},"",{"$f":"IF('Entry Information'!$I43=\"\",\"\",IF('Entry Information'!X43=\"\",Z12,Z12-100))","v":""},"",{"$f":"IF($X12=\"\",\"\",(VLOOKUP($AB$41,Worksheet!$A$11:$AE$41,AB12+1,FALSE)))","v":""},{"$f":"IF('Entry Information'!$I43=\"\",\"\",'LIMITED RESULTS'!AD13)","v":""},{"$f":"IF('Entry Information'!$I43=\"\",\"\",IF('LIMITED RESULTS'!AE13=\"\",\"\",'LIMITED RESULTS'!AE13))","v":""},"",{"$f":"IF('Entry Information'!$I43=\"\",\"\",IF('Entry Information'!Z43=\"\",AF12,AF12-100))","v":""},"",{"$f":"IF($AD12=\"\",\"\",(VLOOKUP($AH$41,Worksheet!$A$11:$AE$41,AH12+1,FALSE)))","v":""}]
[{"$f":"IF('Entry Information'!I44=\"\",\"\",'Entry Information'!B44)","v":""},{"$f":"IF('Entry Information'!I44=\"\",\"\",'Entry Information'!C44)","v":""},{"$f":"IF('Entry Information'!I44=\"\",\"\",'Entry Information'!D44)","v":""},{"$f":"IF('Entry Information'!I44=\"\",\"\",'Entry Information'!E44)","v":""},"LIM",{"$f":"IF('Entry Information'!$I44=\"\",\"\",'LIMITED RESULTS'!F14)","v":""},{"$f":"IF('Entry Information'!$I44=\"\",\"\",IF('LIMITED RESULTS'!G14=\"\",\"\",'LIMITED RESULTS'!G14))","v":""},"",{"$f":"IF('Entry Information'!$I44=\"\",\"\",IF('Entry Information'!R44=\"\",H13,H13-100))","v":""},"",{"$f":"IF($F13=\"\",\"\",(VLOOKUP($J$41,Worksheet!$A$11:$AE$41,J13+1,FALSE)))","v":""},{"$f":"IF('Entry Information'!$I44=\"\",\"\",'LIMITED RESULTS'!L14)","v":""},{"$f":"IF('Entry Information'!$I44=\"\",\"\",IF('LIMITED RESULTS'!M14=\"\",\"\",'LIMITED RESULTS'!M14))","v":""},"",{"$f":"IF('Entry Information'!$I44=\"\",\"\",IF('Entry Information'!T44=\"\",N13,N13-100))","v":""},"",{"$f":"IF($L13=\"\",\"\",(VLOOKUP($P$41,Worksheet!$A$11:$AE$41,P13+1,FALSE)))","v":""},{"$f":"IF('Entry Information'!$I44=\"\",\"\",'LIMITED RESULTS'!R14)","v":""},{"$f":"IF('Entry Information'!$I44=\"\",\"\",IF('LIMITED RESULTS'!S14=\"\",\"\",'LIMITED RESULTS'!S14))","v":""},"",{"$f":"IF('Entry Information'!$I44=\"\",\"\",IF('Entry Information'!V44=\"\",T13,T13-100))","v":""},"",{"$f":"IF($R13=\"\",\"\",(VLOOKUP($V$41,Worksheet!$A$11:$AE$41,V13+1,FALSE)))","v":""},{"$f":"IF('Entry Information'!$I44=\"\",\"\",'LIMITED RESULTS'!X14)","v":""},{"$f":"IF('Entry Information'!$I44=\"\",\"\",IF('LIMITED RESULTS'!Y14=\"\",\"\",'LIMITED RESULTS'!Y14))","v":""},"",{"$f":"IF('Entry Information'!$I44=\"\",\"\",IF('Entry Information'!X44=\"\",Z13,Z13-100))","v":""},"",{"$f":"IF($X13=\"\",\"\",(VLOOKUP($AB$41,Worksheet!$A$11:$AE$41,AB13+1,FALSE)))","v":""},{"$f":"IF('Entry Information'!$I44=\"\",\"\",'LIMITED RESULTS'!AD14)","v":""},{"$f":"IF('Entry Information'!$I44=\"\",\"\",IF('LIMITED RESULTS'!AE14=\"\",\"\",'LIMITED RESULTS'!AE14))","v":""},"",{"$f":"IF('Entry Information'!$I44=\"\",\"\",IF('Entry Information'!Z44=\"\",AF13,AF13-100))","v":""},"",{"$f":"IF($AD13=\"\",\"\",(VLOOKUP($AH$41,Worksheet!$A$11:$AE$41,AH13+1,FALSE)))","v":""}]
[{"$f":"IF('Entry Information'!I45=\"\",\"\",'Entry Information'!B45)","v":""},{"$f":"IF('Entry Information'!I45=\"\",\"\",'Entry Information'!C45)","v":""},{"$f":"IF('Entry Information'!I45=\"\",\"\",'Entry Information'!D45)","v":""},{"$f":"IF('Entry Information'!I45=\"\",\"\",'Entry Information'!E45)","v":""},"LIM",{"$f":"IF('Entry Information'!$I45=\"\",\"\",'LIMITED RESULTS'!F15)","v":""},{"$f":"IF('Entry Information'!$I45=\"\",\"\",IF('LIMITED RESULTS'!G15=\"\",\"\",'LIMITED RESULTS'!G15))","v":""},"",{"$f":"IF('Entry Information'!$I45=\"\",\"\",IF('Entry Information'!R45=\"\",H14,H14-100))","v":""},"",{"$f":"IF($F14=\"\",\"\",(VLOOKUP($J$41,Worksheet!$A$11:$AE$41,J14+1,FALSE)))","v":""},{"$f":"IF('Entry Information'!$I45=\"\",\"\",'LIMITED RESULTS'!L15)","v":""},{"$f":"IF('Entry Information'!$I45=\"\",\"\",IF('LIMITED RESULTS'!M15=\"\",\"\",'LIMITED RESULTS'!M15))","v":""},"",{"$f":"IF('Entry Information'!$I45=\"\",\"\",IF('Entry Information'!T45=\"\",N14,N14-100))","v":""},"",{"$f":"IF($L14=\"\",\"\",(VLOOKUP($P$41,Worksheet!$A$11:$AE$41,P14+1,FALSE)))","v":""},{"$f":"IF('Entry Information'!$I45=\"\",\"\",'LIMITED RESULTS'!R15)","v":""},{"$f":"IF('Entry Information'!$I45=\"\",\"\",IF('LIMITED RESULTS'!S15=\"\",\"\",'LIMITED RESULTS'!S15))","v":""},"",{"$f":"IF('Entry Information'!$I45=\"\",\"\",IF('Entry Information'!V45=\"\",T14,T14-100))","v":""},"",{"$f":"IF($R14=\"\",\"\",(VLOOKUP($V$41,Worksheet!$A$11:$AE$41,V14+1,FALSE)))","v":""},{"$f":"IF('Entry Information'!$I45=\"\",\"\",'LIMITED RESULTS'!X15)","v":""},{"$f":"IF('Entry Information'!$I45=\"\",\"\",IF('LIMITED RESULTS'!Y15=\"\",\"\",'LIMITED RESULTS'!Y15))","v":""},"",{"$f":"IF('Entry Information'!$I45=\"\",\"\",IF('Entry Information'!X45=\"\",Z14,Z14-100))","v":""},"",{"$f":"IF($X14=\"\",\"\",(VLOOKUP($AB$41,Worksheet!$A$11:$AE$41,AB14+1,FALSE)))","v":""},{"$f":"IF('Entry Information'!$I45=\"\",\"\",'LIMITED RESULTS'!AD15)","v":""},{"$f":"IF('Entry Information'!$I45=\"\",\"\",IF('LIMITED RESULTS'!AE15=\"\",\"\",'LIMITED RESULTS'!AE15))","v":""},"",{"$f":"IF('Entry Information'!$I45=\"\",\"\",IF('Entry Information'!Z45=\"\",AF14,AF14-100))","v":""},"",{"$f":"IF($AD14=\"\",\"\",(VLOOKUP($AH$41,Worksheet!$A$11:$AE$41,AH14+1,FALSE)))","v":""}]
[{"$f":"IF('Entry Information'!I46=\"\",\"\",'Entry Information'!B46)","v":""},{"$f":"IF('Entry Information'!I46=\"\",\"\",'Entry Information'!C46)","v":""},{"$f":"IF('Entry Information'!I46=\"\",\"\",'Entry Information'!D46)","v":""},{"$f":"IF('Entry Information'!I46=\"\",\"\",'Entry Information'!E46)","v":""},"LIM",{"$f":"IF('Entry Information'!$I46=\"\",\"\",'LIMITED RESULTS'!F16)","v":""},{"$f":"IF('Entry Information'!$I46=\"\",\"\",IF('LIMITED RESULTS'!G16=\"\",\"\",'LIMITED RESULTS'!G16))","v":""},"",{"$f":"IF('Entry Information'!$I46=\"\",\"\",IF('Entry Information'!R46=\"\",H15,H15-100))","v":""},"",{"$f":"IF($F15=\"\",\"\",(VLOOKUP($J$41,Worksheet!$A$11:$AE$41,J15+1,FALSE)))","v":""},{"$f":"IF('Entry Information'!$I46=\"\",\"\",'LIMITED RESULTS'!L16)","v":""},{"$f":"IF('Entry Information'!$I46=\"\",\"\",IF('LIMITED RESULTS'!M16=\"\",\"\",'LIMITED RESULTS'!M16))","v":""},"",{"$f":"IF('Entry Information'!$I46=\"\",\"\",IF('Entry Information'!T46=\"\",N15,N15-100))","v":""},"",{"$f":"IF($L15=\"\",\"\",(VLOOKUP($P$41,Worksheet!$A$11:$AE$41,P15+1,FALSE)))","v":""},{"$f":"IF('Entry Information'!$I46=\"\",\"\",'LIMITED RESULTS'!R16)","v":""},{"$f":"IF('Entry Information'!$I46=\"\",\"\",IF('LIMITED RESULTS'!S16=\"\",\"\",'LIMITED RESULTS'!S16))","v":""},"",{"$f":"IF('Entry Information'!$I46=\"\",\"\",IF('Entry Information'!V46=\"\",T15,T15-100))","v":""},"",{"$f":"IF($R15=\"\",\"\",(VLOOKUP($V$41,Worksheet!$A$11:$AE$41,V15+1,FALSE)))","v":""},{"$f":"IF('Entry Information'!$I46=\"\",\"\",'LIMITED RESULTS'!X16)","v":""},{"$f":"IF('Entry Information'!$I46=\"\",\"\",IF('LIMITED RESULTS'!Y16=\"\",\"\",'LIMITED RESULTS'!Y16))","v":""},"",{"$f":"IF('Entry Information'!$I46=\"\",\"\",IF('Entry Information'!X46=\"\",Z15,Z15-100))","v":""},"",{"$f":"IF($X15=\"\",\"\",(VLOOKUP($AB$41,Worksheet!$A$11:$AE$41,AB15+1,FALSE)))","v":""},{"$f":"IF('Entry Information'!$I46=\"\",\"\",'LIMITED RESULTS'!AD16)","v":""},{"$f":"IF('Entry Information'!$I46=\"\",\"\",IF('LIMITED RESULTS'!AE16=\"\",\"\",'LIMITED RESULTS'!AE16))","v":""},"",{"$f":"IF('Entry Information'!$I46=\"\",\"\",IF('Entry Information'!Z46=\"\",AF15,AF15-100))","v":""},"",{"$f":"IF($AD15=\"\",\"\",(VLOOKUP($AH$41,Worksheet!$A$11:$AE$41,AH15+1,FALSE)))","v":""}]
[{"$f":"IF('Entry Information'!I47=\"\",\"\",'Entry Information'!B47)","v":""},{"$f":"IF('Entry Information'!I47=\"\",\"\",'Entry Information'!C47)","v":""},{"$f":"IF('Entry Information'!I47=\"\",\"\",'Entry Information'!D47)","v":""},{"$f":"IF('Entry Information'!I47=\"\",\"\",'Entry Information'!E47)","v":""},"LIM",{"$f":"IF('Entry Information'!$I47=\"\",\"\",'LIMITED RESULTS'!F17)","v":""},{"$f":"IF('Entry Information'!$I47=\"\",\"\",IF('LIMITED RESULTS'!G17=\"\",\"\",'LIMITED RESULTS'!G17))","v":""},"",{"$f":"IF('Entry Information'!$I47=\"\",\"\",IF('Entry Information'!R47=\"\",H16,H16-100))","v":""},"",{"$f":"IF($F16=\"\",\"\",(VLOOKUP($J$41,Worksheet!$A$11:$AE$41,J16+1,FALSE)))","v":""},{"$f":"IF('Entry Information'!$I47=\"\",\"\",'LIMITED RESULTS'!L17)","v":""},{"$f":"IF('Entry Information'!$I47=\"\",\"\",IF('LIMITED RESULTS'!M17=\"\",\"\",'LIMITED RESULTS'!M17))","v":""},"",{"$f":"IF('Entry Information'!$I47=\"\",\"\",IF('Entry Information'!T47=\"\",N16,N16-100))","v":""},"",{"$f":"IF($L16=\"\",\"\",(VLOOKUP($P$41,Worksheet!$A$11:$AE$41,P16+1,FALSE)))","v":""},{"$f":"IF('Entry Information'!$I47=\"\",\"\",'LIMITED RESULTS'!R17)","v":""},{"$f":"IF('Entry Information'!$I47=\"\",\"\",IF('LIMITED RESULTS'!S17=\"\",\"\",'LIMITED RESULTS'!S17))","v":""},"",{"$f":"IF('Entry Information'!$I47=\"\",\"\",IF('Entry Information'!V47=\"\",T16,T16-100))","v":""},"",{"$f":"IF($R16=\"\",\"\",(VLOOKUP($V$41,Worksheet!$A$11:$AE$41,V16+1,FALSE)))","v":""},{"$f":"IF('Entry Information'!$I47=\"\",\"\",'LIMITED RESULTS'!X17)","v":""},{"$f":"IF('Entry Information'!$I47=\"\",\"\",IF('LIMITED RESULTS'!Y17=\"\",\"\",'LIMITED RESULTS'!Y17))","v":""},"",{"$f":"IF('Entry Information'!$I47=\"\",\"\",IF('Entry Information'!X47=\"\",Z16,Z16-100))","v":""},"",{"$f":"IF($X16=\"\",\"\",(VLOOKUP($AB$41,Worksheet!$A$11:$AE$41,AB16+1,FALSE)))","v":""},{"$f":"IF('Entry Information'!$I47=\"\",\"\",'LIMITED RESULTS'!AD17)","v":""},{"$f":"IF('Entry Information'!$I47=\"\",\"\",IF('LIMITED RESULTS'!AE17=\"\",\"\",'LIMITED RESULTS'!AE17))","v":""},"",{"$f":"IF('Entry Information'!$I47=\"\",\"\",IF('Entry Information'!Z47=\"\",AF16,AF16-100))","v":""},"",{"$f":"IF($AD16=\"\",\"\",(VLOOKUP($AH$41,Worksheet!$A$11:$AE$41,AH16+1,FALSE)))","v":""}]
[{"$f":"IF('Entry Information'!I48=\"\",\"\",'Entry Information'!B48)","v":""},{"$f":"IF('Entry Information'!I48=\"\",\"\",'Entry Information'!C48)","v":""},{"$f":"IF('Entry Information'!I48=\"\",\"\",'Entry Information'!D48)","v":""},{"$f":"IF('Entry Information'!I48=\"\",\"\",'Entry Information'!E48)","v":""},"LIM",{"$f":"IF('Entry Information'!$I48=\"\",\"\",'LIMITED RESULTS'!F18)","v":""},{"$f":"IF('Entry Information'!$I48=\"\",\"\",IF('LIMITED RESULTS'!G18=\"\",\"\",'LIMITED RESULTS'!G18))","v":""},"",{"$f":"IF('Entry Information'!$I48=\"\",\"\",IF('Entry Information'!R48=\"\",H17,H17-100))","v":""},"",{"$f":"IF($F17=\"\",\"\",(VLOOKUP($J$41,Worksheet!$A$11:$AE$41,J17+1,FALSE)))","v":""},{"$f":"IF('Entry Information'!$I48=\"\",\"\",'LIMITED RESULTS'!L18)","v":""},{"$f":"IF('Entry Information'!$I48=\"\",\"\",IF('LIMITED RESULTS'!M18=\"\",\"\",'LIMITED RESULTS'!M18))","v":""},"",{"$f":"IF('Entry Information'!$I48=\"\",\"\",IF('Entry Information'!T48=\"\",N17,N17-100))","v":""},"",{"$f":"IF($L17=\"\",\"\",(VLOOKUP($P$41,Worksheet!$A$11:$AE$41,P17+1,FALSE)))","v":""},{"$f":"IF('Entry Information'!$I48=\"\",\"\",'LIMITED RESULTS'!R18)","v":""},{"$f":"IF('Entry Information'!$I48=\"\",\"\",IF('LIMITED RESULTS'!S18=\"\",\"\",'LIMITED RESULTS'!S18))","v":""},"",{"$f":"IF('Entry Information'!$I48=\"\",\"\",IF('Entry Information'!V48=\"\",T17,T17-100))","v":""},"",{"$f":"IF($R17=\"\",\"\",(VLOOKUP($V$41,Worksheet!$A$11:$AE$41,V17+1,FALSE)))","v":""},{"$f":"IF('Entry Information'!$I48=\"\",\"\",'LIMITED RESULTS'!X18)","v":""},{"$f":"IF('Entry Information'!$I48=\"\",\"\",IF('LIMITED RESULTS'!Y18=\"\",\"\",'LIMITED RESULTS'!Y18))","v":""},"",{"$f":"IF('Entry Information'!$I48=\"\",\"\",IF('Entry Information'!X48=\"\",Z17,Z17-100))","v":""},"",{"$f":"IF($X17=\"\",\"\",(VLOOKUP($AB$41,Worksheet!$A$11:$AE$41,AB17+1,FALSE)))","v":""},{"$f":"IF('Entry Information'!$I48=\"\",\"\",'LIMITED RESULTS'!AD18)","v":""},{"$f":"IF('Entry Information'!$I48=\"\",\"\",IF('LIMITED RESULTS'!AE18=\"\",\"\",'LIMITED RESULTS'!AE18))","v":""},"",{"$f":"IF('Entry Information'!$I48=\"\",\"\",IF('Entry Information'!Z48=\"\",AF17,AF17-100))","v":""},"",{"$f":"IF($AD17=\"\",\"\",(VLOOKUP($AH$41,Worksheet!$A$11:$AE$41,AH17+1,FALSE)))","v":""}]
[{"$f":"IF('Entry Information'!I49=\"\",\"\",'Entry Information'!B49)","v":""},{"$f":"IF('Entry Information'!I49=\"\",\"\",'Entry Information'!C49)","v":""},{"$f":"IF('Entry Information'!I49=\"\",\"\",'Entry Information'!D49)","v":""},{"$f":"IF('Entry Information'!I49=\"\",\"\",'Entry Information'!E49)","v":""},"LIM",{"$f":"IF('Entry Information'!$I49=\"\",\"\",'LIMITED RESULTS'!F19)","v":""},{"$f":"IF('Entry Information'!$I49=\"\",\"\",IF('LIMITED RESULTS'!G19=\"\",\"\",'LIMITED RESULTS'!G19))","v":""},"",{"$f":"IF('Entry Information'!$I49=\"\",\"\",IF('Entry Information'!R49=\"\",H18,H18-100))","v":""},"",{"$f":"IF($F18=\"\",\"\",(VLOOKUP($J$41,Worksheet!$A$11:$AE$41,J18+1,FALSE)))","v":""},{"$f":"IF('Entry Information'!$I49=\"\",\"\",'LIMITED RESULTS'!L19)","v":""},{"$f":"IF('Entry Information'!$I49=\"\",\"\",IF('LIMITED RESULTS'!M19=\"\",\"\",'LIMITED RESULTS'!M19))","v":""},"",{"$f":"IF('Entry Information'!$I49=\"\",\"\",IF('Entry Information'!T49=\"\",N18,N18-100))","v":""},"",{"$f":"IF($L18=\"\",\"\",(VLOOKUP($P$41,Worksheet!$A$11:$AE$41,P18+1,FALSE)))","v":""},{"$f":"IF('Entry Information'!$I49=\"\",\"\",'LIMITED RESULTS'!R19)","v":""},{"$f":"IF('Entry Information'!$I49=\"\",\"\",IF('LIMITED RESULTS'!S19=\"\",\"\",'LIMITED RESULTS'!S19))","v":""},"",{"$f":"IF('Entry Information'!$I49=\"\",\"\",IF('Entry Information'!V49=\"\",T18,T18-100))","v":""},"",{"$f":"IF($R18=\"\",\"\",(VLOOKUP($V$41,Worksheet!$A$11:$AE$41,V18+1,FALSE)))","v":""},{"$f":"IF('Entry Information'!$I49=\"\",\"\",'LIMITED RESULTS'!X19)","v":""},{"$f":"IF('Entry Information'!$I49=\"\",\"\",IF('LIMITED RESULTS'!Y19=\"\",\"\",'LIMITED RESULTS'!Y19))","v":""},"",{"$f":"IF('Entry Information'!$I49=\"\",\"\",IF('Entry Information'!X49=\"\",Z18,Z18-100))","v":""},"",{"$f":"IF($X18=\"\",\"\",(VLOOKUP($AB$41,Worksheet!$A$11:$AE$41,AB18+1,FALSE)))","v":""},{"$f":"IF('Entry Information'!$I49=\"\",\"\",'LIMITED RESULTS'!AD19)","v":""},{"$f":"IF('Entry Information'!$I49=\"\",\"\",IF('LIMITED RESULTS'!AE19=\"\",\"\",'LIMITED RESULTS'!AE19))","v":""},"",{"$f":"IF('Entry Information'!$I49=\"\",\"\",IF('Entry Information'!Z49=\"\",AF18,AF18-100))","v":""},"",{"$f":"IF($AD18=\"\",\"\",(VLOOKUP($AH$41,Worksheet!$A$11:$AE$41,AH18+1,FALSE)))","v":""}]
[{"$f":"IF('Entry Information'!I50=\"\",\"\",'Entry Information'!B50)","v":""},{"$f":"IF('Entry Information'!I50=\"\",\"\",'Entry Information'!C50)","v":""},{"$f":"IF('Entry Information'!I50=\"\",\"\",'Entry Information'!D50)","v":""},{"$f":"IF('Entry Information'!I50=\"\",\"\",'Entry Information'!E50)","v":""},"LIM",{"$f":"IF('Entry Information'!$I50=\"\",\"\",'LIMITED RESULTS'!F20)","v":""},{"$f":"IF('Entry Information'!$I50=\"\",\"\",IF('LIMITED RESULTS'!G20=\"\",\"\",'LIMITED RESULTS'!G20))","v":""},"",{"$f":"IF('Entry Information'!$I50=\"\",\"\",IF('Entry Information'!R50=\"\",H19,H19-100))","v":""},"",{"$f":"IF($F19=\"\",\"\",(VLOOKUP($J$41,Worksheet!$A$11:$AE$41,J19+1,FALSE)))","v":""},{"$f":"IF('Entry Information'!$I50=\"\",\"\",'LIMITED RESULTS'!L20)","v":""},{"$f":"IF('Entry Information'!$I50=\"\",\"\",IF('LIMITED RESULTS'!M20=\"\",\"\",'LIMITED RESULTS'!M20))","v":""},"",{"$f":"IF('Entry Information'!$I50=\"\",\"\",IF('Entry Information'!T50=\"\",N19,N19-100))","v":""},"",{"$f":"IF($L19=\"\",\"\",(VLOOKUP($P$41,Worksheet!$A$11:$AE$41,P19+1,FALSE)))","v":""},{"$f":"IF('Entry Information'!$I50=\"\",\"\",'LIMITED RESULTS'!R20)","v":""},{"$f":"IF('Entry Information'!$I50=\"\",\"\",IF('LIMITED RESULTS'!S20=\"\",\"\",'LIMITED RESULTS'!S20))","v":""},"",{"$f":"IF('Entry Information'!$I50=\"\",\"\",IF('Entry Information'!V50=\"\",T19,T19-100))","v":""},"",{"$f":"IF($R19=\"\",\"\",(VLOOKUP($V$41,Worksheet!$A$11:$AE$41,V19+1,FALSE)))","v":""},{"$f":"IF('Entry Information'!$I50=\"\",\"\",'LIMITED RESULTS'!X20)","v":""},{"$f":"IF('Entry Information'!$I50=\"\",\"\",IF('LIMITED RESULTS'!Y20=\"\",\"\",'LIMITED RESULTS'!Y20))","v":""},"",{"$f":"IF('Entry Information'!$I50=\"\",\"\",IF('Entry Information'!X50=\"\",Z19,Z19-100))","v":""},"",{"$f":"IF($X19=\"\",\"\",(VLOOKUP($AB$41,Worksheet!$A$11:$AE$41,AB19+1,FALSE)))","v":""},{"$f":"IF('Entry Information'!$I50=\"\",\"\",'LIMITED RESULTS'!AD20)","v":""},{"$f":"IF('Entry Information'!$I50=\"\",\"\",IF('LIMITED RESULTS'!AE20=\"\",\"\",'LIMITED RESULTS'!AE20))","v":""},"",{"$f":"IF('Entry Information'!$I50=\"\",\"\",IF('Entry Information'!Z50=\"\",AF19,AF19-100))","v":""},"",{"$f":"IF($AD19=\"\",\"\",(VLOOKUP($AH$41,Worksheet!$A$11:$AE$41,AH19+1,FALSE)))","v":""}]
[{"$f":"IF('Entry Information'!I51=\"\",\"\",'Entry Information'!B51)","v":""},{"$f":"IF('Entry Information'!I51=\"\",\"\",'Entry Information'!C51)","v":""},{"$f":"IF('Entry Information'!I51=\"\",\"\",'Entry Information'!D51)","v":""},{"$f":"IF('Entry Information'!I51=\"\",\"\",'Entry Information'!E51)","v":""},"LIM",{"$f":"IF('Entry Information'!$I51=\"\",\"\",'LIMITED RESULTS'!F21)","v":""},{"$f":"IF('Entry Information'!$I51=\"\",\"\",IF('LIMITED RESULTS'!G21=\"\",\"\",'LIMITED RESULTS'!G21))","v":""},"",{"$f":"IF('Entry Information'!$I51=\"\",\"\",IF('Entry Information'!R51=\"\",H20,H20-100))","v":""},"",{"$f":"IF($F20=\"\",\"\",(VLOOKUP($J$41,Worksheet!$A$11:$AE$41,J20+1,FALSE)))","v":""},{"$f":"IF('Entry Information'!$I51=\"\",\"\",'LIMITED RESULTS'!L21)","v":""},{"$f":"IF('Entry Information'!$I51=\"\",\"\",IF('LIMITED RESULTS'!M21=\"\",\"\",'LIMITED RESULTS'!M21))","v":""},"",{"$f":"IF('Entry Information'!$I51=\"\",\"\",IF('Entry Information'!T51=\"\",N20,N20-100))","v":""},"",{"$f":"IF($L20=\"\",\"\",(VLOOKUP($P$41,Worksheet!$A$11:$AE$41,P20+1,FALSE)))","v":""},{"$f":"IF('Entry Information'!$I51=\"\",\"\",'LIMITED RESULTS'!R21)","v":""},{"$f":"IF('Entry Information'!$I51=\"\",\"\",IF('LIMITED RESULTS'!S21=\"\",\"\",'LIMITED RESULTS'!S21))","v":""},"",{"$f":"IF('Entry Information'!$I51=\"\",\"\",IF('Entry Information'!V51=\"\",T20,T20-100))","v":""},"",{"$f":"IF($R20=\"\",\"\",(VLOOKUP($V$41,Worksheet!$A$11:$AE$41,V20+1,FALSE)))","v":""},{"$f":"IF('Entry Information'!$I51=\"\",\"\",'LIMITED RESULTS'!X21)","v":""},{"$f":"IF('Entry Information'!$I51=\"\",\"\",IF('LIMITED RESULTS'!Y21=\"\",\"\",'LIMITED RESULTS'!Y21))","v":""},"",{"$f":"IF('Entry Information'!$I51=\"\",\"\",IF('Entry Information'!X51=\"\",Z20,Z20-100))","v":""},"",{"$f":"IF($X20=\"\",\"\",(VLOOKUP($AB$41,Worksheet!$A$11:$AE$41,AB20+1,FALSE)))","v":""},{"$f":"IF('Entry Information'!$I51=\"\",\"\",'LIMITED RESULTS'!AD21)","v":""},{"$f":"IF('Entry Information'!$I51=\"\",\"\",IF('LIMITED RESULTS'!AE21=\"\",\"\",'LIMITED RESULTS'!AE21))","v":""},"",{"$f":"IF('Entry Information'!$I51=\"\",\"\",IF('Entry Information'!Z51=\"\",AF20,AF20-100))","v":""},"",{"$f":"IF($AD20=\"\",\"\",(VLOOKUP($AH$41,Worksheet!$A$11:$AE$41,AH20+1,FALSE)))","v":""}]
[{"$f":"IF('Entry Information'!I52=\"\",\"\",'Entry Information'!B52)","v":""},{"$f":"IF('Entry Information'!I52=\"\",\"\",'Entry Information'!C52)","v":""},{"$f":"IF('Entry Information'!I52=\"\",\"\",'Entry Information'!D52)","v":""},{"$f":"IF('Entry Information'!I52=\"\",\"\",'Entry Information'!E52)","v":""},"LIM",{"$f":"IF('Entry Information'!$I52=\"\",\"\",'LIMITED RESULTS'!F22)","v":""},{"$f":"IF('Entry Information'!$I52=\"\",\"\",IF('LIMITED RESULTS'!G22=\"\",\"\",'LIMITED RESULTS'!G22))","v":""},"",{"$f":"IF('Entry Information'!$I52=\"\",\"\",IF('Entry Information'!R52=\"\",H21,H21-100))","v":""},"",{"$f":"IF($F21=\"\",\"\",(VLOOKUP($J$41,Worksheet!$A$11:$AE$41,J21+1,FALSE)))","v":""},{"$f":"IF('Entry Information'!$I52=\"\",\"\",'LIMITED RESULTS'!L22)","v":""},{"$f":"IF('Entry Information'!$I52=\"\",\"\",IF('LIMITED RESULTS'!M22=\"\",\"\",'LIMITED RESULTS'!M22))","v":""},"",{"$f":"IF('Entry Information'!$I52=\"\",\"\",IF('Entry Information'!T52=\"\",N21,N21-100))","v":""},"",{"$f":"IF($L21=\"\",\"\",(VLOOKUP($P$41,Worksheet!$A$11:$AE$41,P21+1,FALSE)))","v":""},{"$f":"IF('Entry Information'!$I52=\"\",\"\",'LIMITED RESULTS'!R22)","v":""},{"$f":"IF('Entry Information'!$I52=\"\",\"\",IF('LIMITED RESULTS'!S22=\"\",\"\",'LIMITED RESULTS'!S22))","v":""},"",{"$f":"IF('Entry Information'!$I52=\"\",\"\",IF('Entry Information'!V52=\"\",T21,T21-100))","v":""},"",{"$f":"IF($R21=\"\",\"\",(VLOOKUP($V$41,Worksheet!$A$11:$AE$41,V21+1,FALSE)))","v":""},{"$f":"IF('Entry Information'!$I52=\"\",\"\",'LIMITED RESULTS'!X22)","v":""},{"$f":"IF('Entry Information'!$I52=\"\",\"\",IF('LIMITED RESULTS'!Y22=\"\",\"\",'LIMITED RESULTS'!Y22))","v":""},"",{"$f":"IF('Entry Information'!$I52=\"\",\"\",IF('Entry Information'!X52=\"\",Z21,Z21-100))","v":""},"",{"$f":"IF($X21=\"\",\"\",(VLOOKUP($AB$41,Worksheet!$A$11:$AE$41,AB21+1,FALSE)))","v":""},{"$f":"IF('Entry Information'!$I52=\"\",\"\",'LIMITED RESULTS'!AD22)","v":""},{"$f":"IF('Entry Information'!$I52=\"\",\"\",IF('LIMITED RESULTS'!AE22=\"\",\"\",'LIMITED RESULTS'!AE22))","v":""},"",{"$f":"IF('Entry Information'!$I52=\"\",\"\",IF('Entry Information'!Z52=\"\",AF21,AF21-100))","v":""},"",{"$f":"IF($AD21=\"\",\"\",(VLOOKUP($AH$41,Worksheet!$A$11:$AE$41,AH21+1,FALSE)))","v":""}]
[{"$f":"IF('Entry Information'!I53=\"\",\"\",'Entry Information'!B53)","v":""},{"$f":"IF('Entry Information'!I53=\"\",\"\",'Entry Information'!C53)","v":""},{"$f":"IF('Entry Information'!I53=\"\",\"\",'Entry Information'!D53)","v":""},{"$f":"IF('Entry Information'!I53=\"\",\"\",'Entry Information'!E53)","v":""},"LIM",{"$f":"IF('Entry Information'!$I53=\"\",\"\",'LIMITED RESULTS'!F23)","v":""},{"$f":"IF('Entry Information'!$I53=\"\",\"\",IF('LIMITED RESULTS'!G23=\"\",\"\",'LIMITED RESULTS'!G23))","v":""},"",{"$f":"IF('Entry Information'!$I53=\"\",\"\",IF('Entry Information'!R53=\"\",H22,H22-100))","v":""},"",{"$f":"IF($F22=\"\",\"\",(VLOOKUP($J$41,Worksheet!$A$11:$AE$41,J22+1,FALSE)))","v":""},{"$f":"IF('Entry Information'!$I53=\"\",\"\",'LIMITED RESULTS'!L23)","v":""},{"$f":"IF('Entry Information'!$I53=\"\",\"\",IF('LIMITED RESULTS'!M23=\"\",\"\",'LIMITED RESULTS'!M23))","v":""},"",{"$f":"IF('Entry Information'!$I53=\"\",\"\",IF('Entry Information'!T53=\"\",N22,N22-100))","v":""},"",{"$f":"IF($L22=\"\",\"\",(VLOOKUP($P$41,Worksheet!$A$11:$AE$41,P22+1,FALSE)))","v":""},{"$f":"IF('Entry Information'!$I53=\"\",\"\",'LIMITED RESULTS'!R23)","v":""},{"$f":"IF('Entry Information'!$I53=\"\",\"\",IF('LIMITED RESULTS'!S23=\"\",\"\",'LIMITED RESULTS'!S23))","v":""},"",{"$f":"IF('Entry Information'!$I53=\"\",\"\",IF('Entry Information'!V53=\"\",T22,T22-100))","v":""},"",{"$f":"IF($R22=\"\",\"\",(VLOOKUP($V$41,Worksheet!$A$11:$AE$41,V22+1,FALSE)))","v":""},{"$f":"IF('Entry Information'!$I53=\"\",\"\",'LIMITED RESULTS'!X23)","v":""},{"$f":"IF('Entry Information'!$I53=\"\",\"\",IF('LIMITED RESULTS'!Y23=\"\",\"\",'LIMITED RESULTS'!Y23))","v":""},"",{"$f":"IF('Entry Information'!$I53=\"\",\"\",IF('Entry Information'!X53=\"\",Z22,Z22-100))","v":""},"",{"$f":"IF($X22=\"\",\"\",(VLOOKUP($AB$41,Worksheet!$A$11:$AE$41,AB22+1,FALSE)))","v":""},{"$f":"IF('Entry Information'!$I53=\"\",\"\",'LIMITED RESULTS'!AD23)","v":""},{"$f":"IF('Entry Information'!$I53=\"\",\"\",IF('LIMITED RESULTS'!AE23=\"\",\"\",'LIMITED RESULTS'!AE23))","v":""},"",{"$f":"IF('Entry Information'!$I53=\"\",\"\",IF('Entry Information'!Z53=\"\",AF22,AF22-100))","v":""},"",{"$f":"IF($AD22=\"\",\"\",(VLOOKUP($AH$41,Worksheet!$A$11:$AE$41,AH22+1,FALSE)))","v":""}]
[{"$f":"IF('Entry Information'!I54=\"\",\"\",'Entry Information'!B54)","v":""},{"$f":"IF('Entry Information'!I54=\"\",\"\",'Entry Information'!C54)","v":""},{"$f":"IF('Entry Information'!I54=\"\",\"\",'Entry Information'!D54)","v":""},{"$f":"IF('Entry Information'!I54=\"\",\"\",'Entry Information'!E54)","v":""},"LIM",{"$f":"IF('Entry Information'!$I54=\"\",\"\",'LIMITED RESULTS'!F24)","v":""},{"$f":"IF('Entry Information'!$I54=\"\",\"\",IF('LIMITED RESULTS'!G24=\"\",\"\",'LIMITED RESULTS'!G24))","v":""},"",{"$f":"IF('Entry Information'!$I54=\"\",\"\",IF('Entry Information'!R54=\"\",H23,H23-100))","v":""},"",{"$f":"IF($F23=\"\",\"\",(VLOOKUP($J$41,Worksheet!$A$11:$AE$41,J23+1,FALSE)))","v":""},{"$f":"IF('Entry Information'!$I54=\"\",\"\",'LIMITED RESULTS'!L24)","v":""},{"$f":"IF('Entry Information'!$I54=\"\",\"\",IF('LIMITED RESULTS'!M24=\"\",\"\",'LIMITED RESULTS'!M24))","v":""},"",{"$f":"IF('Entry Information'!$I54=\"\",\"\",IF('Entry Information'!T54=\"\",N23,N23-100))","v":""},"",{"$f":"IF($L23=\"\",\"\",(VLOOKUP($P$41,Worksheet!$A$11:$AE$41,P23+1,FALSE)))","v":""},{"$f":"IF('Entry Information'!$I54=\"\",\"\",'LIMITED RESULTS'!R24)","v":""},{"$f":"IF('Entry Information'!$I54=\"\",\"\",IF('LIMITED RESULTS'!S24=\"\",\"\",'LIMITED RESULTS'!S24))","v":""},"",{"$f":"IF('Entry Information'!$I54=\"\",\"\",IF('Entry Information'!V54=\"\",T23,T23-100))","v":""},"",{"$f":"IF($R23=\"\",\"\",(VLOOKUP($V$41,Worksheet!$A$11:$AE$41,V23+1,FALSE)))","v":""},{"$f":"IF('Entry Information'!$I54=\"\",\"\",'LIMITED RESULTS'!X24)","v":""},{"$f":"IF('Entry Information'!$I54=\"\",\"\",IF('LIMITED RESULTS'!Y24=\"\",\"\",'LIMITED RESULTS'!Y24))","v":""},"",{"$f":"IF('Entry Information'!$I54=\"\",\"\",IF('Entry Information'!X54=\"\",Z23,Z23-100))","v":""},"",{"$f":"IF($X23=\"\",\"\",(VLOOKUP($AB$41,Worksheet!$A$11:$AE$41,AB23+1,FALSE)))","v":""},{"$f":"IF('Entry Information'!$I54=\"\",\"\",'LIMITED RESULTS'!AD24)","v":""},{"$f":"IF('Entry Information'!$I54=\"\",\"\",IF('LIMITED RESULTS'!AE24=\"\",\"\",'LIMITED RESULTS'!AE24))","v":""},"",{"$f":"IF('Entry Information'!$I54=\"\",\"\",IF('Entry Information'!Z54=\"\",AF23,AF23-100))","v":""},"",{"$f":"IF($AD23=\"\",\"\",(VLOOKUP($AH$41,Worksheet!$A$11:$AE$41,AH23+1,FALSE)))","v":""}]
[{"$f":"IF('Entry Information'!I55=\"\",\"\",'Entry Information'!B55)","v":""},{"$f":"IF('Entry Information'!I55=\"\",\"\",'Entry Information'!C55)","v":""},{"$f":"IF('Entry Information'!I55=\"\",\"\",'Entry Information'!D55)","v":""},{"$f":"IF('Entry Information'!I55=\"\",\"\",'Entry Information'!E55)","v":""},"LIM",{"$f":"IF('Entry Information'!$I55=\"\",\"\",'LIMITED RESULTS'!F25)","v":""},{"$f":"IF('Entry Information'!$I55=\"\",\"\",IF('LIMITED RESULTS'!G25=\"\",\"\",'LIMITED RESULTS'!G25))","v":""},"",{"$f":"IF('Entry Information'!$I55=\"\",\"\",IF('Entry Information'!R55=\"\",H24,H24-100))","v":""},"",{"$f":"IF($F24=\"\",\"\",(VLOOKUP($J$41,Worksheet!$A$11:$AE$41,J24+1,FALSE)))","v":""},{"$f":"IF('Entry Information'!$I55=\"\",\"\",'LIMITED RESULTS'!L25)","v":""},{"$f":"IF('Entry Information'!$I55=\"\",\"\",IF('LIMITED RESULTS'!M25=\"\",\"\",'LIMITED RESULTS'!M25))","v":""},"",{"$f":"IF('Entry Information'!$I55=\"\",\"\",IF('Entry Information'!T55=\"\",N24,N24-100))","v":""},"",{"$f":"IF($L24=\"\",\"\",(VLOOKUP($P$41,Worksheet!$A$11:$AE$41,P24+1,FALSE)))","v":""},{"$f":"IF('Entry Information'!$I55=\"\",\"\",'LIMITED RESULTS'!R25)","v":""},{"$f":"IF('Entry Information'!$I55=\"\",\"\",IF('LIMITED RESULTS'!S25=\"\",\"\",'LIMITED RESULTS'!S25))","v":""},"",{"$f":"IF('Entry Information'!$I55=\"\",\"\",IF('Entry Information'!V55=\"\",T24,T24-100))","v":""},"",{"$f":"IF($R24=\"\",\"\",(VLOOKUP($V$41,Worksheet!$A$11:$AE$41,V24+1,FALSE)))","v":""},{"$f":"IF('Entry Information'!$I55=\"\",\"\",'LIMITED RESULTS'!X25)","v":""},{"$f":"IF('Entry Information'!$I55=\"\",\"\",IF('LIMITED RESULTS'!Y25=\"\",\"\",'LIMITED RESULTS'!Y25))","v":""},"",{"$f":"IF('Entry Information'!$I55=\"\",\"\",IF('Entry Information'!X55=\"\",Z24,Z24-100))","v":""},"",{"$f":"IF($X24=\"\",\"\",(VLOOKUP($AB$41,Worksheet!$A$11:$AE$41,AB24+1,FALSE)))","v":""},{"$f":"IF('Entry Information'!$I55=\"\",\"\",'LIMITED RESULTS'!AD25)","v":""},{"$f":"IF('Entry Information'!$I55=\"\",\"\",IF('LIMITED RESULTS'!AE25=\"\",\"\",'LIMITED RESULTS'!AE25))","v":""},"",{"$f":"IF('Entry Information'!$I55=\"\",\"\",IF('Entry Information'!Z55=\"\",AF24,AF24-100))","v":""},"",{"$f":"IF($AD24=\"\",\"\",(VLOOKUP($AH$41,Worksheet!$A$11:$AE$41,AH24+1,FALSE)))","v":""}]
[{"$f":"IF('Entry Information'!I56=\"\",\"\",'Entry Information'!B56)","v":""},{"$f":"IF('Entry Information'!I56=\"\",\"\",'Entry Information'!C56)","v":""},{"$f":"IF('Entry Information'!I56=\"\",\"\",'Entry Information'!D56)","v":""},{"$f":"IF('Entry Information'!I56=\"\",\"\",'Entry Information'!E56)","v":""},"LIM",{"$f":"IF('Entry Information'!$I56=\"\",\"\",'LIMITED RESULTS'!F26)","v":""},{"$f":"IF('Entry Information'!$I56=\"\",\"\",IF('LIMITED RESULTS'!G26=\"\",\"\",'LIMITED RESULTS'!G26))","v":""},"",{"$f":"IF('Entry Information'!$I56=\"\",\"\",IF('Entry Information'!R56=\"\",H25,H25-100))","v":""},"",{"$f":"IF($F25=\"\",\"\",(VLOOKUP($J$41,Worksheet!$A$11:$AE$41,J25+1,FALSE)))","v":""},{"$f":"IF('Entry Information'!$I56=\"\",\"\",'LIMITED RESULTS'!L26)","v":""},{"$f":"IF('Entry Information'!$I56=\"\",\"\",IF('LIMITED RESULTS'!M26=\"\",\"\",'LIMITED RESULTS'!M26))","v":""},"",{"$f":"IF('Entry Information'!$I56=\"\",\"\",IF('Entry Information'!T56=\"\",N25,N25-100))","v":""},"",{"$f":"IF($L25=\"\",\"\",(VLOOKUP($P$41,Worksheet!$A$11:$AE$41,P25+1,FALSE)))","v":""},{"$f":"IF('Entry Information'!$I56=\"\",\"\",'LIMITED RESULTS'!R26)","v":""},{"$f":"IF('Entry Information'!$I56=\"\",\"\",IF('LIMITED RESULTS'!S26=\"\",\"\",'LIMITED RESULTS'!S26))","v":""},"",{"$f":"IF('Entry Information'!$I56=\"\",\"\",IF('Entry Information'!V56=\"\",T25,T25-100))","v":""},"",{"$f":"IF($R25=\"\",\"\",(VLOOKUP($V$41,Worksheet!$A$11:$AE$41,V25+1,FALSE)))","v":""},{"$f":"IF('Entry Information'!$I56=\"\",\"\",'LIMITED RESULTS'!X26)","v":""},{"$f":"IF('Entry Information'!$I56=\"\",\"\",IF('LIMITED RESULTS'!Y26=\"\",\"\",'LIMITED RESULTS'!Y26))","v":""},"",{"$f":"IF('Entry Information'!$I56=\"\",\"\",IF('Entry Information'!X56=\"\",Z25,Z25-100))","v":""},"",{"$f":"IF($X25=\"\",\"\",(VLOOKUP($AB$41,Worksheet!$A$11:$AE$41,AB25+1,FALSE)))","v":""},{"$f":"IF('Entry Information'!$I56=\"\",\"\",'LIMITED RESULTS'!AD26)","v":""},{"$f":"IF('Entry Information'!$I56=\"\",\"\",IF('LIMITED RESULTS'!AE26=\"\",\"\",'LIMITED RESULTS'!AE26))","v":""},"",{"$f":"IF('Entry Information'!$I56=\"\",\"\",IF('Entry Information'!Z56=\"\",AF25,AF25-100))","v":""},"",{"$f":"IF($AD25=\"\",\"\",(VLOOKUP($AH$41,Worksheet!$A$11:$AE$41,AH25+1,FALSE)))","v":""}]
[{"$f":"IF('Entry Information'!I57=\"\",\"\",'Entry Information'!B57)","v":""},{"$f":"IF('Entry Information'!I57=\"\",\"\",'Entry Information'!C57)","v":""},{"$f":"IF('Entry Information'!I57=\"\",\"\",'Entry Information'!D57)","v":""},{"$f":"IF('Entry Information'!I57=\"\",\"\",'Entry Information'!E57)","v":""},"LIM",{"$f":"IF('Entry Information'!$I57=\"\",\"\",'LIMITED RESULTS'!F27)","v":""},{"$f":"IF('Entry Information'!$I57=\"\",\"\",IF('LIMITED RESULTS'!G27=\"\",\"\",'LIMITED RESULTS'!G27))","v":""},"",{"$f":"IF('Entry Information'!$I57=\"\",\"\",IF('Entry Information'!R57=\"\",H26,H26-100))","v":""},"",{"$f":"IF($F26=\"\",\"\",(VLOOKUP($J$41,Worksheet!$A$11:$AE$41,J26+1,FALSE)))","v":""},{"$f":"IF('Entry Information'!$I57=\"\",\"\",'LIMITED RESULTS'!L27)","v":""},{"$f":"IF('Entry Information'!$I57=\"\",\"\",IF('LIMITED RESULTS'!M27=\"\",\"\",'LIMITED RESULTS'!M27))","v":""},"",{"$f":"IF('Entry Information'!$I57=\"\",\"\",IF('Entry Information'!T57=\"\",N26,N26-100))","v":""},"",{"$f":"IF($L26=\"\",\"\",(VLOOKUP($P$41,Worksheet!$A$11:$AE$41,P26+1,FALSE)))","v":""},{"$f":"IF('Entry Information'!$I57=\"\",\"\",'LIMITED RESULTS'!R27)","v":""},{"$f":"IF('Entry Information'!$I57=\"\",\"\",IF('LIMITED RESULTS'!S27=\"\",\"\",'LIMITED RESULTS'!S27))","v":""},"",{"$f":"IF('Entry Information'!$I57=\"\",\"\",IF('Entry Information'!V57=\"\",T26,T26-100))","v":""},"",{"$f":"IF($R26=\"\",\"\",(VLOOKUP($V$41,Worksheet!$A$11:$AE$41,V26+1,FALSE)))","v":""},{"$f":"IF('Entry Information'!$I57=\"\",\"\",'LIMITED RESULTS'!X27)","v":""},{"$f":"IF('Entry Information'!$I57=\"\",\"\",IF('LIMITED RESULTS'!Y27=\"\",\"\",'LIMITED RESULTS'!Y27))","v":""},"",{"$f":"IF('Entry Information'!$I57=\"\",\"\",IF('Entry Information'!X57=\"\",Z26,Z26-100))","v":""},"",{"$f":"IF($X26=\"\",\"\",(VLOOKUP($AB$41,Worksheet!$A$11:$AE$41,AB26+1,FALSE)))","v":""},{"$f":"IF('Entry Information'!$I57=\"\",\"\",'LIMITED RESULTS'!AD27)","v":""},{"$f":"IF('Entry Information'!$I57=\"\",\"\",IF('LIMITED RESULTS'!AE27=\"\",\"\",'LIMITED RESULTS'!AE27))","v":""},"",{"$f":"IF('Entry Information'!$I57=\"\",\"\",IF('Entry Information'!Z57=\"\",AF26,AF26-100))","v":""},"",{"$f":"IF($AD26=\"\",\"\",(VLOOKUP($AH$41,Worksheet!$A$11:$AE$41,AH26+1,FALSE)))","v":""}]
[{"$f":"IF('Entry Information'!I58=\"\",\"\",'Entry Information'!B58)","v":""},{"$f":"IF('Entry Information'!I58=\"\",\"\",'Entry Information'!C58)","v":""},{"$f":"IF('Entry Information'!I58=\"\",\"\",'Entry Information'!D58)","v":""},{"$f":"IF('Entry Information'!I58=\"\",\"\",'Entry Information'!E58)","v":""},"LIM",{"$f":"IF('Entry Information'!$I58=\"\",\"\",'LIMITED RESULTS'!F28)","v":""},{"$f":"IF('Entry Information'!$I58=\"\",\"\",IF('LIMITED RESULTS'!G28=\"\",\"\",'LIMITED RESULTS'!G28))","v":""},"",{"$f":"IF('Entry Information'!$I58=\"\",\"\",IF('Entry Information'!R58=\"\",H27,H27-100))","v":""},"",{"$f":"IF($F27=\"\",\"\",(VLOOKUP($J$41,Worksheet!$A$11:$AE$41,J27+1,FALSE)))","v":""},{"$f":"IF('Entry Information'!$I58=\"\",\"\",'LIMITED RESULTS'!L28)","v":""},{"$f":"IF('Entry Information'!$I58=\"\",\"\",IF('LIMITED RESULTS'!M28=\"\",\"\",'LIMITED RESULTS'!M28))","v":""},"",{"$f":"IF('Entry Information'!$I58=\"\",\"\",IF('Entry Information'!T58=\"\",N27,N27-100))","v":""},"",{"$f":"IF($L27=\"\",\"\",(VLOOKUP($P$41,Worksheet!$A$11:$AE$41,P27+1,FALSE)))","v":""},{"$f":"IF('Entry Information'!$I58=\"\",\"\",'LIMITED RESULTS'!R28)","v":""},{"$f":"IF('Entry Information'!$I58=\"\",\"\",IF('LIMITED RESULTS'!S28=\"\",\"\",'LIMITED RESULTS'!S28))","v":""},"",{"$f":"IF('Entry Information'!$I58=\"\",\"\",IF('Entry Information'!V58=\"\",T27,T27-100))","v":""},"",{"$f":"IF($R27=\"\",\"\",(VLOOKUP($V$41,Worksheet!$A$11:$AE$41,V27+1,FALSE)))","v":""},{"$f":"IF('Entry Information'!$I58=\"\",\"\",'LIMITED RESULTS'!X28)","v":""},{"$f":"IF('Entry Information'!$I58=\"\",\"\",IF('LIMITED RESULTS'!Y28=\"\",\"\",'LIMITED RESULTS'!Y28))","v":""},"",{"$f":"IF('Entry Information'!$I58=\"\",\"\",IF('Entry Information'!X58=\"\",Z27,Z27-100))","v":""},"",{"$f":"IF($X27=\"\",\"\",(VLOOKUP($AB$41,Worksheet!$A$11:$AE$41,AB27+1,FALSE)))","v":""},{"$f":"IF('Entry Information'!$I58=\"\",\"\",'LIMITED RESULTS'!AD28)","v":""},{"$f":"IF('Entry Information'!$I58=\"\",\"\",IF('LIMITED RESULTS'!AE28=\"\",\"\",'LIMITED RESULTS'!AE28))","v":""},"",{"$f":"IF('Entry Information'!$I58=\"\",\"\",IF('Entry Information'!Z58=\"\",AF27,AF27-100))","v":""},"",{"$f":"IF($AD27=\"\",\"\",(VLOOKUP($AH$41,Worksheet!$A$11:$AE$41,AH27+1,FALSE)))","v":""}]
[{"$f":"IF('Entry Information'!I59=\"\",\"\",'Entry Information'!B59)","v":""},{"$f":"IF('Entry Information'!I59=\"\",\"\",'Entry Information'!C59)","v":""},{"$f":"IF('Entry Information'!I59=\"\",\"\",'Entry Information'!D59)","v":""},{"$f":"IF('Entry Information'!I59=\"\",\"\",'Entry Information'!E59)","v":""},"LIM",{"$f":"IF('Entry Information'!$I59=\"\",\"\",'LIMITED RESULTS'!F29)","v":""},{"$f":"IF('Entry Information'!$I59=\"\",\"\",IF('LIMITED RESULTS'!G29=\"\",\"\",'LIMITED RESULTS'!G29))","v":""},"",{"$f":"IF('Entry Information'!$I59=\"\",\"\",IF('Entry Information'!R59=\"\",H28,H28-100))","v":""},"",{"$f":"IF($F28=\"\",\"\",(VLOOKUP($J$41,Worksheet!$A$11:$AE$41,J28+1,FALSE)))","v":""},{"$f":"IF('Entry Information'!$I59=\"\",\"\",'LIMITED RESULTS'!L29)","v":""},{"$f":"IF('Entry Information'!$I59=\"\",\"\",IF('LIMITED RESULTS'!M29=\"\",\"\",'LIMITED RESULTS'!M29))","v":""},"",{"$f":"IF('Entry Information'!$I59=\"\",\"\",IF('Entry Information'!T59=\"\",N28,N28-100))","v":""},"",{"$f":"IF($L28=\"\",\"\",(VLOOKUP($P$41,Worksheet!$A$11:$AE$41,P28+1,FALSE)))","v":""},{"$f":"IF('Entry Information'!$I59=\"\",\"\",'LIMITED RESULTS'!R29)","v":""},{"$f":"IF('Entry Information'!$I59=\"\",\"\",IF('LIMITED RESULTS'!S29=\"\",\"\",'LIMITED RESULTS'!S29))","v":""},"",{"$f":"IF('Entry Information'!$I59=\"\",\"\",IF('Entry Information'!V59=\"\",T28,T28-100))","v":""},"",{"$f":"IF($R28=\"\",\"\",(VLOOKUP($V$41,Worksheet!$A$11:$AE$41,V28+1,FALSE)))","v":""},{"$f":"IF('Entry Information'!$I59=\"\",\"\",'LIMITED RESULTS'!X29)","v":""},{"$f":"IF('Entry Information'!$I59=\"\",\"\",IF('LIMITED RESULTS'!Y29=\"\",\"\",'LIMITED RESULTS'!Y29))","v":""},"",{"$f":"IF('Entry Information'!$I59=\"\",\"\",IF('Entry Information'!X59=\"\",Z28,Z28-100))","v":""},"",{"$f":"IF($X28=\"\",\"\",(VLOOKUP($AB$41,Worksheet!$A$11:$AE$41,AB28+1,FALSE)))","v":""},{"$f":"IF('Entry Information'!$I59=\"\",\"\",'LIMITED RESULTS'!AD29)","v":""},{"$f":"IF('Entry Information'!$I59=\"\",\"\",IF('LIMITED RESULTS'!AE29=\"\",\"\",'LIMITED RESULTS'!AE29))","v":""},"",{"$f":"IF('Entry Information'!$I59=\"\",\"\",IF('Entry Information'!Z59=\"\",AF28,AF28-100))","v":""},"",{"$f":"IF($AD28=\"\",\"\",(VLOOKUP($AH$41,Worksheet!$A$11:$AE$41,AH28+1,FALSE)))","v":""}]
[{"$f":"IF('Entry Information'!I60=\"\",\"\",'Entry Information'!B60)","v":""},{"$f":"IF('Entry Information'!I60=\"\",\"\",'Entry Information'!C60)","v":""},{"$f":"IF('Entry Information'!I60=\"\",\"\",'Entry Information'!D60)","v":""},{"$f":"IF('Entry Information'!I60=\"\",\"\",'Entry Information'!E60)","v":""},"LIM",{"$f":"IF('Entry Information'!$I60=\"\",\"\",'LIMITED RESULTS'!F30)","v":""},{"$f":"IF('Entry Information'!$I60=\"\",\"\",IF('LIMITED RESULTS'!G30=\"\",\"\",'LIMITED RESULTS'!G30))","v":""},"",{"$f":"IF('Entry Information'!$I60=\"\",\"\",IF('Entry Information'!R60=\"\",H29,H29-100))","v":""},"",{"$f":"IF($F29=\"\",\"\",(VLOOKUP($J$41,Worksheet!$A$11:$AE$41,J29+1,FALSE)))","v":""},{"$f":"IF('Entry Information'!$I60=\"\",\"\",'LIMITED RESULTS'!L30)","v":""},{"$f":"IF('Entry Information'!$I60=\"\",\"\",IF('LIMITED RESULTS'!M30=\"\",\"\",'LIMITED RESULTS'!M30))","v":""},"",{"$f":"IF('Entry Information'!$I60=\"\",\"\",IF('Entry Information'!T60=\"\",N29,N29-100))","v":""},"",{"$f":"IF($L29=\"\",\"\",(VLOOKUP($P$41,Worksheet!$A$11:$AE$41,P29+1,FALSE)))","v":""},{"$f":"IF('Entry Information'!$I60=\"\",\"\",'LIMITED RESULTS'!R30)","v":""},{"$f":"IF('Entry Information'!$I60=\"\",\"\",IF('LIMITED RESULTS'!S30=\"\",\"\",'LIMITED RESULTS'!S30))","v":""},"",{"$f":"IF('Entry Information'!$I60=\"\",\"\",IF('Entry Information'!V60=\"\",T29,T29-100))","v":""},"",{"$f":"IF($R29=\"\",\"\",(VLOOKUP($V$41,Worksheet!$A$11:$AE$41,V29+1,FALSE)))","v":""},{"$f":"IF('Entry Information'!$I60=\"\",\"\",'LIMITED RESULTS'!X30)","v":""},{"$f":"IF('Entry Information'!$I60=\"\",\"\",IF('LIMITED RESULTS'!Y30=\"\",\"\",'LIMITED RESULTS'!Y30))","v":""},"",{"$f":"IF('Entry Information'!$I60=\"\",\"\",IF('Entry Information'!X60=\"\",Z29,Z29-100))","v":""},"",{"$f":"IF($X29=\"\",\"\",(VLOOKUP($AB$41,Worksheet!$A$11:$AE$41,AB29+1,FALSE)))","v":""},{"$f":"IF('Entry Information'!$I60=\"\",\"\",'LIMITED RESULTS'!AD30)","v":""},{"$f":"IF('Entry Information'!$I60=\"\",\"\",IF('LIMITED RESULTS'!AE30=\"\",\"\",'LIMITED RESULTS'!AE30))","v":""},"",{"$f":"IF('Entry Information'!$I60=\"\",\"\",IF('Entry Information'!Z60=\"\",AF29,AF29-100))","v":""},"",{"$f":"IF($AD29=\"\",\"\",(VLOOKUP($AH$41,Worksheet!$A$11:$AE$41,AH29+1,FALSE)))","v":""}]
[{"$f":"IF('Entry Information'!I61=\"\",\"\",'Entry Information'!B61)","v":""},{"$f":"IF('Entry Information'!I61=\"\",\"\",'Entry Information'!C61)","v":""},{"$f":"IF('Entry Information'!I61=\"\",\"\",'Entry Information'!D61)","v":""},{"$f":"IF('Entry Information'!I61=\"\",\"\",'Entry Information'!E61)","v":""},"LIM",{"$f":"IF('Entry Information'!$I61=\"\",\"\",'LIMITED RESULTS'!F31)","v":""},{"$f":"IF('Entry Information'!$I61=\"\",\"\",IF('LIMITED RESULTS'!G31=\"\",\"\",'LIMITED RESULTS'!G31))","v":""},"",{"$f":"IF('Entry Information'!$I61=\"\",\"\",IF('Entry Information'!R61=\"\",H30,H30-100))","v":""},"",{"$f":"IF($F30=\"\",\"\",(VLOOKUP($J$41,Worksheet!$A$11:$AE$41,J30+1,FALSE)))","v":""},{"$f":"IF('Entry Information'!$I61=\"\",\"\",'LIMITED RESULTS'!L31)","v":""},{"$f":"IF('Entry Information'!$I61=\"\",\"\",IF('LIMITED RESULTS'!M31=\"\",\"\",'LIMITED RESULTS'!M31))","v":""},"",{"$f":"IF('Entry Information'!$I61=\"\",\"\",IF('Entry Information'!T61=\"\",N30,N30-100))","v":""},"",{"$f":"IF($L30=\"\",\"\",(VLOOKUP($P$41,Worksheet!$A$11:$AE$41,P30+1,FALSE)))","v":""},{"$f":"IF('Entry Information'!$I61=\"\",\"\",'LIMITED RESULTS'!R31)","v":""},{"$f":"IF('Entry Information'!$I61=\"\",\"\",IF('LIMITED RESULTS'!S31=\"\",\"\",'LIMITED RESULTS'!S31))","v":""},"",{"$f":"IF('Entry Information'!$I61=\"\",\"\",IF('Entry Information'!V61=\"\",T30,T30-100))","v":""},"",{"$f":"IF($R30=\"\",\"\",(VLOOKUP($V$41,Worksheet!$A$11:$AE$41,V30+1,FALSE)))","v":""},{"$f":"IF('Entry Information'!$I61=\"\",\"\",'LIMITED RESULTS'!X31)","v":""},{"$f":"IF('Entry Information'!$I61=\"\",\"\",IF('LIMITED RESULTS'!Y31=\"\",\"\",'LIMITED RESULTS'!Y31))","v":""},"",{"$f":"IF('Entry Information'!$I61=\"\",\"\",IF('Entry Information'!X61=\"\",Z30,Z30-100))","v":""},"",{"$f":"IF($X30=\"\",\"\",(VLOOKUP($AB$41,Worksheet!$A$11:$AE$41,AB30+1,FALSE)))","v":""},{"$f":"IF('Entry Information'!$I61=\"\",\"\",'LIMITED RESULTS'!AD31)","v":""},{"$f":"IF('Entry Information'!$I61=\"\",\"\",IF('LIMITED RESULTS'!AE31=\"\",\"\",'LIMITED RESULTS'!AE31))","v":""},"",{"$f":"IF('Entry Information'!$I61=\"\",\"\",IF('Entry Information'!Z61=\"\",AF30,AF30-100))","v":""},"",{"$f":"IF($AD30=\"\",\"\",(VLOOKUP($AH$41,Worksheet!$A$11:$AE$41,AH30+1,FALSE)))","v":""}]
[{"$f":"IF('Entry Information'!I62=\"\",\"\",'Entry Information'!B62)","v":""},{"$f":"IF('Entry Information'!I62=\"\",\"\",'Entry Information'!C62)","v":""},{"$f":"IF('Entry Information'!I62=\"\",\"\",'Entry Information'!D62)","v":""},{"$f":"IF('Entry Information'!I62=\"\",\"\",'Entry Information'!E62)","v":""},"LIM",{"$f":"IF('Entry Information'!$I62=\"\",\"\",'LIMITED RESULTS'!F32)","v":""},{"$f":"IF('Entry Information'!$I62=\"\",\"\",IF('LIMITED RESULTS'!G32=\"\",\"\",'LIMITED RESULTS'!G32))","v":""},"",{"$f":"IF('Entry Information'!$I62=\"\",\"\",IF('Entry Information'!R62=\"\",H31,H31-100))","v":""},"",{"$f":"IF($F31=\"\",\"\",(VLOOKUP($J$41,Worksheet!$A$11:$AE$41,J31+1,FALSE)))","v":""},{"$f":"IF('Entry Information'!$I62=\"\",\"\",'LIMITED RESULTS'!L32)","v":""},{"$f":"IF('Entry Information'!$I62=\"\",\"\",IF('LIMITED RESULTS'!M32=\"\",\"\",'LIMITED RESULTS'!M32))","v":""},"",{"$f":"IF('Entry Information'!$I62=\"\",\"\",IF('Entry Information'!T62=\"\",N31,N31-100))","v":""},"",{"$f":"IF($L31=\"\",\"\",(VLOOKUP($P$41,Worksheet!$A$11:$AE$41,P31+1,FALSE)))","v":""},{"$f":"IF('Entry Information'!$I62=\"\",\"\",'LIMITED RESULTS'!R32)","v":""},{"$f":"IF('Entry Information'!$I62=\"\",\"\",IF('LIMITED RESULTS'!S32=\"\",\"\",'LIMITED RESULTS'!S32))","v":""},"",{"$f":"IF('Entry Information'!$I62=\"\",\"\",IF('Entry Information'!V62=\"\",T31,T31-100))","v":""},"",{"$f":"IF($R31=\"\",\"\",(VLOOKUP($V$41,Worksheet!$A$11:$AE$41,V31+1,FALSE)))","v":""},{"$f":"IF('Entry Information'!$I62=\"\",\"\",'LIMITED RESULTS'!X32)","v":""},{"$f":"IF('Entry Information'!$I62=\"\",\"\",IF('LIMITED RESULTS'!Y32=\"\",\"\",'LIMITED RESULTS'!Y32))","v":""},"",{"$f":"IF('Entry Information'!$I62=\"\",\"\",IF('Entry Information'!X62=\"\",Z31,Z31-100))","v":""},"",{"$f":"IF($X31=\"\",\"\",(VLOOKUP($AB$41,Worksheet!$A$11:$AE$41,AB31+1,FALSE)))","v":""},{"$f":"IF('Entry Information'!$I62=\"\",\"\",'LIMITED RESULTS'!AD32)","v":""},{"$f":"IF('Entry Information'!$I62=\"\",\"\",IF('LIMITED RESULTS'!AE32=\"\",\"\",'LIMITED RESULTS'!AE32))","v":""},"",{"$f":"IF('Entry Information'!$I62=\"\",\"\",IF('Entry Information'!Z62=\"\",AF31,AF31-100))","v":""},"",{"$f":"IF($AD31=\"\",\"\",(VLOOKUP($AH$41,Worksheet!$A$11:$AE$41,AH31+1,FALSE)))","v":""}]
[{"$f":"IF('Entry Information'!I63=\"\",\"\",'Entry Information'!B63)","v":""},{"$f":"IF('Entry Information'!I63=\"\",\"\",'Entry Information'!C63)","v":""},{"$f":"IF('Entry Information'!I63=\"\",\"\",'Entry Information'!D63)","v":""},{"$f":"IF('Entry Information'!I63=\"\",\"\",'Entry Information'!E63)","v":""},"LIM",{"$f":"IF('Entry Information'!$I63=\"\",\"\",'LIMITED RESULTS'!F33)","v":""},{"$f":"IF('Entry Information'!$I63=\"\",\"\",IF('LIMITED RESULTS'!G33=\"\",\"\",'LIMITED RESULTS'!G33))","v":""},"",{"$f":"IF('Entry Information'!$I63=\"\",\"\",IF('Entry Information'!R63=\"\",H32,H32-100))","v":""},"",{"$f":"IF($F32=\"\",\"\",(VLOOKUP($J$41,Worksheet!$A$11:$AE$41,J32+1,FALSE)))","v":""},{"$f":"IF('Entry Information'!$I63=\"\",\"\",'LIMITED RESULTS'!L33)","v":""},{"$f":"IF('Entry Information'!$I63=\"\",\"\",IF('LIMITED RESULTS'!M33=\"\",\"\",'LIMITED RESULTS'!M33))","v":""},"",{"$f":"IF('Entry Information'!$I63=\"\",\"\",IF('Entry Information'!T63=\"\",N32,N32-100))","v":""},"",{"$f":"IF($L32=\"\",\"\",(VLOOKUP($P$41,Worksheet!$A$11:$AE$41,P32+1,FALSE)))","v":""},{"$f":"IF('Entry Information'!$I63=\"\",\"\",'LIMITED RESULTS'!R33)","v":""},{"$f":"IF('Entry Information'!$I63=\"\",\"\",IF('LIMITED RESULTS'!S33=\"\",\"\",'LIMITED RESULTS'!S33))","v":""},"",{"$f":"IF('Entry Information'!$I63=\"\",\"\",IF('Entry Information'!V63=\"\",T32,T32-100))","v":""},"",{"$f":"IF($R32=\"\",\"\",(VLOOKUP($V$41,Worksheet!$A$11:$AE$41,V32+1,FALSE)))","v":""},{"$f":"IF('Entry Information'!$I63=\"\",\"\",'LIMITED RESULTS'!X33)","v":""},{"$f":"IF('Entry Information'!$I63=\"\",\"\",IF('LIMITED RESULTS'!Y33=\"\",\"\",'LIMITED RESULTS'!Y33))","v":""},"",{"$f":"IF('Entry Information'!$I63=\"\",\"\",IF('Entry Information'!X63=\"\",Z32,Z32-100))","v":""},"",{"$f":"IF($X32=\"\",\"\",(VLOOKUP($AB$41,Worksheet!$A$11:$AE$41,AB32+1,FALSE)))","v":""},{"$f":"IF('Entry Information'!$I63=\"\",\"\",'LIMITED RESULTS'!AD33)","v":""},{"$f":"IF('Entry Information'!$I63=\"\",\"\",IF('LIMITED RESULTS'!AE33=\"\",\"\",'LIMITED RESULTS'!AE33))","v":""},"",{"$f":"IF('Entry Information'!$I63=\"\",\"\",IF('Entry Information'!Z63=\"\",AF32,AF32-100))","v":""},"",{"$f":"IF($AD32=\"\",\"\",(VLOOKUP($AH$41,Worksheet!$A$11:$AE$41,AH32+1,FALSE)))","v":""}]
[{"$f":"IF('Entry Information'!I64=\"\",\"\",'Entry Information'!B64)","v":""},{"$f":"IF('Entry Information'!I64=\"\",\"\",'Entry Information'!C64)","v":""},{"$f":"IF('Entry Information'!I64=\"\",\"\",'Entry Information'!D64)","v":""},{"$f":"IF('Entry Information'!I64=\"\",\"\",'Entry Information'!E64)","v":""},"LIM",{"$f":"IF('Entry Information'!$I64=\"\",\"\",'LIMITED RESULTS'!F34)","v":""},{"$f":"IF('Entry Information'!$I64=\"\",\"\",IF('LIMITED RESULTS'!G34=\"\",\"\",'LIMITED RESULTS'!G34))","v":""},"",{"$f":"IF('Entry Information'!$I64=\"\",\"\",IF('Entry Information'!R64=\"\",H33,H33-100))","v":""},"",{"$f":"IF($F33=\"\",\"\",(VLOOKUP($J$41,Worksheet!$A$11:$AE$41,J33+1,FALSE)))","v":""},{"$f":"IF('Entry Information'!$I64=\"\",\"\",'LIMITED RESULTS'!L34)","v":""},{"$f":"IF('Entry Information'!$I64=\"\",\"\",IF('LIMITED RESULTS'!M34=\"\",\"\",'LIMITED RESULTS'!M34))","v":""},"",{"$f":"IF('Entry Information'!$I64=\"\",\"\",IF('Entry Information'!T64=\"\",N33,N33-100))","v":""},"",{"$f":"IF($L33=\"\",\"\",(VLOOKUP($P$41,Worksheet!$A$11:$AE$41,P33+1,FALSE)))","v":""},{"$f":"IF('Entry Information'!$I64=\"\",\"\",'LIMITED RESULTS'!R34)","v":""},{"$f":"IF('Entry Information'!$I64=\"\",\"\",IF('LIMITED RESULTS'!S34=\"\",\"\",'LIMITED RESULTS'!S34))","v":""},"",{"$f":"IF('Entry Information'!$I64=\"\",\"\",IF('Entry Information'!V64=\"\",T33,T33-100))","v":""},"",{"$f":"IF($R33=\"\",\"\",(VLOOKUP($V$41,Worksheet!$A$11:$AE$41,V33+1,FALSE)))","v":""},{"$f":"IF('Entry Information'!$I64=\"\",\"\",'LIMITED RESULTS'!X34)","v":""},{"$f":"IF('Entry Information'!$I64=\"\",\"\",IF('LIMITED RESULTS'!Y34=\"\",\"\",'LIMITED RESULTS'!Y34))","v":""},"",{"$f":"IF('Entry Information'!$I64=\"\",\"\",IF('Entry Information'!X64=\"\",Z33,Z33-100))","v":""},"",{"$f":"IF($X33=\"\",\"\",(VLOOKUP($AB$41,Worksheet!$A$11:$AE$41,AB33+1,FALSE)))","v":""},{"$f":"IF('Entry Information'!$I64=\"\",\"\",'LIMITED RESULTS'!AD34)","v":""},{"$f":"IF('Entry Information'!$I64=\"\",\"\",IF('LIMITED RESULTS'!AE34=\"\",\"\",'LIMITED RESULTS'!AE34))","v":""},"",{"$f":"IF('Entry Information'!$I64=\"\",\"\",IF('Entry Information'!Z64=\"\",AF33,AF33-100))","v":""},"",{"$f":"IF($AD33=\"\",\"\",(VLOOKUP($AH$41,Worksheet!$A$11:$AE$41,AH33+1,FALSE)))","v":""}]
[{"$f":"IF('Entry Information'!I65=\"\",\"\",'Entry Information'!B65)","v":""},{"$f":"IF('Entry Information'!I65=\"\",\"\",'Entry Information'!C65)","v":""},{"$f":"IF('Entry Information'!I65=\"\",\"\",'Entry Information'!D65)","v":""},{"$f":"IF('Entry Information'!I65=\"\",\"\",'Entry Information'!E65)","v":""},"LIM",{"$f":"IF('Entry Information'!$I65=\"\",\"\",'LIMITED RESULTS'!F35)","v":""},{"$f":"IF('Entry Information'!$I65=\"\",\"\",IF('LIMITED RESULTS'!G35=\"\",\"\",'LIMITED RESULTS'!G35))","v":""},"",{"$f":"IF('Entry Information'!$I65=\"\",\"\",IF('Entry Information'!R65=\"\",H34,H34-100))","v":""},"",{"$f":"IF($F34=\"\",\"\",(VLOOKUP($J$41,Worksheet!$A$11:$AE$41,J34+1,FALSE)))","v":""},{"$f":"IF('Entry Information'!$I65=\"\",\"\",'LIMITED RESULTS'!L35)","v":""},{"$f":"IF('Entry Information'!$I65=\"\",\"\",IF('LIMITED RESULTS'!M35=\"\",\"\",'LIMITED RESULTS'!M35))","v":""},"",{"$f":"IF('Entry Information'!$I65=\"\",\"\",IF('Entry Information'!T65=\"\",N34,N34-100))","v":""},"",{"$f":"IF($L34=\"\",\"\",(VLOOKUP($P$41,Worksheet!$A$11:$AE$41,P34+1,FALSE)))","v":""},{"$f":"IF('Entry Information'!$I65=\"\",\"\",'LIMITED RESULTS'!R35)","v":""},{"$f":"IF('Entry Information'!$I65=\"\",\"\",IF('LIMITED RESULTS'!S35=\"\",\"\",'LIMITED RESULTS'!S35))","v":""},"",{"$f":"IF('Entry Information'!$I65=\"\",\"\",IF('Entry Information'!V65=\"\",T34,T34-100))","v":""},"",{"$f":"IF($R34=\"\",\"\",(VLOOKUP($V$41,Worksheet!$A$11:$AE$41,V34+1,FALSE)))","v":""},{"$f":"IF('Entry Information'!$I65=\"\",\"\",'LIMITED RESULTS'!X35)","v":""},{"$f":"IF('Entry Information'!$I65=\"\",\"\",IF('LIMITED RESULTS'!Y35=\"\",\"\",'LIMITED RESULTS'!Y35))","v":""},"",{"$f":"IF('Entry Information'!$I65=\"\",\"\",IF('Entry Information'!X65=\"\",Z34,Z34-100))","v":""},"",{"$f":"IF($X34=\"\",\"\",(VLOOKUP($AB$41,Worksheet!$A$11:$AE$41,AB34+1,FALSE)))","v":""},{"$f":"IF('Entry Information'!$I65=\"\",\"\",'LIMITED RESULTS'!AD35)","v":""},{"$f":"IF('Entry Information'!$I65=\"\",\"\",IF('LIMITED RESULTS'!AE35=\"\",\"\",'LIMITED RESULTS'!AE35))","v":""},"",{"$f":"IF('Entry Information'!$I65=\"\",\"\",IF('Entry Information'!Z65=\"\",AF34,AF34-100))","v":""},"",{"$f":"IF($AD34=\"\",\"\",(VLOOKUP($AH$41,Worksheet!$A$11:$AE$41,AH34+1,FALSE)))","v":""}]
[{"$f":"IF('Entry Information'!I66=\"\",\"\",'Entry Information'!B66)","v":""},{"$f":"IF('Entry Information'!I66=\"\",\"\",'Entry Information'!C66)","v":""},{"$f":"IF('Entry Information'!I66=\"\",\"\",'Entry Information'!D66)","v":""},{"$f":"IF('Entry Information'!I66=\"\",\"\",'Entry Information'!E66)","v":""},"LIM",{"$f":"IF('Entry Information'!$I66=\"\",\"\",'LIMITED RESULTS'!F36)","v":""},{"$f":"IF('Entry Information'!$I66=\"\",\"\",IF('LIMITED RESULTS'!G36=\"\",\"\",'LIMITED RESULTS'!G36))","v":""},"",{"$f":"IF('Entry Information'!$I66=\"\",\"\",IF('Entry Information'!R66=\"\",H35,H35-100))","v":""},"",{"$f":"IF($F35=\"\",\"\",(VLOOKUP($J$41,Worksheet!$A$11:$AE$41,J35+1,FALSE)))","v":""},{"$f":"IF('Entry Information'!$I66=\"\",\"\",'LIMITED RESULTS'!L36)","v":""},{"$f":"IF('Entry Information'!$I66=\"\",\"\",IF('LIMITED RESULTS'!M36=\"\",\"\",'LIMITED RESULTS'!M36))","v":""},"",{"$f":"IF('Entry Information'!$I66=\"\",\"\",IF('Entry Information'!T66=\"\",N35,N35-100))","v":""},"",{"$f":"IF($L35=\"\",\"\",(VLOOKUP($P$41,Worksheet!$A$11:$AE$41,P35+1,FALSE)))","v":""},{"$f":"IF('Entry Information'!$I66=\"\",\"\",'LIMITED RESULTS'!R36)","v":""},{"$f":"IF('Entry Information'!$I66=\"\",\"\",IF('LIMITED RESULTS'!S36=\"\",\"\",'LIMITED RESULTS'!S36))","v":""},"",{"$f":"IF('Entry Information'!$I66=\"\",\"\",IF('Entry Information'!V66=\"\",T35,T35-100))","v":""},"",{"$f":"IF($R35=\"\",\"\",(VLOOKUP($V$41,Worksheet!$A$11:$AE$41,V35+1,FALSE)))","v":""},{"$f":"IF('Entry Information'!$I66=\"\",\"\",'LIMITED RESULTS'!X36)","v":""},{"$f":"IF('Entry Information'!$I66=\"\",\"\",IF('LIMITED RESULTS'!Y36=\"\",\"\",'LIMITED RESULTS'!Y36))","v":""},"",{"$f":"IF('Entry Information'!$I66=\"\",\"\",IF('Entry Information'!X66=\"\",Z35,Z35-100))","v":""},"",{"$f":"IF($X35=\"\",\"\",(VLOOKUP($AB$41,Worksheet!$A$11:$AE$41,AB35+1,FALSE)))","v":""},{"$f":"IF('Entry Information'!$I66=\"\",\"\",'LIMITED RESULTS'!AD36)","v":""},{"$f":"IF('Entry Information'!$I66=\"\",\"\",IF('LIMITED RESULTS'!AE36=\"\",\"\",'LIMITED RESULTS'!AE36))","v":""},"",{"$f":"IF('Entry Information'!$I66=\"\",\"\",IF('Entry Information'!Z66=\"\",AF35,AF35-100))","v":""},"",{"$f":"IF($AD35=\"\",\"\",(VLOOKUP($AH$41,Worksheet!$A$11:$AE$41,AH35+1,FALSE)))","v":""}]
[{"$f":"IF('Entry Information'!I67=\"\",\"\",'Entry Information'!B67)","v":""},{"$f":"IF('Entry Information'!I67=\"\",\"\",'Entry Information'!C67)","v":""},{"$f":"IF('Entry Information'!I67=\"\",\"\",'Entry Information'!D67)","v":""},{"$f":"IF('Entry Information'!I67=\"\",\"\",'Entry Information'!E67)","v":""},"LIM",{"$f":"IF('Entry Information'!$I67=\"\",\"\",'LIMITED RESULTS'!F37)","v":""},{"$f":"IF('Entry Information'!$I67=\"\",\"\",IF('LIMITED RESULTS'!G37=\"\",\"\",'LIMITED RESULTS'!G37))","v":""},"",{"$f":"IF('Entry Information'!$I67=\"\",\"\",IF('Entry Information'!R67=\"\",H36,H36-100))","v":""},"",{"$f":"IF($F36=\"\",\"\",(VLOOKUP($J$41,Worksheet!$A$11:$AE$41,J36+1,FALSE)))","v":""},{"$f":"IF('Entry Information'!$I67=\"\",\"\",'LIMITED RESULTS'!L37)","v":""},{"$f":"IF('Entry Information'!$I67=\"\",\"\",IF('LIMITED RESULTS'!M37=\"\",\"\",'LIMITED RESULTS'!M37))","v":""},"",{"$f":"IF('Entry Information'!$I67=\"\",\"\",IF('Entry Information'!T67=\"\",N36,N36-100))","v":""},"",{"$f":"IF($L36=\"\",\"\",(VLOOKUP($P$41,Worksheet!$A$11:$AE$41,P36+1,FALSE)))","v":""},{"$f":"IF('Entry Information'!$I67=\"\",\"\",'LIMITED RESULTS'!R37)","v":""},{"$f":"IF('Entry Information'!$I67=\"\",\"\",IF('LIMITED RESULTS'!S37=\"\",\"\",'LIMITED RESULTS'!S37))","v":""},"",{"$f":"IF('Entry Information'!$I67=\"\",\"\",IF('Entry Information'!V67=\"\",T36,T36-100))","v":""},"",{"$f":"IF($R36=\"\",\"\",(VLOOKUP($V$41,Worksheet!$A$11:$AE$41,V36+1,FALSE)))","v":""},{"$f":"IF('Entry Information'!$I67=\"\",\"\",'LIMITED RESULTS'!X37)","v":""},{"$f":"IF('Entry Information'!$I67=\"\",\"\",IF('LIMITED RESULTS'!Y37=\"\",\"\",'LIMITED RESULTS'!Y37))","v":""},"",{"$f":"IF('Entry Information'!$I67=\"\",\"\",IF('Entry Information'!X67=\"\",Z36,Z36-100))","v":""},"",{"$f":"IF($X36=\"\",\"\",(VLOOKUP($AB$41,Worksheet!$A$11:$AE$41,AB36+1,FALSE)))","v":""},{"$f":"IF('Entry Information'!$I67=\"\",\"\",'LIMITED RESULTS'!AD37)","v":""},{"$f":"IF('Entry Information'!$I67=\"\",\"\",IF('LIMITED RESULTS'!AE37=\"\",\"\",'LIMITED RESULTS'!AE37))","v":""},"",{"$f":"IF('Entry Information'!$I67=\"\",\"\",IF('Entry Information'!Z67=\"\",AF36,AF36-100))","v":""},"",{"$f":"IF($AD36=\"\",\"\",(VLOOKUP($AH$41,Worksheet!$A$11:$AE$41,AH36+1,FALSE)))","v":""}]
[{"$f":"IF('Entry Information'!I68=\"\",\"\",'Entry Information'!B68)","v":""},{"$f":"IF('Entry Information'!I68=\"\",\"\",'Entry Information'!C68)","v":""},{"$f":"IF('Entry Information'!I68=\"\",\"\",'Entry Information'!D68)","v":""},{"$f":"IF('Entry Information'!I68=\"\",\"\",'Entry Information'!E68)","v":""},"LIM",{"$f":"IF('Entry Information'!$I68=\"\",\"\",'LIMITED RESULTS'!F38)","v":""},{"$f":"IF('Entry Information'!$I68=\"\",\"\",IF('LIMITED RESULTS'!G38=\"\",\"\",'LIMITED RESULTS'!G38))","v":""},"",{"$f":"IF('Entry Information'!$I68=\"\",\"\",IF('Entry Information'!R68=\"\",H37,H37-100))","v":""},"",{"$f":"IF($F37=\"\",\"\",(VLOOKUP($J$41,Worksheet!$A$11:$AE$41,J37+1,FALSE)))","v":""},{"$f":"IF('Entry Information'!$I68=\"\",\"\",'LIMITED RESULTS'!L38)","v":""},{"$f":"IF('Entry Information'!$I68=\"\",\"\",IF('LIMITED RESULTS'!M38=\"\",\"\",'LIMITED RESULTS'!M38))","v":""},"",{"$f":"IF('Entry Information'!$I68=\"\",\"\",IF('Entry Information'!T68=\"\",N37,N37-100))","v":""},"",{"$f":"IF($L37=\"\",\"\",(VLOOKUP($P$41,Worksheet!$A$11:$AE$41,P37+1,FALSE)))","v":""},{"$f":"IF('Entry Information'!$I68=\"\",\"\",'LIMITED RESULTS'!R38)","v":""},{"$f":"IF('Entry Information'!$I68=\"\",\"\",IF('LIMITED RESULTS'!S38=\"\",\"\",'LIMITED RESULTS'!S38))","v":""},"",{"$f":"IF('Entry Information'!$I68=\"\",\"\",IF('Entry Information'!V68=\"\",T37,T37-100))","v":""},"",{"$f":"IF($R37=\"\",\"\",(VLOOKUP($V$41,Worksheet!$A$11:$AE$41,V37+1,FALSE)))","v":""},{"$f":"IF('Entry Information'!$I68=\"\",\"\",'LIMITED RESULTS'!X38)","v":""},{"$f":"IF('Entry Information'!$I68=\"\",\"\",IF('LIMITED RESULTS'!Y38=\"\",\"\",'LIMITED RESULTS'!Y38))","v":""},"",{"$f":"IF('Entry Information'!$I68=\"\",\"\",IF('Entry Information'!X68=\"\",Z37,Z37-100))","v":""},"",{"$f":"IF($X37=\"\",\"\",(VLOOKUP($AB$41,Worksheet!$A$11:$AE$41,AB37+1,FALSE)))","v":""},{"$f":"IF('Entry Information'!$I68=\"\",\"\",'LIMITED RESULTS'!AD38)","v":""},{"$f":"IF('Entry Information'!$I68=\"\",\"\",IF('LIMITED RESULTS'!AE38=\"\",\"\",'LIMITED RESULTS'!AE38))","v":""},"",{"$f":"IF('Entry Information'!$I68=\"\",\"\",IF('Entry Information'!Z68=\"\",AF37,AF37-100))","v":""},"",{"$f":"IF($AD37=\"\",\"\",(VLOOKUP($AH$41,Worksheet!$A$11:$AE$41,AH37+1,FALSE)))","v":""}]
[{"$f":"IF('Entry Information'!I69=\"\",\"\",'Entry Information'!B69)","v":""},{"$f":"IF('Entry Information'!I69=\"\",\"\",'Entry Information'!C69)","v":""},{"$f":"IF('Entry Information'!I69=\"\",\"\",'Entry Information'!D69)","v":""},{"$f":"IF('Entry Information'!I69=\"\",\"\",'Entry Information'!E69)","v":""},"LIM",{"$f":"IF('Entry Information'!$I69=\"\",\"\",'LIMITED RESULTS'!F39)","v":""},{"$f":"IF('Entry Information'!$I69=\"\",\"\",IF('LIMITED RESULTS'!G39=\"\",\"\",'LIMITED RESULTS'!G39))","v":""},"",{"$f":"IF('Entry Information'!$I69=\"\",\"\",IF('Entry Information'!R69=\"\",H38,H38-100))","v":""},"",{"$f":"IF($F38=\"\",\"\",(VLOOKUP($J$41,Worksheet!$A$11:$AE$41,J38+1,FALSE)))","v":""},{"$f":"IF('Entry Information'!$I69=\"\",\"\",'LIMITED RESULTS'!L39)","v":""},{"$f":"IF('Entry Information'!$I69=\"\",\"\",IF('LIMITED RESULTS'!M39=\"\",\"\",'LIMITED RESULTS'!M39))","v":""},"",{"$f":"IF('Entry Information'!$I69=\"\",\"\",IF('Entry Information'!T69=\"\",N38,N38-100))","v":""},"",{"$f":"IF($L38=\"\",\"\",(VLOOKUP($P$41,Worksheet!$A$11:$AE$41,P38+1,FALSE)))","v":""},{"$f":"IF('Entry Information'!$I69=\"\",\"\",'LIMITED RESULTS'!R39)","v":""},{"$f":"IF('Entry Information'!$I69=\"\",\"\",IF('LIMITED RESULTS'!S39=\"\",\"\",'LIMITED RESULTS'!S39))","v":""},"",{"$f":"IF('Entry Information'!$I69=\"\",\"\",IF('Entry Information'!V69=\"\",T38,T38-100))","v":""},"",{"$f":"IF($R38=\"\",\"\",(VLOOKUP($V$41,Worksheet!$A$11:$AE$41,V38+1,FALSE)))","v":""},{"$f":"IF('Entry Information'!$I69=\"\",\"\",'LIMITED RESULTS'!X39)","v":""},{"$f":"IF('Entry Information'!$I69=\"\",\"\",IF('LIMITED RESULTS'!Y39=\"\",\"\",'LIMITED RESULTS'!Y39))","v":""},"",{"$f":"IF('Entry Information'!$I69=\"\",\"\",IF('Entry Information'!X69=\"\",Z38,Z38-100))","v":""},"",{"$f":"IF($X38=\"\",\"\",(VLOOKUP($AB$41,Worksheet!$A$11:$AE$41,AB38+1,FALSE)))","v":""},{"$f":"IF('Entry Information'!$I69=\"\",\"\",'LIMITED RESULTS'!AD39)","v":""},{"$f":"IF('Entry Information'!$I69=\"\",\"\",IF('LIMITED RESULTS'!AE39=\"\",\"\",'LIMITED RESULTS'!AE39))","v":""},"",{"$f":"IF('Entry Information'!$I69=\"\",\"\",IF('Entry Information'!Z69=\"\",AF38,AF38-100))","v":""},"",{"$f":"IF($AD38=\"\",\"\",(VLOOKUP($AH$41,Worksheet!$A$11:$AE$41,AH38+1,FALSE)))","v":""}]
[{"$f":"IF('Entry Information'!I70=\"\",\"\",'Entry Information'!B70)","v":""},{"$f":"IF('Entry Information'!I70=\"\",\"\",'Entry Information'!C70)","v":""},{"$f":"IF('Entry Information'!I70=\"\",\"\",'Entry Information'!D70)","v":""},{"$f":"IF('Entry Information'!I70=\"\",\"\",'Entry Information'!E70)","v":""},"LIM",{"$f":"IF('Entry Information'!$I70=\"\",\"\",'LIMITED RESULTS'!F40)","v":""},{"$f":"IF('Entry Information'!$I70=\"\",\"\",IF('LIMITED RESULTS'!G40=\"\",\"\",'LIMITED RESULTS'!G40))","v":""},"",{"$f":"IF('Entry Information'!$I70=\"\",\"\",IF('Entry Information'!R70=\"\",H39,H39-100))","v":""},"",{"$f":"IF($F39=\"\",\"\",(VLOOKUP($J$41,Worksheet!$A$11:$AE$41,J39+1,FALSE)))","v":""},{"$f":"IF('Entry Information'!$I70=\"\",\"\",'LIMITED RESULTS'!L40)","v":""},{"$f":"IF('Entry Information'!$I70=\"\",\"\",IF('LIMITED RESULTS'!M40=\"\",\"\",'LIMITED RESULTS'!M40))","v":""},"",{"$f":"IF('Entry Information'!$I70=\"\",\"\",IF('Entry Information'!T70=\"\",N39,N39-100))","v":""},"",{"$f":"IF($L39=\"\",\"\",(VLOOKUP($P$41,Worksheet!$A$11:$AE$41,P39+1,FALSE)))","v":""},{"$f":"IF('Entry Information'!$I70=\"\",\"\",'LIMITED RESULTS'!R40)","v":""},{"$f":"IF('Entry Information'!$I70=\"\",\"\",IF('LIMITED RESULTS'!S40=\"\",\"\",'LIMITED RESULTS'!S40))","v":""},"",{"$f":"IF('Entry Information'!$I70=\"\",\"\",IF('Entry Information'!V70=\"\",T39,T39-100))","v":""},"",{"$f":"IF($R39=\"\",\"\",(VLOOKUP($V$41,Worksheet!$A$11:$AE$41,V39+1,FALSE)))","v":""},{"$f":"IF('Entry Information'!$I70=\"\",\"\",'LIMITED RESULTS'!X40)","v":""},{"$f":"IF('Entry Information'!$I70=\"\",\"\",IF('LIMITED RESULTS'!Y40=\"\",\"\",'LIMITED RESULTS'!Y40))","v":""},"",{"$f":"IF('Entry Information'!$I70=\"\",\"\",IF('Entry Information'!X70=\"\",Z39,Z39-100))","v":""},"",{"$f":"IF($X39=\"\",\"\",(VLOOKUP($AB$41,Worksheet!$A$11:$AE$41,AB39+1,FALSE)))","v":""},{"$f":"IF('Entry Information'!$I70=\"\",\"\",'LIMITED RESULTS'!AD40)","v":""},{"$f":"IF('Entry Information'!$I70=\"\",\"\",IF('LIMITED RESULTS'!AE40=\"\",\"\",'LIMITED RESULTS'!AE40))","v":""},"",{"$f":"IF('Entry Information'!$I70=\"\",\"\",IF('Entry Information'!Z70=\"\",AF39,AF39-100))","v":""},"",{"$f":"IF($AD39=\"\",\"\",(VLOOKUP($AH$41,Worksheet!$A$11:$AE$41,AH39+1,FALSE)))","v":""}]
[]
[null,null,null,null,null,null,null,null,null,{"$f":"COUNTIF(J10:J39,\">=0\")","v":0},null,null,null,null,null,{"$f":"COUNTIF(P10:P39,\">=0\")","v":0},null,null,null,null,null,{"$f":"COUNTIF(V10:V39,\">=0\")","v":0},null,null,null,null,null,{"$f":"COUNTIF(AB10:AB39,\">=0\")","v":0},null,null,null,null,null,{"$f":"COUNTIF(AH10:AH39,\">=0\")","v":0}]
[null,null,null,null,null,"1 - Total Penalty Points",null,null,null,null,null,"1 - Total Penalty Points",null,null,null,null,null,"1 - Total Penalty Points",null,null,null,null,null,"1 - Total Penalty Points",null,null,null,null,null,"1 - Total Penalty Points"]
[null,null,null,null,null,"2 - Extended Trot",null,null,null,null,null,"2 - Drag Log",null,null,null,null,null,"2 - Penning",null,null,null,null,null,"2 - Box Cow",null,null,null,null,null,"2 - Box Cow"]
[null,null,null,null,null,"3 - Transition down lope/walk/stop",null,null,null,null,null,"3 - Ground tie/bridle/pick-up legs",null,null,null,null,null,"3 - Working Center of arena",null,null,null,null,null,"3 -First Lead Change",null,null,null,null,null,"3 -First Lead Change"]
[null,null,null,null,null,"4 - Transition to lope/lope",null,null,null,null,null,"4 - Gate",null,null,null,null,null,"4 - Cut from Herd",null,null,null,null,null,"4 -Spin",null,null,null,null,null,"4 -Spin"]
[]
[]
["Scores in RED are ties - enter a 1 in the Tie Breaker Column of the winner to break tie.  If multiple ties enter a 1 for the second place and a 2 for winner."]
[]
[]
["Places highlighted have a major penatly."]

{"sheet":"INTERMEDIATE RESULTS","index":11,"n_rows":52,"n_cols":50,"rows_kept":52,"cut":false,"hidden":true,"merged":[[5,37,9,37],[4,36,4,49],[1,23,1,28],[2,1,2,2],[2,4,2,5],[2,9,2,11],[2,23,2,28],[1,18,1,22],[2,18,2,22],[5,17,5,22],[5,11,5,16],[1,0,1,2],[1,4,1,5],[1,9,1,16],[4,5,4,34],[5,39,9,39],[5,23,5,28],[6,5,6,10],[1,29,1,34],[2,29,2,34],[5,36,9,36],[7,17,9,17],[7,20,9,20],[7,34,9,34],[7,28,9,28],[7,29,9,29],[7,30,9,30],[7,33,9,33],[6,23,6,28],[5,5,5,10],[5,29,5,34],[6,11,6,16],[7,12,9,12],[7,15,9,15],[7,16,9,16],[7,14,9,14],[7,13,9,13],[6,29,6,34],[6,17,6,22],[7,27,9,27],[7,23,9,23],[7,24,9,24],[48,0,49,4],[7,26,9,26],[7,32,9,32],[7,25,9,25],[7,31,9,31],[7,7,9,7],[7,19,9,19],[7,8,9,8],[7,9,9,9],[7,5,9,5],[7,6,9,6],[7,10,9,10],[7,11,9,11],[7,18,9,18],[7,21,9,21],[7,22,9,22],[5,44,9,44],[5,42,9,42],[5,41,9,41],[5,49,9,49],[5,47,9,47],[5,46,9,46]]}
[]
[null,null,null,null,"Event Name:",null,null,null,null,{"$f":"'Entry Information'!C4","v":"Ranch Horse Challenge"},null,null,null,null,null,null,null,null,"Judge #1 Name/Claees:",null,null,null,null,{"$f":"'Entry Information'!F4","v":"Mike Lund"}]
["Division:","INTERMEDIATE",null,null,"Event Date:",null,null,null,null,{"$f":"'Entry Information'!C5","v":"2018-03-25"},null,null,null,null,null,null,null,null,"Judge #2 Name/Classes:",null,null,null,null,{"$f":"'Entry Information'!F5","v":"Karen Arlin"}]
[]
[null,null,null,null,null,"INTERMEDIATE INDIVIDUAL CLASS RESULTS",null,null,null,null,null,null,null,null,null,null,null,null,null,null,null,null,null,null,null,null,null,null,null,null,null,null,null,null,null,null,"INTERMEDIATE ALL AROUND RESULTS"]
[null,null,null,null,null,"RANCH",null,null,null,null,null,"RANCH",null,null,null,null,null,"RANCH",null,null,null,null,null,"RANCH",null,null,null,null,null,"RANCH",null,null,null,null,null,null,"TOTAL  ALL AROUND PLACEMENT POINTS","Tie Breaker","Adjusted ","EVENT ALL AROUND",null,"TOTAL SELECT ALL AROUND PLACEMENT POINTS","Tie Breaker","Adjusted ","SELECT ALL AROUND",null,"TOTAL   JR HORSE ALL AROUND PLACEMENT POINTS","Tie Breaker","Adjusted ","JR HORSE ALL AROUND"]
[null,null,null,null,null,"RIDING",null,null,null,null,null,"TRAIL",null,null,null,null,null,"CUTING",null,null,null,null,null,"REINED WORK",null,null,null,null,null,"COW WORK",null,null,null,null,null,null,null,null,"Placement",null,null,null,null,"Placement",null,null,null,null,"Placement"]
[null,null,null,null,null,"Score","Tie Breaker","Adjusted Score for Ties","Adjusted Score Major Penalty","Place","Placement Points","Score","Tie Breaker","Adjusted Score for Ties","Adjusted Score Major Penalty","Place","Placement Points","Score","Tie Breaker","Adjusted Score for Ties","Adjusted Score Major Penalty","Place","Placement Points","Score","Tie Breaker","Adjusted Score for Ties","Adjusted Score Major Penalty","Place","Placement Points","Score","Tie Breaker","Adjusted Score for Ties","Adjusted Score Major Penalty","Place","Placement Points",null,null,null,"Points",null,null,null,null,"Points",null,null,null,null,"Points"]
[]
["Back No.","Last Name","First Name","Registered Horse Name","Division"]
[{"$f":"IF('Entry Information'!B71=\"\",\"\",'Entry Information'!B71)","v":""},{"$f":"IF('Entry Information'!C71=\"\",\"\",'Entry Information'!C71)","v":""},{"$f":"IF('Entry Information'!D71=\"\",\"\",'Entry Information'!D71)","v":""},{"$f":"IF('Entry Information'!E71=\"\",\"\",'Entry Information'!E71)","v":""},"INT",{"$f":"IF('Entry Information'!Q71=\"\",\"\",'Entry Information'!Q71)","v":""},null,{"$f":"IF(G11=\"\",F11,(F11+(G11*0.001)))","v":""},{"$f":"IF('Entry Information'!R71=\"\",H11,H11-100)","v":""},{"$f":"IF(I11=\"\",\"\",(RANK(I11,$I$11:$I$40,0)))","v":""},{"$f":"IF($F11=\"\",\"\",(VLOOKUP($J$42,Worksheet!$A$11:$AE$41,J11+1,FALSE)))","v":""},{"$f":"IF('Entry Information'!S71=\"\",\"\",'Entry Information'!S71)","v":""},null,{"$f":"IF(M11=\"\",L11,(L11+(M11*0.001)))","v":""},{"$f":"IF('Entry Information'!T71=\"\",N11,N11-100)","v":""},{"$f":"IF(O11=\"\",\"\",(RANK(O11,$O$11:$O$40,0)))","v":""},{"$f":"IF($L11=\"\",\"\",(VLOOKUP($P$42,Worksheet!$A$11:$AE$41,P11+1,FALSE)))","v":""},{"$f":"IF('Entry Information'!U71=\"\",\"\",'Entry Information'!U71)","v":""},null,{"$f":"IF(S11=\"\",R11,(R11+(S11*0.001)))","v":""},{"$f":"IF('Entry Information'!V71=\"\",T11,T11-100)","v":""},{"$f":"IF(U11=\"\",\"\",(RANK(U11,$U$11:$U$40,0)))","v":""},{"$f":"IF($R11=\"\",\"\",(VLOOKUP($V$42,Worksheet!$A$11:$AE$41,V11+1,FALSE)))","v":""},{"$f":"IF('Entry Information'!W71=\"\",\"\",'Entry Information'!W71)","v":""},null,{"$f":"IF(Y11=\"\",X11,(X11+(Y11*0.001)))","v":""},{"$f":"IF('Entry Information'!X71=\"\",Z11,Z11-100)","v":""},{"$f":"IF(AA11=\"\",\"\",(RANK(AA11,$AA$11:$AA$40,0)))","v":""},{"$f":"IF($X11=\"\",\"\",(VLOOKUP($AB$42,Worksheet!$A$11:$AE$41,AB11+1,FALSE)))","v":""},{"$f":"IF('Entry Information'!Y71=\"\",\"\",'Entry Information'!Y71)","v":""},null,{"$f":"IF(AE11=\"\",AD11,(AD11+(AE11*0.001)))","v":""},{"$f":"IF('Entry Information'!Z71=\"\",AF11,AF11-100)","v":""},{"$f":"IF(AG11=\"\",\"\",(RANK(AG11,$AG$11:$AG$40,0)))","v":""},{"$f":"IF($AD11=\"\",\"\",(VLOOKUP($AH$42,Worksheet!$A$11:$AE$41,AH11+1,FALSE)))","v":""},null,{"$f":"IF('INTERMEDIATE All-AROUND RESULTS'!A10=\"\",\"\",(SUM('INTERMEDIATE All-AROUND RESULTS'!$K10,'INTERMEDIATE All-AROUND RESULTS'!AC10,'INTERMEDIATE All-AROUND RESULTS'!$AI10,'INTERMEDIATE All-AROUND RESULTS'!$W10,'INTERMEDIATE All-AROUND RESULTS'!$Q10)))","v":""},null,{"$f":"IF(AL11=\"\",AK11,(AK11+(AL11*0.001)))","v":""},{"$f":"IF(AM11=\"\",\"\",(RANK(AM11,$AM$11:$AM$40,0)))","v":""},null,{"$f":"IF(OR('Entry Information'!H71=\"\",'Entry Information'!J71=\"\"),\"\",(SUM('INTERMEDIATE SELECT RESULTS'!$K10,'INTERMEDIATE SELECT RESULTS'!$AC10,'INTERMEDIATE SELECT RESULTS'!$AI10, 'INTERMEDIATE SELECT RESULTS'!$W10,'INTERMEDIATE SELECT RESULTS'!$Q10)))","v":""},null,{"$f":"IF(AQ11=\"\",AP11,(AP11+(AQ11*0.001)))","v":""},{"$f":"IF(AR11=\"\",\"\",(RANK(AR11,$AR$11:$AR$40,0)))","v":""},null,{"$f":"IF(OR('Entry Information'!I71=\"\",'Entry Information'!J71=\"\"),\"\",(SUM('INTERMEDIATE JR HORSE RESULTS'!$K10,'INTERMEDIATE JR HORSE RESULTS'!$AC10,'INTERMEDIATE JR HORSE RESULTS'!$AI10, 'INTERMEDIATE JR HORSE RESULTS'!$W10,'INTERMEDIATE JR HORSE RESULTS'!$Q10)))","v":""},null,{"$f":"IF(AV11=\"\",AU11,(AU11+(AV11*0.001)))","v":""},{"$f":"IF(AW11=\"\",\"\",(RANK(AW11,$AW$11:$AW$40,0)))","v":""}]
[{"$f":"IF('Entry Information'!B72=\"\",\"\",'Entry Information'!B72)","v":""},{"$f":"IF('Entry Information'!C72=\"\",\"\",'Entry Information'!C72)","v":""},{"$f":"IF('Entry Information'!D72=\"\",\"\",'Entry Information'!D72)","v":""},{"$f":"IF('Entry Information'!E72=\"\",\"\",'Entry Information'!E72)","v":""},"INT",{"$f":"IF('Entry Information'!Q72=\"\",\"\",'Entry Information'!Q72)","v":""},null,{"$f":"IF(G12=\"\",F12,(F12+(G12*0.001)))","v":""},{"$f":"IF('Entry Information'!R72=\"\",H12,H12-100)","v":""},{"$f":"IF(I12=\"\",\"\",(RANK(I12,$I$11:$I$40,0)))","v":""},{"$f":"IF($F12=\"\",\"\",(VLOOKUP($J$42,Worksheet!$A$11:$AE$41,J12+1,FALSE)))","v":""},{"$f":"IF('Entry Information'!S72=\"\",\"\",'Entry Information'!S72)","v":""},null,"",{"$f":"IF('Entry Information'!T72=\"\",N12,N12-100)","v":""},{"$f":"IF(O12=\"\",\"\",(RANK(O12,$O$11:$O$40,0)))","v":""},{"$f":"IF($L12=\"\",\"\",(VLOOKUP($P$42,Worksheet!$A$11:$AE$41,P12+1,FALSE)))","v":""},{"$f":"IF('Entry Information'!U72=\"\",\"\",'Entry Information'!U72)","v":""},null,"",{"$f":"IF('Entry Information'!V72=\"\",T12,T12-100)","v":""},{"$f":"IF(U12=\"\",\"\",(RANK(U12,$U$11:$U$40,0)))","v":""},{"$f":"IF($R12=\"\",\"\",(VLOOKUP($V$42,Worksheet!$A$11:$AE$41,V12+1,FALSE)))","v":""},{"$f":"IF('Entry Information'!W72=\"\",\"\",'Entry Information'!W72)","v":""},null,{"$f":"IF(Y12=\"\",X12,(X12+(Y12*0.001)))","v":""},{"$f":"IF('Entry Information'!X72=\"\",Z12,Z12-100)","v":""},{"$f":"IF(AA12=\"\",\"\",(RANK(AA12,$AA$11:$AA$40,0)))","v":""},{"$f":"IF($X12=\"\",\"\",(VLOOKUP($AB$42,Worksheet!$A$11:$AE$41,AB12+1,FALSE)))","v":""},{"$f":"IF('Entry Information'!Y72=\"\",\"\",'Entry Information'!Y72)","v":""},null,{"$f":"IF(AE12=\"\",AD12,(AD12+(AE12*0.001)))","v":""},{"$f":"IF('Entry Information'!Z72=\"\",AF12,AF12-100)","v":""},{"$f":"IF(AG12=\"\",\"\",(RANK(AG12,$AG$11:$AG$40,0)))","v":""},{"$f":"IF($AD12=\"\",\"\",(VLOOKUP($AH$42,Worksheet!$A$11:$AE$41,AH12+1,FALSE)))","v":""},null,{"$f":"IF('INTERMEDIATE All-AROUND RESULTS'!A11=\"\",\"\",(SUM('INTERMEDIATE All-AROUND RESULTS'!$K11,'INTERMEDIATE All-AROUND RESULTS'!AC11,'INTERMEDIATE All-AROUND RESULTS'!$AI11,'INTERMEDIATE All-AROUND RESULTS'!$W11,'INTERMEDIATE All-AROUND RESULTS'!$Q11)))","v":""},null,"","",null,{"$f":"IF(OR('Entry Information'!H72=\"\",'Entry Information'!J72=\"\"),\"\",(SUM('INTERMEDIATE SELECT RESULTS'!$K11,'INTERMEDIATE SELECT RESULTS'!$AC11,'INTERMEDIATE SELECT RESULTS'!$AI11, 'INTERMEDIATE SELECT RESULTS'!$W11,'INTERMEDIATE SELECT RESULTS'!$Q11)))","v":""},null,"","",null,{"$f":"IF(OR('Entry Information'!I72=\"\",'Entry Information'!J72=\"\"),\"\",(SUM('INTERMEDIATE JR HORSE RESULTS'!$K11,'INTERMEDIATE JR HORSE RESULTS'!$AC11,'INTERMEDIATE JR HORSE RESULTS'!$AI11, 'INTERMEDIATE JR HORSE RESULTS'!$W11,'INTERMEDIATE JR HORSE RESULTS'!$Q11)))","v":""},null,"",""]
[{"$f":"IF('Entry Information'!B73=\"\",\"\",'Entry Information'!B73)","v":""},{"$f":"IF('Entry Information'!C73=\"\",\"\",'Entry Information'!C73)","v":""},{"$f":"IF('Entry Information'!D73=\"\",\"\",'Entry Information'!D73)","v":""},{"$f":"IF('Entry Information'!E73=\"\",\"\",'Entry Information'!E73)","v":""},"INT",{"$f":"IF('Entry Information'!Q73=\"\",\"\",'Entry Information'!Q73)","v":""},null,"",{"$f":"IF('Entry Information'!R73=\"\",H13,H13-100)","v":""},"",{"$f":"IF($F13=\"\",\"\",(VLOOKUP($J$42,Worksheet!$A$11:$AE$41,J13+1,FALSE)))","v":""},{"$f":"IF('Entry Information'!S73=\"\",\"\",'Entry Information'!S73)","v":""},null,"",{"$f":"IF('Entry Information'!T73=\"\",N13,N13-100)","v":""},"",{"$f":"IF($L13=\"\",\"\",(VLOOKUP($P$42,Worksheet!$A$11:$AE$41,P13+1,FALSE)))","v":""},{"$f":"IF('Entry Information'!U73=\"\",\"\",'Entry Information'!U73)","v":""},null,"",{"$f":"IF('Entry Information'!V73=\"\",T13,T13-100)","v":""},"",{"$f":"IF($R13=\"\",\"\",(VLOOKUP($V$42,Worksheet!$A$11:$AE$41,V13+1,FALSE)))","v":""},{"$f":"IF('Entry Information'!W73=\"\",\"\",'Entry Information'!W73)","v":""},null,"",{"$f":"IF('Entry Information'!X73=\"\",Z13,Z13-100)","v":""},"",{"$f":"IF($X13=\"\",\"\",(VLOOKUP($AB$42,Worksheet!$A$11:$AE$41,AB13+1,FALSE)))","v":""},{"$f":"IF('Entry Information'!Y73=\"\",\"\",'Entry Information'!Y73)","v":""},null,"",{"$f":"IF('Entry Information'!Z73=\"\",AF13,AF13-100)","v":""},"",{"$f":"IF($AD13=\"\",\"\",(VLOOKUP($AH$42,Worksheet!$A$11:$AE$41,AH13+1,FALSE)))","v":""},null,{"$f":"IF('INTERMEDIATE All-AROUND RESULTS'!A12=\"\",\"\",(SUM('INTERMEDIATE All-AROUND RESULTS'!$K12,'INTERMEDIATE All-AROUND RESULTS'!AC12,'INTERMEDIATE All-AROUND RESULTS'!$AI12,'INTERMEDIATE All-AROUND RESULTS'!$W12,'INTERMEDIATE All-AROUND RESULTS'!$Q12)))","v":""},null,"","",null,{"$f":"IF(OR('Entry Information'!H73=\"\",'Entry Information'!J73=\"\"),\"\",(SUM('INTERMEDIATE SELECT RESULTS'!$K12,'INTERMEDIATE SELECT RESULTS'!$AC12,'INTERMEDIATE SELECT RESULTS'!$AI12, 'INTERMEDIATE SELECT RESULTS'!$W12,'INTERMEDIATE SELECT RESULTS'!$Q12)))","v":""},null,"","",null,{"$f":"IF(OR('Entry Information'!I73=\"\",'Entry Information'!J73=\"\"),\"\",(SUM('INTERMEDIATE JR HORSE RESULTS'!$K12,'INTERMEDIATE JR HORSE RESULTS'!$AC12,'INTERMEDIATE JR HORSE RESULTS'!$AI12, 'INTERMEDIATE JR HORSE RESULTS'!$W12,'INTERMEDIATE JR HORSE RESULTS'!$Q12)))","v":""},null,"",""]
[{"$f":"IF('Entry Information'!B74=\"\",\"\",'Entry Information'!B74)","v":""},{"$f":"IF('Entry Information'!C74=\"\",\"\",'Entry Information'!C74)","v":""},{"$f":"IF('Entry Information'!D74=\"\",\"\",'Entry Information'!D74)","v":""},{"$f":"IF('Entry Information'!E74=\"\",\"\",'Entry Information'!E74)","v":""},"INT",{"$f":"IF('Entry Information'!Q74=\"\",\"\",'Entry Information'!Q74)","v":""},null,"",{"$f":"IF('Entry Information'!R74=\"\",H14,H14-100)","v":""},"",{"$f":"IF($F14=\"\",\"\",(VLOOKUP($J$42,Worksheet!$A$11:$AE$41,J14+1,FALSE)))","v":""},{"$f":"IF('Entry Information'!S74=\"\",\"\",'Entry Information'!S74)","v":""},null,"",{"$f":"IF('Entry Information'!T74=\"\",N14,N14-100)","v":""},"",{"$f":"IF($L14=\"\",\"\",(VLOOKUP($P$42,Worksheet!$A$11:$AE$41,P14+1,FALSE)))","v":""},{"$f":"IF('Entry Information'!U74=\"\",\"\",'Entry Information'!U74)","v":""},null,"",{"$f":"IF('Entry Information'!V74=\"\",T14,T14-100)","v":""},"",{"$f":"IF($R14=\"\",\"\",(VLOOKUP($V$42,Worksheet!$A$11:$AE$41,V14+1,FALSE)))","v":""},{"$f":"IF('Entry Information'!W74=\"\",\"\",'Entry Information'!W74)","v":""},null,"",{"$f":"IF('Entry Information'!X74=\"\",Z14,Z14-100)","v":""},"",{"$f":"IF($X14=\"\",\"\",(VLOOKUP($AB$42,Worksheet!$A$11:$AE$41,AB14+1,FALSE)))","v":""},{"$f":"IF('Entry Information'!Y74=\"\",\"\",'Entry Information'!Y74)","v":""},null,"",{"$f":"IF('Entry Information'!Z74=\"\",AF14,AF14-100)","v":""},"",{"$f":"IF($AD14=\"\",\"\",(VLOOKUP($AH$42,Worksheet!$A$11:$AE$41,AH14+1,FALSE)))","v":""},null,{"$f":"IF('INTERMEDIATE All-AROUND RESULTS'!A13=\"\",\"\",(SUM('INTERMEDIATE All-AROUND RESULTS'!$K13,'INTERMEDIATE All-AROUND RESULTS'!AC13,'INTERMEDIATE All-AROUND RESULTS'!$AI13,'INTERMEDIATE All-AROUND RESULTS'!$W13,'INTERMEDIATE All-AROUND RESULTS'!$Q13)))","v":""},null,"","",null,{"$f":"IF(OR('Entry Information'!H74=\"\",'Entry Information'!J74=\"\"),\"\",(SUM('INTERMEDIATE SELECT RESULTS'!$K13,'INTERMEDIATE SELECT RESULTS'!$AC13,'INTERMEDIATE SELECT RESULTS'!$AI13, 'INTERMEDIATE SELECT RESULTS'!$W13,'INTERMEDIATE SELECT RESULTS'!$Q13)))","v":""},null,"","",null,{"$f":"IF(OR('Entry Information'!I74=\"\",'Entry Information'!J74=\"\"),\"\",(SUM('INTERMEDIATE JR HORSE RESULTS'!$K13,'INTERMEDIATE JR HORSE RESULTS'!$AC13,'INTERMEDIATE JR HORSE RESULTS'!$AI13, 'INTERMEDIATE JR HORSE RESULTS'!$W13,'INTERMEDIATE JR HORSE RESULTS'!$Q13)))","v":""},null,"",""]
[{"$f":"IF('Entry Information'!B75=\"\",\"\",'Entry Information'!B75)","v":""},{"$f":"IF('Entry Information'!C75=\"\",\"\",'Entry Information'!C75)","v":""},{"$f":"IF('Entry Information'!D75=\"\",\"\",'Entry Information'!D75)","v":""},{"$f":"IF('Entry Information'!E75=\"\",\"\",'Entry Information'!E75)","v":""},"INT",{"$f":"IF('Entry Information'!Q75=\"\",\"\",'Entry Information'!Q75)","v":""},null,"",{"$f":"IF('Entry Information'!R75=\"\",H15,H15-100)","v":""},"",{"$f":"IF($F15=\"\",\"\",(VLOOKUP($J$42,Worksheet!$A$11:$AE$41,J15+1,FALSE)))","v":""},{"$f":"IF('Entry Information'!S75=\"\",\"\",'Entry Information'!S75)","v":""},null,"",{"$f":"IF('Entry Information'!T75=\"\",N15,N15-100)","v":""},"",{"$f":"IF($L15=\"\",\"\",(VLOOKUP($P$42,Worksheet!$A$11:$AE$41,P15+1,FALSE)))","v":""},{"$f":"IF('Entry Information'!U75=\"\",\"\",'Entry Information'!U75)","v":""},null,"",{"$f":"IF('Entry Information'!V75=\"\",T15,T15-100)","v":""},"",{"$f":"IF($R15=\"\",\"\",(VLOOKUP($V$42,Worksheet!$A$11:$AE$41,V15+1,FALSE)))","v":""},{"$f":"IF('Entry Information'!W75=\"\",\"\",'Entry Information'!W75)","v":""},null,"",{"$f":"IF('Entry Information'!X75=\"\",Z15,Z15-100)","v":""},"",{"$f":"IF($X15=\"\",\"\",(VLOOKUP($AB$42,Worksheet!$A$11:$AE$41,AB15+1,FALSE)))","v":""},{"$f":"IF('Entry Information'!Y75=\"\",\"\",'Entry Information'!Y75)","v":""},null,"",{"$f":"IF('Entry Information'!Z75=\"\",AF15,AF15-100)","v":""},"",{"$f":"IF($AD15=\"\",\"\",(VLOOKUP($AH$42,Worksheet!$A$11:$AE$41,AH15+1,FALSE)))","v":""},null,{"$f":"IF('INTERMEDIATE All-AROUND RESULTS'!A14=\"\",\"\",(SUM('INTERMEDIATE All-AROUND RESULTS'!$K14,'INTERMEDIATE All-AROUND RESULTS'!AC14,'INTERMEDIATE All-AROUND RESULTS'!$AI14,'INTERMEDIATE All-AROUND RESULTS'!$W14,'INTERMEDIATE All-AROUND RESULTS'!$Q14)))","v":""},null,"","",null,{"$f":"IF(OR('Entry Information'!H75=\"\",'Entry Information'!J75=\"\"),\"\",(SUM('INTERMEDIATE SELECT RESULTS'!$K14,'INTERMEDIATE SELECT RESULTS'!$AC14,'INTERMEDIATE SELECT RESULTS'!$AI14, 'INTERMEDIATE SELECT RESULTS'!$W14,'INTERMEDIATE SELECT RESULTS'!$Q14)))","v":""},null,"","",null,{"$f":"IF(OR('Entry Information'!I75=\"\",'Entry Information'!J75=\"\"),\"\",(SUM('INTERMEDIATE JR HORSE RESULTS'!$K14,'INTERMEDIATE JR HORSE RESULTS'!$AC14,'INTERMEDIATE JR HORSE RESULTS'!$AI14, 'INTERMEDIATE JR HORSE RESULTS'!$W14,'INTERMEDIATE JR HORSE RESULTS'!$Q14)))","v":""},null,"",""]
[{"$f":"IF('Entry Information'!B76=\"\",\"\",'Entry Information'!B76)","v":""},{"$f":"IF('Entry Information'!C76=\"\",\"\",'Entry Information'!C76)","v":""},{"$f":"IF('Entry Information'!D76=\"\",\"\",'Entry Information'!D76)","v":""},{"$f":"IF('Entry Information'!E76=\"\",\"\",'Entry Information'!E76)","v":""},"INT",{"$f":"IF('Entry Information'!Q76=\"\",\"\",'Entry Information'!Q76)","v":""},null,"",{"$f":"IF('Entry Information'!R76=\"\",H16,H16-100)","v":""},"",{"$f":"IF($F16=\"\",\"\",(VLOOKUP($J$42,Worksheet!$A$11:$AE$41,J16+1,FALSE)))","v":""},{"$f":"IF('Entry Information'!S76=\"\",\"\",'Entry Information'!S76)","v":""},null,"",{"$f":"IF('Entry Information'!T76=\"\",N16,N16-100)","v":""},"",{"$f":"IF($L16=\"\",\"\",(VLOOKUP($P$42,Worksheet!$A$11:$AE$41,P16+1,FALSE)))","v":""},{"$f":"IF('Entry Information'!U76=\"\",\"\",'Entry Information'!U76)","v":""},null,"",{"$f":"IF('Entry Information'!V76=\"\",T16,T16-100)","v":""},"",{"$f":"IF($R16=\"\",\"\",(VLOOKUP($V$42,Worksheet!$A$11:$AE$41,V16+1,FALSE)))","v":""},{"$f":"IF('Entry Information'!W76=\"\",\"\",'Entry Information'!W76)","v":""},null,"",{"$f":"IF('Entry Information'!X76=\"\",Z16,Z16-100)","v":""},"",{"$f":"IF($X16=\"\",\"\",(VLOOKUP($AB$42,Worksheet!$A$11:$AE$41,AB16+1,FALSE)))","v":""},{"$f":"IF('Entry Information'!Y76=\"\",\"\",'Entry Information'!Y76)","v":""},null,"",{"$f":"IF('Entry Information'!Z76=\"\",AF16,AF16-100)","v":""},"",{"$f":"IF($AD16=\"\",\"\",(VLOOKUP($AH$42,Worksheet!$A$11:$AE$41,AH16+1,FALSE)))","v":""},null,{"$f":"IF('INTERMEDIATE All-AROUND RESULTS'!A15=\"\",\"\",(SUM('INTERMEDIATE All-AROUND RESULTS'!$K15,'INTERMEDIATE All-AROUND RESULTS'!AC15,'INTERMEDIATE All-AROUND RESULTS'!$AI15,'INTERMEDIATE All-AROUND RESULTS'!$W15,'INTERMEDIATE All-AROUND RESULTS'!$Q15)))","v":""},null,"","",null,{"$f":"IF(OR('Entry Information'!H76=\"\",'Entry Information'!J76=\"\"),\"\",(SUM('INTERMEDIATE SELECT RESULTS'!$K15,'INTERMEDIATE SELECT RESULTS'!$AC15,'INTERMEDIATE SELECT RESULTS'!$AI15, 'INTERMEDIATE SELECT RESULTS'!$W15,'INTERMEDIATE SELECT RESULTS'!$Q15)))","v":""},null,"","",null,{"$f":"IF(OR('Entry Information'!I76=\"\",'Entry Information'!J76=\"\"),\"\",(SUM('INTERMEDIATE JR HORSE RESULTS'!$K15,'INTERMEDIATE JR HORSE RESULTS'!$AC15,'INTERMEDIATE JR HORSE RESULTS'!$AI15, 'INTERMEDIATE JR HORSE RESULTS'!$W15,'INTERMEDIATE JR HORSE RESULTS'!$Q15)))","v":""},null,"",""]
[{"$f":"IF('Entry Information'!B77=\"\",\"\",'Entry Information'!B77)","v":""},{"$f":"IF('Entry Information'!C77=\"\",\"\",'Entry Information'!C77)","v":""},{"$f":"IF('Entry Information'!D77=\"\",\"\",'Entry Information'!D77)","v":""},{"$f":"IF('Entry Information'!E77=\"\",\"\",'Entry Information'!E77)","v":""},"INT",{"$f":"IF('Entry Information'!Q77=\"\",\"\",'Entry Information'!Q77)","v":""},null,"",{"$f":"IF('Entry Information'!R77=\"\",H17,H17-100)","v":""},"",{"$f":"IF($F17=\"\",\"\",(VLOOKUP($J$42,Worksheet!$A$11:$AE$41,J17+1,FALSE)))","v":""},{"$f":"IF('Entry Information'!S77=\"\",\"\",'Entry Information'!S77)","v":""},null,"",{"$f":"IF('Entry Information'!T77=\"\",N17,N17-100)","v":""},"",{"$f":"IF($L17=\"\",\"\",(VLOOKUP($P$42,Worksheet!$A$11:$AE$41,P17+1,FALSE)))","v":""},{"$f":"IF('Entry Information'!U77=\"\",\"\",'Entry Information'!U77)","v":""},null,"",{"$f":"IF('Entry Information'!V77=\"\",T17,T17-100)","v":""},"",{"$f":"IF($R17=\"\",\"\",(VLOOKUP($V$42,Worksheet!$A$11:$AE$41,V17+1,FALSE)))","v":""},{"$f":"IF('Entry Information'!W77=\"\",\"\",'Entry Information'!W77)","v":""},null,"",{"$f":"IF('Entry Information'!X77=\"\",Z17,Z17-100)","v":""},"",{"$f":"IF($X17=\"\",\"\",(VLOOKUP($AB$42,Worksheet!$A$11:$AE$41,AB17+1,FALSE)))","v":""},{"$f":"IF('Entry Information'!Y77=\"\",\"\",'Entry Information'!Y77)","v":""},null,"",{"$f":"IF('Entry Information'!Z77=\"\",AF17,AF17-100)","v":""},"",{"$f":"IF($AD17=\"\",\"\",(VLOOKUP($AH$42,Worksheet!$A$11:$AE$41,AH17+1,FALSE)))","v":""},null,{"$f":"IF('INTERMEDIATE All-AROUND RESULTS'!A16=\"\",\"\",(SUM('INTERMEDIATE All-AROUND RESULTS'!$K16,'INTERMEDIATE All-AROUND RESULTS'!AC16,'INTERMEDIATE All-AROUND RESULTS'!$AI16,'INTERMEDIATE All-AROUND RESULTS'!$W16,'INTERMEDIATE All-AROUND RESULTS'!$Q16)))","v":""},null,"","",null,{"$f":"IF(OR('Entry Information'!H77=\"\",'Entry Information'!J77=\"\"),\"\",(SUM('INTERMEDIATE SELECT RESULTS'!$K16,'INTERMEDIATE SELECT RESULTS'!$AC16,'INTERMEDIATE SELECT RESULTS'!$AI16, 'INTERMEDIATE SELECT RESULTS'!$W16,'INTERMEDIATE SELECT RESULTS'!$Q16)))","v":""},null,"","",null,{"$f":"IF(OR('Entry Information'!I77=\"\",'Entry Information'!J77=\"\"),\"\",(SUM('INTERMEDIATE JR HORSE RESULTS'!$K16,'INTERMEDIATE JR HORSE RESULTS'!$AC16,'INTERMEDIATE JR HORSE RESULTS'!$AI16, 'INTERMEDIATE JR HORSE RESULTS'!$W16,'INTERMEDIATE JR HORSE RESULTS'!$Q16)))","v":""},null,"",""]
[{"$f":"IF('Entry Information'!B78=\"\",\"\",'Entry Information'!B78)","v":""},{"$f":"IF('Entry Information'!C78=\"\",\"\",'Entry Information'!C78)","v":""},{"$f":"IF('Entry Information'!D78=\"\",\"\",'Entry Information'!D78)","v":""},{"$f":"IF('Entry Information'!E78=\"\",\"\",'Entry Information'!E78)","v":""},"INT",{"$f":"IF('Entry Information'!Q78=\"\",\"\",'Entry Information'!Q78)","v":""},null,"",{"$f":"IF('Entry Information'!R78=\"\",H18,H18-100)","v":""},"",{"$f":"IF($F18=\"\",\"\",(VLOOKUP($J$42,Worksheet!$A$11:$AE$41,J18+1,FALSE)))","v":""},{"$f":"IF('Entry Information'!S78=\"\",\"\",'Entry Information'!S78)","v":""},null,"",{"$f":"IF('Entry Information'!T78=\"\",N18,N18-100)","v":""},"",{"$f":"IF($L18=\"\",\"\",(VLOOKUP($P$42,Worksheet!$A$11:$AE$41,P18+1,FALSE)))","v":""},{"$f":"IF('Entry Information'!U78=\"\",\"\",'Entry Information'!U78)","v":""},null,"",{"$f":"IF('Entry Information'!V78=\"\",T18,T18-100)","v":""},"",{"$f":"IF($R18=\"\",\"\",(VLOOKUP($V$42,Worksheet!$A$11:$AE$41,V18+1,FALSE)))","v":""},{"$f":"IF('Entry Information'!W78=\"\",\"\",'Entry Information'!W78)","v":""},null,"",{"$f":"IF('Entry Information'!X78=\"\",Z18,Z18-100)","v":""},"",{"$f":"IF($X18=\"\",\"\",(VLOOKUP($AB$42,Worksheet!$A$11:$AE$41,AB18+1,FALSE)))","v":""},{"$f":"IF('Entry Information'!Y78=\"\",\"\",'Entry Information'!Y78)","v":""},null,"",{"$f":"IF('Entry Information'!Z78=\"\",AF18,AF18-100)","v":""},"",{"$f":"IF($AD18=\"\",\"\",(VLOOKUP($AH$42,Worksheet!$A$11:$AE$41,AH18+1,FALSE)))","v":""},null,{"$f":"IF('INTERMEDIATE All-AROUND RESULTS'!A17=\"\",\"\",(SUM('INTERMEDIATE All-AROUND RESULTS'!$K17,'INTERMEDIATE All-AROUND RESULTS'!AC17,'INTERMEDIATE All-AROUND RESULTS'!$AI17,'INTERMEDIATE All-AROUND RESULTS'!$W17,'INTERMEDIATE All-AROUND RESULTS'!$Q17)))","v":""},null,"","",null,{"$f":"IF(OR('Entry Information'!H78=\"\",'Entry Information'!J78=\"\"),\"\",(SUM('INTERMEDIATE SELECT RESULTS'!$K17,'INTERMEDIATE SELECT RESULTS'!$AC17,'INTERMEDIATE SELECT RESULTS'!$AI17, 'INTERMEDIATE SELECT RESULTS'!$W17,'INTERMEDIATE SELECT RESULTS'!$Q17)))","v":""},null,"","",null,{"$f":"IF(OR('Entry Information'!I78=\"\",'Entry Information'!J78=\"\"),\"\",(SUM('INTERMEDIATE JR HORSE RESULTS'!$K17,'INTERMEDIATE JR HORSE RESULTS'!$AC17,'INTERMEDIATE JR HORSE RESULTS'!$AI17, 'INTERMEDIATE JR HORSE RESULTS'!$W17,'INTERMEDIATE JR HORSE RESULTS'!$Q17)))","v":""},null,"",""]
[{"$f":"IF('Entry Information'!B79=\"\",\"\",'Entry Information'!B79)","v":""},{"$f":"IF('Entry Information'!C79=\"\",\"\",'Entry Information'!C79)","v":""},{"$f":"IF('Entry Information'!D79=\"\",\"\",'Entry Information'!D79)","v":""},{"$f":"IF('Entry Information'!E79=\"\",\"\",'Entry Information'!E79)","v":""},"INT",{"$f":"IF('Entry Information'!Q79=\"\",\"\",'Entry Information'!Q79)","v":""},null,"",{"$f":"IF('Entry Information'!R79=\"\",H19,H19-100)","v":""},"",{"$f":"IF($F19=\"\",\"\",(VLOOKUP($J$42,Worksheet!$A$11:$AE$41,J19+1,FALSE)))","v":""},{"$f":"IF('Entry Information'!S79=\"\",\"\",'Entry Information'!S79)","v":""},null,"",{"$f":"IF('Entry Information'!T79=\"\",N19,N19-100)","v":""},"",{"$f":"IF($L19=\"\",\"\",(VLOOKUP($P$42,Worksheet!$A$11:$AE$41,P19+1,FALSE)))","v":""},{"$f":"IF('Entry Information'!U79=\"\",\"\",'Entry Information'!U79)","v":""},null,"",{"$f":"IF('Entry Information'!V79=\"\",T19,T19-100)","v":""},"",{"$f":"IF($R19=\"\",\"\",(VLOOKUP($V$42,Worksheet!$A$11:$AE$41,V19+1,FALSE)))","v":""},{"$f":"IF('Entry Information'!W79=\"\",\"\",'Entry Information'!W79)","v":""},null,"",{"$f":"IF('Entry Information'!X79=\"\",Z19,Z19-100)","v":""},"",{"$f":"IF($X19=\"\",\"\",(VLOOKUP($AB$42,Worksheet!$A$11:$AE$41,AB19+1,FALSE)))","v":""},{"$f":"IF('Entry Information'!Y79=\"\",\"\",'Entry Information'!Y79)","v":""},null,"",{"$f":"IF('Entry Information'!Z79=\"\",AF19,AF19-100)","v":""},"",{"$f":"IF($AD19=\"\",\"\",(VLOOKUP($AH$42,Worksheet!$A$11:$AE$41,AH19+1,FALSE)))","v":""},null,{"$f":"IF('INTERMEDIATE All-AROUND RESULTS'!A18=\"\",\"\",(SUM('INTERMEDIATE All-AROUND RESULTS'!$K18,'INTERMEDIATE All-AROUND RESULTS'!AC18,'INTERMEDIATE All-AROUND RESULTS'!$AI18,'INTERMEDIATE All-AROUND RESULTS'!$W18,'INTERMEDIATE All-AROUND RESULTS'!$Q18)))","v":""},null,"","",null,{"$f":"IF(OR('Entry Information'!H79=\"\",'Entry Information'!J79=\"\"),\"\",(SUM('INTERMEDIATE SELECT RESULTS'!$K18,'INTERMEDIATE SELECT RESULTS'!$AC18,'INTERMEDIATE SELECT RESULTS'!$AI18, 'INTERMEDIATE SELECT RESULTS'!$W18,'INTERMEDIATE SELECT RESULTS'!$Q18)))","v":""},null,"","",null,{"$f":"IF(OR('Entry Information'!I79=\"\",'Entry Information'!J79=\"\"),\"\",(SUM('INTERMEDIATE JR HORSE RESULTS'!$K18,'INTERMEDIATE JR HORSE RESULTS'!$AC18,'INTERMEDIATE JR HORSE RESULTS'!$AI18, 'INTERMEDIATE JR HORSE RESULTS'!$W18,'INTERMEDIATE JR HORSE RESULTS'!$Q18)))","v":""},null,"",""]
[{"$f":"IF('Entry Information'!B80=\"\",\"\",'Entry Information'!B80)","v":""},{"$f":"IF('Entry Information'!C80=\"\",\"\",'Entry Information'!C80)","v":""},{"$f":"IF('Entry Information'!D80=\"\",\"\",'Entry Information'!D80)","v":""},{"$f":"IF('Entry Information'!E80=\"\",\"\",'Entry Information'!E80)","v":""},"INT",{"$f":"IF('Entry Information'!Q80=\"\",\"\",'Entry Information'!Q80)","v":""},null,"",{"$f":"IF('Entry Information'!R80=\"\",H20,H20-100)","v":""},"",{"$f":"IF($F20=\"\",\"\",(VLOOKUP($J$42,Worksheet!$A$11:$AE$41,J20+1,FALSE)))","v":""},{"$f":"IF('Entry Information'!S80=\"\",\"\",'Entry Information'!S80)","v":""},null,"",{"$f":"IF('Entry Information'!T80=\"\",N20,N20-100)","v":""},"",{"$f":"IF($L20=\"\",\"\",(VLOOKUP($P$42,Worksheet!$A$11:$AE$41,P20+1,FALSE)))","v":""},{"$f":"IF('Entry Information'!U80=\"\",\"\",'Entry Information'!U80)","v":""},null,"",{"$f":"IF('Entry Information'!V80=\"\",T20,T20-100)","v":""},"",{"$f":"IF($R20=\"\",\"\",(VLOOKUP($V$42,Worksheet!$A$11:$AE$41,V20+1,FALSE)))","v":""},{"$f":"IF('Entry Information'!W80=\"\",\"\",'Entry Information'!W80)","v":""},null,"",{"$f":"IF('Entry Information'!X80=\"\",Z20,Z20-100)","v":""},"",{"$f":"IF($X20=\"\",\"\",(VLOOKUP($AB$42,Worksheet!$A$11:$AE$41,AB20+1,FALSE)))","v":""},{"$f":"IF('Entry Information'!Y80=\"\",\"\",'Entry Information'!Y80)","v":""},null,"",{"$f":"IF('Entry Information'!Z80=\"\",AF20,AF20-100)","v":""},"",{"$f":"IF($AD20=\"\",\"\",(VLOOKUP($AH$42,Worksheet!$A$11:$AE$41,AH20+1,FALSE)))","v":""},null,{"$f":"IF('INTERMEDIATE All-AROUND RESULTS'!A19=\"\",\"\",(SUM('INTERMEDIATE All-AROUND RESULTS'!$K19,'INTERMEDIATE All-AROUND RESULTS'!AC19,'INTERMEDIATE All-AROUND RESULTS'!$AI19,'INTERMEDIATE All-AROUND RESULTS'!$W19,'INTERMEDIATE All-AROUND RESULTS'!$Q19)))","v":""},null,"","",null,{"$f":"IF(OR('Entry Information'!H80=\"\",'Entry Information'!J80=\"\"),\"\",(SUM('INTERMEDIATE SELECT RESULTS'!$K19,'INTERMEDIATE SELECT RESULTS'!$AC19,'INTERMEDIATE SELECT RESULTS'!$AI19, 'INTERMEDIATE SELECT RESULTS'!$W19,'INTERMEDIATE SELECT RESULTS'!$Q19)))","v":""},null,"","",null,{"$f":"IF(OR('Entry Information'!I80=\"\",'Entry Information'!J80=\"\"),\"\",(SUM('INTERMEDIATE JR HORSE RESULTS'!$K19,'INTERMEDIATE JR HORSE RESULTS'!$AC19,'INTERMEDIATE JR HORSE RESULTS'!$AI19, 'INTERMEDIATE JR HORSE RESULTS'!$W19,'INTERMEDIATE JR HORSE RESULTS'!$Q19)))","v":""},null,"",""]
[{"$f":"IF('Entry Information'!B81=\"\",\"\",'Entry Information'!B81)","v":""},{"$f":"IF('Entry Information'!C81=\"\",\"\",'Entry Information'!C81)","v":""},{"$f":"IF('Entry Information'!D81=\"\",\"\",'Entry Information'!D81)","v":""},{"$f":"IF('Entry Information'!E81=\"\",\"\",'Entry Information'!E81)","v":""},"INT",{"$f":"IF('Entry Information'!Q81=\"\",\"\",'Entry Information'!Q81)","v":""},null,"",{"$f":"IF('Entry Information'!R81=\"\",H21,H21-100)","v":""},"",{"$f":"IF($F21=\"\",\"\",(VLOOKUP($J$42,Worksheet!$A$11:$AE$41,J21+1,FALSE)))","v":""},{"$f":"IF('Entry Information'!S81=\"\",\"\",'Entry Information'!S81)","v":""},null,"",{"$f":"IF('Entry Information'!T81=\"\",N21,N21-100)","v":""},"",{"$f":"IF($L21=\"\",\"\",(VLOOKUP($P$42,Worksheet!$A$11:$AE$41,P21+1,FALSE)))","v":""},{"$f":"IF('Entry Information'!U81=\"\",\"\",'Entry Information'!U81)","v":""},null,"",{"$f":"IF('Entry Information'!V81=\"\",T21,T21-100)","v":""},"",{"$f":"IF($R21=\"\",\"\",(VLOOKUP($V$42,Worksheet!$A$11:$AE$41,V21+1,FALSE)))","v":""},{"$f":"IF('Entry Information'!W81=\"\",\"\",'Entry Information'!W81)","v":""},null,"",{"$f":"IF('Entry Information'!X81=\"\",Z21,Z21-100)","v":""},"",{"$f":"IF($X21=\"\",\"\",(VLOOKUP($AB$42,Worksheet!$A$11:$AE$41,AB21+1,FALSE)))","v":""},{"$f":"IF('Entry Information'!Y81=\"\",\"\",'Entry Information'!Y81)","v":""},null,"",{"$f":"IF('Entry Information'!Z81=\"\",AF21,AF21-100)","v":""},"",{"$f":"IF($AD21=\"\",\"\",(VLOOKUP($AH$42,Worksheet!$A$11:$AE$41,AH21+1,FALSE)))","v":""},null,{"$f":"IF('INTERMEDIATE All-AROUND RESULTS'!A20=\"\",\"\",(SUM('INTERMEDIATE All-AROUND RESULTS'!$K20,'INTERMEDIATE All-AROUND RESULTS'!AC20,'INTERMEDIATE All-AROUND RESULTS'!$AI20,'INTERMEDIATE All-AROUND RESULTS'!$W20,'INTERMEDIATE All-AROUND RESULTS'!$Q20)))","v":""},null,"","",null,{"$f":"IF(OR('Entry Information'!H81=\"\",'Entry Information'!J81=\"\"),\"\",(SUM('INTERMEDIATE SELECT RESULTS'!$K20,'INTERMEDIATE SELECT RESULTS'!$AC20,'INTERMEDIATE SELECT RESULTS'!$AI20, 'INTERMEDIATE SELECT RESULTS'!$W20,'INTERMEDIATE SELECT RESULTS'!$Q20)))","v":""},null,"","",null,{"$f":"IF(OR('Entry Information'!I81=\"\",'Entry Information'!J81=\"\"),\"\",(SUM('INTERMEDIATE JR HORSE RESULTS'!$K20,'INTERMEDIATE JR HORSE RESULTS'!$AC20,'INTERMEDIATE JR HORSE RESULTS'!$AI20, 'INTERMEDIATE JR HORSE RESULTS'!$W20,'INTERMEDIATE JR HORSE RESULTS'!$Q20)))","v":""},null,"",""]
[{"$f":"IF('Entry Information'!B82=\"\",\"\",'Entry Information'!B82)","v":""},{"$f":"IF('Entry Information'!C82=\"\",\"\",'Entry Information'!C82)","v":""},{"$f":"IF('Entry Information'!D82=\"\",\"\",'Entry Information'!D82)","v":""},{"$f":"IF('Entry Information'!E82=\"\",\"\",'Entry Information'!E82)","v":""},"INT",{"$f":"IF('Entry Information'!Q82=\"\",\"\",'Entry Information'!Q82)","v":""},null,"",{"$f":"IF('Entry Information'!R82=\"\",H22,H22-100)","v":""},"",{"$f":"IF($F22=\"\",\"\",(VLOOKUP($J$42,Worksheet!$A$11:$AE$41,J22+1,FALSE)))","v":""},{"$f":"IF('Entry Information'!S82=\"\",\"\",'Entry Information'!S82)","v":""},null,"",{"$f":"IF('Entry Information'!T82=\"\",N22,N22-100)","v":""},"",{"$f":"IF($L22=\"\",\"\",(VLOOKUP($P$42,Worksheet!$A$11:$AE$41,P22+1,FALSE)))","v":""},{"$f":"IF('Entry Information'!U82=\"\",\"\",'Entry Information'!U82)","v":""},null,"",{"$f":"IF('Entry Information'!V82=\"\",T22,T22-100)","v":""},"",{"$f":"IF($R22=\"\",\"\",(VLOOKUP($V$42,Worksheet!$A$11:$AE$41,V22+1,FALSE)))","v":""},{"$f":"IF('Entry Information'!W82=\"\",\"\",'Entry Information'!W82)","v":""},null,"",{"$f":"IF('Entry Information'!X82=\"\",Z22,Z22-100)","v":""},"",{"$f":"IF($X22=\"\",\"\",(VLOOKUP($AB$42,Worksheet!$A$11:$AE$41,AB22+1,FALSE)))","v":""},{"$f":"IF('Entry Information'!Y82=\"\",\"\",'Entry Information'!Y82)","v":""},null,"",{"$f":"IF('Entry Information'!Z82=\"\",AF22,AF22-100)","v":""},"",{"$f":"IF($AD22=\"\",\"\",(VLOOKUP($AH$42,Worksheet!$A$11:$AE$41,AH22+1,FALSE)))","v":""},null,{"$f":"IF('INTERMEDIATE All-AROUND RESULTS'!A21=\"\",\"\",(SUM('INTERMEDIATE All-AROUND RESULTS'!$K21,'INTERMEDIATE All-AROUND RESULTS'!AC21,'INTERMEDIATE All-AROUND RESULTS'!$AI21,'INTERMEDIATE All-AROUND RESULTS'!$W21,'INTERMEDIATE All-AROUND RESULTS'!$Q21)))","v":""},null,"","",null,{"$f":"IF(OR('Entry Information'!H82=\"\",'Entry Information'!J82=\"\"),\"\",(SUM('INTERMEDIATE SELECT RESULTS'!$K21,'INTERMEDIATE SELECT RESULTS'!$AC21,'INTERMEDIATE SELECT RESULTS'!$AI21, 'INTERMEDIATE SELECT RESULTS'!$W21,'INTERMEDIATE SELECT RESULTS'!$Q21)))","v":""},null,"","",null,{"$f":"IF(OR('Entry Information'!I82=\"\",'Entry Information'!J82=\"\"),\"\",(SUM('INTERMEDIATE JR HORSE RESULTS'!$K21,'INTERMEDIATE JR HORSE RESULTS'!$AC21,'INTERMEDIATE JR HORSE RESULTS'!$AI21, 'INTERMEDIATE JR HORSE RESULTS'!$W21,'INTERMEDIATE JR HORSE RESULTS'!$Q21)))","v":""},null,"",""]
[{"$f":"IF('Entry Information'!B83=\"\",\"\",'Entry Information'!B83)","v":""},{"$f":"IF('Entry Information'!C83=\"\",\"\",'Entry Information'!C83)","v":""},{"$f":"IF('Entry Information'!D83=\"\",\"\",'Entry Information'!D83)","v":""},{"$f":"IF('Entry Information'!E83=\"\",\"\",'Entry Information'!E83)","v":""},"INT",{"$f":"IF('Entry Information'!Q83=\"\",\"\",'Entry Information'!Q83)","v":""},null,"",{"$f":"IF('Entry Information'!R83=\"\",H23,H23-100)","v":""},"",{"$f":"IF($F23=\"\",\"\",(VLOOKUP($J$42,Worksheet!$A$11:$AE$41,J23+1,FALSE)))","v":""},{"$f":"IF('Entry Information'!S83=\"\",\"\",'Entry Information'!S83)","v":""},null,"",{"$f":"IF('Entry Information'!T83=\"\",N23,N23-100)","v":""},"",{"$f":"IF($L23=\"\",\"\",(VLOOKUP($P$42,Worksheet!$A$11:$AE$41,P23+1,FALSE)))","v":""},{"$f":"IF('Entry Information'!U83=\"\",\"\",'Entry Information'!U83)","v":""},null,"",{"$f":"IF('Entry Information'!V83=\"\",T23,T23-100)","v":""},"",{"$f":"IF($R23=\"\",\"\",(VLOOKUP($V$42,Worksheet!$A$11:$AE$41,V23+1,FALSE)))","v":""},{"$f":"IF('Entry Information'!W83=\"\",\"\",'Entry Information'!W83)","v":""},null,"",{"$f":"IF('Entry Information'!X83=\"\",Z23,Z23-100)","v":""},"",{"$f":"IF($X23=\"\",\"\",(VLOOKUP($AB$42,Worksheet!$A$11:$AE$41,AB23+1,FALSE)))","v":""},{"$f":"IF('Entry Information'!Y83=\"\",\"\",'Entry Information'!Y83)","v":""},null,"",{"$f":"IF('Entry Information'!Z83=\"\",AF23,AF23-100)","v":""},"",{"$f":"IF($AD23=\"\",\"\",(VLOOKUP($AH$42,Worksheet!$A$11:$AE$41,AH23+1,FALSE)))","v":""},null,{"$f":"IF('INTERMEDIATE All-AROUND RESULTS'!A22=\"\",\"\",(SUM('INTERMEDIATE All-AROUND RESULTS'!$K22,'INTERMEDIATE All-AROUND RESULTS'!AC22,'INTERMEDIATE All-AROUND RESULTS'!$AI22,'INTERMEDIATE All-AROUND RESULTS'!$W22,'INTERMEDIATE All-AROUND RESULTS'!$Q22)))","v":""},null,"","",null,{"$f":"IF(OR('Entry Information'!H83=\"\",'Entry Information'!J83=\"\"),\"\",(SUM('INTERMEDIATE SELECT RESULTS'!$K22,'INTERMEDIATE SELECT RESULTS'!$AC22,'INTERMEDIATE SELECT RESULTS'!$AI22, 'INTERMEDIATE SELECT RESULTS'!$W22,'INTERMEDIATE SELECT RESULTS'!$Q22)))","v":""},null,"","",null,{"$f":"IF(OR('Entry Information'!I83=\"\",'Entry Information'!J83=\"\"),\"\",(SUM('INTERMEDIATE JR HORSE RESULTS'!$K22,'INTERMEDIATE JR HORSE RESULTS'!$AC22,'INTERMEDIATE JR HORSE RESULTS'!$AI22, 'INTERMEDIATE JR HORSE RESULTS'!$W22,'INTERMEDIATE JR HORSE RESULTS'!$Q22)))","v":""},null,"",""]
[{"$f":"IF('Entry Information'!B84=\"\",\"\",'Entry Information'!B84)","v":""},{"$f":"IF('Entry Information'!C84=\"\",\"\",'Entry Information'!C84)","v":""},{"$f":"IF('Entry Information'!D84=\"\",\"\",'Entry Information'!D84)","v":""},{"$f":"IF('Entry Information'!E84=\"\",\"\",'Entry Information'!E84)","v":""},"INT",{"$f":"IF('Entry Information'!Q84=\"\",\"\",'Entry Information'!Q84)","v":""},null,"",{"$f":"IF('Entry Information'!R84=\"\",H24,H24-100)","v":""},"",{"$f":"IF($F24=\"\",\"\",(VLOOKUP($J$42,Worksheet!$A$11:$AE$41,J24+1,FALSE)))","v":""},{"$f":"IF('Entry Information'!S84=\"\",\"\",'Entry Information'!S84)","v":""},null,"",{"$f":"IF('Entry Information'!T84=\"\",N24,N24-100)","v":""},"",{"$f":"IF($L24=\"\",\"\",(VLOOKUP($P$42,Worksheet!$A$11:$AE$41,P24+1,FALSE)))","v":""},{"$f":"IF('Entry Information'!U84=\"\",\"\",'Entry Information'!U84)","v":""},null,"",{"$f":"IF('Entry Information'!V84=\"\",T24,T24-100)","v":""},"",{"$f":"IF($R24=\"\",\"\",(VLOOKUP($V$42,Worksheet!$A$11:$AE$41,V24+1,FALSE)))","v":""},{"$f":"IF('Entry Information'!W84=\"\",\"\",'Entry Information'!W84)","v":""},null,"",{"$f":"IF('Entry Information'!X84=\"\",Z24,Z24-100)","v":""},"",{"$f":"IF($X24=\"\",\"\",(VLOOKUP($AB$42,Worksheet!$A$11:$AE$41,AB24+1,FALSE)))","v":""},{"$f":"IF('Entry Information'!Y84=\"\",\"\",'Entry Information'!Y84)","v":""},null,"",{"$f":"IF('Entry Information'!Z84=\"\",AF24,AF24-100)","v":""},"",{"$f":"IF($AD24=\"\",\"\",(VLOOKUP($AH$42,Worksheet!$A$11:$AE$41,AH24+1,FALSE)))","v":""},null,{"$f":"IF('INTERMEDIATE All-AROUND RESULTS'!A23=\"\",\"\",(SUM('INTERMEDIATE All-AROUND RESULTS'!$K23,'INTERMEDIATE All-AROUND RESULTS'!AC23,'INTERMEDIATE All-AROUND RESULTS'!$AI23,'INTERMEDIATE All-AROUND RESULTS'!$W23,'INTERMEDIATE All-AROUND RESULTS'!$Q23)))","v":""},null,"","",null,{"$f":"IF(OR('Entry Information'!H84=\"\",'Entry Information'!J84=\"\"),\"\",(SUM('INTERMEDIATE SELECT RESULTS'!$K23,'INTERMEDIATE SELECT RESULTS'!$AC23,'INTERMEDIATE SELECT RESULTS'!$AI23, 'INTERMEDIATE SELECT RESULTS'!$W23,'INTERMEDIATE SELECT RESULTS'!$Q23)))","v":""},null,"","",null,{"$f":"IF(OR('Entry Information'!I84=\"\",'Entry Information'!J84=\"\"),\"\",(SUM('INTERMEDIATE JR HORSE RESULTS'!$K23,'INTERMEDIATE JR HORSE RESULTS'!$AC23,'INTERMEDIATE JR HORSE RESULTS'!$AI23, 'INTERMEDIATE JR HORSE RESULTS'!$W23,'INTERMEDIATE JR HORSE RESULTS'!$Q23)))","v":""},null,"",""]
[{"$f":"IF('Entry Information'!B85=\"\",\"\",'Entry Information'!B85)","v":""},{"$f":"IF('Entry Information'!C85=\"\",\"\",'Entry Information'!C85)","v":""},{"$f":"IF('Entry Information'!D85=\"\",\"\",'Entry Information'!D85)","v":""},{"$f":"IF('Entry Information'!E85=\"\",\"\",'Entry Information'!E85)","v":""},"INT",{"$f":"IF('Entry Information'!Q85=\"\",\"\",'Entry Information'!Q85)","v":""},null,"",{"$f":"IF('Entry Information'!R85=\"\",H25,H25-100)","v":""},"",{"$f":"IF($F25=\"\",\"\",(VLOOKUP($J$42,Worksheet!$A$11:$AE$41,J25+1,FALSE)))","v":""},{"$f":"IF('Entry Information'!S85=\"\",\"\",'Entry Information'!S85)","v":""},null,"",{"$f":"IF('Entry Information'!T85=\"\",N25,N25-100)","v":""},"",{"$f":"IF($L25=\"\",\"\",(VLOOKUP($P$42,Worksheet!$A$11:$AE$41,P25+1,FALSE)))","v":""},{"$f":"IF('Entry Information'!U85=\"\",\"\",'Entry Information'!U85)","v":""},null,"",{"$f":"IF('Entry Information'!V85=\"\",T25,T25-100)","v":""},"",{"$f":"IF($R25=\"\",\"\",(VLOOKUP($V$42,Worksheet!$A$11:$AE$41,V25+1,FALSE)))","v":""},{"$f":"IF('Entry Information'!W85=\"\",\"\",'Entry Information'!W85)","v":""},null,"",{"$f":"IF('Entry Information'!X85=\"\",Z25,Z25-100)","v":""},"",{"$f":"IF($X25=\"\",\"\",(VLOOKUP($AB$42,Worksheet!$A$11:$AE$41,AB25+1,FALSE)))","v":""},{"$f":"IF('Entry Information'!Y85=\"\",\"\",'Entry Information'!Y85)","v":""},null,"",{"$f":"IF('Entry Information'!Z85=\"\",AF25,AF25-100)","v":""},"",{"$f":"IF($AD25=\"\",\"\",(VLOOKUP($AH$42,Worksheet!$A$11:$AE$41,AH25+1,FALSE)))","v":""},null,{"$f":"IF('INTERMEDIATE All-AROUND RESULTS'!A24=\"\",\"\",(SUM('INTERMEDIATE All-AROUND RESULTS'!$K24,'INTERMEDIATE All-AROUND RESULTS'!AC24,'INTERMEDIATE All-AROUND RESULTS'!$AI24,'INTERMEDIATE All-AROUND RESULTS'!$W24,'INTERMEDIATE All-AROUND RESULTS'!$Q24)))","v":""},null,"","",null,{"$f":"IF(OR('Entry Information'!H85=\"\",'Entry Information'!J85=\"\"),\"\",(SUM('INTERMEDIATE SELECT RESULTS'!$K24,'INTERMEDIATE SELECT RESULTS'!$AC24,'INTERMEDIATE SELECT RESULTS'!$AI24, 'INTERMEDIATE SELECT RESULTS'!$W24,'INTERMEDIATE SELECT RESULTS'!$Q24)))","v":""},null,"","",null,{"$f":"IF(OR('Entry Information'!I85=\"\",'Entry Information'!J85=\"\"),\"\",(SUM('INTERMEDIATE JR HORSE RESULTS'!$K24,'INTERMEDIATE JR HORSE RESULTS'!$AC24,'INTERMEDIATE JR HORSE RESULTS'!$AI24, 'INTERMEDIATE JR HORSE RESULTS'!$W24,'INTERMEDIATE JR HORSE RESULTS'!$Q24)))","v":""},null,"",""]
[{"$f":"IF('Entry Information'!B86=\"\",\"\",'Entry Information'!B86)","v":""},{"$f":"IF('Entry Information'!C86=\"\",\"\",'Entry Information'!C86)","v":""},{"$f":"IF('Entry Information'!D86=\"\",\"\",'Entry Information'!D86)","v":""},{"$f":"IF('Entry Information'!E86=\"\",\"\",'Entry Information'!E86)","v":""},"INT",{"$f":"IF('Entry Information'!Q86=\"\",\"\",'Entry Information'!Q86)","v":""},null,{"$f":"IF(G26=\"\",F26,(F26+(G26*0.001)))","v":""},{"$f":"IF('Entry Information'!R86=\"\",H26,H26-100)","v":""},"",{"$f":"IF($F26=\"\",\"\",(VLOOKUP($J$42,Worksheet!$A$11:$AE$41,J26+1,FALSE)))","v":""},{"$f":"IF('Entry Information'!S86=\"\",\"\",'Entry Information'!S86)","v":""},null,"",{"$f":"IF('Entry Information'!T86=\"\",N26,N26-100)","v":""},"",{"$f":"IF($L26=\"\",\"\",(VLOOKUP($P$42,Worksheet!$A$11:$AE$41,P26+1,FALSE)))","v":""},{"$f":"IF('Entry Information'!U86=\"\",\"\",'Entry Information'!U86)","v":""},null,"",{"$f":"IF('Entry Information'!V86=\"\",T26,T26-100)","v":""},"",{"$f":"IF($R26=\"\",\"\",(VLOOKUP($V$42,Worksheet!$A$11:$AE$41,V26+1,FALSE)))","v":""},{"$f":"IF('Entry Information'!W86=\"\",\"\",'Entry Information'!W86)","v":""},null,{"$f":"IF(Y26=\"\",X26,(X26+(Y26*0.001)))","v":""},{"$f":"IF('Entry Information'!X86=\"\",Z26,Z26-100)","v":""},"",{"$f":"IF($X26=\"\",\"\",(VLOOKUP($AB$42,Worksheet!$A$11:$AE$41,AB26+1,FALSE)))","v":""},{"$f":"IF('Entry Information'!Y86=\"\",\"\",'Entry Information'!Y86)","v":""},null,{"$f":"IF(AE26=\"\",AD26,(AD26+(AE26*0.001)))","v":""},{"$f":"IF('Entry Information'!Z86=\"\",AF26,AF26-100)","v":""},"",{"$f":"IF($AD26=\"\",\"\",(VLOOKUP($AH$42,Worksheet!$A$11:$AE$41,AH26+1,FALSE)))","v":""},null,{"$f":"IF('INTERMEDIATE All-AROUND RESULTS'!A25=\"\",\"\",(SUM('INTERMEDIATE All-AROUND RESULTS'!$K25,'INTERMEDIATE All-AROUND RESULTS'!AC25,'INTERMEDIATE All-AROUND RESULTS'!$AI25,'INTERMEDIATE All-AROUND RESULTS'!$W25,'INTERMEDIATE All-AROUND RESULTS'!$Q25)))","v":""},null,"","",null,{"$f":"IF(OR('Entry Information'!H86=\"\",'Entry Information'!J86=\"\"),\"\",(SUM('INTERMEDIATE SELECT RESULTS'!$K25,'INTERMEDIATE SELECT RESULTS'!$AC25,'INTERMEDIATE SELECT RESULTS'!$AI25, 'INTERMEDIATE SELECT RESULTS'!$W25,'INTERMEDIATE SELECT RESULTS'!$Q25)))","v":""},null,"","",null,{"$f":"IF(OR('Entry Information'!I86=\"\",'Entry Information'!J86=\"\"),\"\",(SUM('INTERMEDIATE JR HORSE RESULTS'!$K25,'INTERMEDIATE JR HORSE RESULTS'!$AC25,'INTERMEDIATE JR HORSE RESULTS'!$AI25, 'INTERMEDIATE JR HORSE RESULTS'!$W25,'INTERMEDIATE JR HORSE RESULTS'!$Q25)))","v":""},null,"",""]
[{"$f":"IF('Entry Information'!B87=\"\",\"\",'Entry Information'!B87)","v":""},{"$f":"IF('Entry Information'!C87=\"\",\"\",'Entry Information'!C87)","v":""},{"$f":"IF('Entry Information'!D87=\"\",\"\",'Entry Information'!D87)","v":""},{"$f":"IF('Entry Information'!E87=\"\",\"\",'Entry Information'!E87)","v":""},"INT",{"$f":"IF('Entry Information'!Q87=\"\",\"\",'Entry Information'!Q87)","v":""},null,"",{"$f":"IF('Entry Information'!R87=\"\",H27,H27-100)","v":""},"",{"$f":"IF($F27=\"\",\"\",(VLOOKUP($J$42,Worksheet!$A$11:$AE$41,J27+1,FALSE)))","v":""},{"$f":"IF('Entry Information'!S87=\"\",\"\",'Entry Information'!S87)","v":""},null,"",{"$f":"IF('Entry Information'!T87=\"\",N27,N27-100)","v":""},"",{"$f":"IF($L27=\"\",\"\",(VLOOKUP($P$42,Worksheet!$A$11:$AE$41,P27+1,FALSE)))","v":""},{"$f":"IF('Entry Information'!U87=\"\",\"\",'Entry Information'!U87)","v":""},null,"",{"$f":"IF('Entry Information'!V87=\"\",T27,T27-100)","v":""},"",{"$f":"IF($R27=\"\",\"\",(VLOOKUP($V$42,Worksheet!$A$11:$AE$41,V27+1,FALSE)))","v":""},{"$f":"IF('Entry Information'!W87=\"\",\"\",'Entry Information'!W87)","v":""},null,"",{"$f":"IF('Entry Information'!X87=\"\",Z27,Z27-100)","v":""},"",{"$f":"IF($X27=\"\",\"\",(VLOOKUP($AB$42,Worksheet!$A$11:$AE$41,AB27+1,FALSE)))","v":""},{"$f":"IF('Entry Information'!Y87=\"\",\"\",'Entry Information'!Y87)","v":""},null,"",{"$f":"IF('Entry Information'!Z87=\"\",AF27,AF27-100)","v":""},"",{"$f":"IF($AD27=\"\",\"\",(VLOOKUP($AH$42,Worksheet!$A$11:$AE$41,AH27+1,FALSE)))","v":""},null,{"$f":"IF('INTERMEDIATE All-AROUND RESULTS'!A26=\"\",\"\",(SUM('INTERMEDIATE All-AROUND RESULTS'!$K26,'INTERMEDIATE All-AROUND RESULTS'!AC26,'INTERMEDIATE All-AROUND RESULTS'!$AI26,'INTERMEDIATE All-AROUND RESULTS'!$W26,'INTERMEDIATE All-AROUND RESULTS'!$Q26)))","v":""},null,"","",null,{"$f":"IF(OR('Entry Information'!H87=\"\",'Entry Information'!J87=\"\"),\"\",(SUM('INTERMEDIATE SELECT RESULTS'!$K26,'INTERMEDIATE SELECT RESULTS'!$AC26,'INTERMEDIATE SELECT RESULTS'!$AI26, 'INTERMEDIATE SELECT RESULTS'!$W26,'INTERMEDIATE SELECT RESULTS'!$Q26)))","v":""},null,"","",null,{"$f":"IF(OR('Entry Information'!I87=\"\",'Entry Information'!J87=\"\"),\"\",(SUM('INTERMEDIATE JR HORSE RESULTS'!$K26,'INTERMEDIATE JR HORSE RESULTS'!$AC26,'INTERMEDIATE JR HORSE RESULTS'!$AI26, 'INTERMEDIATE JR HORSE RESULTS'!$W26,'INTERMEDIATE JR HORSE RESULTS'!$Q26)))","v":""},null,"",""]
[{"$f":"IF('Entry Information'!B88=\"\",\"\",'Entry Information'!B88)","v":""},{"$f":"IF('Entry Information'!C88=\"\",\"\",'Entry Information'!C88)","v":""},{"$f":"IF('Entry Information'!D88=\"\",\"\",'Entry Information'!D88)","v":""},{"$f":"IF('Entry Information'!E88=\"\",\"\",'Entry Information'!E88)","v":""},"INT",{"$f":"IF('Entry Information'!Q88=\"\",\"\",'Entry Information'!Q88)","v":""},null,"",{"$f":"IF('Entry Information'!R88=\"\",H28,H28-100)","v":""},"",{"$f":"IF($F28=\"\",\"\",(VLOOKUP($J$42,Worksheet!$A$11:$AE$41,J28+1,FALSE)))","v":""},{"$f":"IF('Entry Information'!S88=\"\",\"\",'Entry Information'!S88)","v":""},null,"",{"$f":"IF('Entry Information'!T88=\"\",N28,N28-100)","v":""},"",{"$f":"IF($L28=\"\",\"\",(VLOOKUP($P$42,Worksheet!$A$11:$AE$41,P28+1,FALSE)))","v":""},{"$f":"IF('Entry Information'!U88=\"\",\"\",'Entry Information'!U88)","v":""},null,"",{"$f":"IF('Entry Information'!V88=\"\",T28,T28-100)","v":""},"",{"$f":"IF($R28=\"\",\"\",(VLOOKUP($V$42,Worksheet!$A$11:$AE$41,V28+1,FALSE)))","v":""},{"$f":"IF('Entry Information'!W88=\"\",\"\",'Entry Information'!W88)","v":""},null,"",{"$f":"IF('Entry Information'!X88=\"\",Z28,Z28-100)","v":""},"",{"$f":"IF($X28=\"\",\"\",(VLOOKUP($AB$42,Worksheet!$A$11:$AE$41,AB28+1,FALSE)))","v":""},{"$f":"IF('Entry Information'!Y88=\"\",\"\",'Entry Information'!Y88)","v":""},null,"",{"$f":"IF('Entry Information'!Z88=\"\",AF28,AF28-100)","v":""},"",{"$f":"IF($AD28=\"\",\"\",(VLOOKUP($AH$42,Worksheet!$A$11:$AE$41,AH28+1,FALSE)))","v":""},null,{"$f":"IF('INTERMEDIATE All-AROUND RESULTS'!A27=\"\",\"\",(SUM('INTERMEDIATE All-AROUND RESULTS'!$K27,'INTERMEDIATE All-AROUND RESULTS'!AC27,'INTERMEDIATE All-AROUND RESULTS'!$AI27,'INTERMEDIATE All-AROUND RESULTS'!$W27,'INTERMEDIATE All-AROUND RESULTS'!$Q27)))","v":""},null,"","",null,{"$f":"IF(OR('Entry Information'!H88=\"\",'Entry Information'!J88=\"\"),\"\",(SUM('INTERMEDIATE SELECT RESULTS'!$K27,'INTERMEDIATE SELECT RESULTS'!$AC27,'INTERMEDIATE SELECT RESULTS'!$AI27, 'INTERMEDIATE SELECT RESULTS'!$W27,'INTERMEDIATE SELECT RESULTS'!$Q27)))","v":""},null,"","",null,{"$f":"IF(OR('Entry Information'!I88=\"\",'Entry Information'!J88=\"\"),\"\",(SUM('INTERMEDIATE JR HORSE RESULTS'!$K27,'INTERMEDIATE JR HORSE RESULTS'!$AC27,'INTERMEDIATE JR HORSE RESULTS'!$AI27, 'INTERMEDIATE JR HORSE RESULTS'!$W27,'INTERMEDIATE JR HORSE RESULTS'!$Q27)))","v":""},null,"",""]
[{"$f":"IF('Entry Information'!B89=\"\",\"\",'Entry Information'!B89)","v":""},{"$f":"IF('Entry Information'!C89=\"\",\"\",'Entry Information'!C89)","v":""},{"$f":"IF('Entry Information'!D89=\"\",\"\",'Entry Information'!D89)","v":""},{"$f":"IF('Entry Information'!E89=\"\",\"\",'Entry Information'!E89)","v":""},"INT",{"$f":"IF('Entry Information'!Q89=\"\",\"\",'Entry Information'!Q89)","v":""},null,"",{"$f":"IF('Entry Information'!R89=\"\",H29,H29-100)","v":""},"",{"$f":"IF($F29=\"\",\"\",(VLOOKUP($J$42,Worksheet!$A$11:$AE$41,J29+1,FALSE)))","v":""},{"$f":"IF('Entry Information'!S89=\"\",\"\",'Entry Information'!S89)","v":""},null,"",{"$f":"IF('Entry Information'!T89=\"\",N29,N29-100)","v":""},"",{"$f":"IF($L29=\"\",\"\",(VLOOKUP($P$42,Worksheet!$A$11:$AE$41,P29+1,FALSE)))","v":""},{"$f":"IF('Entry Information'!U89=\"\",\"\",'Entry Information'!U89)","v":""},null,"",{"$f":"IF('Entry Information'!V89=\"\",T29,T29-100)","v":""},"",{"$f":"IF($R29=\"\",\"\",(VLOOKUP($V$42,Worksheet!$A$11:$AE$41,V29+1,FALSE)))","v":""},{"$f":"IF('Entry Information'!W89=\"\",\"\",'Entry Information'!W89)","v":""},null,"",{"$f":"IF('Entry Information'!X89=\"\",Z29,Z29-100)","v":""},"",{"$f":"IF($X29=\"\",\"\",(VLOOKUP($AB$42,Worksheet!$A$11:$AE$41,AB29+1,FALSE)))","v":""},{"$f":"IF('Entry Information'!Y89=\"\",\"\",'Entry Information'!Y89)","v":""},null,"",{"$f":"IF('Entry Information'!Z89=\"\",AF29,AF29-100)","v":""},"",{"$f":"IF($AD29=\"\",\"\",(VLOOKUP($AH$42,Worksheet!$A$11:$AE$41,AH29+1,FALSE)))","v":""},null,{"$f":"IF('INTERMEDIATE All-AROUND RESULTS'!A28=\"\",\"\",(SUM('INTERMEDIATE All-AROUND RESULTS'!$K28,'INTERMEDIATE All-AROUND RESULTS'!AC28,'INTERMEDIATE All-AROUND RESULTS'!$AI28,'INTERMEDIATE All-AROUND RESULTS'!$W28,'INTERMEDIATE All-AROUND RESULTS'!$Q28)))","v":""},null,"","",null,{"$f":"IF(OR('Entry Information'!H89=\"\",'Entry Information'!J89=\"\"),\"\",(SUM('INTERMEDIATE SELECT RESULTS'!$K28,'INTERMEDIATE SELECT RESULTS'!$AC28,'INTERMEDIATE SELECT RESULTS'!$AI28, 'INTERMEDIATE SELECT RESULTS'!$W28,'INTERMEDIATE SELECT RESULTS'!$Q28)))","v":""},null,"","",null,{"$f":"IF(OR('Entry Information'!I89=\"\",'Entry Information'!J89=\"\"),\"\",(SUM('INTERMEDIATE JR HORSE RESULTS'!$K28,'INTERMEDIATE JR HORSE RESULTS'!$AC28,'INTERMEDIATE JR HORSE RESULTS'!$AI28, 'INTERMEDIATE JR HORSE RESULTS'!$W28,'INTERMEDIATE JR HORSE RESULTS'!$Q28)))","v":""},null,"",""]
[{"$f":"IF('Entry Information'!B90=\"\",\"\",'Entry Information'!B90)","v":""},{"$f":"IF('Entry Information'!C90=\"\",\"\",'Entry Information'!C90)","v":""},{"$f":"IF('Entry Information'!D90=\"\",\"\",'Entry Information'!D90)","v":""},{"$f":"IF('Entry Information'!E90=\"\",\"\",'Entry Information'!E90)","v":""},"INT",{"$f":"IF('Entry Information'!Q90=\"\",\"\",'Entry Information'!Q90)","v":""},null,"",{"$f":"IF('Entry Information'!R90=\"\",H30,H30-100)","v":""},"",{"$f":"IF($F30=\"\",\"\",(VLOOKUP($J$42,Worksheet!$A$11:$AE$41,J30+1,FALSE)))","v":""},{"$f":"IF('Entry Information'!S90=\"\",\"\",'Entry Information'!S90)","v":""},null,"",{"$f":"IF('Entry Information'!T90=\"\",N30,N30-100)","v":""},"",{"$f":"IF($L30=\"\",\"\",(VLOOKUP($P$42,Worksheet!$A$11:$AE$41,P30+1,FALSE)))","v":""},{"$f":"IF('Entry Information'!U90=\"\",\"\",'Entry Information'!U90)","v":""},null,"",{"$f":"IF('Entry Information'!V90=\"\",T30,T30-100)","v":""},"",{"$f":"IF($R30=\"\",\"\",(VLOOKUP($V$42,Worksheet!$A$11:$AE$41,V30+1,FALSE)))","v":""},{"$f":"IF('Entry Information'!W90=\"\",\"\",'Entry Information'!W90)","v":""},null,"",{"$f":"IF('Entry Information'!X90=\"\",Z30,Z30-100)","v":""},"",{"$f":"IF($X30=\"\",\"\",(VLOOKUP($AB$42,Worksheet!$A$11:$AE$41,AB30+1,FALSE)))","v":""},{"$f":"IF('Entry Information'!Y90=\"\",\"\",'Entry Information'!Y90)","v":""},null,"",{"$f":"IF('Entry Information'!Z90=\"\",AF30,AF30-100)","v":""},"",{"$f":"IF($AD30=\"\",\"\",(VLOOKUP($AH$42,Worksheet!$A$11:$AE$41,AH30+1,FALSE)))","v":""},null,{"$f":"IF('INTERMEDIATE All-AROUND RESULTS'!A29=\"\",\"\",(SUM('INTERMEDIATE All-AROUND RESULTS'!$K29,'INTERMEDIATE All-AROUND RESULTS'!AC29,'INTERMEDIATE All-AROUND RESULTS'!$AI29,'INTERMEDIATE All-AROUND RESULTS'!$W29,'INTERMEDIATE All-AROUND RESULTS'!$Q29)))","v":""},null,"","",null,{"$f":"IF(OR('Entry Information'!H90=\"\",'Entry Information'!J90=\"\"),\"\",(SUM('INTERMEDIATE SELECT RESULTS'!$K29,'INTERMEDIATE SELECT RESULTS'!$AC29,'INTERMEDIATE SELECT RESULTS'!$AI29, 'INTERMEDIATE SELECT RESULTS'!$W29,'INTERMEDIATE SELECT RESULTS'!$Q29)))","v":""},null,"","",null,{"$f":"IF(OR('Entry Information'!I90=\"\",'Entry Information'!J90=\"\"),\"\",(SUM('INTERMEDIATE JR HORSE RESULTS'!$K29,'INTERMEDIATE JR HORSE RESULTS'!$AC29,'INTERMEDIATE JR HORSE RESULTS'!$AI29, 'INTERMEDIATE JR HORSE RESULTS'!$W29,'INTERMEDIATE JR HORSE RESULTS'!$Q29)))","v":""},null,"",""]
[{"$f":"IF('Entry Information'!B91=\"\",\"\",'Entry Information'!B91)","v":""},{"$f":"IF('Entry Information'!C91=\"\",\"\",'Entry Information'!C91)","v":""},{"$f":"IF('Entry Information'!D91=\"\",\"\",'Entry Information'!D91)","v":""},{"$f":"IF('Entry Information'!E91=\"\",\"\",'Entry Information'!E91)","v":""},"INT",{"$f":"IF('Entry Information'!Q91=\"\",\"\",'Entry Information'!Q91)","v":""},null,"",{"$f":"IF('Entry Information'!R91=\"\",H31,H31-100)","v":""},"",{"$f":"IF($F31=\"\",\"\",(VLOOKUP($J$42,Worksheet!$A$11:$AE$41,J31+1,FALSE)))","v":""},{"$f":"IF('Entry Information'!S91=\"\",\"\",'Entry Information'!S91)","v":""},null,"",{"$f":"IF('Entry Information'!T91=\"\",N31,N31-100)","v":""},"",{"$f":"IF($L31=\"\",\"\",(VLOOKUP($P$42,Worksheet!$A$11:$AE$41,P31+1,FALSE)))","v":""},{"$f":"IF('Entry Information'!U91=\"\",\"\",'Entry Information'!U91)","v":""},null,"",{"$f":"IF('Entry Information'!V91=\"\",T31,T31-100)","v":""},"",{"$f":"IF($R31=\"\",\"\",(VLOOKUP($V$42,Worksheet!$A$11:$AE$41,V31+1,FALSE)))","v":""},{"$f":"IF('Entry Information'!W91=\"\",\"\",'Entry Information'!W91)","v":""},null,"",{"$f":"IF('Entry Information'!X91=\"\",Z31,Z31-100)","v":""},"",{"$f":"IF($X31=\"\",\"\",(VLOOKUP($AB$42,Worksheet!$A$11:$AE$41,AB31+1,FALSE)))","v":""},{"$f":"IF('Entry Information'!Y91=\"\",\"\",'Entry Information'!Y91)","v":""},null,"",{"$f":"IF('Entry Information'!Z91=\"\",AF31,AF31-100)","v":""},"",{"$f":"IF($AD31=\"\",\"\",(VLOOKUP($AH$42,Worksheet!$A$11:$AE$41,AH31+1,FALSE)))","v":""},null,{"$f":"IF('INTERMEDIATE All-AROUND RESULTS'!A30=\"\",\"\",(SUM('INTERMEDIATE All-AROUND RESULTS'!$K30,'INTERMEDIATE All-AROUND RESULTS'!AC30,'INTERMEDIATE All-AROUND RESULTS'!$AI30,'INTERMEDIATE All-AROUND RESULTS'!$W30,'INTERMEDIATE All-AROUND RESULTS'!$Q30)))","v":""},null,"","",null,{"$f":"IF(OR('Entry Information'!H91=\"\",'Entry Information'!J91=\"\"),\"\",(SUM('INTERMEDIATE SELECT RESULTS'!$K30,'INTERMEDIATE SELECT RESULTS'!$AC30,'INTERMEDIATE SELECT RESULTS'!$AI30, 'INTERMEDIATE SELECT RESULTS'!$W30,'INTERMEDIATE SELECT RESULTS'!$Q30)))","v":""},null,"","",null,{"$f":"IF(OR('Entry Information'!I91=\"\",'Entry Information'!J91=\"\"),\"\",(SUM('INTERMEDIATE JR HORSE RESULTS'!$K30,'INTERMEDIATE JR HORSE RESULTS'!$AC30,'INTERMEDIATE JR HORSE RESULTS'!$AI30, 'INTERMEDIATE JR HORSE RESULTS'!$W30,'INTERMEDIATE JR HORSE RESULTS'!$Q30)))","v":""},null,"",""]
[{"$f":"IF('Entry Information'!B92=\"\",\"\",'Entry Information'!B92)","v":""},{"$f":"IF('Entry Information'!C92=\"\",\"\",'Entry Information'!C92)","v":""},{"$f":"IF('Entry Information'!D92=\"\",\"\",'Entry Information'!D92)","v":""},{"$f":"IF('Entry Information'!E92=\"\",\"\",'Entry Information'!E92)","v":""},"INT",{"$f":"IF('Entry Information'!Q92=\"\",\"\",'Entry Information'!Q92)","v":""},null,"",{"$f":"IF('Entry Information'!R92=\"\",H32,H32-100)","v":""},"",{"$f":"IF($F32=\"\",\"\",(VLOOKUP($J$42,Worksheet!$A$11:$AE$41,J32+1,FALSE)))","v":""},{"$f":"IF('Entry Information'!S92=\"\",\"\",'Entry Information'!S92)","v":""},null,"",{"$f":"IF('Entry Information'!T92=\"\",N32,N32-100)","v":""},"",{"$f":"IF($L32=\"\",\"\",(VLOOKUP($P$42,Worksheet!$A$11:$AE$41,P32+1,FALSE)))","v":""},{"$f":"IF('Entry Information'!U92=\"\",\"\",'Entry Information'!U92)","v":""},null,"",{"$f":"IF('Entry Information'!V92=\"\",T32,T32-100)","v":""},"",{"$f":"IF($R32=\"\",\"\",(VLOOKUP($V$42,Worksheet!$A$11:$AE$41,V32+1,FALSE)))","v":""},{"$f":"IF('Entry Information'!W92=\"\",\"\",'Entry Information'!W92)","v":""},null,"",{"$f":"IF('Entry Information'!X92=\"\",Z32,Z32-100)","v":""},"",{"$f":"IF($X32=\"\",\"\",(VLOOKUP($AB$42,Worksheet!$A$11:$AE$41,AB32+1,FALSE)))","v":""},{"$f":"IF('Entry Information'!Y92=\"\",\"\",'Entry Information'!Y92)","v":""},null,"",{"$f":"IF('Entry Information'!Z92=\"\",AF32,AF32-100)","v":""},"",{"$f":"IF($AD32=\"\",\"\",(VLOOKUP($AH$42,Worksheet!$A$11:$AE$41,AH32+1,FALSE)))","v":""},null,{"$f":"IF('INTERMEDIATE All-AROUND RESULTS'!A31=\"\",\"\",(SUM('INTERMEDIATE All-AROUND RESULTS'!$K31,'INTERMEDIATE All-AROUND RESULTS'!AC31,'INTERMEDIATE All-AROUND RESULTS'!$AI31,'INTERMEDIATE All-AROUND RESULTS'!$W31,'INTERMEDIATE All-AROUND RESULTS'!$Q31)))","v":""},null,"","",null,{"$f":"IF(OR('Entry Information'!H92=\"\",'Entry Information'!J92=\"\"),\"\",(SUM('INTERMEDIATE SELECT RESULTS'!$K31,'INTERMEDIATE SELECT RESULTS'!$AC31,'INTERMEDIATE SELECT RESULTS'!$AI31, 'INTERMEDIATE SELECT RESULTS'!$W31,'INTERMEDIATE SELECT RESULTS'!$Q31)))","v":""},null,"","",null,{"$f":"IF(OR('Entry Information'!I92=\"\",'Entry Information'!J92=\"\"),\"\",(SUM('INTERMEDIATE JR HORSE RESULTS'!$K31,'INTERMEDIATE JR HORSE RESULTS'!$AC31,'INTERMEDIATE JR HORSE RESULTS'!$AI31, 'INTERMEDIATE JR HORSE RESULTS'!$W31,'INTERMEDIATE JR HORSE RESULTS'!$Q31)))","v":""},null,"",""]
[{"$f":"IF('Entry Information'!B93=\"\",\"\",'Entry Information'!B93)","v":""},{"$f":"IF('Entry Information'!C93=\"\",\"\",'Entry Information'!C93)","v":""},{"$f":"IF('Entry Information'!D93=\"\",\"\",'Entry Information'!D93)","v":""},{"$f":"IF('Entry Information'!E93=\"\",\"\",'Entry Information'!E93)","v":""},"INT",{"$f":"IF('Entry Information'!Q93=\"\",\"\",'Entry Information'!Q93)","v":""},null,"",{"$f":"IF('Entry Information'!R93=\"\",H33,H33-100)","v":""},"",{"$f":"IF($F33=\"\",\"\",(VLOOKUP($J$42,Worksheet!$A$11:$AE$41,J33+1,FALSE)))","v":""},{"$f":"IF('Entry Information'!S93=\"\",\"\",'Entry Information'!S93)","v":""},null,"",{"$f":"IF('Entry Information'!T93=\"\",N33,N33-100)","v":""},"",{"$f":"IF($L33=\"\",\"\",(VLOOKUP($P$42,Worksheet!$A$11:$AE$41,P33+1,FALSE)))","v":""},{"$f":"IF('Entry Information'!U93=\"\",\"\",'Entry Information'!U93)","v":""},null,"",{"$f":"IF('Entry Information'!V93=\"\",T33,T33-100)","v":""},"",{"$f":"IF($R33=\"\",\"\",(VLOOKUP($V$42,Worksheet!$A$11:$AE$41,V33+1,FALSE)))","v":""},{"$f":"IF('Entry Information'!W93=\"\",\"\",'Entry Information'!W93)","v":""},null,"",{"$f":"IF('Entry Information'!X93=\"\",Z33,Z33-100)","v":""},"",{"$f":"IF($X33=\"\",\"\",(VLOOKUP($AB$42,Worksheet!$A$11:$AE$41,AB33+1,FALSE)))","v":""},{"$f":"IF('Entry Information'!Y93=\"\",\"\",'Entry Information'!Y93)","v":""},null,"",{"$f":"IF('Entry Information'!Z93=\"\",AF33,AF33-100)","v":""},"",{"$f":"IF($AD33=\"\",\"\",(VLOOKUP($AH$42,Worksheet!$A$11:$AE$41,AH33+1,FALSE)))","v":""},null,{"$f":"IF('INTERMEDIATE All-AROUND RESULTS'!A32=\"\",\"\",(SUM('INTERMEDIATE All-AROUND RESULTS'!$K32,'INTERMEDIATE All-AROUND RESULTS'!AC32,'INTERMEDIATE All-AROUND RESULTS'!$AI32,'INTERMEDIATE All-AROUND RESULTS'!$W32,'INTERMEDIATE All-AROUND RESULTS'!$Q32)))","v":""},null,"","",null,{"$f":"IF(OR('Entry Information'!H93=\"\",'Entry Information'!J93=\"\"),\"\",(SUM('INTERMEDIATE SELECT RESULTS'!$K32,'INTERMEDIATE SELECT RESULTS'!$AC32,'INTERMEDIATE SELECT RESULTS'!$AI32, 'INTERMEDIATE SELECT RESULTS'!$W32,'INTERMEDIATE SELECT RESULTS'!$Q32)))","v":""},null,"","",null,{"$f":"IF(OR('Entry Information'!I93=\"\",'Entry Information'!J93=\"\"),\"\",(SUM('INTERMEDIATE JR HORSE RESULTS'!$K32,'INTERMEDIATE JR HORSE RESULTS'!$AC32,'INTERMEDIATE JR HORSE RESULTS'!$AI32, 'INTERMEDIATE JR HORSE RESULTS'!$W32,'INTERMEDIATE JR HORSE RESULTS'!$Q32)))","v":""},null,"",""]
[{"$f":"IF('Entry Information'!B94=\"\",\"\",'Entry Information'!B94)","v":""},{"$f":"IF('Entry Information'!C94=\"\",\"\",'Entry Information'!C94)","v":""},{"$f":"IF('Entry Information'!D94=\"\",\"\",'Entry Information'!D94)","v":""},{"$f":"IF('Entry Information'!E94=\"\",\"\",'Entry Information'!E94)","v":""},"INT",{"$f":"IF('Entry Information'!Q94=\"\",\"\",'Entry Information'!Q94)","v":""},null,"",{"$f":"IF('Entry Information'!R94=\"\",H34,H34-100)","v":""},"",{"$f":"IF($F34=\"\",\"\",(VLOOKUP($J$42,Worksheet!$A$11:$AE$41,J34+1,FALSE)))","v":""},{"$f":"IF('Entry Information'!S94=\"\",\"\",'Entry Information'!S94)","v":""},null,"",{"$f":"IF('Entry Information'!T94=\"\",N34,N34-100)","v":""},"",{"$f":"IF($L34=\"\",\"\",(VLOOKUP($P$42,Worksheet!$A$11:$AE$41,P34+1,FALSE)))","v":""},{"$f":"IF('Entry Information'!U94=\"\",\"\",'Entry Information'!U94)","v":""},null,"",{"$f":"IF('Entry Information'!V94=\"\",T34,T34-100)","v":""},"",{"$f":"IF($R34=\"\",\"\",(VLOOKUP($V$42,Worksheet!$A$11:$AE$41,V34+1,FALSE)))","v":""},{"$f":"IF('Entry Information'!W94=\"\",\"\",'Entry Information'!W94)","v":""},null,"",{"$f":"IF('Entry Information'!X94=\"\",Z34,Z34-100)","v":""},"",{"$f":"IF($X34=\"\",\"\",(VLOOKUP($AB$42,Worksheet!$A$11:$AE$41,AB34+1,FALSE)))","v":""},{"$f":"IF('Entry Information'!Y94=\"\",\"\",'Entry Information'!Y94)","v":""},null,"",{"$f":"IF('Entry Information'!Z94=\"\",AF34,AF34-100)","v":""},"",{"$f":"IF($AD34=\"\",\"\",(VLOOKUP($AH$42,Worksheet!$A$11:$AE$41,AH34+1,FALSE)))","v":""},null,{"$f":"IF('INTERMEDIATE All-AROUND RESULTS'!A33=\"\",\"\",(SUM('INTERMEDIATE All-AROUND RESULTS'!$K33,'INTERMEDIATE All-AROUND RESULTS'!AC33,'INTERMEDIATE All-AROUND RESULTS'!$AI33,'INTERMEDIATE All-AROUND RESULTS'!$W33,'INTERMEDIATE All-AROUND RESULTS'!$Q33)))","v":""},null,"","",null,{"$f":"IF(OR('Entry Information'!H94=\"\",'Entry Information'!J94=\"\"),\"\",(SUM('INTERMEDIATE SELECT RESULTS'!$K33,'INTERMEDIATE SELECT RESULTS'!$AC33,'INTERMEDIATE SELECT RESULTS'!$AI33, 'INTERMEDIATE SELECT RESULTS'!$W33,'INTERMEDIATE SELECT RESULTS'!$Q33)))","v":""},null,"","",null,{"$f":"IF(OR('Entry Information'!I94=\"\",'Entry Information'!J94=\"\"),\"\",(SUM('INTERMEDIATE JR HORSE RESULTS'!$K33,'INTERMEDIATE JR HORSE RESULTS'!$AC33,'INTERMEDIATE JR HORSE RESULTS'!$AI33, 'INTERMEDIATE JR HORSE RESULTS'!$W33,'INTERMEDIATE JR HORSE RESULTS'!$Q33)))","v":""},null,"",""]
[{"$f":"IF('Entry Information'!B95=\"\",\"\",'Entry Information'!B95)","v":""},{"$f":"IF('Entry Information'!C95=\"\",\"\",'Entry Information'!C95)","v":""},{"$f":"IF('Entry Information'!D95=\"\",\"\",'Entry Information'!D95)","v":""},{"$f":"IF('Entry Information'!E95=\"\",\"\",'Entry Information'!E95)","v":""},"INT",{"$f":"IF('Entry Information'!Q95=\"\",\"\",'Entry Information'!Q95)","v":""},null,"",{"$f":"IF('Entry Information'!R95=\"\",H35,H35-100)","v":""},"",{"$f":"IF($F35=\"\",\"\",(VLOOKUP($J$42,Worksheet!$A$11:$AE$41,J35+1,FALSE)))","v":""},{"$f":"IF('Entry Information'!S95=\"\",\"\",'Entry Information'!S95)","v":""},null,"",{"$f":"IF('Entry Information'!T95=\"\",N35,N35-100)","v":""},"",{"$f":"IF($L35=\"\",\"\",(VLOOKUP($P$42,Worksheet!$A$11:$AE$41,P35+1,FALSE)))","v":""},{"$f":"IF('Entry Information'!U95=\"\",\"\",'Entry Information'!U95)","v":""},null,"",{"$f":"IF('Entry Information'!V95=\"\",T35,T35-100)","v":""},"",{"$f":"IF($R35=\"\",\"\",(VLOOKUP($V$42,Worksheet!$A$11:$AE$41,V35+1,FALSE)))","v":""},{"$f":"IF('Entry Information'!W95=\"\",\"\",'Entry Information'!W95)","v":""},null,"",{"$f":"IF('Entry Information'!X95=\"\",Z35,Z35-100)","v":""},"",{"$f":"IF($X35=\"\",\"\",(VLOOKUP($AB$42,Worksheet!$A$11:$AE$41,AB35+1,FALSE)))","v":""},{"$f":"IF('Entry Information'!Y95=\"\",\"\",'Entry Information'!Y95)","v":""},null,"",{"$f":"IF('Entry Information'!Z95=\"\",AF35,AF35-100)","v":""},"",{"$f":"IF($AD35=\"\",\"\",(VLOOKUP($AH$42,Worksheet!$A$11:$AE$41,AH35+1,FALSE)))","v":""},null,{"$f":"IF('INTERMEDIATE All-AROUND RESULTS'!A34=\"\",\"\",(SUM('INTERMEDIATE All-AROUND RESULTS'!$K34,'INTERMEDIATE All-AROUND RESULTS'!AC34,'INTERMEDIATE All-AROUND RESULTS'!$AI34,'INTERMEDIATE All-AROUND RESULTS'!$W34,'INTERMEDIATE All-AROUND RESULTS'!$Q34)))","v":""},null,"","",null,{"$f":"IF(OR('Entry Information'!H95=\"\",'Entry Information'!J95=\"\"),\"\",(SUM('INTERMEDIATE SELECT RESULTS'!$K34,'INTERMEDIATE SELECT RESULTS'!$AC34,'INTERMEDIATE SELECT RESULTS'!$AI34, 'INTERMEDIATE SELECT RESULTS'!$W34,'INTERMEDIATE SELECT RESULTS'!$Q34)))","v":""},null,"","",null,{"$f":"IF(OR('Entry Information'!I95=\"\",'Entry Information'!J95=\"\"),\"\",(SUM('INTERMEDIATE JR HORSE RESULTS'!$K34,'INTERMEDIATE JR HORSE RESULTS'!$AC34,'INTERMEDIATE JR HORSE RESULTS'!$AI34, 'INTERMEDIATE JR HORSE RESULTS'!$W34,'INTERMEDIATE JR HORSE RESULTS'!$Q34)))","v":""},null,"",""]
[{"$f":"IF('Entry Information'!B96=\"\",\"\",'Entry Information'!B96)","v":""},{"$f":"IF('Entry Information'!C96=\"\",\"\",'Entry Information'!C96)","v":""},{"$f":"IF('Entry Information'!D96=\"\",\"\",'Entry Information'!D96)","v":""},{"$f":"IF('Entry Information'!E96=\"\",\"\",'Entry Information'!E96)","v":""},"INT",{"$f":"IF('Entry Information'!Q96=\"\",\"\",'Entry Information'!Q96)","v":""},null,"",{"$f":"IF('Entry Information'!R96=\"\",H36,H36-100)","v":""},"",{"$f":"IF($F36=\"\",\"\",(VLOOKUP($J$42,Worksheet!$A$11:$AE$41,J36+1,FALSE)))","v":""},{"$f":"IF('Entry Information'!S96=\"\",\"\",'Entry Information'!S96)","v":""},null,"",{"$f":"IF('Entry Information'!T96=\"\",N36,N36-100)","v":""},"",{"$f":"IF($L36=\"\",\"\",(VLOOKUP($P$42,Worksheet!$A$11:$AE$41,P36+1,FALSE)))","v":""},{"$f":"IF('Entry Information'!U96=\"\",\"\",'Entry Information'!U96)","v":""},null,"",{"$f":"IF('Entry Information'!V96=\"\",T36,T36-100)","v":""},"",{"$f":"IF($R36=\"\",\"\",(VLOOKUP($V$42,Worksheet!$A$11:$AE$41,V36+1,FALSE)))","v":""},{"$f":"IF('Entry Information'!W96=\"\",\"\",'Entry Information'!W96)","v":""},null,"",{"$f":"IF('Entry Information'!X96=\"\",Z36,Z36-100)","v":""},"",{"$f":"IF($X36=\"\",\"\",(VLOOKUP($AB$42,Worksheet!$A$11:$AE$41,AB36+1,FALSE)))","v":""},{"$f":"IF('Entry Information'!Y96=\"\",\"\",'Entry Information'!Y96)","v":""},null,"",{"$f":"IF('Entry Information'!Z96=\"\",AF36,AF36-100)","v":""},"",{"$f":"IF($AD36=\"\",\"\",(VLOOKUP($AH$42,Worksheet!$A$11:$AE$41,AH36+1,FALSE)))","v":""},null,{"$f":"IF('INTERMEDIATE All-AROUND RESULTS'!A35=\"\",\"\",(SUM('INTERMEDIATE All-AROUND RESULTS'!$K35,'INTERMEDIATE All-AROUND RESULTS'!AC35,'INTERMEDIATE All-AROUND RESULTS'!$AI35,'INTERMEDIATE All-AROUND RESULTS'!$W35,'INTERMEDIATE All-AROUND RESULTS'!$Q35)))","v":""},null,"","",null,{"$f":"IF(OR('Entry Information'!H96=\"\",'Entry Information'!J96=\"\"),\"\",(SUM('INTERMEDIATE SELECT RESULTS'!$K35,'INTERMEDIATE SELECT RESULTS'!$AC35,'INTERMEDIATE SELECT RESULTS'!$AI35, 'INTERMEDIATE SELECT RESULTS'!$W35,'INTERMEDIATE SELECT RESULTS'!$Q35)))","v":""},null,"","",null,{"$f":"IF(OR('Entry Information'!I96=\"\",'Entry Information'!J96=\"\"),\"\",(SUM('INTERMEDIATE JR HORSE RESULTS'!$K35,'INTERMEDIATE JR HORSE RESULTS'!$AC35,'INTERMEDIATE JR HORSE RESULTS'!$AI35, 'INTERMEDIATE JR HORSE RESULTS'!$W35,'INTERMEDIATE JR HORSE RESULTS'!$Q35)))","v":""},null,"",""]
[{"$f":"IF('Entry Information'!B97=\"\",\"\",'Entry Information'!B97)","v":""},{"$f":"IF('Entry Information'!C97=\"\",\"\",'Entry Information'!C97)","v":""},{"$f":"IF('Entry Information'!D97=\"\",\"\",'Entry Information'!D97)","v":""},{"$f":"IF('Entry Information'!E97=\"\",\"\",'Entry Information'!E97)","v":""},"INT",{"$f":"IF('Entry Information'!Q97=\"\",\"\",'Entry Information'!Q97)","v":""},null,"",{"$f":"IF('Entry Information'!R97=\"\",H37,H37-100)","v":""},"",{"$f":"IF($F37=\"\",\"\",(VLOOKUP($J$42,Worksheet!$A$11:$AE$41,J37+1,FALSE)))","v":""},{"$f":"IF('Entry Information'!S97=\"\",\"\",'Entry Information'!S97)","v":""},null,"",{"$f":"IF('Entry Information'!T97=\"\",N37,N37-100)","v":""},"",{"$f":"IF($L37=\"\",\"\",(VLOOKUP($P$42,Worksheet!$A$11:$AE$41,P37+1,FALSE)))","v":""},{"$f":"IF('Entry Information'!U97=\"\",\"\",'Entry Information'!U97)","v":""},null,"",{"$f":"IF('Entry Information'!V97=\"\",T37,T37-100)","v":""},"",{"$f":"IF($R37=\"\",\"\",(VLOOKUP($V$42,Worksheet!$A$11:$AE$41,V37+1,FALSE)))","v":""},{"$f":"IF('Entry Information'!W97=\"\",\"\",'Entry Information'!W97)","v":""},null,"",{"$f":"IF('Entry Information'!X97=\"\",Z37,Z37-100)","v":""},"",{"$f":"IF($X37=\"\",\"\",(VLOOKUP($AB$42,Worksheet!$A$11:$AE$41,AB37+1,FALSE)))","v":""},{"$f":"IF('Entry Information'!Y97=\"\",\"\",'Entry Information'!Y97)","v":""},null,"",{"$f":"IF('Entry Information'!Z97=\"\",AF37,AF37-100)","v":""},"",{"$f":"IF($AD37=\"\",\"\",(VLOOKUP($AH$42,Worksheet!$A$11:$AE$41,AH37+1,FALSE)))","v":""},null,{"$f":"IF('INTERMEDIATE All-AROUND RESULTS'!A36=\"\",\"\",(SUM('INTERMEDIATE All-AROUND RESULTS'!$K36,'INTERMEDIATE All-AROUND RESULTS'!AC36,'INTERMEDIATE All-AROUND RESULTS'!$AI36,'INTERMEDIATE All-AROUND RESULTS'!$W36,'INTERMEDIATE All-AROUND RESULTS'!$Q36)))","v":""},null,"","",null,{"$f":"IF(OR('Entry Information'!H97=\"\",'Entry Information'!J97=\"\"),\"\",(SUM('INTERMEDIATE SELECT RESULTS'!$K36,'INTERMEDIATE SELECT RESULTS'!$AC36,'INTERMEDIATE SELECT RESULTS'!$AI36, 'INTERMEDIATE SELECT RESULTS'!$W36,'INTERMEDIATE SELECT RESULTS'!$Q36)))","v":""},null,"","",null,{"$f":"IF(OR('Entry Information'!I97=\"\",'Entry Information'!J97=\"\"),\"\",(SUM('INTERMEDIATE JR HORSE RESULTS'!$K36,'INTERMEDIATE JR HORSE RESULTS'!$AC36,'INTERMEDIATE JR HORSE RESULTS'!$AI36, 'INTERMEDIATE JR HORSE RESULTS'!$W36,'INTERMEDIATE JR HORSE RESULTS'!$Q36)))","v":""},null,"",""]
[{"$f":"IF('Entry Information'!B98=\"\",\"\",'Entry Information'!B98)","v":""},{"$f":"IF('Entry Information'!C98=\"\",\"\",'Entry Information'!C98)","v":""},{"$f":"IF('Entry Information'!D98=\"\",\"\",'Entry Information'!D98)","v":""},{"$f":"IF('Entry Information'!E98=\"\",\"\",'Entry Information'!E98)","v":""},"INT",{"$f":"IF('Entry Information'!Q98=\"\",\"\",'Entry Information'!Q98)","v":""},null,"",{"$f":"IF('Entry Information'!R98=\"\",H38,H38-100)","v":""},"",{"$f":"IF($F38=\"\",\"\",(VLOOKUP($J$42,Worksheet!$A$11:$AE$41,J38+1,FALSE)))","v":""},{"$f":"IF('Entry Information'!S98=\"\",\"\",'Entry Information'!S98)","v":""},null,"",{"$f":"IF('Entry Information'!T98=\"\",N38,N38-100)","v":""},"",{"$f":"IF($L38=\"\",\"\",(VLOOKUP($P$42,Worksheet!$A$11:$AE$41,P38+1,FALSE)))","v":""},{"$f":"IF('Entry Information'!U98=\"\",\"\",'Entry Information'!U98)","v":""},null,"",{"$f":"IF('Entry Information'!V98=\"\",T38,T38-100)","v":""},"",{"$f":"IF($R38=\"\",\"\",(VLOOKUP($V$42,Worksheet!$A$11:$AE$41,V38+1,FALSE)))","v":""},{"$f":"IF('Entry Information'!W98=\"\",\"\",'Entry Information'!W98)","v":""},null,"",{"$f":"IF('Entry Information'!X98=\"\",Z38,Z38-100)","v":""},"",{"$f":"IF($X38=\"\",\"\",(VLOOKUP($AB$42,Worksheet!$A$11:$AE$41,AB38+1,FALSE)))","v":""},{"$f":"IF('Entry Information'!Y98=\"\",\"\",'Entry Information'!Y98)","v":""},null,"",{"$f":"IF('Entry Information'!Z98=\"\",AF38,AF38-100)","v":""},"",{"$f":"IF($AD38=\"\",\"\",(VLOOKUP($AH$42,Worksheet!$A$11:$AE$41,AH38+1,FALSE)))","v":""},null,{"$f":"IF('INTERMEDIATE All-AROUND RESULTS'!A37=\"\",\"\",(SUM('INTERMEDIATE All-AROUND RESULTS'!$K37,'INTERMEDIATE All-AROUND RESULTS'!AC37,'INTERMEDIATE All-AROUND RESULTS'!$AI37,'INTERMEDIATE All-AROUND RESULTS'!$W37,'INTERMEDIATE All-AROUND RESULTS'!$Q37)))","v":""},null,"","",null,{"$f":"IF(OR('Entry Information'!H98=\"\",'Entry Information'!J98=\"\"),\"\",(SUM('INTERMEDIATE SELECT RESULTS'!$K37,'INTERMEDIATE SELECT RESULTS'!$AC37,'INTERMEDIATE SELECT RESULTS'!$AI37, 'INTERMEDIATE SELECT RESULTS'!$W37,'INTERMEDIATE SELECT RESULTS'!$Q37)))","v":""},null,"","",null,{"$f":"IF(OR('Entry Information'!I98=\"\",'Entry Information'!J98=\"\"),\"\",(SUM('INTERMEDIATE JR HORSE RESULTS'!$K37,'INTERMEDIATE JR HORSE RESULTS'!$AC37,'INTERMEDIATE JR HORSE RESULTS'!$AI37, 'INTERMEDIATE JR HORSE RESULTS'!$W37,'INTERMEDIATE JR HORSE RESULTS'!$Q37)))","v":""},null,"",""]
[{"$f":"IF('Entry Information'!B99=\"\",\"\",'Entry Information'!B99)","v":""},{"$f":"IF('Entry Information'!C99=\"\",\"\",'Entry Information'!C99)","v":""},{"$f":"IF('Entry Information'!D99=\"\",\"\",'Entry Information'!D99)","v":""},{"$f":"IF('Entry Information'!E99=\"\",\"\",'Entry Information'!E99)","v":""},"INT",{"$f":"IF('Entry Information'!Q99=\"\",\"\",'Entry Information'!Q99)","v":""},null,{"$f":"IF(G39=\"\",F39,(F39+(G39*0.001)))","v":""},{"$f":"IF('Entry Information'!R99=\"\",H39,H39-100)","v":""},"",{"$f":"IF($F39=\"\",\"\",(VLOOKUP($J$42,Worksheet!$A$11:$AE$41,J39+1,FALSE)))","v":""},{"$f":"IF('Entry Information'!S99=\"\",\"\",'Entry Information'!S99)","v":""},null,"",{"$f":"IF('Entry Information'!T99=\"\",N39,N39-100)","v":""},"",{"$f":"IF($L39=\"\",\"\",(VLOOKUP($P$42,Worksheet!$A$11:$AE$41,P39+1,FALSE)))","v":""},{"$f":"IF('Entry Information'!U99=\"\",\"\",'Entry Information'!U99)","v":""},null,"",{"$f":"IF('Entry Information'!V99=\"\",T39,T39-100)","v":""},"",{"$f":"IF($R39=\"\",\"\",(VLOOKUP($V$42,Worksheet!$A$11:$AE$41,V39+1,FALSE)))","v":""},{"$f":"IF('Entry Information'!W99=\"\",\"\",'Entry Information'!W99)","v":""},null,{"$f":"IF(Y39=\"\",X39,(X39+(Y39*0.001)))","v":""},{"$f":"IF('Entry Information'!X99=\"\",Z39,Z39-100)","v":""},"",{"$f":"IF($X39=\"\",\"\",(VLOOKUP($AB$42,Worksheet!$A$11:$AE$41,AB39+1,FALSE)))","v":""},{"$f":"IF('Entry Information'!Y99=\"\",\"\",'Entry Information'!Y99)","v":""},null,{"$f":"IF(AE39=\"\",AD39,(AD39+(AE39*0.001)))","v":""},{"$f":"IF('Entry Information'!Z99=\"\",AF39,AF39-100)","v":""},"",{"$f":"IF($AD39=\"\",\"\",(VLOOKUP($AH$42,Worksheet!$A$11:$AE$41,AH39+1,FALSE)))","v":""},null,{"$f":"IF('INTERMEDIATE All-AROUND RESULTS'!A38=\"\",\"\",(SUM('INTERMEDIATE All-AROUND RESULTS'!$K38,'INTERMEDIATE All-AROUND RESULTS'!AC38,'INTERMEDIATE All-AROUND RESULTS'!$AI38,'INTERMEDIATE All-AROUND RESULTS'!$W38,'INTERMEDIATE All-AROUND RESULTS'!$Q38)))","v":""},null,"","",null,{"$f":"IF(OR('Entry Information'!H99=\"\",'Entry Information'!J99=\"\"),\"\",(SUM('INTERMEDIATE SELECT RESULTS'!$K38,'INTERMEDIATE SELECT RESULTS'!$AC38,'INTERMEDIATE SELECT RESULTS'!$AI38, 'INTERMEDIATE SELECT RESULTS'!$W38,'INTERMEDIATE SELECT RESULTS'!$Q38)))","v":""},null,"","",null,{"$f":"IF(OR('Entry Information'!I99=\"\",'Entry Information'!J99=\"\"),\"\",(SUM('INTERMEDIATE JR HORSE RESULTS'!$K38,'INTERMEDIATE JR HORSE RESULTS'!$AC38,'INTERMEDIATE JR HORSE RESULTS'!$AI38, 'INTERMEDIATE JR HORSE RESULTS'!$W38,'INTERMEDIATE JR HORSE RESULTS'!$Q38)))","v":""},null,"",""]
[{"$f":"IF('Entry Information'!B100=\"\",\"\",'Entry Information'!B100)","v":""},{"$f":"IF('Entry Information'!C100=\"\",\"\",'Entry Information'!C100)","v":""},{"$f":"IF('Entry Information'!D100=\"\",\"\",'Entry Information'!D100)","v":""},{"$f":"IF('Entry Information'!E100=\"\",\"\",'Entry Information'!E100)","v":""},"INT",{"$f":"IF('Entry Information'!Q100=\"\",\"\",'Entry Information'!Q100)","v":""},null,{"$f":"IF(G40=\"\",F40,(F40+(G40*0.001)))","v":""},{"$f":"IF('Entry Information'!R100=\"\",H40,H40-100)","v":""},"",{"$f":"IF($F40=\"\",\"\",(VLOOKUP($J$42,Worksheet!$A$11:$AE$41,J40+1,FALSE)))","v":""},{"$f":"IF('Entry Information'!S100=\"\",\"\",'Entry Information'!S100)","v":""},null,"",{"$f":"IF('Entry Information'!T100=\"\",N40,N40-100)","v":""},"",{"$f":"IF($L40=\"\",\"\",(VLOOKUP($P$42,Worksheet!$A$11:$AE$41,P40+1,FALSE)))","v":""},{"$f":"IF('Entry Information'!U100=\"\",\"\",'Entry Information'!U100)","v":""},null,"",{"$f":"IF('Entry Information'!V100=\"\",T40,T40-100)","v":""},"",{"$f":"IF($R40=\"\",\"\",(VLOOKUP($V$42,Worksheet!$A$11:$AE$41,V40+1,FALSE)))","v":""},{"$f":"IF('Entry Information'!W100=\"\",\"\",'Entry Information'!W100)","v":""},null,{"$f":"IF(Y40=\"\",X40,(X40+(Y40*0.001)))","v":""},{"$f":"IF('Entry Information'!X100=\"\",Z40,Z40-100)","v":""},"",{"$f":"IF($X40=\"\",\"\",(VLOOKUP($AB$42,Worksheet!$A$11:$AE$41,AB40+1,FALSE)))","v":""},{"$f":"IF('Entry Information'!Y100=\"\",\"\",'Entry Information'!Y100)","v":""},null,{"$f":"IF(AE40=\"\",AD40,(AD40+(AE40*0.001)))","v":""},{"$f":"IF('Entry Information'!Z100=\"\",AF40,AF40-100)","v":""},"",{"$f":"IF($AD40=\"\",\"\",(VLOOKUP($AH$42,Worksheet!$A$11:$AE$41,AH40+1,FALSE)))","v":""},null,{"$f":"IF('INTERMEDIATE All-AROUND RESULTS'!A39=\"\",\"\",(SUM('INTERMEDIATE All-AROUND RESULTS'!$K39,'INTERMEDIATE All-AROUND RESULTS'!AC39,'INTERMEDIATE All-AROUND RESULTS'!$AI39,'INTERMEDIATE All-AROUND RESULTS'!$W39,'INTERMEDIATE All-AROUND RESULTS'!$Q39)))","v":""},null,"","",null,{"$f":"IF(OR('Entry Information'!H100=\"\",'Entry Information'!J100=\"\"),\"\",(SUM('INTERMEDIATE SELECT RESULTS'!$K39,'INTERMEDIATE SELECT RESULTS'!$AC39,'INTERMEDIATE SELECT RESULTS'!$AI39, 'INTERMEDIATE SELECT RESULTS'!$W39,'INTERMEDIATE SELECT RESULTS'!$Q39)))","v":""},null,"","",null,{"$f":"IF(OR('Entry Information'!I100=\"\",'Entry Information'!J100=\"\"),\"\",(SUM('INTERMEDIATE JR HORSE RESULTS'!$K39,'INTERMEDIATE JR HORSE RESULTS'!$AC39,'INTERMEDIATE JR HORSE RESULTS'!$AI39, 'INTERMEDIATE JR HORSE RESULTS'!$W39,'INTERMEDIATE JR HORSE RESULTS'!$Q39)))","v":""},null,"",""]
[]
[null,null,null,null,null,null,null,null,null,{"$f":"COUNTIF(J11:J40,\">=0\")","v":0},null,null,null,null,null,{"$f":"COUNTIF(P11:P40,\">=0\")","v":0},null,null,null,null,null,{"$f":"COUNTIF(V11:V40,\">=0\")","v":0},null,null,null,null,null,{"$f":"COUNTIF(AB11:AB40,\">=0\")","v":0},null,null,null,null,null,{"$f":"COUNTIF(AH11:AH40,\">=0\")","v":0}]
[null,null,null,null,null,"1 - Total Penalty Points",null,null,null,null,null,"1 - Total Penalty Points",null,null,null,null,null,"1 Total Penalty Points",null,null,null,null,null,"1 - Total Penalty Points",null,null,null,null,null,"1 - Rope / Rope Handling",null,null,null,null,null,null,"Working Ranch Score ",null,null,null,null,"Working Ranch Score ",null,null,null,null,"Working Ranch Score "]
[null,null,null,null,null,"2- Extended Trot",null,null,null,null,null,"2 - Rope Handling",null,null,null,null,null,"2 - Working Center of Arena",null,null,null,null,null,"2 - First Lead Change",null,null,null,null,null,"2 - Total Penalty Points",null,null,null,null,null,null,"and then use WR Tie-Breakers",null,null,null,null,"and then use WR Tie-Breakers",null,null,null,null,"and then use WR Tie-Breakers"]
[null,null,null,null,null,"3 - Transition down lope/walk/stop",null,null,null,null,null,"3 - Log Drag",null,null,null,null,null,"3 - First Cut From the Herd",null,null,null,null,null,"3 -Spin",null,null,null,null,null,"3 - Box Cow"]
[null,null,null,null,null,"4 - Transition to lope/lope",null,null,null,null,null,"4 - Gate",null,null,null,null,null,"4 - Second Cut From the Herd",null,null,null,null,null,"4 -First Stop",null,null,null,null,null,"4 - First Turn On the Fence"]
[null,null,null,null,null,null,null,null,null,null,null,null,null,null,null,null,null,null,null,null,null,null,null,null,null,null,null,null,null,"5 - Degree of Difficulty"]
[null,null,null,null,null,null,null,null,null,null,null,null,null,null,null,null,null,null,null,null,null,null,null,null,null,null,null,null,null,"6 - Time Worked"]
["Scores in RED are ties - enter a 1 in the Tie Breaker Column of the winner to break tie.  If multiple ties enter a 1 for the second place and a 2 for winner."]
[]
[]
["Places highlighted have a major penatly."]

{"sheet":"INTERMEDIATE All-AROUND RESULTS","index":12,"n_rows":53,"n_cols":35,"rows_kept":53,"cut":false,"hidden":true,"merged":[[6,28,8,28],[6,33,8,33],[4,11,4,16],[4,17,4,22],[47,0,48,4],[6,29,8,29],[6,30,8,30],[6,31,8,31],[6,32,8,32],[6,24,8,24],[6,25,8,25],[6,18,8,18],[6,19,8,19],[6,17,8,17],[6,20,8,20],[6,21,8,21],[6,5,8,5],[6,6,8,6],[4,5,4,10],[6,26,8,26],[6,27,8,27],[6,22,8,22],[6,11,8,11],[6,12,8,12],[6,13,8,13],[4,29,4,34],[5,5,5,10],[5,11,5,16],[5,17,5,22],[5,23,5,28],[5,29,5,34],[1,18,1,22],[1,23,1,28],[1,29,1,34],[6,7,8,7],[6,8,8,8],[6,9,8,9],[6,10,8,10],[6,16,8,16],[6,34,8,34],[6,23,8,23],[2,18,2,22],[2,23,2,28],[6,14,8,14],[6,15,8,15],[2,29,2,34],[4,23,4,28],[2,1,2,2],[2,4,2,5],[2,9,2,11],[1,0,1,2],[1,4,1,5],[1,9,1,16]]}
[]
[null,null,null,null,"Event Name:",null,null,null,null,{"$f":"'Entry Information'!C4","v":"Ranch Horse Challenge"},null,null,null,null,null,null,null,null,"Judge #1 Name/Claees:",null,null,null,null,{"$f":"'Entry Information'!F4","v":"Mike Lund"}]
["Division:","INTERMEDIATE",null,null,"Event Date:",null,null,null,null,{"$f":"'Entry Information'!C5","v":"2018-03-25"},null,null,null,null,null,null,null,null,"Judge #2 Name/Classes:",null,null,null,null,{"$f":"'Entry Information'!F5","v":"Karen Arlin"}]
[]
[null,null,null,null,null,"RANCH",null,null,null,null,null,"RANCH",null,null,null,null,null,"RANCH",null,null,null,null,null,"RANCH",null,null,null,null,null,"RANCH"]
[null,null,null,null,null,"RIDING",null,null,null,null,null,"TRAIL",null,null,null,null,null,"CUTING",null,null,null,null,null,"REINED WORK",null,null,null,null,null,"COW WORK"]
[null,null,null,null,null,"Score","Tie Breaker","Adjusted Score for Ties","Adjusted Score Major Penalty","Place","Placement Points","Score","Tie Breaker","Adjusted Score for Ties","Adjusted Score Major Penalty","Place","Placement Points","Score","Tie Breaker","Adjusted Score for Ties","Adjusted Score Major Penalty","Place","Placement Points","Score","Tie Breaker","Adjusted Score for Ties","Adjusted Score Major Penalty","Place","Placement Points","Score","Tie Breaker","Adjusted Score for Ties","Adjusted Score Major Penalty","Place","Placement Points"]
[]
["Back No.","Last Name","First Name","Registered Horse Name","Division"]
[{"$f":"IF('Entry Information'!J71=\"\",\"\",'Entry Information'!B71)","v":""},{"$f":"IF('Entry Information'!J71=\"\",\"\",'Entry Information'!C71)","v":""},{"$f":"IF('Entry Information'!J71=\"\",\"\",'Entry Information'!D71)","v":""},{"$f":"IF('Entry Information'!J71=\"\",\"\",'Entry Information'!E71)","v":""},"INT",{"$f":"IF('Entry Information'!$J71=\"\",\"\",'INTERMEDIATE RESULTS'!F11)","v":""},{"$f":"IF('Entry Information'!$J71=\"\",\"\",IF('INTERMEDIATE RESULTS'!G11=\"\",\"\",'INTERMEDIATE RESULTS'!G11))","v":""},{"$f":"IF(G10=\"\",F10,(F10+(G10*0.001)))","v":""},{"$f":"IF('Entry Information'!$J71=\"\",\"\",IF('Entry Information'!R71=\"\",H10,H10-100))","v":""},{"$f":"IF(I10=\"\",\"\",(RANK(I10,$I$10:$I$39,0)))","v":""},{"$f":"IF($F10=\"\",\"\",(VLOOKUP($J$41,Worksheet!$A$11:$AE$41,J10+1,FALSE)))","v":""},{"$f":"IF('Entry Information'!$J71=\"\",\"\",'INTERMEDIATE RESULTS'!L11)","v":""},{"$f":"IF('Entry Information'!$J71=\"\",\"\",IF('INTERMEDIATE RESULTS'!M11=\"\",\"\",'INTERMEDIATE RESULTS'!M11))","v":""},{"$f":"IF(M10=\"\",L10,(L10+(M10*0.001)))","v":""},{"$f":"IF('Entry Information'!$J71=\"\",\"\",IF('Entry Information'!T11=\"\",N10,N10-100))","v":""},{"$f":"IF(O10=\"\",\"\",(RANK(O10,$O$10:$O$39,0)))","v":""},{"$f":"IF($L10=\"\",\"\",(VLOOKUP($P$41,Worksheet!$A$11:$AE$41,P10+1,FALSE)))","v":""},{"$f":"IF('Entry Information'!$J71=\"\",\"\",'INTERMEDIATE RESULTS'!R11)","v":""},{"$f":"IF('Entry Information'!$J71=\"\",\"\",IF('INTERMEDIATE RESULTS'!S11=\"\",\"\",'INTERMEDIATE RESULTS'!S11))","v":""},{"$f":"IF(S10=\"\",R10,(R10+(S10*0.001)))","v":""},{"$f":"IF('Entry Information'!$J71=\"\",\"\",IF('Entry Information'!V71=\"\",T10,T10-100))","v":""},{"$f":"IF(U10=\"\",\"\",(RANK(U10,$U$10:$U$39,0)))","v":""},{"$f":"IF($R10=\"\",\"\",(VLOOKUP($V$41,Worksheet!$A$11:$AE$41,V10+1,FALSE)))","v":""},{"$f":"IF('Entry Information'!$J71=\"\",\"\",'INTERMEDIATE RESULTS'!X11)","v":""},{"$f":"IF('Entry Information'!$J71=\"\",\"\",IF('INTERMEDIATE RESULTS'!Y11=\"\",\"\",'INTERMEDIATE RESULTS'!Y11))","v":""},{"$f":"IF(Y10=\"\",X10,(X10+(Y10*0.001)))","v":""},{"$f":"IF('Entry Information'!$J71=\"\",\"\",IF('Entry Information'!X71=\"\",Z10,Z10-100))","v":""},{"$f":"IF(AA10=\"\",\"\",(RANK(AA10,$AA$10:$AA$39,0)))","v":""},{"$f":"IF($X10=\"\",\"\",(VLOOKUP($AB$41,Worksheet!$A$11:$AE$41,AB10+1,FALSE)))","v":""},{"$f":"IF('Entry Information'!$J71=\"\",\"\",'INTERMEDIATE RESULTS'!AD11)","v":""},{"$f":"IF('Entry Information'!$J71=\"\",\"\",IF('INTERMEDIATE RESULTS'!AE11=\"\",\"\",'INTERMEDIATE RESULTS'!AE11))","v":""},{"$f":"IF(AE10=\"\",AD10,(AD10+(AE10*0.001)))","v":""},{"$f":"IF('Entry Information'!$J71=\"\",\"\",IF('Entry Information'!Z71=\"\",AF10,AF10-100))","v":""},{"$f":"IF(AG10=\"\",\"\",(RANK(AG10,$AG$10:$AG$39,0)))","v":""},{"$f":"IF($AD10=\"\",\"\",(VLOOKUP($AH$41,Worksheet!$A$11:$AE$41,AH10+1,FALSE)))","v":""}]
[{"$f":"IF('Entry Information'!J72=\"\",\"\",'Entry Information'!B72)","v":""},{"$f":"IF('Entry Information'!J72=\"\",\"\",'Entry Information'!C72)","v":""},{"$f":"IF('Entry Information'!J72=\"\",\"\",'Entry Information'!D72)","v":""},{"$f":"IF('Entry Information'!J72=\"\",\"\",'Entry Information'!E72)","v":""},"INT",{"$f":"IF('Entry Information'!$J72=\"\",\"\",'INTERMEDIATE RESULTS'!F12)","v":""},{"$f":"IF('Entry Information'!$J72=\"\",\"\",IF('INTERMEDIATE RESULTS'!G12=\"\",\"\",'INTERMEDIATE RESULTS'!G12))","v":""},{"$f":"IF(G11=\"\",F11,(F11+(G11*0.001)))","v":""},{"$f":"IF('Entry Information'!$J72=\"\",\"\",IF('Entry Information'!R72=\"\",H11,H11-100))","v":""},{"$f":"IF(I11=\"\",\"\",(RANK(I11,$I$10:$I$39,0)))","v":""},{"$f":"IF($F11=\"\",\"\",(VLOOKUP($J$41,Worksheet!$A$11:$AE$41,J11+1,FALSE)))","v":""},{"$f":"IF('Entry Information'!$J72=\"\",\"\",'INTERMEDIATE RESULTS'!L12)","v":""},{"$f":"IF('Entry Information'!$J72=\"\",\"\",IF('INTERMEDIATE RESULTS'!M12=\"\",\"\",'INTERMEDIATE RESULTS'!M12))","v":""},"",{"$f":"IF('Entry Information'!$J72=\"\",\"\",IF('Entry Information'!T12=\"\",N11,N11-100))","v":""},{"$f":"IF(O11=\"\",\"\",(RANK(O11,$O$10:$O$39,0)))","v":""},{"$f":"IF($L11=\"\",\"\",(VLOOKUP($P$41,Worksheet!$A$11:$AE$41,P11+1,FALSE)))","v":""},{"$f":"IF('Entry Information'!$J72=\"\",\"\",'INTERMEDIATE RESULTS'!R12)","v":""},{"$f":"IF('Entry Information'!$J72=\"\",\"\",IF('INTERMEDIATE RESULTS'!S12=\"\",\"\",'INTERMEDIATE RESULTS'!S12))","v":""},"",{"$f":"IF('Entry Information'!$J72=\"\",\"\",IF('Entry Information'!V72=\"\",T11,T11-100))","v":""},{"$f":"IF(U11=\"\",\"\",(RANK(U11,$U$10:$U$39,0)))","v":""},{"$f":"IF($R11=\"\",\"\",(VLOOKUP($V$41,Worksheet!$A$11:$AE$41,V11+1,FALSE)))","v":""},{"$f":"IF('Entry Information'!$J72=\"\",\"\",'INTERMEDIATE RESULTS'!X12)","v":""},{"$f":"IF('Entry Information'!$J72=\"\",\"\",IF('INTERMEDIATE RESULTS'!Y12=\"\",\"\",'INTERMEDIATE RESULTS'!Y12))","v":""},{"$f":"IF(Y11=\"\",X11,(X11+(Y11*0.001)))","v":""},{"$f":"IF('Entry Information'!$J72=\"\",\"\",IF('Entry Information'!X72=\"\",Z11,Z11-100))","v":""},{"$f":"IF(AA11=\"\",\"\",(RANK(AA11,$AA$10:$AA$39,0)))","v":""},{"$f":"IF($X11=\"\",\"\",(VLOOKUP($AB$41,Worksheet!$A$11:$AE$41,AB11+1,FALSE)))","v":""},{"$f":"IF('Entry Information'!$J72=\"\",\"\",'INTERMEDIATE RESULTS'!AD12)","v":""},{"$f":"IF('Entry Information'!$J72=\"\",\"\",IF('INTERMEDIATE RESULTS'!AE12=\"\",\"\",'INTERMEDIATE RESULTS'!AE12))","v":""},{"$f":"IF(AE11=\"\",AD11,(AD11+(AE11*0.001)))","v":""},{"$f":"IF('Entry Information'!$J72=\"\",\"\",IF('Entry Information'!Z72=\"\",AF11,AF11-100))","v":""},{"$f":"IF(AG11=\"\",\"\",(RANK(AG11,$AG$10:$AG$39,0)))","v":""},{"$f":"IF($AD11=\"\",\"\",(VLOOKUP($AH$41,Worksheet!$A$11:$AE$41,AH11+1,FALSE)))","v":""}]
[{"$f":"IF('Entry Information'!J73=\"\",\"\",'Entry Information'!B73)","v":""},{"$f":"IF('Entry Information'!J73=\"\",\"\",'Entry Information'!C73)","v":""},{"$f":"IF('Entry Information'!J73=\"\",\"\",'Entry Information'!D73)","v":""},{"$f":"IF('Entry Information'!J73=\"\",\"\",'Entry Information'!E73)","v":""},"INT",{"$f":"IF('Entry Information'!$J73=\"\",\"\",'INTERMEDIATE RESULTS'!F13)","v":""},{"$f":"IF('Entry Information'!$J73=\"\",\"\",IF('INTERMEDIATE RESULTS'!G13=\"\",\"\",'INTERMEDIATE RESULTS'!G13))","v":""},"",{"$f":"IF('Entry Information'!$J73=\"\",\"\",IF('Entry Information'!R73=\"\",H12,H12-100))","v":""},"",{"$f":"IF($F12=\"\",\"\",(VLOOKUP($J$41,Worksheet!$A$11:$AE$41,J12+1,FALSE)))","v":""},{"$f":"IF('Entry Information'!$J73=\"\",\"\",'INTERMEDIATE RESULTS'!L13)","v":""},{"$f":"IF('Entry Information'!$J73=\"\",\"\",IF('INTERMEDIATE RESULTS'!M13=\"\",\"\",'INTERMEDIATE RESULTS'!M13))","v":""},"",{"$f":"IF('Entry Information'!$J73=\"\",\"\",IF('Entry Information'!T13=\"\",N12,N12-100))","v":""},"",{"$f":"IF($L12=\"\",\"\",(VLOOKUP($P$41,Worksheet!$A$11:$AE$41,P12+1,FALSE)))","v":""},{"$f":"IF('Entry Information'!$J73=\"\",\"\",'INTERMEDIATE RESULTS'!R13)","v":""},{"$f":"IF('Entry Information'!$J73=\"\",\"\",IF('INTERMEDIATE RESULTS'!S13=\"\",\"\",'INTERMEDIATE RESULTS'!S13))","v":""},"",{"$f":"IF('Entry Information'!$J73=\"\",\"\",IF('Entry Information'!V73=\"\",T12,T12-100))","v":""},"",{"$f":"IF($R12=\"\",\"\",(VLOOKUP($V$41,Worksheet!$A$11:$AE$41,V12+1,FALSE)))","v":""},{"$f":"IF('Entry Information'!$J73=\"\",\"\",'INTERMEDIATE RESULTS'!X13)","v":""},{"$f":"IF('Entry Information'!$J73=\"\",\"\",IF('INTERMEDIATE RESULTS'!Y13=\"\",\"\",'INTERMEDIATE RESULTS'!Y13))","v":""},"",{"$f":"IF('Entry Information'!$J73=\"\",\"\",IF('Entry Information'!X73=\"\",Z12,Z12-100))","v":""},"",{"$f":"IF($X12=\"\",\"\",(VLOOKUP($AB$41,Worksheet!$A$11:$AE$41,AB12+1,FALSE)))","v":""},{"$f":"IF('Entry Information'!$J73=\"\",\"\",'INTERMEDIATE RESULTS'!AD13)","v":""},{"$f":"IF('Entry Information'!$J73=\"\",\"\",IF('INTERMEDIATE RESULTS'!AE13=\"\",\"\",'INTERMEDIATE RESULTS'!AE13))","v":""},"",{"$f":"IF('Entry Information'!$J73=\"\",\"\",IF('Entry Information'!Z73=\"\",AF12,AF12-100))","v":""},"",{"$f":"IF($AD12=\"\",\"\",(VLOOKUP($AH$41,Worksheet!$A$11:$AE$41,AH12+1,FALSE)))","v":""}]
[{"$f":"IF('Entry Information'!J74=\"\",\"\",'Entry Information'!B74)","v":""},{"$f":"IF('Entry Information'!J74=\"\",\"\",'Entry Information'!C74)","v":""},{"$f":"IF('Entry Information'!J74=\"\",\"\",'Entry Information'!D74)","v":""},{"$f":"IF('Entry Information'!J74=\"\",\"\",'Entry Information'!E74)","v":""},"INT",{"$f":"IF('Entry Information'!$J74=\"\",\"\",'INTERMEDIATE RESULTS'!F14)","v":""},{"$f":"IF('Entry Information'!$J74=\"\",\"\",IF('INTERMEDIATE RESULTS'!G14=\"\",\"\",'INTERMEDIATE RESULTS'!G14))","v":""},"",{"$f":"IF('Entry Information'!$J74=\"\",\"\",IF('Entry Information'!R74=\"\",H13,H13-100))","v":""},"",{"$f":"IF($F13=\"\",\"\",(VLOOKUP($J$41,Worksheet!$A$11:$AE$41,J13+1,FALSE)))","v":""},{"$f":"IF('Entry Information'!$J74=\"\",\"\",'INTERMEDIATE RESULTS'!L14)","v":""},{"$f":"IF('Entry Information'!$J74=\"\",\"\",IF('INTERMEDIATE RESULTS'!M14=\"\",\"\",'INTERMEDIATE RESULTS'!M14))","v":""},"",{"$f":"IF('Entry Information'!$J74=\"\",\"\",IF('Entry Information'!T14=\"\",N13,N13-100))","v":""},"",{"$f":"IF($L13=\"\",\"\",(VLOOKUP($P$41,Worksheet!$A$11:$AE$41,P13+1,FALSE)))","v":""},{"$f":"IF('Entry Information'!$J74=\"\",\"\",'INTERMEDIATE RESULTS'!R14)","v":""},{"$f":"IF('Entry Information'!$J74=\"\",\"\",IF('INTERMEDIATE RESULTS'!S14=\"\",\"\",'INTERMEDIATE RESULTS'!S14))","v":""},"",{"$f":"IF('Entry Information'!$J74=\"\",\"\",IF('Entry Information'!V74=\"\",T13,T13-100))","v":""},"",{"$f":"IF($R13=\"\",\"\",(VLOOKUP($V$41,Worksheet!$A$11:$AE$41,V13+1,FALSE)))","v":""},{"$f":"IF('Entry Information'!$J74=\"\",\"\",'INTERMEDIATE RESULTS'!X14)","v":""},{"$f":"IF('Entry Information'!$J74=\"\",\"\",IF('INTERMEDIATE RESULTS'!Y14=\"\",\"\",'INTERMEDIATE RESULTS'!Y14))","v":""},"",{"$f":"IF('Entry Information'!$J74=\"\",\"\",IF('Entry Information'!X74=\"\",Z13,Z13-100))","v":""},"",{"$f":"IF($X13=\"\",\"\",(VLOOKUP($AB$41,Worksheet!$A$11:$AE$41,AB13+1,FALSE)))","v":""},{"$f":"IF('Entry Information'!$J74=\"\",\"\",'INTERMEDIATE RESULTS'!AD14)","v":""},{"$f":"IF('Entry Information'!$J74=\"\",\"\",IF('INTERMEDIATE RESULTS'!AE14=\"\",\"\",'INTERMEDIATE RESULTS'!AE14))","v":""},"",{"$f":"IF('Entry Information'!$J74=\"\",\"\",IF('Entry Information'!Z74=\"\",AF13,AF13-100))","v":""},"",{"$f":"IF($AD13=\"\",\"\",(VLOOKUP($AH$41,Worksheet!$A$11:$AE$41,AH13+1,FALSE)))","v":""}]
[{"$f":"IF('Entry Information'!J75=\"\",\"\",'Entry Information'!B75)","v":""},{"$f":"IF('Entry Information'!J75=\"\",\"\",'Entry Information'!C75)","v":""},{"$f":"IF('Entry Information'!J75=\"\",\"\",'Entry Information'!D75)","v":""},{"$f":"IF('Entry Information'!J75=\"\",\"\",'Entry Information'!E75)","v":""},"INT",{"$f":"IF('Entry Information'!$J75=\"\",\"\",'INTERMEDIATE RESULTS'!F15)","v":""},{"$f":"IF('Entry Information'!$J75=\"\",\"\",IF('INTERMEDIATE RESULTS'!G15=\"\",\"\",'INTERMEDIATE RESULTS'!G15))","v":""},"",{"$f":"IF('Entry Information'!$J75=\"\",\"\",IF('Entry Information'!R75=\"\",H14,H14-100))","v":""},"",{"$f":"IF($F14=\"\",\"\",(VLOOKUP($J$41,Worksheet!$A$11:$AE$41,J14+1,FALSE)))","v":""},{"$f":"IF('Entry Information'!$J75=\"\",\"\",'INTERMEDIATE RESULTS'!L15)","v":""},{"$f":"IF('Entry Information'!$J75=\"\",\"\",IF('INTERMEDIATE RESULTS'!M15=\"\",\"\",'INTERMEDIATE RESULTS'!M15))","v":""},"",{"$f":"IF('Entry Information'!$J75=\"\",\"\",IF('Entry Information'!T15=\"\",N14,N14-100))","v":""},"",{"$f":"IF($L14=\"\",\"\",(VLOOKUP($P$41,Worksheet!$A$11:$AE$41,P14+1,FALSE)))","v":""},{"$f":"IF('Entry Information'!$J75=\"\",\"\",'INTERMEDIATE RESULTS'!R15)","v":""},{"$f":"IF('Entry Information'!$J75=\"\",\"\",IF('INTERMEDIATE RESULTS'!S15=\"\",\"\",'INTERMEDIATE RESULTS'!S15))","v":""},"",{"$f":"IF('Entry Information'!$J75=\"\",\"\",IF('Entry Information'!V75=\"\",T14,T14-100))","v":""},"",{"$f":"IF($R14=\"\",\"\",(VLOOKUP($V$41,Worksheet!$A$11:$AE$41,V14+1,FALSE)))","v":""},{"$f":"IF('Entry Information'!$J75=\"\",\"\",'INTERMEDIATE RESULTS'!X15)","v":""},{"$f":"IF('Entry Information'!$J75=\"\",\"\",IF('INTERMEDIATE RESULTS'!Y15=\"\",\"\",'INTERMEDIATE RESULTS'!Y15))","v":""},"",{"$f":"IF('Entry Information'!$J75=\"\",\"\",IF('Entry Information'!X75=\"\",Z14,Z14-100))","v":""},"",{"$f":"IF($X14=\"\",\"\",(VLOOKUP($AB$41,Worksheet!$A$11:$AE$41,AB14+1,FALSE)))","v":""},{"$f":"IF('Entry Information'!$J75=\"\",\"\",'INTERMEDIATE RESULTS'!AD15)","v":""},{"$f":"IF('Entry Information'!$J75=\"\",\"\",IF('INTERMEDIATE RESULTS'!AE15=\"\",\"\",'INTERMEDIATE RESULTS'!AE15))","v":""},"",{"$f":"IF('Entry Information'!$J75=\"\",\"\",IF('Entry Information'!Z75=\"\",AF14,AF14-100))","v":""},"",{"$f":"IF($AD14=\"\",\"\",(VLOOKUP($AH$41,Worksheet!$A$11:$AE$41,AH14+1,FALSE)))","v":""}]
[{"$f":"IF('Entry Information'!J76=\"\",\"\",'Entry Information'!B76)","v":""},{"$f":"IF('Entry Information'!J76=\"\",\"\",'Entry Information'!C76)","v":""},{"$f":"IF('Entry Information'!J76=\"\",\"\",'Entry Information'!D76)","v":""},{"$f":"IF('Entry Information'!J76=\"\",\"\",'Entry Information'!E76)","v":""},"INT",{"$f":"IF('Entry Information'!$J76=\"\",\"\",'INTERMEDIATE RESULTS'!F16)","v":""},{"$f":"IF('Entry Information'!$J76=\"\",\"\",IF('INTERMEDIATE RESULTS'!G16=\"\",\"\",'INTERMEDIATE RESULTS'!G16))","v":""},"",{"$f":"IF('Entry Information'!$J76=\"\",\"\",IF('Entry Information'!R76=\"\",H15,H15-100))","v":""},"",{"$f":"IF($F15=\"\",\"\",(VLOOKUP($J$41,Worksheet!$A$11:$AE$41,J15+1,FALSE)))","v":""},{"$f":"IF('Entry Information'!$J76=\"\",\"\",'INTERMEDIATE RESULTS'!L16)","v":""},{"$f":"IF('Entry Information'!$J76=\"\",\"\",IF('INTERMEDIATE RESULTS'!M16=\"\",\"\",'INTERMEDIATE RESULTS'!M16))","v":""},"",{"$f":"IF('Entry Information'!$J76=\"\",\"\",IF('Entry Information'!T16=\"\",N15,N15-100))","v":""},"",{"$f":"IF($L15=\"\",\"\",(VLOOKUP($P$41,Worksheet!$A$11:$AE$41,P15+1,FALSE)))","v":""},{"$f":"IF('Entry Information'!$J76=\"\",\"\",'INTERMEDIATE RESULTS'!R16)","v":""},{"$f":"IF('Entry Information'!$J76=\"\",\"\",IF('INTERMEDIATE RESULTS'!S16=\"\",\"\",'INTERMEDIATE RESULTS'!S16))","v":""},"",{"$f":"IF('Entry Information'!$J76=\"\",\"\",IF('Entry Information'!V76=\"\",T15,T15-100))","v":""},"",{"$f":"IF($R15=\"\",\"\",(VLOOKUP($V$41,Worksheet!$A$11:$AE$41,V15+1,FALSE)))","v":""},{"$f":"IF('Entry Information'!$J76=\"\",\"\",'INTERMEDIATE RESULTS'!X16)","v":""},{"$f":"IF('Entry Information'!$J76=\"\",\"\",IF('INTERMEDIATE RESULTS'!Y16=\"\",\"\",'INTERMEDIATE RESULTS'!Y16))","v":""},"",{"$f":"IF('Entry Information'!$J76=\"\",\"\",IF('Entry Information'!X76=\"\",Z15,Z15-100))","v":""},"",{"$f":"IF($X15=\"\",\"\",(VLOOKUP($AB$41,Worksheet!$A$11:$AE$41,AB15+1,FALSE)))","v":""},{"$f":"IF('Entry Information'!$J76=\"\",\"\",'INTERMEDIATE RESULTS'!AD16)","v":""},{"$f":"IF('Entry Information'!$J76=\"\",\"\",IF('INTERMEDIATE RESULTS'!AE16=\"\",\"\",'INTERMEDIATE RESULTS'!AE16))","v":""},"",{"$f":"IF('Entry Information'!$J76=\"\",\"\",IF('Entry Information'!Z76=\"\",AF15,AF15-100))","v":""},"",{"$f":"IF($AD15=\"\",\"\",(VLOOKUP($AH$41,Worksheet!$A$11:$AE$41,AH15+1,FALSE)))","v":""}]
[{"$f":"IF('Entry Information'!J77=\"\",\"\",'Entry Information'!B77)","v":""},{"$f":"IF('Entry Information'!J77=\"\",\"\",'Entry Information'!C77)","v":""},{"$f":"IF('Entry Information'!J77=\"\",\"\",'Entry Information'!D77)","v":""},{"$f":"IF('Entry Information'!J77=\"\",\"\",'Entry Information'!E77)","v":""},"INT",{"$f":"IF('Entry Information'!$J77=\"\",\"\",'INTERMEDIATE RESULTS'!F17)","v":""},{"$f":"IF('Entry Information'!$J77=\"\",\"\",IF('INTERMEDIATE RESULTS'!G17=\"\",\"\",'INTERMEDIATE RESULTS'!G17))","v":""},"",{"$f":"IF('Entry Information'!$J77=\"\",\"\",IF('Entry Information'!R77=\"\",H16,H16-100))","v":""},"",{"$f":"IF($F16=\"\",\"\",(VLOOKUP($J$41,Worksheet!$A$11:$AE$41,J16+1,FALSE)))","v":""},{"$f":"IF('Entry Information'!$J77=\"\",\"\",'INTERMEDIATE RESULTS'!L17)","v":""},{"$f":"IF('Entry Information'!$J77=\"\",\"\",IF('INTERMEDIATE RESULTS'!M17=\"\",\"\",'INTERMEDIATE RESULTS'!M17))","v":""},"",{"$f":"IF('Entry Information'!$J77=\"\",\"\",IF('Entry Information'!T17=\"\",N16,N16-100))","v":""},"",{"$f":"IF($L16=\"\",\"\",(VLOOKUP($P$41,Worksheet!$A$11:$AE$41,P16+1,FALSE)))","v":""},{"$f":"IF('Entry Information'!$J77=\"\",\"\",'INTERMEDIATE RESULTS'!R17)","v":""},{"$f":"IF('Entry Information'!$J77=\"\",\"\",IF('INTERMEDIATE RESULTS'!S17=\"\",\"\",'INTERMEDIATE RESULTS'!S17))","v":""},"",{"$f":"IF('Entry Information'!$J77=\"\",\"\",IF('Entry Information'!V77=\"\",T16,T16-100))","v":""},"",{"$f":"IF($R16=\"\",\"\",(VLOOKUP($V$41,Worksheet!$A$11:$AE$41,V16+1,FALSE)))","v":""},{"$f":"IF('Entry Information'!$J77=\"\",\"\",'INTERMEDIATE RESULTS'!X17)","v":""},{"$f":"IF('Entry Information'!$J77=\"\",\"\",IF('INTERMEDIATE RESULTS'!Y17=\"\",\"\",'INTERMEDIATE RESULTS'!Y17))","v":""},"",{"$f":"IF('Entry Information'!$J77=\"\",\"\",IF('Entry Information'!X77=\"\",Z16,Z16-100))","v":""},"",{"$f":"IF($X16=\"\",\"\",(VLOOKUP($AB$41,Worksheet!$A$11:$AE$41,AB16+1,FALSE)))","v":""},{"$f":"IF('Entry Information'!$J77=\"\",\"\",'INTERMEDIATE RESULTS'!AD17)","v":""},{"$f":"IF('Entry Information'!$J77=\"\",\"\",IF('INTERMEDIATE RESULTS'!AE17=\"\",\"\",'INTERMEDIATE RESULTS'!AE17))","v":""},"",{"$f":"IF('Entry Information'!$J77=\"\",\"\",IF('Entry Information'!Z77=\"\",AF16,AF16-100))","v":""},"",{"$f":"IF($AD16=\"\",\"\",(VLOOKUP($AH$41,Worksheet!$A$11:$AE$41,AH16+1,FALSE)))","v":""}]
[{"$f":"IF('Entry Information'!J78=\"\",\"\",'Entry Information'!B78)","v":""},{"$f":"IF('Entry Information'!J78=\"\",\"\",'Entry Information'!C78)","v":""},{"$f":"IF('Entry Information'!J78=\"\",\"\",'Entry Information'!D78)","v":""},{"$f":"IF('Entry Information'!J78=\"\",\"\",'Entry Information'!E78)","v":""},"INT",{"$f":"IF('Entry Information'!$J78=\"\",\"\",'INTERMEDIATE RESULTS'!F18)","v":""},{"$f":"IF('Entry Information'!$J78=\"\",\"\",IF('INTERMEDIATE RESULTS'!G18=\"\",\"\",'INTERMEDIATE RESULTS'!G18))","v":""},"",{"$f":"IF('Entry Information'!$J78=\"\",\"\",IF('Entry Information'!R78=\"\",H17,H17-100))","v":""},"",{"$f":"IF($F17=\"\",\"\",(VLOOKUP($J$41,Worksheet!$A$11:$AE$41,J17+1,FALSE)))","v":""},{"$f":"IF('Entry Information'!$J78=\"\",\"\",'INTERMEDIATE RESULTS'!L18)","v":""},{"$f":"IF('Entry Information'!$J78=\"\",\"\",IF('INTERMEDIATE RESULTS'!M18=\"\",\"\",'INTERMEDIATE RESULTS'!M18))","v":""},"",{"$f":"IF('Entry Information'!$J78=\"\",\"\",IF('Entry Information'!T18=\"\",N17,N17-100))","v":""},"",{"$f":"IF($L17=\"\",\"\",(VLOOKUP($P$41,Worksheet!$A$11:$AE$41,P17+1,FALSE)))","v":""},{"$f":"IF('Entry Information'!$J78=\"\",\"\",'INTERMEDIATE RESULTS'!R18)","v":""},{"$f":"IF('Entry Information'!$J78=\"\",\"\",IF('INTERMEDIATE RESULTS'!S18=\"\",\"\",'INTERMEDIATE RESULTS'!S18))","v":""},"",{"$f":"IF('Entry Information'!$J78=\"\",\"\",IF('Entry Information'!V78=\"\",T17,T17-100))","v":""},"",{"$f":"IF($R17=\"\",\"\",(VLOOKUP($V$41,Worksheet!$A$11:$AE$41,V17+1,FALSE)))","v":""},{"$f":"IF('Entry Information'!$J78=\"\",\"\",'INTERMEDIATE RESULTS'!X18)","v":""},{"$f":"IF('Entry Information'!$J78=\"\",\"\",IF('INTERMEDIATE RESULTS'!Y18=\"\",\"\",'INTERMEDIATE RESULTS'!Y18))","v":""},"",{"$f":"IF('Entry Information'!$J78=\"\",\"\",IF('Entry Information'!X78=\"\",Z17,Z17-100))","v":""},"",{"$f":"IF($X17=\"\",\"\",(VLOOKUP($AB$41,Worksheet!$A$11:$AE$41,AB17+1,FALSE)))","v":""},{"$f":"IF('Entry Information'!$J78=\"\",\"\",'INTERMEDIATE RESULTS'!AD18)","v":""},{"$f":"IF('Entry Information'!$J78=\"\",\"\",IF('INTERMEDIATE RESULTS'!AE18=\"\",\"\",'INTERMEDIATE RESULTS'!AE18))","v":""},"",{"$f":"IF('Entry Information'!$J78=\"\",\"\",IF('Entry Information'!Z78=\"\",AF17,AF17-100))","v":""},"",{"$f":"IF($AD17=\"\",\"\",(VLOOKUP($AH$41,Worksheet!$A$11:$AE$41,AH17+1,FALSE)))","v":""}]
[{"$f":"IF('Entry Information'!J79=\"\",\"\",'Entry Information'!B79)","v":""},{"$f":"IF('Entry Information'!J79=\"\",\"\",'Entry Information'!C79)","v":""},{"$f":"IF('Entry Information'!J79=\"\",\"\",'Entry Information'!D79)","v":""},{"$f":"IF('Entry Information'!J79=\"\",\"\",'Entry Information'!E79)","v":""},"INT",{"$f":"IF('Entry Information'!$J79=\"\",\"\",'INTERMEDIATE RESULTS'!F19)","v":""},{"$f":"IF('Entry Information'!$J79=\"\",\"\",IF('INTERMEDIATE RESULTS'!G19=\"\",\"\",'INTERMEDIATE RESULTS'!G19))","v":""},"",{"$f":"IF('Entry Information'!$J79=\"\",\"\",IF('Entry Information'!R79=\"\",H18,H18-100))","v":""},"",{"$f":"IF($F18=\"\",\"\",(VLOOKUP($J$41,Worksheet!$A$11:$AE$41,J18+1,FALSE)))","v":""},{"$f":"IF('Entry Information'!$J79=\"\",\"\",'INTERMEDIATE RESULTS'!L19)","v":""},{"$f":"IF('Entry Information'!$J79=\"\",\"\",IF('INTERMEDIATE RESULTS'!M19=\"\",\"\",'INTERMEDIATE RESULTS'!M19))","v":""},"",{"$f":"IF('Entry Information'!$J79=\"\",\"\",IF('Entry Information'!T19=\"\",N18,N18-100))","v":""},"",{"$f":"IF($L18=\"\",\"\",(VLOOKUP($P$41,Worksheet!$A$11:$AE$41,P18+1,FALSE)))","v":""},{"$f":"IF('Entry Information'!$J79=\"\",\"\",'INTERMEDIATE RESULTS'!R19)","v":""},{"$f":"IF('Entry Information'!$J79=\"\",\"\",IF('INTERMEDIATE RESULTS'!S19=\"\",\"\",'INTERMEDIATE RESULTS'!S19))","v":""},"",{"$f":"IF('Entry Information'!$J79=\"\",\"\",IF('Entry Information'!V79=\"\",T18,T18-100))","v":""},"",{"$f":"IF($R18=\"\",\"\",(VLOOKUP($V$41,Worksheet!$A$11:$AE$41,V18+1,FALSE)))","v":""},{"$f":"IF('Entry Information'!$J79=\"\",\"\",'INTERMEDIATE RESULTS'!X19)","v":""},{"$f":"IF('Entry Information'!$J79=\"\",\"\",IF('INTERMEDIATE RESULTS'!Y19=\"\",\"\",'INTERMEDIATE RESULTS'!Y19))","v":""},"",{"$f":"IF('Entry Information'!$J79=\"\",\"\",IF('Entry Information'!X79=\"\",Z18,Z18-100))","v":""},"",{"$f":"IF($X18=\"\",\"\",(VLOOKUP($AB$41,Worksheet!$A$11:$AE$41,AB18+1,FALSE)))","v":""},{"$f":"IF('Entry Information'!$J79=\"\",\"\",'INTERMEDIATE RESULTS'!AD19)","v":""},{"$f":"IF('Entry Information'!$J79=\"\",\"\",IF('INTERMEDIATE RESULTS'!AE19=\"\",\"\",'INTERMEDIATE RESULTS'!AE19))","v":""},"",{"$f":"IF('Entry Information'!$J79=\"\",\"\",IF('Entry Information'!Z79=\"\",AF18,AF18-100))","v":""},"",{"$f":"IF($AD18=\"\",\"\",(VLOOKUP($AH$41,Worksheet!$A$11:$AE$41,AH18+1,FALSE)))","v":""}]
[{"$f":"IF('Entry Information'!J80=\"\",\"\",'Entry Information'!B80)","v":""},{"$f":"IF('Entry Information'!J80=\"\",\"\",'Entry Information'!C80)","v":""},{"$f":"IF('Entry Information'!J80=\"\",\"\",'Entry Information'!D80)","v":""},{"$f":"IF('Entry Information'!J80=\"\",\"\",'Entry Information'!E80)","v":""},"INT",{"$f":"IF('Entry Information'!$J80=\"\",\"\",'INTERMEDIATE RESULTS'!F20)","v":""},{"$f":"IF('Entry Information'!$J80=\"\",\"\",IF('INTERMEDIATE RESULTS'!G20=\"\",\"\",'INTERMEDIATE RESULTS'!G20))","v":""},"",{"$f":"IF('Entry Information'!$J80=\"\",\"\",IF('Entry Information'!R80=\"\",H19,H19-100))","v":""},"",{"$f":"IF($F19=\"\",\"\",(VLOOKUP($J$41,Worksheet!$A$11:$AE$41,J19+1,FALSE)))","v":""},{"$f":"IF('Entry Information'!$J80=\"\",\"\",'INTERMEDIATE RESULTS'!L20)","v":""},{"$f":"IF('Entry Information'!$J80=\"\",\"\",IF('INTERMEDIATE RESULTS'!M20=\"\",\"\",'INTERMEDIATE RESULTS'!M20))","v":""},"",{"$f":"IF('Entry Information'!$J80=\"\",\"\",IF('Entry Information'!T20=\"\",N19,N19-100))","v":""},"",{"$f":"IF($L19=\"\",\"\",(VLOOKUP($P$41,Worksheet!$A$11:$AE$41,P19+1,FALSE)))","v":""},{"$f":"IF('Entry Information'!$J80=\"\",\"\",'INTERMEDIATE RESULTS'!R20)","v":""},{"$f":"IF('Entry Information'!$J80=\"\",\"\",IF('INTERMEDIATE RESULTS'!S20=\"\",\"\",'INTERMEDIATE RESULTS'!S20))","v":""},"",{"$f":"IF('Entry Information'!$J80=\"\",\"\",IF('Entry Information'!V80=\"\",T19,T19-100))","v":""},"",{"$f":"IF($R19=\"\",\"\",(VLOOKUP($V$41,Worksheet!$A$11:$AE$41,V19+1,FALSE)))","v":""},{"$f":"IF('Entry Information'!$J80=\"\",\"\",'INTERMEDIATE RESULTS'!X20)","v":""},{"$f":"IF('Entry Information'!$J80=\"\",\"\",IF('INTERMEDIATE RESULTS'!Y20=\"\",\"\",'INTERMEDIATE RESULTS'!Y20))","v":""},"",{"$f":"IF('Entry Information'!$J80=\"\",\"\",IF('Entry Information'!X80=\"\",Z19,Z19-100))","v":""},"",{"$f":"IF($X19=\"\",\"\",(VLOOKUP($AB$41,Worksheet!$A$11:$AE$41,AB19+1,FALSE)))","v":""},{"$f":"IF('Entry Information'!$J80=\"\",\"\",'INTERMEDIATE RESULTS'!AD20)","v":""},{"$f":"IF('Entry Information'!$J80=\"\",\"\",IF('INTERMEDIATE RESULTS'!AE20=\"\",\"\",'INTERMEDIATE RESULTS'!AE20))","v":""},"",{"$f":"IF('Entry Information'!$J80=\"\",\"\",IF('Entry Information'!Z80=\"\",AF19,AF19-100))","v":""},"",{"$f":"IF($AD19=\"\",\"\",(VLOOKUP($AH$41,Worksheet!$A$11:$AE$41,AH19+1,FALSE)))","v":""}]
[{"$f":"IF('Entry Information'!J81=\"\",\"\",'Entry Information'!B81)","v":""},{"$f":"IF('Entry Information'!J81=\"\",\"\",'Entry Information'!C81)","v":""},{"$f":"IF('Entry Information'!J81=\"\",\"\",'Entry Information'!D81)","v":""},{"$f":"IF('Entry Information'!J81=\"\",\"\",'Entry Information'!E81)","v":""},"INT",{"$f":"IF('Entry Information'!$J81=\"\",\"\",'INTERMEDIATE RESULTS'!F21)","v":""},{"$f":"IF('Entry Information'!$J81=\"\",\"\",IF('INTERMEDIATE RESULTS'!G21=\"\",\"\",'INTERMEDIATE RESULTS'!G21))","v":""},"",{"$f":"IF('Entry Information'!$J81=\"\",\"\",IF('Entry Information'!R81=\"\",H20,H20-100))","v":""},"",{"$f":"IF($F20=\"\",\"\",(VLOOKUP($J$41,Worksheet!$A$11:$AE$41,J20+1,FALSE)))","v":""},{"$f":"IF('Entry Information'!$J81=\"\",\"\",'INTERMEDIATE RESULTS'!L21)","v":""},{"$f":"IF('Entry Information'!$J81=\"\",\"\",IF('INTERMEDIATE RESULTS'!M21=\"\",\"\",'INTERMEDIATE RESULTS'!M21))","v":""},"",{"$f":"IF('Entry Information'!$J81=\"\",\"\",IF('Entry Information'!T21=\"\",N20,N20-100))","v":""},"",{"$f":"IF($L20=\"\",\"\",(VLOOKUP($P$41,Worksheet!$A$11:$AE$41,P20+1,FALSE)))","v":""},{"$f":"IF('Entry Information'!$J81=\"\",\"\",'INTERMEDIATE RESULTS'!R21)","v":""},{"$f":"IF('Entry Information'!$J81=\"\",\"\",IF('INTERMEDIATE RESULTS'!S21=\"\",\"\",'INTERMEDIATE RESULTS'!S21))","v":""},"",{"$f":"IF('Entry Information'!$J81=\"\",\"\",IF('Entry Information'!V81=\"\",T20,T20-100))","v":""},"",{"$f":"IF($R20=\"\",\"\",(VLOOKUP($V$41,Worksheet!$A$11:$AE$41,V20+1,FALSE)))","v":""},{"$f":"IF('Entry Information'!$J81=\"\",\"\",'INTERMEDIATE RESULTS'!X21)","v":""},{"$f":"IF('Entry Information'!$J81=\"\",\"\",IF('INTERMEDIATE RESULTS'!Y21=\"\",\"\",'INTERMEDIATE RESULTS'!Y21))","v":""},"",{"$f":"IF('Entry Information'!$J81=\"\",\"\",IF('Entry Information'!X81=\"\",Z20,Z20-100))","v":""},"",{"$f":"IF($X20=\"\",\"\",(VLOOKUP($AB$41,Worksheet!$A$11:$AE$41,AB20+1,FALSE)))","v":""},{"$f":"IF('Entry Information'!$J81=\"\",\"\",'INTERMEDIATE RESULTS'!AD21)","v":""},{"$f":"IF('Entry Information'!$J81=\"\",\"\",IF('INTERMEDIATE RESULTS'!AE21=\"\",\"\",'INTERMEDIATE RESULTS'!AE21))","v":""},"",{"$f":"IF('Entry Information'!$J81=\"\",\"\",IF('Entry Information'!Z81=\"\",AF20,AF20-100))","v":""},"",{"$f":"IF($AD20=\"\",\"\",(VLOOKUP($AH$41,Worksheet!$A$11:$AE$41,AH20+1,FALSE)))","v":""}]
[{"$f":"IF('Entry Information'!J82=\"\",\"\",'Entry Information'!B82)","v":""},{"$f":"IF('Entry Information'!J82=\"\",\"\",'Entry Information'!C82)","v":""},{"$f":"IF('Entry Information'!J82=\"\",\"\",'Entry Information'!D82)","v":""},{"$f":"IF('Entry Information'!J82=\"\",\"\",'Entry Information'!E82)","v":""},"INT",{"$f":"IF('Entry Information'!$J82=\"\",\"\",'INTERMEDIATE RESULTS'!F22)","v":""},{"$f":"IF('Entry Information'!$J82=\"\",\"\",IF('INTERMEDIATE RESULTS'!G22=\"\",\"\",'INTERMEDIATE RESULTS'!G22))","v":""},"",{"$f":"IF('Entry Information'!$J82=\"\",\"\",IF('Entry Information'!R82=\"\",H21,H21-100))","v":""},"",{"$f":"IF($F21=\"\",\"\",(VLOOKUP($J$41,Worksheet!$A$11:$AE$41,J21+1,FALSE)))","v":""},{"$f":"IF('Entry Information'!$J82=\"\",\"\",'INTERMEDIATE RESULTS'!L22)","v":""},{"$f":"IF('Entry Information'!$J82=\"\",\"\",IF('INTERMEDIATE RESULTS'!M22=\"\",\"\",'INTERMEDIATE RESULTS'!M22))","v":""},"",{"$f":"IF('Entry Information'!$J82=\"\",\"\",IF('Entry Information'!T22=\"\",N21,N21-100))","v":""},"",{"$f":"IF($L21=\"\",\"\",(VLOOKUP($P$41,Worksheet!$A$11:$AE$41,P21+1,FALSE)))","v":""},{"$f":"IF('Entry Information'!$J82=\"\",\"\",'INTERMEDIATE RESULTS'!R22)","v":""},{"$f":"IF('Entry Information'!$J82=\"\",\"\",IF('INTERMEDIATE RESULTS'!S22=\"\",\"\",'INTERMEDIATE RESULTS'!S22))","v":""},"",{"$f":"IF('Entry Information'!$J82=\"\",\"\",IF('Entry Information'!V82=\"\",T21,T21-100))","v":""},"",{"$f":"IF($R21=\"\",\"\",(VLOOKUP($V$41,Worksheet!$A$11:$AE$41,V21+1,FALSE)))","v":""},{"$f":"IF('Entry Information'!$J82=\"\",\"\",'INTERMEDIATE RESULTS'!X22)","v":""},{"$f":"IF('Entry Information'!$J82=\"\",\"\",IF('INTERMEDIATE RESULTS'!Y22=\"\",\"\",'INTERMEDIATE RESULTS'!Y22))","v":""},"",{"$f":"IF('Entry Information'!$J82=\"\",\"\",IF('Entry Information'!X82=\"\",Z21,Z21-100))","v":""},"",{"$f":"IF($X21=\"\",\"\",(VLOOKUP($AB$41,Worksheet!$A$11:$AE$41,AB21+1,FALSE)))","v":""},{"$f":"IF('Entry Information'!$J82=\"\",\"\",'INTERMEDIATE RESULTS'!AD22)","v":""},{"$f":"IF('Entry Information'!$J82=\"\",\"\",IF('INTERMEDIATE RESULTS'!AE22=\"\",\"\",'INTERMEDIATE RESULTS'!AE22))","v":""},"",{"$f":"IF('Entry Information'!$J82=\"\",\"\",IF('Entry Information'!Z82=\"\",AF21,AF21-100))","v":""},"",{"$f":"IF($AD21=\"\",\"\",(VLOOKUP($AH$41,Worksheet!$A$11:$AE$41,AH21+1,FALSE)))","v":""}]
[{"$f":"IF('Entry Information'!J83=\"\",\"\",'Entry Information'!B83)","v":""},{"$f":"IF('Entry Information'!J83=\"\",\"\",'Entry Information'!C83)","v":""},{"$f":"IF('Entry Information'!J83=\"\",\"\",'Entry Information'!D83)","v":""},{"$f":"IF('Entry Information'!J83=\"\",\"\",'Entry Information'!E83)","v":""},"INT",{"$f":"IF('Entry Information'!$J83=\"\",\"\",'INTERMEDIATE RESULTS'!F23)","v":""},{"$f":"IF('Entry Information'!$J83=\"\",\"\",IF('INTERMEDIATE RESULTS'!G23=\"\",\"\",'INTERMEDIATE RESULTS'!G23))","v":""},"",{"$f":"IF('Entry Information'!$J83=\"\",\"\",IF('Entry Information'!R83=\"\",H22,H22-100))","v":""},"",{"$f":"IF($F22=\"\",\"\",(VLOOKUP($J$41,Worksheet!$A$11:$AE$41,J22+1,FALSE)))","v":""},{"$f":"IF('Entry Information'!$J83=\"\",\"\",'INTERMEDIATE RESULTS'!L23)","v":""},{"$f":"IF('Entry Information'!$J83=\"\",\"\",IF('INTERMEDIATE RESULTS'!M23=\"\",\"\",'INTERMEDIATE RESULTS'!M23))","v":""},"",{"$f":"IF('Entry Information'!$J83=\"\",\"\",IF('Entry Information'!T23=\"\",N22,N22-100))","v":""},"",{"$f":"IF($L22=\"\",\"\",(VLOOKUP($P$41,Worksheet!$A$11:$AE$41,P22+1,FALSE)))","v":""},{"$f":"IF('Entry Information'!$J83=\"\",\"\",'INTERMEDIATE RESULTS'!R23)","v":""},{"$f":"IF('Entry Information'!$J83=\"\",\"\",IF('INTERMEDIATE RESULTS'!S23=\"\",\"\",'INTERMEDIATE RESULTS'!S23))","v":""},"",{"$f":"IF('Entry Information'!$J83=\"\",\"\",IF('Entry Information'!V83=\"\",T22,T22-100))","v":""},"",{"$f":"IF($R22=\"\",\"\",(VLOOKUP($V$41,Worksheet!$A$11:$AE$41,V22+1,FALSE)))","v":""},{"$f":"IF('Entry Information'!$J83=\"\",\"\",'INTERMEDIATE RESULTS'!X23)","v":""},{"$f":"IF('Entry Information'!$J83=\"\",\"\",IF('INTERMEDIATE RESULTS'!Y23=\"\",\"\",'INTERMEDIATE RESULTS'!Y23))","v":""},"",{"$f":"IF('Entry Information'!$J83=\"\",\"\",IF('Entry Information'!X83=\"\",Z22,Z22-100))","v":""},"",{"$f":"IF($X22=\"\",\"\",(VLOOKUP($AB$41,Worksheet!$A$11:$AE$41,AB22+1,FALSE)))","v":""},{"$f":"IF('Entry Information'!$J83=\"\",\"\",'INTERMEDIATE RESULTS'!AD23)","v":""},{"$f":"IF('Entry Information'!$J83=\"\",\"\",IF('INTERMEDIATE RESULTS'!AE23=\"\",\"\",'INTERMEDIATE RESULTS'!AE23))","v":""},"",{"$f":"IF('Entry Information'!$J83=\"\",\"\",IF('Entry Information'!Z83=\"\",AF22,AF22-100))","v":""},"",{"$f":"IF($AD22=\"\",\"\",(VLOOKUP($AH$41,Worksheet!$A$11:$AE$41,AH22+1,FALSE)))","v":""}]
[{"$f":"IF('Entry Information'!J84=\"\",\"\",'Entry Information'!B84)","v":""},{"$f":"IF('Entry Information'!J84=\"\",\"\",'Entry Information'!C84)","v":""},{"$f":"IF('Entry Information'!J84=\"\",\"\",'Entry Information'!D84)","v":""},{"$f":"IF('Entry Information'!J84=\"\",\"\",'Entry Information'!E84)","v":""},"INT",{"$f":"IF('Entry Information'!$J84=\"\",\"\",'INTERMEDIATE RESULTS'!F24)","v":""},{"$f":"IF('Entry Information'!$J84=\"\",\"\",IF('INTERMEDIATE RESULTS'!G24=\"\",\"\",'INTERMEDIATE RESULTS'!G24))","v":""},"",{"$f":"IF('Entry Information'!$J84=\"\",\"\",IF('Entry Information'!R84=\"\",H23,H23-100))","v":""},"",{"$f":"IF($F23=\"\",\"\",(VLOOKUP($J$41,Worksheet!$A$11:$AE$41,J23+1,FALSE)))","v":""},{"$f":"IF('Entry Information'!$J84=\"\",\"\",'INTERMEDIATE RESULTS'!L24)","v":""},{"$f":"IF('Entry Information'!$J84=\"\",\"\",IF('INTERMEDIATE RESULTS'!M24=\"\",\"\",'INTERMEDIATE RESULTS'!M24))","v":""},"",{"$f":"IF('Entry Information'!$J84=\"\",\"\",IF('Entry Information'!T24=\"\",N23,N23-100))","v":""},"",{"$f":"IF($L23=\"\",\"\",(VLOOKUP($P$41,Worksheet!$A$11:$AE$41,P23+1,FALSE)))","v":""},{"$f":"IF('Entry Information'!$J84=\"\",\"\",'INTERMEDIATE RESULTS'!R24)","v":""},{"$f":"IF('Entry Information'!$J84=\"\",\"\",IF('INTERMEDIATE RESULTS'!S24=\"\",\"\",'INTERMEDIATE RESULTS'!S24))","v":""},"",{"$f":"IF('Entry Information'!$J84=\"\",\"\",IF('Entry Information'!V84=\"\",T23,T23-100))","v":""},"",{"$f":"IF($R23=\"\",\"\",(VLOOKUP($V$41,Worksheet!$A$11:$AE$41,V23+1,FALSE)))","v":""},{"$f":"IF('Entry Information'!$J84=\"\",\"\",'INTERMEDIATE RESULTS'!X24)","v":""},{"$f":"IF('Entry Information'!$J84=\"\",\"\",IF('INTERMEDIATE RESULTS'!Y24=\"\",\"\",'INTERMEDIATE RESULTS'!Y24))","v":""},"",{"$f":"IF('Entry Information'!$J84=\"\",\"\",IF('Entry Information'!X84=\"\",Z23,Z23-100))","v":""},"",{"$f":"IF($X23=\"\",\"\",(VLOOKUP($AB$41,Worksheet!$A$11:$AE$41,AB23+1,FALSE)))","v":""},{"$f":"IF('Entry Information'!$J84=\"\",\"\",'INTERMEDIATE RESULTS'!AD24)","v":""},{"$f":"IF('Entry Information'!$J84=\"\",\"\",IF('INTERMEDIATE RESULTS'!AE24=\"\",\"\",'INTERMEDIATE RESULTS'!AE24))","v":""},"",{"$f":"IF('Entry Information'!$J84=\"\",\"\",IF('Entry Information'!Z84=\"\",AF23,AF23-100))","v":""},"",{"$f":"IF($AD23=\"\",\"\",(VLOOKUP($AH$41,Worksheet!$A$11:$AE$41,AH23+1,FALSE)))","v":""}]
[{"$f":"IF('Entry Information'!J85=\"\",\"\",'Entry Information'!B85)","v":""},{"$f":"IF('Entry Information'!J85=\"\",\"\",'Entry Information'!C85)","v":""},{"$f":"IF('Entry Information'!J85=\"\",\"\",'Entry Information'!D85)","v":""},{"$f":"IF('Entry Information'!J85=\"\",\"\",'Entry Information'!E85)","v":""},"INT",{"$f":"IF('Entry Information'!$J85=\"\",\"\",'INTERMEDIATE RESULTS'!F25)","v":""},{"$f":"IF('Entry Information'!$J85=\"\",\"\",IF('INTERMEDIATE RESULTS'!G25=\"\",\"\",'INTERMEDIATE RESULTS'!G25))","v":""},"",{"$f":"IF('Entry Information'!$J85=\"\",\"\",IF('Entry Information'!R85=\"\",H24,H24-100))","v":""},"",{"$f":"IF($F24=\"\",\"\",(VLOOKUP($J$41,Worksheet!$A$11:$AE$41,J24+1,FALSE)))","v":""},{"$f":"IF('Entry Information'!$J85=\"\",\"\",'INTERMEDIATE RESULTS'!L25)","v":""},{"$f":"IF('Entry Information'!$J85=\"\",\"\",IF('INTERMEDIATE RESULTS'!M25=\"\",\"\",'INTERMEDIATE RESULTS'!M25))","v":""},"",{"$f":"IF('Entry Information'!$J85=\"\",\"\",IF('Entry Information'!T25=\"\",N24,N24-100))","v":""},"",{"$f":"IF($L24=\"\",\"\",(VLOOKUP($P$41,Worksheet!$A$11:$AE$41,P24+1,FALSE)))","v":""},{"$f":"IF('Entry Information'!$J85=\"\",\"\",'INTERMEDIATE RESULTS'!R25)","v":""},{"$f":"IF('Entry Information'!$J85=\"\",\"\",IF('INTERMEDIATE RESULTS'!S25=\"\",\"\",'INTERMEDIATE RESULTS'!S25))","v":""},"",{"$f":"IF('Entry Information'!$J85=\"\",\"\",IF('Entry Information'!V85=\"\",T24,T24-100))","v":""},"",{"$f":"IF($R24=\"\",\"\",(VLOOKUP($V$41,Worksheet!$A$11:$AE$41,V24+1,FALSE)))","v":""},{"$f":"IF('Entry Information'!$J85=\"\",\"\",'INTERMEDIATE RESULTS'!X25)","v":""},{"$f":"IF('Entry Information'!$J85=\"\",\"\",IF('INTERMEDIATE RESULTS'!Y25=\"\",\"\",'INTERMEDIATE RESULTS'!Y25))","v":""},"",{"$f":"IF('Entry Information'!$J85=\"\",\"\",IF('Entry Information'!X85=\"\",Z24,Z24-100))","v":""},"",{"$f":"IF($X24=\"\",\"\",(VLOOKUP($AB$41,Worksheet!$A$11:$AE$41,AB24+1,FALSE)))","v":""},{"$f":"IF('Entry Information'!$J85=\"\",\"\",'INTERMEDIATE RESULTS'!AD25)","v":""},{"$f":"IF('Entry Information'!$J85=\"\",\"\",IF('INTERMEDIATE RESULTS'!AE25=\"\",\"\",'INTERMEDIATE RESULTS'!AE25))","v":""},"",{"$f":"IF('Entry Information'!$J85=\"\",\"\",IF('Entry Information'!Z85=\"\",AF24,AF24-100))","v":""},"",{"$f":"IF($AD24=\"\",\"\",(VLOOKUP($AH$41,Worksheet!$A$11:$AE$41,AH24+1,FALSE)))","v":""}]
[{"$f":"IF('Entry Information'!J86=\"\",\"\",'Entry Information'!B86)","v":""},{"$f":"IF('Entry Information'!J86=\"\",\"\",'Entry Information'!C86)","v":""},{"$f":"IF('Entry Information'!J86=\"\",\"\",'Entry Information'!D86)","v":""},{"$f":"IF('Entry Information'!J86=\"\",\"\",'Entry Information'!E86)","v":""},"INT",{"$f":"IF('Entry Information'!$J86=\"\",\"\",'INTERMEDIATE RESULTS'!F26)","v":""},{"$f":"IF('Entry Information'!$J86=\"\",\"\",IF('INTERMEDIATE RESULTS'!G26=\"\",\"\",'INTERMEDIATE RESULTS'!G26))","v":""},"",{"$f":"IF('Entry Information'!$J86=\"\",\"\",IF('Entry Information'!R86=\"\",H25,H25-100))","v":""},"",{"$f":"IF($F25=\"\",\"\",(VLOOKUP($J$41,Worksheet!$A$11:$AE$41,J25+1,FALSE)))","v":""},{"$f":"IF('Entry Information'!$J86=\"\",\"\",'INTERMEDIATE RESULTS'!L26)","v":""},{"$f":"IF('Entry Information'!$J86=\"\",\"\",IF('INTERMEDIATE RESULTS'!M26=\"\",\"\",'INTERMEDIATE RESULTS'!M26))","v":""},"",{"$f":"IF('Entry Information'!$J86=\"\",\"\",IF('Entry Information'!T26=\"\",N25,N25-100))","v":""},"",{"$f":"IF($L25=\"\",\"\",(VLOOKUP($P$41,Worksheet!$A$11:$AE$41,P25+1,FALSE)))","v":""},{"$f":"IF('Entry Information'!$J86=\"\",\"\",'INTERMEDIATE RESULTS'!R26)","v":""},{"$f":"IF('Entry Information'!$J86=\"\",\"\",IF('INTERMEDIATE RESULTS'!S26=\"\",\"\",'INTERMEDIATE RESULTS'!S26))","v":""},"",{"$f":"IF('Entry Information'!$J86=\"\",\"\",IF('Entry Information'!V86=\"\",T25,T25-100))","v":""},"",{"$f":"IF($R25=\"\",\"\",(VLOOKUP($V$41,Worksheet!$A$11:$AE$41,V25+1,FALSE)))","v":""},{"$f":"IF('Entry Information'!$J86=\"\",\"\",'INTERMEDIATE RESULTS'!X26)","v":""},{"$f":"IF('Entry Information'!$J86=\"\",\"\",IF('INTERMEDIATE RESULTS'!Y26=\"\",\"\",'INTERMEDIATE RESULTS'!Y26))","v":""},"",{"$f":"IF('Entry Information'!$J86=\"\",\"\",IF('Entry Information'!X86=\"\",Z25,Z25-100))","v":""},"",{"$f":"IF($X25=\"\",\"\",(VLOOKUP($AB$41,Worksheet!$A$11:$AE$41,AB25+1,FALSE)))","v":""},{"$f":"IF('Entry Information'!$J86=\"\",\"\",'INTERMEDIATE RESULTS'!AD26)","v":""},{"$f":"IF('Entry Information'!$J86=\"\",\"\",IF('INTERMEDIATE RESULTS'!AE26=\"\",\"\",'INTERMEDIATE RESULTS'!AE26))","v":""},"",{"$f":"IF('Entry Information'!$J86=\"\",\"\",IF('Entry Information'!Z86=\"\",AF25,AF25-100))","v":""},"",{"$f":"IF($AD25=\"\",\"\",(VLOOKUP($AH$41,Worksheet!$A$11:$AE$41,AH25+1,FALSE)))","v":""}]
[{"$f":"IF('Entry Information'!J87=\"\",\"\",'Entry Information'!B87)","v":""},{"$f":"IF('Entry Information'!J87=\"\",\"\",'Entry Information'!C87)","v":""},{"$f":"IF('Entry Information'!J87=\"\",\"\",'Entry Information'!D87)","v":""},{"$f":"IF('Entry Information'!J87=\"\",\"\",'Entry Information'!E87)","v":""},"INT",{"$f":"IF('Entry Information'!$J87=\"\",\"\",'INTERMEDIATE RESULTS'!F27)","v":""},{"$f":"IF('Entry Information'!$J87=\"\",\"\",IF('INTERMEDIATE RESULTS'!G27=\"\",\"\",'INTERMEDIATE RESULTS'!G27))","v":""},"",{"$f":"IF('Entry Information'!$J87=\"\",\"\",IF('Entry Information'!R87=\"\",H26,H26-100))","v":""},"",{"$f":"IF($F26=\"\",\"\",(VLOOKUP($J$41,Worksheet!$A$11:$AE$41,J26+1,FALSE)))","v":""},{"$f":"IF('Entry Information'!$J87=\"\",\"\",'INTERMEDIATE RESULTS'!L27)","v":""},{"$f":"IF('Entry Information'!$J87=\"\",\"\",IF('INTERMEDIATE RESULTS'!M27=\"\",\"\",'INTERMEDIATE RESULTS'!M27))","v":""},"",{"$f":"IF('Entry Information'!$J87=\"\",\"\",IF('Entry Information'!T27=\"\",N26,N26-100))","v":""},"",{"$f":"IF($L26=\"\",\"\",(VLOOKUP($P$41,Worksheet!$A$11:$AE$41,P26+1,FALSE)))","v":""},{"$f":"IF('Entry Information'!$J87=\"\",\"\",'INTERMEDIATE RESULTS'!R27)","v":""},{"$f":"IF('Entry Information'!$J87=\"\",\"\",IF('INTERMEDIATE RESULTS'!S27=\"\",\"\",'INTERMEDIATE RESULTS'!S27))","v":""},"",{"$f":"IF('Entry Information'!$J87=\"\",\"\",IF('Entry Information'!V87=\"\",T26,T26-100))","v":""},"",{"$f":"IF($R26=\"\",\"\",(VLOOKUP($V$41,Worksheet!$A$11:$AE$41,V26+1,FALSE)))","v":""},{"$f":"IF('Entry Information'!$J87=\"\",\"\",'INTERMEDIATE RESULTS'!X27)","v":""},{"$f":"IF('Entry Information'!$J87=\"\",\"\",IF('INTERMEDIATE RESULTS'!Y27=\"\",\"\",'INTERMEDIATE RESULTS'!Y27))","v":""},"",{"$f":"IF('Entry Information'!$J87=\"\",\"\",IF('Entry Information'!X87=\"\",Z26,Z26-100))","v":""},"",{"$f":"IF($X26=\"\",\"\",(VLOOKUP($AB$41,Worksheet!$A$11:$AE$41,AB26+1,FALSE)))","v":""},{"$f":"IF('Entry Information'!$J87=\"\",\"\",'INTERMEDIATE RESULTS'!AD27)","v":""},{"$f":"IF('Entry Information'!$J87=\"\",\"\",IF('INTERMEDIATE RESULTS'!AE27=\"\",\"\",'INTERMEDIATE RESULTS'!AE27))","v":""},"",{"$f":"IF('Entry Information'!$J87=\"\",\"\",IF('Entry Information'!Z87=\"\",AF26,AF26-100))","v":""},"",{"$f":"IF($AD26=\"\",\"\",(VLOOKUP($AH$41,Worksheet!$A$11:$AE$41,AH26+1,FALSE)))","v":""}]
[{"$f":"IF('Entry Information'!J88=\"\",\"\",'Entry Information'!B88)","v":""},{"$f":"IF('Entry Information'!J88=\"\",\"\",'Entry Information'!C88)","v":""},{"$f":"IF('Entry Information'!J88=\"\",\"\",'Entry Information'!D88)","v":""},{"$f":"IF('Entry Information'!J88=\"\",\"\",'Entry Information'!E88)","v":""},"INT",{"$f":"IF('Entry Information'!$J88=\"\",\"\",'INTERMEDIATE RESULTS'!F28)","v":""},{"$f":"IF('Entry Information'!$J88=\"\",\"\",IF('INTERMEDIATE RESULTS'!G28=\"\",\"\",'INTERMEDIATE RESULTS'!G28))","v":""},"",{"$f":"IF('Entry Information'!$J88=\"\",\"\",IF('Entry Information'!R88=\"\",H27,H27-100))","v":""},"",{"$f":"IF($F27=\"\",\"\",(VLOOKUP($J$41,Worksheet!$A$11:$AE$41,J27+1,FALSE)))","v":""},{"$f":"IF('Entry Information'!$J88=\"\",\"\",'INTERMEDIATE RESULTS'!L28)","v":""},{"$f":"IF('Entry Information'!$J88=\"\",\"\",IF('INTERMEDIATE RESULTS'!M28=\"\",\"\",'INTERMEDIATE RESULTS'!M28))","v":""},"",{"$f":"IF('Entry Information'!$J88=\"\",\"\",IF('Entry Information'!T28=\"\",N27,N27-100))","v":""},"",{"$f":"IF($L27=\"\",\"\",(VLOOKUP($P$41,Worksheet!$A$11:$AE$41,P27+1,FALSE)))","v":""},{"$f":"IF('Entry Information'!$J88=\"\",\"\",'INTERMEDIATE RESULTS'!R28)","v":""},{"$f":"IF('Entry Information'!$J88=\"\",\"\",IF('INTERMEDIATE RESULTS'!S28=\"\",\"\",'INTERMEDIATE RESULTS'!S28))","v":""},"",{"$f":"IF('Entry Information'!$J88=\"\",\"\",IF('Entry Information'!V88=\"\",T27,T27-100))","v":""},"",{"$f":"IF($R27=\"\",\"\",(VLOOKUP($V$41,Worksheet!$A$11:$AE$41,V27+1,FALSE)))","v":""},{"$f":"IF('Entry Information'!$J88=\"\",\"\",'INTERMEDIATE RESULTS'!X28)","v":""},{"$f":"IF('Entry Information'!$J88=\"\",\"\",IF('INTERMEDIATE RESULTS'!Y28=\"\",\"\",'INTERMEDIATE RESULTS'!Y28))","v":""},"",{"$f":"IF('Entry Information'!$J88=\"\",\"\",IF('Entry Information'!X88=\"\",Z27,Z27-100))","v":""},"",{"$f":"IF($X27=\"\",\"\",(VLOOKUP($AB$41,Worksheet!$A$11:$AE$41,AB27+1,FALSE)))","v":""},{"$f":"IF('Entry Information'!$J88=\"\",\"\",'INTERMEDIATE RESULTS'!AD28)","v":""},{"$f":"IF('Entry Information'!$J88=\"\",\"\",IF('INTERMEDIATE RESULTS'!AE28=\"\",\"\",'INTERMEDIATE RESULTS'!AE28))","v":""},"",{"$f":"IF('Entry Information'!$J88=\"\",\"\",IF('Entry Information'!Z88=\"\",AF27,AF27-100))","v":""},"",{"$f":"IF($AD27=\"\",\"\",(VLOOKUP($AH$41,Worksheet!$A$11:$AE$41,AH27+1,FALSE)))","v":""}]
[{"$f":"IF('Entry Information'!J89=\"\",\"\",'Entry Information'!B89)","v":""},{"$f":"IF('Entry Information'!J89=\"\",\"\",'Entry Information'!C89)","v":""},{"$f":"IF('Entry Information'!J89=\"\",\"\",'Entry Information'!D89)","v":""},{"$f":"IF('Entry Information'!J89=\"\",\"\",'Entry Information'!E89)","v":""},"INT",{"$f":"IF('Entry Information'!$J89=\"\",\"\",'INTERMEDIATE RESULTS'!F29)","v":""},{"$f":"IF('Entry Information'!$J89=\"\",\"\",IF('INTERMEDIATE RESULTS'!G29=\"\",\"\",'INTERMEDIATE RESULTS'!G29))","v":""},"",{"$f":"IF('Entry Information'!$J89=\"\",\"\",IF('Entry Information'!R89=\"\",H28,H28-100))","v":""},"",{"$f":"IF($F28=\"\",\"\",(VLOOKUP($J$41,Worksheet!$A$11:$AE$41,J28+1,FALSE)))","v":""},{"$f":"IF('Entry Information'!$J89=\"\",\"\",'INTERMEDIATE RESULTS'!L29)","v":""},{"$f":"IF('Entry Information'!$J89=\"\",\"\",IF('INTERMEDIATE RESULTS'!M29=\"\",\"\",'INTERMEDIATE RESULTS'!M29))","v":""},"",{"$f":"IF('Entry Information'!$J89=\"\",\"\",IF('Entry Information'!T29=\"\",N28,N28-100))","v":""},"",{"$f":"IF($L28=\"\",\"\",(VLOOKUP($P$41,Worksheet!$A$11:$AE$41,P28+1,FALSE)))","v":""},{"$f":"IF('Entry Information'!$J89=\"\",\"\",'INTERMEDIATE RESULTS'!R29)","v":""},{"$f":"IF('Entry Information'!$J89=\"\",\"\",IF('INTERMEDIATE RESULTS'!S29=\"\",\"\",'INTERMEDIATE RESULTS'!S29))","v":""},"",{"$f":"IF('Entry Information'!$J89=\"\",\"\",IF('Entry Information'!V89=\"\",T28,T28-100))","v":""},"",{"$f":"IF($R28=\"\",\"\",(VLOOKUP($V$41,Worksheet!$A$11:$AE$41,V28+1,FALSE)))","v":""},{"$f":"IF('Entry Information'!$J89=\"\",\"\",'INTERMEDIATE RESULTS'!X29)","v":""},{"$f":"IF('Entry Information'!$J89=\"\",\"\",IF('INTERMEDIATE RESULTS'!Y29=\"\",\"\",'INTERMEDIATE RESULTS'!Y29))","v":""},"",{"$f":"IF('Entry Information'!$J89=\"\",\"\",IF('Entry Information'!X89=\"\",Z28,Z28-100))","v":""},"",{"$f":"IF($X28=\"\",\"\",(VLOOKUP($AB$41,Worksheet!$A$11:$AE$41,AB28+1,FALSE)))","v":""},{"$f":"IF('Entry Information'!$J89=\"\",\"\",'INTERMEDIATE RESULTS'!AD29)","v":""},{"$f":"IF('Entry Information'!$J89=\"\",\"\",IF('INTERMEDIATE RESULTS'!AE29=\"\",\"\",'INTERMEDIATE RESULTS'!AE29))","v":""},"",{"$f":"IF('Entry Information'!$J89=\"\",\"\",IF('Entry Information'!Z89=\"\",AF28,AF28-100))","v":""},"",{"$f":"IF($AD28=\"\",\"\",(VLOOKUP($AH$41,Worksheet!$A$11:$AE$41,AH28+1,FALSE)))","v":""}]
[{"$f":"IF('Entry Information'!J90=\"\",\"\",'Entry Information'!B90)","v":""},{"$f":"IF('Entry Information'!J90=\"\",\"\",'Entry Information'!C90)","v":""},{"$f":"IF('Entry Information'!J90=\"\",\"\",'Entry Information'!D90)","v":""},{"$f":"IF('Entry Information'!J90=\"\",\"\",'Entry Information'!E90)","v":""},"INT",{"$f":"IF('Entry Information'!$J90=\"\",\"\",'INTERMEDIATE RESULTS'!F30)","v":""},{"$f":"IF('Entry Information'!$J90=\"\",\"\",IF('INTERMEDIATE RESULTS'!G30=\"\",\"\",'INTERMEDIATE RESULTS'!G30))","v":""},"",{"$f":"IF('Entry Information'!$J90=\"\",\"\",IF('Entry Information'!R90=\"\",H29,H29-100))","v":""},"",{"$f":"IF($F29=\"\",\"\",(VLOOKUP($J$41,Worksheet!$A$11:$AE$41,J29+1,FALSE)))","v":""},{"$f":"IF('Entry Information'!$J90=\"\",\"\",'INTERMEDIATE RESULTS'!L30)","v":""},{"$f":"IF('Entry Information'!$J90=\"\",\"\",IF('INTERMEDIATE RESULTS'!M30=\"\",\"\",'INTERMEDIATE RESULTS'!M30))","v":""},"",{"$f":"IF('Entry Information'!$J90=\"\",\"\",IF('Entry Information'!T30=\"\",N29,N29-100))","v":""},"",{"$f":"IF($L29=\"\",\"\",(VLOOKUP($P$41,Worksheet!$A$11:$AE$41,P29+1,FALSE)))","v":""},{"$f":"IF('Entry Information'!$J90=\"\",\"\",'INTERMEDIATE RESULTS'!R30)","v":""},{"$f":"IF('Entry Information'!$J90=\"\",\"\",IF('INTERMEDIATE RESULTS'!S30=\"\",\"\",'INTERMEDIATE RESULTS'!S30))","v":""},"",{"$f":"IF('Entry Information'!$J90=\"\",\"\",IF('Entry Information'!V90=\"\",T29,T29-100))","v":""},"",{"$f":"IF($R29=\"\",\"\",(VLOOKUP($V$41,Worksheet!$A$11:$AE$41,V29+1,FALSE)))","v":""},{"$f":"IF('Entry Information'!$J90=\"\",\"\",'INTERMEDIATE RESULTS'!X30)","v":""},{"$f":"IF('Entry Information'!$J90=\"\",\"\",IF('INTERMEDIATE RESULTS'!Y30=\"\",\"\",'INTERMEDIATE RESULTS'!Y30))","v":""},"",{"$f":"IF('Entry Information'!$J90=\"\",\"\",IF('Entry Information'!X90=\"\",Z29,Z29-100))","v":""},"",{"$f":"IF($X29=\"\",\"\",(VLOOKUP($AB$41,Worksheet!$A$11:$AE$41,AB29+1,FALSE)))","v":""},{"$f":"IF('Entry Information'!$J90=\"\",\"\",'INTERMEDIATE RESULTS'!AD30)","v":""},{"$f":"IF('Entry Information'!$J90=\"\",\"\",IF('INTERMEDIATE RESULTS'!AE30=\"\",\"\",'INTERMEDIATE RESULTS'!AE30))","v":""},"",{"$f":"IF('Entry Information'!$J90=\"\",\"\",IF('Entry Information'!Z90=\"\",AF29,AF29-100))","v":""},"",{"$f":"IF($AD29=\"\",\"\",(VLOOKUP($AH$41,Worksheet!$A$11:$AE$41,AH29+1,FALSE)))","v":""}]
[{"$f":"IF('Entry Information'!J91=\"\",\"\",'Entry Information'!B91)","v":""},{"$f":"IF('Entry Information'!J91=\"\",\"\",'Entry Information'!C91)","v":""},{"$f":"IF('Entry Information'!J91=\"\",\"\",'Entry Information'!D91)","v":""},{"$f":"IF('Entry Information'!J91=\"\",\"\",'Entry Information'!E91)","v":""},"INT",{"$f":"IF('Entry Information'!$J91=\"\",\"\",'INTERMEDIATE RESULTS'!F31)","v":""},{"$f":"IF('Entry Information'!$J91=\"\",\"\",IF('INTERMEDIATE RESULTS'!G31=\"\",\"\",'INTERMEDIATE RESULTS'!G31))","v":""},"",{"$f":"IF('Entry Information'!$J91=\"\",\"\",IF('Entry Information'!R91=\"\",H30,H30-100))","v":""},"",{"$f":"IF($F30=\"\",\"\",(VLOOKUP($J$41,Worksheet!$A$11:$AE$41,J30+1,FALSE)))","v":""},{"$f":"IF('Entry Information'!$J91=\"\",\"\",'INTERMEDIATE RESULTS'!L31)","v":""},{"$f":"IF('Entry Information'!$J91=\"\",\"\",IF('INTERMEDIATE RESULTS'!M31=\"\",\"\",'INTERMEDIATE RESULTS'!M31))","v":""},"",{"$f":"IF('Entry Information'!$J91=\"\",\"\",IF('Entry Information'!T31=\"\",N30,N30-100))","v":""},"",{"$f":"IF($L30=\"\",\"\",(VLOOKUP($P$41,Worksheet!$A$11:$AE$41,P30+1,FALSE)))","v":""},{"$f":"IF('Entry Information'!$J91=\"\",\"\",'INTERMEDIATE RESULTS'!R31)","v":""},{"$f":"IF('Entry Information'!$J91=\"\",\"\",IF('INTERMEDIATE RESULTS'!S31=\"\",\"\",'INTERMEDIATE RESULTS'!S31))","v":""},"",{"$f":"IF('Entry Information'!$J91=\"\",\"\",IF('Entry Information'!V91=\"\",T30,T30-100))","v":""},"",{"$f":"IF($R30=\"\",\"\",(VLOOKUP($V$41,Worksheet!$A$11:$AE$41,V30+1,FALSE)))","v":""},{"$f":"IF('Entry Information'!$J91=\"\",\"\",'INTERMEDIATE RESULTS'!X31)","v":""},{"$f":"IF('Entry Information'!$J91=\"\",\"\",IF('INTERMEDIATE RESULTS'!Y31=\"\",\"\",'INTERMEDIATE RESULTS'!Y31))","v":""},"",{"$f":"IF('Entry Information'!$J91=\"\",\"\",IF('Entry Information'!X91=\"\",Z30,Z30-100))","v":""},"",{"$f":"IF($X30=\"\",\"\",(VLOOKUP($AB$41,Worksheet!$A$11:$AE$41,AB30+1,FALSE)))","v":""},{"$f":"IF('Entry Information'!$J91=\"\",\"\",'INTERMEDIATE RESULTS'!AD31)","v":""},{"$f":"IF('Entry Information'!$J91=\"\",\"\",IF('INTERMEDIATE RESULTS'!AE31=\"\",\"\",'INTERMEDIATE RESULTS'!AE31))","v":""},"",{"$f":"IF('Entry Information'!$J91=\"\",\"\",IF('Entry Information'!Z91=\"\",AF30,AF30-100))","v":""},"",{"$f":"IF($AD30=\"\",\"\",(VLOOKUP($AH$41,Worksheet!$A$11:$AE$41,AH30+1,FALSE)))","v":""}]
[{"$f":"IF('Entry Information'!J92=\"\",\"\",'Entry Information'!B92)","v":""},{"$f":"IF('Entry Information'!J92=\"\",\"\",'Entry Information'!C92)","v":""},{"$f":"IF('Entry Information'!J92=\"\",\"\",'Entry Information'!D92)","v":""},{"$f":"IF('Entry Information'!J92=\"\",\"\",'Entry Information'!E92)","v":""},"INT",{"$f":"IF('Entry Information'!$J92=\"\",\"\",'INTERMEDIATE RESULTS'!F32)","v":""},{"$f":"IF('Entry Information'!$J92=\"\",\"\",IF('INTERMEDIATE RESULTS'!G32=\"\",\"\",'INTERMEDIATE RESULTS'!G32))","v":""},"",{"$f":"IF('Entry Information'!$J92=\"\",\"\",IF('Entry Information'!R92=\"\",H31,H31-100))","v":""},"",{"$f":"IF($F31=\"\",\"\",(VLOOKUP($J$41,Worksheet!$A$11:$AE$41,J31+1,FALSE)))","v":""},{"$f":"IF('Entry Information'!$J92=\"\",\"\",'INTERMEDIATE RESULTS'!L32)","v":""},{"$f":"IF('Entry Information'!$J92=\"\",\"\",IF('INTERMEDIATE RESULTS'!M32=\"\",\"\",'INTERMEDIATE RESULTS'!M32))","v":""},"",{"$f":"IF('Entry Information'!$J92=\"\",\"\",IF('Entry Information'!T32=\"\",N31,N31-100))","v":""},"",{"$f":"IF($L31=\"\",\"\",(VLOOKUP($P$41,Worksheet!$A$11:$AE$41,P31+1,FALSE)))","v":""},{"$f":"IF('Entry Information'!$J92=\"\",\"\",'INTERMEDIATE RESULTS'!R32)","v":""},{"$f":"IF('Entry Information'!$J92=\"\",\"\",IF('INTERMEDIATE RESULTS'!S32=\"\",\"\",'INTERMEDIATE RESULTS'!S32))","v":""},"",{"$f":"IF('Entry Information'!$J92=\"\",\"\",IF('Entry Information'!V92=\"\",T31,T31-100))","v":""},"",{"$f":"IF($R31=\"\",\"\",(VLOOKUP($V$41,Worksheet!$A$11:$AE$41,V31+1,FALSE)))","v":""},{"$f":"IF('Entry Information'!$J92=\"\",\"\",'INTERMEDIATE RESULTS'!X32)","v":""},{"$f":"IF('Entry Information'!$J92=\"\",\"\",IF('INTERMEDIATE RESULTS'!Y32=\"\",\"\",'INTERMEDIATE RESULTS'!Y32))","v":""},"",{"$f":"IF('Entry Information'!$J92=\"\",\"\",IF('Entry Information'!X92=\"\",Z31,Z31-100))","v":""},"",{"$f":"IF($X31=\"\",\"\",(VLOOKUP($AB$41,Worksheet!$A$11:$AE$41,AB31+1,FALSE)))","v":""},{"$f":"IF('Entry Information'!$J92=\"\",\"\",'INTERMEDIATE RESULTS'!AD32)","v":""},{"$f":"IF('Entry Information'!$J92=\"\",\"\",IF('INTERMEDIATE RESULTS'!AE32=\"\",\"\",'INTERMEDIATE RESULTS'!AE32))","v":""},"",{"$f":"IF('Entry Information'!$J92=\"\",\"\",IF('Entry Information'!Z92=\"\",AF31,AF31-100))","v":""},"",{"$f":"IF($AD31=\"\",\"\",(VLOOKUP($AH$41,Worksheet!$A$11:$AE$41,AH31+1,FALSE)))","v":""}]
[{"$f":"IF('Entry Information'!J93=\"\",\"\",'Entry Information'!B93)","v":""},{"$f":"IF('Entry Information'!J93=\"\",\"\",'Entry Information'!C93)","v":""},{"$f":"IF('Entry Information'!J93=\"\",\"\",'Entry Information'!D93)","v":""},{"$f":"IF('Entry Information'!J93=\"\",\"\",'Entry Information'!E93)","v":""},"INT",{"$f":"IF('Entry Information'!$J93=\"\",\"\",'INTERMEDIATE RESULTS'!F33)","v":""},{"$f":"IF('Entry Information'!$J93=\"\",\"\",IF('INTERMEDIATE RESULTS'!G33=\"\",\"\",'INTERMEDIATE RESULTS'!G33))","v":""},"",{"$f":"IF('Entry Information'!$J93=\"\",\"\",IF('Entry Information'!R93=\"\",H32,H32-100))","v":""},"",{"$f":"IF($F32=\"\",\"\",(VLOOKUP($J$41,Worksheet!$A$11:$AE$41,J32+1,FALSE)))","v":""},{"$f":"IF('Entry Information'!$J93=\"\",\"\",'INTERMEDIATE RESULTS'!L33)","v":""},{"$f":"IF('Entry Information'!$J93=\"\",\"\",IF('INTERMEDIATE RESULTS'!M33=\"\",\"\",'INTERMEDIATE RESULTS'!M33))","v":""},"",{"$f":"IF('Entry Information'!$J93=\"\",\"\",IF('Entry Information'!T33=\"\",N32,N32-100))","v":""},"",{"$f":"IF($L32=\"\",\"\",(VLOOKUP($P$41,Worksheet!$A$11:$AE$41,P32+1,FALSE)))","v":""},{"$f":"IF('Entry Information'!$J93=\"\",\"\",'INTERMEDIATE RESULTS'!R33)","v":""},{"$f":"IF('Entry Information'!$J93=\"\",\"\",IF('INTERMEDIATE RESULTS'!S33=\"\",\"\",'INTERMEDIATE RESULTS'!S33))","v":""},"",{"$f":"IF('Entry Information'!$J93=\"\",\"\",IF('Entry Information'!V93=\"\",T32,T32-100))","v":""},"",{"$f":"IF($R32=\"\",\"\",(VLOOKUP($V$41,Worksheet!$A$11:$AE$41,V32+1,FALSE)))","v":""},{"$f":"IF('Entry Information'!$J93=\"\",\"\",'INTERMEDIATE RESULTS'!X33)","v":""},{"$f":"IF('Entry Information'!$J93=\"\",\"\",IF('INTERMEDIATE RESULTS'!Y33=\"\",\"\",'INTERMEDIATE RESULTS'!Y33))","v":""},"",{"$f":"IF('Entry Information'!$J93=\"\",\"\",IF('Entry Information'!X93=\"\",Z32,Z32-100))","v":""},"",{"$f":"IF($X32=\"\",\"\",(VLOOKUP($AB$41,Worksheet!$A$11:$AE$41,AB32+1,FALSE)))","v":""},{"$f":"IF('Entry Information'!$J93=\"\",\"\",'INTERMEDIATE RESULTS'!AD33)","v":""},{"$f":"IF('Entry Information'!$J93=\"\",\"\",IF('INTERMEDIATE RESULTS'!AE33=\"\",\"\",'INTERMEDIATE RESULTS'!AE33))","v":""},"",{"$f":"IF('Entry Information'!$J93=\"\",\"\",IF('Entry Information'!Z93=\"\",AF32,AF32-100))","v":""},"",{"$f":"IF($AD32=\"\",\"\",(VLOOKUP($AH$41,Worksheet!$A$11:$AE$41,AH32+1,FALSE)))","v":""}]
[{"$f":"IF('Entry Information'!J94=\"\",\"\",'Entry Information'!B94)","v":""},{"$f":"IF('Entry Information'!J94=\"\",\"\",'Entry Information'!C94)","v":""},{"$f":"IF('Entry Information'!J94=\"\",\"\",'Entry Information'!D94)","v":""},{"$f":"IF('Entry Information'!J94=\"\",\"\",'Entry Information'!E94)","v":""},"INT",{"$f":"IF('Entry Information'!$J94=\"\",\"\",'INTERMEDIATE RESULTS'!F34)","v":""},{"$f":"IF('Entry Information'!$J94=\"\",\"\",IF('INTERMEDIATE RESULTS'!G34=\"\",\"\",'INTERMEDIATE RESULTS'!G34))","v":""},"",{"$f":"IF('Entry Information'!$J94=\"\",\"\",IF('Entry Information'!R94=\"\",H33,H33-100))","v":""},"",{"$f":"IF($F33=\"\",\"\",(VLOOKUP($J$41,Worksheet!$A$11:$AE$41,J33+1,FALSE)))","v":""},{"$f":"IF('Entry Information'!$J94=\"\",\"\",'INTERMEDIATE RESULTS'!L34)","v":""},{"$f":"IF('Entry Information'!$J94=\"\",\"\",IF('INTERMEDIATE RESULTS'!M34=\"\",\"\",'INTERMEDIATE RESULTS'!M34))","v":""},"",{"$f":"IF('Entry Information'!$J94=\"\",\"\",IF('Entry Information'!T34=\"\",N33,N33-100))","v":""},"",{"$f":"IF($L33=\"\",\"\",(VLOOKUP($P$41,Worksheet!$A$11:$AE$41,P33+1,FALSE)))","v":""},{"$f":"IF('Entry Information'!$J94=\"\",\"\",'INTERMEDIATE RESULTS'!R34)","v":""},{"$f":"IF('Entry Information'!$J94=\"\",\"\",IF('INTERMEDIATE RESULTS'!S34=\"\",\"\",'INTERMEDIATE RESULTS'!S34))","v":""},"",{"$f":"IF('Entry Information'!$J94=\"\",\"\",IF('Entry Information'!V94=\"\",T33,T33-100))","v":""},"",{"$f":"IF($R33=\"\",\"\",(VLOOKUP($V$41,Worksheet!$A$11:$AE$41,V33+1,FALSE)))","v":""},{"$f":"IF('Entry Information'!$J94=\"\",\"\",'INTERMEDIATE RESULTS'!X34)","v":""},{"$f":"IF('Entry Information'!$J94=\"\",\"\",IF('INTERMEDIATE RESULTS'!Y34=\"\",\"\",'INTERMEDIATE RESULTS'!Y34))","v":""},"",{"$f":"IF('Entry Information'!$J94=\"\",\"\",IF('Entry Information'!X94=\"\",Z33,Z33-100))","v":""},"",{"$f":"IF($X33=\"\",\"\",(VLOOKUP($AB$41,Worksheet!$A$11:$AE$41,AB33+1,FALSE)))","v":""},{"$f":"IF('Entry Information'!$J94=\"\",\"\",'INTERMEDIATE RESULTS'!AD34)","v":""},{"$f":"IF('Entry Information'!$J94=\"\",\"\",IF('INTERMEDIATE RESULTS'!AE34=\"\",\"\",'INTERMEDIATE RESULTS'!AE34))","v":""},"",{"$f":"IF('Entry Information'!$J94=\"\",\"\",IF('Entry Information'!Z94=\"\",AF33,AF33-100))","v":""},"",{"$f":"IF($AD33=\"\",\"\",(VLOOKUP($AH$41,Worksheet!$A$11:$AE$41,AH33+1,FALSE)))","v":""}]
[{"$f":"IF('Entry Information'!J95=\"\",\"\",'Entry Information'!B95)","v":""},{"$f":"IF('Entry Information'!J95=\"\",\"\",'Entry Information'!C95)","v":""},{"$f":"IF('Entry Information'!J95=\"\",\"\",'Entry Information'!D95)","v":""},{"$f":"IF('Entry Information'!J95=\"\",\"\",'Entry Information'!E95)","v":""},"INT",{"$f":"IF('Entry Information'!$J95=\"\",\"\",'INTERMEDIATE RESULTS'!F35)","v":""},{"$f":"IF('Entry Information'!$J95=\"\",\"\",IF('INTERMEDIATE RESULTS'!G35=\"\",\"\",'INTERMEDIATE RESULTS'!G35))","v":""},"",{"$f":"IF('Entry Information'!$J95=\"\",\"\",IF('Entry Information'!R95=\"\",H34,H34-100))","v":""},"",{"$f":"IF($F34=\"\",\"\",(VLOOKUP($J$41,Worksheet!$A$11:$AE$41,J34+1,FALSE)))","v":""},{"$f":"IF('Entry Information'!$J95=\"\",\"\",'INTERMEDIATE RESULTS'!L35)","v":""},{"$f":"IF('Entry Information'!$J95=\"\",\"\",IF('INTERMEDIATE RESULTS'!M35=\"\",\"\",'INTERMEDIATE RESULTS'!M35))","v":""},"",{"$f":"IF('Entry Information'!$J95=\"\",\"\",IF('Entry Information'!T35=\"\",N34,N34-100))","v":""},"",{"$f":"IF($L34=\"\",\"\",(VLOOKUP($P$41,Worksheet!$A$11:$AE$41,P34+1,FALSE)))","v":""},{"$f":"IF('Entry Information'!$J95=\"\",\"\",'INTERMEDIATE RESULTS'!R35)","v":""},{"$f":"IF('Entry Information'!$J95=\"\",\"\",IF('INTERMEDIATE RESULTS'!S35=\"\",\"\",'INTERMEDIATE RESULTS'!S35))","v":""},"",{"$f":"IF('Entry Information'!$J95=\"\",\"\",IF('Entry Information'!V95=\"\",T34,T34-100))","v":""},"",{"$f":"IF($R34=\"\",\"\",(VLOOKUP($V$41,Worksheet!$A$11:$AE$41,V34+1,FALSE)))","v":""},{"$f":"IF('Entry Information'!$J95=\"\",\"\",'INTERMEDIATE RESULTS'!X35)","v":""},{"$f":"IF('Entry Information'!$J95=\"\",\"\",IF('INTERMEDIATE RESULTS'!Y35=\"\",\"\",'INTERMEDIATE RESULTS'!Y35))","v":""},"",{"$f":"IF('Entry Information'!$J95=\"\",\"\",IF('Entry Information'!X95=\"\",Z34,Z34-100))","v":""},"",{"$f":"IF($X34=\"\",\"\",(VLOOKUP($AB$41,Worksheet!$A$11:$AE$41,AB34+1,FALSE)))","v":""},{"$f":"IF('Entry Information'!$J95=\"\",\"\",'INTERMEDIATE RESULTS'!AD35)","v":""},{"$f":"IF('Entry Information'!$J95=\"\",\"\",IF('INTERMEDIATE RESULTS'!AE35=\"\",\"\",'INTERMEDIATE RESULTS'!AE35))","v":""},"",{"$f":"IF('Entry Information'!$J95=\"\",\"\",IF('Entry Information'!Z95=\"\",AF34,AF34-100))","v":""},"",{"$f":"IF($AD34=\"\",\"\",(VLOOKUP($AH$41,Worksheet!$A$11:$AE$41,AH34+1,FALSE)))","v":""}]
[{"$f":"IF('Entry Information'!J96=\"\",\"\",'Entry Information'!B96)","v":""},{"$f":"IF('Entry Information'!J96=\"\",\"\",'Entry Information'!C96)","v":""},{"$f":"IF('Entry Information'!J96=\"\",\"\",'Entry Information'!D96)","v":""},{"$f":"IF('Entry Information'!J96=\"\",\"\",'Entry Information'!E96)","v":""},"INT",{"$f":"IF('Entry Information'!$J96=\"\",\"\",'INTERMEDIATE RESULTS'!F36)","v":""},{"$f":"IF('Entry Information'!$J96=\"\",\"\",IF('INTERMEDIATE RESULTS'!G36=\"\",\"\",'INTERMEDIATE RESULTS'!G36))","v":""},"",{"$f":"IF('Entry Information'!$J96=\"\",\"\",IF('Entry Information'!R96=\"\",H35,H35-100))","v":""},"",{"$f":"IF($F35=\"\",\"\",(VLOOKUP($J$41,Worksheet!$A$11:$AE$41,J35+1,FALSE)))","v":""},{"$f":"IF('Entry Information'!$J96=\"\",\"\",'INTERMEDIATE RESULTS'!L36)","v":""},{"$f":"IF('Entry Information'!$J96=\"\",\"\",IF('INTERMEDIATE RESULTS'!M36=\"\",\"\",'INTERMEDIATE RESULTS'!M36))","v":""},"",{"$f":"IF('Entry Information'!$J96=\"\",\"\",IF('Entry Information'!T36=\"\",N35,N35-100))","v":""},"",{"$f":"IF($L35=\"\",\"\",(VLOOKUP($P$41,Worksheet!$A$11:$AE$41,P35+1,FALSE)))","v":""},{"$f":"IF('Entry Information'!$J96=\"\",\"\",'INTERMEDIATE RESULTS'!R36)","v":""},{"$f":"IF('Entry Information'!$J96=\"\",\"\",IF('INTERMEDIATE RESULTS'!S36=\"\",\"\",'INTERMEDIATE RESULTS'!S36))","v":""},"",{"$f":"IF('Entry Information'!$J96=\"\",\"\",IF('Entry Information'!V96=\"\",T35,T35-100))","v":""},"",{"$f":"IF($R35=\"\",\"\",(VLOOKUP($V$41,Worksheet!$A$11:$AE$41,V35+1,FALSE)))","v":""},{"$f":"IF('Entry Information'!$J96=\"\",\"\",'INTERMEDIATE RESULTS'!X36)","v":""},{"$f":"IF('Entry Information'!$J96=\"\",\"\",IF('INTERMEDIATE RESULTS'!Y36=\"\",\"\",'INTERMEDIATE RESULTS'!Y36))","v":""},"",{"$f":"IF('Entry Information'!$J96=\"\",\"\",IF('Entry Information'!X96=\"\",Z35,Z35-100))","v":""},"",{"$f":"IF($X35=\"\",\"\",(VLOOKUP($AB$41,Worksheet!$A$11:$AE$41,AB35+1,FALSE)))","v":""},{"$f":"IF('Entry Information'!$J96=\"\",\"\",'INTERMEDIATE RESULTS'!AD36)","v":""},{"$f":"IF('Entry Information'!$J96=\"\",\"\",IF('INTERMEDIATE RESULTS'!AE36=\"\",\"\",'INTERMEDIATE RESULTS'!AE36))","v":""},"",{"$f":"IF('Entry Information'!$J96=\"\",\"\",IF('Entry Information'!Z96=\"\",AF35,AF35-100))","v":""},"",{"$f":"IF($AD35=\"\",\"\",(VLOOKUP($AH$41,Worksheet!$A$11:$AE$41,AH35+1,FALSE)))","v":""}]
[{"$f":"IF('Entry Information'!J97=\"\",\"\",'Entry Information'!B97)","v":""},{"$f":"IF('Entry Information'!J97=\"\",\"\",'Entry Information'!C97)","v":""},{"$f":"IF('Entry Information'!J97=\"\",\"\",'Entry Information'!D97)","v":""},{"$f":"IF('Entry Information'!J97=\"\",\"\",'Entry Information'!E97)","v":""},"INT",{"$f":"IF('Entry Information'!$J97=\"\",\"\",'INTERMEDIATE RESULTS'!F37)","v":""},{"$f":"IF('Entry Information'!$J97=\"\",\"\",IF('INTERMEDIATE RESULTS'!G37=\"\",\"\",'INTERMEDIATE RESULTS'!G37))","v":""},"",{"$f":"IF('Entry Information'!$J97=\"\",\"\",IF('Entry Information'!R97=\"\",H36,H36-100))","v":""},"",{"$f":"IF($F36=\"\",\"\",(VLOOKUP($J$41,Worksheet!$A$11:$AE$41,J36+1,FALSE)))","v":""},{"$f":"IF('Entry Information'!$J97=\"\",\"\",'INTERMEDIATE RESULTS'!L37)","v":""},{"$f":"IF('Entry Information'!$J97=\"\",\"\",IF('INTERMEDIATE RESULTS'!M37=\"\",\"\",'INTERMEDIATE RESULTS'!M37))","v":""},"",{"$f":"IF('Entry Information'!$J97=\"\",\"\",IF('Entry Information'!T37=\"\",N36,N36-100))","v":""},"",{"$f":"IF($L36=\"\",\"\",(VLOOKUP($P$41,Worksheet!$A$11:$AE$41,P36+1,FALSE)))","v":""},{"$f":"IF('Entry Information'!$J97=\"\",\"\",'INTERMEDIATE RESULTS'!R37)","v":""},{"$f":"IF('Entry Information'!$J97=\"\",\"\",IF('INTERMEDIATE RESULTS'!S37=\"\",\"\",'INTERMEDIATE RESULTS'!S37))","v":""},"",{"$f":"IF('Entry Information'!$J97=\"\",\"\",IF('Entry Information'!V97=\"\",T36,T36-100))","v":""},"",{"$f":"IF($R36=\"\",\"\",(VLOOKUP($V$41,Worksheet!$A$11:$AE$41,V36+1,FALSE)))","v":""},{"$f":"IF('Entry Information'!$J97=\"\",\"\",'INTERMEDIATE RESULTS'!X37)","v":""},{"$f":"IF('Entry Information'!$J97=\"\",\"\",IF('INTERMEDIATE RESULTS'!Y37=\"\",\"\",'INTERMEDIATE RESULTS'!Y37))","v":""},"",{"$f":"IF('Entry Information'!$J97=\"\",\"\",IF('Entry Information'!X97=\"\",Z36,Z36-100))","v":""},"",{"$f":"IF($X36=\"\",\"\",(VLOOKUP($AB$41,Worksheet!$A$11:$AE$41,AB36+1,FALSE)))","v":""},{"$f":"IF('Entry Information'!$J97=\"\",\"\",'INTERMEDIATE RESULTS'!AD37)","v":""},{"$f":"IF('Entry Information'!$J97=\"\",\"\",IF('INTERMEDIATE RESULTS'!AE37=\"\",\"\",'INTERMEDIATE RESULTS'!AE37))","v":""},"",{"$f":"IF('Entry Information'!$J97=\"\",\"\",IF('Entry Information'!Z97=\"\",AF36,AF36-100))","v":""},"",{"$f":"IF($AD36=\"\",\"\",(VLOOKUP($AH$41,Worksheet!$A$11:$AE$41,AH36+1,FALSE)))","v":""}]
[{"$f":"IF('Entry Information'!J98=\"\",\"\",'Entry Information'!B98)","v":""},{"$f":"IF('Entry Information'!J98=\"\",\"\",'Entry Information'!C98)","v":""},{"$f":"IF('Entry Information'!J98=\"\",\"\",'Entry Information'!D98)","v":""},{"$f":"IF('Entry Information'!J98=\"\",\"\",'Entry Information'!E98)","v":""},"INT",{"$f":"IF('Entry Information'!$J98=\"\",\"\",'INTERMEDIATE RESULTS'!F38)","v":""},{"$f":"IF('Entry Information'!$J98=\"\",\"\",IF('INTERMEDIATE RESULTS'!G38=\"\",\"\",'INTERMEDIATE RESULTS'!G38))","v":""},"",{"$f":"IF('Entry Information'!$J98=\"\",\"\",IF('Entry Information'!R98=\"\",H37,H37-100))","v":""},"",{"$f":"IF($F37=\"\",\"\",(VLOOKUP($J$41,Worksheet!$A$11:$AE$41,J37+1,FALSE)))","v":""},{"$f":"IF('Entry Information'!$J98=\"\",\"\",'INTERMEDIATE RESULTS'!L38)","v":""},{"$f":"IF('Entry Information'!$J98=\"\",\"\",IF('INTERMEDIATE RESULTS'!M38=\"\",\"\",'INTERMEDIATE RESULTS'!M38))","v":""},"",{"$f":"IF('Entry Information'!$J98=\"\",\"\",IF('Entry Information'!T38=\"\",N37,N37-100))","v":""},"",{"$f":"IF($L37=\"\",\"\",(VLOOKUP($P$41,Worksheet!$A$11:$AE$41,P37+1,FALSE)))","v":""},{"$f":"IF('Entry Information'!$J98=\"\",\"\",'INTERMEDIATE RESULTS'!R38)","v":""},{"$f":"IF('Entry Information'!$J98=\"\",\"\",IF('INTERMEDIATE RESULTS'!S38=\"\",\"\",'INTERMEDIATE RESULTS'!S38))","v":""},"",{"$f":"IF('Entry Information'!$J98=\"\",\"\",IF('Entry Information'!V98=\"\",T37,T37-100))","v":""},"",{"$f":"IF($R37=\"\",\"\",(VLOOKUP($V$41,Worksheet!$A$11:$AE$41,V37+1,FALSE)))","v":""},{"$f":"IF('Entry Information'!$J98=\"\",\"\",'INTERMEDIATE RESULTS'!X38)","v":""},{"$f":"IF('Entry Information'!$J98=\"\",\"\",IF('INTERMEDIATE RESULTS'!Y38=\"\",\"\",'INTERMEDIATE RESULTS'!Y38))","v":""},"",{"$f":"IF('Entry Information'!$J98=\"\",\"\",IF('Entry Information'!X98=\"\",Z37,Z37-100))","v":""},"",{"$f":"IF($X37=\"\",\"\",(VLOOKUP($AB$41,Worksheet!$A$11:$AE$41,AB37+1,FALSE)))","v":""},{"$f":"IF('Entry Information'!$J98=\"\",\"\",'INTERMEDIATE RESULTS'!AD38)","v":""},{"$f":"IF('Entry Information'!$J98=\"\",\"\",IF('INTERMEDIATE RESULTS'!AE38=\"\",\"\",'INTERMEDIATE RESULTS'!AE38))","v":""},"",{"$f":"IF('Entry Information'!$J98=\"\",\"\",IF('Entry Information'!Z98=\"\",AF37,AF37-100))","v":""},"",{"$f":"IF($AD37=\"\",\"\",(VLOOKUP($AH$41,Worksheet!$A$11:$AE$41,AH37+1,FALSE)))","v":""}]
[{"$f":"IF('Entry Information'!J99=\"\",\"\",'Entry Information'!B99)","v":""},{"$f":"IF('Entry Information'!J99=\"\",\"\",'Entry Information'!C99)","v":""},{"$f":"IF('Entry Information'!J99=\"\",\"\",'Entry Information'!D99)","v":""},{"$f":"IF('Entry Information'!J99=\"\",\"\",'Entry Information'!E99)","v":""},"INT",{"$f":"IF('Entry Information'!$J99=\"\",\"\",'INTERMEDIATE RESULTS'!F39)","v":""},{"$f":"IF('Entry Information'!$J99=\"\",\"\",IF('INTERMEDIATE RESULTS'!G39=\"\",\"\",'INTERMEDIATE RESULTS'!G39))","v":""},{"$f":"IF(G38=\"\",F38,(F38+(G38*0.001)))","v":""},{"$f":"IF('Entry Information'!$J99=\"\",\"\",IF('Entry Information'!R99=\"\",H38,H38-100))","v":""},"",{"$f":"IF($F38=\"\",\"\",(VLOOKUP($J$41,Worksheet!$A$11:$AE$41,J38+1,FALSE)))","v":""},{"$f":"IF('Entry Information'!$J99=\"\",\"\",'INTERMEDIATE RESULTS'!L39)","v":""},{"$f":"IF('Entry Information'!$J99=\"\",\"\",IF('INTERMEDIATE RESULTS'!M39=\"\",\"\",'INTERMEDIATE RESULTS'!M39))","v":""},"",{"$f":"IF('Entry Information'!$J99=\"\",\"\",IF('Entry Information'!T39=\"\",N38,N38-100))","v":""},"",{"$f":"IF($L38=\"\",\"\",(VLOOKUP($P$41,Worksheet!$A$11:$AE$41,P38+1,FALSE)))","v":""},{"$f":"IF('Entry Information'!$J99=\"\",\"\",'INTERMEDIATE RESULTS'!R39)","v":""},{"$f":"IF('Entry Information'!$J99=\"\",\"\",IF('INTERMEDIATE RESULTS'!S39=\"\",\"\",'INTERMEDIATE RESULTS'!S39))","v":""},"",{"$f":"IF('Entry Information'!$J99=\"\",\"\",IF('Entry Information'!V99=\"\",T38,T38-100))","v":""},"",{"$f":"IF($R38=\"\",\"\",(VLOOKUP($V$41,Worksheet!$A$11:$AE$41,V38+1,FALSE)))","v":""},{"$f":"IF('Entry Information'!$J99=\"\",\"\",'INTERMEDIATE RESULTS'!X39)","v":""},{"$f":"IF('Entry Information'!$J99=\"\",\"\",IF('INTERMEDIATE RESULTS'!Y39=\"\",\"\",'INTERMEDIATE RESULTS'!Y39))","v":""},{"$f":"IF(Y38=\"\",X38,(X38+(Y38*0.001)))","v":""},{"$f":"IF('Entry Information'!$J99=\"\",\"\",IF('Entry Information'!X99=\"\",Z38,Z38-100))","v":""},"",{"$f":"IF($X38=\"\",\"\",(VLOOKUP($AB$41,Worksheet!$A$11:$AE$41,AB38+1,FALSE)))","v":""},{"$f":"IF('Entry Information'!$J99=\"\",\"\",'INTERMEDIATE RESULTS'!AD39)","v":""},{"$f":"IF('Entry Information'!$J99=\"\",\"\",IF('INTERMEDIATE RESULTS'!AE39=\"\",\"\",'INTERMEDIATE RESULTS'!AE39))","v":""},{"$f":"IF(AE38=\"\",AD38,(AD38+(AE38*0.001)))","v":""},{"$f":"IF('Entry Information'!$J99=\"\",\"\",IF('Entry Information'!Z99=\"\",AF38,AF38-100))","v":""},"",{"$f":"IF($AD38=\"\",\"\",(VLOOKUP($AH$41,Worksheet!$A$11:$AE$41,AH38+1,FALSE)))","v":""}]
[{"$f":"IF('Entry Information'!J100=\"\",\"\",'Entry Information'!B100)","v":""},{"$f":"IF('Entry Information'!J100=\"\",\"\",'Entry Information'!C100)","v":""},{"$f":"IF('Entry Information'!J100=\"\",\"\",'Entry Information'!D100)","v":""},{"$f":"IF('Entry Information'!J100=\"\",\"\",'Entry Information'!E100)","v":""},"INT",{"$f":"IF('Entry Information'!$J100=\"\",\"\",'INTERMEDIATE RESULTS'!F40)","v":""},{"$f":"IF('Entry Information'!$J100=\"\",\"\",IF('INTERMEDIATE RESULTS'!G40=\"\",\"\",'INTERMEDIATE RESULTS'!G40))","v":""},{"$f":"IF(G39=\"\",F39,(F39+(G39*0.001)))","v":""},{"$f":"IF('Entry Information'!$J100=\"\",\"\",IF('Entry Information'!R100=\"\",H39,H39-100))","v":""},"",{"$f":"IF($F39=\"\",\"\",(VLOOKUP($J$41,Worksheet!$A$11:$AE$41,J39+1,FALSE)))","v":""},{"$f":"IF('Entry Information'!$J100=\"\",\"\",'INTERMEDIATE RESULTS'!L40)","v":""},{"$f":"IF('Entry Information'!$J100=\"\",\"\",IF('INTERMEDIATE RESULTS'!M40=\"\",\"\",'INTERMEDIATE RESULTS'!M40))","v":""},"",{"$f":"IF('Entry Information'!$J100=\"\",\"\",IF('Entry Information'!T40=\"\",N39,N39-100))","v":""},"",{"$f":"IF($L39=\"\",\"\",(VLOOKUP($P$41,Worksheet!$A$11:$AE$41,P39+1,FALSE)))","v":""},{"$f":"IF('Entry Information'!$J100=\"\",\"\",'INTERMEDIATE RESULTS'!R40)","v":""},{"$f":"IF('Entry Information'!$J100=\"\",\"\",IF('INTERMEDIATE RESULTS'!S40=\"\",\"\",'INTERMEDIATE RESULTS'!S40))","v":""},"",{"$f":"IF('Entry Information'!$J100=\"\",\"\",IF('Entry Information'!V100=\"\",T39,T39-100))","v":""},"",{"$f":"IF($R39=\"\",\"\",(VLOOKUP($V$41,Worksheet!$A$11:$AE$41,V39+1,FALSE)))","v":""},{"$f":"IF('Entry Information'!$J100=\"\",\"\",'INTERMEDIATE RESULTS'!X40)","v":""},{"$f":"IF('Entry Information'!$J100=\"\",\"\",IF('INTERMEDIATE RESULTS'!Y40=\"\",\"\",'INTERMEDIATE RESULTS'!Y40))","v":""},{"$f":"IF(Y39=\"\",X39,(X39+(Y39*0.001)))","v":""},{"$f":"IF('Entry Information'!$J100=\"\",\"\",IF('Entry Information'!X100=\"\",Z39,Z39-100))","v":""},"",{"$f":"IF($X39=\"\",\"\",(VLOOKUP($AB$41,Worksheet!$A$11:$AE$41,AB39+1,FALSE)))","v":""},{"$f":"IF('Entry Information'!$J100=\"\",\"\",'INTERMEDIATE RESULTS'!AD40)","v":""},{"$f":"IF('Entry Information'!$J100=\"\",\"\",IF('INTERMEDIATE RESULTS'!AE40=\"\",\"\",'INTERMEDIATE RESULTS'!AE40))","v":""},{"$f":"IF(AE39=\"\",AD39,(AD39+(AE39*0.001)))","v":""},{"$f":"IF('Entry Information'!$J100=\"\",\"\",IF('Entry Information'!Z100=\"\",AF39,AF39-100))","v":""},"",{"$f":"IF($AD39=\"\",\"\",(VLOOKUP($AH$41,Worksheet!$A$11:$AE$41,AH39+1,FALSE)))","v":""}]
[]
[null,null,null,null,null,null,null,null,null,{"$f":"COUNTIF(J10:J39,\">=0\")","v":0},null,null,null,null,null,{"$f":"COUNTIF(P10:P39,\">=0\")","v":0},null,null,null,null,null,{"$f":"COUNTIF(V10:V39,\">=0\")","v":0},null,null,null,null,null,{"$f":"COUNTIF(AB10:AB39,\">=0\")","v":0},null,null,null,null,null,{"$f":"COUNTIF(AH10:AH39,\">=0\")","v":0}]
[null,null,null,null,null,"1 - Total Penalty Points",null,null,null,null,null,"1 - Total Penalty Points",null,null,null,null,null,"1 Total Penalty Points",null,null,null,null,null,"1 - Total Penalty Points",null,null,null,null,null,"1 - Total Penalty Points"]
[null,null,null,null,null,"2- Extended Trot",null,null,null,null,null,"2 - Drag Log",null,null,null,null,null,"2 - 1st Cow Working Center of Arena",null,null,null,null,null,"2 - Roping Cow",null,null,null,null,null,"2 - Roping Cow"]
[null,null,null,null,null,"3 - Transition down lope/walk/stop",null,null,null,null,null,"3 - Ground tie/bridle/pick-up leg(s)",null,null,null,null,null,"3 - 1st Cow Cut from Herd",null,null,null,null,null,"3 - Box Cow",null,null,null,null,null,"3 - Box Cow"]
[null,null,null,null,null,"4 - Transition to lope/lope",null,null,null,null,null,"4 - Gate",null,null,null,null,null,"4 -2nd Cow Working Center of Arena",null,null,null,null,null,"4 - First Lead Change",null,null,null,null,null,"4 - First Lead Change"]
[]
[]
["Scores in RED are ties - enter a 1 in the Tie Breaker Column of the winner to break tie.  If multiple ties enter a 1 for the second place and a 2 for winner."]
[]
[]
["Places highlighted have a major penatly."]
[]
["If Entered in \"Jack Pot\" cell to the right of Event All Around with be highlighted"]

{"sheet":"INTERMEDIATE SELECT RESULTS","index":13,"n_rows":53,"n_cols":35,"rows_kept":53,"cut":false,"hidden":true,"merged":[[2,18,2,22],[2,23,2,28],[2,29,2,34],[1,0,1,2],[1,4,1,5],[1,9,1,16],[1,18,1,22],[1,23,1,28],[1,29,1,34],[2,1,2,2],[2,4,2,5],[2,9,2,11],[4,5,4,10],[4,11,4,16],[4,17,4,22],[4,23,4,28],[6,11,8,11],[6,12,8,12],[6,13,8,13],[6,26,8,26],[6,27,8,27],[6,28,8,28],[6,21,8,21],[6,15,8,15],[6,7,8,7],[6,8,8,8],[6,9,8,9],[6,10,8,10],[4,29,4,34],[6,32,8,32],[6,17,8,17],[6,18,8,18],[6,19,8,19],[6,20,8,20],[6,24,8,24],[6,25,8,25],[6,33,8,33],[6,34,8,34],[6,23,8,23],[5,5,5,10],[5,11,5,16],[5,17,5,22],[5,23,5,28],[5,29,5,34],[47,0,48,4],[6,29,8,29],[6,30,8,30],[6,31,8,31],[6,14,8,14],[6,5,8,5],[6,6,8,6],[6,22,8,22],[6,16,8,16]]}
[]
[null,null,null,null,"Event Name:",null,null,null,null,{"$f":"'Entry Information'!C4","v":"Ranch Horse Challenge"},null,null,null,null,null,null,null,null,"Judge #1 Name/Claees:",null,null,null,null,{"$f":"'Entry Information'!F4","v":"Mike Lund"}]
["Division:","INTERMEDIATE",null,null,"Event Date:",null,null,null,null,{"$f":"'Entry Information'!C5","v":"2018-03-25"},null,null,null,null,null,null,null,null,"Judge #2 Name/Classes:",null,null,null,null,{"$f":"'Entry Information'!F5","v":"Karen Arlin"}]
[]
[null,null,null,null,null,"RANCH",null,null,null,null,null,"RANCH",null,null,null,null,null,"RANCH",null,null,null,null,null,"RANCH",null,null,null,null,null,"RANCH"]
[null,null,null,null,null,"RIDING",null,null,null,null,null,"TRAIL",null,null,null,null,null,"CUTING",null,null,null,null,null,"REINED WORK",null,null,null,null,null,"COW WORK"]
[null,null,null,null,null,"Score","Tie Breaker","Adjusted Score for Ties","Adjusted Score Major Penalty","Place","Placement Points","Score","Tie Breaker","Adjusted Score for Ties","Adjusted Score Major Penalty","Place","Placement Points","Score","Tie Breaker","Adjusted Score for Ties","Adjusted Score Major Penalty","Place","Placement Points","Score","Tie Breaker","Adjusted Score for Ties","Adjusted Score Major Penalty","Place","Placement Points","Score","Tie Breaker","Adjusted Score for Ties","Adjusted Score Major Penalty","Place","Placement Points"]
[]
["Back No.","Last Name","First Name","Registered Horse Name","Division"]
[{"$f":"IF('Entry Information'!H71=\"\",\"\",'Entry Information'!B71)","v":""},{"$f":"IF('Entry Information'!H71=\"\",\"\",'Entry Information'!C71)","v":""},{"$f":"IF('Entry Information'!H71=\"\",\"\",'Entry Information'!D71)","v":""},{"$f":"IF('Entry Information'!H71=\"\",\"\",'Entry Information'!E71)","v":""},"INT",{"$f":"IF('Entry Information'!$H71=\"\",\"\",'INTERMEDIATE RESULTS'!F11)","v":""},{"$f":"IF('Entry Information'!$H71=\"\",\"\",IF('INTERMEDIATE RESULTS'!G11=\"\",\"\",'INTERMEDIATE RESULTS'!G11))","v":""},{"$f":"IF(G10=\"\",F10,(F10+(G10*0.001)))","v":""},{"$f":"IF('Entry Information'!$H71=\"\",\"\",IF('Entry Information'!R71=\"\",H10,H10-100))","v":""},{"$f":"IF(I10=\"\",\"\",(RANK(I10,$I$10:$I$39,0)))","v":""},{"$f":"IF($F10=\"\",\"\",(VLOOKUP($J$41,Worksheet!$A$11:$AE$41,J10+1,FALSE)))","v":""},{"$f":"IF('Entry Information'!$H71=\"\",\"\",'INTERMEDIATE RESULTS'!L11)","v":""},{"$f":"IF('Entry Information'!$H71=\"\",\"\",IF('INTERMEDIATE RESULTS'!M11=\"\",\"\",'INTERMEDIATE RESULTS'!M11))","v":""},{"$f":"IF(M10=\"\",L10,(L10+(M10*0.001)))","v":""},{"$f":"IF('Entry Information'!$H71=\"\",\"\",IF('Entry Information'!T11=\"\",N10,N10-100))","v":""},{"$f":"IF(O10=\"\",\"\",(RANK(O10,$O$10:$O$39,0)))","v":""},{"$f":"IF($L10=\"\",\"\",(VLOOKUP($P$41,Worksheet!$A$11:$AE$41,P10+1,FALSE)))","v":""},{"$f":"IF('Entry Information'!$H71=\"\",\"\",'INTERMEDIATE RESULTS'!R11)","v":""},{"$f":"IF('Entry Information'!$H71=\"\",\"\",IF('INTERMEDIATE RESULTS'!S11=\"\",\"\",'INTERMEDIATE RESULTS'!S11))","v":""},{"$f":"IF(S10=\"\",R10,(R10+(S10*0.001)))","v":""},{"$f":"IF('Entry Information'!$H71=\"\",\"\",IF('Entry Information'!V71=\"\",T10,T10-100))","v":""},{"$f":"IF(U10=\"\",\"\",(RANK(U10,$U$10:$U$39,0)))","v":""},{"$f":"IF($R10=\"\",\"\",(VLOOKUP($V$41,Worksheet!$A$11:$AE$41,V10+1,FALSE)))","v":""},{"$f":"IF('Entry Information'!$H71=\"\",\"\",'INTERMEDIATE RESULTS'!X11)","v":""},{"$f":"IF('Entry Information'!$H71=\"\",\"\",IF('INTERMEDIATE RESULTS'!Y11=\"\",\"\",'INTERMEDIATE RESULTS'!Y11))","v":""},{"$f":"IF(Y10=\"\",X10,(X10+(Y10*0.001)))","v":""},{"$f":"IF('Entry Information'!$H71=\"\",\"\",IF('Entry Information'!X71=\"\",Z10,Z10-100))","v":""},{"$f":"IF(AA10=\"\",\"\",(RANK(AA10,$AA$10:$AA$39,0)))","v":""},{"$f":"IF($X10=\"\",\"\",(VLOOKUP($AB$41,Worksheet!$A$11:$AE$41,AB10+1,FALSE)))","v":""},{"$f":"IF('Entry Information'!$H71=\"\",\"\",'INTERMEDIATE RESULTS'!AD11)","v":""},{"$f":"IF('Entry Information'!$H71=\"\",\"\",IF('INTERMEDIATE RESULTS'!AE11=\"\",\"\",'INTERMEDIATE RESULTS'!AE11))","v":""},{"$f":"IF(AE10=\"\",AD10,(AD10+(AE10*0.001)))","v":""},{"$f":"IF('Entry Information'!$H71=\"\",\"\",IF('Entry Information'!Z71=\"\",AF10,AF10-100))","v":""},{"$f":"IF(AG10=\"\",\"\",(RANK(AG10,$AG$10:$AG$39,0)))","v":""},{"$f":"IF($AD10=\"\",\"\",(VLOOKUP($AH$41,Worksheet!$A$11:$AE$41,AH10+1,FALSE)))","v":""}]
[{"$f":"IF('Entry Information'!H72=\"\",\"\",'Entry Information'!B72)","v":""},{"$f":"IF('Entry Information'!H72=\"\",\"\",'Entry Information'!C72)","v":""},{"$f":"IF('Entry Information'!H72=\"\",\"\",'Entry Information'!D72)","v":""},{"$f":"IF('Entry Information'!H72=\"\",\"\",'Entry Information'!E72)","v":""},"INT",{"$f":"IF('Entry Information'!$H72=\"\",\"\",'INTERMEDIATE RESULTS'!F12)","v":""},{"$f":"IF('Entry Information'!$H72=\"\",\"\",IF('INTERMEDIATE RESULTS'!G12=\"\",\"\",'INTERMEDIATE RESULTS'!G12))","v":""},{"$f":"IF(G11=\"\",F11,(F11+(G11*0.001)))","v":""},{"$f":"IF('Entry Information'!$H72=\"\",\"\",IF('Entry Information'!R72=\"\",H11,H11-100))","v":""},{"$f":"IF(I11=\"\",\"\",(RANK(I11,$I$10:$I$39,0)))","v":""},{"$f":"IF($F11=\"\",\"\",(VLOOKUP($J$41,Worksheet!$A$11:$AE$41,J11+1,FALSE)))","v":""},{"$f":"IF('Entry Information'!$H72=\"\",\"\",'INTERMEDIATE RESULTS'!L12)","v":""},{"$f":"IF('Entry Information'!$H72=\"\",\"\",IF('INTERMEDIATE RESULTS'!M12=\"\",\"\",'INTERMEDIATE RESULTS'!M12))","v":""},"",{"$f":"IF('Entry Information'!$H72=\"\",\"\",IF('Entry Information'!T12=\"\",N11,N11-100))","v":""},{"$f":"IF(O11=\"\",\"\",(RANK(O11,$O$10:$O$39,0)))","v":""},{"$f":"IF($L11=\"\",\"\",(VLOOKUP($P$41,Worksheet!$A$11:$AE$41,P11+1,FALSE)))","v":""},{"$f":"IF('Entry Information'!$H72=\"\",\"\",'INTERMEDIATE RESULTS'!R12)","v":""},{"$f":"IF('Entry Information'!$H72=\"\",\"\",IF('INTERMEDIATE RESULTS'!S12=\"\",\"\",'INTERMEDIATE RESULTS'!S12))","v":""},"",{"$f":"IF('Entry Information'!$H72=\"\",\"\",IF('Entry Information'!V72=\"\",T11,T11-100))","v":""},{"$f":"IF(U11=\"\",\"\",(RANK(U11,$U$10:$U$39,0)))","v":""},{"$f":"IF($R11=\"\",\"\",(VLOOKUP($V$41,Worksheet!$A$11:$AE$41,V11+1,FALSE)))","v":""},{"$f":"IF('Entry Information'!$H72=\"\",\"\",'INTERMEDIATE RESULTS'!X12)","v":""},{"$f":"IF('Entry Information'!$H72=\"\",\"\",IF('INTERMEDIATE RESULTS'!Y12=\"\",\"\",'INTERMEDIATE RESULTS'!Y12))","v":""},{"$f":"IF(Y11=\"\",X11,(X11+(Y11*0.001)))","v":""},{"$f":"IF('Entry Information'!$H72=\"\",\"\",IF('Entry Information'!X72=\"\",Z11,Z11-100))","v":""},{"$f":"IF(AA11=\"\",\"\",(RANK(AA11,$AA$10:$AA$39,0)))","v":""},{"$f":"IF($X11=\"\",\"\",(VLOOKUP($AB$41,Worksheet!$A$11:$AE$41,AB11+1,FALSE)))","v":""},{"$f":"IF('Entry Information'!$H72=\"\",\"\",'INTERMEDIATE RESULTS'!AD12)","v":""},{"$f":"IF('Entry Information'!$H72=\"\",\"\",IF('INTERMEDIATE RESULTS'!AE12=\"\",\"\",'INTERMEDIATE RESULTS'!AE12))","v":""},{"$f":"IF(AE11=\"\",AD11,(AD11+(AE11*0.001)))","v":""},{"$f":"IF('Entry Information'!$H72=\"\",\"\",IF('Entry Information'!Z72=\"\",AF11,AF11-100))","v":""},{"$f":"IF(AG11=\"\",\"\",(RANK(AG11,$AG$10:$AG$39,0)))","v":""},{"$f":"IF($AD11=\"\",\"\",(VLOOKUP($AH$41,Worksheet!$A$11:$AE$41,AH11+1,FALSE)))","v":""}]
[{"$f":"IF('Entry Information'!H73=\"\",\"\",'Entry Information'!B73)","v":""},{"$f":"IF('Entry Information'!H73=\"\",\"\",'Entry Information'!C73)","v":""},{"$f":"IF('Entry Information'!H73=\"\",\"\",'Entry Information'!D73)","v":""},{"$f":"IF('Entry Information'!H73=\"\",\"\",'Entry Information'!E73)","v":""},"INT",{"$f":"IF('Entry Information'!$H73=\"\",\"\",'INTERMEDIATE RESULTS'!F13)","v":""},{"$f":"IF('Entry Information'!$H73=\"\",\"\",IF('INTERMEDIATE RESULTS'!G13=\"\",\"\",'INTERMEDIATE RESULTS'!G13))","v":""},"",{"$f":"IF('Entry Information'!$H73=\"\",\"\",IF('Entry Information'!R73=\"\",H12,H12-100))","v":""},"",{"$f":"IF($F12=\"\",\"\",(VLOOKUP($J$41,Worksheet!$A$11:$AE$41,J12+1,FALSE)))","v":""},{"$f":"IF('Entry Information'!$H73=\"\",\"\",'INTERMEDIATE RESULTS'!L13)","v":""},{"$f":"IF('Entry Information'!$H73=\"\",\"\",IF('INTERMEDIATE RESULTS'!M13=\"\",\"\",'INTERMEDIATE RESULTS'!M13))","v":""},"",{"$f":"IF('Entry Information'!$H73=\"\",\"\",IF('Entry Information'!T13=\"\",N12,N12-100))","v":""},"",{"$f":"IF($L12=\"\",\"\",(VLOOKUP($P$41,Worksheet!$A$11:$AE$41,P12+1,FALSE)))","v":""},{"$f":"IF('Entry Information'!$H73=\"\",\"\",'INTERMEDIATE RESULTS'!R13)","v":""},{"$f":"IF('Entry Information'!$H73=\"\",\"\",IF('INTERMEDIATE RESULTS'!S13=\"\",\"\",'INTERMEDIATE RESULTS'!S13))","v":""},"",{"$f":"IF('Entry Information'!$H73=\"\",\"\",IF('Entry Information'!V73=\"\",T12,T12-100))","v":""},"",{"$f":"IF($R12=\"\",\"\",(VLOOKUP($V$41,Worksheet!$A$11:$AE$41,V12+1,FALSE)))","v":""},{"$f":"IF('Entry Information'!$H73=\"\",\"\",'INTERMEDIATE RESULTS'!X13)","v":""},{"$f":"IF('Entry Information'!$H73=\"\",\"\",IF('INTERMEDIATE RESULTS'!Y13=\"\",\"\",'INTERMEDIATE RESULTS'!Y13))","v":""},"",{"$f":"IF('Entry Information'!$H73=\"\",\"\",IF('Entry Information'!X73=\"\",Z12,Z12-100))","v":""},"",{"$f":"IF($X12=\"\",\"\",(VLOOKUP($AB$41,Worksheet!$A$11:$AE$41,AB12+1,FALSE)))","v":""},{"$f":"IF('Entry Information'!$H73=\"\",\"\",'INTERMEDIATE RESULTS'!AD13)","v":""},{"$f":"IF('Entry Information'!$H73=\"\",\"\",IF('INTERMEDIATE RESULTS'!AE13=\"\",\"\",'INTERMEDIATE RESULTS'!AE13))","v":""},"",{"$f":"IF('Entry Information'!$H73=\"\",\"\",IF('Entry Information'!Z73=\"\",AF12,AF12-100))","v":""},"",{"$f":"IF($AD12=\"\",\"\",(VLOOKUP($AH$41,Worksheet!$A$11:$AE$41,AH12+1,FALSE)))","v":""}]
[{"$f":"IF('Entry Information'!H74=\"\",\"\",'Entry Information'!B74)","v":""},{"$f":"IF('Entry Information'!H74=\"\",\"\",'Entry Information'!C74)","v":""},{"$f":"IF('Entry Information'!H74=\"\",\"\",'Entry Information'!D74)","v":""},{"$f":"IF('Entry Information'!H74=\"\",\"\",'Entry Information'!E74)","v":""},"INT",{"$f":"IF('Entry Information'!$H74=\"\",\"\",'INTERMEDIATE RESULTS'!F14)","v":""},{"$f":"IF('Entry Information'!$H74=\"\",\"\",IF('INTERMEDIATE RESULTS'!G14=\"\",\"\",'INTERMEDIATE RESULTS'!G14))","v":""},"",{"$f":"IF('Entry Information'!$H74=\"\",\"\",IF('Entry Information'!R74=\"\",H13,H13-100))","v":""},"",{"$f":"IF($F13=\"\",\"\",(VLOOKUP($J$41,Worksheet!$A$11:$AE$41,J13+1,FALSE)))","v":""},{"$f":"IF('Entry Information'!$H74=\"\",\"\",'INTERMEDIATE RESULTS'!L14)","v":""},{"$f":"IF('Entry Information'!$H74=\"\",\"\",IF('INTERMEDIATE RESULTS'!M14=\"\",\"\",'INTERMEDIATE RESULTS'!M14))","v":""},"",{"$f":"IF('Entry Information'!$H74=\"\",\"\",IF('Entry Information'!T14=\"\",N13,N13-100))","v":""},"",{"$f":"IF($L13=\"\",\"\",(VLOOKUP($P$41,Worksheet!$A$11:$AE$41,P13+1,FALSE)))","v":""},{"$f":"IF('Entry Information'!$H74=\"\",\"\",'INTERMEDIATE RESULTS'!R14)","v":""},{"$f":"IF('Entry Information'!$H74=\"\",\"\",IF('INTERMEDIATE RESULTS'!S14=\"\",\"\",'INTERMEDIATE RESULTS'!S14))","v":""},"",{"$f":"IF('Entry Information'!$H74=\"\",\"\",IF('Entry Information'!V74=\"\",T13,T13-100))","v":""},"",{"$f":"IF($R13=\"\",\"\",(VLOOKUP($V$41,Worksheet!$A$11:$AE$41,V13+1,FALSE)))","v":""},{"$f":"IF('Entry Information'!$H74=\"\",\"\",'INTERMEDIATE RESULTS'!X14)","v":""},{"$f":"IF('Entry Information'!$H74=\"\",\"\",IF('INTERMEDIATE RESULTS'!Y14=\"\",\"\",'INTERMEDIATE RESULTS'!Y14))","v":""},"",{"$f":"IF('Entry Information'!$H74=\"\",\"\",IF('Entry Information'!X74=\"\",Z13,Z13-100))","v":""},"",{"$f":"IF($X13=\"\",\"\",(VLOOKUP($AB$41,Worksheet!$A$11:$AE$41,AB13+1,FALSE)))","v":""},{"$f":"IF('Entry Information'!$H74=\"\",\"\",'INTERMEDIATE RESULTS'!AD14)","v":""},{"$f":"IF('Entry Information'!$H74=\"\",\"\",IF('INTERMEDIATE RESULTS'!AE14=\"\",\"\",'INTERMEDIATE RESULTS'!AE14))","v":""},"",{"$f":"IF('Entry Information'!$H74=\"\",\"\",IF('Entry Information'!Z74=\"\",AF13,AF13-100))","v":""},"",{"$f":"IF($AD13=\"\",\"\",(VLOOKUP($AH$41,Worksheet!$A$11:$AE$41,AH13+1,FALSE)))","v":""}]
[{"$f":"IF('Entry Information'!H75=\"\",\"\",'Entry Information'!B75)","v":""},{"$f":"IF('Entry Information'!H75=\"\",\"\",'Entry Information'!C75)","v":""},{"$f":"IF('Entry Information'!H75=\"\",\"\",'Entry Information'!D75)","v":""},{"$f":"IF('Entry Information'!H75=\"\",\"\",'Entry Information'!E75)","v":""},"INT",{"$f":"IF('Entry Information'!$H75=\"\",\"\",'INTERMEDIATE RESULTS'!F15)","v":""},{"$f":"IF('Entry Information'!$H75=\"\",\"\",IF('INTERMEDIATE RESULTS'!G15=\"\",\"\",'INTERMEDIATE RESULTS'!G15))","v":""},"",{"$f":"IF('Entry Information'!$H75=\"\",\"\",IF('Entry Information'!R75=\"\",H14,H14-100))","v":""},"",{"$f":"IF($F14=\"\",\"\",(VLOOKUP($J$41,Worksheet!$A$11:$AE$41,J14+1,FALSE)))","v":""},{"$f":"IF('Entry Information'!$H75=\"\",\"\",'INTERMEDIATE RESULTS'!L15)","v":""},{"$f":"IF('Entry Information'!$H75=\"\",\"\",IF('INTERMEDIATE RESULTS'!M15=\"\",\"\",'INTERMEDIATE RESULTS'!M15))","v":""},"",{"$f":"IF('Entry Information'!$H75=\"\",\"\",IF('Entry Information'!T15=\"\",N14,N14-100))","v":""},"",{"$f":"IF($L14=\"\",\"\",(VLOOKUP($P$41,Worksheet!$A$11:$AE$41,P14+1,FALSE)))","v":""},{"$f":"IF('Entry Information'!$H75=\"\",\"\",'INTERMEDIATE RESULTS'!R15)","v":""},{"$f":"IF('Entry Information'!$H75=\"\",\"\",IF('INTERMEDIATE RESULTS'!S15=\"\",\"\",'INTERMEDIATE RESULTS'!S15))","v":""},"",{"$f":"IF('Entry Information'!$H75=\"\",\"\",IF('Entry Information'!V75=\"\",T14,T14-100))","v":""},"",{"$f":"IF($R14=\"\",\"\",(VLOOKUP($V$41,Worksheet!$A$11:$AE$41,V14+1,FALSE)))","v":""},{"$f":"IF('Entry Information'!$H75=\"\",\"\",'INTERMEDIATE RESULTS'!X15)","v":""},{"$f":"IF('Entry Information'!$H75=\"\",\"\",IF('INTERMEDIATE RESULTS'!Y15=\"\",\"\",'INTERMEDIATE RESULTS'!Y15))","v":""},"",{"$f":"IF('Entry Information'!$H75=\"\",\"\",IF('Entry Information'!X75=\"\",Z14,Z14-100))","v":""},"",{"$f":"IF($X14=\"\",\"\",(VLOOKUP($AB$41,Worksheet!$A$11:$AE$41,AB14+1,FALSE)))","v":""},{"$f":"IF('Entry Information'!$H75=\"\",\"\",'INTERMEDIATE RESULTS'!AD15)","v":""},{"$f":"IF('Entry Information'!$H75=\"\",\"\",IF('INTERMEDIATE RESULTS'!AE15=\"\",\"\",'INTERMEDIATE RESULTS'!AE15))","v":""},"",{"$f":"IF('Entry Information'!$H75=\"\",\"\",IF('Entry Information'!Z75=\"\",AF14,AF14-100))","v":""},"",{"$f":"IF($AD14=\"\",\"\",(VLOOKUP($AH$41,Worksheet!$A$11:$AE$41,AH14+1,FALSE)))","v":""}]
[{"$f":"IF('Entry Information'!H76=\"\",\"\",'Entry Information'!B76)","v":""},{"$f":"IF('Entry Information'!H76=\"\",\"\",'Entry Information'!C76)","v":""},{"$f":"IF('Entry Information'!H76=\"\",\"\",'Entry Information'!D76)","v":""},{"$f":"IF('Entry Information'!H76=\"\",\"\",'Entry Information'!E76)","v":""},"INT",{"$f":"IF('Entry Information'!$H76=\"\",\"\",'INTERMEDIATE RESULTS'!F16)","v":""},{"$f":"IF('Entry Information'!$H76=\"\",\"\",IF('INTERMEDIATE RESULTS'!G16=\"\",\"\",'INTERMEDIATE RESULTS'!G16))","v":""},"",{"$f":"IF('Entry Information'!$H76=\"\",\"\",IF('Entry Information'!R76=\"\",H15,H15-100))","v":""},"",{"$f":"IF($F15=\"\",\"\",(VLOOKUP($J$41,Worksheet!$A$11:$AE$41,J15+1,FALSE)))","v":""},{"$f":"IF('Entry Information'!$H76=\"\",\"\",'INTERMEDIATE RESULTS'!L16)","v":""},{"$f":"IF('Entry Information'!$H76=\"\",\"\",IF('INTERMEDIATE RESULTS'!M16=\"\",\"\",'INTERMEDIATE RESULTS'!M16))","v":""},"",{"$f":"IF('Entry Information'!$H76=\"\",\"\",IF('Entry Information'!T16=\"\",N15,N15-100))","v":""},"",{"$f":"IF($L15=\"\",\"\",(VLOOKUP($P$41,Worksheet!$A$11:$AE$41,P15+1,FALSE)))","v":""},{"$f":"IF('Entry Information'!$H76=\"\",\"\",'INTERMEDIATE RESULTS'!R16)","v":""},{"$f":"IF('Entry Information'!$H76=\"\",\"\",IF('INTERMEDIATE RESULTS'!S16=\"\",\"\",'INTERMEDIATE RESULTS'!S16))","v":""},"",{"$f":"IF('Entry Information'!$H76=\"\",\"\",IF('Entry Information'!V76=\"\",T15,T15-100))","v":""},"",{"$f":"IF($R15=\"\",\"\",(VLOOKUP($V$41,Worksheet!$A$11:$AE$41,V15+1,FALSE)))","v":""},{"$f":"IF('Entry Information'!$H76=\"\",\"\",'INTERMEDIATE RESULTS'!X16)","v":""},{"$f":"IF('Entry Information'!$H76=\"\",\"\",IF('INTERMEDIATE RESULTS'!Y16=\"\",\"\",'INTERMEDIATE RESULTS'!Y16))","v":""},"",{"$f":"IF('Entry Information'!$H76=\"\",\"\",IF('Entry Information'!X76=\"\",Z15,Z15-100))","v":""},"",{"$f":"IF($X15=\"\",\"\",(VLOOKUP($AB$41,Worksheet!$A$11:$AE$41,AB15+1,FALSE)))","v":""},{"$f":"IF('Entry Information'!$H76=\"\",\"\",'INTERMEDIATE RESULTS'!AD16)","v":""},{"$f":"IF('Entry Information'!$H76=\"\",\"\",IF('INTERMEDIATE RESULTS'!AE16=\"\",\"\",'INTERMEDIATE RESULTS'!AE16))","v":""},"",{"$f":"IF('Entry Information'!$H76=\"\",\"\",IF('Entry Information'!Z76=\"\",AF15,AF15-100))","v":""},"",{"$f":"IF($AD15=\"\",\"\",(VLOOKUP($AH$41,Worksheet!$A$11:$AE$41,AH15+1,FALSE)))","v":""}]
[{"$f":"IF('Entry Information'!H77=\"\",\"\",'Entry Information'!B77)","v":""},{"$f":"IF('Entry Information'!H77=\"\",\"\",'Entry Information'!C77)","v":""},{"$f":"IF('Entry Information'!H77=\"\",\"\",'Entry Information'!D77)","v":""},{"$f":"IF('Entry Information'!H77=\"\",\"\",'Entry Information'!E77)","v":""},"INT",{"$f":"IF('Entry Information'!$H77=\"\",\"\",'INTERMEDIATE RESULTS'!F17)","v":""},{"$f":"IF('Entry Information'!$H77=\"\",\"\",IF('INTERMEDIATE RESULTS'!G17=\"\",\"\",'INTERMEDIATE RESULTS'!G17))","v":""},"",{"$f":"IF('Entry Information'!$H77=\"\",\"\",IF('Entry Information'!R77=\"\",H16,H16-100))","v":""},"",{"$f":"IF($F16=\"\",\"\",(VLOOKUP($J$41,Worksheet!$A$11:$AE$41,J16+1,FALSE)))","v":""},{"$f":"IF('Entry Information'!$H77=\"\",\"\",'INTERMEDIATE RESULTS'!L17)","v":""},{"$f":"IF('Entry Information'!$H77=\"\",\"\",IF('INTERMEDIATE RESULTS'!M17=\"\",\"\",'INTERMEDIATE RESULTS'!M17))","v":""},"",{"$f":"IF('Entry Information'!$H77=\"\",\"\",IF('Entry Information'!T17=\"\",N16,N16-100))","v":""},"",{"$f":"IF($L16=\"\",\"\",(VLOOKUP($P$41,Worksheet!$A$11:$AE$41,P16+1,FALSE)))","v":""},{"$f":"IF('Entry Information'!$H77=\"\",\"\",'INTERMEDIATE RESULTS'!R17)","v":""},{"$f":"IF('Entry Information'!$H77=\"\",\"\",IF('INTERMEDIATE RESULTS'!S17=\"\",\"\",'INTERMEDIATE RESULTS'!S17))","v":""},"",{"$f":"IF('Entry Information'!$H77=\"\",\"\",IF('Entry Information'!V77=\"\",T16,T16-100))","v":""},"",{"$f":"IF($R16=\"\",\"\",(VLOOKUP($V$41,Worksheet!$A$11:$AE$41,V16+1,FALSE)))","v":""},{"$f":"IF('Entry Information'!$H77=\"\",\"\",'INTERMEDIATE RESULTS'!X17)","v":""},{"$f":"IF('Entry Information'!$H77=\"\",\"\",IF('INTERMEDIATE RESULTS'!Y17=\"\",\"\",'INTERMEDIATE RESULTS'!Y17))","v":""},"",{"$f":"IF('Entry Information'!$H77=\"\",\"\",IF('Entry Information'!X77=\"\",Z16,Z16-100))","v":""},"",{"$f":"IF($X16=\"\",\"\",(VLOOKUP($AB$41,Worksheet!$A$11:$AE$41,AB16+1,FALSE)))","v":""},{"$f":"IF('Entry Information'!$H77=\"\",\"\",'INTERMEDIATE RESULTS'!AD17)","v":""},{"$f":"IF('Entry Information'!$H77=\"\",\"\",IF('INTERMEDIATE RESULTS'!AE17=\"\",\"\",'INTERMEDIATE RESULTS'!AE17))","v":""},"",{"$f":"IF('Entry Information'!$H77=\"\",\"\",IF('Entry Information'!Z77=\"\",AF16,AF16-100))","v":""},"",{"$f":"IF($AD16=\"\",\"\",(VLOOKUP($AH$41,Worksheet!$A$11:$AE$41,AH16+1,FALSE)))","v":""}]
[{"$f":"IF('Entry Information'!H78=\"\",\"\",'Entry Information'!B78)","v":""},{"$f":"IF('Entry Information'!H78=\"\",\"\",'Entry Information'!C78)","v":""},{"$f":"IF('Entry Information'!H78=\"\",\"\",'Entry Information'!D78)","v":""},{"$f":"IF('Entry Information'!H78=\"\",\"\",'Entry Information'!E78)","v":""},"INT",{"$f":"IF('Entry Information'!$H78=\"\",\"\",'INTERMEDIATE RESULTS'!F18)","v":""},{"$f":"IF('Entry Information'!$H78=\"\",\"\",IF('INTERMEDIATE RESULTS'!G18=\"\",\"\",'INTERMEDIATE RESULTS'!G18))","v":""},"",{"$f":"IF('Entry Information'!$H78=\"\",\"\",IF('Entry Information'!R78=\"\",H17,H17-100))","v":""},"",{"$f":"IF($F17=\"\",\"\",(VLOOKUP($J$41,Worksheet!$A$11:$AE$41,J17+1,FALSE)))","v":""},{"$f":"IF('Entry Information'!$H78=\"\",\"\",'INTERMEDIATE RESULTS'!L18)","v":""},{"$f":"IF('Entry Information'!$H78=\"\",\"\",IF('INTERMEDIATE RESULTS'!M18=\"\",\"\",'INTERMEDIATE RESULTS'!M18))","v":""},"",{"$f":"IF('Entry Information'!$H78=\"\",\"\",IF('Entry Information'!T18=\"\",N17,N17-100))","v":""},"",{"$f":"IF($L17=\"\",\"\",(VLOOKUP($P$41,Worksheet!$A$11:$AE$41,P17+1,FALSE)))","v":""},{"$f":"IF('Entry Information'!$H78=\"\",\"\",'INTERMEDIATE RESULTS'!R18)","v":""},{"$f":"IF('Entry Information'!$H78=\"\",\"\",IF('INTERMEDIATE RESULTS'!S18=\"\",\"\",'INTERMEDIATE RESULTS'!S18))","v":""},"",{"$f":"IF('Entry Information'!$H78=\"\",\"\",IF('Entry Information'!V78=\"\",T17,T17-100))","v":""},"",{"$f":"IF($R17=\"\",\"\",(VLOOKUP($V$41,Worksheet!$A$11:$AE$41,V17+1,FALSE)))","v":""},{"$f":"IF('Entry Information'!$H78=\"\",\"\",'INTERMEDIATE RESULTS'!X18)","v":""},{"$f":"IF('Entry Information'!$H78=\"\",\"\",IF('INTERMEDIATE RESULTS'!Y18=\"\",\"\",'INTERMEDIATE RESULTS'!Y18))","v":""},"",{"$f":"IF('Entry Information'!$H78=\"\",\"\",IF('Entry Information'!X78=\"\",Z17,Z17-100))","v":""},"",{"$f":"IF($X17=\"\",\"\",(VLOOKUP($AB$41,Worksheet!$A$11:$AE$41,AB17+1,FALSE)))","v":""},{"$f":"IF('Entry Information'!$H78=\"\",\"\",'INTERMEDIATE RESULTS'!AD18)","v":""},{"$f":"IF('Entry Information'!$H78=\"\",\"\",IF('INTERMEDIATE RESULTS'!AE18=\"\",\"\",'INTERMEDIATE RESULTS'!AE18))","v":""},"",{"$f":"IF('Entry Information'!$H78=\"\",\"\",IF('Entry Information'!Z78=\"\",AF17,AF17-100))","v":""},"",{"$f":"IF($AD17=\"\",\"\",(VLOOKUP($AH$41,Worksheet!$A$11:$AE$41,AH17+1,FALSE)))","v":""}]
[{"$f":"IF('Entry Information'!H79=\"\",\"\",'Entry Information'!B79)","v":""},{"$f":"IF('Entry Information'!H79=\"\",\"\",'Entry Information'!C79)","v":""},{"$f":"IF('Entry Information'!H79=\"\",\"\",'Entry Information'!D79)","v":""},{"$f":"IF('Entry Information'!H79=\"\",\"\",'Entry Information'!E79)","v":""},"INT",{"$f":"IF('Entry Information'!$H79=\"\",\"\",'INTERMEDIATE RESULTS'!F19)","v":""},{"$f":"IF('Entry Information'!$H79=\"\",\"\",IF('INTERMEDIATE RESULTS'!G19=\"\",\"\",'INTERMEDIATE RESULTS'!G19))","v":""},"",{"$f":"IF('Entry Information'!$H79=\"\",\"\",IF('Entry Information'!R79=\"\",H18,H18-100))","v":""},"",{"$f":"IF($F18=\"\",\"\",(VLOOKUP($J$41,Worksheet!$A$11:$AE$41,J18+1,FALSE)))","v":""},{"$f":"IF('Entry Information'!$H79=\"\",\"\",'INTERMEDIATE RESULTS'!L19)","v":""},{"$f":"IF('Entry Information'!$H79=\"\",\"\",IF('INTERMEDIATE RESULTS'!M19=\"\",\"\",'INTERMEDIATE RESULTS'!M19))","v":""},"",{"$f":"IF('Entry Information'!$H79=\"\",\"\",IF('Entry Information'!T19=\"\",N18,N18-100))","v":""},"",{"$f":"IF($L18=\"\",\"\",(VLOOKUP($P$41,Worksheet!$A$11:$AE$41,P18+1,FALSE)))","v":""},{"$f":"IF('Entry Information'!$H79=\"\",\"\",'INTERMEDIATE RESULTS'!R19)","v":""},{"$f":"IF('Entry Information'!$H79=\"\",\"\",IF('INTERMEDIATE RESULTS'!S19=\"\",\"\",'INTERMEDIATE RESULTS'!S19))","v":""},"",{"$f":"IF('Entry Information'!$H79=\"\",\"\",IF('Entry Information'!V79=\"\",T18,T18-100))","v":""},"",{"$f":"IF($R18=\"\",\"\",(VLOOKUP($V$41,Worksheet!$A$11:$AE$41,V18+1,FALSE)))","v":""},{"$f":"IF('Entry Information'!$H79=\"\",\"\",'INTERMEDIATE RESULTS'!X19)","v":""},{"$f":"IF('Entry Information'!$H79=\"\",\"\",IF('INTERMEDIATE RESULTS'!Y19=\"\",\"\",'INTERMEDIATE RESULTS'!Y19))","v":""},"",{"$f":"IF('Entry Information'!$H79=\"\",\"\",IF('Entry Information'!X79=\"\",Z18,Z18-100))","v":""},"",{"$f":"IF($X18=\"\",\"\",(VLOOKUP($AB$41,Worksheet!$A$11:$AE$41,AB18+1,FALSE)))","v":""},{"$f":"IF('Entry Information'!$H79=\"\",\"\",'INTERMEDIATE RESULTS'!AD19)","v":""},{"$f":"IF('Entry Information'!$H79=\"\",\"\",IF('INTERMEDIATE RESULTS'!AE19=\"\",\"\",'INTERMEDIATE RESULTS'!AE19))","v":""},"",{"$f":"IF('Entry Information'!$H79=\"\",\"\",IF('Entry Information'!Z79=\"\",AF18,AF18-100))","v":""},"",{"$f":"IF($AD18=\"\",\"\",(VLOOKUP($AH$41,Worksheet!$A$11:$AE$41,AH18+1,FALSE)))","v":""}]
[{"$f":"IF('Entry Information'!H80=\"\",\"\",'Entry Information'!B80)","v":""},{"$f":"IF('Entry Information'!H80=\"\",\"\",'Entry Information'!C80)","v":""},{"$f":"IF('Entry Information'!H80=\"\",\"\",'Entry Information'!D80)","v":""},{"$f":"IF('Entry Information'!H80=\"\",\"\",'Entry Information'!E80)","v":""},"INT",{"$f":"IF('Entry Information'!$H80=\"\",\"\",'INTERMEDIATE RESULTS'!F20)","v":""},{"$f":"IF('Entry Information'!$H80=\"\",\"\",IF('INTERMEDIATE RESULTS'!G20=\"\",\"\",'INTERMEDIATE RESULTS'!G20))","v":""},"",{"$f":"IF('Entry Information'!$H80=\"\",\"\",IF('Entry Information'!R80=\"\",H19,H19-100))","v":""},"",{"$f":"IF($F19=\"\",\"\",(VLOOKUP($J$41,Worksheet!$A$11:$AE$41,J19+1,FALSE)))","v":""},{"$f":"IF('Entry Information'!$H80=\"\",\"\",'INTERMEDIATE RESULTS'!L20)","v":""},{"$f":"IF('Entry Information'!$H80=\"\",\"\",IF('INTERMEDIATE RESULTS'!M20=\"\",\"\",'INTERMEDIATE RESULTS'!M20))","v":""},"",{"$f":"IF('Entry Information'!$H80=\"\",\"\",IF('Entry Information'!T20=\"\",N19,N19-100))","v":""},"",{"$f":"IF($L19=\"\",\"\",(VLOOKUP($P$41,Worksheet!$A$11:$AE$41,P19+1,FALSE)))","v":""},{"$f":"IF('Entry Information'!$H80=\"\",\"\",'INTERMEDIATE RESULTS'!R20)","v":""},{"$f":"IF('Entry Information'!$H80=\"\",\"\",IF('INTERMEDIATE RESULTS'!S20=\"\",\"\",'INTERMEDIATE RESULTS'!S20))","v":""},"",{"$f":"IF('Entry Information'!$H80=\"\",\"\",IF('Entry Information'!V80=\"\",T19,T19-100))","v":""},"",{"$f":"IF($R19=\"\",\"\",(VLOOKUP($V$41,Worksheet!$A$11:$AE$41,V19+1,FALSE)))","v":""},{"$f":"IF('Entry Information'!$H80=\"\",\"\",'INTERMEDIATE RESULTS'!X20)","v":""},{"$f":"IF('Entry Information'!$H80=\"\",\"\",IF('INTERMEDIATE RESULTS'!Y20=\"\",\"\",'INTERMEDIATE RESULTS'!Y20))","v":""},"",{"$f":"IF('Entry Information'!$H80=\"\",\"\",IF('Entry Information'!X80=\"\",Z19,Z19-100))","v":""},"",{"$f":"IF($X19=\"\",\"\",(VLOOKUP($AB$41,Worksheet!$A$11:$AE$41,AB19+1,FALSE)))","v":""},{"$f":"IF('Entry Information'!$H80=\"\",\"\",'INTERMEDIATE RESULTS'!AD20)","v":""},{"$f":"IF('Entry Information'!$H80=\"\",\"\",IF('INTERMEDIATE RESULTS'!AE20=\"\",\"\",'INTERMEDIATE RESULTS'!AE20))","v":""},"",{"$f":"IF('Entry Information'!$H80=\"\",\"\",IF('Entry Information'!Z80=\"\",AF19,AF19-100))","v":""},"",{"$f":"IF($AD19=\"\",\"\",(VLOOKUP($AH$41,Worksheet!$A$11:$AE$41,AH19+1,FALSE)))","v":""}]
[{"$f":"IF('Entry Information'!H81=\"\",\"\",'Entry Information'!B81)","v":""},{"$f":"IF('Entry Information'!H81=\"\",\"\",'Entry Information'!C81)","v":""},{"$f":"IF('Entry Information'!H81=\"\",\"\",'Entry Information'!D81)","v":""},{"$f":"IF('Entry Information'!H81=\"\",\"\",'Entry Information'!E81)","v":""},"INT",{"$f":"IF('Entry Information'!$H81=\"\",\"\",'INTERMEDIATE RESULTS'!F21)","v":""},{"$f":"IF('Entry Information'!$H81=\"\",\"\",IF('INTERMEDIATE RESULTS'!G21=\"\",\"\",'INTERMEDIATE RESULTS'!G21))","v":""},"",{"$f":"IF('Entry Information'!$H81=\"\",\"\",IF('Entry Information'!R81=\"\",H20,H20-100))","v":""},"",{"$f":"IF($F20=\"\",\"\",(VLOOKUP($J$41,Worksheet!$A$11:$AE$41,J20+1,FALSE)))","v":""},{"$f":"IF('Entry Information'!$H81=\"\",\"\",'INTERMEDIATE RESULTS'!L21)","v":""},{"$f":"IF('Entry Information'!$H81=\"\",\"\",IF('INTERMEDIATE RESULTS'!M21=\"\",\"\",'INTERMEDIATE RESULTS'!M21))","v":""},"",{"$f":"IF('Entry Information'!$H81=\"\",\"\",IF('Entry Information'!T21=\"\",N20,N20-100))","v":""},"",{"$f":"IF($L20=\"\",\"\",(VLOOKUP($P$41,Worksheet!$A$11:$AE$41,P20+1,FALSE)))","v":""},{"$f":"IF('Entry Information'!$H81=\"\",\"\",'INTERMEDIATE RESULTS'!R21)","v":""},{"$f":"IF('Entry Information'!$H81=\"\",\"\",IF('INTERMEDIATE RESULTS'!S21=\"\",\"\",'INTERMEDIATE RESULTS'!S21))","v":""},"",{"$f":"IF('Entry Information'!$H81=\"\",\"\",IF('Entry Information'!V81=\"\",T20,T20-100))","v":""},"",{"$f":"IF($R20=\"\",\"\",(VLOOKUP($V$41,Worksheet!$A$11:$AE$41,V20+1,FALSE)))","v":""},{"$f":"IF('Entry Information'!$H81=\"\",\"\",'INTERMEDIATE RESULTS'!X21)","v":""},{"$f":"IF('Entry Information'!$H81=\"\",\"\",IF('INTERMEDIATE RESULTS'!Y21=\"\",\"\",'INTERMEDIATE RESULTS'!Y21))","v":""},"",{"$f":"IF('Entry Information'!$H81=\"\",\"\",IF('Entry Information'!X81=\"\",Z20,Z20-100))","v":""},"",{"$f":"IF($X20=\"\",\"\",(VLOOKUP($AB$41,Worksheet!$A$11:$AE$41,AB20+1,FALSE)))","v":""},{"$f":"IF('Entry Information'!$H81=\"\",\"\",'INTERMEDIATE RESULTS'!AD21)","v":""},{"$f":"IF('Entry Information'!$H81=\"\",\"\",IF('INTERMEDIATE RESULTS'!AE21=\"\",\"\",'INTERMEDIATE RESULTS'!AE21))","v":""},"",{"$f":"IF('Entry Information'!$H81=\"\",\"\",IF('Entry Information'!Z81=\"\",AF20,AF20-100))","v":""},"",{"$f":"IF($AD20=\"\",\"\",(VLOOKUP($AH$41,Worksheet!$A$11:$AE$41,AH20+1,FALSE)))","v":""}]
[{"$f":"IF('Entry Information'!H82=\"\",\"\",'Entry Information'!B82)","v":""},{"$f":"IF('Entry Information'!H82=\"\",\"\",'Entry Information'!C82)","v":""},{"$f":"IF('Entry Information'!H82=\"\",\"\",'Entry Information'!D82)","v":""},{"$f":"IF('Entry Information'!H82=\"\",\"\",'Entry Information'!E82)","v":""},"INT",{"$f":"IF('Entry Information'!$H82=\"\",\"\",'INTERMEDIATE RESULTS'!F22)","v":""},{"$f":"IF('Entry Information'!$H82=\"\",\"\",IF('INTERMEDIATE RESULTS'!G22=\"\",\"\",'INTERMEDIATE RESULTS'!G22))","v":""},"",{"$f":"IF('Entry Information'!$H82=\"\",\"\",IF('Entry Information'!R82=\"\",H21,H21-100))","v":""},"",{"$f":"IF($F21=\"\",\"\",(VLOOKUP($J$41,Worksheet!$A$11:$AE$41,J21+1,FALSE)))","v":""},{"$f":"IF('Entry Information'!$H82=\"\",\"\",'INTERMEDIATE RESULTS'!L22)","v":""},{"$f":"IF('Entry Information'!$H82=\"\",\"\",IF('INTERMEDIATE RESULTS'!M22=\"\",\"\",'INTERMEDIATE RESULTS'!M22))","v":""},"",{"$f":"IF('Entry Information'!$H82=\"\",\"\",IF('Entry Information'!T22=\"\",N21,N21-100))","v":""},"",{"$f":"IF($L21=\"\",\"\",(VLOOKUP($P$41,Worksheet!$A$11:$AE$41,P21+1,FALSE)))","v":""},{"$f":"IF('Entry Information'!$H82=\"\",\"\",'INTERMEDIATE RESULTS'!R22)","v":""},{"$f":"IF('Entry Information'!$H82=\"\",\"\",IF('INTERMEDIATE RESULTS'!S22=\"\",\"\",'INTERMEDIATE RESULTS'!S22))","v":""},"",{"$f":"IF('Entry Information'!$H82=\"\",\"\",IF('Entry Information'!V82=\"\",T21,T21-100))","v":""},"",{"$f":"IF($R21=\"\",\"\",(VLOOKUP($V$41,Worksheet!$A$11:$AE$41,V21+1,FALSE)))","v":""},{"$f":"IF('Entry Information'!$H82=\"\",\"\",'INTERMEDIATE RESULTS'!X22)","v":""},{"$f":"IF('Entry Information'!$H82=\"\",\"\",IF('INTERMEDIATE RESULTS'!Y22=\"\",\"\",'INTERMEDIATE RESULTS'!Y22))","v":""},"",{"$f":"IF('Entry Information'!$H82=\"\",\"\",IF('Entry Information'!X82=\"\",Z21,Z21-100))","v":""},"",{"$f":"IF($X21=\"\",\"\",(VLOOKUP($AB$41,Worksheet!$A$11:$AE$41,AB21+1,FALSE)))","v":""},{"$f":"IF('Entry Information'!$H82=\"\",\"\",'INTERMEDIATE RESULTS'!AD22)","v":""},{"$f":"IF('Entry Information'!$H82=\"\",\"\",IF('INTERMEDIATE RESULTS'!AE22=\"\",\"\",'INTERMEDIATE RESULTS'!AE22))","v":""},"",{"$f":"IF('Entry Information'!$H82=\"\",\"\",IF('Entry Information'!Z82=\"\",AF21,AF21-100))","v":""},"",{"$f":"IF($AD21=\"\",\"\",(VLOOKUP($AH$41,Worksheet!$A$11:$AE$41,AH21+1,FALSE)))","v":""}]
[{"$f":"IF('Entry Information'!H83=\"\",\"\",'Entry Information'!B83)","v":""},{"$f":"IF('Entry Information'!H83=\"\",\"\",'Entry Information'!C83)","v":""},{"$f":"IF('Entry Information'!H83=\"\",\"\",'Entry Information'!D83)","v":""},{"$f":"IF('Entry Information'!H83=\"\",\"\",'Entry Information'!E83)","v":""},"INT",{"$f":"IF('Entry Information'!$H83=\"\",\"\",'INTERMEDIATE RESULTS'!F23)","v":""},{"$f":"IF('Entry Information'!$H83=\"\",\"\",IF('INTERMEDIATE RESULTS'!G23=\"\",\"\",'INTERMEDIATE RESULTS'!G23))","v":""},"",{"$f":"IF('Entry Information'!$H83=\"\",\"\",IF('Entry Information'!R83=\"\",H22,H22-100))","v":""},"",{"$f":"IF($F22=\"\",\"\",(VLOOKUP($J$41,Worksheet!$A$11:$AE$41,J22+1,FALSE)))","v":""},{"$f":"IF('Entry Information'!$H83=\"\",\"\",'INTERMEDIATE RESULTS'!L23)","v":""},{"$f":"IF('Entry Information'!$H83=\"\",\"\",IF('INTERMEDIATE RESULTS'!M23=\"\",\"\",'INTERMEDIATE RESULTS'!M23))","v":""},"",{"$f":"IF('Entry Information'!$H83=\"\",\"\",IF('Entry Information'!T23=\"\",N22,N22-100))","v":""},"",{"$f":"IF($L22=\"\",\"\",(VLOOKUP($P$41,Worksheet!$A$11:$AE$41,P22+1,FALSE)))","v":""},{"$f":"IF('Entry Information'!$H83=\"\",\"\",'INTERMEDIATE RESULTS'!R23)","v":""},{"$f":"IF('Entry Information'!$H83=\"\",\"\",IF('INTERMEDIATE RESULTS'!S23=\"\",\"\",'INTERMEDIATE RESULTS'!S23))","v":""},"",{"$f":"IF('Entry Information'!$H83=\"\",\"\",IF('Entry Information'!V83=\"\",T22,T22-100))","v":""},"",{"$f":"IF($R22=\"\",\"\",(VLOOKUP($V$41,Worksheet!$A$11:$AE$41,V22+1,FALSE)))","v":""},{"$f":"IF('Entry Information'!$H83=\"\",\"\",'INTERMEDIATE RESULTS'!X23)","v":""},{"$f":"IF('Entry Information'!$H83=\"\",\"\",IF('INTERMEDIATE RESULTS'!Y23=\"\",\"\",'INTERMEDIATE RESULTS'!Y23))","v":""},"",{"$f":"IF('Entry Information'!$H83=\"\",\"\",IF('Entry Information'!X83=\"\",Z22,Z22-100))","v":""},"",{"$f":"IF($X22=\"\",\"\",(VLOOKUP($AB$41,Worksheet!$A$11:$AE$41,AB22+1,FALSE)))","v":""},{"$f":"IF('Entry Information'!$H83=\"\",\"\",'INTERMEDIATE RESULTS'!AD23)","v":""},{"$f":"IF('Entry Information'!$H83=\"\",\"\",IF('INTERMEDIATE RESULTS'!AE23=\"\",\"\",'INTERMEDIATE RESULTS'!AE23))","v":""},"",{"$f":"IF('Entry Information'!$H83=\"\",\"\",IF('Entry Information'!Z83=\"\",AF22,AF22-100))","v":""},"",{"$f":"IF($AD22=\"\",\"\",(VLOOKUP($AH$41,Worksheet!$A$11:$AE$41,AH22+1,FALSE)))","v":""}]
[{"$f":"IF('Entry Information'!H84=\"\",\"\",'Entry Information'!B84)","v":""},{"$f":"IF('Entry Information'!H84=\"\",\"\",'Entry Information'!C84)","v":""},{"$f":"IF('Entry Information'!H84=\"\",\"\",'Entry Information'!D84)","v":""},{"$f":"IF('Entry Information'!H84=\"\",\"\",'Entry Information'!E84)","v":""},"INT",{"$f":"IF('Entry Information'!$H84=\"\",\"\",'INTERMEDIATE RESULTS'!F24)","v":""},{"$f":"IF('Entry Information'!$H84=\"\",\"\",IF('INTERMEDIATE RESULTS'!G24=\"\",\"\",'INTERMEDIATE RESULTS'!G24))","v":""},"",{"$f":"IF('Entry Information'!$H84=\"\",\"\",IF('Entry Information'!R84=\"\",H23,H23-100))","v":""},"",{"$f":"IF($F23=\"\",\"\",(VLOOKUP($J$41,Worksheet!$A$11:$AE$41,J23+1,FALSE)))","v":""},{"$f":"IF('Entry Information'!$H84=\"\",\"\",'INTERMEDIATE RESULTS'!L24)","v":""},{"$f":"IF('Entry Information'!$H84=\"\",\"\",IF('INTERMEDIATE RESULTS'!M24=\"\",\"\",'INTERMEDIATE RESULTS'!M24))","v":""},"",{"$f":"IF('Entry Information'!$H84=\"\",\"\",IF('Entry Information'!T24=\"\",N23,N23-100))","v":""},"",{"$f":"IF($L23=\"\",\"\",(VLOOKUP($P$41,Worksheet!$A$11:$AE$41,P23+1,FALSE)))","v":""},{"$f":"IF('Entry Information'!$H84=\"\",\"\",'INTERMEDIATE RESULTS'!R24)","v":""},{"$f":"IF('Entry Information'!$H84=\"\",\"\",IF('INTERMEDIATE RESULTS'!S24=\"\",\"\",'INTERMEDIATE RESULTS'!S24))","v":""},"",{"$f":"IF('Entry Information'!$H84=\"\",\"\",IF('Entry Information'!V84=\"\",T23,T23-100))","v":""},"",{"$f":"IF($R23=\"\",\"\",(VLOOKUP($V$41,Worksheet!$A$11:$AE$41,V23+1,FALSE)))","v":""},{"$f":"IF('Entry Information'!$H84=\"\",\"\",'INTERMEDIATE RESULTS'!X24)","v":""},{"$f":"IF('Entry Information'!$H84=\"\",\"\",IF('INTERMEDIATE RESULTS'!Y24=\"\",\"\",'INTERMEDIATE RESULTS'!Y24))","v":""},"",{"$f":"IF('Entry Information'!$H84=\"\",\"\",IF('Entry Information'!X84=\"\",Z23,Z23-100))","v":""},"",{"$f":"IF($X23=\"\",\"\",(VLOOKUP($AB$41,Worksheet!$A$11:$AE$41,AB23+1,FALSE)))","v":""},{"$f":"IF('Entry Information'!$H84=\"\",\"\",'INTERMEDIATE RESULTS'!AD24)","v":""},{"$f":"IF('Entry Information'!$H84=\"\",\"\",IF('INTERMEDIATE RESULTS'!AE24=\"\",\"\",'INTERMEDIATE RESULTS'!AE24))","v":""},"",{"$f":"IF('Entry Information'!$H84=\"\",\"\",IF('Entry Information'!Z84=\"\",AF23,AF23-100))","v":""},"",{"$f":"IF($AD23=\"\",\"\",(VLOOKUP($AH$41,Worksheet!$A$11:$AE$41,AH23+1,FALSE)))","v":""}]
[{"$f":"IF('Entry Information'!H85=\"\",\"\",'Entry Information'!B85)","v":""},{"$f":"IF('Entry Information'!H85=\"\",\"\",'Entry Information'!C85)","v":""},{"$f":"IF('Entry Information'!H85=\"\",\"\",'Entry Information'!D85)","v":""},{"$f":"IF('Entry Information'!H85=\"\",\"\",'Entry Information'!E85)","v":""},"INT",{"$f":"IF('Entry Information'!$H85=\"\",\"\",'INTERMEDIATE RESULTS'!F25)","v":""},{"$f":"IF('Entry Information'!$H85=\"\",\"\",IF('INTERMEDIATE RESULTS'!G25=\"\",\"\",'INTERMEDIATE RESULTS'!G25))","v":""},"",{"$f":"IF('Entry Information'!$H85=\"\",\"\",IF('Entry Information'!R85=\"\",H24,H24-100))","v":""},"",{"$f":"IF($F24=\"\",\"\",(VLOOKUP($J$41,Worksheet!$A$11:$AE$41,J24+1,FALSE)))","v":""},{"$f":"IF('Entry Information'!$H85=\"\",\"\",'INTERMEDIATE RESULTS'!L25)","v":""},{"$f":"IF('Entry Information'!$H85=\"\",\"\",IF('INTERMEDIATE RESULTS'!M25=\"\",\"\",'INTERMEDIATE RESULTS'!M25))","v":""},"",{"$f":"IF('Entry Information'!$H85=\"\",\"\",IF('Entry Information'!T25=\"\",N24,N24-100))","v":""},"",{"$f":"IF($L24=\"\",\"\",(VLOOKUP($P$41,Worksheet!$A$11:$AE$41,P24+1,FALSE)))","v":""},{"$f":"IF('Entry Information'!$H85=\"\",\"\",'INTERMEDIATE RESULTS'!R25)","v":""},{"$f":"IF('Entry Information'!$H85=\"\",\"\",IF('INTERMEDIATE RESULTS'!S25=\"\",\"\",'INTERMEDIATE RESULTS'!S25))","v":""},"",{"$f":"IF('Entry Information'!$H85=\"\",\"\",IF('Entry Information'!V85=\"\",T24,T24-100))","v":""},"",{"$f":"IF($R24=\"\",\"\",(VLOOKUP($V$41,Worksheet!$A$11:$AE$41,V24+1,FALSE)))","v":""},{"$f":"IF('Entry Information'!$H85=\"\",\"\",'INTERMEDIATE RESULTS'!X25)","v":""},{"$f":"IF('Entry Information'!$H85=\"\",\"\",IF('INTERMEDIATE RESULTS'!Y25=\"\",\"\",'INTERMEDIATE RESULTS'!Y25))","v":""},"",{"$f":"IF('Entry Information'!$H85=\"\",\"\",IF('Entry Information'!X85=\"\",Z24,Z24-100))","v":""},"",{"$f":"IF($X24=\"\",\"\",(VLOOKUP($AB$41,Worksheet!$A$11:$AE$41,AB24+1,FALSE)))","v":""},{"$f":"IF('Entry Information'!$H85=\"\",\"\",'INTERMEDIATE RESULTS'!AD25)","v":""},{"$f":"IF('Entry Information'!$H85=\"\",\"\",IF('INTERMEDIATE RESULTS'!AE25=\"\",\"\",'INTERMEDIATE RESULTS'!AE25))","v":""},"",{"$f":"IF('Entry Information'!$H85=\"\",\"\",IF('Entry Information'!Z85=\"\",AF24,AF24-100))","v":""},"",{"$f":"IF($AD24=\"\",\"\",(VLOOKUP($AH$41,Worksheet!$A$11:$AE$41,AH24+1,FALSE)))","v":""}]
[{"$f":"IF('Entry Information'!H86=\"\",\"\",'Entry Information'!B86)","v":""},{"$f":"IF('Entry Information'!H86=\"\",\"\",'Entry Information'!C86)","v":""},{"$f":"IF('Entry Information'!H86=\"\",\"\",'Entry Information'!D86)","v":""},{"$f":"IF('Entry Information'!H86=\"\",\"\",'Entry Information'!E86)","v":""},"INT",{"$f":"IF('Entry Information'!$H86=\"\",\"\",'INTERMEDIATE RESULTS'!F26)","v":""},{"$f":"IF('Entry Information'!$H86=\"\",\"\",IF('INTERMEDIATE RESULTS'!G26=\"\",\"\",'INTERMEDIATE RESULTS'!G26))","v":""},"",{"$f":"IF('Entry Information'!$H86=\"\",\"\",IF('Entry Information'!R86=\"\",H25,H25-100))","v":""},"",{"$f":"IF($F25=\"\",\"\",(VLOOKUP($J$41,Worksheet!$A$11:$AE$41,J25+1,FALSE)))","v":""},{"$f":"IF('Entry Information'!$H86=\"\",\"\",'INTERMEDIATE RESULTS'!L26)","v":""},{"$f":"IF('Entry Information'!$H86=\"\",\"\",IF('INTERMEDIATE RESULTS'!M26=\"\",\"\",'INTERMEDIATE RESULTS'!M26))","v":""},"",{"$f":"IF('Entry Information'!$H86=\"\",\"\",IF('Entry Information'!T26=\"\",N25,N25-100))","v":""},"",{"$f":"IF($L25=\"\",\"\",(VLOOKUP($P$41,Worksheet!$A$11:$AE$41,P25+1,FALSE)))","v":""},{"$f":"IF('Entry Information'!$H86=\"\",\"\",'INTERMEDIATE RESULTS'!R26)","v":""},{"$f":"IF('Entry Information'!$H86=\"\",\"\",IF('INTERMEDIATE RESULTS'!S26=\"\",\"\",'INTERMEDIATE RESULTS'!S26))","v":""},"",{"$f":"IF('Entry Information'!$H86=\"\",\"\",IF('Entry Information'!V86=\"\",T25,T25-100))","v":""},"",{"$f":"IF($R25=\"\",\"\",(VLOOKUP($V$41,Worksheet!$A$11:$AE$41,V25+1,FALSE)))","v":""},{"$f":"IF('Entry Information'!$H86=\"\",\"\",'INTERMEDIATE RESULTS'!X26)","v":""},{"$f":"IF('Entry Information'!$H86=\"\",\"\",IF('INTERMEDIATE RESULTS'!Y26=\"\",\"\",'INTERMEDIATE RESULTS'!Y26))","v":""},"",{"$f":"IF('Entry Information'!$H86=\"\",\"\",IF('Entry Information'!X86=\"\",Z25,Z25-100))","v":""},"",{"$f":"IF($X25=\"\",\"\",(VLOOKUP($AB$41,Worksheet!$A$11:$AE$41,AB25+1,FALSE)))","v":""},{"$f":"IF('Entry Information'!$H86=\"\",\"\",'INTERMEDIATE RESULTS'!AD26)","v":""},{"$f":"IF('Entry Information'!$H86=\"\",\"\",IF('INTERMEDIATE RESULTS'!AE26=\"\",\"\",'INTERMEDIATE RESULTS'!AE26))","v":""},"",{"$f":"IF('Entry Information'!$H86=\"\",\"\",IF('Entry Information'!Z86=\"\",AF25,AF25-100))","v":""},"",{"$f":"IF($AD25=\"\",\"\",(VLOOKUP($AH$41,Worksheet!$A$11:$AE$41,AH25+1,FALSE)))","v":""}]
[{"$f":"IF('Entry Information'!H87=\"\",\"\",'Entry Information'!B87)","v":""},{"$f":"IF('Entry Information'!H87=\"\",\"\",'Entry Information'!C87)","v":""},{"$f":"IF('Entry Information'!H87=\"\",\"\",'Entry Information'!D87)","v":""},{"$f":"IF('Entry Information'!H87=\"\",\"\",'Entry Information'!E87)","v":""},"INT",{"$f":"IF('Entry Information'!$H87=\"\",\"\",'INTERMEDIATE RESULTS'!F27)","v":""},{"$f":"IF('Entry Information'!$H87=\"\",\"\",IF('INTERMEDIATE RESULTS'!G27=\"\",\"\",'INTERMEDIATE RESULTS'!G27))","v":""},"",{"$f":"IF('Entry Information'!$H87=\"\",\"\",IF('Entry Information'!R87=\"\",H26,H26-100))","v":""},"",{"$f":"IF($F26=\"\",\"\",(VLOOKUP($J$41,Worksheet!$A$11:$AE$41,J26+1,FALSE)))","v":""},{"$f":"IF('Entry Information'!$H87=\"\",\"\",'INTERMEDIATE RESULTS'!L27)","v":""},{"$f":"IF('Entry Information'!$H87=\"\",\"\",IF('INTERMEDIATE RESULTS'!M27=\"\",\"\",'INTERMEDIATE RESULTS'!M27))","v":""},"",{"$f":"IF('Entry Information'!$H87=\"\",\"\",IF('Entry Information'!T27=\"\",N26,N26-100))","v":""},"",{"$f":"IF($L26=\"\",\"\",(VLOOKUP($P$41,Worksheet!$A$11:$AE$41,P26+1,FALSE)))","v":""},{"$f":"IF('Entry Information'!$H87=\"\",\"\",'INTERMEDIATE RESULTS'!R27)","v":""},{"$f":"IF('Entry Information'!$H87=\"\",\"\",IF('INTERMEDIATE RESULTS'!S27=\"\",\"\",'INTERMEDIATE RESULTS'!S27))","v":""},"",{"$f":"IF('Entry Information'!$H87=\"\",\"\",IF('Entry Information'!V87=\"\",T26,T26-100))","v":""},"",{"$f":"IF($R26=\"\",\"\",(VLOOKUP($V$41,Worksheet!$A$11:$AE$41,V26+1,FALSE)))","v":""},{"$f":"IF('Entry Information'!$H87=\"\",\"\",'INTERMEDIATE RESULTS'!X27)","v":""},{"$f":"IF('Entry Information'!$H87=\"\",\"\",IF('INTERMEDIATE RESULTS'!Y27=\"\",\"\",'INTERMEDIATE RESULTS'!Y27))","v":""},"",{"$f":"IF('Entry Information'!$H87=\"\",\"\",IF('Entry Information'!X87=\"\",Z26,Z26-100))","v":""},"",{"$f":"IF($X26=\"\",\"\",(VLOOKUP($AB$41,Worksheet!$A$11:$AE$41,AB26+1,FALSE)))","v":""},{"$f":"IF('Entry Information'!$H87=\"\",\"\",'INTERMEDIATE RESULTS'!AD27)","v":""},{"$f":"IF('Entry Information'!$H87=\"\",\"\",IF('INTERMEDIATE RESULTS'!AE27=\"\",\"\",'INTERMEDIATE RESULTS'!AE27))","v":""},"",{"$f":"IF('Entry Information'!$H87=\"\",\"\",IF('Entry Information'!Z87=\"\",AF26,AF26-100))","v":""},"",{"$f":"IF($AD26=\"\",\"\",(VLOOKUP($AH$41,Worksheet!$A$11:$AE$41,AH26+1,FALSE)))","v":""}]
[{"$f":"IF('Entry Information'!H88=\"\",\"\",'Entry Information'!B88)","v":""},{"$f":"IF('Entry Information'!H88=\"\",\"\",'Entry Information'!C88)","v":""},{"$f":"IF('Entry Information'!H88=\"\",\"\",'Entry Information'!D88)","v":""},{"$f":"IF('Entry Information'!H88=\"\",\"\",'Entry Information'!E88)","v":""},"INT",{"$f":"IF('Entry Information'!$H88=\"\",\"\",'INTERMEDIATE RESULTS'!F28)","v":""},{"$f":"IF('Entry Information'!$H88=\"\",\"\",IF('INTERMEDIATE RESULTS'!G28=\"\",\"\",'INTERMEDIATE RESULTS'!G28))","v":""},"",{"$f":"IF('Entry Information'!$H88=\"\",\"\",IF('Entry Information'!R88=\"\",H27,H27-100))","v":""},"",{"$f":"IF($F27=\"\",\"\",(VLOOKUP($J$41,Worksheet!$A$11:$AE$41,J27+1,FALSE)))","v":""},{"$f":"IF('Entry Information'!$H88=\"\",\"\",'INTERMEDIATE RESULTS'!L28)","v":""},{"$f":"IF('Entry Information'!$H88=\"\",\"\",IF('INTERMEDIATE RESULTS'!M28=\"\",\"\",'INTERMEDIATE RESULTS'!M28))","v":""},"",{"$f":"IF('Entry Information'!$H88=\"\",\"\",IF('Entry Information'!T28=\"\",N27,N27-100))","v":""},"",{"$f":"IF($L27=\"\",\"\",(VLOOKUP($P$41,Worksheet!$A$11:$AE$41,P27+1,FALSE)))","v":""},{"$f":"IF('Entry Information'!$H88=\"\",\"\",'INTERMEDIATE RESULTS'!R28)","v":""},{"$f":"IF('Entry Information'!$H88=\"\",\"\",IF('INTERMEDIATE RESULTS'!S28=\"\",\"\",'INTERMEDIATE RESULTS'!S28))","v":""},"",{"$f":"IF('Entry Information'!$H88=\"\",\"\",IF('Entry Information'!V88=\"\",T27,T27-100))","v":""},"",{"$f":"IF($R27=\"\",\"\",(VLOOKUP($V$41,Worksheet!$A$11:$AE$41,V27+1,FALSE)))","v":""},{"$f":"IF('Entry Information'!$H88=\"\",\"\",'INTERMEDIATE RESULTS'!X28)","v":""},{"$f":"IF('Entry Information'!$H88=\"\",\"\",IF('INTERMEDIATE RESULTS'!Y28=\"\",\"\",'INTERMEDIATE RESULTS'!Y28))","v":""},"",{"$f":"IF('Entry Information'!$H88=\"\",\"\",IF('Entry Information'!X88=\"\",Z27,Z27-100))","v":""},"",{"$f":"IF($X27=\"\",\"\",(VLOOKUP($AB$41,Worksheet!$A$11:$AE$41,AB27+1,FALSE)))","v":""},{"$f":"IF('Entry Information'!$H88=\"\",\"\",'INTERMEDIATE RESULTS'!AD28)","v":""},{"$f":"IF('Entry Information'!$H88=\"\",\"\",IF('INTERMEDIATE RESULTS'!AE28=\"\",\"\",'INTERMEDIATE RESULTS'!AE28))","v":""},"",{"$f":"IF('Entry Information'!$H88=\"\",\"\",IF('Entry Information'!Z88=\"\",AF27,AF27-100))","v":""},"",{"$f":"IF($AD27=\"\",\"\",(VLOOKUP($AH$41,Worksheet!$A$11:$AE$41,AH27+1,FALSE)))","v":""}]
[{"$f":"IF('Entry Information'!H89=\"\",\"\",'Entry Information'!B89)","v":""},{"$f":"IF('Entry Information'!H89=\"\",\"\",'Entry Information'!C89)","v":""},{"$f":"IF('Entry Information'!H89=\"\",\"\",'Entry Information'!D89)","v":""},{"$f":"IF('Entry Information'!H89=\"\",\"\",'Entry Information'!E89)","v":""},"INT",{"$f":"IF('Entry Information'!$H89=\"\",\"\",'INTERMEDIATE RESULTS'!F29)","v":""},{"$f":"IF('Entry Information'!$H89=\"\",\"\",IF('INTERMEDIATE RESULTS'!G29=\"\",\"\",'INTERMEDIATE RESULTS'!G29))","v":""},"",{"$f":"IF('Entry Information'!$H89=\"\",\"\",IF('Entry Information'!R89=\"\",H28,H28-100))","v":""},"",{"$f":"IF($F28=\"\",\"\",(VLOOKUP($J$41,Worksheet!$A$11:$AE$41,J28+1,FALSE)))","v":""},{"$f":"IF('Entry Information'!$H89=\"\",\"\",'INTERMEDIATE RESULTS'!L29)","v":""},{"$f":"IF('Entry Information'!$H89=\"\",\"\",IF('INTERMEDIATE RESULTS'!M29=\"\",\"\",'INTERMEDIATE RESULTS'!M29))","v":""},"",{"$f":"IF('Entry Information'!$H89=\"\",\"\",IF('Entry Information'!T29=\"\",N28,N28-100))","v":""},"",{"$f":"IF($L28=\"\",\"\",(VLOOKUP($P$41,Worksheet!$A$11:$AE$41,P28+1,FALSE)))","v":""},{"$f":"IF('Entry Information'!$H89=\"\",\"\",'INTERMEDIATE RESULTS'!R29)","v":""},{"$f":"IF('Entry Information'!$H89=\"\",\"\",IF('INTERMEDIATE RESULTS'!S29=\"\",\"\",'INTERMEDIATE RESULTS'!S29))","v":""},"",{"$f":"IF('Entry Information'!$H89=\"\",\"\",IF('Entry Information'!V89=\"\",T28,T28-100))","v":""},"",{"$f":"IF($R28=\"\",\"\",(VLOOKUP($V$41,Worksheet!$A$11:$AE$41,V28+1,FALSE)))","v":""},{"$f":"IF('Entry Information'!$H89=\"\",\"\",'INTERMEDIATE RESULTS'!X29)","v":""},{"$f":"IF('Entry Information'!$H89=\"\",\"\",IF('INTERMEDIATE RESULTS'!Y29=\"\",\"\",'INTERMEDIATE RESULTS'!Y29))","v":""},"",{"$f":"IF('Entry Information'!$H89=\"\",\"\",IF('Entry Information'!X89=\"\",Z28,Z28-100))","v":""},"",{"$f":"IF($X28=\"\",\"\",(VLOOKUP($AB$41,Worksheet!$A$11:$AE$41,AB28+1,FALSE)))","v":""},{"$f":"IF('Entry Information'!$H89=\"\",\"\",'INTERMEDIATE RESULTS'!AD29)","v":""},{"$f":"IF('Entry Information'!$H89=\"\",\"\",IF('INTERMEDIATE RESULTS'!AE29=\"\",\"\",'INTERMEDIATE RESULTS'!AE29))","v":""},"",{"$f":"IF('Entry Information'!$H89=\"\",\"\",IF('Entry Information'!Z89=\"\",AF28,AF28-100))","v":""},"",{"$f":"IF($AD28=\"\",\"\",(VLOOKUP($AH$41,Worksheet!$A$11:$AE$41,AH28+1,FALSE)))","v":""}]
[{"$f":"IF('Entry Information'!H90=\"\",\"\",'Entry Information'!B90)","v":""},{"$f":"IF('Entry Information'!H90=\"\",\"\",'Entry Information'!C90)","v":""},{"$f":"IF('Entry Information'!H90=\"\",\"\",'Entry Information'!D90)","v":""},{"$f":"IF('Entry Information'!H90=\"\",\"\",'Entry Information'!E90)","v":""},"INT",{"$f":"IF('Entry Information'!$H90=\"\",\"\",'INTERMEDIATE RESULTS'!F30)","v":""},{"$f":"IF('Entry Information'!$H90=\"\",\"\",IF('INTERMEDIATE RESULTS'!G30=\"\",\"\",'INTERMEDIATE RESULTS'!G30))","v":""},"",{"$f":"IF('Entry Information'!$H90=\"\",\"\",IF('Entry Information'!R90=\"\",H29,H29-100))","v":""},"",{"$f":"IF($F29=\"\",\"\",(VLOOKUP($J$41,Worksheet!$A$11:$AE$41,J29+1,FALSE)))","v":""},{"$f":"IF('Entry Information'!$H90=\"\",\"\",'INTERMEDIATE RESULTS'!L30)","v":""},{"$f":"IF('Entry Information'!$H90=\"\",\"\",IF('INTERMEDIATE RESULTS'!M30=\"\",\"\",'INTERMEDIATE RESULTS'!M30))","v":""},"",{"$f":"IF('Entry Information'!$H90=\"\",\"\",IF('Entry Information'!T30=\"\",N29,N29-100))","v":""},"",{"$f":"IF($L29=\"\",\"\",(VLOOKUP($P$41,Worksheet!$A$11:$AE$41,P29+1,FALSE)))","v":""},{"$f":"IF('Entry Information'!$H90=\"\",\"\",'INTERMEDIATE RESULTS'!R30)","v":""},{"$f":"IF('Entry Information'!$H90=\"\",\"\",IF('INTERMEDIATE RESULTS'!S30=\"\",\"\",'INTERMEDIATE RESULTS'!S30))","v":""},"",{"$f":"IF('Entry Information'!$H90=\"\",\"\",IF('Entry Information'!V90=\"\",T29,T29-100))","v":""},"",{"$f":"IF($R29=\"\",\"\",(VLOOKUP($V$41,Worksheet!$A$11:$AE$41,V29+1,FALSE)))","v":""},{"$f":"IF('Entry Information'!$H90=\"\",\"\",'INTERMEDIATE RESULTS'!X30)","v":""},{"$f":"IF('Entry Information'!$H90=\"\",\"\",IF('INTERMEDIATE RESULTS'!Y30=\"\",\"\",'INTERMEDIATE RESULTS'!Y30))","v":""},"",{"$f":"IF('Entry Information'!$H90=\"\",\"\",IF('Entry Information'!X90=\"\",Z29,Z29-100))","v":""},"",{"$f":"IF($X29=\"\",\"\",(VLOOKUP($AB$41,Worksheet!$A$11:$AE$41,AB29+1,FALSE)))","v":""},{"$f":"IF('Entry Information'!$H90=\"\",\"\",'INTERMEDIATE RESULTS'!AD30)","v":""},{"$f":"IF('Entry Information'!$H90=\"\",\"\",IF('INTERMEDIATE RESULTS'!AE30=\"\",\"\",'INTERMEDIATE RESULTS'!AE30))","v":""},"",{"$f":"IF('Entry Information'!$H90=\"\",\"\",IF('Entry Information'!Z90=\"\",AF29,AF29-100))","v":""},"",{"$f":"IF($AD29=\"\",\"\",(VLOOKUP($AH$41,Worksheet!$A$11:$AE$41,AH29+1,FALSE)))","v":""}]
[{"$f":"IF('Entry Information'!H91=\"\",\"\",'Entry Information'!B91)","v":""},{"$f":"IF('Entry Information'!H91=\"\",\"\",'Entry Information'!C91)","v":""},{"$f":"IF('Entry Information'!H91=\"\",\"\",'Entry Information'!D91)","v":""},{"$f":"IF('Entry Information'!H91=\"\",\"\",'Entry Information'!E91)","v":""},"INT",{"$f":"IF('Entry Information'!$H91=\"\",\"\",'INTERMEDIATE RESULTS'!F31)","v":""},{"$f":"IF('Entry Information'!$H91=\"\",\"\",IF('INTERMEDIATE RESULTS'!G31=\"\",\"\",'INTERMEDIATE RESULTS'!G31))","v":""},"",{"$f":"IF('Entry Information'!$H91=\"\",\"\",IF('Entry Information'!R91=\"\",H30,H30-100))","v":""},"",{"$f":"IF($F30=\"\",\"\",(VLOOKUP($J$41,Worksheet!$A$11:$AE$41,J30+1,FALSE)))","v":""},{"$f":"IF('Entry Information'!$H91=\"\",\"\",'INTERMEDIATE RESULTS'!L31)","v":""},{"$f":"IF('Entry Information'!$H91=\"\",\"\",IF('INTERMEDIATE RESULTS'!M31=\"\",\"\",'INTERMEDIATE RESULTS'!M31))","v":""},"",{"$f":"IF('Entry Information'!$H91=\"\",\"\",IF('Entry Information'!T31=\"\",N30,N30-100))","v":""},"",{"$f":"IF($L30=\"\",\"\",(VLOOKUP($P$41,Worksheet!$A$11:$AE$41,P30+1,FALSE)))","v":""},{"$f":"IF('Entry Information'!$H91=\"\",\"\",'INTERMEDIATE RESULTS'!R31)","v":""},{"$f":"IF('Entry Information'!$H91=\"\",\"\",IF('INTERMEDIATE RESULTS'!S31=\"\",\"\",'INTERMEDIATE RESULTS'!S31))","v":""},"",{"$f":"IF('Entry Information'!$H91=\"\",\"\",IF('Entry Information'!V91=\"\",T30,T30-100))","v":""},"",{"$f":"IF($R30=\"\",\"\",(VLOOKUP($V$41,Worksheet!$A$11:$AE$41,V30+1,FALSE)))","v":""},{"$f":"IF('Entry Information'!$H91=\"\",\"\",'INTERMEDIATE RESULTS'!X31)","v":""},{"$f":"IF('Entry Information'!$H91=\"\",\"\",IF('INTERMEDIATE RESULTS'!Y31=\"\",\"\",'INTERMEDIATE RESULTS'!Y31))","v":""},"",{"$f":"IF('Entry Information'!$H91=\"\",\"\",IF('Entry Information'!X91=\"\",Z30,Z30-100))","v":""},"",{"$f":"IF($X30=\"\",\"\",(VLOOKUP($AB$41,Worksheet!$A$11:$AE$41,AB30+1,FALSE)))","v":""},{"$f":"IF('Entry Information'!$H91=\"\",\"\",'INTERMEDIATE RESULTS'!AD31)","v":""},{"$f":"IF('Entry Information'!$H91=\"\",\"\",IF('INTERMEDIATE RESULTS'!AE31=\"\",\"\",'INTERMEDIATE RESULTS'!AE31))","v":""},"",{"$f":"IF('Entry Information'!$H91=\"\",\"\",IF('Entry Information'!Z91=\"\",AF30,AF30-100))","v":""},"",{"$f":"IF($AD30=\"\",\"\",(VLOOKUP($AH$41,Worksheet!$A$11:$AE$41,AH30+1,FALSE)))","v":""}]
[{"$f":"IF('Entry Information'!H92=\"\",\"\",'Entry Information'!B92)","v":""},{"$f":"IF('Entry Information'!H92=\"\",\"\",'Entry Information'!C92)","v":""},{"$f":"IF('Entry Information'!H92=\"\",\"\",'Entry Information'!D92)","v":""},{"$f":"IF('Entry Information'!H92=\"\",\"\",'Entry Information'!E92)","v":""},"INT",{"$f":"IF('Entry Information'!$H92=\"\",\"\",'INTERMEDIATE RESULTS'!F32)","v":""},{"$f":"IF('Entry Information'!$H92=\"\",\"\",IF('INTERMEDIATE RESULTS'!G32=\"\",\"\",'INTERMEDIATE RESULTS'!G32))","v":""},"",{"$f":"IF('Entry Information'!$H92=\"\",\"\",IF('Entry Information'!R92=\"\",H31,H31-100))","v":""},"",{"$f":"IF($F31=\"\",\"\",(VLOOKUP($J$41,Worksheet!$A$11:$AE$41,J31+1,FALSE)))","v":""},{"$f":"IF('Entry Information'!$H92=\"\",\"\",'INTERMEDIATE RESULTS'!L32)","v":""},{"$f":"IF('Entry Information'!$H92=\"\",\"\",IF('INTERMEDIATE RESULTS'!M32=\"\",\"\",'INTERMEDIATE RESULTS'!M32))","v":""},"",{"$f":"IF('Entry Information'!$H92=\"\",\"\",IF('Entry Information'!T32=\"\",N31,N31-100))","v":""},"",{"$f":"IF($L31=\"\",\"\",(VLOOKUP($P$41,Worksheet!$A$11:$AE$41,P31+1,FALSE)))","v":""},{"$f":"IF('Entry Information'!$H92=\"\",\"\",'INTERMEDIATE RESULTS'!R32)","v":""},{"$f":"IF('Entry Information'!$H92=\"\",\"\",IF('INTERMEDIATE RESULTS'!S32=\"\",\"\",'INTERMEDIATE RESULTS'!S32))","v":""},"",{"$f":"IF('Entry Information'!$H92=\"\",\"\",IF('Entry Information'!V92=\"\",T31,T31-100))","v":""},"",{"$f":"IF($R31=\"\",\"\",(VLOOKUP($V$41,Worksheet!$A$11:$AE$41,V31+1,FALSE)))","v":""},{"$f":"IF('Entry Information'!$H92=\"\",\"\",'INTERMEDIATE RESULTS'!X32)","v":""},{"$f":"IF('Entry Information'!$H92=\"\",\"\",IF('INTERMEDIATE RESULTS'!Y32=\"\",\"\",'INTERMEDIATE RESULTS'!Y32))","v":""},"",{"$f":"IF('Entry Information'!$H92=\"\",\"\",IF('Entry Information'!X92=\"\",Z31,Z31-100))","v":""},"",{"$f":"IF($X31=\"\",\"\",(VLOOKUP($AB$41,Worksheet!$A$11:$AE$41,AB31+1,FALSE)))","v":""},{"$f":"IF('Entry Information'!$H92=\"\",\"\",'INTERMEDIATE RESULTS'!AD32)","v":""},{"$f":"IF('Entry Information'!$H92=\"\",\"\",IF('INTERMEDIATE RESULTS'!AE32=\"\",\"\",'INTERMEDIATE RESULTS'!AE32))","v":""},"",{"$f":"IF('Entry Information'!$H92=\"\",\"\",IF('Entry Information'!Z92=\"\",AF31,AF31-100))","v":""},"",{"$f":"IF($AD31=\"\",\"\",(VLOOKUP($AH$41,Worksheet!$A$11:$AE$41,AH31+1,FALSE)))","v":""}]
[{"$f":"IF('Entry Information'!H93=\"\",\"\",'Entry Information'!B93)","v":""},{"$f":"IF('Entry Information'!H93=\"\",\"\",'Entry Information'!C93)","v":""},{"$f":"IF('Entry Information'!H93=\"\",\"\",'Entry Information'!D93)","v":""},{"$f":"IF('Entry Information'!H93=\"\",\"\",'Entry Information'!E93)","v":""},"INT",{"$f":"IF('Entry Information'!$H93=\"\",\"\",'INTERMEDIATE RESULTS'!F33)","v":""},{"$f":"IF('Entry Information'!$H93=\"\",\"\",IF('INTERMEDIATE RESULTS'!G33=\"\",\"\",'INTERMEDIATE RESULTS'!G33))","v":""},"",{"$f":"IF('Entry Information'!$H93=\"\",\"\",IF('Entry Information'!R93=\"\",H32,H32-100))","v":""},"",{"$f":"IF($F32=\"\",\"\",(VLOOKUP($J$41,Worksheet!$A$11:$AE$41,J32+1,FALSE)))","v":""},{"$f":"IF('Entry Information'!$H93=\"\",\"\",'INTERMEDIATE RESULTS'!L33)","v":""},{"$f":"IF('Entry Information'!$H93=\"\",\"\",IF('INTERMEDIATE RESULTS'!M33=\"\",\"\",'INTERMEDIATE RESULTS'!M33))","v":""},"",{"$f":"IF('Entry Information'!$H93=\"\",\"\",IF('Entry Information'!T33=\"\",N32,N32-100))","v":""},"",{"$f":"IF($L32=\"\",\"\",(VLOOKUP($P$41,Worksheet!$A$11:$AE$41,P32+1,FALSE)))","v":""},{"$f":"IF('Entry Information'!$H93=\"\",\"\",'INTERMEDIATE RESULTS'!R33)","v":""},{"$f":"IF('Entry Information'!$H93=\"\",\"\",IF('INTERMEDIATE RESULTS'!S33=\"\",\"\",'INTERMEDIATE RESULTS'!S33))","v":""},"",{"$f":"IF('Entry Information'!$H93=\"\",\"\",IF('Entry Information'!V93=\"\",T32,T32-100))","v":""},"",{"$f":"IF($R32=\"\",\"\",(VLOOKUP($V$41,Worksheet!$A$11:$AE$41,V32+1,FALSE)))","v":""},{"$f":"IF('Entry Information'!$H93=\"\",\"\",'INTERMEDIATE RESULTS'!X33)","v":""},{"$f":"IF('Entry Information'!$H93=\"\",\"\",IF('INTERMEDIATE RESULTS'!Y33=\"\",\"\",'INTERMEDIATE RESULTS'!Y33))","v":""},"",{"$f":"IF('Entry Information'!$H93=\"\",\"\",IF('Entry Information'!X93=\"\",Z32,Z32-100))","v":""},"",{"$f":"IF($X32=\"\",\"\",(VLOOKUP($AB$41,Worksheet!$A$11:$AE$41,AB32+1,FALSE)))","v":""},{"$f":"IF('Entry Information'!$H93=\"\",\"\",'INTERMEDIATE RESULTS'!AD33)","v":""},{"$f":"IF('Entry Information'!$H93=\"\",\"\",IF('INTERMEDIATE RESULTS'!AE33=\"\",\"\",'INTERMEDIATE RESULTS'!AE33))","v":""},"",{"$f":"IF('Entry Information'!$H93=\"\",\"\",IF('Entry Information'!Z93=\"\",AF32,AF32-100))","v":""},"",{"$f":"IF($AD32=\"\",\"\",(VLOOKUP($AH$41,Worksheet!$A$11:$AE$41,AH32+1,FALSE)))","v":""}]
[{"$f":"IF('Entry Information'!H94=\"\",\"\",'Entry Information'!B94)","v":""},{"$f":"IF('Entry Information'!H94=\"\",\"\",'Entry Information'!C94)","v":""},{"$f":"IF('Entry Information'!H94=\"\",\"\",'Entry Information'!D94)","v":""},{"$f":"IF('Entry Information'!H94=\"\",\"\",'Entry Information'!E94)","v":""},"INT",{"$f":"IF('Entry Information'!$H94=\"\",\"\",'INTERMEDIATE RESULTS'!F34)","v":""},{"$f":"IF('Entry Information'!$H94=\"\",\"\",IF('INTERMEDIATE RESULTS'!G34=\"\",\"\",'INTERMEDIATE RESULTS'!G34))","v":""},"",{"$f":"IF('Entry Information'!$H94=\"\",\"\",IF('Entry Information'!R94=\"\",H33,H33-100))","v":""},"",{"$f":"IF($F33=\"\",\"\",(VLOOKUP($J$41,Worksheet!$A$11:$AE$41,J33+1,FALSE)))","v":""},{"$f":"IF('Entry Information'!$H94=\"\",\"\",'INTERMEDIATE RESULTS'!L34)","v":""},{"$f":"IF('Entry Information'!$H94=\"\",\"\",IF('INTERMEDIATE RESULTS'!M34=\"\",\"\",'INTERMEDIATE RESULTS'!M34))","v":""},"",{"$f":"IF('Entry Information'!$H94=\"\",\"\",IF('Entry Information'!T34=\"\",N33,N33-100))","v":""},"",{"$f":"IF($L33=\"\",\"\",(VLOOKUP($P$41,Worksheet!$A$11:$AE$41,P33+1,FALSE)))","v":""},{"$f":"IF('Entry Information'!$H94=\"\",\"\",'INTERMEDIATE RESULTS'!R34)","v":""},{"$f":"IF('Entry Information'!$H94=\"\",\"\",IF('INTERMEDIATE RESULTS'!S34=\"\",\"\",'INTERMEDIATE RESULTS'!S34))","v":""},"",{"$f":"IF('Entry Information'!$H94=\"\",\"\",IF('Entry Information'!V94=\"\",T33,T33-100))","v":""},"",{"$f":"IF($R33=\"\",\"\",(VLOOKUP($V$41,Worksheet!$A$11:$AE$41,V33+1,FALSE)))","v":""},{"$f":"IF('Entry Information'!$H94=\"\",\"\",'INTERMEDIATE RESULTS'!X34)","v":""},{"$f":"IF('Entry Information'!$H94=\"\",\"\",IF('INTERMEDIATE RESULTS'!Y34=\"\",\"\",'INTERMEDIATE RESULTS'!Y34))","v":""},"",{"$f":"IF('Entry Information'!$H94=\"\",\"\",IF('Entry Information'!X94=\"\",Z33,Z33-100))","v":""},"",{"$f":"IF($X33=\"\",\"\",(VLOOKUP($AB$41,Worksheet!$A$11:$AE$41,AB33+1,FALSE)))","v":""},{"$f":"IF('Entry Information'!$H94=\"\",\"\",'INTERMEDIATE RESULTS'!AD34)","v":""},{"$f":"IF('Entry Information'!$H94=\"\",\"\",IF('INTERMEDIATE RESULTS'!AE34=\"\",\"\",'INTERMEDIATE RESULTS'!AE34))","v":""},"",{"$f":"IF('Entry Information'!$H94=\"\",\"\",IF('Entry Information'!Z94=\"\",AF33,AF33-100))","v":""},"",{"$f":"IF($AD33=\"\",\"\",(VLOOKUP($AH$41,Worksheet!$A$11:$AE$41,AH33+1,FALSE)))","v":""}]
[{"$f":"IF('Entry Information'!H95=\"\",\"\",'Entry Information'!B95)","v":""},{"$f":"IF('Entry Information'!H95=\"\",\"\",'Entry Information'!C95)","v":""},{"$f":"IF('Entry Information'!H95=\"\",\"\",'Entry Information'!D95)","v":""},{"$f":"IF('Entry Information'!H95=\"\",\"\",'Entry Information'!E95)","v":""},"INT",{"$f":"IF('Entry Information'!$H95=\"\",\"\",'INTERMEDIATE RESULTS'!F35)","v":""},{"$f":"IF('Entry Information'!$H95=\"\",\"\",IF('INTERMEDIATE RESULTS'!G35=\"\",\"\",'INTERMEDIATE RESULTS'!G35))","v":""},"",{"$f":"IF('Entry Information'!$H95=\"\",\"\",IF('Entry Information'!R95=\"\",H34,H34-100))","v":""},"",{"$f":"IF($F34=\"\",\"\",(VLOOKUP($J$41,Worksheet!$A$11:$AE$41,J34+1,FALSE)))","v":""},{"$f":"IF('Entry Information'!$H95=\"\",\"\",'INTERMEDIATE RESULTS'!L35)","v":""},{"$f":"IF('Entry Information'!$H95=\"\",\"\",IF('INTERMEDIATE RESULTS'!M35=\"\",\"\",'INTERMEDIATE RESULTS'!M35))","v":""},"",{"$f":"IF('Entry Information'!$H95=\"\",\"\",IF('Entry Information'!T35=\"\",N34,N34-100))","v":""},"",{"$f":"IF($L34=\"\",\"\",(VLOOKUP($P$41,Worksheet!$A$11:$AE$41,P34+1,FALSE)))","v":""},{"$f":"IF('Entry Information'!$H95=\"\",\"\",'INTERMEDIATE RESULTS'!R35)","v":""},{"$f":"IF('Entry Information'!$H95=\"\",\"\",IF('INTERMEDIATE RESULTS'!S35=\"\",\"\",'INTERMEDIATE RESULTS'!S35))","v":""},"",{"$f":"IF('Entry Information'!$H95=\"\",\"\",IF('Entry Information'!V95=\"\",T34,T34-100))","v":""},"",{"$f":"IF($R34=\"\",\"\",(VLOOKUP($V$41,Worksheet!$A$11:$AE$41,V34+1,FALSE)))","v":""},{"$f":"IF('Entry Information'!$H95=\"\",\"\",'INTERMEDIATE RESULTS'!X35)","v":""},{"$f":"IF('Entry Information'!$H95=\"\",\"\",IF('INTERMEDIATE RESULTS'!Y35=\"\",\"\",'INTERMEDIATE RESULTS'!Y35))","v":""},"",{"$f":"IF('Entry Information'!$H95=\"\",\"\",IF('Entry Information'!X95=\"\",Z34,Z34-100))","v":""},"",{"$f":"IF($X34=\"\",\"\",(VLOOKUP($AB$41,Worksheet!$A$11:$AE$41,AB34+1,FALSE)))","v":""},{"$f":"IF('Entry Information'!$H95=\"\",\"\",'INTERMEDIATE RESULTS'!AD35)","v":""},{"$f":"IF('Entry Information'!$H95=\"\",\"\",IF('INTERMEDIATE RESULTS'!AE35=\"\",\"\",'INTERMEDIATE RESULTS'!AE35))","v":""},"",{"$f":"IF('Entry Information'!$H95=\"\",\"\",IF('Entry Information'!Z95=\"\",AF34,AF34-100))","v":""},"",{"$f":"IF($AD34=\"\",\"\",(VLOOKUP($AH$41,Worksheet!$A$11:$AE$41,AH34+1,FALSE)))","v":""}]
[{"$f":"IF('Entry Information'!H96=\"\",\"\",'Entry Information'!B96)","v":""},{"$f":"IF('Entry Information'!H96=\"\",\"\",'Entry Information'!C96)","v":""},{"$f":"IF('Entry Information'!H96=\"\",\"\",'Entry Information'!D96)","v":""},{"$f":"IF('Entry Information'!H96=\"\",\"\",'Entry Information'!E96)","v":""},"INT",{"$f":"IF('Entry Information'!$H96=\"\",\"\",'INTERMEDIATE RESULTS'!F36)","v":""},{"$f":"IF('Entry Information'!$H96=\"\",\"\",IF('INTERMEDIATE RESULTS'!G36=\"\",\"\",'INTERMEDIATE RESULTS'!G36))","v":""},"",{"$f":"IF('Entry Information'!$H96=\"\",\"\",IF('Entry Information'!R96=\"\",H35,H35-100))","v":""},"",{"$f":"IF($F35=\"\",\"\",(VLOOKUP($J$41,Worksheet!$A$11:$AE$41,J35+1,FALSE)))","v":""},{"$f":"IF('Entry Information'!$H96=\"\",\"\",'INTERMEDIATE RESULTS'!L36)","v":""},{"$f":"IF('Entry Information'!$H96=\"\",\"\",IF('INTERMEDIATE RESULTS'!M36=\"\",\"\",'INTERMEDIATE RESULTS'!M36))","v":""},"",{"$f":"IF('Entry Information'!$H96=\"\",\"\",IF('Entry Information'!T36=\"\",N35,N35-100))","v":""},"",{"$f":"IF($L35=\"\",\"\",(VLOOKUP($P$41,Worksheet!$A$11:$AE$41,P35+1,FALSE)))","v":""},{"$f":"IF('Entry Information'!$H96=\"\",\"\",'INTERMEDIATE RESULTS'!R36)","v":""},{"$f":"IF('Entry Information'!$H96=\"\",\"\",IF('INTERMEDIATE RESULTS'!S36=\"\",\"\",'INTERMEDIATE RESULTS'!S36))","v":""},"",{"$f":"IF('Entry Information'!$H96=\"\",\"\",IF('Entry Information'!V96=\"\",T35,T35-100))","v":""},"",{"$f":"IF($R35=\"\",\"\",(VLOOKUP($V$41,Worksheet!$A$11:$AE$41,V35+1,FALSE)))","v":""},{"$f":"IF('Entry Information'!$H96=\"\",\"\",'INTERMEDIATE RESULTS'!X36)","v":""},{"$f":"IF('Entry Information'!$H96=\"\",\"\",IF('INTERMEDIATE RESULTS'!Y36=\"\",\"\",'INTERMEDIATE RESULTS'!Y36))","v":""},"",{"$f":"IF('Entry Information'!$H96=\"\",\"\",IF('Entry Information'!X96=\"\",Z35,Z35-100))","v":""},"",{"$f":"IF($X35=\"\",\"\",(VLOOKUP($AB$41,Worksheet!$A$11:$AE$41,AB35+1,FALSE)))","v":""},{"$f":"IF('Entry Information'!$H96=\"\",\"\",'INTERMEDIATE RESULTS'!AD36)","v":""},{"$f":"IF('Entry Information'!$H96=\"\",\"\",IF('INTERMEDIATE RESULTS'!AE36=\"\",\"\",'INTERMEDIATE RESULTS'!AE36))","v":""},"",{"$f":"IF('Entry Information'!$H96=\"\",\"\",IF('Entry Information'!Z96=\"\",AF35,AF35-100))","v":""},"",{"$f":"IF($AD35=\"\",\"\",(VLOOKUP($AH$41,Worksheet!$A$11:$AE$41,AH35+1,FALSE)))","v":""}]
[{"$f":"IF('Entry Information'!H97=\"\",\"\",'Entry Information'!B97)","v":""},{"$f":"IF('Entry Information'!H97=\"\",\"\",'Entry Information'!C97)","v":""},{"$f":"IF('Entry Information'!H97=\"\",\"\",'Entry Information'!D97)","v":""},{"$f":"IF('Entry Information'!H97=\"\",\"\",'Entry Information'!E97)","v":""},"INT",{"$f":"IF('Entry Information'!$H97=\"\",\"\",'INTERMEDIATE RESULTS'!F37)","v":""},{"$f":"IF('Entry Information'!$H97=\"\",\"\",IF('INTERMEDIATE RESULTS'!G37=\"\",\"\",'INTERMEDIATE RESULTS'!G37))","v":""},"",{"$f":"IF('Entry Information'!$H97=\"\",\"\",IF('Entry Information'!R97=\"\",H36,H36-100))","v":""},"",{"$f":"IF($F36=\"\",\"\",(VLOOKUP($J$41,Worksheet!$A$11:$AE$41,J36+1,FALSE)))","v":""},{"$f":"IF('Entry Information'!$H97=\"\",\"\",'INTERMEDIATE RESULTS'!L37)","v":""},{"$f":"IF('Entry Information'!$H97=\"\",\"\",IF('INTERMEDIATE RESULTS'!M37=\"\",\"\",'INTERMEDIATE RESULTS'!M37))","v":""},"",{"$f":"IF('Entry Information'!$H97=\"\",\"\",IF('Entry Information'!T37=\"\",N36,N36-100))","v":""},"",{"$f":"IF($L36=\"\",\"\",(VLOOKUP($P$41,Worksheet!$A$11:$AE$41,P36+1,FALSE)))","v":""},{"$f":"IF('Entry Information'!$H97=\"\",\"\",'INTERMEDIATE RESULTS'!R37)","v":""},{"$f":"IF('Entry Information'!$H97=\"\",\"\",IF('INTERMEDIATE RESULTS'!S37=\"\",\"\",'INTERMEDIATE RESULTS'!S37))","v":""},"",{"$f":"IF('Entry Information'!$H97=\"\",\"\",IF('Entry Information'!V97=\"\",T36,T36-100))","v":""},"",{"$f":"IF($R36=\"\",\"\",(VLOOKUP($V$41,Worksheet!$A$11:$AE$41,V36+1,FALSE)))","v":""},{"$f":"IF('Entry Information'!$H97=\"\",\"\",'INTERMEDIATE RESULTS'!X37)","v":""},{"$f":"IF('Entry Information'!$H97=\"\",\"\",IF('INTERMEDIATE RESULTS'!Y37=\"\",\"\",'INTERMEDIATE RESULTS'!Y37))","v":""},"",{"$f":"IF('Entry Information'!$H97=\"\",\"\",IF('Entry Information'!X97=\"\",Z36,Z36-100))","v":""},"",{"$f":"IF($X36=\"\",\"\",(VLOOKUP($AB$41,Worksheet!$A$11:$AE$41,AB36+1,FALSE)))","v":""},{"$f":"IF('Entry Information'!$H97=\"\",\"\",'INTERMEDIATE RESULTS'!AD37)","v":""},{"$f":"IF('Entry Information'!$H97=\"\",\"\",IF('INTERMEDIATE RESULTS'!AE37=\"\",\"\",'INTERMEDIATE RESULTS'!AE37))","v":""},"",{"$f":"IF('Entry Information'!$H97=\"\",\"\",IF('Entry Information'!Z97=\"\",AF36,AF36-100))","v":""},"",{"$f":"IF($AD36=\"\",\"\",(VLOOKUP($AH$41,Worksheet!$A$11:$AE$41,AH36+1,FALSE)))","v":""}]
[{"$f":"IF('Entry Information'!H98=\"\",\"\",'Entry Information'!B98)","v":""},{"$f":"IF('Entry Information'!H98=\"\",\"\",'Entry Information'!C98)","v":""},{"$f":"IF('Entry Information'!H98=\"\",\"\",'Entry Information'!D98)","v":""},{"$f":"IF('Entry Information'!H98=\"\",\"\",'Entry Information'!E98)","v":""},"INT",{"$f":"IF('Entry Information'!$H98=\"\",\"\",'INTERMEDIATE RESULTS'!F38)","v":""},{"$f":"IF('Entry Information'!$H98=\"\",\"\",IF('INTERMEDIATE RESULTS'!G38=\"\",\"\",'INTERMEDIATE RESULTS'!G38))","v":""},"",{"$f":"IF('Entry Information'!$H98=\"\",\"\",IF('Entry Information'!R98=\"\",H37,H37-100))","v":""},"",{"$f":"IF($F37=\"\",\"\",(VLOOKUP($J$41,Worksheet!$A$11:$AE$41,J37+1,FALSE)))","v":""},{"$f":"IF('Entry Information'!$H98=\"\",\"\",'INTERMEDIATE RESULTS'!L38)","v":""},{"$f":"IF('Entry Information'!$H98=\"\",\"\",IF('INTERMEDIATE RESULTS'!M38=\"\",\"\",'INTERMEDIATE RESULTS'!M38))","v":""},"",{"$f":"IF('Entry Information'!$H98=\"\",\"\",IF('Entry Information'!T38=\"\",N37,N37-100))","v":""},"",{"$f":"IF($L37=\"\",\"\",(VLOOKUP($P$41,Worksheet!$A$11:$AE$41,P37+1,FALSE)))","v":""},{"$f":"IF('Entry Information'!$H98=\"\",\"\",'INTERMEDIATE RESULTS'!R38)","v":""},{"$f":"IF('Entry Information'!$H98=\"\",\"\",IF('INTERMEDIATE RESULTS'!S38=\"\",\"\",'INTERMEDIATE RESULTS'!S38))","v":""},"",{"$f":"IF('Entry Information'!$H98=\"\",\"\",IF('Entry Information'!V98=\"\",T37,T37-100))","v":""},"",{"$f":"IF($R37=\"\",\"\",(VLOOKUP($V$41,Worksheet!$A$11:$AE$41,V37+1,FALSE)))","v":""},{"$f":"IF('Entry Information'!$H98=\"\",\"\",'INTERMEDIATE RESULTS'!X38)","v":""},{"$f":"IF('Entry Information'!$H98=\"\",\"\",IF('INTERMEDIATE RESULTS'!Y38=\"\",\"\",'INTERMEDIATE RESULTS'!Y38))","v":""},"",{"$f":"IF('Entry Information'!$H98=\"\",\"\",IF('Entry Information'!X98=\"\",Z37,Z37-100))","v":""},"",{"$f":"IF($X37=\"\",\"\",(VLOOKUP($AB$41,Worksheet!$A$11:$AE$41,AB37+1,FALSE)))","v":""},{"$f":"IF('Entry Information'!$H98=\"\",\"\",'INTERMEDIATE RESULTS'!AD38)","v":""},{"$f":"IF('Entry Information'!$H98=\"\",\"\",IF('INTERMEDIATE RESULTS'!AE38=\"\",\"\",'INTERMEDIATE RESULTS'!AE38))","v":""},"",{"$f":"IF('Entry Information'!$H98=\"\",\"\",IF('Entry Information'!Z98=\"\",AF37,AF37-100))","v":""},"",{"$f":"IF($AD37=\"\",\"\",(VLOOKUP($AH$41,Worksheet!$A$11:$AE$41,AH37+1,FALSE)))","v":""}]
[{"$f":"IF('Entry Information'!H99=\"\",\"\",'Entry Information'!B99)","v":""},{"$f":"IF('Entry Information'!H99=\"\",\"\",'Entry Information'!C99)","v":""},{"$f":"IF('Entry Information'!H99=\"\",\"\",'Entry Information'!D99)","v":""},{"$f":"IF('Entry Information'!H99=\"\",\"\",'Entry Information'!E99)","v":""},"INT",{"$f":"IF('Entry Information'!$H99=\"\",\"\",'INTERMEDIATE RESULTS'!F39)","v":""},{"$f":"IF('Entry Information'!$H99=\"\",\"\",IF('INTERMEDIATE RESULTS'!G39=\"\",\"\",'INTERMEDIATE RESULTS'!G39))","v":""},{"$f":"IF(G38=\"\",F38,(F38+(G38*0.001)))","v":""},{"$f":"IF('Entry Information'!$H99=\"\",\"\",IF('Entry Information'!R99=\"\",H38,H38-100))","v":""},"",{"$f":"IF($F38=\"\",\"\",(VLOOKUP($J$41,Worksheet!$A$11:$AE$41,J38+1,FALSE)))","v":""},{"$f":"IF('Entry Information'!$H99=\"\",\"\",'INTERMEDIATE RESULTS'!L39)","v":""},{"$f":"IF('Entry Information'!$H99=\"\",\"\",IF('INTERMEDIATE RESULTS'!M39=\"\",\"\",'INTERMEDIATE RESULTS'!M39))","v":""},"",{"$f":"IF('Entry Information'!$H99=\"\",\"\",IF('Entry Information'!T39=\"\",N38,N38-100))","v":""},"",{"$f":"IF($L38=\"\",\"\",(VLOOKUP($P$41,Worksheet!$A$11:$AE$41,P38+1,FALSE)))","v":""},{"$f":"IF('Entry Information'!$H99=\"\",\"\",'INTERMEDIATE RESULTS'!R39)","v":""},{"$f":"IF('Entry Information'!$H99=\"\",\"\",IF('INTERMEDIATE RESULTS'!S39=\"\",\"\",'INTERMEDIATE RESULTS'!S39))","v":""},"",{"$f":"IF('Entry Information'!$H99=\"\",\"\",IF('Entry Information'!V99=\"\",T38,T38-100))","v":""},"",{"$f":"IF($R38=\"\",\"\",(VLOOKUP($V$41,Worksheet!$A$11:$AE$41,V38+1,FALSE)))","v":""},{"$f":"IF('Entry Information'!$H99=\"\",\"\",'INTERMEDIATE RESULTS'!X39)","v":""},{"$f":"IF('Entry Information'!$H99=\"\",\"\",IF('INTERMEDIATE RESULTS'!Y39=\"\",\"\",'INTERMEDIATE RESULTS'!Y39))","v":""},{"$f":"IF(Y38=\"\",X38,(X38+(Y38*0.001)))","v":""},{"$f":"IF('Entry Information'!$H99=\"\",\"\",IF('Entry Information'!X99=\"\",Z38,Z38-100))","v":""},"",{"$f":"IF($X38=\"\",\"\",(VLOOKUP($AB$41,Worksheet!$A$11:$AE$41,AB38+1,FALSE)))","v":""},{"$f":"IF('Entry Information'!$H99=\"\",\"\",'INTERMEDIATE RESULTS'!AD39)","v":""},{"$f":"IF('Entry Information'!$H99=\"\",\"\",IF('INTERMEDIATE RESULTS'!AE39=\"\",\"\",'INTERMEDIATE RESULTS'!AE39))","v":""},{"$f":"IF(AE38=\"\",AD38,(AD38+(AE38*0.001)))","v":""},{"$f":"IF('Entry Information'!$H99=\"\",\"\",IF('Entry Information'!Z99=\"\",AF38,AF38-100))","v":""},"",{"$f":"IF($AD38=\"\",\"\",(VLOOKUP($AH$41,Worksheet!$A$11:$AE$41,AH38+1,FALSE)))","v":""}]
[{"$f":"IF('Entry Information'!H100=\"\",\"\",'Entry Information'!B100)","v":""},{"$f":"IF('Entry Information'!H100=\"\",\"\",'Entry Information'!C100)","v":""},{"$f":"IF('Entry Information'!H100=\"\",\"\",'Entry Information'!D100)","v":""},{"$f":"IF('Entry Information'!H100=\"\",\"\",'Entry Information'!E100)","v":""},"INT",{"$f":"IF('Entry Information'!$H100=\"\",\"\",'INTERMEDIATE RESULTS'!F40)","v":""},{"$f":"IF('Entry Information'!$H100=\"\",\"\",IF('INTERMEDIATE RESULTS'!G40=\"\",\"\",'INTERMEDIATE RESULTS'!G40))","v":""},{"$f":"IF(G39=\"\",F39,(F39+(G39*0.001)))","v":""},{"$f":"IF('Entry Information'!$H100=\"\",\"\",IF('Entry Information'!R100=\"\",H39,H39-100))","v":""},"",{"$f":"IF($F39=\"\",\"\",(VLOOKUP($J$41,Worksheet!$A$11:$AE$41,J39+1,FALSE)))","v":""},{"$f":"IF('Entry Information'!$H100=\"\",\"\",'INTERMEDIATE RESULTS'!L40)","v":""},{"$f":"IF('Entry Information'!$H100=\"\",\"\",IF('INTERMEDIATE RESULTS'!M40=\"\",\"\",'INTERMEDIATE RESULTS'!M40))","v":""},"",{"$f":"IF('Entry Information'!$H100=\"\",\"\",IF('Entry Information'!T40=\"\",N39,N39-100))","v":""},"",{"$f":"IF($L39=\"\",\"\",(VLOOKUP($P$41,Worksheet!$A$11:$AE$41,P39+1,FALSE)))","v":""},{"$f":"IF('Entry Information'!$H100=\"\",\"\",'INTERMEDIATE RESULTS'!R40)","v":""},{"$f":"IF('Entry Information'!$H100=\"\",\"\",IF('INTERMEDIATE RESULTS'!S40=\"\",\"\",'INTERMEDIATE RESULTS'!S40))","v":""},"",{"$f":"IF('Entry Information'!$H100=\"\",\"\",IF('Entry Information'!V100=\"\",T39,T39-100))","v":""},"",{"$f":"IF($R39=\"\",\"\",(VLOOKUP($V$41,Worksheet!$A$11:$AE$41,V39+1,FALSE)))","v":""},{"$f":"IF('Entry Information'!$H100=\"\",\"\",'INTERMEDIATE RESULTS'!X40)","v":""},{"$f":"IF('Entry Information'!$H100=\"\",\"\",IF('INTERMEDIATE RESULTS'!Y40=\"\",\"\",'INTERMEDIATE RESULTS'!Y40))","v":""},{"$f":"IF(Y39=\"\",X39,(X39+(Y39*0.001)))","v":""},{"$f":"IF('Entry Information'!$H100=\"\",\"\",IF('Entry Information'!X100=\"\",Z39,Z39-100))","v":""},"",{"$f":"IF($X39=\"\",\"\",(VLOOKUP($AB$41,Worksheet!$A$11:$AE$41,AB39+1,FALSE)))","v":""},{"$f":"IF('Entry Information'!$H100=\"\",\"\",'INTERMEDIATE RESULTS'!AD40)","v":""},{"$f":"IF('Entry Information'!$H100=\"\",\"\",IF('INTERMEDIATE RESULTS'!AE40=\"\",\"\",'INTERMEDIATE RESULTS'!AE40))","v":""},{"$f":"IF(AE39=\"\",AD39,(AD39+(AE39*0.001)))","v":""},{"$f":"IF('Entry Information'!$H100=\"\",\"\",IF('Entry Information'!Z100=\"\",AF39,AF39-100))","v":""},"",{"$f":"IF($AD39=\"\",\"\",(VLOOKUP($AH$41,Worksheet!$A$11:$AE$41,AH39+1,FALSE)))","v":""}]
[]
[null,null,null,null,null,null,null,null,null,{"$f":"COUNTIF(J10:J39,\">=0\")","v":0},null,null,null,null,null,{"$f":"COUNTIF(P10:P39,\">=0\")","v":0},null,null,null,null,null,{"$f":"COUNTIF(V10:V39,\">=0\")","v":0},null,null,null,null,null,{"$f":"COUNTIF(AB10:AB39,\">=0\")","v":0},null,null,null,null,null,{"$f":"COUNTIF(AH10:AH39,\">=0\")","v":0}]
[null,null,null,null,null,"1 - Total Penalty Points",null,null,null,null,null,"1 - Total Penalty Points",null,null,null,null,null,"1 Total Penalty Points",null,null,null,null,null,"1 - Total Penalty Points",null,null,null,null,null,"1 - Total Penalty Points"]
[null,null,null,null,null,"2- Extended Trot",null,null,null,null,null,"2 - Drag Log",null,null,null,null,null,"2 - 1st Cow Working Center of Arena",null,null,null,null,null,"2 - Roping Cow",null,null,null,null,null,"2 - Roping Cow"]
[null,null,null,null,null,"3 - Transition down lope/walk/stop",null,null,null,null,null,"3 - Ground tie/bridle/pick-up leg(s)",null,null,null,null,null,"3 - 1st Cow Cut from Herd",null,null,null,null,null,"3 - Box Cow",null,null,null,null,null,"3 - Box Cow"]
[null,null,null,null,null,"4 - Transition to lope/lope",null,null,null,null,null,"4 - Gate",null,null,null,null,null,"4 -2nd Cow Working Center of Arena",null,null,null,null,null,"4 - First Lead Change",null,null,null,null,null,"4 - First Lead Change"]
[]
[]
["Scores in RED are ties - enter a 1 in the Tie Breaker Column of the winner to break tie.  If multiple ties enter a 1 for the second place and a 2 for winner."]
[]
[]
["Places highlighted have a major penatly."]
[]
["If Entered in \"Jack Pot\" cell to the right of Event All Around with be highlighted"]

{"sheet":"INTERMEDIATE JR HORSE RESULTS","index":14,"n_rows":53,"n_cols":35,"rows_kept":53,"cut":false,"hidden":true,"merged":[[2,18,2,22],[2,23,2,28],[2,29,2,34],[1,0,1,2],[1,4,1,5],[1,9,1,16],[1,18,1,22],[1,23,1,28],[1,29,1,34],[2,1,2,2],[2,4,2,5],[2,9,2,11],[4,5,4,10],[4,11,4,16],[4,17,4,22],[4,23,4,28],[6,11,8,11],[6,12,8,12],[6,13,8,13],[6,26,8,26],[6,27,8,27],[6,28,8,28],[6,21,8,21],[6,15,8,15],[6,7,8,7],[6,8,8,8],[6,9,8,9],[6,10,8,10],[4,29,4,34],[6,32,8,32],[6,17,8,17],[6,18,8,18],[6,19,8,19],[6,20,8,20],[6,24,8,24],[6,25,8,25],[6,33,8,33],[6,34,8,34],[6,23,8,23],[5,5,5,10],[5,11,5,16],[5,17,5,22],[5,23,5,28],[5,29,5,34],[47,0,48,4],[6,29,8,29],[6,30,8,30],[6,31,8,31],[6,14,8,14],[6,5,8,5],[6,6,8,6],[6,22,8,22],[6,16,8,16]]}
[]
[null,null,null,null,"Event Name:",null,null,null,null,{"$f":"'Entry Information'!C4","v":"Ranch Horse Challenge"},null,null,null,null,null,null,null,null,"Judge #1 Name/Claees:",null,null,null,null,{"$f":"'Entry Information'!F4","v":"Mike Lund"}]
["Division:","INTERMEDIATE",null,null,"Event Date:",null,null,null,null,{"$f":"'Entry Information'!C5","v":"2018-03-25"},null,null,null,null,null,null,null,null,"Judge #2 Name/Classes:",null,null,null,null,{"$f":"'Entry Information'!F5","v":"Karen Arlin"}]
[]
[null,null,null,null,null,"RANCH",null,null,null,null,null,"RANCH",null,null,null,null,null,"RANCH",null,null,null,null,null,"RANCH",null,null,null,null,null,"RANCH"]
[null,null,null,null,null,"RIDING",null,null,null,null,null,"TRAIL",null,null,null,null,null,"CUTING",null,null,null,null,null,"REINED WORK",null,null,null,null,null,"COW WORK"]
[null,null,null,null,null,"Score","Tie Breaker","Adjusted Score for Ties","Adjusted Score Major Penalty","Place","Placement Points","Score","Tie Breaker","Adjusted Score for Ties","Adjusted Score Major Penalty","Place","Placement Points","Score","Tie Breaker","Adjusted Score for Ties","Adjusted Score Major Penalty","Place","Placement Points","Score","Tie Breaker","Adjusted Score for Ties","Adjusted Score Major Penalty","Place","Placement Points","Score","Tie Breaker","Adjusted Score for Ties","Adjusted Score Major Penalty","Place","Placement Points"]
[]
["Back No.","Last Name","First Name","Registered Horse Name","Division"]
[{"$f":"IF('Entry Information'!I71=\"\",\"\",'Entry Information'!B71)","v":""},{"$f":"IF('Entry Information'!I71=\"\",\"\",'Entry Information'!C71)","v":""},{"$f":"IF('Entry Information'!I71=\"\",\"\",'Entry Information'!D71)","v":""},{"$f":"IF('Entry Information'!I71=\"\",\"\",'Entry Information'!E71)","v":""},"INT",{"$f":"IF('Entry Information'!$I71=\"\",\"\",'INTERMEDIATE RESULTS'!F11)","v":""},{"$f":"IF('Entry Information'!$I71=\"\",\"\",IF('INTERMEDIATE RESULTS'!G11=\"\",\"\",'INTERMEDIATE RESULTS'!G11))","v":""},{"$f":"IF(G10=\"\",F10,(F10+(G10*0.001)))","v":""},{"$f":"IF('Entry Information'!$I71=\"\",\"\",IF('Entry Information'!R71=\"\",H10,H10-100))","v":""},{"$f":"IF(I10=\"\",\"\",(RANK(I10,$I$10:$I$39,0)))","v":""},{"$f":"IF($F10=\"\",\"\",(VLOOKUP($J$41,Worksheet!$A$11:$AE$41,J10+1,FALSE)))","v":""},{"$f":"IF('Entry Information'!$I71=\"\",\"\",'INTERMEDIATE RESULTS'!L11)","v":""},{"$f":"IF('Entry Information'!$I71=\"\",\"\",IF('INTERMEDIATE RESULTS'!M11=\"\",\"\",'INTERMEDIATE RESULTS'!M11))","v":""},{"$f":"IF(M10=\"\",L10,(L10+(M10*0.001)))","v":""},{"$f":"IF('Entry Information'!$I71=\"\",\"\",IF('Entry Information'!T11=\"\",N10,N10-100))","v":""},{"$f":"IF(O10=\"\",\"\",(RANK(O10,$O$10:$O$39,0)))","v":""},{"$f":"IF($L10=\"\",\"\",(VLOOKUP($P$41,Worksheet!$A$11:$AE$41,P10+1,FALSE)))","v":""},{"$f":"IF('Entry Information'!$I71=\"\",\"\",'INTERMEDIATE RESULTS'!R11)","v":""},{"$f":"IF('Entry Information'!$I71=\"\",\"\",IF('INTERMEDIATE RESULTS'!S11=\"\",\"\",'INTERMEDIATE RESULTS'!S11))","v":""},{"$f":"IF(S10=\"\",R10,(R10+(S10*0.001)))","v":""},{"$f":"IF('Entry Information'!$I71=\"\",\"\",IF('Entry Information'!V71=\"\",T10,T10-100))","v":""},{"$f":"IF(U10=\"\",\"\",(RANK(U10,$U$10:$U$39,0)))","v":""},{"$f":"IF($R10=\"\",\"\",(VLOOKUP($V$41,Worksheet!$A$11:$AE$41,V10+1,FALSE)))","v":""},{"$f":"IF('Entry Information'!$I71=\"\",\"\",'INTERMEDIATE RESULTS'!X11)","v":""},{"$f":"IF('Entry Information'!$I71=\"\",\"\",IF('INTERMEDIATE RESULTS'!Y11=\"\",\"\",'INTERMEDIATE RESULTS'!Y11))","v":""},{"$f":"IF(Y10=\"\",X10,(X10+(Y10*0.001)))","v":""},{"$f":"IF('Entry Information'!$I71=\"\",\"\",IF('Entry Information'!X71=\"\",Z10,Z10-100))","v":""},{"$f":"IF(AA10=\"\",\"\",(RANK(AA10,$AA$10:$AA$39,0)))","v":""},{"$f":"IF($X10=\"\",\"\",(VLOOKUP($AB$41,Worksheet!$A$11:$AE$41,AB10+1,FALSE)))","v":""},{"$f":"IF('Entry Information'!$I71=\"\",\"\",'INTERMEDIATE RESULTS'!AD11)","v":""},{"$f":"IF('Entry Information'!$I71=\"\",\"\",IF('INTERMEDIATE RESULTS'!AE11=\"\",\"\",'INTERMEDIATE RESULTS'!AE11))","v":""},{"$f":"IF(AE10=\"\",AD10,(AD10+(AE10*0.001)))","v":""},{"$f":"IF('Entry Information'!$I71=\"\",\"\",IF('Entry Information'!Z71=\"\",AF10,AF10-100))","v":""},{"$f":"IF(AG10=\"\",\"\",(RANK(AG10,$AG$10:$AG$39,0)))","v":""},{"$f":"IF($AD10=\"\",\"\",(VLOOKUP($AH$41,Worksheet!$A$11:$AE$41,AH10+1,FALSE)))","v":""}]
[{"$f":"IF('Entry Information'!I72=\"\",\"\",'Entry Information'!B72)","v":""},{"$f":"IF('Entry Information'!I72=\"\",\"\",'Entry Information'!C72)","v":""},{"$f":"IF('Entry Information'!I72=\"\",\"\",'Entry Information'!D72)","v":""},{"$f":"IF('Entry Information'!I72=\"\",\"\",'Entry Information'!E72)","v":""},"INT",{"$f":"IF('Entry Information'!$I72=\"\",\"\",'INTERMEDIATE RESULTS'!F12)","v":""},{"$f":"IF('Entry Information'!$I72=\"\",\"\",IF('INTERMEDIATE RESULTS'!G12=\"\",\"\",'INTERMEDIATE RESULTS'!G12))","v":""},{"$f":"IF(G11=\"\",F11,(F11+(G11*0.001)))","v":""},{"$f":"IF('Entry Information'!$I72=\"\",\"\",IF('Entry Information'!R72=\"\",H11,H11-100))","v":""},{"$f":"IF(I11=\"\",\"\",(RANK(I11,$I$10:$I$39,0)))","v":""},{"$f":"IF($F11=\"\",\"\",(VLOOKUP($J$41,Worksheet!$A$11:$AE$41,J11+1,FALSE)))","v":""},{"$f":"IF('Entry Information'!$I72=\"\",\"\",'INTERMEDIATE RESULTS'!L12)","v":""},{"$f":"IF('Entry Information'!$I72=\"\",\"\",IF('INTERMEDIATE RESULTS'!M12=\"\",\"\",'INTERMEDIATE RESULTS'!M12))","v":""},"",{"$f":"IF('Entry Information'!$I72=\"\",\"\",IF('Entry Information'!T12=\"\",N11,N11-100))","v":""},{"$f":"IF(O11=\"\",\"\",(RANK(O11,$O$10:$O$39,0)))","v":""},{"$f":"IF($L11=\"\",\"\",(VLOOKUP($P$41,Worksheet!$A$11:$AE$41,P11+1,FALSE)))","v":""},{"$f":"IF('Entry Information'!$I72=\"\",\"\",'INTERMEDIATE RESULTS'!R12)","v":""},{"$f":"IF('Entry Information'!$I72=\"\",\"\",IF('INTERMEDIATE RESULTS'!S12=\"\",\"\",'INTERMEDIATE RESULTS'!S12))","v":""},"",{"$f":"IF('Entry Information'!$I72=\"\",\"\",IF('Entry Information'!V72=\"\",T11,T11-100))","v":""},{"$f":"IF(U11=\"\",\"\",(RANK(U11,$U$10:$U$39,0)))","v":""},{"$f":"IF($R11=\"\",\"\",(VLOOKUP($V$41,Worksheet!$A$11:$AE$41,V11+1,FALSE)))","v":""},{"$f":"IF('Entry Information'!$I72=\"\",\"\",'INTERMEDIATE RESULTS'!X12)","v":""},{"$f":"IF('Entry Information'!$I72=\"\",\"\",IF('INTERMEDIATE RESULTS'!Y12=\"\",\"\",'INTERMEDIATE RESULTS'!Y12))","v":""},{"$f":"IF(Y11=\"\",X11,(X11+(Y11*0.001)))","v":""},{"$f":"IF('Entry Information'!$I72=\"\",\"\",IF('Entry Information'!X72=\"\",Z11,Z11-100))","v":""},{"$f":"IF(AA11=\"\",\"\",(RANK(AA11,$AA$10:$AA$39,0)))","v":""},{"$f":"IF($X11=\"\",\"\",(VLOOKUP($AB$41,Worksheet!$A$11:$AE$41,AB11+1,FALSE)))","v":""},{"$f":"IF('Entry Information'!$I72=\"\",\"\",'INTERMEDIATE RESULTS'!AD12)","v":""},{"$f":"IF('Entry Information'!$I72=\"\",\"\",IF('INTERMEDIATE RESULTS'!AE12=\"\",\"\",'INTERMEDIATE RESULTS'!AE12))","v":""},{"$f":"IF(AE11=\"\",AD11,(AD11+(AE11*0.001)))","v":""},{"$f":"IF('Entry Information'!$I72=\"\",\"\",IF('Entry Information'!Z72=\"\",AF11,AF11-100))","v":""},{"$f":"IF(AG11=\"\",\"\",(RANK(AG11,$AG$10:$AG$39,0)))","v":""},{"$f":"IF($AD11=\"\",\"\",(VLOOKUP($AH$41,Worksheet!$A$11:$AE$41,AH11+1,FALSE)))","v":""}]
[{"$f":"IF('Entry Information'!I73=\"\",\"\",'Entry Information'!B73)","v":""},{"$f":"IF('Entry Information'!I73=\"\",\"\",'Entry Information'!C73)","v":""},{"$f":"IF('Entry Information'!I73=\"\",\"\",'Entry Information'!D73)","v":""},{"$f":"IF('Entry Information'!I73=\"\",\"\",'Entry Information'!E73)","v":""},"INT",{"$f":"IF('Entry Information'!$I73=\"\",\"\",'INTERMEDIATE RESULTS'!F13)","v":""},{"$f":"IF('Entry Information'!$I73=\"\",\"\",IF('INTERMEDIATE RESULTS'!G13=\"\",\"\",'INTERMEDIATE RESULTS'!G13))","v":""},"",{"$f":"IF('Entry Information'!$I73=\"\",\"\",IF('Entry Information'!R73=\"\",H12,H12-100))","v":""},"",{"$f":"IF($F12=\"\",\"\",(VLOOKUP($J$41,Worksheet!$A$11:$AE$41,J12+1,FALSE)))","v":""},{"$f":"IF('Entry Information'!$I73=\"\",\"\",'INTERMEDIATE RESULTS'!L13)","v":""},{"$f":"IF('Entry Information'!$I73=\"\",\"\",IF('INTERMEDIATE RESULTS'!M13=\"\",\"\",'INTERMEDIATE RESULTS'!M13))","v":""},"",{"$f":"IF('Entry Information'!$I73=\"\",\"\",IF('Entry Information'!T13=\"\",N12,N12-100))","v":""},"",{"$f":"IF($L12=\"\",\"\",(VLOOKUP($P$41,Worksheet!$A$11:$AE$41,P12+1,FALSE)))","v":""},{"$f":"IF('Entry Information'!$I73=\"\",\"\",'INTERMEDIATE RESULTS'!R13)","v":""},{"$f":"IF('Entry Information'!$I73=\"\",\"\",IF('INTERMEDIATE RESULTS'!S13=\"\",\"\",'INTERMEDIATE RESULTS'!S13))","v":""},"",{"$f":"IF('Entry Information'!$I73=\"\",\"\",IF('Entry Information'!V73=\"\",T12,T12-100))","v":""},"",{"$f":"IF($R12=\"\",\"\",(VLOOKUP($V$41,Worksheet!$A$11:$AE$41,V12+1,FALSE)))","v":""},{"$f":"IF('Entry Information'!$I73=\"\",\"\",'INTERMEDIATE RESULTS'!X13)","v":""},{"$f":"IF('Entry Information'!$I73=\"\",\"\",IF('INTERMEDIATE RESULTS'!Y13=\"\",\"\",'INTERMEDIATE RESULTS'!Y13))","v":""},"",{"$f":"IF('Entry Information'!$I73=\"\",\"\",IF('Entry Information'!X73=\"\",Z12,Z12-100))","v":""},"",{"$f":"IF($X12=\"\",\"\",(VLOOKUP($AB$41,Worksheet!$A$11:$AE$41,AB12+1,FALSE)))","v":""},{"$f":"IF('Entry Information'!$I73=\"\",\"\",'INTERMEDIATE RESULTS'!AD13)","v":""},{"$f":"IF('Entry Information'!$I73=\"\",\"\",IF('INTERMEDIATE RESULTS'!AE13=\"\",\"\",'INTERMEDIATE RESULTS'!AE13))","v":""},"",{"$f":"IF('Entry Information'!$I73=\"\",\"\",IF('Entry Information'!Z73=\"\",AF12,AF12-100))","v":""},"",{"$f":"IF($AD12=\"\",\"\",(VLOOKUP($AH$41,Worksheet!$A$11:$AE$41,AH12+1,FALSE)))","v":""}]
[{"$f":"IF('Entry Information'!I74=\"\",\"\",'Entry Information'!B74)","v":""},{"$f":"IF('Entry Information'!I74=\"\",\"\",'Entry Information'!C74)","v":""},{"$f":"IF('Entry Information'!I74=\"\",\"\",'Entry Information'!D74)","v":""},{"$f":"IF('Entry Information'!I74=\"\",\"\",'Entry Information'!E74)","v":""},"INT",{"$f":"IF('Entry Information'!$I74=\"\",\"\",'INTERMEDIATE RESULTS'!F14)","v":""},{"$f":"IF('Entry Information'!$I74=\"\",\"\",IF('INTERMEDIATE RESULTS'!G14=\"\",\"\",'INTERMEDIATE RESULTS'!G14))","v":""},"",{"$f":"IF('Entry Information'!$I74=\"\",\"\",IF('Entry Information'!R74=\"\",H13,H13-100))","v":""},"",{"$f":"IF($F13=\"\",\"\",(VLOOKUP($J$41,Worksheet!$A$11:$AE$41,J13+1,FALSE)))","v":""},{"$f":"IF('Entry Information'!$I74=\"\",\"\",'INTERMEDIATE RESULTS'!L14)","v":""},{"$f":"IF('Entry Information'!$I74=\"\",\"\",IF('INTERMEDIATE RESULTS'!M14=\"\",\"\",'INTERMEDIATE RESULTS'!M14))","v":""},"",{"$f":"IF('Entry Information'!$I74=\"\",\"\",IF('Entry Information'!T14=\"\",N13,N13-100))","v":""},"",{"$f":"IF($L13=\"\",\"\",(VLOOKUP($P$41,Worksheet!$A$11:$AE$41,P13+1,FALSE)))","v":""},{"$f":"IF('Entry Information'!$I74=\"\",\"\",'INTERMEDIATE RESULTS'!R14)","v":""},{"$f":"IF('Entry Information'!$I74=\"\",\"\",IF('INTERMEDIATE RESULTS'!S14=\"\",\"\",'INTERMEDIATE RESULTS'!S14))","v":""},"",{"$f":"IF('Entry Information'!$I74=\"\",\"\",IF('Entry Information'!V74=\"\",T13,T13-100))","v":""},"",{"$f":"IF($R13=\"\",\"\",(VLOOKUP($V$41,Worksheet!$A$11:$AE$41,V13+1,FALSE)))","v":""},{"$f":"IF('Entry Information'!$I74=\"\",\"\",'INTERMEDIATE RESULTS'!X14)","v":""},{"$f":"IF('Entry Information'!$I74=\"\",\"\",IF('INTERMEDIATE RESULTS'!Y14=\"\",\"\",'INTERMEDIATE RESULTS'!Y14))","v":""},"",{"$f":"IF('Entry Information'!$I74=\"\",\"\",IF('Entry Information'!X74=\"\",Z13,Z13-100))","v":""},"",{"$f":"IF($X13=\"\",\"\",(VLOOKUP($AB$41,Worksheet!$A$11:$AE$41,AB13+1,FALSE)))","v":""},{"$f":"IF('Entry Information'!$I74=\"\",\"\",'INTERMEDIATE RESULTS'!AD14)","v":""},{"$f":"IF('Entry Information'!$I74=\"\",\"\",IF('INTERMEDIATE RESULTS'!AE14=\"\",\"\",'INTERMEDIATE RESULTS'!AE14))","v":""},"",{"$f":"IF('Entry Information'!$I74=\"\",\"\",IF('Entry Information'!Z74=\"\",AF13,AF13-100))","v":""},"",{"$f":"IF($AD13=\"\",\"\",(VLOOKUP($AH$41,Worksheet!$A$11:$AE$41,AH13+1,FALSE)))","v":""}]
[{"$f":"IF('Entry Information'!I75=\"\",\"\",'Entry Information'!B75)","v":""},{"$f":"IF('Entry Information'!I75=\"\",\"\",'Entry Information'!C75)","v":""},{"$f":"IF('Entry Information'!I75=\"\",\"\",'Entry Information'!D75)","v":""},{"$f":"IF('Entry Information'!I75=\"\",\"\",'Entry Information'!E75)","v":""},"INT",{"$f":"IF('Entry Information'!$I75=\"\",\"\",'INTERMEDIATE RESULTS'!F15)","v":""},{"$f":"IF('Entry Information'!$I75=\"\",\"\",IF('INTERMEDIATE RESULTS'!G15=\"\",\"\",'INTERMEDIATE RESULTS'!G15))","v":""},"",{"$f":"IF('Entry Information'!$I75=\"\",\"\",IF('Entry Information'!R75=\"\",H14,H14-100))","v":""},"",{"$f":"IF($F14=\"\",\"\",(VLOOKUP($J$41,Worksheet!$A$11:$AE$41,J14+1,FALSE)))","v":""},{"$f":"IF('Entry Information'!$I75=\"\",\"\",'INTERMEDIATE RESULTS'!L15)","v":""},{"$f":"IF('Entry Information'!$I75=\"\",\"\",IF('INTERMEDIATE RESULTS'!M15=\"\",\"\",'INTERMEDIATE RESULTS'!M15))","v":""},"",{"$f":"IF('Entry Information'!$I75=\"\",\"\",IF('Entry Information'!T15=\"\",N14,N14-100))","v":""},"",{"$f":"IF($L14=\"\",\"\",(VLOOKUP($P$41,Worksheet!$A$11:$AE$41,P14+1,FALSE)))","v":""},{"$f":"IF('Entry Information'!$I75=\"\",\"\",'INTERMEDIATE RESULTS'!R15)","v":""},{"$f":"IF('Entry Information'!$I75=\"\",\"\",IF('INTERMEDIATE RESULTS'!S15=\"\",\"\",'INTERMEDIATE RESULTS'!S15))","v":""},"",{"$f":"IF('Entry Information'!$I75=\"\",\"\",IF('Entry Information'!V75=\"\",T14,T14-100))","v":""},"",{"$f":"IF($R14=\"\",\"\",(VLOOKUP($V$41,Worksheet!$A$11:$AE$41,V14+1,FALSE)))","v":""},{"$f":"IF('Entry Information'!$I75=\"\",\"\",'INTERMEDIATE RESULTS'!X15)","v":""},{"$f":"IF('Entry Information'!$I75=\"\",\"\",IF('INTERMEDIATE RESULTS'!Y15=\"\",\"\",'INTERMEDIATE RESULTS'!Y15))","v":""},"",{"$f":"IF('Entry Information'!$I75=\"\",\"\",IF('Entry Information'!X75=\"\",Z14,Z14-100))","v":""},"",{"$f":"IF($X14=\"\",\"\",(VLOOKUP($AB$41,Worksheet!$A$11:$AE$41,AB14+1,FALSE)))","v":""},{"$f":"IF('Entry Information'!$I75=\"\",\"\",'INTERMEDIATE RESULTS'!AD15)","v":""},{"$f":"IF('Entry Information'!$I75=\"\",\"\",IF('INTERMEDIATE RESULTS'!AE15=\"\",\"\",'INTERMEDIATE RESULTS'!AE15))","v":""},"",{"$f":"IF('Entry Information'!$I75=\"\",\"\",IF('Entry Information'!Z75=\"\",AF14,AF14-100))","v":""},"",{"$f":"IF($AD14=\"\",\"\",(VLOOKUP($AH$41,Worksheet!$A$11:$AE$41,AH14+1,FALSE)))","v":""}]
[{"$f":"IF('Entry Information'!I76=\"\",\"\",'Entry Information'!B76)","v":""},{"$f":"IF('Entry Information'!I76=\"\",\"\",'Entry Information'!C76)","v":""},{"$f":"IF('Entry Information'!I76=\"\",\"\",'Entry Information'!D76)","v":""},{"$f":"IF('Entry Information'!I76=\"\",\"\",'Entry Information'!E76)","v":""},"INT",{"$f":"IF('Entry Information'!$I76=\"\",\"\",'INTERMEDIATE RESULTS'!F16)","v":""},{"$f":"IF('Entry Information'!$I76=\"\",\"\",IF('INTERMEDIATE RESULTS'!G16=\"\",\"\",'INTERMEDIATE RESULTS'!G16))","v":""},"",{"$f":"IF('Entry Information'!$I76=\"\",\"\",IF('Entry Information'!R76=\"\",H15,H15-100))","v":""},"",{"$f":"IF($F15=\"\",\"\",(VLOOKUP($J$41,Worksheet!$A$11:$AE$41,J15+1,FALSE)))","v":""},{"$f":"IF('Entry Information'!$I76=\"\",\"\",'INTERMEDIATE RESULTS'!L16)","v":""},{"$f":"IF('Entry Information'!$I76=\"\",\"\",IF('INTERMEDIATE RESULTS'!M16=\"\",\"\",'INTERMEDIATE RESULTS'!M16))","v":""},"",{"$f":"IF('Entry Information'!$I76=\"\",\"\",IF('Entry Information'!T16=\"\",N15,N15-100))","v":""},"",{"$f":"IF($L15=\"\",\"\",(VLOOKUP($P$41,Worksheet!$A$11:$AE$41,P15+1,FALSE)))","v":""},{"$f":"IF('Entry Information'!$I76=\"\",\"\",'INTERMEDIATE RESULTS'!R16)","v":""},{"$f":"IF('Entry Information'!$I76=\"\",\"\",IF('INTERMEDIATE RESULTS'!S16=\"\",\"\",'INTERMEDIATE RESULTS'!S16))","v":""},"",{"$f":"IF('Entry Information'!$I76=\"\",\"\",IF('Entry Information'!V76=\"\",T15,T15-100))","v":""},"",{"$f":"IF($R15=\"\",\"\",(VLOOKUP($V$41,Worksheet!$A$11:$AE$41,V15+1,FALSE)))","v":""},{"$f":"IF('Entry Information'!$I76=\"\",\"\",'INTERMEDIATE RESULTS'!X16)","v":""},{"$f":"IF('Entry Information'!$I76=\"\",\"\",IF('INTERMEDIATE RESULTS'!Y16=\"\",\"\",'INTERMEDIATE RESULTS'!Y16))","v":""},"",{"$f":"IF('Entry Information'!$I76=\"\",\"\",IF('Entry Information'!X76=\"\",Z15,Z15-100))","v":""},"",{"$f":"IF($X15=\"\",\"\",(VLOOKUP($AB$41,Worksheet!$A$11:$AE$41,AB15+1,FALSE)))","v":""},{"$f":"IF('Entry Information'!$I76=\"\",\"\",'INTERMEDIATE RESULTS'!AD16)","v":""},{"$f":"IF('Entry Information'!$I76=\"\",\"\",IF('INTERMEDIATE RESULTS'!AE16=\"\",\"\",'INTERMEDIATE RESULTS'!AE16))","v":""},"",{"$f":"IF('Entry Information'!$I76=\"\",\"\",IF('Entry Information'!Z76=\"\",AF15,AF15-100))","v":""},"",{"$f":"IF($AD15=\"\",\"\",(VLOOKUP($AH$41,Worksheet!$A$11:$AE$41,AH15+1,FALSE)))","v":""}]
[{"$f":"IF('Entry Information'!I77=\"\",\"\",'Entry Information'!B77)","v":""},{"$f":"IF('Entry Information'!I77=\"\",\"\",'Entry Information'!C77)","v":""},{"$f":"IF('Entry Information'!I77=\"\",\"\",'Entry Information'!D77)","v":""},{"$f":"IF('Entry Information'!I77=\"\",\"\",'Entry Information'!E77)","v":""},"INT",{"$f":"IF('Entry Information'!$I77=\"\",\"\",'INTERMEDIATE RESULTS'!F17)","v":""},{"$f":"IF('Entry Information'!$I77=\"\",\"\",IF('INTERMEDIATE RESULTS'!G17=\"\",\"\",'INTERMEDIATE RESULTS'!G17))","v":""},"",{"$f":"IF('Entry Information'!$I77=\"\",\"\",IF('Entry Information'!R77=\"\",H16,H16-100))","v":""},"",{"$f":"IF($F16=\"\",\"\",(VLOOKUP($J$41,Worksheet!$A$11:$AE$41,J16+1,FALSE)))","v":""},{"$f":"IF('Entry Information'!$I77=\"\",\"\",'INTERMEDIATE RESULTS'!L17)","v":""},{"$f":"IF('Entry Information'!$I77=\"\",\"\",IF('INTERMEDIATE RESULTS'!M17=\"\",\"\",'INTERMEDIATE RESULTS'!M17))","v":""},"",{"$f":"IF('Entry Information'!$I77=\"\",\"\",IF('Entry Information'!T17=\"\",N16,N16-100))","v":""},"",{"$f":"IF($L16=\"\",\"\",(VLOOKUP($P$41,Worksheet!$A$11:$AE$41,P16+1,FALSE)))","v":""},{"$f":"IF('Entry Information'!$I77=\"\",\"\",'INTERMEDIATE RESULTS'!R17)","v":""},{"$f":"IF('Entry Information'!$I77=\"\",\"\",IF('INTERMEDIATE RESULTS'!S17=\"\",\"\",'INTERMEDIATE RESULTS'!S17))","v":""},"",{"$f":"IF('Entry Information'!$I77=\"\",\"\",IF('Entry Information'!V77=\"\",T16,T16-100))","v":""},"",{"$f":"IF($R16=\"\",\"\",(VLOOKUP($V$41,Worksheet!$A$11:$AE$41,V16+1,FALSE)))","v":""},{"$f":"IF('Entry Information'!$I77=\"\",\"\",'INTERMEDIATE RESULTS'!X17)","v":""},{"$f":"IF('Entry Information'!$I77=\"\",\"\",IF('INTERMEDIATE RESULTS'!Y17=\"\",\"\",'INTERMEDIATE RESULTS'!Y17))","v":""},"",{"$f":"IF('Entry Information'!$I77=\"\",\"\",IF('Entry Information'!X77=\"\",Z16,Z16-100))","v":""},"",{"$f":"IF($X16=\"\",\"\",(VLOOKUP($AB$41,Worksheet!$A$11:$AE$41,AB16+1,FALSE)))","v":""},{"$f":"IF('Entry Information'!$I77=\"\",\"\",'INTERMEDIATE RESULTS'!AD17)","v":""},{"$f":"IF('Entry Information'!$I77=\"\",\"\",IF('INTERMEDIATE RESULTS'!AE17=\"\",\"\",'INTERMEDIATE RESULTS'!AE17))","v":""},"",{"$f":"IF('Entry Information'!$I77=\"\",\"\",IF('Entry Information'!Z77=\"\",AF16,AF16-100))","v":""},"",{"$f":"IF($AD16=\"\",\"\",(VLOOKUP($AH$41,Worksheet!$A$11:$AE$41,AH16+1,FALSE)))","v":""}]
[{"$f":"IF('Entry Information'!I78=\"\",\"\",'Entry Information'!B78)","v":""},{"$f":"IF('Entry Information'!I78=\"\",\"\",'Entry Information'!C78)","v":""},{"$f":"IF('Entry Information'!I78=\"\",\"\",'Entry Information'!D78)","v":""},{"$f":"IF('Entry Information'!I78=\"\",\"\",'Entry Information'!E78)","v":""},"INT",{"$f":"IF('Entry Information'!$I78=\"\",\"\",'INTERMEDIATE RESULTS'!F18)","v":""},{"$f":"IF('Entry Information'!$I78=\"\",\"\",IF('INTERMEDIATE RESULTS'!G18=\"\",\"\",'INTERMEDIATE RESULTS'!G18))","v":""},"",{"$f":"IF('Entry Information'!$I78=\"\",\"\",IF('Entry Information'!R78=\"\",H17,H17-100))","v":""},"",{"$f":"IF($F17=\"\",\"\",(VLOOKUP($J$41,Worksheet!$A$11:$AE$41,J17+1,FALSE)))","v":""},{"$f":"IF('Entry Information'!$I78=\"\",\"\",'INTERMEDIATE RESULTS'!L18)","v":""},{"$f":"IF('Entry Information'!$I78=\"\",\"\",IF('INTERMEDIATE RESULTS'!M18=\"\",\"\",'INTERMEDIATE RESULTS'!M18))","v":""},"",{"$f":"IF('Entry Information'!$I78=\"\",\"\",IF('Entry Information'!T18=\"\",N17,N17-100))","v":""},"",{"$f":"IF($L17=\"\",\"\",(VLOOKUP($P$41,Worksheet!$A$11:$AE$41,P17+1,FALSE)))","v":""},{"$f":"IF('Entry Information'!$I78=\"\",\"\",'INTERMEDIATE RESULTS'!R18)","v":""},{"$f":"IF('Entry Information'!$I78=\"\",\"\",IF('INTERMEDIATE RESULTS'!S18=\"\",\"\",'INTERMEDIATE RESULTS'!S18))","v":""},"",{"$f":"IF('Entry Information'!$I78=\"\",\"\",IF('Entry Information'!V78=\"\",T17,T17-100))","v":""},"",{"$f":"IF($R17=\"\",\"\",(VLOOKUP($V$41,Worksheet!$A$11:$AE$41,V17+1,FALSE)))","v":""},{"$f":"IF('Entry Information'!$I78=\"\",\"\",'INTERMEDIATE RESULTS'!X18)","v":""},{"$f":"IF('Entry Information'!$I78=\"\",\"\",IF('INTERMEDIATE RESULTS'!Y18=\"\",\"\",'INTERMEDIATE RESULTS'!Y18))","v":""},"",{"$f":"IF('Entry Information'!$I78=\"\",\"\",IF('Entry Information'!X78=\"\",Z17,Z17-100))","v":""},"",{"$f":"IF($X17=\"\",\"\",(VLOOKUP($AB$41,Worksheet!$A$11:$AE$41,AB17+1,FALSE)))","v":""},{"$f":"IF('Entry Information'!$I78=\"\",\"\",'INTERMEDIATE RESULTS'!AD18)","v":""},{"$f":"IF('Entry Information'!$I78=\"\",\"\",IF('INTERMEDIATE RESULTS'!AE18=\"\",\"\",'INTERMEDIATE RESULTS'!AE18))","v":""},"",{"$f":"IF('Entry Information'!$I78=\"\",\"\",IF('Entry Information'!Z78=\"\",AF17,AF17-100))","v":""},"",{"$f":"IF($AD17=\"\",\"\",(VLOOKUP($AH$41,Worksheet!$A$11:$AE$41,AH17+1,FALSE)))","v":""}]
[{"$f":"IF('Entry Information'!I79=\"\",\"\",'Entry Information'!B79)","v":""},{"$f":"IF('Entry Information'!I79=\"\",\"\",'Entry Information'!C79)","v":""},{"$f":"IF('Entry Information'!I79=\"\",\"\",'Entry Information'!D79)","v":""},{"$f":"IF('Entry Information'!I79=\"\",\"\",'Entry Information'!E79)","v":""},"INT",{"$f":"IF('Entry Information'!$I79=\"\",\"\",'INTERMEDIATE RESULTS'!F19)","v":""},{"$f":"IF('Entry Information'!$I79=\"\",\"\",IF('INTERMEDIATE RESULTS'!G19=\"\",\"\",'INTERMEDIATE RESULTS'!G19))","v":""},"",{"$f":"IF('Entry Information'!$I79=\"\",\"\",IF('Entry Information'!R79=\"\",H18,H18-100))","v":""},"",{"$f":"IF($F18=\"\",\"\",(VLOOKUP($J$41,Worksheet!$A$11:$AE$41,J18+1,FALSE)))","v":""},{"$f":"IF('Entry Information'!$I79=\"\",\"\",'INTERMEDIATE RESULTS'!L19)","v":""},{"$f":"IF('Entry Information'!$I79=\"\",\"\",IF('INTERMEDIATE RESULTS'!M19=\"\",\"\",'INTERMEDIATE RESULTS'!M19))","v":""},"",{"$f":"IF('Entry Information'!$I79=\"\",\"\",IF('Entry Information'!T19=\"\",N18,N18-100))","v":""},"",{"$f":"IF($L18=\"\",\"\",(VLOOKUP($P$41,Worksheet!$A$11:$AE$41,P18+1,FALSE)))","v":""},{"$f":"IF('Entry Information'!$I79=\"\",\"\",'INTERMEDIATE RESULTS'!R19)","v":""},{"$f":"IF('Entry Information'!$I79=\"\",\"\",IF('INTERMEDIATE RESULTS'!S19=\"\",\"\",'INTERMEDIATE RESULTS'!S19))","v":""},"",{"$f":"IF('Entry Information'!$I79=\"\",\"\",IF('Entry Information'!V79=\"\",T18,T18-100))","v":""},"",{"$f":"IF($R18=\"\",\"\",(VLOOKUP($V$41,Worksheet!$A$11:$AE$41,V18+1,FALSE)))","v":""},{"$f":"IF('Entry Information'!$I79=\"\",\"\",'INTERMEDIATE RESULTS'!X19)","v":""},{"$f":"IF('Entry Information'!$I79=\"\",\"\",IF('INTERMEDIATE RESULTS'!Y19=\"\",\"\",'INTERMEDIATE RESULTS'!Y19))","v":""},"",{"$f":"IF('Entry Information'!$I79=\"\",\"\",IF('Entry Information'!X79=\"\",Z18,Z18-100))","v":""},"",{"$f":"IF($X18=\"\",\"\",(VLOOKUP($AB$41,Worksheet!$A$11:$AE$41,AB18+1,FALSE)))","v":""},{"$f":"IF('Entry Information'!$I79=\"\",\"\",'INTERMEDIATE RESULTS'!AD19)","v":""},{"$f":"IF('Entry Information'!$I79=\"\",\"\",IF('INTERMEDIATE RESULTS'!AE19=\"\",\"\",'INTERMEDIATE RESULTS'!AE19))","v":""},"",{"$f":"IF('Entry Information'!$I79=\"\",\"\",IF('Entry Information'!Z79=\"\",AF18,AF18-100))","v":""},"",{"$f":"IF($AD18=\"\",\"\",(VLOOKUP($AH$41,Worksheet!$A$11:$AE$41,AH18+1,FALSE)))","v":""}]
[{"$f":"IF('Entry Information'!I80=\"\",\"\",'Entry Information'!B80)","v":""},{"$f":"IF('Entry Information'!I80=\"\",\"\",'Entry Information'!C80)","v":""},{"$f":"IF('Entry Information'!I80=\"\",\"\",'Entry Information'!D80)","v":""},{"$f":"IF('Entry Information'!I80=\"\",\"\",'Entry Information'!E80)","v":""},"INT",{"$f":"IF('Entry Information'!$I80=\"\",\"\",'INTERMEDIATE RESULTS'!F20)","v":""},{"$f":"IF('Entry Information'!$I80=\"\",\"\",IF('INTERMEDIATE RESULTS'!G20=\"\",\"\",'INTERMEDIATE RESULTS'!G20))","v":""},"",{"$f":"IF('Entry Information'!$I80=\"\",\"\",IF('Entry Information'!R80=\"\",H19,H19-100))","v":""},"",{"$f":"IF($F19=\"\",\"\",(VLOOKUP($J$41,Worksheet!$A$11:$AE$41,J19+1,FALSE)))","v":""},{"$f":"IF('Entry Information'!$I80=\"\",\"\",'INTERMEDIATE RESULTS'!L20)","v":""},{"$f":"IF('Entry Information'!$I80=\"\",\"\",IF('INTERMEDIATE RESULTS'!M20=\"\",\"\",'INTERMEDIATE RESULTS'!M20))","v":""},"",{"$f":"IF('Entry Information'!$I80=\"\",\"\",IF('Entry Information'!T20=\"\",N19,N19-100))","v":""},"",{"$f":"IF($L19=\"\",\"\",(VLOOKUP($P$41,Worksheet!$A$11:$AE$41,P19+1,FALSE)))","v":""},{"$f":"IF('Entry Information'!$I80=\"\",\"\",'INTERMEDIATE RESULTS'!R20)","v":""},{"$f":"IF('Entry Information'!$I80=\"\",\"\",IF('INTERMEDIATE RESULTS'!S20=\"\",\"\",'INTERMEDIATE RESULTS'!S20))","v":""},"",{"$f":"IF('Entry Information'!$I80=\"\",\"\",IF('Entry Information'!V80=\"\",T19,T19-100))","v":""},"",{"$f":"IF($R19=\"\",\"\",(VLOOKUP($V$41,Worksheet!$A$11:$AE$41,V19+1,FALSE)))","v":""},{"$f":"IF('Entry Information'!$I80=\"\",\"\",'INTERMEDIATE RESULTS'!X20)","v":""},{"$f":"IF('Entry Information'!$I80=\"\",\"\",IF('INTERMEDIATE RESULTS'!Y20=\"\",\"\",'INTERMEDIATE RESULTS'!Y20))","v":""},"",{"$f":"IF('Entry Information'!$I80=\"\",\"\",IF('Entry Information'!X80=\"\",Z19,Z19-100))","v":""},"",{"$f":"IF($X19=\"\",\"\",(VLOOKUP($AB$41,Worksheet!$A$11:$AE$41,AB19+1,FALSE)))","v":""},{"$f":"IF('Entry Information'!$I80=\"\",\"\",'INTERMEDIATE RESULTS'!AD20)","v":""},{"$f":"IF('Entry Information'!$I80=\"\",\"\",IF('INTERMEDIATE RESULTS'!AE20=\"\",\"\",'INTERMEDIATE RESULTS'!AE20))","v":""},"",{"$f":"IF('Entry Information'!$I80=\"\",\"\",IF('Entry Information'!Z80=\"\",AF19,AF19-100))","v":""},"",{"$f":"IF($AD19=\"\",\"\",(VLOOKUP($AH$41,Worksheet!$A$11:$AE$41,AH19+1,FALSE)))","v":""}]
[{"$f":"IF('Entry Information'!I81=\"\",\"\",'Entry Information'!B81)","v":""},{"$f":"IF('Entry Information'!I81=\"\",\"\",'Entry Information'!C81)","v":""},{"$f":"IF('Entry Information'!I81=\"\",\"\",'Entry Information'!D81)","v":""},{"$f":"IF('Entry Information'!I81=\"\",\"\",'Entry Information'!E81)","v":""},"INT",{"$f":"IF('Entry Information'!$I81=\"\",\"\",'INTERMEDIATE RESULTS'!F21)","v":""},{"$f":"IF('Entry Information'!$I81=\"\",\"\",IF('INTERMEDIATE RESULTS'!G21=\"\",\"\",'INTERMEDIATE RESULTS'!G21))","v":""},"",{"$f":"IF('Entry Information'!$I81=\"\",\"\",IF('Entry Information'!R81=\"\",H20,H20-100))","v":""},"",{"$f":"IF($F20=\"\",\"\",(VLOOKUP($J$41,Worksheet!$A$11:$AE$41,J20+1,FALSE)))","v":""},{"$f":"IF('Entry Information'!$I81=\"\",\"\",'INTERMEDIATE RESULTS'!L21)","v":""},{"$f":"IF('Entry Information'!$I81=\"\",\"\",IF('INTERMEDIATE RESULTS'!M21=\"\",\"\",'INTERMEDIATE RESULTS'!M21))","v":""},"",{"$f":"IF('Entry Information'!$I81=\"\",\"\",IF('Entry Information'!T21=\"\",N20,N20-100))","v":""},"",{"$f":"IF($L20=\"\",\"\",(VLOOKUP($P$41,Worksheet!$A$11:$AE$41,P20+1,FALSE)))","v":""},{"$f":"IF('Entry Information'!$I81=\"\",\"\",'INTERMEDIATE RESULTS'!R21)","v":""},{"$f":"IF('Entry Information'!$I81=\"\",\"\",IF('INTERMEDIATE RESULTS'!S21=\"\",\"\",'INTERMEDIATE RESULTS'!S21))","v":""},"",{"$f":"IF('Entry Information'!$I81=\"\",\"\",IF('Entry Information'!V81=\"\",T20,T20-100))","v":""},"",{"$f":"IF($R20=\"\",\"\",(VLOOKUP($V$41,Worksheet!$A$11:$AE$41,V20+1,FALSE)))","v":""},{"$f":"IF('Entry Information'!$I81=\"\",\"\",'INTERMEDIATE RESULTS'!X21)","v":""},{"$f":"IF('Entry Information'!$I81=\"\",\"\",IF('INTERMEDIATE RESULTS'!Y21=\"\",\"\",'INTERMEDIATE RESULTS'!Y21))","v":""},"",{"$f":"IF('Entry Information'!$I81=\"\",\"\",IF('Entry Information'!X81=\"\",Z20,Z20-100))","v":""},"",{"$f":"IF($X20=\"\",\"\",(VLOOKUP($AB$41,Worksheet!$A$11:$AE$41,AB20+1,FALSE)))","v":""},{"$f":"IF('Entry Information'!$I81=\"\",\"\",'INTERMEDIATE RESULTS'!AD21)","v":""},{"$f":"IF('Entry Information'!$I81=\"\",\"\",IF('INTERMEDIATE RESULTS'!AE21=\"\",\"\",'INTERMEDIATE RESULTS'!AE21))","v":""},"",{"$f":"IF('Entry Information'!$I81=\"\",\"\",IF('Entry Information'!Z81=\"\",AF20,AF20-100))","v":""},"",{"$f":"IF($AD20=\"\",\"\",(VLOOKUP($AH$41,Worksheet!$A$11:$AE$41,AH20+1,FALSE)))","v":""}]
[{"$f":"IF('Entry Information'!I82=\"\",\"\",'Entry Information'!B82)","v":""},{"$f":"IF('Entry Information'!I82=\"\",\"\",'Entry Information'!C82)","v":""},{"$f":"IF('Entry Information'!I82=\"\",\"\",'Entry Information'!D82)","v":""},{"$f":"IF('Entry Information'!I82=\"\",\"\",'Entry Information'!E82)","v":""},"INT",{"$f":"IF('Entry Information'!$I82=\"\",\"\",'INTERMEDIATE RESULTS'!F22)","v":""},{"$f":"IF('Entry Information'!$I82=\"\",\"\",IF('INTERMEDIATE RESULTS'!G22=\"\",\"\",'INTERMEDIATE RESULTS'!G22))","v":""},"",{"$f":"IF('Entry Information'!$I82=\"\",\"\",IF('Entry Information'!R82=\"\",H21,H21-100))","v":""},"",{"$f":"IF($F21=\"\",\"\",(VLOOKUP($J$41,Worksheet!$A$11:$AE$41,J21+1,FALSE)))","v":""},{"$f":"IF('Entry Information'!$I82=\"\",\"\",'INTERMEDIATE RESULTS'!L22)","v":""},{"$f":"IF('Entry Information'!$I82=\"\",\"\",IF('INTERMEDIATE RESULTS'!M22=\"\",\"\",'INTERMEDIATE RESULTS'!M22))","v":""},"",{"$f":"IF('Entry Information'!$I82=\"\",\"\",IF('Entry Information'!T22=\"\",N21,N21-100))","v":""},"",{"$f":"IF($L21=\"\",\"\",(VLOOKUP($P$41,Worksheet!$A$11:$AE$41,P21+1,FALSE)))","v":""},{"$f":"IF('Entry Information'!$I82=\"\",\"\",'INTERMEDIATE RESULTS'!R22)","v":""},{"$f":"IF('Entry Information'!$I82=\"\",\"\",IF('INTERMEDIATE RESULTS'!S22=\"\",\"\",'INTERMEDIATE RESULTS'!S22))","v":""},"",{"$f":"IF('Entry Information'!$I82=\"\",\"\",IF('Entry Information'!V82=\"\",T21,T21-100))","v":""},"",{"$f":"IF($R21=\"\",\"\",(VLOOKUP($V$41,Worksheet!$A$11:$AE$41,V21+1,FALSE)))","v":""},{"$f":"IF('Entry Information'!$I82=\"\",\"\",'INTERMEDIATE RESULTS'!X22)","v":""},{"$f":"IF('Entry Information'!$I82=\"\",\"\",IF('INTERMEDIATE RESULTS'!Y22=\"\",\"\",'INTERMEDIATE RESULTS'!Y22))","v":""},"",{"$f":"IF('Entry Information'!$I82=\"\",\"\",IF('Entry Information'!X82=\"\",Z21,Z21-100))","v":""},"",{"$f":"IF($X21=\"\",\"\",(VLOOKUP($AB$41,Worksheet!$A$11:$AE$41,AB21+1,FALSE)))","v":""},{"$f":"IF('Entry Information'!$I82=\"\",\"\",'INTERMEDIATE RESULTS'!AD22)","v":""},{"$f":"IF('Entry Information'!$I82=\"\",\"\",IF('INTERMEDIATE RESULTS'!AE22=\"\",\"\",'INTERMEDIATE RESULTS'!AE22))","v":""},"",{"$f":"IF('Entry Information'!$I82=\"\",\"\",IF('Entry Information'!Z82=\"\",AF21,AF21-100))","v":""},"",{"$f":"IF($AD21=\"\",\"\",(VLOOKUP($AH$41,Worksheet!$A$11:$AE$41,AH21+1,FALSE)))","v":""}]
[{"$f":"IF('Entry Information'!I83=\"\",\"\",'Entry Information'!B83)","v":""},{"$f":"IF('Entry Information'!I83=\"\",\"\",'Entry Information'!C83)","v":""},{"$f":"IF('Entry Information'!I83=\"\",\"\",'Entry Information'!D83)","v":""},{"$f":"IF('Entry Information'!I83=\"\",\"\",'Entry Information'!E83)","v":""},"INT",{"$f":"IF('Entry Information'!$I83=\"\",\"\",'INTERMEDIATE RESULTS'!F23)","v":""},{"$f":"IF('Entry Information'!$I83=\"\",\"\",IF('INTERMEDIATE RESULTS'!G23=\"\",\"\",'INTERMEDIATE RESULTS'!G23))","v":""},"",{"$f":"IF('Entry Information'!$I83=\"\",\"\",IF('Entry Information'!R83=\"\",H22,H22-100))","v":""},"",{"$f":"IF($F22=\"\",\"\",(VLOOKUP($J$41,Worksheet!$A$11:$AE$41,J22+1,FALSE)))","v":""},{"$f":"IF('Entry Information'!$I83=\"\",\"\",'INTERMEDIATE RESULTS'!L23)","v":""},{"$f":"IF('Entry Information'!$I83=\"\",\"\",IF('INTERMEDIATE RESULTS'!M23=\"\",\"\",'INTERMEDIATE RESULTS'!M23))","v":""},"",{"$f":"IF('Entry Information'!$I83=\"\",\"\",IF('Entry Information'!T23=\"\",N22,N22-100))","v":""},"",{"$f":"IF($L22=\"\",\"\",(VLOOKUP($P$41,Worksheet!$A$11:$AE$41,P22+1,FALSE)))","v":""},{"$f":"IF('Entry Information'!$I83=\"\",\"\",'INTERMEDIATE RESULTS'!R23)","v":""},{"$f":"IF('Entry Information'!$I83=\"\",\"\",IF('INTERMEDIATE RESULTS'!S23=\"\",\"\",'INTERMEDIATE RESULTS'!S23))","v":""},"",{"$f":"IF('Entry Information'!$I83=\"\",\"\",IF('Entry Information'!V83=\"\",T22,T22-100))","v":""},"",{"$f":"IF($R22=\"\",\"\",(VLOOKUP($V$41,Worksheet!$A$11:$AE$41,V22+1,FALSE)))","v":""},{"$f":"IF('Entry Information'!$I83=\"\",\"\",'INTERMEDIATE RESULTS'!X23)","v":""},{"$f":"IF('Entry Information'!$I83=\"\",\"\",IF('INTERMEDIATE RESULTS'!Y23=\"\",\"\",'INTERMEDIATE RESULTS'!Y23))","v":""},"",{"$f":"IF('Entry Information'!$I83=\"\",\"\",IF('Entry Information'!X83=\"\",Z22,Z22-100))","v":""},"",{"$f":"IF($X22=\"\",\"\",(VLOOKUP($AB$41,Worksheet!$A$11:$AE$41,AB22+1,FALSE)))","v":""},{"$f":"IF('Entry Information'!$I83=\"\",\"\",'INTERMEDIATE RESULTS'!AD23)","v":""},{"$f":"IF('Entry Information'!$I83=\"\",\"\",IF('INTERMEDIATE RESULTS'!AE23=\"\",\"\",'INTERMEDIATE RESULTS'!AE23))","v":""},"",{"$f":"IF('Entry Information'!$I83=\"\",\"\",IF('Entry Information'!Z83=\"\",AF22,AF22-100))","v":""},"",{"$f":"IF($AD22=\"\",\"\",(VLOOKUP($AH$41,Worksheet!$A$11:$AE$41,AH22+1,FALSE)))","v":""}]
[{"$f":"IF('Entry Information'!I84=\"\",\"\",'Entry Information'!B84)","v":""},{"$f":"IF('Entry Information'!I84=\"\",\"\",'Entry Information'!C84)","v":""},{"$f":"IF('Entry Information'!I84=\"\",\"\",'Entry Information'!D84)","v":""},{"$f":"IF('Entry Information'!I84=\"\",\"\",'Entry Information'!E84)","v":""},"INT",{"$f":"IF('Entry Information'!$I84=\"\",\"\",'INTERMEDIATE RESULTS'!F24)","v":""},{"$f":"IF('Entry Information'!$I84=\"\",\"\",IF('INTERMEDIATE RESULTS'!G24=\"\",\"\",'INTERMEDIATE RESULTS'!G24))","v":""},"",{"$f":"IF('Entry Information'!$I84=\"\",\"\",IF('Entry Information'!R84=\"\",H23,H23-100))","v":""},"",{"$f":"IF($F23=\"\",\"\",(VLOOKUP($J$41,Worksheet!$A$11:$AE$41,J23+1,FALSE)))","v":""},{"$f":"IF('Entry Information'!$I84=\"\",\"\",'INTERMEDIATE RESULTS'!L24)","v":""},{"$f":"IF('Entry Information'!$I84=\"\",\"\",IF('INTERMEDIATE RESULTS'!M24=\"\",\"\",'INTERMEDIATE RESULTS'!M24))","v":""},"",{"$f":"IF('Entry Information'!$I84=\"\",\"\",IF('Entry Information'!T24=\"\",N23,N23-100))","v":""},"",{"$f":"IF($L23=\"\",\"\",(VLOOKUP($P$41,Worksheet!$A$11:$AE$41,P23+1,FALSE)))","v":""},{"$f":"IF('Entry Information'!$I84=\"\",\"\",'INTERMEDIATE RESULTS'!R24)","v":""},{"$f":"IF('Entry Information'!$I84=\"\",\"\",IF('INTERMEDIATE RESULTS'!S24=\"\",\"\",'INTERMEDIATE RESULTS'!S24))","v":""},"",{"$f":"IF('Entry Information'!$I84=\"\",\"\",IF('Entry Information'!V84=\"\",T23,T23-100))","v":""},"",{"$f":"IF($R23=\"\",\"\",(VLOOKUP($V$41,Worksheet!$A$11:$AE$41,V23+1,FALSE)))","v":""},{"$f":"IF('Entry Information'!$I84=\"\",\"\",'INTERMEDIATE RESULTS'!X24)","v":""},{"$f":"IF('Entry Information'!$I84=\"\",\"\",IF('INTERMEDIATE RESULTS'!Y24=\"\",\"\",'INTERMEDIATE RESULTS'!Y24))","v":""},"",{"$f":"IF('Entry Information'!$I84=\"\",\"\",IF('Entry Information'!X84=\"\",Z23,Z23-100))","v":""},"",{"$f":"IF($X23=\"\",\"\",(VLOOKUP($AB$41,Worksheet!$A$11:$AE$41,AB23+1,FALSE)))","v":""},{"$f":"IF('Entry Information'!$I84=\"\",\"\",'INTERMEDIATE RESULTS'!AD24)","v":""},{"$f":"IF('Entry Information'!$I84=\"\",\"\",IF('INTERMEDIATE RESULTS'!AE24=\"\",\"\",'INTERMEDIATE RESULTS'!AE24))","v":""},"",{"$f":"IF('Entry Information'!$I84=\"\",\"\",IF('Entry Information'!Z84=\"\",AF23,AF23-100))","v":""},"",{"$f":"IF($AD23=\"\",\"\",(VLOOKUP($AH$41,Worksheet!$A$11:$AE$41,AH23+1,FALSE)))","v":""}]
[{"$f":"IF('Entry Information'!I85=\"\",\"\",'Entry Information'!B85)","v":""},{"$f":"IF('Entry Information'!I85=\"\",\"\",'Entry Information'!C85)","v":""},{"$f":"IF('Entry Information'!I85=\"\",\"\",'Entry Information'!D85)","v":""},{"$f":"IF('Entry Information'!I85=\"\",\"\",'Entry Information'!E85)","v":""},"INT",{"$f":"IF('Entry Information'!$I85=\"\",\"\",'INTERMEDIATE RESULTS'!F25)","v":""},{"$f":"IF('Entry Information'!$I85=\"\",\"\",IF('INTERMEDIATE RESULTS'!G25=\"\",\"\",'INTERMEDIATE RESULTS'!G25))","v":""},"",{"$f":"IF('Entry Information'!$I85=\"\",\"\",IF('Entry Information'!R85=\"\",H24,H24-100))","v":""},"",{"$f":"IF($F24=\"\",\"\",(VLOOKUP($J$41,Worksheet!$A$11:$AE$41,J24+1,FALSE)))","v":""},{"$f":"IF('Entry Information'!$I85=\"\",\"\",'INTERMEDIATE RESULTS'!L25)","v":""},{"$f":"IF('Entry Information'!$I85=\"\",\"\",IF('INTERMEDIATE RESULTS'!M25=\"\",\"\",'INTERMEDIATE RESULTS'!M25))","v":""},"",{"$f":"IF('Entry Information'!$I85=\"\",\"\",IF('Entry Information'!T25=\"\",N24,N24-100))","v":""},"",{"$f":"IF($L24=\"\",\"\",(VLOOKUP($P$41,Worksheet!$A$11:$AE$41,P24+1,FALSE)))","v":""},{"$f":"IF('Entry Information'!$I85=\"\",\"\",'INTERMEDIATE RESULTS'!R25)","v":""},{"$f":"IF('Entry Information'!$I85=\"\",\"\",IF('INTERMEDIATE RESULTS'!S25=\"\",\"\",'INTERMEDIATE RESULTS'!S25))","v":""},"",{"$f":"IF('Entry Information'!$I85=\"\",\"\",IF('Entry Information'!V85=\"\",T24,T24-100))","v":""},"",{"$f":"IF($R24=\"\",\"\",(VLOOKUP($V$41,Worksheet!$A$11:$AE$41,V24+1,FALSE)))","v":""},{"$f":"IF('Entry Information'!$I85=\"\",\"\",'INTERMEDIATE RESULTS'!X25)","v":""},{"$f":"IF('Entry Information'!$I85=\"\",\"\",IF('INTERMEDIATE RESULTS'!Y25=\"\",\"\",'INTERMEDIATE RESULTS'!Y25))","v":""},"",{"$f":"IF('Entry Information'!$I85=\"\",\"\",IF('Entry Information'!X85=\"\",Z24,Z24-100))","v":""},"",{"$f":"IF($X24=\"\",\"\",(VLOOKUP($AB$41,Worksheet!$A$11:$AE$41,AB24+1,FALSE)))","v":""},{"$f":"IF('Entry Information'!$I85=\"\",\"\",'INTERMEDIATE RESULTS'!AD25)","v":""},{"$f":"IF('Entry Information'!$I85=\"\",\"\",IF('INTERMEDIATE RESULTS'!AE25=\"\",\"\",'INTERMEDIATE RESULTS'!AE25))","v":""},"",{"$f":"IF('Entry Information'!$I85=\"\",\"\",IF('Entry Information'!Z85=\"\",AF24,AF24-100))","v":""},"",{"$f":"IF($AD24=\"\",\"\",(VLOOKUP($AH$41,Worksheet!$A$11:$AE$41,AH24+1,FALSE)))","v":""}]
[{"$f":"IF('Entry Information'!I86=\"\",\"\",'Entry Information'!B86)","v":""},{"$f":"IF('Entry Information'!I86=\"\",\"\",'Entry Information'!C86)","v":""},{"$f":"IF('Entry Information'!I86=\"\",\"\",'Entry Information'!D86)","v":""},{"$f":"IF('Entry Information'!I86=\"\",\"\",'Entry Information'!E86)","v":""},"INT",{"$f":"IF('Entry Information'!$I86=\"\",\"\",'INTERMEDIATE RESULTS'!F26)","v":""},{"$f":"IF('Entry Information'!$I86=\"\",\"\",IF('INTERMEDIATE RESULTS'!G26=\"\",\"\",'INTERMEDIATE RESULTS'!G26))","v":""},"",{"$f":"IF('Entry Information'!$I86=\"\",\"\",IF('Entry Information'!R86=\"\",H25,H25-100))","v":""},"",{"$f":"IF($F25=\"\",\"\",(VLOOKUP($J$41,Worksheet!$A$11:$AE$41,J25+1,FALSE)))","v":""},{"$f":"IF('Entry Information'!$I86=\"\",\"\",'INTERMEDIATE RESULTS'!L26)","v":""},{"$f":"IF('Entry Information'!$I86=\"\",\"\",IF('INTERMEDIATE RESULTS'!M26=\"\",\"\",'INTERMEDIATE RESULTS'!M26))","v":""},"",{"$f":"IF('Entry Information'!$I86=\"\",\"\",IF('Entry Information'!T26=\"\",N25,N25-100))","v":""},"",{"$f":"IF($L25=\"\",\"\",(VLOOKUP($P$41,Worksheet!$A$11:$AE$41,P25+1,FALSE)))","v":""},{"$f":"IF('Entry Information'!$I86=\"\",\"\",'INTERMEDIATE RESULTS'!R26)","v":""},{"$f":"IF('Entry Information'!$I86=\"\",\"\",IF('INTERMEDIATE RESULTS'!S26=\"\",\"\",'INTERMEDIATE RESULTS'!S26))","v":""},"",{"$f":"IF('Entry Information'!$I86=\"\",\"\",IF('Entry Information'!V86=\"\",T25,T25-100))","v":""},"",{"$f":"IF($R25=\"\",\"\",(VLOOKUP($V$41,Worksheet!$A$11:$AE$41,V25+1,FALSE)))","v":""},{"$f":"IF('Entry Information'!$I86=\"\",\"\",'INTERMEDIATE RESULTS'!X26)","v":""},{"$f":"IF('Entry Information'!$I86=\"\",\"\",IF('INTERMEDIATE RESULTS'!Y26=\"\",\"\",'INTERMEDIATE RESULTS'!Y26))","v":""},"",{"$f":"IF('Entry Information'!$I86=\"\",\"\",IF('Entry Information'!X86=\"\",Z25,Z25-100))","v":""},"",{"$f":"IF($X25=\"\",\"\",(VLOOKUP($AB$41,Worksheet!$A$11:$AE$41,AB25+1,FALSE)))","v":""},{"$f":"IF('Entry Information'!$I86=\"\",\"\",'INTERMEDIATE RESULTS'!AD26)","v":""},{"$f":"IF('Entry Information'!$I86=\"\",\"\",IF('INTERMEDIATE RESULTS'!AE26=\"\",\"\",'INTERMEDIATE RESULTS'!AE26))","v":""},"",{"$f":"IF('Entry Information'!$I86=\"\",\"\",IF('Entry Information'!Z86=\"\",AF25,AF25-100))","v":""},"",{"$f":"IF($AD25=\"\",\"\",(VLOOKUP($AH$41,Worksheet!$A$11:$AE$41,AH25+1,FALSE)))","v":""}]
[{"$f":"IF('Entry Information'!I87=\"\",\"\",'Entry Information'!B87)","v":""},{"$f":"IF('Entry Information'!I87=\"\",\"\",'Entry Information'!C87)","v":""},{"$f":"IF('Entry Information'!I87=\"\",\"\",'Entry Information'!D87)","v":""},{"$f":"IF('Entry Information'!I87=\"\",\"\",'Entry Information'!E87)","v":""},"INT",{"$f":"IF('Entry Information'!$I87=\"\",\"\",'INTERMEDIATE RESULTS'!F27)","v":""},{"$f":"IF('Entry Information'!$I87=\"\",\"\",IF('INTERMEDIATE RESULTS'!G27=\"\",\"\",'INTERMEDIATE RESULTS'!G27))","v":""},"",{"$f":"IF('Entry Information'!$I87=\"\",\"\",IF('Entry Information'!R87=\"\",H26,H26-100))","v":""},"",{"$f":"IF($F26=\"\",\"\",(VLOOKUP($J$41,Worksheet!$A$11:$AE$41,J26+1,FALSE)))","v":""},{"$f":"IF('Entry Information'!$I87=\"\",\"\",'INTERMEDIATE RESULTS'!L27)","v":""},{"$f":"IF('Entry Information'!$I87=\"\",\"\",IF('INTERMEDIATE RESULTS'!M27=\"\",\"\",'INTERMEDIATE RESULTS'!M27))","v":""},"",{"$f":"IF('Entry Information'!$I87=\"\",\"\",IF('Entry Information'!T27=\"\",N26,N26-100))","v":""},"",{"$f":"IF($L26=\"\",\"\",(VLOOKUP($P$41,Worksheet!$A$11:$AE$41,P26+1,FALSE)))","v":""},{"$f":"IF('Entry Information'!$I87=\"\",\"\",'INTERMEDIATE RESULTS'!R27)","v":""},{"$f":"IF('Entry Information'!$I87=\"\",\"\",IF('INTERMEDIATE RESULTS'!S27=\"\",\"\",'INTERMEDIATE RESULTS'!S27))","v":""},"",{"$f":"IF('Entry Information'!$I87=\"\",\"\",IF('Entry Information'!V87=\"\",T26,T26-100))","v":""},"",{"$f":"IF($R26=\"\",\"\",(VLOOKUP($V$41,Worksheet!$A$11:$AE$41,V26+1,FALSE)))","v":""},{"$f":"IF('Entry Information'!$I87=\"\",\"\",'INTERMEDIATE RESULTS'!X27)","v":""},{"$f":"IF('Entry Information'!$I87=\"\",\"\",IF('INTERMEDIATE RESULTS'!Y27=\"\",\"\",'INTERMEDIATE RESULTS'!Y27))","v":""},"",{"$f":"IF('Entry Information'!$I87=\"\",\"\",IF('Entry Information'!X87=\"\",Z26,Z26-100))","v":""},"",{"$f":"IF($X26=\"\",\"\",(VLOOKUP($AB$41,Worksheet!$A$11:$AE$41,AB26+1,FALSE)))","v":""},{"$f":"IF('Entry Information'!$I87=\"\",\"\",'INTERMEDIATE RESULTS'!AD27)","v":""},{"$f":"IF('Entry Information'!$I87=\"\",\"\",IF('INTERMEDIATE RESULTS'!AE27=\"\",\"\",'INTERMEDIATE RESULTS'!AE27))","v":""},"",{"$f":"IF('Entry Information'!$I87=\"\",\"\",IF('Entry Information'!Z87=\"\",AF26,AF26-100))","v":""},"",{"$f":"IF($AD26=\"\",\"\",(VLOOKUP($AH$41,Worksheet!$A$11:$AE$41,AH26+1,FALSE)))","v":""}]
[{"$f":"IF('Entry Information'!I88=\"\",\"\",'Entry Information'!B88)","v":""},{"$f":"IF('Entry Information'!I88=\"\",\"\",'Entry Information'!C88)","v":""},{"$f":"IF('Entry Information'!I88=\"\",\"\",'Entry Information'!D88)","v":""},{"$f":"IF('Entry Information'!I88=\"\",\"\",'Entry Information'!E88)","v":""},"INT",{"$f":"IF('Entry Information'!$I88=\"\",\"\",'INTERMEDIATE RESULTS'!F28)","v":""},{"$f":"IF('Entry Information'!$I88=\"\",\"\",IF('INTERMEDIATE RESULTS'!G28=\"\",\"\",'INTERMEDIATE RESULTS'!G28))","v":""},"",{"$f":"IF('Entry Information'!$I88=\"\",\"\",IF('Entry Information'!R88=\"\",H27,H27-100))","v":""},"",{"$f":"IF($F27=\"\",\"\",(VLOOKUP($J$41,Worksheet!$A$11:$AE$41,J27+1,FALSE)))","v":""},{"$f":"IF('Entry Information'!$I88=\"\",\"\",'INTERMEDIATE RESULTS'!L28)","v":""},{"$f":"IF('Entry Information'!$I88=\"\",\"\",IF('INTERMEDIATE RESULTS'!M28=\"\",\"\",'INTERMEDIATE RESULTS'!M28))","v":""},"",{"$f":"IF('Entry Information'!$I88=\"\",\"\",IF('Entry Information'!T28=\"\",N27,N27-100))","v":""},"",{"$f":"IF($L27=\"\",\"\",(VLOOKUP($P$41,Worksheet!$A$11:$AE$41,P27+1,FALSE)))","v":""},{"$f":"IF('Entry Information'!$I88=\"\",\"\",'INTERMEDIATE RESULTS'!R28)","v":""},{"$f":"IF('Entry Information'!$I88=\"\",\"\",IF('INTERMEDIATE RESULTS'!S28=\"\",\"\",'INTERMEDIATE RESULTS'!S28))","v":""},"",{"$f":"IF('Entry Information'!$I88=\"\",\"\",IF('Entry Information'!V88=\"\",T27,T27-100))","v":""},"",{"$f":"IF($R27=\"\",\"\",(VLOOKUP($V$41,Worksheet!$A$11:$AE$41,V27+1,FALSE)))","v":""},{"$f":"IF('Entry Information'!$I88=\"\",\"\",'INTERMEDIATE RESULTS'!X28)","v":""},{"$f":"IF('Entry Information'!$I88=\"\",\"\",IF('INTERMEDIATE RESULTS'!Y28=\"\",\"\",'INTERMEDIATE RESULTS'!Y28))","v":""},"",{"$f":"IF('Entry Information'!$I88=\"\",\"\",IF('Entry Information'!X88=\"\",Z27,Z27-100))","v":""},"",{"$f":"IF($X27=\"\",\"\",(VLOOKUP($AB$41,Worksheet!$A$11:$AE$41,AB27+1,FALSE)))","v":""},{"$f":"IF('Entry Information'!$I88=\"\",\"\",'INTERMEDIATE RESULTS'!AD28)","v":""},{"$f":"IF('Entry Information'!$I88=\"\",\"\",IF('INTERMEDIATE RESULTS'!AE28=\"\",\"\",'INTERMEDIATE RESULTS'!AE28))","v":""},"",{"$f":"IF('Entry Information'!$I88=\"\",\"\",IF('Entry Information'!Z88=\"\",AF27,AF27-100))","v":""},"",{"$f":"IF($AD27=\"\",\"\",(VLOOKUP($AH$41,Worksheet!$A$11:$AE$41,AH27+1,FALSE)))","v":""}]
[{"$f":"IF('Entry Information'!I89=\"\",\"\",'Entry Information'!B89)","v":""},{"$f":"IF('Entry Information'!I89=\"\",\"\",'Entry Information'!C89)","v":""},{"$f":"IF('Entry Information'!I89=\"\",\"\",'Entry Information'!D89)","v":""},{"$f":"IF('Entry Information'!I89=\"\",\"\",'Entry Information'!E89)","v":""},"INT",{"$f":"IF('Entry Information'!$I89=\"\",\"\",'INTERMEDIATE RESULTS'!F29)","v":""},{"$f":"IF('Entry Information'!$I89=\"\",\"\",IF('INTERMEDIATE RESULTS'!G29=\"\",\"\",'INTERMEDIATE RESULTS'!G29))","v":""},"",{"$f":"IF('Entry Information'!$I89=\"\",\"\",IF('Entry Information'!R89=\"\",H28,H28-100))","v":""},"",{"$f":"IF($F28=\"\",\"\",(VLOOKUP($J$41,Worksheet!$A$11:$AE$41,J28+1,FALSE)))","v":""},{"$f":"IF('Entry Information'!$I89=\"\",\"\",'INTERMEDIATE RESULTS'!L29)","v":""},{"$f":"IF('Entry Information'!$I89=\"\",\"\",IF('INTERMEDIATE RESULTS'!M29=\"\",\"\",'INTERMEDIATE RESULTS'!M29))","v":""},"",{"$f":"IF('Entry Information'!$I89=\"\",\"\",IF('Entry Information'!T29=\"\",N28,N28-100))","v":""},"",{"$f":"IF($L28=\"\",\"\",(VLOOKUP($P$41,Worksheet!$A$11:$AE$41,P28+1,FALSE)))","v":""},{"$f":"IF('Entry Information'!$I89=\"\",\"\",'INTERMEDIATE RESULTS'!R29)","v":""},{"$f":"IF('Entry Information'!$I89=\"\",\"\",IF('INTERMEDIATE RESULTS'!S29=\"\",\"\",'INTERMEDIATE RESULTS'!S29))","v":""},"",{"$f":"IF('Entry Information'!$I89=\"\",\"\",IF('Entry Information'!V89=\"\",T28,T28-100))","v":""},"",{"$f":"IF($R28=\"\",\"\",(VLOOKUP($V$41,Worksheet!$A$11:$AE$41,V28+1,FALSE)))","v":""},{"$f":"IF('Entry Information'!$I89=\"\",\"\",'INTERMEDIATE RESULTS'!X29)","v":""},{"$f":"IF('Entry Information'!$I89=\"\",\"\",IF('INTERMEDIATE RESULTS'!Y29=\"\",\"\",'INTERMEDIATE RESULTS'!Y29))","v":""},"",{"$f":"IF('Entry Information'!$I89=\"\",\"\",IF('Entry Information'!X89=\"\",Z28,Z28-100))","v":""},"",{"$f":"IF($X28=\"\",\"\",(VLOOKUP($AB$41,Worksheet!$A$11:$AE$41,AB28+1,FALSE)))","v":""},{"$f":"IF('Entry Information'!$I89=\"\",\"\",'INTERMEDIATE RESULTS'!AD29)","v":""},{"$f":"IF('Entry Information'!$I89=\"\",\"\",IF('INTERMEDIATE RESULTS'!AE29=\"\",\"\",'INTERMEDIATE RESULTS'!AE29))","v":""},"",{"$f":"IF('Entry Information'!$I89=\"\",\"\",IF('Entry Information'!Z89=\"\",AF28,AF28-100))","v":""},"",{"$f":"IF($AD28=\"\",\"\",(VLOOKUP($AH$41,Worksheet!$A$11:$AE$41,AH28+1,FALSE)))","v":""}]
[{"$f":"IF('Entry Information'!I90=\"\",\"\",'Entry Information'!B90)","v":""},{"$f":"IF('Entry Information'!I90=\"\",\"\",'Entry Information'!C90)","v":""},{"$f":"IF('Entry Information'!I90=\"\",\"\",'Entry Information'!D90)","v":""},{"$f":"IF('Entry Information'!I90=\"\",\"\",'Entry Information'!E90)","v":""},"INT",{"$f":"IF('Entry Information'!$I90=\"\",\"\",'INTERMEDIATE RESULTS'!F30)","v":""},{"$f":"IF('Entry Information'!$I90=\"\",\"\",IF('INTERMEDIATE RESULTS'!G30=\"\",\"\",'INTERMEDIATE RESULTS'!G30))","v":""},"",{"$f":"IF('Entry Information'!$I90=\"\",\"\",IF('Entry Information'!R90=\"\",H29,H29-100))","v":""},"",{"$f":"IF($F29=\"\",\"\",(VLOOKUP($J$41,Worksheet!$A$11:$AE$41,J29+1,FALSE)))","v":""},{"$f":"IF('Entry Information'!$I90=\"\",\"\",'INTERMEDIATE RESULTS'!L30)","v":""},{"$f":"IF('Entry Information'!$I90=\"\",\"\",IF('INTERMEDIATE RESULTS'!M30=\"\",\"\",'INTERMEDIATE RESULTS'!M30))","v":""},"",{"$f":"IF('Entry Information'!$I90=\"\",\"\",IF('Entry Information'!T30=\"\",N29,N29-100))","v":""},"",{"$f":"IF($L29=\"\",\"\",(VLOOKUP($P$41,Worksheet!$A$11:$AE$41,P29+1,FALSE)))","v":""},{"$f":"IF('Entry Information'!$I90=\"\",\"\",'INTERMEDIATE RESULTS'!R30)","v":""},{"$f":"IF('Entry Information'!$I90=\"\",\"\",IF('INTERMEDIATE RESULTS'!S30=\"\",\"\",'INTERMEDIATE RESULTS'!S30))","v":""},"",{"$f":"IF('Entry Information'!$I90=\"\",\"\",IF('Entry Information'!V90=\"\",T29,T29-100))","v":""},"",{"$f":"IF($R29=\"\",\"\",(VLOOKUP($V$41,Worksheet!$A$11:$AE$41,V29+1,FALSE)))","v":""},{"$f":"IF('Entry Information'!$I90=\"\",\"\",'INTERMEDIATE RESULTS'!X30)","v":""},{"$f":"IF('Entry Information'!$I90=\"\",\"\",IF('INTERMEDIATE RESULTS'!Y30=\"\",\"\",'INTERMEDIATE RESULTS'!Y30))","v":""},"",{"$f":"IF('Entry Information'!$I90=\"\",\"\",IF('Entry Information'!X90=\"\",Z29,Z29-100))","v":""},"",{"$f":"IF($X29=\"\",\"\",(VLOOKUP($AB$41,Worksheet!$A$11:$AE$41,AB29+1,FALSE)))","v":""},{"$f":"IF('Entry Information'!$I90=\"\",\"\",'INTERMEDIATE RESULTS'!AD30)","v":""},{"$f":"IF('Entry Information'!$I90=\"\",\"\",IF('INTERMEDIATE RESULTS'!AE30=\"\",\"\",'INTERMEDIATE RESULTS'!AE30))","v":""},"",{"$f":"IF('Entry Information'!$I90=\"\",\"\",IF('Entry Information'!Z90=\"\",AF29,AF29-100))","v":""},"",{"$f":"IF($AD29=\"\",\"\",(VLOOKUP($AH$41,Worksheet!$A$11:$AE$41,AH29+1,FALSE)))","v":""}]
[{"$f":"IF('Entry Information'!I91=\"\",\"\",'Entry Information'!B91)","v":""},{"$f":"IF('Entry Information'!I91=\"\",\"\",'Entry Information'!C91)","v":""},{"$f":"IF('Entry Information'!I91=\"\",\"\",'Entry Information'!D91)","v":""},{"$f":"IF('Entry Information'!I91=\"\",\"\",'Entry Information'!E91)","v":""},"INT",{"$f":"IF('Entry Information'!$I91=\"\",\"\",'INTERMEDIATE RESULTS'!F31)","v":""},{"$f":"IF('Entry Information'!$I91=\"\",\"\",IF('INTERMEDIATE RESULTS'!G31=\"\",\"\",'INTERMEDIATE RESULTS'!G31))","v":""},"",{"$f":"IF('Entry Information'!$I91=\"\",\"\",IF('Entry Information'!R91=\"\",H30,H30-100))","v":""},"",{"$f":"IF($F30=\"\",\"\",(VLOOKUP($J$41,Worksheet!$A$11:$AE$41,J30+1,FALSE)))","v":""},{"$f":"IF('Entry Information'!$I91=\"\",\"\",'INTERMEDIATE RESULTS'!L31)","v":""},{"$f":"IF('Entry Information'!$I91=\"\",\"\",IF('INTERMEDIATE RESULTS'!M31=\"\",\"\",'INTERMEDIATE RESULTS'!M31))","v":""},"",{"$f":"IF('Entry Information'!$I91=\"\",\"\",IF('Entry Information'!T31=\"\",N30,N30-100))","v":""},"",{"$f":"IF($L30=\"\",\"\",(VLOOKUP($P$41,Worksheet!$A$11:$AE$41,P30+1,FALSE)))","v":""},{"$f":"IF('Entry Information'!$I91=\"\",\"\",'INTERMEDIATE RESULTS'!R31)","v":""},{"$f":"IF('Entry Information'!$I91=\"\",\"\",IF('INTERMEDIATE RESULTS'!S31=\"\",\"\",'INTERMEDIATE RESULTS'!S31))","v":""},"",{"$f":"IF('Entry Information'!$I91=\"\",\"\",IF('Entry Information'!V91=\"\",T30,T30-100))","v":""},"",{"$f":"IF($R30=\"\",\"\",(VLOOKUP($V$41,Worksheet!$A$11:$AE$41,V30+1,FALSE)))","v":""},{"$f":"IF('Entry Information'!$I91=\"\",\"\",'INTERMEDIATE RESULTS'!X31)","v":""},{"$f":"IF('Entry Information'!$I91=\"\",\"\",IF('INTERMEDIATE RESULTS'!Y31=\"\",\"\",'INTERMEDIATE RESULTS'!Y31))","v":""},"",{"$f":"IF('Entry Information'!$I91=\"\",\"\",IF('Entry Information'!X91=\"\",Z30,Z30-100))","v":""},"",{"$f":"IF($X30=\"\",\"\",(VLOOKUP($AB$41,Worksheet!$A$11:$AE$41,AB30+1,FALSE)))","v":""},{"$f":"IF('Entry Information'!$I91=\"\",\"\",'INTERMEDIATE RESULTS'!AD31)","v":""},{"$f":"IF('Entry Information'!$I91=\"\",\"\",IF('INTERMEDIATE RESULTS'!AE31=\"\",\"\",'INTERMEDIATE RESULTS'!AE31))","v":""},"",{"$f":"IF('Entry Information'!$I91=\"\",\"\",IF('Entry Information'!Z91=\"\",AF30,AF30-100))","v":""},"",{"$f":"IF($AD30=\"\",\"\",(VLOOKUP($AH$41,Worksheet!$A$11:$AE$41,AH30+1,FALSE)))","v":""}]
[{"$f":"IF('Entry Information'!I92=\"\",\"\",'Entry Information'!B92)","v":""},{"$f":"IF('Entry Information'!I92=\"\",\"\",'Entry Information'!C92)","v":""},{"$f":"IF('Entry Information'!I92=\"\",\"\",'Entry Information'!D92)","v":""},{"$f":"IF('Entry Information'!I92=\"\",\"\",'Entry Information'!E92)","v":""},"INT",{"$f":"IF('Entry Information'!$I92=\"\",\"\",'INTERMEDIATE RESULTS'!F32)","v":""},{"$f":"IF('Entry Information'!$I92=\"\",\"\",IF('INTERMEDIATE RESULTS'!G32=\"\",\"\",'INTERMEDIATE RESULTS'!G32))","v":""},"",{"$f":"IF('Entry Information'!$I92=\"\",\"\",IF('Entry Information'!R92=\"\",H31,H31-100))","v":""},"",{"$f":"IF($F31=\"\",\"\",(VLOOKUP($J$41,Worksheet!$A$11:$AE$41,J31+1,FALSE)))","v":""},{"$f":"IF('Entry Information'!$I92=\"\",\"\",'INTERMEDIATE RESULTS'!L32)","v":""},{"$f":"IF('Entry Information'!$I92=\"\",\"\",IF('INTERMEDIATE RESULTS'!M32=\"\",\"\",'INTERMEDIATE RESULTS'!M32))","v":""},"",{"$f":"IF('Entry Information'!$I92=\"\",\"\",IF('Entry Information'!T32=\"\",N31,N31-100))","v":""},"",{"$f":"IF($L31=\"\",\"\",(VLOOKUP($P$41,Worksheet!$A$11:$AE$41,P31+1,FALSE)))","v":""},{"$f":"IF('Entry Information'!$I92=\"\",\"\",'INTERMEDIATE RESULTS'!R32)","v":""},{"$f":"IF('Entry Information'!$I92=\"\",\"\",IF('INTERMEDIATE RESULTS'!S32=\"\",\"\",'INTERMEDIATE RESULTS'!S32))","v":""},"",{"$f":"IF('Entry Information'!$I92=\"\",\"\",IF('Entry Information'!V92=\"\",T31,T31-100))","v":""},"",{"$f":"IF($R31=\"\",\"\",(VLOOKUP($V$41,Worksheet!$A$11:$AE$41,V31+1,FALSE)))","v":""},{"$f":"IF('Entry Information'!$I92=\"\",\"\",'INTERMEDIATE RESULTS'!X32)","v":""},{"$f":"IF('Entry Information'!$I92=\"\",\"\",IF('INTERMEDIATE RESULTS'!Y32=\"\",\"\",'INTERMEDIATE RESULTS'!Y32))","v":""},"",{"$f":"IF('Entry Information'!$I92=\"\",\"\",IF('Entry Information'!X92=\"\",Z31,Z31-100))","v":""},"",{"$f":"IF($X31=\"\",\"\",(VLOOKUP($AB$41,Worksheet!$A$11:$AE$41,AB31+1,FALSE)))","v":""},{"$f":"IF('Entry Information'!$I92=\"\",\"\",'INTERMEDIATE RESULTS'!AD32)","v":""},{"$f":"IF('Entry Information'!$I92=\"\",\"\",IF('INTERMEDIATE RESULTS'!AE32=\"\",\"\",'INTERMEDIATE RESULTS'!AE32))","v":""},"",{"$f":"IF('Entry Information'!$I92=\"\",\"\",IF('Entry Information'!Z92=\"\",AF31,AF31-100))","v":""},"",{"$f":"IF($AD31=\"\",\"\",(VLOOKUP($AH$41,Worksheet!$A$11:$AE$41,AH31+1,FALSE)))","v":""}]
[{"$f":"IF('Entry Information'!I93=\"\",\"\",'Entry Information'!B93)","v":""},{"$f":"IF('Entry Information'!I93=\"\",\"\",'Entry Information'!C93)","v":""},{"$f":"IF('Entry Information'!I93=\"\",\"\",'Entry Information'!D93)","v":""},{"$f":"IF('Entry Information'!I93=\"\",\"\",'Entry Information'!E93)","v":""},"INT",{"$f":"IF('Entry Information'!$I93=\"\",\"\",'INTERMEDIATE RESULTS'!F33)","v":""},{"$f":"IF('Entry Information'!$I93=\"\",\"\",IF('INTERMEDIATE RESULTS'!G33=\"\",\"\",'INTERMEDIATE RESULTS'!G33))","v":""},"",{"$f":"IF('Entry Information'!$I93=\"\",\"\",IF('Entry Information'!R93=\"\",H32,H32-100))","v":""},"",{"$f":"IF($F32=\"\",\"\",(VLOOKUP($J$41,Worksheet!$A$11:$AE$41,J32+1,FALSE)))","v":""},{"$f":"IF('Entry Information'!$I93=\"\",\"\",'INTERMEDIATE RESULTS'!L33)","v":""},{"$f":"IF('Entry Information'!$I93=\"\",\"\",IF('INTERMEDIATE RESULTS'!M33=\"\",\"\",'INTERMEDIATE RESULTS'!M33))","v":""},"",{"$f":"IF('Entry Information'!$I93=\"\",\"\",IF('Entry Information'!T33=\"\",N32,N32-100))","v":""},"",{"$f":"IF($L32=\"\",\"\",(VLOOKUP($P$41,Worksheet!$A$11:$AE$41,P32+1,FALSE)))","v":""},{"$f":"IF('Entry Information'!$I93=\"\",\"\",'INTERMEDIATE RESULTS'!R33)","v":""},{"$f":"IF('Entry Information'!$I93=\"\",\"\",IF('INTERMEDIATE RESULTS'!S33=\"\",\"\",'INTERMEDIATE RESULTS'!S33))","v":""},"",{"$f":"IF('Entry Information'!$I93=\"\",\"\",IF('Entry Information'!V93=\"\",T32,T32-100))","v":""},"",{"$f":"IF($R32=\"\",\"\",(VLOOKUP($V$41,Worksheet!$A$11:$AE$41,V32+1,FALSE)))","v":""},{"$f":"IF('Entry Information'!$I93=\"\",\"\",'INTERMEDIATE RESULTS'!X33)","v":""},{"$f":"IF('Entry Information'!$I93=\"\",\"\",IF('INTERMEDIATE RESULTS'!Y33=\"\",\"\",'INTERMEDIATE RESULTS'!Y33))","v":""},"",{"$f":"IF('Entry Information'!$I93=\"\",\"\",IF('Entry Information'!X93=\"\",Z32,Z32-100))","v":""},"",{"$f":"IF($X32=\"\",\"\",(VLOOKUP($AB$41,Worksheet!$A$11:$AE$41,AB32+1,FALSE)))","v":""},{"$f":"IF('Entry Information'!$I93=\"\",\"\",'INTERMEDIATE RESULTS'!AD33)","v":""},{"$f":"IF('Entry Information'!$I93=\"\",\"\",IF('INTERMEDIATE RESULTS'!AE33=\"\",\"\",'INTERMEDIATE RESULTS'!AE33))","v":""},"",{"$f":"IF('Entry Information'!$I93=\"\",\"\",IF('Entry Information'!Z93=\"\",AF32,AF32-100))","v":""},"",{"$f":"IF($AD32=\"\",\"\",(VLOOKUP($AH$41,Worksheet!$A$11:$AE$41,AH32+1,FALSE)))","v":""}]
[{"$f":"IF('Entry Information'!I94=\"\",\"\",'Entry Information'!B94)","v":""},{"$f":"IF('Entry Information'!I94=\"\",\"\",'Entry Information'!C94)","v":""},{"$f":"IF('Entry Information'!I94=\"\",\"\",'Entry Information'!D94)","v":""},{"$f":"IF('Entry Information'!I94=\"\",\"\",'Entry Information'!E94)","v":""},"INT",{"$f":"IF('Entry Information'!$I94=\"\",\"\",'INTERMEDIATE RESULTS'!F34)","v":""},{"$f":"IF('Entry Information'!$I94=\"\",\"\",IF('INTERMEDIATE RESULTS'!G34=\"\",\"\",'INTERMEDIATE RESULTS'!G34))","v":""},"",{"$f":"IF('Entry Information'!$I94=\"\",\"\",IF('Entry Information'!R94=\"\",H33,H33-100))","v":""},"",{"$f":"IF($F33=\"\",\"\",(VLOOKUP($J$41,Worksheet!$A$11:$AE$41,J33+1,FALSE)))","v":""},{"$f":"IF('Entry Information'!$I94=\"\",\"\",'INTERMEDIATE RESULTS'!L34)","v":""},{"$f":"IF('Entry Information'!$I94=\"\",\"\",IF('INTERMEDIATE RESULTS'!M34=\"\",\"\",'INTERMEDIATE RESULTS'!M34))","v":""},"",{"$f":"IF('Entry Information'!$I94=\"\",\"\",IF('Entry Information'!T34=\"\",N33,N33-100))","v":""},"",{"$f":"IF($L33=\"\",\"\",(VLOOKUP($P$41,Worksheet!$A$11:$AE$41,P33+1,FALSE)))","v":""},{"$f":"IF('Entry Information'!$I94=\"\",\"\",'INTERMEDIATE RESULTS'!R34)","v":""},{"$f":"IF('Entry Information'!$I94=\"\",\"\",IF('INTERMEDIATE RESULTS'!S34=\"\",\"\",'INTERMEDIATE RESULTS'!S34))","v":""},"",{"$f":"IF('Entry Information'!$I94=\"\",\"\",IF('Entry Information'!V94=\"\",T33,T33-100))","v":""},"",{"$f":"IF($R33=\"\",\"\",(VLOOKUP($V$41,Worksheet!$A$11:$AE$41,V33+1,FALSE)))","v":""},{"$f":"IF('Entry Information'!$I94=\"\",\"\",'INTERMEDIATE RESULTS'!X34)","v":""},{"$f":"IF('Entry Information'!$I94=\"\",\"\",IF('INTERMEDIATE RESULTS'!Y34=\"\",\"\",'INTERMEDIATE RESULTS'!Y34))","v":""},"",{"$f":"IF('Entry Information'!$I94=\"\",\"\",IF('Entry Information'!X94=\"\",Z33,Z33-100))","v":""},"",{"$f":"IF($X33=\"\",\"\",(VLOOKUP($AB$41,Worksheet!$A$11:$AE$41,AB33+1,FALSE)))","v":""},{"$f":"IF('Entry Information'!$I94=\"\",\"\",'INTERMEDIATE RESULTS'!AD34)","v":""},{"$f":"IF('Entry Information'!$I94=\"\",\"\",IF('INTERMEDIATE RESULTS'!AE34=\"\",\"\",'INTERMEDIATE RESULTS'!AE34))","v":""},"",{"$f":"IF('Entry Information'!$I94=\"\",\"\",IF('Entry Information'!Z94=\"\",AF33,AF33-100))","v":""},"",{"$f":"IF($AD33=\"\",\"\",(VLOOKUP($AH$41,Worksheet!$A$11:$AE$41,AH33+1,FALSE)))","v":""}]
[{"$f":"IF('Entry Information'!I95=\"\",\"\",'Entry Information'!B95)","v":""},{"$f":"IF('Entry Information'!I95=\"\",\"\",'Entry Information'!C95)","v":""},{"$f":"IF('Entry Information'!I95=\"\",\"\",'Entry Information'!D95)","v":""},{"$f":"IF('Entry Information'!I95=\"\",\"\",'Entry Information'!E95)","v":""},"INT",{"$f":"IF('Entry Information'!$I95=\"\",\"\",'INTERMEDIATE RESULTS'!F35)","v":""},{"$f":"IF('Entry Information'!$I95=\"\",\"\",IF('INTERMEDIATE RESULTS'!G35=\"\",\"\",'INTERMEDIATE RESULTS'!G35))","v":""},"",{"$f":"IF('Entry Information'!$I95=\"\",\"\",IF('Entry Information'!R95=\"\",H34,H34-100))","v":""},"",{"$f":"IF($F34=\"\",\"\",(VLOOKUP($J$41,Worksheet!$A$11:$AE$41,J34+1,FALSE)))","v":""},{"$f":"IF('Entry Information'!$I95=\"\",\"\",'INTERMEDIATE RESULTS'!L35)","v":""},{"$f":"IF('Entry Information'!$I95=\"\",\"\",IF('INTERMEDIATE RESULTS'!M35=\"\",\"\",'INTERMEDIATE RESULTS'!M35))","v":""},"",{"$f":"IF('Entry Information'!$I95=\"\",\"\",IF('Entry Information'!T35=\"\",N34,N34-100))","v":""},"",{"$f":"IF($L34=\"\",\"\",(VLOOKUP($P$41,Worksheet!$A$11:$AE$41,P34+1,FALSE)))","v":""},{"$f":"IF('Entry Information'!$I95=\"\",\"\",'INTERMEDIATE RESULTS'!R35)","v":""},{"$f":"IF('Entry Information'!$I95=\"\",\"\",IF('INTERMEDIATE RESULTS'!S35=\"\",\"\",'INTERMEDIATE RESULTS'!S35))","v":""},"",{"$f":"IF('Entry Information'!$I95=\"\",\"\",IF('Entry Information'!V95=\"\",T34,T34-100))","v":""},"",{"$f":"IF($R34=\"\",\"\",(VLOOKUP($V$41,Worksheet!$A$11:$AE$41,V34+1,FALSE)))","v":""},{"$f":"IF('Entry Information'!$I95=\"\",\"\",'INTERMEDIATE RESULTS'!X35)","v":""},{"$f":"IF('Entry Information'!$I95=\"\",\"\",IF('INTERMEDIATE RESULTS'!Y35=\"\",\"\",'INTERMEDIATE RESULTS'!Y35))","v":""},"",{"$f":"IF('Entry Information'!$I95=\"\",\"\",IF('Entry Information'!X95=\"\",Z34,Z34-100))","v":""},"",{"$f":"IF($X34=\"\",\"\",(VLOOKUP($AB$41,Worksheet!$A$11:$AE$41,AB34+1,FALSE)))","v":""},{"$f":"IF('Entry Information'!$I95=\"\",\"\",'INTERMEDIATE RESULTS'!AD35)","v":""},{"$f":"IF('Entry Information'!$I95=\"\",\"\",IF('INTERMEDIATE RESULTS'!AE35=\"\",\"\",'INTERMEDIATE RESULTS'!AE35))","v":""},"",{"$f":"IF('Entry Information'!$I95=\"\",\"\",IF('Entry Information'!Z95=\"\",AF34,AF34-100))","v":""},"",{"$f":"IF($AD34=\"\",\"\",(VLOOKUP($AH$41,Worksheet!$A$11:$AE$41,AH34+1,FALSE)))","v":""}]
[{"$f":"IF('Entry Information'!I96=\"\",\"\",'Entry Information'!B96)","v":""},{"$f":"IF('Entry Information'!I96=\"\",\"\",'Entry Information'!C96)","v":""},{"$f":"IF('Entry Information'!I96=\"\",\"\",'Entry Information'!D96)","v":""},{"$f":"IF('Entry Information'!I96=\"\",\"\",'Entry Information'!E96)","v":""},"INT",{"$f":"IF('Entry Information'!$I96=\"\",\"\",'INTERMEDIATE RESULTS'!F36)","v":""},{"$f":"IF('Entry Information'!$I96=\"\",\"\",IF('INTERMEDIATE RESULTS'!G36=\"\",\"\",'INTERMEDIATE RESULTS'!G36))","v":""},"",{"$f":"IF('Entry Information'!$I96=\"\",\"\",IF('Entry Information'!R96=\"\",H35,H35-100))","v":""},"",{"$f":"IF($F35=\"\",\"\",(VLOOKUP($J$41,Worksheet!$A$11:$AE$41,J35+1,FALSE)))","v":""},{"$f":"IF('Entry Information'!$I96=\"\",\"\",'INTERMEDIATE RESULTS'!L36)","v":""},{"$f":"IF('Entry Information'!$I96=\"\",\"\",IF('INTERMEDIATE RESULTS'!M36=\"\",\"\",'INTERMEDIATE RESULTS'!M36))","v":""},"",{"$f":"IF('Entry Information'!$I96=\"\",\"\",IF('Entry Information'!T36=\"\",N35,N35-100))","v":""},"",{"$f":"IF($L35=\"\",\"\",(VLOOKUP($P$41,Worksheet!$A$11:$AE$41,P35+1,FALSE)))","v":""},{"$f":"IF('Entry Information'!$I96=\"\",\"\",'INTERMEDIATE RESULTS'!R36)","v":""},{"$f":"IF('Entry Information'!$I96=\"\",\"\",IF('INTERMEDIATE RESULTS'!S36=\"\",\"\",'INTERMEDIATE RESULTS'!S36))","v":""},"",{"$f":"IF('Entry Information'!$I96=\"\",\"\",IF('Entry Information'!V96=\"\",T35,T35-100))","v":""},"",{"$f":"IF($R35=\"\",\"\",(VLOOKUP($V$41,Worksheet!$A$11:$AE$41,V35+1,FALSE)))","v":""},{"$f":"IF('Entry Information'!$I96=\"\",\"\",'INTERMEDIATE RESULTS'!X36)","v":""},{"$f":"IF('Entry Information'!$I96=\"\",\"\",IF('INTERMEDIATE RESULTS'!Y36=\"\",\"\",'INTERMEDIATE RESULTS'!Y36))","v":""},"",{"$f":"IF('Entry Information'!$I96=\"\",\"\",IF('Entry Information'!X96=\"\",Z35,Z35-100))","v":""},"",{"$f":"IF($X35=\"\",\"\",(VLOOKUP($AB$41,Worksheet!$A$11:$AE$41,AB35+1,FALSE)))","v":""},{"$f":"IF('Entry Information'!$I96=\"\",\"\",'INTERMEDIATE RESULTS'!AD36)","v":""},{"$f":"IF('Entry Information'!$I96=\"\",\"\",IF('INTERMEDIATE RESULTS'!AE36=\"\",\"\",'INTERMEDIATE RESULTS'!AE36))","v":""},"",{"$f":"IF('Entry Information'!$I96=\"\",\"\",IF('Entry Information'!Z96=\"\",AF35,AF35-100))","v":""},"",{"$f":"IF($AD35=\"\",\"\",(VLOOKUP($AH$41,Worksheet!$A$11:$AE$41,AH35+1,FALSE)))","v":""}]
[{"$f":"IF('Entry Information'!I97=\"\",\"\",'Entry Information'!B97)","v":""},{"$f":"IF('Entry Information'!I97=\"\",\"\",'Entry Information'!C97)","v":""},{"$f":"IF('Entry Information'!I97=\"\",\"\",'Entry Information'!D97)","v":""},{"$f":"IF('Entry Information'!I97=\"\",\"\",'Entry Information'!E97)","v":""},"INT",{"$f":"IF('Entry Information'!$I97=\"\",\"\",'INTERMEDIATE RESULTS'!F37)","v":""},{"$f":"IF('Entry Information'!$I97=\"\",\"\",IF('INTERMEDIATE RESULTS'!G37=\"\",\"\",'INTERMEDIATE RESULTS'!G37))","v":""},"",{"$f":"IF('Entry Information'!$I97=\"\",\"\",IF('Entry Information'!R97=\"\",H36,H36-100))","v":""},"",{"$f":"IF($F36=\"\",\"\",(VLOOKUP($J$41,Worksheet!$A$11:$AE$41,J36+1,FALSE)))","v":""},{"$f":"IF('Entry Information'!$I97=\"\",\"\",'INTERMEDIATE RESULTS'!L37)","v":""},{"$f":"IF('Entry Information'!$I97=\"\",\"\",IF('INTERMEDIATE RESULTS'!M37=\"\",\"\",'INTERMEDIATE RESULTS'!M37))","v":""},"",{"$f":"IF('Entry Information'!$I97=\"\",\"\",IF('Entry Information'!T37=\"\",N36,N36-100))","v":""},"",{"$f":"IF($L36=\"\",\"\",(VLOOKUP($P$41,Worksheet!$A$11:$AE$41,P36+1,FALSE)))","v":""},{"$f":"IF('Entry Information'!$I97=\"\",\"\",'INTERMEDIATE RESULTS'!R37)","v":""},{"$f":"IF('Entry Information'!$I97=\"\",\"\",IF('INTERMEDIATE RESULTS'!S37=\"\",\"\",'INTERMEDIATE RESULTS'!S37))","v":""},"",{"$f":"IF('Entry Information'!$I97=\"\",\"\",IF('Entry Information'!V97=\"\",T36,T36-100))","v":""},"",{"$f":"IF($R36=\"\",\"\",(VLOOKUP($V$41,Worksheet!$A$11:$AE$41,V36+1,FALSE)))","v":""},{"$f":"IF('Entry Information'!$I97=\"\",\"\",'INTERMEDIATE RESULTS'!X37)","v":""},{"$f":"IF('Entry Information'!$I97=\"\",\"\",IF('INTERMEDIATE RESULTS'!Y37=\"\",\"\",'INTERMEDIATE RESULTS'!Y37))","v":""},"",{"$f":"IF('Entry Information'!$I97=\"\",\"\",IF('Entry Information'!X97=\"\",Z36,Z36-100))","v":""},"",{"$f":"IF($X36=\"\",\"\",(VLOOKUP($AB$41,Worksheet!$A$11:$AE$41,AB36+1,FALSE)))","v":""},{"$f":"IF('Entry Information'!$I97=\"\",\"\",'INTERMEDIATE RESULTS'!AD37)","v":""},{"$f":"IF('Entry Information'!$I97=\"\",\"\",IF('INTERMEDIATE RESULTS'!AE37=\"\",\"\",'INTERMEDIATE RESULTS'!AE37))","v":""},"",{"$f":"IF('Entry Information'!$I97=\"\",\"\",IF('Entry Information'!Z97=\"\",AF36,AF36-100))","v":""},"",{"$f":"IF($AD36=\"\",\"\",(VLOOKUP($AH$41,Worksheet!$A$11:$AE$41,AH36+1,FALSE)))","v":""}]
[{"$f":"IF('Entry Information'!I98=\"\",\"\",'Entry Information'!B98)","v":""},{"$f":"IF('Entry Information'!I98=\"\",\"\",'Entry Information'!C98)","v":""},{"$f":"IF('Entry Information'!I98=\"\",\"\",'Entry Information'!D98)","v":""},{"$f":"IF('Entry Information'!I98=\"\",\"\",'Entry Information'!E98)","v":""},"INT",{"$f":"IF('Entry Information'!$I98=\"\",\"\",'INTERMEDIATE RESULTS'!F38)","v":""},{"$f":"IF('Entry Information'!$I98=\"\",\"\",IF('INTERMEDIATE RESULTS'!G38=\"\",\"\",'INTERMEDIATE RESULTS'!G38))","v":""},"",{"$f":"IF('Entry Information'!$I98=\"\",\"\",IF('Entry Information'!R98=\"\",H37,H37-100))","v":""},"",{"$f":"IF($F37=\"\",\"\",(VLOOKUP($J$41,Worksheet!$A$11:$AE$41,J37+1,FALSE)))","v":""},{"$f":"IF('Entry Information'!$I98=\"\",\"\",'INTERMEDIATE RESULTS'!L38)","v":""},{"$f":"IF('Entry Information'!$I98=\"\",\"\",IF('INTERMEDIATE RESULTS'!M38=\"\",\"\",'INTERMEDIATE RESULTS'!M38))","v":""},"",{"$f":"IF('Entry Information'!$I98=\"\",\"\",IF('Entry Information'!T38=\"\",N37,N37-100))","v":""},"",{"$f":"IF($L37=\"\",\"\",(VLOOKUP($P$41,Worksheet!$A$11:$AE$41,P37+1,FALSE)))","v":""},{"$f":"IF('Entry Information'!$I98=\"\",\"\",'INTERMEDIATE RESULTS'!R38)","v":""},{"$f":"IF('Entry Information'!$I98=\"\",\"\",IF('INTERMEDIATE RESULTS'!S38=\"\",\"\",'INTERMEDIATE RESULTS'!S38))","v":""},"",{"$f":"IF('Entry Information'!$I98=\"\",\"\",IF('Entry Information'!V98=\"\",T37,T37-100))","v":""},"",{"$f":"IF($R37=\"\",\"\",(VLOOKUP($V$41,Worksheet!$A$11:$AE$41,V37+1,FALSE)))","v":""},{"$f":"IF('Entry Information'!$I98=\"\",\"\",'INTERMEDIATE RESULTS'!X38)","v":""},{"$f":"IF('Entry Information'!$I98=\"\",\"\",IF('INTERMEDIATE RESULTS'!Y38=\"\",\"\",'INTERMEDIATE RESULTS'!Y38))","v":""},"",{"$f":"IF('Entry Information'!$I98=\"\",\"\",IF('Entry Information'!X98=\"\",Z37,Z37-100))","v":""},"",{"$f":"IF($X37=\"\",\"\",(VLOOKUP($AB$41,Worksheet!$A$11:$AE$41,AB37+1,FALSE)))","v":""},{"$f":"IF('Entry Information'!$I98=\"\",\"\",'INTERMEDIATE RESULTS'!AD38)","v":""},{"$f":"IF('Entry Information'!$I98=\"\",\"\",IF('INTERMEDIATE RESULTS'!AE38=\"\",\"\",'INTERMEDIATE RESULTS'!AE38))","v":""},"",{"$f":"IF('Entry Information'!$I98=\"\",\"\",IF('Entry Information'!Z98=\"\",AF37,AF37-100))","v":""},"",{"$f":"IF($AD37=\"\",\"\",(VLOOKUP($AH$41,Worksheet!$A$11:$AE$41,AH37+1,FALSE)))","v":""}]
[{"$f":"IF('Entry Information'!I99=\"\",\"\",'Entry Information'!B99)","v":""},{"$f":"IF('Entry Information'!I99=\"\",\"\",'Entry Information'!C99)","v":""},{"$f":"IF('Entry Information'!I99=\"\",\"\",'Entry Information'!D99)","v":""},{"$f":"IF('Entry Information'!I99=\"\",\"\",'Entry Information'!E99)","v":""},"INT",{"$f":"IF('Entry Information'!$I99=\"\",\"\",'INTERMEDIATE RESULTS'!F39)","v":""},{"$f":"IF('Entry Information'!$I99=\"\",\"\",IF('INTERMEDIATE RESULTS'!G39=\"\",\"\",'INTERMEDIATE RESULTS'!G39))","v":""},{"$f":"IF(G38=\"\",F38,(F38+(G38*0.001)))","v":""},{"$f":"IF('Entry Information'!$I99=\"\",\"\",IF('Entry Information'!R99=\"\",H38,H38-100))","v":""},"",{"$f":"IF($F38=\"\",\"\",(VLOOKUP($J$41,Worksheet!$A$11:$AE$41,J38+1,FALSE)))","v":""},{"$f":"IF('Entry Information'!$I99=\"\",\"\",'INTERMEDIATE RESULTS'!L39)","v":""},{"$f":"IF('Entry Information'!$I99=\"\",\"\",IF('INTERMEDIATE RESULTS'!M39=\"\",\"\",'INTERMEDIATE RESULTS'!M39))","v":""},"",{"$f":"IF('Entry Information'!$I99=\"\",\"\",IF('Entry Information'!T39=\"\",N38,N38-100))","v":""},"",{"$f":"IF($L38=\"\",\"\",(VLOOKUP($P$41,Worksheet!$A$11:$AE$41,P38+1,FALSE)))","v":""},{"$f":"IF('Entry Information'!$I99=\"\",\"\",'INTERMEDIATE RESULTS'!R39)","v":""},{"$f":"IF('Entry Information'!$I99=\"\",\"\",IF('INTERMEDIATE RESULTS'!S39=\"\",\"\",'INTERMEDIATE RESULTS'!S39))","v":""},"",{"$f":"IF('Entry Information'!$I99=\"\",\"\",IF('Entry Information'!V99=\"\",T38,T38-100))","v":""},"",{"$f":"IF($R38=\"\",\"\",(VLOOKUP($V$41,Worksheet!$A$11:$AE$41,V38+1,FALSE)))","v":""},{"$f":"IF('Entry Information'!$I99=\"\",\"\",'INTERMEDIATE RESULTS'!X39)","v":""},{"$f":"IF('Entry Information'!$I99=\"\",\"\",IF('INTERMEDIATE RESULTS'!Y39=\"\",\"\",'INTERMEDIATE RESULTS'!Y39))","v":""},{"$f":"IF(Y38=\"\",X38,(X38+(Y38*0.001)))","v":""},{"$f":"IF('Entry Information'!$I99=\"\",\"\",IF('Entry Information'!X99=\"\",Z38,Z38-100))","v":""},"",{"$f":"IF($X38=\"\",\"\",(VLOOKUP($AB$41,Worksheet!$A$11:$AE$41,AB38+1,FALSE)))","v":""},{"$f":"IF('Entry Information'!$I99=\"\",\"\",'INTERMEDIATE RESULTS'!AD39)","v":""},{"$f":"IF('Entry Information'!$I99=\"\",\"\",IF('INTERMEDIATE RESULTS'!AE39=\"\",\"\",'INTERMEDIATE RESULTS'!AE39))","v":""},{"$f":"IF(AE38=\"\",AD38,(AD38+(AE38*0.001)))","v":""},{"$f":"IF('Entry Information'!$I99=\"\",\"\",IF('Entry Information'!Z99=\"\",AF38,AF38-100))","v":""},"",{"$f":"IF($AD38=\"\",\"\",(VLOOKUP($AH$41,Worksheet!$A$11:$AE$41,AH38+1,FALSE)))","v":""}]
[{"$f":"IF('Entry Information'!I100=\"\",\"\",'Entry Information'!B100)","v":""},{"$f":"IF('Entry Information'!I100=\"\",\"\",'Entry Information'!C100)","v":""},{"$f":"IF('Entry Information'!I100=\"\",\"\",'Entry Information'!D100)","v":""},{"$f":"IF('Entry Information'!I100=\"\",\"\",'Entry Information'!E100)","v":""},"INT",{"$f":"IF('Entry Information'!$I100=\"\",\"\",'INTERMEDIATE RESULTS'!F40)","v":""},{"$f":"IF('Entry Information'!$I100=\"\",\"\",IF('INTERMEDIATE RESULTS'!G40=\"\",\"\",'INTERMEDIATE RESULTS'!G40))","v":""},{"$f":"IF(G39=\"\",F39,(F39+(G39*0.001)))","v":""},{"$f":"IF('Entry Information'!$I100=\"\",\"\",IF('Entry Information'!R100=\"\",H39,H39-100))","v":""},"",{"$f":"IF($F39=\"\",\"\",(VLOOKUP($J$41,Worksheet!$A$11:$AE$41,J39+1,FALSE)))","v":""},{"$f":"IF('Entry Information'!$I100=\"\",\"\",'INTERMEDIATE RESULTS'!L40)","v":""},{"$f":"IF('Entry Information'!$I100=\"\",\"\",IF('INTERMEDIATE RESULTS'!M40=\"\",\"\",'INTERMEDIATE RESULTS'!M40))","v":""},"",{"$f":"IF('Entry Information'!$I100=\"\",\"\",IF('Entry Information'!T40=\"\",N39,N39-100))","v":""},"",{"$f":"IF($L39=\"\",\"\",(VLOOKUP($P$41,Worksheet!$A$11:$AE$41,P39+1,FALSE)))","v":""},{"$f":"IF('Entry Information'!$I100=\"\",\"\",'INTERMEDIATE RESULTS'!R40)","v":""},{"$f":"IF('Entry Information'!$I100=\"\",\"\",IF('INTERMEDIATE RESULTS'!S40=\"\",\"\",'INTERMEDIATE RESULTS'!S40))","v":""},"",{"$f":"IF('Entry Information'!$I100=\"\",\"\",IF('Entry Information'!V100=\"\",T39,T39-100))","v":""},"",{"$f":"IF($R39=\"\",\"\",(VLOOKUP($V$41,Worksheet!$A$11:$AE$41,V39+1,FALSE)))","v":""},{"$f":"IF('Entry Information'!$I100=\"\",\"\",'INTERMEDIATE RESULTS'!X40)","v":""},{"$f":"IF('Entry Information'!$I100=\"\",\"\",IF('INTERMEDIATE RESULTS'!Y40=\"\",\"\",'INTERMEDIATE RESULTS'!Y40))","v":""},{"$f":"IF(Y39=\"\",X39,(X39+(Y39*0.001)))","v":""},{"$f":"IF('Entry Information'!$I100=\"\",\"\",IF('Entry Information'!X100=\"\",Z39,Z39-100))","v":""},"",{"$f":"IF($X39=\"\",\"\",(VLOOKUP($AB$41,Worksheet!$A$11:$AE$41,AB39+1,FALSE)))","v":""},{"$f":"IF('Entry Information'!$I100=\"\",\"\",'INTERMEDIATE RESULTS'!AD40)","v":""},{"$f":"IF('Entry Information'!$I100=\"\",\"\",IF('INTERMEDIATE RESULTS'!AE40=\"\",\"\",'INTERMEDIATE RESULTS'!AE40))","v":""},{"$f":"IF(AE39=\"\",AD39,(AD39+(AE39*0.001)))","v":""},{"$f":"IF('Entry Information'!$I100=\"\",\"\",IF('Entry Information'!Z100=\"\",AF39,AF39-100))","v":""},"",{"$f":"IF($AD39=\"\",\"\",(VLOOKUP($AH$41,Worksheet!$A$11:$AE$41,AH39+1,FALSE)))","v":""}]
[]
[null,null,null,null,null,null,null,null,null,{"$f":"COUNTIF(J10:J39,\">=0\")","v":0},null,null,null,null,null,{"$f":"COUNTIF(P10:P39,\">=0\")","v":0},null,null,null,null,null,{"$f":"COUNTIF(V10:V39,\">=0\")","v":0},null,null,null,null,null,{"$f":"COUNTIF(AB10:AB39,\">=0\")","v":0},null,null,null,null,null,{"$f":"COUNTIF(AH10:AH39,\">=0\")","v":0}]
[null,null,null,null,null,"1 - Total Penalty Points",null,null,null,null,null,"1 - Total Penalty Points",null,null,null,null,null,"1 Total Penalty Points",null,null,null,null,null,"1 - Total Penalty Points",null,null,null,null,null,"1 - Total Penalty Points"]
[null,null,null,null,null,"2- Extended Trot",null,null,null,null,null,"2 - Drag Log",null,null,null,null,null,"2 - 1st Cow Working Center of Arena",null,null,null,null,null,"2 - Roping Cow",null,null,null,null,null,"2 - Roping Cow"]
[null,null,null,null,null,"3 - Transition down lope/walk/stop",null,null,null,null,null,"3 - Ground tie/bridle/pick-up leg(s)",null,null,null,null,null,"3 - 1st Cow Cut from Herd",null,null,null,null,null,"3 - Box Cow",null,null,null,null,null,"3 - Box Cow"]
[null,null,null,null,null,"4 - Transition to lope/lope",null,null,null,null,null,"4 - Gate",null,null,null,null,null,"4 -2nd Cow Working Center of Arena",null,null,null,null,null,"4 - First Lead Change",null,null,null,null,null,"4 - First Lead Change"]
[]
[]
["Scores in RED are ties - enter a 1 in the Tie Breaker Column of the winner to break tie.  If multiple ties enter a 1 for the second place and a 2 for winner."]
[]
[]
["Places highlighted have a major penatly."]
[]
["If Entered in \"Jack Pot\" cell to the right of Event All Around with be highlighted"]

{"sheet":"ADVANCED RESULTS","index":15,"n_rows":52,"n_cols":50,"rows_kept":52,"cut":false,"hidden":true,"merged":[[4,36,4,49],[4,5,4,34],[1,0,1,2],[1,4,1,5],[1,9,1,16],[1,23,1,28],[2,1,2,2],[2,4,2,5],[2,9,2,11],[2,23,2,28],[1,18,1,22],[2,18,2,22],[5,5,5,10],[5,29,5,34],[5,17,5,22],[5,11,5,16],[5,23,5,28],[6,5,6,10],[6,11,6,16],[7,12,9,12],[7,15,9,15],[1,29,1,34],[2,29,2,34],[7,19,9,19],[7,34,9,34],[7,28,9,28],[7,29,9,29],[7,30,9,30],[7,33,9,33],[6,23,6,28],[7,25,9,25],[7,31,9,31],[7,20,9,20],[5,36,9,36],[7,17,9,17],[7,24,9,24],[5,37,9,37],[7,26,9,26],[7,32,9,32],[7,27,9,27],[7,23,9,23],[48,0,49,4],[7,14,9,14],[7,7,9,7],[7,10,9,10],[7,11,9,11],[7,8,9,8],[7,9,9,9],[5,49,9,49],[5,47,9,47],[5,46,9,46],[7,16,9,16],[7,5,9,5],[7,6,9,6],[7,13,9,13],[5,44,9,44],[5,42,9,42],[5,41,9,41],[5,39,9,39],[7,18,9,18],[7,21,9,21],[7,22,9,22],[6,29,6,34],[6,17,6,22]]}
[]
[null,null,null,null,"Event Name:",null,null,null,null,{"$f":"'Entry Information'!C4","v":"Ranch Horse Challenge"},null,null,null,null,null,null,null,null,"Judge #1 Name/Classes:",null,null,null,null,{"$f":"'Entry Information'!F4","v":"Mike Lund"}]
["Division:","ADVANCED",null,null,"Event Date:",null,null,null,null,{"$f":"'Entry Information'!C5","v":"2018-03-25"},null,null,null,null,null,null,null,null,"Judge #2 Name/Classes:",null,null,null,null,{"$f":"'Entry Information'!F5","v":"Karen Arlin"}]
[]
[null,null,null,null,null,"ADVANCED INDIVIDUAL CLASS RESULTS",null,null,null,null,null,null,null,null,null,null,null,null,null,null,null,null,null,null,null,null,null,null,null,null,null,null,null,null,null,null,"ADVACNED ALL  AROUND RESULTS"]
[null,null,null,null,null,"RANCH",null,null,null,null,null,"RANCH",null,null,null,null,null,"RANCH",null,null,null,null,null,"RANCH",null,null,null,null,null,"RANCH",null,null,null,null,null,null,"TOTAL  ALL AROUND PLACEMENT POINTS","Tie Breaker","Adjusted ","EVENT ALL AROUND",null,"TOTAL SELECT ALL AROUND PLACEMENT POINTS","Tie Breaker","Adjusted ","SELECT ALL AROUND",null,"TOTAL   JR HORSE ALL AROUND PLACEMENT POINTS","Tie Breaker","Adjusted ","JR HORSE ALL AROUND"]
[null,null,null,null,null,"RIDING",null,null,null,null,null,"TRAIL",null,null,null,null,null,"CUTING",null,null,null,null,null,"REINED WORK",null,null,null,null,null,"COW WORK",null,null,null,null,null,null,null,null,"Placement",null,null,null,null,"Placement",null,null,null,null,"Placement"]
[null,null,null,null,null,"Score","Tie Breaker","Adjusted Score for Ties","Adjusted Score Major Penalty","Place","Placement Points","Score","Tie Breaker","Adjusted Score for Ties","Adjusted Score Major Penalty","Place","Placement Points","Score","Tie Breaker","Adjusted Score for Ties","Adjusted Score Major Penalty","Place","Placement Points","Score","Tie Breaker","Adjusted Score for Ties","Adjusted Score Major Penalty","Place","Placement Points","Score","Tie Breaker","Adjusted Score for Ties","Adjusted Score Major Penalty","Place","Placement Points",null,null,null,"Points",null,null,null,null,"Points",null,null,null,null,"Points"]
[]
["Back No.","Last Name","First Name","Registered Horse Name","Division"]
[{"$f":"IF('Entry Information'!B101=\"\",\"\",'Entry Information'!B101)","v":""},{"$f":"IF('Entry Information'!C101=\"\",\"\",'Entry Information'!C101)","v":""},{"$f":"IF('Entry Information'!D101=\"\",\"\",'Entry Information'!D101)","v":""},{"$f":"IF('Entry Information'!E101=\"\",\"\",'Entry Information'!E101)","v":""},"ADV",{"$f":"IF('Entry Information'!Q101=\"\",\"\",'Entry Information'!Q101)","v":""},null,{"$f":"IF(G11=\"\",F11,(F11+(G11*0.001)))","v":""},{"$f":"IF('Entry Information'!R101=\"\",H11,H11-100)","v":""},{"$f":"IF(I11=\"\",\"\",(RANK(I11,$I$11:$I$40,0)))","v":""},{"$f":"IF($F11=\"\",\"\",(VLOOKUP($J$42,Worksheet!$A$11:$AE$41,J11+1,FALSE)))","v":""},{"$f":"IF('Entry Information'!S101=\"\",\"\",'Entry Information'!S101)","v":""},null,{"$f":"IF(M11=\"\",L11,(L11+(M11*0.001)))","v":""},{"$f":"IF('Entry Information'!T101=\"\",N11,N11-100)","v":""},{"$f":"IF(O11=\"\",\"\",(RANK(O11,$O$11:$O$40,0)))","v":""},{"$f":"IF($L11=\"\",\"\",(VLOOKUP($P$42,Worksheet!$A$11:$AE$41,P11+1,FALSE)))","v":""},{"$f":"IF('Entry Information'!U101=\"\",\"\",'Entry Information'!U101)","v":""},null,{"$f":"IF(S11=\"\",R11,(R11+(S11*0.001)))","v":""},{"$f":"IF('Entry Information'!V101=\"\",T11,T11-100)","v":""},{"$f":"IF(U11=\"\",\"\",(RANK(U11,$U$11:$U$40,0)))","v":""},{"$f":"IF($R11=\"\",\"\",(VLOOKUP($V$42,Worksheet!$A$11:$AE$41,V11+1,FALSE)))","v":""},{"$f":"IF('Entry Information'!W101=\"\",\"\",'Entry Information'!W101)","v":""},null,{"$f":"IF(Y11=\"\",X11,(X11+(Y11*0.001)))","v":""},{"$f":"IF('Entry Information'!X101=\"\",Z11,Z11-100)","v":""},{"$f":"IF(AA11=\"\",\"\",(RANK(AA11,$AA$11:$AA$40,0)))","v":""},{"$f":"IF($X11=\"\",\"\",(VLOOKUP($AB$42,Worksheet!$A$11:$AE$41,AB11+1,FALSE)))","v":""},{"$f":"IF('Entry Information'!Y101=\"\",\"\",'Entry Information'!Y101)","v":""},null,{"$f":"IF(AE11=\"\",AD11,(AD11+(AE11*0.001)))","v":""},{"$f":"IF('Entry Information'!Z101=\"\",AF11,AF11-100)","v":""},{"$f":"IF(AG11=\"\",\"\",(RANK(AG11,$AG$11:$AG$40,0)))","v":""},{"$f":"IF($AD11=\"\",\"\",(VLOOKUP($AH$42,Worksheet!$A$11:$AE$41,AH11+1,FALSE)))","v":""},null,{"$f":"IF('ADVANCED ALL-AROUND RESULTS'!A10=\"\",\"\",(SUM('ADVANCED ALL-AROUND RESULTS'!$K10,'ADVANCED ALL-AROUND RESULTS'!$AC10,'ADVANCED ALL-AROUND RESULTS'!$AI10,'ADVANCED ALL-AROUND RESULTS'!$W10,'ADVANCED ALL-AROUND RESULTS'!$Q10)))","v":""},null,{"$f":"IF(AL11=\"\",AK11,(AK11+(AL11*0.001)))","v":""},{"$f":"IF(AM11=\"\",\"\",(RANK(AM11,$AM$11:$AM$40,0)))","v":""},null,{"$f":"IF(OR('Entry Information'!H101=\"\",'Entry Information'!J101=\"\"),\"\",(SUM('ADVANCED SELECT RESULTS'!$K10,'ADVANCED SELECT RESULTS'!$AC10,'ADVANCED SELECT RESULTS'!$AI10, 'ADVANCED SELECT RESULTS'!$W10,'ADVANCED SELECT RESULTS'!$Q10)))","v":""},null,{"$f":"IF(AQ11=\"\",AP11,(AP11+(AQ11*0.001)))","v":""},{"$f":"IF(AR11=\"\",\"\",(RANK(AR11,$AR$11:$AR$40,0)))","v":""},null,{"$f":"IF(OR('Entry Information'!I101=\"\",'Entry Information'!J101=\"\"),\"\",(SUM('ADVANCED JR HORSE RESULTS'!$K10,'ADVANCED JR HORSE RESULTS'!$AC10,'ADVANCED JR HORSE RESULTS'!$AI10, 'ADVANCED JR HORSE RESULTS'!$W10,'ADVANCED JR HORSE RESULTS'!$Q10)))","v":""},null,{"$f":"IF(AV11=\"\",AU11,(AU11+(AV11*0.001)))","v":""},{"$f":"IF(AW11=\"\",\"\",(RANK(AW11,$AW$11:$AW$40,0)))","v":""}]
[{"$f":"IF('Entry Information'!B102=\"\",\"\",'Entry Information'!B102)","v":""},{"$f":"IF('Entry Information'!C102=\"\",\"\",'Entry Information'!C102)","v":""},{"$f":"IF('Entry Information'!D102=\"\",\"\",'Entry Information'!D102)","v":""},{"$f":"IF('Entry Information'!E102=\"\",\"\",'Entry Information'!E102)","v":""},"ADV",{"$f":"IF('Entry Information'!Q102=\"\",\"\",'Entry Information'!Q102)","v":""},null,{"$f":"IF(G12=\"\",F12,(F12+(G12*0.001)))","v":""},{"$f":"IF('Entry Information'!R102=\"\",H12,H12-100)","v":""},{"$f":"IF(I12=\"\",\"\",(RANK(I12,$I$11:$I$40,0)))","v":""},{"$f":"IF($F12=\"\",\"\",(VLOOKUP($J$42,Worksheet!$A$11:$AE$41,J12+1,FALSE)))","v":""},{"$f":"IF('Entry Information'!S102=\"\",\"\",'Entry Information'!S102)","v":""},null,"",{"$f":"IF('Entry Information'!T102=\"\",N12,N12-100)","v":""},{"$f":"IF(O12=\"\",\"\",(RANK(O12,$O$11:$O$40,0)))","v":""},{"$f":"IF($L12=\"\",\"\",(VLOOKUP($P$42,Worksheet!$A$11:$AE$41,P12+1,FALSE)))","v":""},{"$f":"IF('Entry Information'!U102=\"\",\"\",'Entry Information'!U102)","v":""},null,"",{"$f":"IF('Entry Information'!V102=\"\",T12,T12-100)","v":""},{"$f":"IF(U12=\"\",\"\",(RANK(U12,$U$11:$U$40,0)))","v":""},{"$f":"IF($R12=\"\",\"\",(VLOOKUP($V$42,Worksheet!$A$11:$AE$41,V12+1,FALSE)))","v":""},{"$f":"IF('Entry Information'!W102=\"\",\"\",'Entry Information'!W102)","v":""},null,{"$f":"IF(Y12=\"\",X12,(X12+(Y12*0.001)))","v":""},{"$f":"IF('Entry Information'!X102=\"\",Z12,Z12-100)","v":""},{"$f":"IF(AA12=\"\",\"\",(RANK(AA12,$AA$11:$AA$40,0)))","v":""},{"$f":"IF($X12=\"\",\"\",(VLOOKUP($AB$42,Worksheet!$A$11:$AE$41,AB12+1,FALSE)))","v":""},{"$f":"IF('Entry Information'!Y102=\"\",\"\",'Entry Information'!Y102)","v":""},null,{"$f":"IF(AE12=\"\",AD12,(AD12+(AE12*0.001)))","v":""},{"$f":"IF('Entry Information'!Z102=\"\",AF12,AF12-100)","v":""},{"$f":"IF(AG12=\"\",\"\",(RANK(AG12,$AG$11:$AG$40,0)))","v":""},{"$f":"IF($AD12=\"\",\"\",(VLOOKUP($AH$42,Worksheet!$A$11:$AE$41,AH12+1,FALSE)))","v":""},null,{"$f":"IF('ADVANCED ALL-AROUND RESULTS'!A11=\"\",\"\",(SUM('ADVANCED ALL-AROUND RESULTS'!$K11,'ADVANCED ALL-AROUND RESULTS'!$AC11,'ADVANCED ALL-AROUND RESULTS'!$AI11,'ADVANCED ALL-AROUND RESULTS'!$W11,'ADVANCED ALL-AROUND RESULTS'!$Q11)))","v":""},null,"","",null,{"$f":"IF(OR('Entry Information'!H102=\"\",'Entry Information'!J102=\"\"),\"\",(SUM('ADVANCED SELECT RESULTS'!$K11,'ADVANCED SELECT RESULTS'!$AC11,'ADVANCED SELECT RESULTS'!$AI11, 'ADVANCED SELECT RESULTS'!$W11,'ADVANCED SELECT RESULTS'!$Q11)))","v":""},null,"","",null,{"$f":"IF(OR('Entry Information'!I102=\"\",'Entry Information'!J102=\"\"),\"\",(SUM('ADVANCED JR HORSE RESULTS'!$K11,'ADVANCED JR HORSE RESULTS'!$AC11,'ADVANCED JR HORSE RESULTS'!$AI11, 'ADVANCED JR HORSE RESULTS'!$W11,'ADVANCED JR HORSE RESULTS'!$Q11)))","v":""},null,"",""]
[{"$f":"IF('Entry Information'!B103=\"\",\"\",'Entry Information'!B103)","v":""},{"$f":"IF('Entry Information'!C103=\"\",\"\",'Entry Information'!C103)","v":""},{"$f":"IF('Entry Information'!D103=\"\",\"\",'Entry Information'!D103)","v":""},{"$f":"IF('Entry Information'!E103=\"\",\"\",'Entry Information'!E103)","v":""},"ADV",{"$f":"IF('Entry Information'!Q103=\"\",\"\",'Entry Information'!Q103)","v":""},null,"",{"$f":"IF('Entry Information'!R103=\"\",H13,H13-100)","v":""},"",{"$f":"IF($F13=\"\",\"\",(VLOOKUP($J$42,Worksheet!$A$11:$AE$41,J13+1,FALSE)))","v":""},{"$f":"IF('Entry Information'!S103=\"\",\"\",'Entry Information'!S103)","v":""},null,"",{"$f":"IF('Entry Information'!T103=\"\",N13,N13-100)","v":""},"",{"$f":"IF($L13=\"\",\"\",(VLOOKUP($P$42,Worksheet!$A$11:$AE$41,P13+1,FALSE)))","v":""},{"$f":"IF('Entry Information'!U103=\"\",\"\",'Entry Information'!U103)","v":""},null,"",{"$f":"IF('Entry Information'!V103=\"\",T13,T13-100)","v":""},"",{"$f":"IF($R13=\"\",\"\",(VLOOKUP($V$42,Worksheet!$A$11:$AE$41,V13+1,FALSE)))","v":""},{"$f":"IF('Entry Information'!W103=\"\",\"\",'Entry Information'!W103)","v":""},null,"",{"$f":"IF('Entry Information'!X103=\"\",Z13,Z13-100)","v":""},"",{"$f":"IF($X13=\"\",\"\",(VLOOKUP($AB$42,Worksheet!$A$11:$AE$41,AB13+1,FALSE)))","v":""},{"$f":"IF('Entry Information'!Y103=\"\",\"\",'Entry Information'!Y103)","v":""},null,"",{"$f":"IF('Entry Information'!Z103=\"\",AF13,AF13-100)","v":""},"",{"$f":"IF($AD13=\"\",\"\",(VLOOKUP($AH$42,Worksheet!$A$11:$AE$41,AH13+1,FALSE)))","v":""},null,{"$f":"IF('ADVANCED ALL-AROUND RESULTS'!A12=\"\",\"\",(SUM('ADVANCED ALL-AROUND RESULTS'!$K12,'ADVANCED ALL-AROUND RESULTS'!$AC12,'ADVANCED ALL-AROUND RESULTS'!$AI12,'ADVANCED ALL-AROUND RESULTS'!$W12,'ADVANCED ALL-AROUND RESULTS'!$Q12)))","v":""},null,"","",null,{"$f":"IF(OR('Entry Information'!H103=\"\",'Entry Information'!J103=\"\"),\"\",(SUM('ADVANCED SELECT RESULTS'!$K12,'ADVANCED SELECT RESULTS'!$AC12,'ADVANCED SELECT RESULTS'!$AI12, 'ADVANCED SELECT RESULTS'!$W12,'ADVANCED SELECT RESULTS'!$Q12)))","v":""},null,"","",null,{"$f":"IF(OR('Entry Information'!I103=\"\",'Entry Information'!J103=\"\"),\"\",(SUM('ADVANCED JR HORSE RESULTS'!$K12,'ADVANCED JR HORSE RESULTS'!$AC12,'ADVANCED JR HORSE RESULTS'!$AI12, 'ADVANCED JR HORSE RESULTS'!$W12,'ADVANCED JR HORSE RESULTS'!$Q12)))","v":""},null,"",""]
[{"$f":"IF('Entry Information'!B104=\"\",\"\",'Entry Information'!B104)","v":""},{"$f":"IF('Entry Information'!C104=\"\",\"\",'Entry Information'!C104)","v":""},{"$f":"IF('Entry Information'!D104=\"\",\"\",'Entry Information'!D104)","v":""},{"$f":"IF('Entry Information'!E104=\"\",\"\",'Entry Information'!E104)","v":""},"ADV",{"$f":"IF('Entry Information'!Q104=\"\",\"\",'Entry Information'!Q104)","v":""},null,"",{"$f":"IF('Entry Information'!R104=\"\",H14,H14-100)","v":""},"",{"$f":"IF($F14=\"\",\"\",(VLOOKUP($J$42,Worksheet!$A$11:$AE$41,J14+1,FALSE)))","v":""},{"$f":"IF('Entry Information'!S104=\"\",\"\",'Entry Information'!S104)","v":""},null,"",{"$f":"IF('Entry Information'!T104=\"\",N14,N14-100)","v":""},"",{"$f":"IF($L14=\"\",\"\",(VLOOKUP($P$42,Worksheet!$A$11:$AE$41,P14+1,FALSE)))","v":""},{"$f":"IF('Entry Information'!U104=\"\",\"\",'Entry Information'!U104)","v":""},null,"",{"$f":"IF('Entry Information'!V104=\"\",T14,T14-100)","v":""},"",{"$f":"IF($R14=\"\",\"\",(VLOOKUP($V$42,Worksheet!$A$11:$AE$41,V14+1,FALSE)))","v":""},{"$f":"IF('Entry Information'!W104=\"\",\"\",'Entry Information'!W104)","v":""},null,"",{"$f":"IF('Entry Information'!X104=\"\",Z14,Z14-100)","v":""},"",{"$f":"IF($X14=\"\",\"\",(VLOOKUP($AB$42,Worksheet!$A$11:$AE$41,AB14+1,FALSE)))","v":""},{"$f":"IF('Entry Information'!Y104=\"\",\"\",'Entry Information'!Y104)","v":""},null,"",{"$f":"IF('Entry Information'!Z104=\"\",AF14,AF14-100)","v":""},"",{"$f":"IF($AD14=\"\",\"\",(VLOOKUP($AH$42,Worksheet!$A$11:$AE$41,AH14+1,FALSE)))","v":""},null,{"$f":"IF('ADVANCED ALL-AROUND RESULTS'!A13=\"\",\"\",(SUM('ADVANCED ALL-AROUND RESULTS'!$K13,'ADVANCED ALL-AROUND RESULTS'!$AC13,'ADVANCED ALL-AROUND RESULTS'!$AI13,'ADVANCED ALL-AROUND RESULTS'!$W13,'ADVANCED ALL-AROUND RESULTS'!$Q13)))","v":""},null,"","",null,{"$f":"IF(OR('Entry Information'!H104=\"\",'Entry Information'!J104=\"\"),\"\",(SUM('ADVANCED SELECT RESULTS'!$K13,'ADVANCED SELECT RESULTS'!$AC13,'ADVANCED SELECT RESULTS'!$AI13, 'ADVANCED SELECT RESULTS'!$W13,'ADVANCED SELECT RESULTS'!$Q13)))","v":""},null,"","",null,{"$f":"IF(OR('Entry Information'!I104=\"\",'Entry Information'!J104=\"\"),\"\",(SUM('ADVANCED JR HORSE RESULTS'!$K13,'ADVANCED JR HORSE RESULTS'!$AC13,'ADVANCED JR HORSE RESULTS'!$AI13, 'ADVANCED JR HORSE RESULTS'!$W13,'ADVANCED JR HORSE RESULTS'!$Q13)))","v":""},null,"",""]
[{"$f":"IF('Entry Information'!B105=\"\",\"\",'Entry Information'!B105)","v":""},{"$f":"IF('Entry Information'!C105=\"\",\"\",'Entry Information'!C105)","v":""},{"$f":"IF('Entry Information'!D105=\"\",\"\",'Entry Information'!D105)","v":""},{"$f":"IF('Entry Information'!E105=\"\",\"\",'Entry Information'!E105)","v":""},"ADV",{"$f":"IF('Entry Information'!Q105=\"\",\"\",'Entry Information'!Q105)","v":""},null,"",{"$f":"IF('Entry Information'!R105=\"\",H15,H15-100)","v":""},"",{"$f":"IF($F15=\"\",\"\",(VLOOKUP($J$42,Worksheet!$A$11:$AE$41,J15+1,FALSE)))","v":""},{"$f":"IF('Entry Information'!S105=\"\",\"\",'Entry Information'!S105)","v":""},null,"",{"$f":"IF('Entry Information'!T105=\"\",N15,N15-100)","v":""},"",{"$f":"IF($L15=\"\",\"\",(VLOOKUP($P$42,Worksheet!$A$11:$AE$41,P15+1,FALSE)))","v":""},{"$f":"IF('Entry Information'!U105=\"\",\"\",'Entry Information'!U105)","v":""},null,"",{"$f":"IF('Entry Information'!V105=\"\",T15,T15-100)","v":""},"",{"$f":"IF($R15=\"\",\"\",(VLOOKUP($V$42,Worksheet!$A$11:$AE$41,V15+1,FALSE)))","v":""},{"$f":"IF('Entry Information'!W105=\"\",\"\",'Entry Information'!W105)","v":""},null,"",{"$f":"IF('Entry Information'!X105=\"\",Z15,Z15-100)","v":""},"",{"$f":"IF($X15=\"\",\"\",(VLOOKUP($AB$42,Worksheet!$A$11:$AE$41,AB15+1,FALSE)))","v":""},{"$f":"IF('Entry Information'!Y105=\"\",\"\",'Entry Information'!Y105)","v":""},null,"",{"$f":"IF('Entry Information'!Z105=\"\",AF15,AF15-100)","v":""},"",{"$f":"IF($AD15=\"\",\"\",(VLOOKUP($AH$42,Worksheet!$A$11:$AE$41,AH15+1,FALSE)))","v":""},null,{"$f":"IF('ADVANCED ALL-AROUND RESULTS'!A14=\"\",\"\",(SUM('ADVANCED ALL-AROUND RESULTS'!$K14,'ADVANCED ALL-AROUND RESULTS'!$AC14,'ADVANCED ALL-AROUND RESULTS'!$AI14,'ADVANCED ALL-AROUND RESULTS'!$W14,'ADVANCED ALL-AROUND RESULTS'!$Q14)))","v":""},null,"","",null,{"$f":"IF(OR('Entry Information'!H105=\"\",'Entry Information'!J105=\"\"),\"\",(SUM('ADVANCED SELECT RESULTS'!$K14,'ADVANCED SELECT RESULTS'!$AC14,'ADVANCED SELECT RESULTS'!$AI14, 'ADVANCED SELECT RESULTS'!$W14,'ADVANCED SELECT RESULTS'!$Q14)))","v":""},null,"","",null,{"$f":"IF(OR('Entry Information'!I105=\"\",'Entry Information'!J105=\"\"),\"\",(SUM('ADVANCED JR HORSE RESULTS'!$K14,'ADVANCED JR HORSE RESULTS'!$AC14,'ADVANCED JR HORSE RESULTS'!$AI14, 'ADVANCED JR HORSE RESULTS'!$W14,'ADVANCED JR HORSE RESULTS'!$Q14)))","v":""},null,"",""]
[{"$f":"IF('Entry Information'!B106=\"\",\"\",'Entry Information'!B106)","v":""},{"$f":"IF('Entry Information'!C106=\"\",\"\",'Entry Information'!C106)","v":""},{"$f":"IF('Entry Information'!D106=\"\",\"\",'Entry Information'!D106)","v":""},{"$f":"IF('Entry Information'!E106=\"\",\"\",'Entry Information'!E106)","v":""},"ADV",{"$f":"IF('Entry Information'!Q106=\"\",\"\",'Entry Information'!Q106)","v":""},null,"",{"$f":"IF('Entry Information'!R106=\"\",H16,H16-100)","v":""},"",{"$f":"IF($F16=\"\",\"\",(VLOOKUP($J$42,Worksheet!$A$11:$AE$41,J16+1,FALSE)))","v":""},{"$f":"IF('Entry Information'!S106=\"\",\"\",'Entry Information'!S106)","v":""},null,"",{"$f":"IF('Entry Information'!T106=\"\",N16,N16-100)","v":""},"",{"$f":"IF($L16=\"\",\"\",(VLOOKUP($P$42,Worksheet!$A$11:$AE$41,P16+1,FALSE)))","v":""},{"$f":"IF('Entry Information'!U106=\"\",\"\",'Entry Information'!U106)","v":""},null,"",{"$f":"IF('Entry Information'!V106=\"\",T16,T16-100)","v":""},"",{"$f":"IF($R16=\"\",\"\",(VLOOKUP($V$42,Worksheet!$A$11:$AE$41,V16+1,FALSE)))","v":""},{"$f":"IF('Entry Information'!W106=\"\",\"\",'Entry Information'!W106)","v":""},null,"",{"$f":"IF('Entry Information'!X106=\"\",Z16,Z16-100)","v":""},"",{"$f":"IF($X16=\"\",\"\",(VLOOKUP($AB$42,Worksheet!$A$11:$AE$41,AB16+1,FALSE)))","v":""},{"$f":"IF('Entry Information'!Y106=\"\",\"\",'Entry Information'!Y106)","v":""},null,"",{"$f":"IF('Entry Information'!Z106=\"\",AF16,AF16-100)","v":""},"",{"$f":"IF($AD16=\"\",\"\",(VLOOKUP($AH$42,Worksheet!$A$11:$AE$41,AH16+1,FALSE)))","v":""},null,{"$f":"IF('ADVANCED ALL-AROUND RESULTS'!A15=\"\",\"\",(SUM('ADVANCED ALL-AROUND RESULTS'!$K15,'ADVANCED ALL-AROUND RESULTS'!$AC15,'ADVANCED ALL-AROUND RESULTS'!$AI15,'ADVANCED ALL-AROUND RESULTS'!$W15,'ADVANCED ALL-AROUND RESULTS'!$Q15)))","v":""},null,"","",null,{"$f":"IF(OR('Entry Information'!H106=\"\",'Entry Information'!J106=\"\"),\"\",(SUM('ADVANCED SELECT RESULTS'!$K15,'ADVANCED SELECT RESULTS'!$AC15,'ADVANCED SELECT RESULTS'!$AI15, 'ADVANCED SELECT RESULTS'!$W15,'ADVANCED SELECT RESULTS'!$Q15)))","v":""},null,"","",null,{"$f":"IF(OR('Entry Information'!I106=\"\",'Entry Information'!J106=\"\"),\"\",(SUM('ADVANCED JR HORSE RESULTS'!$K15,'ADVANCED JR HORSE RESULTS'!$AC15,'ADVANCED JR HORSE RESULTS'!$AI15, 'ADVANCED JR HORSE RESULTS'!$W15,'ADVANCED JR HORSE RESULTS'!$Q15)))","v":""},null,"",""]
[{"$f":"IF('Entry Information'!B107=\"\",\"\",'Entry Information'!B107)","v":""},{"$f":"IF('Entry Information'!C107=\"\",\"\",'Entry Information'!C107)","v":""},{"$f":"IF('Entry Information'!D107=\"\",\"\",'Entry Information'!D107)","v":""},{"$f":"IF('Entry Information'!E107=\"\",\"\",'Entry Information'!E107)","v":""},"ADV",{"$f":"IF('Entry Information'!Q107=\"\",\"\",'Entry Information'!Q107)","v":""},null,"",{"$f":"IF('Entry Information'!R107=\"\",H17,H17-100)","v":""},"",{"$f":"IF($F17=\"\",\"\",(VLOOKUP($J$42,Worksheet!$A$11:$AE$41,J17+1,FALSE)))","v":""},{"$f":"IF('Entry Information'!S107=\"\",\"\",'Entry Information'!S107)","v":""},null,"",{"$f":"IF('Entry Information'!T107=\"\",N17,N17-100)","v":""},"",{"$f":"IF($L17=\"\",\"\",(VLOOKUP($P$42,Worksheet!$A$11:$AE$41,P17+1,FALSE)))","v":""},{"$f":"IF('Entry Information'!U107=\"\",\"\",'Entry Information'!U107)","v":""},null,"",{"$f":"IF('Entry Information'!V107=\"\",T17,T17-100)","v":""},"",{"$f":"IF($R17=\"\",\"\",(VLOOKUP($V$42,Worksheet!$A$11:$AE$41,V17+1,FALSE)))","v":""},{"$f":"IF('Entry Information'!W107=\"\",\"\",'Entry Information'!W107)","v":""},null,"",{"$f":"IF('Entry Information'!X107=\"\",Z17,Z17-100)","v":""},"",{"$f":"IF($X17=\"\",\"\",(VLOOKUP($AB$42,Worksheet!$A$11:$AE$41,AB17+1,FALSE)))","v":""},{"$f":"IF('Entry Information'!Y107=\"\",\"\",'Entry Information'!Y107)","v":""},null,"",{"$f":"IF('Entry Information'!Z107=\"\",AF17,AF17-100)","v":""},"",{"$f":"IF($AD17=\"\",\"\",(VLOOKUP($AH$42,Worksheet!$A$11:$AE$41,AH17+1,FALSE)))","v":""},null,{"$f":"IF('ADVANCED ALL-AROUND RESULTS'!A16=\"\",\"\",(SUM('ADVANCED ALL-AROUND RESULTS'!$K16,'ADVANCED ALL-AROUND RESULTS'!$AC16,'ADVANCED ALL-AROUND RESULTS'!$AI16,'ADVANCED ALL-AROUND RESULTS'!$W16,'ADVANCED ALL-AROUND RESULTS'!$Q16)))","v":""},null,"","",null,{"$f":"IF(OR('Entry Information'!H107=\"\",'Entry Information'!J107=\"\"),\"\",(SUM('ADVANCED SELECT RESULTS'!$K16,'ADVANCED SELECT RESULTS'!$AC16,'ADVANCED SELECT RESULTS'!$AI16, 'ADVANCED SELECT RESULTS'!$W16,'ADVANCED SELECT RESULTS'!$Q16)))","v":""},null,"","",null,{"$f":"IF(OR('Entry Information'!I107=\"\",'Entry Information'!J107=\"\"),\"\",(SUM('ADVANCED JR HORSE RESULTS'!$K16,'ADVANCED JR HORSE RESULTS'!$AC16,'ADVANCED JR HORSE RESULTS'!$AI16, 'ADVANCED JR HORSE RESULTS'!$W16,'ADVANCED JR HORSE RESULTS'!$Q16)))","v":""},null,"",""]
[{"$f":"IF('Entry Information'!B108=\"\",\"\",'Entry Information'!B108)","v":""},{"$f":"IF('Entry Information'!C108=\"\",\"\",'Entry Information'!C108)","v":""},{"$f":"IF('Entry Information'!D108=\"\",\"\",'Entry Information'!D108)","v":""},{"$f":"IF('Entry Information'!E108=\"\",\"\",'Entry Information'!E108)","v":""},"ADV",{"$f":"IF('Entry Information'!Q108=\"\",\"\",'Entry Information'!Q108)","v":""},null,"",{"$f":"IF('Entry Information'!R108=\"\",H18,H18-100)","v":""},"",{"$f":"IF($F18=\"\",\"\",(VLOOKUP($J$42,Worksheet!$A$11:$AE$41,J18+1,FALSE)))","v":""},{"$f":"IF('Entry Information'!S108=\"\",\"\",'Entry Information'!S108)","v":""},null,"",{"$f":"IF('Entry Information'!T108=\"\",N18,N18-100)","v":""},"",{"$f":"IF($L18=\"\",\"\",(VLOOKUP($P$42,Worksheet!$A$11:$AE$41,P18+1,FALSE)))","v":""},{"$f":"IF('Entry Information'!U108=\"\",\"\",'Entry Information'!U108)","v":""},null,"",{"$f":"IF('Entry Information'!V108=\"\",T18,T18-100)","v":""},"",{"$f":"IF($R18=\"\",\"\",(VLOOKUP($V$42,Worksheet!$A$11:$AE$41,V18+1,FALSE)))","v":""},{"$f":"IF('Entry Information'!W108=\"\",\"\",'Entry Information'!W108)","v":""},null,"",{"$f":"IF('Entry Information'!X108=\"\",Z18,Z18-100)","v":""},"",{"$f":"IF($X18=\"\",\"\",(VLOOKUP($AB$42,Worksheet!$A$11:$AE$41,AB18+1,FALSE)))","v":""},{"$f":"IF('Entry Information'!Y108=\"\",\"\",'Entry Information'!Y108)","v":""},null,"",{"$f":"IF('Entry Information'!Z108=\"\",AF18,AF18-100)","v":""},"",{"$f":"IF($AD18=\"\",\"\",(VLOOKUP($AH$42,Worksheet!$A$11:$AE$41,AH18+1,FALSE)))","v":""},null,{"$f":"IF('ADVANCED ALL-AROUND RESULTS'!A17=\"\",\"\",(SUM('ADVANCED ALL-AROUND RESULTS'!$K17,'ADVANCED ALL-AROUND RESULTS'!$AC17,'ADVANCED ALL-AROUND RESULTS'!$AI17,'ADVANCED ALL-AROUND RESULTS'!$W17,'ADVANCED ALL-AROUND RESULTS'!$Q17)))","v":""},null,"","",null,{"$f":"IF(OR('Entry Information'!H108=\"\",'Entry Information'!J108=\"\"),\"\",(SUM('ADVANCED SELECT RESULTS'!$K17,'ADVANCED SELECT RESULTS'!$AC17,'ADVANCED SELECT RESULTS'!$AI17, 'ADVANCED SELECT RESULTS'!$W17,'ADVANCED SELECT RESULTS'!$Q17)))","v":""},null,"","",null,{"$f":"IF(OR('Entry Information'!I108=\"\",'Entry Information'!J108=\"\"),\"\",(SUM('ADVANCED JR HORSE RESULTS'!$K17,'ADVANCED JR HORSE RESULTS'!$AC17,'ADVANCED JR HORSE RESULTS'!$AI17, 'ADVANCED JR HORSE RESULTS'!$W17,'ADVANCED JR HORSE RESULTS'!$Q17)))","v":""},null,"",""]
[{"$f":"IF('Entry Information'!B109=\"\",\"\",'Entry Information'!B109)","v":""},{"$f":"IF('Entry Information'!C109=\"\",\"\",'Entry Information'!C109)","v":""},{"$f":"IF('Entry Information'!D109=\"\",\"\",'Entry Information'!D109)","v":""},{"$f":"IF('Entry Information'!E109=\"\",\"\",'Entry Information'!E109)","v":""},"ADV",{"$f":"IF('Entry Information'!Q109=\"\",\"\",'Entry Information'!Q109)","v":""},null,"",{"$f":"IF('Entry Information'!R109=\"\",H19,H19-100)","v":""},"",{"$f":"IF($F19=\"\",\"\",(VLOOKUP($J$42,Worksheet!$A$11:$AE$41,J19+1,FALSE)))","v":""},{"$f":"IF('Entry Information'!S109=\"\",\"\",'Entry Information'!S109)","v":""},null,"",{"$f":"IF('Entry Information'!T109=\"\",N19,N19-100)","v":""},"",{"$f":"IF($L19=\"\",\"\",(VLOOKUP($P$42,Worksheet!$A$11:$AE$41,P19+1,FALSE)))","v":""},{"$f":"IF('Entry Information'!U109=\"\",\"\",'Entry Information'!U109)","v":""},null,"",{"$f":"IF('Entry Information'!V109=\"\",T19,T19-100)","v":""},"",{"$f":"IF($R19=\"\",\"\",(VLOOKUP($V$42,Worksheet!$A$11:$AE$41,V19+1,FALSE)))","v":""},{"$f":"IF('Entry Information'!W109=\"\",\"\",'Entry Information'!W109)","v":""},null,"",{"$f":"IF('Entry Information'!X109=\"\",Z19,Z19-100)","v":""},"",{"$f":"IF($X19=\"\",\"\",(VLOOKUP($AB$42,Worksheet!$A$11:$AE$41,AB19+1,FALSE)))","v":""},{"$f":"IF('Entry Information'!Y109=\"\",\"\",'Entry Information'!Y109)","v":""},null,"",{"$f":"IF('Entry Information'!Z109=\"\",AF19,AF19-100)","v":""},"",{"$f":"IF($AD19=\"\",\"\",(VLOOKUP($AH$42,Worksheet!$A$11:$AE$41,AH19+1,FALSE)))","v":""},null,{"$f":"IF('ADVANCED ALL-AROUND RESULTS'!A18=\"\",\"\",(SUM('ADVANCED ALL-AROUND RESULTS'!$K18,'ADVANCED ALL-AROUND RESULTS'!$AC18,'ADVANCED ALL-AROUND RESULTS'!$AI18,'ADVANCED ALL-AROUND RESULTS'!$W18,'ADVANCED ALL-AROUND RESULTS'!$Q18)))","v":""},null,"","",null,{"$f":"IF(OR('Entry Information'!H109=\"\",'Entry Information'!J109=\"\"),\"\",(SUM('ADVANCED SELECT RESULTS'!$K18,'ADVANCED SELECT RESULTS'!$AC18,'ADVANCED SELECT RESULTS'!$AI18, 'ADVANCED SELECT RESULTS'!$W18,'ADVANCED SELECT RESULTS'!$Q18)))","v":""},null,"","",null,{"$f":"IF(OR('Entry Information'!I109=\"\",'Entry Information'!J109=\"\"),\"\",(SUM('ADVANCED JR HORSE RESULTS'!$K18,'ADVANCED JR HORSE RESULTS'!$AC18,'ADVANCED JR HORSE RESULTS'!$AI18, 'ADVANCED JR HORSE RESULTS'!$W18,'ADVANCED JR HORSE RESULTS'!$Q18)))","v":""},null,"",""]
[{"$f":"IF('Entry Information'!B110=\"\",\"\",'Entry Information'!B110)","v":""},{"$f":"IF('Entry Information'!C110=\"\",\"\",'Entry Information'!C110)","v":""},{"$f":"IF('Entry Information'!D110=\"\",\"\",'Entry Information'!D110)","v":""},{"$f":"IF('Entry Information'!E110=\"\",\"\",'Entry Information'!E110)","v":""},"ADV",{"$f":"IF('Entry Information'!Q110=\"\",\"\",'Entry Information'!Q110)","v":""},null,"",{"$f":"IF('Entry Information'!R110=\"\",H20,H20-100)","v":""},"",{"$f":"IF($F20=\"\",\"\",(VLOOKUP($J$42,Worksheet!$A$11:$AE$41,J20+1,FALSE)))","v":""},{"$f":"IF('Entry Information'!S110=\"\",\"\",'Entry Information'!S110)","v":""},null,"",{"$f":"IF('Entry Information'!T110=\"\",N20,N20-100)","v":""},"",{"$f":"IF($L20=\"\",\"\",(VLOOKUP($P$42,Worksheet!$A$11:$AE$41,P20+1,FALSE)))","v":""},{"$f":"IF('Entry Information'!U110=\"\",\"\",'Entry Information'!U110)","v":""},null,"",{"$f":"IF('Entry Information'!V110=\"\",T20,T20-100)","v":""},"",{"$f":"IF($R20=\"\",\"\",(VLOOKUP($V$42,Worksheet!$A$11:$AE$41,V20+1,FALSE)))","v":""},{"$f":"IF('Entry Information'!W110=\"\",\"\",'Entry Information'!W110)","v":""},null,"",{"$f":"IF('Entry Information'!X110=\"\",Z20,Z20-100)","v":""},"",{"$f":"IF($X20=\"\",\"\",(VLOOKUP($AB$42,Worksheet!$A$11:$AE$41,AB20+1,FALSE)))","v":""},{"$f":"IF('Entry Information'!Y110=\"\",\"\",'Entry Information'!Y110)","v":""},null,"",{"$f":"IF('Entry Information'!Z110=\"\",AF20,AF20-100)","v":""},"",{"$f":"IF($AD20=\"\",\"\",(VLOOKUP($AH$42,Worksheet!$A$11:$AE$41,AH20+1,FALSE)))","v":""},null,{"$f":"IF('ADVANCED ALL-AROUND RESULTS'!A19=\"\",\"\",(SUM('ADVANCED ALL-AROUND RESULTS'!$K19,'ADVANCED ALL-AROUND RESULTS'!$AC19,'ADVANCED ALL-AROUND RESULTS'!$AI19,'ADVANCED ALL-AROUND RESULTS'!$W19,'ADVANCED ALL-AROUND RESULTS'!$Q19)))","v":""},null,"","",null,{"$f":"IF(OR('Entry Information'!H110=\"\",'Entry Information'!J110=\"\"),\"\",(SUM('ADVANCED SELECT RESULTS'!$K19,'ADVANCED SELECT RESULTS'!$AC19,'ADVANCED SELECT RESULTS'!$AI19, 'ADVANCED SELECT RESULTS'!$W19,'ADVANCED SELECT RESULTS'!$Q19)))","v":""},null,"","",null,{"$f":"IF(OR('Entry Information'!I110=\"\",'Entry Information'!J110=\"\"),\"\",(SUM('ADVANCED JR HORSE RESULTS'!$K19,'ADVANCED JR HORSE RESULTS'!$AC19,'ADVANCED JR HORSE RESULTS'!$AI19, 'ADVANCED JR HORSE RESULTS'!$W19,'ADVANCED JR HORSE RESULTS'!$Q19)))","v":""},null,"",""]
[{"$f":"IF('Entry Information'!B111=\"\",\"\",'Entry Information'!B111)","v":""},{"$f":"IF('Entry Information'!C111=\"\",\"\",'Entry Information'!C111)","v":""},{"$f":"IF('Entry Information'!D111=\"\",\"\",'Entry Information'!D111)","v":""},{"$f":"IF('Entry Information'!E111=\"\",\"\",'Entry Information'!E111)","v":""},"ADV",{"$f":"IF('Entry Information'!Q111=\"\",\"\",'Entry Information'!Q111)","v":""},null,"",{"$f":"IF('Entry Information'!R111=\"\",H21,H21-100)","v":""},"",{"$f":"IF($F21=\"\",\"\",(VLOOKUP($J$42,Worksheet!$A$11:$AE$41,J21+1,FALSE)))","v":""},{"$f":"IF('Entry Information'!S111=\"\",\"\",'Entry Information'!S111)","v":""},null,"",{"$f":"IF('Entry Information'!T111=\"\",N21,N21-100)","v":""},"",{"$f":"IF($L21=\"\",\"\",(VLOOKUP($P$42,Worksheet!$A$11:$AE$41,P21+1,FALSE)))","v":""},{"$f":"IF('Entry Information'!U111=\"\",\"\",'Entry Information'!U111)","v":""},null,"",{"$f":"IF('Entry Information'!V111=\"\",T21,T21-100)","v":""},"",{"$f":"IF($R21=\"\",\"\",(VLOOKUP($V$42,Worksheet!$A$11:$AE$41,V21+1,FALSE)))","v":""},{"$f":"IF('Entry Information'!W111=\"\",\"\",'Entry Information'!W111)","v":""},null,"",{"$f":"IF('Entry Information'!X111=\"\",Z21,Z21-100)","v":""},"",{"$f":"IF($X21=\"\",\"\",(VLOOKUP($AB$42,Worksheet!$A$11:$AE$41,AB21+1,FALSE)))","v":""},{"$f":"IF('Entry Information'!Y111=\"\",\"\",'Entry Information'!Y111)","v":""},null,"",{"$f":"IF('Entry Information'!Z111=\"\",AF21,AF21-100)","v":""},"",{"$f":"IF($AD21=\"\",\"\",(VLOOKUP($AH$42,Worksheet!$A$11:$AE$41,AH21+1,FALSE)))","v":""},null,{"$f":"IF('ADVANCED ALL-AROUND RESULTS'!A20=\"\",\"\",(SUM('ADVANCED ALL-AROUND RESULTS'!$K20,'ADVANCED ALL-AROUND RESULTS'!$AC20,'ADVANCED ALL-AROUND RESULTS'!$AI20,'ADVANCED ALL-AROUND RESULTS'!$W20,'ADVANCED ALL-AROUND RESULTS'!$Q20)))","v":""},null,"","",null,{"$f":"IF(OR('Entry Information'!H111=\"\",'Entry Information'!J111=\"\"),\"\",(SUM('ADVANCED SELECT RESULTS'!$K20,'ADVANCED SELECT RESULTS'!$AC20,'ADVANCED SELECT RESULTS'!$AI20, 'ADVANCED SELECT RESULTS'!$W20,'ADVANCED SELECT RESULTS'!$Q20)))","v":""},null,"","",null,{"$f":"IF(OR('Entry Information'!I111=\"\",'Entry Information'!J111=\"\"),\"\",(SUM('ADVANCED JR HORSE RESULTS'!$K20,'ADVANCED JR HORSE RESULTS'!$AC20,'ADVANCED JR HORSE RESULTS'!$AI20, 'ADVANCED JR HORSE RESULTS'!$W20,'ADVANCED JR HORSE RESULTS'!$Q20)))","v":""},null,"",""]
[{"$f":"IF('Entry Information'!B112=\"\",\"\",'Entry Information'!B112)","v":""},{"$f":"IF('Entry Information'!C112=\"\",\"\",'Entry Information'!C112)","v":""},{"$f":"IF('Entry Information'!D112=\"\",\"\",'Entry Information'!D112)","v":""},{"$f":"IF('Entry Information'!E112=\"\",\"\",'Entry Information'!E112)","v":""},"ADV",{"$f":"IF('Entry Information'!Q112=\"\",\"\",'Entry Information'!Q112)","v":""},null,"",{"$f":"IF('Entry Information'!R112=\"\",H22,H22-100)","v":""},"",{"$f":"IF($F22=\"\",\"\",(VLOOKUP($J$42,Worksheet!$A$11:$AE$41,J22+1,FALSE)))","v":""},{"$f":"IF('Entry Information'!S112=\"\",\"\",'Entry Information'!S112)","v":""},null,"",{"$f":"IF('Entry Information'!T112=\"\",N22,N22-100)","v":""},"",{"$f":"IF($L22=\"\",\"\",(VLOOKUP($P$42,Worksheet!$A$11:$AE$41,P22+1,FALSE)))","v":""},{"$f":"IF('Entry Information'!U112=\"\",\"\",'Entry Information'!U112)","v":""},null,"",{"$f":"IF('Entry Information'!V112=\"\",T22,T22-100)","v":""},"",{"$f":"IF($R22=\"\",\"\",(VLOOKUP($V$42,Worksheet!$A$11:$AE$41,V22+1,FALSE)))","v":""},{"$f":"IF('Entry Information'!W112=\"\",\"\",'Entry Information'!W112)","v":""},null,"",{"$f":"IF('Entry Information'!X112=\"\",Z22,Z22-100)","v":""},"",{"$f":"IF($X22=\"\",\"\",(VLOOKUP($AB$42,Worksheet!$A$11:$AE$41,AB22+1,FALSE)))","v":""},{"$f":"IF('Entry Information'!Y112=\"\",\"\",'Entry Information'!Y112)","v":""},null,"",{"$f":"IF('Entry Information'!Z112=\"\",AF22,AF22-100)","v":""},"",{"$f":"IF($AD22=\"\",\"\",(VLOOKUP($AH$42,Worksheet!$A$11:$AE$41,AH22+1,FALSE)))","v":""},null,{"$f":"IF('ADVANCED ALL-AROUND RESULTS'!A21=\"\",\"\",(SUM('ADVANCED ALL-AROUND RESULTS'!$K21,'ADVANCED ALL-AROUND RESULTS'!$AC21,'ADVANCED ALL-AROUND RESULTS'!$AI21,'ADVANCED ALL-AROUND RESULTS'!$W21,'ADVANCED ALL-AROUND RESULTS'!$Q21)))","v":""},null,"","",null,{"$f":"IF(OR('Entry Information'!H112=\"\",'Entry Information'!J112=\"\"),\"\",(SUM('ADVANCED SELECT RESULTS'!$K21,'ADVANCED SELECT RESULTS'!$AC21,'ADVANCED SELECT RESULTS'!$AI21, 'ADVANCED SELECT RESULTS'!$W21,'ADVANCED SELECT RESULTS'!$Q21)))","v":""},null,"","",null,{"$f":"IF(OR('Entry Information'!I112=\"\",'Entry Information'!J112=\"\"),\"\",(SUM('ADVANCED JR HORSE RESULTS'!$K21,'ADVANCED JR HORSE RESULTS'!$AC21,'ADVANCED JR HORSE RESULTS'!$AI21, 'ADVANCED JR HORSE RESULTS'!$W21,'ADVANCED JR HORSE RESULTS'!$Q21)))","v":""},null,"",""]
[{"$f":"IF('Entry Information'!B113=\"\",\"\",'Entry Information'!B113)","v":""},{"$f":"IF('Entry Information'!C113=\"\",\"\",'Entry Information'!C113)","v":""},{"$f":"IF('Entry Information'!D113=\"\",\"\",'Entry Information'!D113)","v":""},{"$f":"IF('Entry Information'!E113=\"\",\"\",'Entry Information'!E113)","v":""},"ADV",{"$f":"IF('Entry Information'!Q113=\"\",\"\",'Entry Information'!Q113)","v":""},null,"",{"$f":"IF('Entry Information'!R113=\"\",H23,H23-100)","v":""},"",{"$f":"IF($F23=\"\",\"\",(VLOOKUP($J$42,Worksheet!$A$11:$AE$41,J23+1,FALSE)))","v":""},{"$f":"IF('Entry Information'!S113=\"\",\"\",'Entry Information'!S113)","v":""},null,"",{"$f":"IF('Entry Information'!T113=\"\",N23,N23-100)","v":""},"",{"$f":"IF($L23=\"\",\"\",(VLOOKUP($P$42,Worksheet!$A$11:$AE$41,P23+1,FALSE)))","v":""},{"$f":"IF('Entry Information'!U113=\"\",\"\",'Entry Information'!U113)","v":""},null,"",{"$f":"IF('Entry Information'!V113=\"\",T23,T23-100)","v":""},"",{"$f":"IF($R23=\"\",\"\",(VLOOKUP($V$42,Worksheet!$A$11:$AE$41,V23+1,FALSE)))","v":""},{"$f":"IF('Entry Information'!W113=\"\",\"\",'Entry Information'!W113)","v":""},null,"",{"$f":"IF('Entry Information'!X113=\"\",Z23,Z23-100)","v":""},"",{"$f":"IF($X23=\"\",\"\",(VLOOKUP($AB$42,Worksheet!$A$11:$AE$41,AB23+1,FALSE)))","v":""},{"$f":"IF('Entry Information'!Y113=\"\",\"\",'Entry Information'!Y113)","v":""},null,"",{"$f":"IF('Entry Information'!Z113=\"\",AF23,AF23-100)","v":""},"",{"$f":"IF($AD23=\"\",\"\",(VLOOKUP($AH$42,Worksheet!$A$11:$AE$41,AH23+1,FALSE)))","v":""},null,{"$f":"IF('ADVANCED ALL-AROUND RESULTS'!A22=\"\",\"\",(SUM('ADVANCED ALL-AROUND RESULTS'!$K22,'ADVANCED ALL-AROUND RESULTS'!$AC22,'ADVANCED ALL-AROUND RESULTS'!$AI22,'ADVANCED ALL-AROUND RESULTS'!$W22,'ADVANCED ALL-AROUND RESULTS'!$Q22)))","v":""},null,"","",null,{"$f":"IF(OR('Entry Information'!H113=\"\",'Entry Information'!J113=\"\"),\"\",(SUM('ADVANCED SELECT RESULTS'!$K22,'ADVANCED SELECT RESULTS'!$AC22,'ADVANCED SELECT RESULTS'!$AI22, 'ADVANCED SELECT RESULTS'!$W22,'ADVANCED SELECT RESULTS'!$Q22)))","v":""},null,"","",null,{"$f":"IF(OR('Entry Information'!I113=\"\",'Entry Information'!J113=\"\"),\"\",(SUM('ADVANCED JR HORSE RESULTS'!$K22,'ADVANCED JR HORSE RESULTS'!$AC22,'ADVANCED JR HORSE RESULTS'!$AI22, 'ADVANCED JR HORSE RESULTS'!$W22,'ADVANCED JR HORSE RESULTS'!$Q22)))","v":""},null,"",""]
[{"$f":"IF('Entry Information'!B114=\"\",\"\",'Entry Information'!B114)","v":""},{"$f":"IF('Entry Information'!C114=\"\",\"\",'Entry Information'!C114)","v":""},{"$f":"IF('Entry Information'!D114=\"\",\"\",'Entry Information'!D114)","v":""},{"$f":"IF('Entry Information'!E114=\"\",\"\",'Entry Information'!E114)","v":""},"ADV",{"$f":"IF('Entry Information'!Q114=\"\",\"\",'Entry Information'!Q114)","v":""},null,"",{"$f":"IF('Entry Information'!R114=\"\",H24,H24-100)","v":""},"",{"$f":"IF($F24=\"\",\"\",(VLOOKUP($J$42,Worksheet!$A$11:$AE$41,J24+1,FALSE)))","v":""},{"$f":"IF('Entry Information'!S114=\"\",\"\",'Entry Information'!S114)","v":""},null,"",{"$f":"IF('Entry Information'!T114=\"\",N24,N24-100)","v":""},"",{"$f":"IF($L24=\"\",\"\",(VLOOKUP($P$42,Worksheet!$A$11:$AE$41,P24+1,FALSE)))","v":""},{"$f":"IF('Entry Information'!U114=\"\",\"\",'Entry Information'!U114)","v":""},null,"",{"$f":"IF('Entry Information'!V114=\"\",T24,T24-100)","v":""},"",{"$f":"IF($R24=\"\",\"\",(VLOOKUP($V$42,Worksheet!$A$11:$AE$41,V24+1,FALSE)))","v":""},{"$f":"IF('Entry Information'!W114=\"\",\"\",'Entry Information'!W114)","v":""},null,"",{"$f":"IF('Entry Information'!X114=\"\",Z24,Z24-100)","v":""},"",{"$f":"IF($X24=\"\",\"\",(VLOOKUP($AB$42,Worksheet!$A$11:$AE$41,AB24+1,FALSE)))","v":""},{"$f":"IF('Entry Information'!Y114=\"\",\"\",'Entry Information'!Y114)","v":""},null,"",{"$f":"IF('Entry Information'!Z114=\"\",AF24,AF24-100)","v":""},"",{"$f":"IF($AD24=\"\",\"\",(VLOOKUP($AH$42,Worksheet!$A$11:$AE$41,AH24+1,FALSE)))","v":""},null,{"$f":"IF('ADVANCED ALL-AROUND RESULTS'!A23=\"\",\"\",(SUM('ADVANCED ALL-AROUND RESULTS'!$K23,'ADVANCED ALL-AROUND RESULTS'!$AC23,'ADVANCED ALL-AROUND RESULTS'!$AI23,'ADVANCED ALL-AROUND RESULTS'!$W23,'ADVANCED ALL-AROUND RESULTS'!$Q23)))","v":""},null,"","",null,{"$f":"IF(OR('Entry Information'!H114=\"\",'Entry Information'!J114=\"\"),\"\",(SUM('ADVANCED SELECT RESULTS'!$K23,'ADVANCED SELECT RESULTS'!$AC23,'ADVANCED SELECT RESULTS'!$AI23, 'ADVANCED SELECT RESULTS'!$W23,'ADVANCED SELECT RESULTS'!$Q23)))","v":""},null,"","",null,{"$f":"IF(OR('Entry Information'!I114=\"\",'Entry Information'!J114=\"\"),\"\",(SUM('ADVANCED JR HORSE RESULTS'!$K23,'ADVANCED JR HORSE RESULTS'!$AC23,'ADVANCED JR HORSE RESULTS'!$AI23, 'ADVANCED JR HORSE RESULTS'!$W23,'ADVANCED JR HORSE RESULTS'!$Q23)))","v":""},null,"",""]
[{"$f":"IF('Entry Information'!B115=\"\",\"\",'Entry Information'!B115)","v":""},{"$f":"IF('Entry Information'!C115=\"\",\"\",'Entry Information'!C115)","v":""},{"$f":"IF('Entry Information'!D115=\"\",\"\",'Entry Information'!D115)","v":""},{"$f":"IF('Entry Information'!E115=\"\",\"\",'Entry Information'!E115)","v":""},"ADV",{"$f":"IF('Entry Information'!Q115=\"\",\"\",'Entry Information'!Q115)","v":""},null,{"$f":"IF(G25=\"\",F25,(F25+(G25*0.001)))","v":""},{"$f":"IF('Entry Information'!R115=\"\",H25,H25-100)","v":""},"",{"$f":"IF($F25=\"\",\"\",(VLOOKUP($J$42,Worksheet!$A$11:$AE$41,J25+1,FALSE)))","v":""},{"$f":"IF('Entry Information'!S115=\"\",\"\",'Entry Information'!S115)","v":""},null,"",{"$f":"IF('Entry Information'!T115=\"\",N25,N25-100)","v":""},"",{"$f":"IF($L25=\"\",\"\",(VLOOKUP($P$42,Worksheet!$A$11:$AE$41,P25+1,FALSE)))","v":""},{"$f":"IF('Entry Information'!U115=\"\",\"\",'Entry Information'!U115)","v":""},null,"",{"$f":"IF('Entry Information'!V115=\"\",T25,T25-100)","v":""},"",{"$f":"IF($R25=\"\",\"\",(VLOOKUP($V$42,Worksheet!$A$11:$AE$41,V25+1,FALSE)))","v":""},{"$f":"IF('Entry Information'!W115=\"\",\"\",'Entry Information'!W115)","v":""},null,{"$f":"IF(Y25=\"\",X25,(X25+(Y25*0.001)))","v":""},{"$f":"IF('Entry Information'!X115=\"\",Z25,Z25-100)","v":""},"",{"$f":"IF($X25=\"\",\"\",(VLOOKUP($AB$42,Worksheet!$A$11:$AE$41,AB25+1,FALSE)))","v":""},{"$f":"IF('Entry Information'!Y115=\"\",\"\",'Entry Information'!Y115)","v":""},null,{"$f":"IF(AE25=\"\",AD25,(AD25+(AE25*0.001)))","v":""},{"$f":"IF('Entry Information'!Z115=\"\",AF25,AF25-100)","v":""},"",{"$f":"IF($AD25=\"\",\"\",(VLOOKUP($AH$42,Worksheet!$A$11:$AE$41,AH25+1,FALSE)))","v":""},null,{"$f":"IF('ADVANCED ALL-AROUND RESULTS'!A24=\"\",\"\",(SUM('ADVANCED ALL-AROUND RESULTS'!$K24,'ADVANCED ALL-AROUND RESULTS'!$AC24,'ADVANCED ALL-AROUND RESULTS'!$AI24,'ADVANCED ALL-AROUND RESULTS'!$W24,'ADVANCED ALL-AROUND RESULTS'!$Q24)))","v":""},null,"","",null,{"$f":"IF(OR('Entry Information'!H115=\"\",'Entry Information'!J115=\"\"),\"\",(SUM('ADVANCED SELECT RESULTS'!$K24,'ADVANCED SELECT RESULTS'!$AC24,'ADVANCED SELECT RESULTS'!$AI24, 'ADVANCED SELECT RESULTS'!$W24,'ADVANCED SELECT RESULTS'!$Q24)))","v":""},null,"","",null,{"$f":"IF(OR('Entry Information'!I115=\"\",'Entry Information'!J115=\"\"),\"\",(SUM('ADVANCED JR HORSE RESULTS'!$K24,'ADVANCED JR HORSE RESULTS'!$AC24,'ADVANCED JR HORSE RESULTS'!$AI24, 'ADVANCED JR HORSE RESULTS'!$W24,'ADVANCED JR HORSE RESULTS'!$Q24)))","v":""},null,"",""]
[{"$f":"IF('Entry Information'!B116=\"\",\"\",'Entry Information'!B116)","v":""},{"$f":"IF('Entry Information'!C116=\"\",\"\",'Entry Information'!C116)","v":""},{"$f":"IF('Entry Information'!D116=\"\",\"\",'Entry Information'!D116)","v":""},{"$f":"IF('Entry Information'!E116=\"\",\"\",'Entry Information'!E116)","v":""},"ADV",{"$f":"IF('Entry Information'!Q116=\"\",\"\",'Entry Information'!Q116)","v":""},null,{"$f":"IF(G26=\"\",F26,(F26+(G26*0.001)))","v":""},{"$f":"IF('Entry Information'!R116=\"\",H26,H26-100)","v":""},"",{"$f":"IF($F26=\"\",\"\",(VLOOKUP($J$42,Worksheet!$A$11:$AE$41,J26+1,FALSE)))","v":""},{"$f":"IF('Entry Information'!S116=\"\",\"\",'Entry Information'!S116)","v":""},null,"",{"$f":"IF('Entry Information'!T116=\"\",N26,N26-100)","v":""},"",{"$f":"IF($L26=\"\",\"\",(VLOOKUP($P$42,Worksheet!$A$11:$AE$41,P26+1,FALSE)))","v":""},{"$f":"IF('Entry Information'!U116=\"\",\"\",'Entry Information'!U116)","v":""},null,"",{"$f":"IF('Entry Information'!V116=\"\",T26,T26-100)","v":""},"",{"$f":"IF($R26=\"\",\"\",(VLOOKUP($V$42,Worksheet!$A$11:$AE$41,V26+1,FALSE)))","v":""},{"$f":"IF('Entry Information'!W116=\"\",\"\",'Entry Information'!W116)","v":""},null,{"$f":"IF(Y26=\"\",X26,(X26+(Y26*0.001)))","v":""},{"$f":"IF('Entry Information'!X116=\"\",Z26,Z26-100)","v":""},"",{"$f":"IF($X26=\"\",\"\",(VLOOKUP($AB$42,Worksheet!$A$11:$AE$41,AB26+1,FALSE)))","v":""},{"$f":"IF('Entry Information'!Y116=\"\",\"\",'Entry Information'!Y116)","v":""},null,{"$f":"IF(AE26=\"\",AD26,(AD26+(AE26*0.001)))","v":""},{"$f":"IF('Entry Information'!Z116=\"\",AF26,AF26-100)","v":""},"",{"$f":"IF($AD26=\"\",\"\",(VLOOKUP($AH$42,Worksheet!$A$11:$AE$41,AH26+1,FALSE)))","v":""},null,{"$f":"IF('ADVANCED ALL-AROUND RESULTS'!A25=\"\",\"\",(SUM('ADVANCED ALL-AROUND RESULTS'!$K25,'ADVANCED ALL-AROUND RESULTS'!$AC25,'ADVANCED ALL-AROUND RESULTS'!$AI25,'ADVANCED ALL-AROUND RESULTS'!$W25,'ADVANCED ALL-AROUND RESULTS'!$Q25)))","v":""},null,"","",null,{"$f":"IF(OR('Entry Information'!H116=\"\",'Entry Information'!J116=\"\"),\"\",(SUM('ADVANCED SELECT RESULTS'!$K25,'ADVANCED SELECT RESULTS'!$AC25,'ADVANCED SELECT RESULTS'!$AI25, 'ADVANCED SELECT RESULTS'!$W25,'ADVANCED SELECT RESULTS'!$Q25)))","v":""},null,"","",null,{"$f":"IF(OR('Entry Information'!I116=\"\",'Entry Information'!J116=\"\"),\"\",(SUM('ADVANCED JR HORSE RESULTS'!$K25,'ADVANCED JR HORSE RESULTS'!$AC25,'ADVANCED JR HORSE RESULTS'!$AI25, 'ADVANCED JR HORSE RESULTS'!$W25,'ADVANCED JR HORSE RESULTS'!$Q25)))","v":""},null,"",""]
[{"$f":"IF('Entry Information'!B117=\"\",\"\",'Entry Information'!B117)","v":""},{"$f":"IF('Entry Information'!C117=\"\",\"\",'Entry Information'!C117)","v":""},{"$f":"IF('Entry Information'!D117=\"\",\"\",'Entry Information'!D117)","v":""},{"$f":"IF('Entry Information'!E117=\"\",\"\",'Entry Information'!E117)","v":""},"ADV",{"$f":"IF('Entry Information'!Q117=\"\",\"\",'Entry Information'!Q117)","v":""},null,{"$f":"IF(G27=\"\",F27,(F27+(G27*0.001)))","v":""},{"$f":"IF('Entry Information'!R117=\"\",H27,H27-100)","v":""},"",{"$f":"IF($F27=\"\",\"\",(VLOOKUP($J$42,Worksheet!$A$11:$AE$41,J27+1,FALSE)))","v":""},{"$f":"IF('Entry Information'!S117=\"\",\"\",'Entry Information'!S117)","v":""},null,"",{"$f":"IF('Entry Information'!T117=\"\",N27,N27-100)","v":""},"",{"$f":"IF($L27=\"\",\"\",(VLOOKUP($P$42,Worksheet!$A$11:$AE$41,P27+1,FALSE)))","v":""},{"$f":"IF('Entry Information'!U117=\"\",\"\",'Entry Information'!U117)","v":""},null,"",{"$f":"IF('Entry Information'!V117=\"\",T27,T27-100)","v":""},"",{"$f":"IF($R27=\"\",\"\",(VLOOKUP($V$42,Worksheet!$A$11:$AE$41,V27+1,FALSE)))","v":""},{"$f":"IF('Entry Information'!W117=\"\",\"\",'Entry Information'!W117)","v":""},null,{"$f":"IF(Y27=\"\",X27,(X27+(Y27*0.001)))","v":""},{"$f":"IF('Entry Information'!X117=\"\",Z27,Z27-100)","v":""},"",{"$f":"IF($X27=\"\",\"\",(VLOOKUP($AB$42,Worksheet!$A$11:$AE$41,AB27+1,FALSE)))","v":""},{"$f":"IF('Entry Information'!Y117=\"\",\"\",'Entry Information'!Y117)","v":""},null,{"$f":"IF(AE27=\"\",AD27,(AD27+(AE27*0.001)))","v":""},{"$f":"IF('Entry Information'!Z117=\"\",AF27,AF27-100)","v":""},"",{"$f":"IF($AD27=\"\",\"\",(VLOOKUP($AH$42,Worksheet!$A$11:$AE$41,AH27+1,FALSE)))","v":""},null,{"$f":"IF('ADVANCED ALL-AROUND RESULTS'!A26=\"\",\"\",(SUM('ADVANCED ALL-AROUND RESULTS'!$K26,'ADVANCED ALL-AROUND RESULTS'!$AC26,'ADVANCED ALL-AROUND RESULTS'!$AI26,'ADVANCED ALL-AROUND RESULTS'!$W26,'ADVANCED ALL-AROUND RESULTS'!$Q26)))","v":""},null,"","",null,{"$f":"IF(OR('Entry Information'!H117=\"\",'Entry Information'!J117=\"\"),\"\",(SUM('ADVANCED SELECT RESULTS'!$K26,'ADVANCED SELECT RESULTS'!$AC26,'ADVANCED SELECT RESULTS'!$AI26, 'ADVANCED SELECT RESULTS'!$W26,'ADVANCED SELECT RESULTS'!$Q26)))","v":""},null,"","",null,{"$f":"IF(OR('Entry Information'!I117=\"\",'Entry Information'!J117=\"\"),\"\",(SUM('ADVANCED JR HORSE RESULTS'!$K26,'ADVANCED JR HORSE RESULTS'!$AC26,'ADVANCED JR HORSE RESULTS'!$AI26, 'ADVANCED JR HORSE RESULTS'!$W26,'ADVANCED JR HORSE RESULTS'!$Q26)))","v":""},null,"",""]
[{"$f":"IF('Entry Information'!B118=\"\",\"\",'Entry Information'!B118)","v":""},{"$f":"IF('Entry Information'!C118=\"\",\"\",'Entry Information'!C118)","v":""},{"$f":"IF('Entry Information'!D118=\"\",\"\",'Entry Information'!D118)","v":""},{"$f":"IF('Entry Information'!E118=\"\",\"\",'Entry Information'!E118)","v":""},"ADV",{"$f":"IF('Entry Information'!Q118=\"\",\"\",'Entry Information'!Q118)","v":""},null,"",{"$f":"IF('Entry Information'!R118=\"\",H28,H28-100)","v":""},"",{"$f":"IF($F28=\"\",\"\",(VLOOKUP($J$42,Worksheet!$A$11:$AE$41,J28+1,FALSE)))","v":""},{"$f":"IF('Entry Information'!S118=\"\",\"\",'Entry Information'!S118)","v":""},null,"",{"$f":"IF('Entry Information'!T118=\"\",N28,N28-100)","v":""},"",{"$f":"IF($L28=\"\",\"\",(VLOOKUP($P$42,Worksheet!$A$11:$AE$41,P28+1,FALSE)))","v":""},{"$f":"IF('Entry Information'!U118=\"\",\"\",'Entry Information'!U118)","v":""},null,"",{"$f":"IF('Entry Information'!V118=\"\",T28,T28-100)","v":""},"",{"$f":"IF($R28=\"\",\"\",(VLOOKUP($V$42,Worksheet!$A$11:$AE$41,V28+1,FALSE)))","v":""},{"$f":"IF('Entry Information'!W118=\"\",\"\",'Entry Information'!W118)","v":""},null,"",{"$f":"IF('Entry Information'!X118=\"\",Z28,Z28-100)","v":""},"",{"$f":"IF($X28=\"\",\"\",(VLOOKUP($AB$42,Worksheet!$A$11:$AE$41,AB28+1,FALSE)))","v":""},{"$f":"IF('Entry Information'!Y118=\"\",\"\",'Entry Information'!Y118)","v":""},null,"",{"$f":"IF('Entry Information'!Z118=\"\",AF28,AF28-100)","v":""},"",{"$f":"IF($AD28=\"\",\"\",(VLOOKUP($AH$42,Worksheet!$A$11:$AE$41,AH28+1,FALSE)))","v":""},null,{"$f":"IF('ADVANCED ALL-AROUND RESULTS'!A27=\"\",\"\",(SUM('ADVANCED ALL-AROUND RESULTS'!$K27,'ADVANCED ALL-AROUND RESULTS'!$AC27,'ADVANCED ALL-AROUND RESULTS'!$AI27,'ADVANCED ALL-AROUND RESULTS'!$W27,'ADVANCED ALL-AROUND RESULTS'!$Q27)))","v":""},null,"","",null,{"$f":"IF(OR('Entry Information'!H118=\"\",'Entry Information'!J118=\"\"),\"\",(SUM('ADVANCED SELECT RESULTS'!$K27,'ADVANCED SELECT RESULTS'!$AC27,'ADVANCED SELECT RESULTS'!$AI27, 'ADVANCED SELECT RESULTS'!$W27,'ADVANCED SELECT RESULTS'!$Q27)))","v":""},null,"","",null,{"$f":"IF(OR('Entry Information'!I118=\"\",'Entry Information'!J118=\"\"),\"\",(SUM('ADVANCED JR HORSE RESULTS'!$K27,'ADVANCED JR HORSE RESULTS'!$AC27,'ADVANCED JR HORSE RESULTS'!$AI27, 'ADVANCED JR HORSE RESULTS'!$W27,'ADVANCED JR HORSE RESULTS'!$Q27)))","v":""},null,"",""]
[{"$f":"IF('Entry Information'!B119=\"\",\"\",'Entry Information'!B119)","v":""},{"$f":"IF('Entry Information'!C119=\"\",\"\",'Entry Information'!C119)","v":""},{"$f":"IF('Entry Information'!D119=\"\",\"\",'Entry Information'!D119)","v":""},{"$f":"IF('Entry Information'!E119=\"\",\"\",'Entry Information'!E119)","v":""},"ADV",{"$f":"IF('Entry Information'!Q119=\"\",\"\",'Entry Information'!Q119)","v":""},null,"",{"$f":"IF('Entry Information'!R119=\"\",H29,H29-100)","v":""},"",{"$f":"IF($F29=\"\",\"\",(VLOOKUP($J$42,Worksheet!$A$11:$AE$41,J29+1,FALSE)))","v":""},{"$f":"IF('Entry Information'!S119=\"\",\"\",'Entry Information'!S119)","v":""},null,"",{"$f":"IF('Entry Information'!T119=\"\",N29,N29-100)","v":""},"",{"$f":"IF($L29=\"\",\"\",(VLOOKUP($P$42,Worksheet!$A$11:$AE$41,P29+1,FALSE)))","v":""},{"$f":"IF('Entry Information'!U119=\"\",\"\",'Entry Information'!U119)","v":""},null,"",{"$f":"IF('Entry Information'!V119=\"\",T29,T29-100)","v":""},"",{"$f":"IF($R29=\"\",\"\",(VLOOKUP($V$42,Worksheet!$A$11:$AE$41,V29+1,FALSE)))","v":""},{"$f":"IF('Entry Information'!W119=\"\",\"\",'Entry Information'!W119)","v":""},null,"",{"$f":"IF('Entry Information'!X119=\"\",Z29,Z29-100)","v":""},"",{"$f":"IF($X29=\"\",\"\",(VLOOKUP($AB$42,Worksheet!$A$11:$AE$41,AB29+1,FALSE)))","v":""},{"$f":"IF('Entry Information'!Y119=\"\",\"\",'Entry Information'!Y119)","v":""},null,"",{"$f":"IF('Entry Information'!Z119=\"\",AF29,AF29-100)","v":""},"",{"$f":"IF($AD29=\"\",\"\",(VLOOKUP($AH$42,Worksheet!$A$11:$AE$41,AH29+1,FALSE)))","v":""},null,{"$f":"IF('ADVANCED ALL-AROUND RESULTS'!A28=\"\",\"\",(SUM('ADVANCED ALL-AROUND RESULTS'!$K28,'ADVANCED ALL-AROUND RESULTS'!$AC28,'ADVANCED ALL-AROUND RESULTS'!$AI28,'ADVANCED ALL-AROUND RESULTS'!$W28,'ADVANCED ALL-AROUND RESULTS'!$Q28)))","v":""},null,"","",null,{"$f":"IF(OR('Entry Information'!H119=\"\",'Entry Information'!J119=\"\"),\"\",(SUM('ADVANCED SELECT RESULTS'!$K28,'ADVANCED SELECT RESULTS'!$AC28,'ADVANCED SELECT RESULTS'!$AI28, 'ADVANCED SELECT RESULTS'!$W28,'ADVANCED SELECT RESULTS'!$Q28)))","v":""},null,"","",null,{"$f":"IF(OR('Entry Information'!I119=\"\",'Entry Information'!J119=\"\"),\"\",(SUM('ADVANCED JR HORSE RESULTS'!$K28,'ADVANCED JR HORSE RESULTS'!$AC28,'ADVANCED JR HORSE RESULTS'!$AI28, 'ADVANCED JR HORSE RESULTS'!$W28,'ADVANCED JR HORSE RESULTS'!$Q28)))","v":""},null,"",""]
[{"$f":"IF('Entry Information'!B120=\"\",\"\",'Entry Information'!B120)","v":""},{"$f":"IF('Entry Information'!C120=\"\",\"\",'Entry Information'!C120)","v":""},{"$f":"IF('Entry Information'!D120=\"\",\"\",'Entry Information'!D120)","v":""},{"$f":"IF('Entry Information'!E120=\"\",\"\",'Entry Information'!E120)","v":""},"ADV",{"$f":"IF('Entry Information'!Q120=\"\",\"\",'Entry Information'!Q120)","v":""},null,"",{"$f":"IF('Entry Information'!R120=\"\",H30,H30-100)","v":""},"",{"$f":"IF($F30=\"\",\"\",(VLOOKUP($J$42,Worksheet!$A$11:$AE$41,J30+1,FALSE)))","v":""},{"$f":"IF('Entry Information'!S120=\"\",\"\",'Entry Information'!S120)","v":""},null,"",{"$f":"IF('Entry Information'!T120=\"\",N30,N30-100)","v":""},"",{"$f":"IF($L30=\"\",\"\",(VLOOKUP($P$42,Worksheet!$A$11:$AE$41,P30+1,FALSE)))","v":""},{"$f":"IF('Entry Information'!U120=\"\",\"\",'Entry Information'!U120)","v":""},null,"",{"$f":"IF('Entry Information'!V120=\"\",T30,T30-100)","v":""},"",{"$f":"IF($R30=\"\",\"\",(VLOOKUP($V$42,Worksheet!$A$11:$AE$41,V30+1,FALSE)))","v":""},{"$f":"IF('Entry Information'!W120=\"\",\"\",'Entry Information'!W120)","v":""},null,"",{"$f":"IF('Entry Information'!X120=\"\",Z30,Z30-100)","v":""},"",{"$f":"IF($X30=\"\",\"\",(VLOOKUP($AB$42,Worksheet!$A$11:$AE$41,AB30+1,FALSE)))","v":""},{"$f":"IF('Entry Information'!Y120=\"\",\"\",'Entry Information'!Y120)","v":""},null,"",{"$f":"IF('Entry Information'!Z120=\"\",AF30,AF30-100)","v":""},"",{"$f":"IF($AD30=\"\",\"\",(VLOOKUP($AH$42,Worksheet!$A$11:$AE$41,AH30+1,FALSE)))","v":""},null,{"$f":"IF('ADVANCED ALL-AROUND RESULTS'!A29=\"\",\"\",(SUM('ADVANCED ALL-AROUND RESULTS'!$K29,'ADVANCED ALL-AROUND RESULTS'!$AC29,'ADVANCED ALL-AROUND RESULTS'!$AI29,'ADVANCED ALL-AROUND RESULTS'!$W29,'ADVANCED ALL-AROUND RESULTS'!$Q29)))","v":""},null,"","",null,{"$f":"IF(OR('Entry Information'!H120=\"\",'Entry Information'!J120=\"\"),\"\",(SUM('ADVANCED SELECT RESULTS'!$K29,'ADVANCED SELECT RESULTS'!$AC29,'ADVANCED SELECT RESULTS'!$AI29, 'ADVANCED SELECT RESULTS'!$W29,'ADVANCED SELECT RESULTS'!$Q29)))","v":""},null,"","",null,{"$f":"IF(OR('Entry Information'!I120=\"\",'Entry Information'!J120=\"\"),\"\",(SUM('ADVANCED JR HORSE RESULTS'!$K29,'ADVANCED JR HORSE RESULTS'!$AC29,'ADVANCED JR HORSE RESULTS'!$AI29, 'ADVANCED JR HORSE RESULTS'!$W29,'ADVANCED JR HORSE RESULTS'!$Q29)))","v":""},null,"",""]
[{"$f":"IF('Entry Information'!B121=\"\",\"\",'Entry Information'!B121)","v":""},{"$f":"IF('Entry Information'!C121=\"\",\"\",'Entry Information'!C121)","v":""},{"$f":"IF('Entry Information'!D121=\"\",\"\",'Entry Information'!D121)","v":""},{"$f":"IF('Entry Information'!E121=\"\",\"\",'Entry Information'!E121)","v":""},"ADV",{"$f":"IF('Entry Information'!Q121=\"\",\"\",'Entry Information'!Q121)","v":""},null,"",{"$f":"IF('Entry Information'!R121=\"\",H31,H31-100)","v":""},"",{"$f":"IF($F31=\"\",\"\",(VLOOKUP($J$42,Worksheet!$A$11:$AE$41,J31+1,FALSE)))","v":""},{"$f":"IF('Entry Information'!S121=\"\",\"\",'Entry Information'!S121)","v":""},null,"",{"$f":"IF('Entry Information'!T121=\"\",N31,N31-100)","v":""},"",{"$f":"IF($L31=\"\",\"\",(VLOOKUP($P$42,Worksheet!$A$11:$AE$41,P31+1,FALSE)))","v":""},{"$f":"IF('Entry Information'!U121=\"\",\"\",'Entry Information'!U121)","v":""},null,"",{"$f":"IF('Entry Information'!V121=\"\",T31,T31-100)","v":""},"",{"$f":"IF($R31=\"\",\"\",(VLOOKUP($V$42,Worksheet!$A$11:$AE$41,V31+1,FALSE)))","v":""},{"$f":"IF('Entry Information'!W121=\"\",\"\",'Entry Information'!W121)","v":""},null,"",{"$f":"IF('Entry Information'!X121=\"\",Z31,Z31-100)","v":""},"",{"$f":"IF($X31=\"\",\"\",(VLOOKUP($AB$42,Worksheet!$A$11:$AE$41,AB31+1,FALSE)))","v":""},{"$f":"IF('Entry Information'!Y121=\"\",\"\",'Entry Information'!Y121)","v":""},null,"",{"$f":"IF('Entry Information'!Z121=\"\",AF31,AF31-100)","v":""},"",{"$f":"IF($AD31=\"\",\"\",(VLOOKUP($AH$42,Worksheet!$A$11:$AE$41,AH31+1,FALSE)))","v":""},null,{"$f":"IF('ADVANCED ALL-AROUND RESULTS'!A30=\"\",\"\",(SUM('ADVANCED ALL-AROUND RESULTS'!$K30,'ADVANCED ALL-AROUND RESULTS'!$AC30,'ADVANCED ALL-AROUND RESULTS'!$AI30,'ADVANCED ALL-AROUND RESULTS'!$W30,'ADVANCED ALL-AROUND RESULTS'!$Q30)))","v":""},null,"","",null,{"$f":"IF(OR('Entry Information'!H121=\"\",'Entry Information'!J121=\"\"),\"\",(SUM('ADVANCED SELECT RESULTS'!$K30,'ADVANCED SELECT RESULTS'!$AC30,'ADVANCED SELECT RESULTS'!$AI30, 'ADVANCED SELECT RESULTS'!$W30,'ADVANCED SELECT RESULTS'!$Q30)))","v":""},null,"","",null,{"$f":"IF(OR('Entry Information'!I121=\"\",'Entry Information'!J121=\"\"),\"\",(SUM('ADVANCED JR HORSE RESULTS'!$K30,'ADVANCED JR HORSE RESULTS'!$AC30,'ADVANCED JR HORSE RESULTS'!$AI30, 'ADVANCED JR HORSE RESULTS'!$W30,'ADVANCED JR HORSE RESULTS'!$Q30)))","v":""},null,"",""]
[{"$f":"IF('Entry Information'!B122=\"\",\"\",'Entry Information'!B122)","v":""},{"$f":"IF('Entry Information'!C122=\"\",\"\",'Entry Information'!C122)","v":""},{"$f":"IF('Entry Information'!D122=\"\",\"\",'Entry Information'!D122)","v":""},{"$f":"IF('Entry Information'!E122=\"\",\"\",'Entry Information'!E122)","v":""},"ADV",{"$f":"IF('Entry Information'!Q122=\"\",\"\",'Entry Information'!Q122)","v":""},null,"",{"$f":"IF('Entry Information'!R122=\"\",H32,H32-100)","v":""},"",{"$f":"IF($F32=\"\",\"\",(VLOOKUP($J$42,Worksheet!$A$11:$AE$41,J32+1,FALSE)))","v":""},{"$f":"IF('Entry Information'!S122=\"\",\"\",'Entry Information'!S122)","v":""},null,"",{"$f":"IF('Entry Information'!T122=\"\",N32,N32-100)","v":""},"",{"$f":"IF($L32=\"\",\"\",(VLOOKUP($P$42,Worksheet!$A$11:$AE$41,P32+1,FALSE)))","v":""},{"$f":"IF('Entry Information'!U122=\"\",\"\",'Entry Information'!U122)","v":""},null,"",{"$f":"IF('Entry Information'!V122=\"\",T32,T32-100)","v":""},"",{"$f":"IF($R32=\"\",\"\",(VLOOKUP($V$42,Worksheet!$A$11:$AE$41,V32+1,FALSE)))","v":""},{"$f":"IF('Entry Information'!W122=\"\",\"\",'Entry Information'!W122)","v":""},null,"",{"$f":"IF('Entry Information'!X122=\"\",Z32,Z32-100)","v":""},"",{"$f":"IF($X32=\"\",\"\",(VLOOKUP($AB$42,Worksheet!$A$11:$AE$41,AB32+1,FALSE)))","v":""},{"$f":"IF('Entry Information'!Y122=\"\",\"\",'Entry Information'!Y122)","v":""},null,"",{"$f":"IF('Entry Information'!Z122=\"\",AF32,AF32-100)","v":""},"",{"$f":"IF($AD32=\"\",\"\",(VLOOKUP($AH$42,Worksheet!$A$11:$AE$41,AH32+1,FALSE)))","v":""},null,{"$f":"IF('ADVANCED ALL-AROUND RESULTS'!A31=\"\",\"\",(SUM('ADVANCED ALL-AROUND RESULTS'!$K31,'ADVANCED ALL-AROUND RESULTS'!$AC31,'ADVANCED ALL-AROUND RESULTS'!$AI31,'ADVANCED ALL-AROUND RESULTS'!$W31,'ADVANCED ALL-AROUND RESULTS'!$Q31)))","v":""},null,"","",null,{"$f":"IF(OR('Entry Information'!H122=\"\",'Entry Information'!J122=\"\"),\"\",(SUM('ADVANCED SELECT RESULTS'!$K31,'ADVANCED SELECT RESULTS'!$AC31,'ADVANCED SELECT RESULTS'!$AI31, 'ADVANCED SELECT RESULTS'!$W31,'ADVANCED SELECT RESULTS'!$Q31)))","v":""},null,"","",null,{"$f":"IF(OR('Entry Information'!I122=\"\",'Entry Information'!J122=\"\"),\"\",(SUM('ADVANCED JR HORSE RESULTS'!$K31,'ADVANCED JR HORSE RESULTS'!$AC31,'ADVANCED JR HORSE RESULTS'!$AI31, 'ADVANCED JR HORSE RESULTS'!$W31,'ADVANCED JR HORSE RESULTS'!$Q31)))","v":""},null,"",""]
[{"$f":"IF('Entry Information'!B123=\"\",\"\",'Entry Information'!B123)","v":""},{"$f":"IF('Entry Information'!C123=\"\",\"\",'Entry Information'!C123)","v":""},{"$f":"IF('Entry Information'!D123=\"\",\"\",'Entry Information'!D123)","v":""},{"$f":"IF('Entry Information'!E123=\"\",\"\",'Entry Information'!E123)","v":""},"ADV",{"$f":"IF('Entry Information'!Q123=\"\",\"\",'Entry Information'!Q123)","v":""},null,"",{"$f":"IF('Entry Information'!R123=\"\",H33,H33-100)","v":""},"",{"$f":"IF($F33=\"\",\"\",(VLOOKUP($J$42,Worksheet!$A$11:$AE$41,J33+1,FALSE)))","v":""},{"$f":"IF('Entry Information'!S123=\"\",\"\",'Entry Information'!S123)","v":""},null,"",{"$f":"IF('Entry Information'!T123=\"\",N33,N33-100)","v":""},"",{"$f":"IF($L33=\"\",\"\",(VLOOKUP($P$42,Worksheet!$A$11:$AE$41,P33+1,FALSE)))","v":""},{"$f":"IF('Entry Information'!U123=\"\",\"\",'Entry Information'!U123)","v":""},null,"",{"$f":"IF('Entry Information'!V123=\"\",T33,T33-100)","v":""},"",{"$f":"IF($R33=\"\",\"\",(VLOOKUP($V$42,Worksheet!$A$11:$AE$41,V33+1,FALSE)))","v":""},{"$f":"IF('Entry Information'!W123=\"\",\"\",'Entry Information'!W123)","v":""},null,"",{"$f":"IF('Entry Information'!X123=\"\",Z33,Z33-100)","v":""},"",{"$f":"IF($X33=\"\",\"\",(VLOOKUP($AB$42,Worksheet!$A$11:$AE$41,AB33+1,FALSE)))","v":""},{"$f":"IF('Entry Information'!Y123=\"\",\"\",'Entry Information'!Y123)","v":""},null,"",{"$f":"IF('Entry Information'!Z123=\"\",AF33,AF33-100)","v":""},"",{"$f":"IF($AD33=\"\",\"\",(VLOOKUP($AH$42,Worksheet!$A$11:$AE$41,AH33+1,FALSE)))","v":""},null,{"$f":"IF('ADVANCED ALL-AROUND RESULTS'!A32=\"\",\"\",(SUM('ADVANCED ALL-AROUND RESULTS'!$K32,'ADVANCED ALL-AROUND RESULTS'!$AC32,'ADVANCED ALL-AROUND RESULTS'!$AI32,'ADVANCED ALL-AROUND RESULTS'!$W32,'ADVANCED ALL-AROUND RESULTS'!$Q32)))","v":""},null,"","",null,{"$f":"IF(OR('Entry Information'!H123=\"\",'Entry Information'!J123=\"\"),\"\",(SUM('ADVANCED SELECT RESULTS'!$K32,'ADVANCED SELECT RESULTS'!$AC32,'ADVANCED SELECT RESULTS'!$AI32, 'ADVANCED SELECT RESULTS'!$W32,'ADVANCED SELECT RESULTS'!$Q32)))","v":""},null,"","",null,{"$f":"IF(OR('Entry Information'!I123=\"\",'Entry Information'!J123=\"\"),\"\",(SUM('ADVANCED JR HORSE RESULTS'!$K32,'ADVANCED JR HORSE RESULTS'!$AC32,'ADVANCED JR HORSE RESULTS'!$AI32, 'ADVANCED JR HORSE RESULTS'!$W32,'ADVANCED JR HORSE RESULTS'!$Q32)))","v":""},null,"",""]
[{"$f":"IF('Entry Information'!B124=\"\",\"\",'Entry Information'!B124)","v":""},{"$f":"IF('Entry Information'!C124=\"\",\"\",'Entry Information'!C124)","v":""},{"$f":"IF('Entry Information'!D124=\"\",\"\",'Entry Information'!D124)","v":""},{"$f":"IF('Entry Information'!E124=\"\",\"\",'Entry Information'!E124)","v":""},"ADV",{"$f":"IF('Entry Information'!Q124=\"\",\"\",'Entry Information'!Q124)","v":""},null,"",{"$f":"IF('Entry Information'!R124=\"\",H34,H34-100)","v":""},"",{"$f":"IF($F34=\"\",\"\",(VLOOKUP($J$42,Worksheet!$A$11:$AE$41,J34+1,FALSE)))","v":""},{"$f":"IF('Entry Information'!S124=\"\",\"\",'Entry Information'!S124)","v":""},null,"",{"$f":"IF('Entry Information'!T124=\"\",N34,N34-100)","v":""},"",{"$f":"IF($L34=\"\",\"\",(VLOOKUP($P$42,Worksheet!$A$11:$AE$41,P34+1,FALSE)))","v":""},{"$f":"IF('Entry Information'!U124=\"\",\"\",'Entry Information'!U124)","v":""},null,"",{"$f":"IF('Entry Information'!V124=\"\",T34,T34-100)","v":""},"",{"$f":"IF($R34=\"\",\"\",(VLOOKUP($V$42,Worksheet!$A$11:$AE$41,V34+1,FALSE)))","v":""},{"$f":"IF('Entry Information'!W124=\"\",\"\",'Entry Information'!W124)","v":""},null,"",{"$f":"IF('Entry Information'!X124=\"\",Z34,Z34-100)","v":""},"",{"$f":"IF($X34=\"\",\"\",(VLOOKUP($AB$42,Worksheet!$A$11:$AE$41,AB34+1,FALSE)))","v":""},{"$f":"IF('Entry Information'!Y124=\"\",\"\",'Entry Information'!Y124)","v":""},null,"",{"$f":"IF('Entry Information'!Z124=\"\",AF34,AF34-100)","v":""},"",{"$f":"IF($AD34=\"\",\"\",(VLOOKUP($AH$42,Worksheet!$A$11:$AE$41,AH34+1,FALSE)))","v":""},null,{"$f":"IF('ADVANCED ALL-AROUND RESULTS'!A33=\"\",\"\",(SUM('ADVANCED ALL-AROUND RESULTS'!$K33,'ADVANCED ALL-AROUND RESULTS'!$AC33,'ADVANCED ALL-AROUND RESULTS'!$AI33,'ADVANCED ALL-AROUND RESULTS'!$W33,'ADVANCED ALL-AROUND RESULTS'!$Q33)))","v":""},null,"","",null,{"$f":"IF(OR('Entry Information'!H124=\"\",'Entry Information'!J124=\"\"),\"\",(SUM('ADVANCED SELECT RESULTS'!$K33,'ADVANCED SELECT RESULTS'!$AC33,'ADVANCED SELECT RESULTS'!$AI33, 'ADVANCED SELECT RESULTS'!$W33,'ADVANCED SELECT RESULTS'!$Q33)))","v":""},null,"","",null,{"$f":"IF(OR('Entry Information'!I124=\"\",'Entry Information'!J124=\"\"),\"\",(SUM('ADVANCED JR HORSE RESULTS'!$K33,'ADVANCED JR HORSE RESULTS'!$AC33,'ADVANCED JR HORSE RESULTS'!$AI33, 'ADVANCED JR HORSE RESULTS'!$W33,'ADVANCED JR HORSE RESULTS'!$Q33)))","v":""},null,"",""]
[{"$f":"IF('Entry Information'!B125=\"\",\"\",'Entry Information'!B125)","v":""},{"$f":"IF('Entry Information'!C125=\"\",\"\",'Entry Information'!C125)","v":""},{"$f":"IF('Entry Information'!D125=\"\",\"\",'Entry Information'!D125)","v":""},{"$f":"IF('Entry Information'!E125=\"\",\"\",'Entry Information'!E125)","v":""},"ADV",{"$f":"IF('Entry Information'!Q125=\"\",\"\",'Entry Information'!Q125)","v":""},null,"",{"$f":"IF('Entry Information'!R125=\"\",H35,H35-100)","v":""},"",{"$f":"IF($F35=\"\",\"\",(VLOOKUP($J$42,Worksheet!$A$11:$AE$41,J35+1,FALSE)))","v":""},{"$f":"IF('Entry Information'!S125=\"\",\"\",'Entry Information'!S125)","v":""},null,"",{"$f":"IF('Entry Information'!T125=\"\",N35,N35-100)","v":""},"",{"$f":"IF($L35=\"\",\"\",(VLOOKUP($P$42,Worksheet!$A$11:$AE$41,P35+1,FALSE)))","v":""},{"$f":"IF('Entry Information'!U125=\"\",\"\",'Entry Information'!U125)","v":""},null,"",{"$f":"IF('Entry Information'!V125=\"\",T35,T35-100)","v":""},"",{"$f":"IF($R35=\"\",\"\",(VLOOKUP($V$42,Worksheet!$A$11:$AE$41,V35+1,FALSE)))","v":""},{"$f":"IF('Entry Information'!W125=\"\",\"\",'Entry Information'!W125)","v":""},null,"",{"$f":"IF('Entry Information'!X125=\"\",Z35,Z35-100)","v":""},"",{"$f":"IF($X35=\"\",\"\",(VLOOKUP($AB$42,Worksheet!$A$11:$AE$41,AB35+1,FALSE)))","v":""},{"$f":"IF('Entry Information'!Y125=\"\",\"\",'Entry Information'!Y125)","v":""},null,"",{"$f":"IF('Entry Information'!Z125=\"\",AF35,AF35-100)","v":""},"",{"$f":"IF($AD35=\"\",\"\",(VLOOKUP($AH$42,Worksheet!$A$11:$AE$41,AH35+1,FALSE)))","v":""},null,{"$f":"IF('ADVANCED ALL-AROUND RESULTS'!A34=\"\",\"\",(SUM('ADVANCED ALL-AROUND RESULTS'!$K34,'ADVANCED ALL-AROUND RESULTS'!$AC34,'ADVANCED ALL-AROUND RESULTS'!$AI34,'ADVANCED ALL-AROUND RESULTS'!$W34,'ADVANCED ALL-AROUND RESULTS'!$Q34)))","v":""},null,"","",null,{"$f":"IF(OR('Entry Information'!H125=\"\",'Entry Information'!J125=\"\"),\"\",(SUM('ADVANCED SELECT RESULTS'!$K34,'ADVANCED SELECT RESULTS'!$AC34,'ADVANCED SELECT RESULTS'!$AI34, 'ADVANCED SELECT RESULTS'!$W34,'ADVANCED SELECT RESULTS'!$Q34)))","v":""},null,"","",null,{"$f":"IF(OR('Entry Information'!I125=\"\",'Entry Information'!J125=\"\"),\"\",(SUM('ADVANCED JR HORSE RESULTS'!$K34,'ADVANCED JR HORSE RESULTS'!$AC34,'ADVANCED JR HORSE RESULTS'!$AI34, 'ADVANCED JR HORSE RESULTS'!$W34,'ADVANCED JR HORSE RESULTS'!$Q34)))","v":""},null,"",""]
[{"$f":"IF('Entry Information'!B126=\"\",\"\",'Entry Information'!B126)","v":""},{"$f":"IF('Entry Information'!C126=\"\",\"\",'Entry Information'!C126)","v":""},{"$f":"IF('Entry Information'!D126=\"\",\"\",'Entry Information'!D126)","v":""},{"$f":"IF('Entry Information'!E126=\"\",\"\",'Entry Information'!E126)","v":""},"ADV",{"$f":"IF('Entry Information'!Q126=\"\",\"\",'Entry Information'!Q126)","v":""},null,"",{"$f":"IF('Entry Information'!R126=\"\",H36,H36-100)","v":""},"",{"$f":"IF($F36=\"\",\"\",(VLOOKUP($J$42,Worksheet!$A$11:$AE$41,J36+1,FALSE)))","v":""},{"$f":"IF('Entry Information'!S126=\"\",\"\",'Entry Information'!S126)","v":""},null,"",{"$f":"IF('Entry Information'!T126=\"\",N36,N36-100)","v":""},"",{"$f":"IF($L36=\"\",\"\",(VLOOKUP($P$42,Worksheet!$A$11:$AE$41,P36+1,FALSE)))","v":""},{"$f":"IF('Entry Information'!U126=\"\",\"\",'Entry Information'!U126)","v":""},null,"",{"$f":"IF('Entry Information'!V126=\"\",T36,T36-100)","v":""},"",{"$f":"IF($R36=\"\",\"\",(VLOOKUP($V$42,Worksheet!$A$11:$AE$41,V36+1,FALSE)))","v":""},{"$f":"IF('Entry Information'!W126=\"\",\"\",'Entry Information'!W126)","v":""},null,"",{"$f":"IF('Entry Information'!X126=\"\",Z36,Z36-100)","v":""},"",{"$f":"IF($X36=\"\",\"\",(VLOOKUP($AB$42,Worksheet!$A$11:$AE$41,AB36+1,FALSE)))","v":""},{"$f":"IF('Entry Information'!Y126=\"\",\"\",'Entry Information'!Y126)","v":""},null,"",{"$f":"IF('Entry Information'!Z126=\"\",AF36,AF36-100)","v":""},"",{"$f":"IF($AD36=\"\",\"\",(VLOOKUP($AH$42,Worksheet!$A$11:$AE$41,AH36+1,FALSE)))","v":""},null,{"$f":"IF('ADVANCED ALL-AROUND RESULTS'!A35=\"\",\"\",(SUM('ADVANCED ALL-AROUND RESULTS'!$K35,'ADVANCED ALL-AROUND RESULTS'!$AC35,'ADVANCED ALL-AROUND RESULTS'!$AI35,'ADVANCED ALL-AROUND RESULTS'!$W35,'ADVANCED ALL-AROUND RESULTS'!$Q35)))","v":""},null,"","",null,{"$f":"IF(OR('Entry Information'!H126=\"\",'Entry Information'!J126=\"\"),\"\",(SUM('ADVANCED SELECT RESULTS'!$K35,'ADVANCED SELECT RESULTS'!$AC35,'ADVANCED SELECT RESULTS'!$AI35, 'ADVANCED SELECT RESULTS'!$W35,'ADVANCED SELECT RESULTS'!$Q35)))","v":""},null,"","",null,{"$f":"IF(OR('Entry Information'!I126=\"\",'Entry Information'!J126=\"\"),\"\",(SUM('ADVANCED JR HORSE RESULTS'!$K35,'ADVANCED JR HORSE RESULTS'!$AC35,'ADVANCED JR HORSE RESULTS'!$AI35, 'ADVANCED JR HORSE RESULTS'!$W35,'ADVANCED JR HORSE RESULTS'!$Q35)))","v":""},null,"",""]
[{"$f":"IF('Entry Information'!B127=\"\",\"\",'Entry Information'!B127)","v":""},{"$f":"IF('Entry Information'!C127=\"\",\"\",'Entry Information'!C127)","v":""},{"$f":"IF('Entry Information'!D127=\"\",\"\",'Entry Information'!D127)","v":""},{"$f":"IF('Entry Information'!E127=\"\",\"\",'Entry Information'!E127)","v":""},"ADV",{"$f":"IF('Entry Information'!Q127=\"\",\"\",'Entry Information'!Q127)","v":""},null,"",{"$f":"IF('Entry Information'!R127=\"\",H37,H37-100)","v":""},"",{"$f":"IF($F37=\"\",\"\",(VLOOKUP($J$42,Worksheet!$A$11:$AE$41,J37+1,FALSE)))","v":""},{"$f":"IF('Entry Information'!S127=\"\",\"\",'Entry Information'!S127)","v":""},null,"",{"$f":"IF('Entry Information'!T127=\"\",N37,N37-100)","v":""},"",{"$f":"IF($L37=\"\",\"\",(VLOOKUP($P$42,Worksheet!$A$11:$AE$41,P37+1,FALSE)))","v":""},{"$f":"IF('Entry Information'!U127=\"\",\"\",'Entry Information'!U127)","v":""},null,"",{"$f":"IF('Entry Information'!V127=\"\",T37,T37-100)","v":""},"",{"$f":"IF($R37=\"\",\"\",(VLOOKUP($V$42,Worksheet!$A$11:$AE$41,V37+1,FALSE)))","v":""},{"$f":"IF('Entry Information'!W127=\"\",\"\",'Entry Information'!W127)","v":""},null,"",{"$f":"IF('Entry Information'!X127=\"\",Z37,Z37-100)","v":""},"",{"$f":"IF($X37=\"\",\"\",(VLOOKUP($AB$42,Worksheet!$A$11:$AE$41,AB37+1,FALSE)))","v":""},{"$f":"IF('Entry Information'!Y127=\"\",\"\",'Entry Information'!Y127)","v":""},null,"",{"$f":"IF('Entry Information'!Z127=\"\",AF37,AF37-100)","v":""},"",{"$f":"IF($AD37=\"\",\"\",(VLOOKUP($AH$42,Worksheet!$A$11:$AE$41,AH37+1,FALSE)))","v":""},null,{"$f":"IF('ADVANCED ALL-AROUND RESULTS'!A36=\"\",\"\",(SUM('ADVANCED ALL-AROUND RESULTS'!$K36,'ADVANCED ALL-AROUND RESULTS'!$AC36,'ADVANCED ALL-AROUND RESULTS'!$AI36,'ADVANCED ALL-AROUND RESULTS'!$W36,'ADVANCED ALL-AROUND RESULTS'!$Q36)))","v":""},null,"","",null,{"$f":"IF(OR('Entry Information'!H127=\"\",'Entry Information'!J127=\"\"),\"\",(SUM('ADVANCED SELECT RESULTS'!$K36,'ADVANCED SELECT RESULTS'!$AC36,'ADVANCED SELECT RESULTS'!$AI36, 'ADVANCED SELECT RESULTS'!$W36,'ADVANCED SELECT RESULTS'!$Q36)))","v":""},null,"","",null,{"$f":"IF(OR('Entry Information'!I127=\"\",'Entry Information'!J127=\"\"),\"\",(SUM('ADVANCED JR HORSE RESULTS'!$K36,'ADVANCED JR HORSE RESULTS'!$AC36,'ADVANCED JR HORSE RESULTS'!$AI36, 'ADVANCED JR HORSE RESULTS'!$W36,'ADVANCED JR HORSE RESULTS'!$Q36)))","v":""},null,"",""]
[{"$f":"IF('Entry Information'!B128=\"\",\"\",'Entry Information'!B128)","v":""},{"$f":"IF('Entry Information'!C128=\"\",\"\",'Entry Information'!C128)","v":""},{"$f":"IF('Entry Information'!D128=\"\",\"\",'Entry Information'!D128)","v":""},{"$f":"IF('Entry Information'!E128=\"\",\"\",'Entry Information'!E128)","v":""},"ADV",{"$f":"IF('Entry Information'!Q128=\"\",\"\",'Entry Information'!Q128)","v":""},null,"",{"$f":"IF('Entry Information'!R128=\"\",H38,H38-100)","v":""},"",{"$f":"IF($F38=\"\",\"\",(VLOOKUP($J$42,Worksheet!$A$11:$AE$41,J38+1,FALSE)))","v":""},{"$f":"IF('Entry Information'!S128=\"\",\"\",'Entry Information'!S128)","v":""},null,"",{"$f":"IF('Entry Information'!T128=\"\",N38,N38-100)","v":""},"",{"$f":"IF($L38=\"\",\"\",(VLOOKUP($P$42,Worksheet!$A$11:$AE$41,P38+1,FALSE)))","v":""},{"$f":"IF('Entry Information'!U128=\"\",\"\",'Entry Information'!U128)","v":""},null,"",{"$f":"IF('Entry Information'!V128=\"\",T38,T38-100)","v":""},"",{"$f":"IF($R38=\"\",\"\",(VLOOKUP($V$42,Worksheet!$A$11:$AE$41,V38+1,FALSE)))","v":""},{"$f":"IF('Entry Information'!W128=\"\",\"\",'Entry Information'!W128)","v":""},null,"",{"$f":"IF('Entry Information'!X128=\"\",Z38,Z38-100)","v":""},"",{"$f":"IF($X38=\"\",\"\",(VLOOKUP($AB$42,Worksheet!$A$11:$AE$41,AB38+1,FALSE)))","v":""},{"$f":"IF('Entry Information'!Y128=\"\",\"\",'Entry Information'!Y128)","v":""},null,"",{"$f":"IF('Entry Information'!Z128=\"\",AF38,AF38-100)","v":""},"",{"$f":"IF($AD38=\"\",\"\",(VLOOKUP($AH$42,Worksheet!$A$11:$AE$41,AH38+1,FALSE)))","v":""},null,{"$f":"IF('ADVANCED ALL-AROUND RESULTS'!A37=\"\",\"\",(SUM('ADVANCED ALL-AROUND RESULTS'!$K37,'ADVANCED ALL-AROUND RESULTS'!$AC37,'ADVANCED ALL-AROUND RESULTS'!$AI37,'ADVANCED ALL-AROUND RESULTS'!$W37,'ADVANCED ALL-AROUND RESULTS'!$Q37)))","v":""},null,"","",null,{"$f":"IF(OR('Entry Information'!H128=\"\",'Entry Information'!J128=\"\"),\"\",(SUM('ADVANCED SELECT RESULTS'!$K37,'ADVANCED SELECT RESULTS'!$AC37,'ADVANCED SELECT RESULTS'!$AI37, 'ADVANCED SELECT RESULTS'!$W37,'ADVANCED SELECT RESULTS'!$Q37)))","v":""},null,"","",null,{"$f":"IF(OR('Entry Information'!I128=\"\",'Entry Information'!J128=\"\"),\"\",(SUM('ADVANCED JR HORSE RESULTS'!$K37,'ADVANCED JR HORSE RESULTS'!$AC37,'ADVANCED JR HORSE RESULTS'!$AI37, 'ADVANCED JR HORSE RESULTS'!$W37,'ADVANCED JR HORSE RESULTS'!$Q37)))","v":""},null,"",""]
[{"$f":"IF('Entry Information'!B129=\"\",\"\",'Entry Information'!B129)","v":""},{"$f":"IF('Entry Information'!C129=\"\",\"\",'Entry Information'!C129)","v":""},{"$f":"IF('Entry Information'!D129=\"\",\"\",'Entry Information'!D129)","v":""},{"$f":"IF('Entry Information'!E129=\"\",\"\",'Entry Information'!E129)","v":""},"ADV",{"$f":"IF('Entry Information'!Q129=\"\",\"\",'Entry Information'!Q129)","v":""},null,"",{"$f":"IF('Entry Information'!R129=\"\",H39,H39-100)","v":""},"",{"$f":"IF($F39=\"\",\"\",(VLOOKUP($J$42,Worksheet!$A$11:$AE$41,J39+1,FALSE)))","v":""},{"$f":"IF('Entry Information'!S129=\"\",\"\",'Entry Information'!S129)","v":""},null,"",{"$f":"IF('Entry Information'!T129=\"\",N39,N39-100)","v":""},"",{"$f":"IF($L39=\"\",\"\",(VLOOKUP($P$42,Worksheet!$A$11:$AE$41,P39+1,FALSE)))","v":""},{"$f":"IF('Entry Information'!U129=\"\",\"\",'Entry Information'!U129)","v":""},null,"",{"$f":"IF('Entry Information'!V129=\"\",T39,T39-100)","v":""},"",{"$f":"IF($R39=\"\",\"\",(VLOOKUP($V$42,Worksheet!$A$11:$AE$41,V39+1,FALSE)))","v":""},{"$f":"IF('Entry Information'!W129=\"\",\"\",'Entry Information'!W129)","v":""},null,"",{"$f":"IF('Entry Information'!X129=\"\",Z39,Z39-100)","v":""},"",{"$f":"IF($X39=\"\",\"\",(VLOOKUP($AB$42,Worksheet!$A$11:$AE$41,AB39+1,FALSE)))","v":""},{"$f":"IF('Entry Information'!Y129=\"\",\"\",'Entry Information'!Y129)","v":""},null,"",{"$f":"IF('Entry Information'!Z129=\"\",AF39,AF39-100)","v":""},"",{"$f":"IF($AD39=\"\",\"\",(VLOOKUP($AH$42,Worksheet!$A$11:$AE$41,AH39+1,FALSE)))","v":""},null,{"$f":"IF('ADVANCED ALL-AROUND RESULTS'!A38=\"\",\"\",(SUM('ADVANCED ALL-AROUND RESULTS'!$K38,'ADVANCED ALL-AROUND RESULTS'!$AC38,'ADVANCED ALL-AROUND RESULTS'!$AI38,'ADVANCED ALL-AROUND RESULTS'!$W38,'ADVANCED ALL-AROUND RESULTS'!$Q38)))","v":""},null,"","",null,{"$f":"IF(OR('Entry Information'!H129=\"\",'Entry Information'!J129=\"\"),\"\",(SUM('ADVANCED SELECT RESULTS'!$K38,'ADVANCED SELECT RESULTS'!$AC38,'ADVANCED SELECT RESULTS'!$AI38, 'ADVANCED SELECT RESULTS'!$W38,'ADVANCED SELECT RESULTS'!$Q38)))","v":""},null,"","",null,{"$f":"IF(OR('Entry Information'!I129=\"\",'Entry Information'!J129=\"\"),\"\",(SUM('ADVANCED JR HORSE RESULTS'!$K38,'ADVANCED JR HORSE RESULTS'!$AC38,'ADVANCED JR HORSE RESULTS'!$AI38, 'ADVANCED JR HORSE RESULTS'!$W38,'ADVANCED JR HORSE RESULTS'!$Q38)))","v":""},null,"",""]
[{"$f":"IF('Entry Information'!B130=\"\",\"\",'Entry Information'!B130)","v":""},{"$f":"IF('Entry Information'!C130=\"\",\"\",'Entry Information'!C130)","v":""},{"$f":"IF('Entry Information'!D130=\"\",\"\",'Entry Information'!D130)","v":""},{"$f":"IF('Entry Information'!E130=\"\",\"\",'Entry Information'!E130)","v":""},"ADV",{"$f":"IF('Entry Information'!Q130=\"\",\"\",'Entry Information'!Q130)","v":""},null,"",{"$f":"IF('Entry Information'!R130=\"\",H40,H40-100)","v":""},"",{"$f":"IF($F40=\"\",\"\",(VLOOKUP($J$42,Worksheet!$A$11:$AE$41,J40+1,FALSE)))","v":""},{"$f":"IF('Entry Information'!S130=\"\",\"\",'Entry Information'!S130)","v":""},null,"",{"$f":"IF('Entry Information'!T130=\"\",N40,N40-100)","v":""},"",{"$f":"IF($L40=\"\",\"\",(VLOOKUP($P$42,Worksheet!$A$11:$AE$41,P40+1,FALSE)))","v":""},{"$f":"IF('Entry Information'!U130=\"\",\"\",'Entry Information'!U130)","v":""},null,"",{"$f":"IF('Entry Information'!V130=\"\",T40,T40-100)","v":""},"",{"$f":"IF($R40=\"\",\"\",(VLOOKUP($V$42,Worksheet!$A$11:$AE$41,V40+1,FALSE)))","v":""},{"$f":"IF('Entry Information'!W130=\"\",\"\",'Entry Information'!W130)","v":""},null,"",{"$f":"IF('Entry Information'!X130=\"\",Z40,Z40-100)","v":""},"",{"$f":"IF($X40=\"\",\"\",(VLOOKUP($AB$42,Worksheet!$A$11:$AE$41,AB40+1,FALSE)))","v":""},{"$f":"IF('Entry Information'!Y130=\"\",\"\",'Entry Information'!Y130)","v":""},null,"",{"$f":"IF('Entry Information'!Z130=\"\",AF40,AF40-100)","v":""},"",{"$f":"IF($AD40=\"\",\"\",(VLOOKUP($AH$42,Worksheet!$A$11:$AE$41,AH40+1,FALSE)))","v":""},null,{"$f":"IF('ADVANCED ALL-AROUND RESULTS'!A39=\"\",\"\",(SUM('ADVANCED ALL-AROUND RESULTS'!$K39,'ADVANCED ALL-AROUND RESULTS'!$AC39,'ADVANCED ALL-AROUND RESULTS'!$AI39,'ADVANCED ALL-AROUND RESULTS'!$W39,'ADVANCED ALL-AROUND RESULTS'!$Q39)))","v":""},null,"","",null,{"$f":"IF(OR('Entry Information'!H130=\"\",'Entry Information'!J130=\"\"),\"\",(SUM('ADVANCED SELECT RESULTS'!$K39,'ADVANCED SELECT RESULTS'!$AC39,'ADVANCED SELECT RESULTS'!$AI39, 'ADVANCED SELECT RESULTS'!$W39,'ADVANCED SELECT RESULTS'!$Q39)))","v":""},null,"","",null,{"$f":"IF(OR('Entry Information'!I130=\"\",'Entry Information'!J130=\"\"),\"\",(SUM('ADVANCED JR HORSE RESULTS'!$K39,'ADVANCED JR HORSE RESULTS'!$AC39,'ADVANCED JR HORSE RESULTS'!$AI39, 'ADVANCED JR HORSE RESULTS'!$W39,'ADVANCED JR HORSE RESULTS'!$Q39)))","v":""},null,"",""]
[]
[null,null,null,null,null,null,null,{"$f":"IF(G42=\"\",F42,(F42+(G42*0.001)))","v":0},null,{"$f":"COUNTIF(J11:J40,\">=0\")","v":0},null,null,null,null,null,{"$f":"COUNTIF(P11:P40,\">=0\")","v":0},null,null,null,null,null,{"$f":"COUNTIF(V11:V40,\">=0\")","v":0},null,null,null,null,null,{"$f":"COUNTIF(AB11:AB40,\">=0\")","v":0},null,null,null,null,null,{"$f":"COUNTIF(AH11:AH40,\">=0\")","v":0}]
[null,null,null,null,null,"1 - Total Penalty Points",null,null,null,null,null,"1 - Total Penalty Points",null,null,null,null,null,"1 Total Penalty Points",null,null,null,null,null,"1 - Total Penalty Points",null,null,null,null,null,"1 - Rope / Rope Handling",null,null,null,null,null,null,"Working Ranch Score ",null,null,null,null,"Working Ranch Score ",null,null,null,null,"Working Ranch Score "]
[null,null,null,null,null,"2 - Extended Trot",null,null,null,null,null,"2 - Rope Handling",null,null,null,null,null,"2 - Working Center of Arena",null,null,null,null,null,"2 - First Lead Change",null,null,null,null,null,"2 - Total Penalty Points",null,null,null,null,null,null,"and then use WR Tie-Breakers",null,null,null,null,"and then use WR Tie-Breakers",null,null,null,null,"and then use WR Tie-Breakers"]
[null,null,null,null,null,"3 - Transition down lope/walk/stop",null,null,null,null,null,"3 - Log Drag",null,null,null,null,null,"3 - First Cut From the Herd",null,null,null,null,null,"3 -Spin",null,null,null,null,null,"3 - Box Cow"]
[null,null,null,null,null,"4 - Transition to lope/lope",null,null,null,null,null,"4 - Gate",null,null,null,null,null,"4 - Second Cut From the Herd",null,null,null,null,null,"4 -First Stop",null,null,null,null,null,"4 - First Turn On the Fence"]
[null,null,null,null,null,null,null,null,null,null,null,null,null,null,null,null,null,null,null,null,null,null,null,null,null,null,null,null,null,"5 - Degree of Difficulty"]
[null,null,null,null,null,null,null,null,null,null,null,null,null,null,null,null,null,null,null,null,null,null,null,null,null,null,null,null,null,"6 - Time Worked"]
["Scores in RED are ties - enter a 1 in the Tie Breaker Column of the winner to break tie.  If multiple ties enter a 1 for the second place and a 2 for winner."]
[]
[]
["Places highlighted have a major penatly."]

{"sheet":"ADVANCED ALL-AROUND RESULTS","index":16,"n_rows":53,"n_cols":35,"rows_kept":53,"cut":false,"hidden":true,"merged":[[2,18,2,22],[2,23,2,28],[2,29,2,34],[1,0,1,2],[1,4,1,5],[1,9,1,16],[1,18,1,22],[1,23,1,28],[1,29,1,34],[2,1,2,2],[2,4,2,5],[2,9,2,11],[4,5,4,10],[4,11,4,16],[4,17,4,22],[4,23,4,28],[6,11,8,11],[6,12,8,12],[6,13,8,13],[6,26,8,26],[6,27,8,27],[6,28,8,28],[6,21,8,21],[6,15,8,15],[6,7,8,7],[6,8,8,8],[6,9,8,9],[6,10,8,10],[4,29,4,34],[6,32,8,32],[6,17,8,17],[6,18,8,18],[6,19,8,19],[6,20,8,20],[6,24,8,24],[6,25,8,25],[6,33,8,33],[6,34,8,34],[6,23,8,23],[5,5,5,10],[5,11,5,16],[5,17,5,22],[5,23,5,28],[5,29,5,34],[47,0,48,4],[6,29,8,29],[6,30,8,30],[6,31,8,31],[6,14,8,14],[6,5,8,5],[6,6,8,6],[6,22,8,22],[6,16,8,16]]}
[]
[null,null,null,null,"Event Name:",null,null,null,null,{"$f":"'Entry Information'!C4","v":"Ranch Horse Challenge"},null,null,null,null,null,null,null,null,"Judge #1 Name/Classes:",null,null,null,null,{"$f":"'Entry Information'!F4","v":"Mike Lund"}]
["Division:","ADVANCED",null,null,"Event Date:",null,null,null,null,{"$f":"'Entry Information'!C5","v":"2018-03-25"},null,null,null,null,null,null,null,null,"Judge #2 Name/Classes:",null,null,null,null,{"$f":"'Entry Information'!F5","v":"Karen Arlin"}]
[]
[null,null,null,null,null,"RANCH",null,null,null,null,null,"RANCH",null,null,null,null,null,"RANCH",null,null,null,null,null,"RANCH",null,null,null,null,null,"RANCH"]
[null,null,null,null,null,"RIDING",null,null,null,null,null,"TRAIL",null,null,null,null,null,"CUTING",null,null,null,null,null,"REINED WORK",null,null,null,null,null,"COW WORK"]
[null,null,null,null,null,"Score","Tie Breaker","Adjusted Score for Ties","Adjusted Score Major Penalty","Place","Placement Points","Score","Tie Breaker","Adjusted Score for Ties","Adjusted Score Major Penalty","Place","Placement Points","Score","Tie Breaker","Adjusted Score for Ties","Adjusted Score Major Penalty","Place","Placement Points","Score","Tie Breaker","Adjusted Score for Ties","Adjusted Score Major Penalty","Place","Placement Points","Score","Tie Breaker","Adjusted Score for Ties","Adjusted Score Major Penalty","Place","Placement Points"]
[]
["Back No.","Last Name","First Name","Registered Horse Name","Division"]
[{"$f":"IF('Entry Information'!J101=\"\",\"\",'Entry Information'!B101)","v":""},{"$f":"IF('Entry Information'!J101=\"\",\"\",'Entry Information'!C101)","v":""},{"$f":"IF('Entry Information'!J101=\"\",\"\",'Entry Information'!D101)","v":""},{"$f":"IF('Entry Information'!J101=\"\",\"\",'Entry Information'!E101)","v":""},"ADV",{"$f":"IF('Entry Information'!$J101=\"\",\"\",'ADVANCED RESULTS'!F11)","v":""},{"$f":"IF('Entry Information'!$J101=\"\",\"\",IF('ADVANCED RESULTS'!G11=\"\",\"\",'ADVANCED RESULTS'!G11))","v":""},{"$f":"IF(G10=\"\",F10,(F10+(G10*0.001)))","v":""},{"$f":"IF('Entry Information'!$J101=\"\",\"\",IF('Entry Information'!R101=\"\",H10,H10-100))","v":""},{"$f":"IF(I10=\"\",\"\",(RANK(I10,$I$10:$I$39,0)))","v":""},{"$f":"IF($F10=\"\",\"\",(VLOOKUP($J$41,Worksheet!$A$11:$AE$41,J10+1,FALSE)))","v":""},{"$f":"IF('Entry Information'!$J101=\"\",\"\",'ADVANCED RESULTS'!L11)","v":""},{"$f":"IF('Entry Information'!$J101=\"\",\"\",IF('ADVANCED RESULTS'!M11=\"\",\"\",'ADVANCED RESULTS'!M11))","v":""},{"$f":"IF(M10=\"\",L10,(L10+(M10*0.001)))","v":""},{"$f":"IF('Entry Information'!$J101=\"\",\"\",IF('Entry Information'!T101=\"\",N10,N10-100))","v":""},{"$f":"IF(O10=\"\",\"\",(RANK(O10,$O$10:$O$39,0)))","v":""},{"$f":"IF($L10=\"\",\"\",(VLOOKUP($P$41,Worksheet!$A$11:$AE$41,P10+1,FALSE)))","v":""},{"$f":"IF('Entry Information'!$J101=\"\",\"\",'ADVANCED RESULTS'!R11)","v":""},{"$f":"IF('Entry Information'!$J101=\"\",\"\",IF('ADVANCED RESULTS'!S11=\"\",\"\",'ADVANCED RESULTS'!S11))","v":""},{"$f":"IF(S10=\"\",R10,(R10+(S10*0.001)))","v":""},{"$f":"IF('Entry Information'!$J101=\"\",\"\",IF('Entry Information'!V101=\"\",T10,T10-100))","v":""},{"$f":"IF(U10=\"\",\"\",(RANK(U10,$U$10:$U$39,0)))","v":""},{"$f":"IF($R10=\"\",\"\",(VLOOKUP($V$41,Worksheet!$A$11:$AE$41,V10+1,FALSE)))","v":""},{"$f":"IF('Entry Information'!$J101=\"\",\"\",'ADVANCED RESULTS'!X11)","v":""},{"$f":"IF('Entry Information'!$J101=\"\",\"\",IF('ADVANCED RESULTS'!Y11=\"\",\"\",'ADVANCED RESULTS'!Y11))","v":""},{"$f":"IF(Y10=\"\",X10,(X10+(Y10*0.001)))","v":""},{"$f":"IF('Entry Information'!$J101=\"\",\"\",IF('Entry Information'!X101=\"\",Z10,Z10-100))","v":""},{"$f":"IF(AA10=\"\",\"\",(RANK(AA10,$AA$10:$AA$39,0)))","v":""},{"$f":"IF($X10=\"\",\"\",(VLOOKUP($AB$41,Worksheet!$A$11:$AE$41,AB10+1,FALSE)))","v":""},{"$f":"IF('Entry Information'!$J101=\"\",\"\",'ADVANCED RESULTS'!AD11)","v":""},{"$f":"IF('Entry Information'!$J101=\"\",\"\",IF('ADVANCED RESULTS'!AE11=\"\",\"\",'ADVANCED RESULTS'!AE11))","v":""},{"$f":"IF(AE10=\"\",AD10,(AD10+(AE10*0.001)))","v":""},{"$f":"IF('Entry Information'!$J101=\"\",\"\",IF('Entry Information'!Z101=\"\",AF10,AF10-100))","v":""},{"$f":"IF(AG10=\"\",\"\",(RANK(AG10,$AG$10:$AG$39,0)))","v":""},{"$f":"IF($AD10=\"\",\"\",(VLOOKUP($AH$41,Worksheet!$A$11:$AE$41,AH10+1,FALSE)))","v":""}]
[{"$f":"IF('Entry Information'!J102=\"\",\"\",'Entry Information'!B102)","v":""},{"$f":"IF('Entry Information'!J102=\"\",\"\",'Entry Information'!C102)","v":""},{"$f":"IF('Entry Information'!J102=\"\",\"\",'Entry Information'!D102)","v":""},{"$f":"IF('Entry Information'!J102=\"\",\"\",'Entry Information'!E102)","v":""},"ADV",{"$f":"IF('Entry Information'!$J102=\"\",\"\",'ADVANCED RESULTS'!F12)","v":""},{"$f":"IF('Entry Information'!$J102=\"\",\"\",IF('ADVANCED RESULTS'!G12=\"\",\"\",'ADVANCED RESULTS'!G12))","v":""},{"$f":"IF(G11=\"\",F11,(F11+(G11*0.001)))","v":""},{"$f":"IF('Entry Information'!$J102=\"\",\"\",IF('Entry Information'!R102=\"\",H11,H11-100))","v":""},{"$f":"IF(I11=\"\",\"\",(RANK(I11,$I$10:$I$39,0)))","v":""},{"$f":"IF($F11=\"\",\"\",(VLOOKUP($J$41,Worksheet!$A$11:$AE$41,J11+1,FALSE)))","v":""},{"$f":"IF('Entry Information'!$J102=\"\",\"\",'ADVANCED RESULTS'!L12)","v":""},{"$f":"IF('Entry Information'!$J102=\"\",\"\",IF('ADVANCED RESULTS'!M12=\"\",\"\",'ADVANCED RESULTS'!M12))","v":""},"",{"$f":"IF('Entry Information'!$J102=\"\",\"\",IF('Entry Information'!T102=\"\",N11,N11-100))","v":""},{"$f":"IF(O11=\"\",\"\",(RANK(O11,$O$10:$O$39,0)))","v":""},{"$f":"IF($L11=\"\",\"\",(VLOOKUP($P$41,Worksheet!$A$11:$AE$41,P11+1,FALSE)))","v":""},{"$f":"IF('Entry Information'!$J102=\"\",\"\",'ADVANCED RESULTS'!R12)","v":""},{"$f":"IF('Entry Information'!$J102=\"\",\"\",IF('ADVANCED RESULTS'!S12=\"\",\"\",'ADVANCED RESULTS'!S12))","v":""},"",{"$f":"IF('Entry Information'!$J102=\"\",\"\",IF('Entry Information'!V102=\"\",T11,T11-100))","v":""},{"$f":"IF(U11=\"\",\"\",(RANK(U11,$U$10:$U$39,0)))","v":""},{"$f":"IF($R11=\"\",\"\",(VLOOKUP($V$41,Worksheet!$A$11:$AE$41,V11+1,FALSE)))","v":""},{"$f":"IF('Entry Information'!$J102=\"\",\"\",'ADVANCED RESULTS'!X12)","v":""},{"$f":"IF('Entry Information'!$J102=\"\",\"\",IF('ADVANCED RESULTS'!Y12=\"\",\"\",'ADVANCED RESULTS'!Y12))","v":""},{"$f":"IF(Y11=\"\",X11,(X11+(Y11*0.001)))","v":""},{"$f":"IF('Entry Information'!$J102=\"\",\"\",IF('Entry Information'!X102=\"\",Z11,Z11-100))","v":""},{"$f":"IF(AA11=\"\",\"\",(RANK(AA11,$AA$10:$AA$39,0)))","v":""},{"$f":"IF($X11=\"\",\"\",(VLOOKUP($AB$41,Worksheet!$A$11:$AE$41,AB11+1,FALSE)))","v":""},{"$f":"IF('Entry Information'!$J102=\"\",\"\",'ADVANCED RESULTS'!AD12)","v":""},{"$f":"IF('Entry Information'!$J102=\"\",\"\",IF('ADVANCED RESULTS'!AE12=\"\",\"\",'ADVANCED RESULTS'!AE12))","v":""},{"$f":"IF(AE11=\"\",AD11,(AD11+(AE11*0.001)))","v":""},{"$f":"IF('Entry Information'!$J102=\"\",\"\",IF('Entry Information'!Z102=\"\",AF11,AF11-100))","v":""},{"$f":"IF(AG11=\"\",\"\",(RANK(AG11,$AG$10:$AG$39,0)))","v":""},{"$f":"IF($AD11=\"\",\"\",(VLOOKUP($AH$41,Worksheet!$A$11:$AE$41,AH11+1,FALSE)))","v":""}]
[{"$f":"IF('Entry Information'!J103=\"\",\"\",'Entry Information'!B103)","v":""},{"$f":"IF('Entry Information'!J103=\"\",\"\",'Entry Information'!C103)","v":""},{"$f":"IF('Entry Information'!J103=\"\",\"\",'Entry Information'!D103)","v":""},{"$f":"IF('Entry Information'!J103=\"\",\"\",'Entry Information'!E103)","v":""},"ADV",{"$f":"IF('Entry Information'!$J103=\"\",\"\",'ADVANCED RESULTS'!F13)","v":""},{"$f":"IF('Entry Information'!$J103=\"\",\"\",IF('ADVANCED RESULTS'!G13=\"\",\"\",'ADVANCED RESULTS'!G13))","v":""},"",{"$f":"IF('Entry Information'!$J103=\"\",\"\",IF('Entry Information'!R103=\"\",H12,H12-100))","v":""},"",{"$f":"IF($F12=\"\",\"\",(VLOOKUP($J$41,Worksheet!$A$11:$AE$41,J12+1,FALSE)))","v":""},{"$f":"IF('Entry Information'!$J103=\"\",\"\",'ADVANCED RESULTS'!L13)","v":""},{"$f":"IF('Entry Information'!$J103=\"\",\"\",IF('ADVANCED RESULTS'!M13=\"\",\"\",'ADVANCED RESULTS'!M13))","v":""},"",{"$f":"IF('Entry Information'!$J103=\"\",\"\",IF('Entry Information'!T103=\"\",N12,N12-100))","v":""},"",{"$f":"IF($L12=\"\",\"\",(VLOOKUP($P$41,Worksheet!$A$11:$AE$41,P12+1,FALSE)))","v":""},{"$f":"IF('Entry Information'!$J103=\"\",\"\",'ADVANCED RESULTS'!R13)","v":""},{"$f":"IF('Entry Information'!$J103=\"\",\"\",IF('ADVANCED RESULTS'!S13=\"\",\"\",'ADVANCED RESULTS'!S13))","v":""},"",{"$f":"IF('Entry Information'!$J103=\"\",\"\",IF('Entry Information'!V103=\"\",T12,T12-100))","v":""},"",{"$f":"IF($R12=\"\",\"\",(VLOOKUP($V$41,Worksheet!$A$11:$AE$41,V12+1,FALSE)))","v":""},{"$f":"IF('Entry Information'!$J103=\"\",\"\",'ADVANCED RESULTS'!X13)","v":""},{"$f":"IF('Entry Information'!$J103=\"\",\"\",IF('ADVANCED RESULTS'!Y13=\"\",\"\",'ADVANCED RESULTS'!Y13))","v":""},"",{"$f":"IF('Entry Information'!$J103=\"\",\"\",IF('Entry Information'!X103=\"\",Z12,Z12-100))","v":""},"",{"$f":"IF($X12=\"\",\"\",(VLOOKUP($AB$41,Worksheet!$A$11:$AE$41,AB12+1,FALSE)))","v":""},{"$f":"IF('Entry Information'!$J103=\"\",\"\",'ADVANCED RESULTS'!AD13)","v":""},{"$f":"IF('Entry Information'!$J103=\"\",\"\",IF('ADVANCED RESULTS'!AE13=\"\",\"\",'ADVANCED RESULTS'!AE13))","v":""},"",{"$f":"IF('Entry Information'!$J103=\"\",\"\",IF('Entry Information'!Z103=\"\",AF12,AF12-100))","v":""},"",{"$f":"IF($AD12=\"\",\"\",(VLOOKUP($AH$41,Worksheet!$A$11:$AE$41,AH12+1,FALSE)))","v":""}]
[{"$f":"IF('Entry Information'!J104=\"\",\"\",'Entry Information'!B104)","v":""},{"$f":"IF('Entry Information'!J104=\"\",\"\",'Entry Information'!C104)","v":""},{"$f":"IF('Entry Information'!J104=\"\",\"\",'Entry Information'!D104)","v":""},{"$f":"IF('Entry Information'!J104=\"\",\"\",'Entry Information'!E104)","v":""},"ADV",{"$f":"IF('Entry Information'!$J104=\"\",\"\",'ADVANCED RESULTS'!F14)","v":""},{"$f":"IF('Entry Information'!$J104=\"\",\"\",IF('ADVANCED RESULTS'!G14=\"\",\"\",'ADVANCED RESULTS'!G14))","v":""},"",{"$f":"IF('Entry Information'!$J104=\"\",\"\",IF('Entry Information'!R104=\"\",H13,H13-100))","v":""},"",{"$f":"IF($F13=\"\",\"\",(VLOOKUP($J$41,Worksheet!$A$11:$AE$41,J13+1,FALSE)))","v":""},{"$f":"IF('Entry Information'!$J104=\"\",\"\",'ADVANCED RESULTS'!L14)","v":""},{"$f":"IF('Entry Information'!$J104=\"\",\"\",IF('ADVANCED RESULTS'!M14=\"\",\"\",'ADVANCED RESULTS'!M14))","v":""},"",{"$f":"IF('Entry Information'!$J104=\"\",\"\",IF('Entry Information'!T104=\"\",N13,N13-100))","v":""},"",{"$f":"IF($L13=\"\",\"\",(VLOOKUP($P$41,Worksheet!$A$11:$AE$41,P13+1,FALSE)))","v":""},{"$f":"IF('Entry Information'!$J104=\"\",\"\",'ADVANCED RESULTS'!R14)","v":""},{"$f":"IF('Entry Information'!$J104=\"\",\"\",IF('ADVANCED RESULTS'!S14=\"\",\"\",'ADVANCED RESULTS'!S14))","v":""},"",{"$f":"IF('Entry Information'!$J104=\"\",\"\",IF('Entry Information'!V104=\"\",T13,T13-100))","v":""},"",{"$f":"IF($R13=\"\",\"\",(VLOOKUP($V$41,Worksheet!$A$11:$AE$41,V13+1,FALSE)))","v":""},{"$f":"IF('Entry Information'!$J104=\"\",\"\",'ADVANCED RESULTS'!X14)","v":""},{"$f":"IF('Entry Information'!$J104=\"\",\"\",IF('ADVANCED RESULTS'!Y14=\"\",\"\",'ADVANCED RESULTS'!Y14))","v":""},"",{"$f":"IF('Entry Information'!$J104=\"\",\"\",IF('Entry Information'!X104=\"\",Z13,Z13-100))","v":""},"",{"$f":"IF($X13=\"\",\"\",(VLOOKUP($AB$41,Worksheet!$A$11:$AE$41,AB13+1,FALSE)))","v":""},{"$f":"IF('Entry Information'!$J104=\"\",\"\",'ADVANCED RESULTS'!AD14)","v":""},{"$f":"IF('Entry Information'!$J104=\"\",\"\",IF('ADVANCED RESULTS'!AE14=\"\",\"\",'ADVANCED RESULTS'!AE14))","v":""},"",{"$f":"IF('Entry Information'!$J104=\"\",\"\",IF('Entry Information'!Z104=\"\",AF13,AF13-100))","v":""},"",{"$f":"IF($AD13=\"\",\"\",(VLOOKUP($AH$41,Worksheet!$A$11:$AE$41,AH13+1,FALSE)))","v":""}]
[{"$f":"IF('Entry Information'!J105=\"\",\"\",'Entry Information'!B105)","v":""},{"$f":"IF('Entry Information'!J105=\"\",\"\",'Entry Information'!C105)","v":""},{"$f":"IF('Entry Information'!J105=\"\",\"\",'Entry Information'!D105)","v":""},{"$f":"IF('Entry Information'!J105=\"\",\"\",'Entry Information'!E105)","v":""},"ADV",{"$f":"IF('Entry Information'!$J105=\"\",\"\",'ADVANCED RESULTS'!F15)","v":""},{"$f":"IF('Entry Information'!$J105=\"\",\"\",IF('ADVANCED RESULTS'!G15=\"\",\"\",'ADVANCED RESULTS'!G15))","v":""},"",{"$f":"IF('Entry Information'!$J105=\"\",\"\",IF('Entry Information'!R105=\"\",H14,H14-100))","v":""},"",{"$f":"IF($F14=\"\",\"\",(VLOOKUP($J$41,Worksheet!$A$11:$AE$41,J14+1,FALSE)))","v":""},{"$f":"IF('Entry Information'!$J105=\"\",\"\",'ADVANCED RESULTS'!L15)","v":""},{"$f":"IF('Entry Information'!$J105=\"\",\"\",IF('ADVANCED RESULTS'!M15=\"\",\"\",'ADVANCED RESULTS'!M15))","v":""},"",{"$f":"IF('Entry Information'!$J105=\"\",\"\",IF('Entry Information'!T105=\"\",N14,N14-100))","v":""},"",{"$f":"IF($L14=\"\",\"\",(VLOOKUP($P$41,Worksheet!$A$11:$AE$41,P14+1,FALSE)))","v":""},{"$f":"IF('Entry Information'!$J105=\"\",\"\",'ADVANCED RESULTS'!R15)","v":""},{"$f":"IF('Entry Information'!$J105=\"\",\"\",IF('ADVANCED RESULTS'!S15=\"\",\"\",'ADVANCED RESULTS'!S15))","v":""},"",{"$f":"IF('Entry Information'!$J105=\"\",\"\",IF('Entry Information'!V105=\"\",T14,T14-100))","v":""},"",{"$f":"IF($R14=\"\",\"\",(VLOOKUP($V$41,Worksheet!$A$11:$AE$41,V14+1,FALSE)))","v":""},{"$f":"IF('Entry Information'!$J105=\"\",\"\",'ADVANCED RESULTS'!X15)","v":""},{"$f":"IF('Entry Information'!$J105=\"\",\"\",IF('ADVANCED RESULTS'!Y15=\"\",\"\",'ADVANCED RESULTS'!Y15))","v":""},"",{"$f":"IF('Entry Information'!$J105=\"\",\"\",IF('Entry Information'!X105=\"\",Z14,Z14-100))","v":""},"",{"$f":"IF($X14=\"\",\"\",(VLOOKUP($AB$41,Worksheet!$A$11:$AE$41,AB14+1,FALSE)))","v":""},{"$f":"IF('Entry Information'!$J105=\"\",\"\",'ADVANCED RESULTS'!AD15)","v":""},{"$f":"IF('Entry Information'!$J105=\"\",\"\",IF('ADVANCED RESULTS'!AE15=\"\",\"\",'ADVANCED RESULTS'!AE15))","v":""},"",{"$f":"IF('Entry Information'!$J105=\"\",\"\",IF('Entry Information'!Z105=\"\",AF14,AF14-100))","v":""},"",{"$f":"IF($AD14=\"\",\"\",(VLOOKUP($AH$41,Worksheet!$A$11:$AE$41,AH14+1,FALSE)))","v":""}]
[{"$f":"IF('Entry Information'!J106=\"\",\"\",'Entry Information'!B106)","v":""},{"$f":"IF('Entry Information'!J106=\"\",\"\",'Entry Information'!C106)","v":""},{"$f":"IF('Entry Information'!J106=\"\",\"\",'Entry Information'!D106)","v":""},{"$f":"IF('Entry Information'!J106=\"\",\"\",'Entry Information'!E106)","v":""},"ADV",{"$f":"IF('Entry Information'!$J106=\"\",\"\",'ADVANCED RESULTS'!F16)","v":""},{"$f":"IF('Entry Information'!$J106=\"\",\"\",IF('ADVANCED RESULTS'!G16=\"\",\"\",'ADVANCED RESULTS'!G16))","v":""},"",{"$f":"IF('Entry Information'!$J106=\"\",\"\",IF('Entry Information'!R106=\"\",H15,H15-100))","v":""},"",{"$f":"IF($F15=\"\",\"\",(VLOOKUP($J$41,Worksheet!$A$11:$AE$41,J15+1,FALSE)))","v":""},{"$f":"IF('Entry Information'!$J106=\"\",\"\",'ADVANCED RESULTS'!L16)","v":""},{"$f":"IF('Entry Information'!$J106=\"\",\"\",IF('ADVANCED RESULTS'!M16=\"\",\"\",'ADVANCED RESULTS'!M16))","v":""},"",{"$f":"IF('Entry Information'!$J106=\"\",\"\",IF('Entry Information'!T106=\"\",N15,N15-100))","v":""},"",{"$f":"IF($L15=\"\",\"\",(VLOOKUP($P$41,Worksheet!$A$11:$AE$41,P15+1,FALSE)))","v":""},{"$f":"IF('Entry Information'!$J106=\"\",\"\",'ADVANCED RESULTS'!R16)","v":""},{"$f":"IF('Entry Information'!$J106=\"\",\"\",IF('ADVANCED RESULTS'!S16=\"\",\"\",'ADVANCED RESULTS'!S16))","v":""},"",{"$f":"IF('Entry Information'!$J106=\"\",\"\",IF('Entry Information'!V106=\"\",T15,T15-100))","v":""},"",{"$f":"IF($R15=\"\",\"\",(VLOOKUP($V$41,Worksheet!$A$11:$AE$41,V15+1,FALSE)))","v":""},{"$f":"IF('Entry Information'!$J106=\"\",\"\",'ADVANCED RESULTS'!X16)","v":""},{"$f":"IF('Entry Information'!$J106=\"\",\"\",IF('ADVANCED RESULTS'!Y16=\"\",\"\",'ADVANCED RESULTS'!Y16))","v":""},"",{"$f":"IF('Entry Information'!$J106=\"\",\"\",IF('Entry Information'!X106=\"\",Z15,Z15-100))","v":""},"",{"$f":"IF($X15=\"\",\"\",(VLOOKUP($AB$41,Worksheet!$A$11:$AE$41,AB15+1,FALSE)))","v":""},{"$f":"IF('Entry Information'!$J106=\"\",\"\",'ADVANCED RESULTS'!AD16)","v":""},{"$f":"IF('Entry Information'!$J106=\"\",\"\",IF('ADVANCED RESULTS'!AE16=\"\",\"\",'ADVANCED RESULTS'!AE16))","v":""},"",{"$f":"IF('Entry Information'!$J106=\"\",\"\",IF('Entry Information'!Z106=\"\",AF15,AF15-100))","v":""},"",{"$f":"IF($AD15=\"\",\"\",(VLOOKUP($AH$41,Worksheet!$A$11:$AE$41,AH15+1,FALSE)))","v":""}]
[{"$f":"IF('Entry Information'!J107=\"\",\"\",'Entry Information'!B107)","v":""},{"$f":"IF('Entry Information'!J107=\"\",\"\",'Entry Information'!C107)","v":""},{"$f":"IF('Entry Information'!J107=\"\",\"\",'Entry Information'!D107)","v":""},{"$f":"IF('Entry Information'!J107=\"\",\"\",'Entry Information'!E107)","v":""},"ADV",{"$f":"IF('Entry Information'!$J107=\"\",\"\",'ADVANCED RESULTS'!F17)","v":""},{"$f":"IF('Entry Information'!$J107=\"\",\"\",IF('ADVANCED RESULTS'!G17=\"\",\"\",'ADVANCED RESULTS'!G17))","v":""},"",{"$f":"IF('Entry Information'!$J107=\"\",\"\",IF('Entry Information'!R107=\"\",H16,H16-100))","v":""},"",{"$f":"IF($F16=\"\",\"\",(VLOOKUP($J$41,Worksheet!$A$11:$AE$41,J16+1,FALSE)))","v":""},{"$f":"IF('Entry Information'!$J107=\"\",\"\",'ADVANCED RESULTS'!L17)","v":""},{"$f":"IF('Entry Information'!$J107=\"\",\"\",IF('ADVANCED RESULTS'!M17=\"\",\"\",'ADVANCED RESULTS'!M17))","v":""},"",{"$f":"IF('Entry Information'!$J107=\"\",\"\",IF('Entry Information'!T107=\"\",N16,N16-100))","v":""},"",{"$f":"IF($L16=\"\",\"\",(VLOOKUP($P$41,Worksheet!$A$11:$AE$41,P16+1,FALSE)))","v":""},{"$f":"IF('Entry Information'!$J107=\"\",\"\",'ADVANCED RESULTS'!R17)","v":""},{"$f":"IF('Entry Information'!$J107=\"\",\"\",IF('ADVANCED RESULTS'!S17=\"\",\"\",'ADVANCED RESULTS'!S17))","v":""},"",{"$f":"IF('Entry Information'!$J107=\"\",\"\",IF('Entry Information'!V107=\"\",T16,T16-100))","v":""},"",{"$f":"IF($R16=\"\",\"\",(VLOOKUP($V$41,Worksheet!$A$11:$AE$41,V16+1,FALSE)))","v":""},{"$f":"IF('Entry Information'!$J107=\"\",\"\",'ADVANCED RESULTS'!X17)","v":""},{"$f":"IF('Entry Information'!$J107=\"\",\"\",IF('ADVANCED RESULTS'!Y17=\"\",\"\",'ADVANCED RESULTS'!Y17))","v":""},"",{"$f":"IF('Entry Information'!$J107=\"\",\"\",IF('Entry Information'!X107=\"\",Z16,Z16-100))","v":""},"",{"$f":"IF($X16=\"\",\"\",(VLOOKUP($AB$41,Worksheet!$A$11:$AE$41,AB16+1,FALSE)))","v":""},{"$f":"IF('Entry Information'!$J107=\"\",\"\",'ADVANCED RESULTS'!AD17)","v":""},{"$f":"IF('Entry Information'!$J107=\"\",\"\",IF('ADVANCED RESULTS'!AE17=\"\",\"\",'ADVANCED RESULTS'!AE17))","v":""},"",{"$f":"IF('Entry Information'!$J107=\"\",\"\",IF('Entry Information'!Z107=\"\",AF16,AF16-100))","v":""},"",{"$f":"IF($AD16=\"\",\"\",(VLOOKUP($AH$41,Worksheet!$A$11:$AE$41,AH16+1,FALSE)))","v":""}]
[{"$f":"IF('Entry Information'!J108=\"\",\"\",'Entry Information'!B108)","v":""},{"$f":"IF('Entry Information'!J108=\"\",\"\",'Entry Information'!C108)","v":""},{"$f":"IF('Entry Information'!J108=\"\",\"\",'Entry Information'!D108)","v":""},{"$f":"IF('Entry Information'!J108=\"\",\"\",'Entry Information'!E108)","v":""},"ADV",{"$f":"IF('Entry Information'!$J108=\"\",\"\",'ADVANCED RESULTS'!F18)","v":""},{"$f":"IF('Entry Information'!$J108=\"\",\"\",IF('ADVANCED RESULTS'!G18=\"\",\"\",'ADVANCED RESULTS'!G18))","v":""},"",{"$f":"IF('Entry Information'!$J108=\"\",\"\",IF('Entry Information'!R108=\"\",H17,H17-100))","v":""},"",{"$f":"IF($F17=\"\",\"\",(VLOOKUP($J$41,Worksheet!$A$11:$AE$41,J17+1,FALSE)))","v":""},{"$f":"IF('Entry Information'!$J108=\"\",\"\",'ADVANCED RESULTS'!L18)","v":""},{"$f":"IF('Entry Information'!$J108=\"\",\"\",IF('ADVANCED RESULTS'!M18=\"\",\"\",'ADVANCED RESULTS'!M18))","v":""},"",{"$f":"IF('Entry Information'!$J108=\"\",\"\",IF('Entry Information'!T108=\"\",N17,N17-100))","v":""},"",{"$f":"IF($L17=\"\",\"\",(VLOOKUP($P$41,Worksheet!$A$11:$AE$41,P17+1,FALSE)))","v":""},{"$f":"IF('Entry Information'!$J108=\"\",\"\",'ADVANCED RESULTS'!R18)","v":""},{"$f":"IF('Entry Information'!$J108=\"\",\"\",IF('ADVANCED RESULTS'!S18=\"\",\"\",'ADVANCED RESULTS'!S18))","v":""},"",{"$f":"IF('Entry Information'!$J108=\"\",\"\",IF('Entry Information'!V108=\"\",T17,T17-100))","v":""},"",{"$f":"IF($R17=\"\",\"\",(VLOOKUP($V$41,Worksheet!$A$11:$AE$41,V17+1,FALSE)))","v":""},{"$f":"IF('Entry Information'!$J108=\"\",\"\",'ADVANCED RESULTS'!X18)","v":""},{"$f":"IF('Entry Information'!$J108=\"\",\"\",IF('ADVANCED RESULTS'!Y18=\"\",\"\",'ADVANCED RESULTS'!Y18))","v":""},"",{"$f":"IF('Entry Information'!$J108=\"\",\"\",IF('Entry Information'!X108=\"\",Z17,Z17-100))","v":""},"",{"$f":"IF($X17=\"\",\"\",(VLOOKUP($AB$41,Worksheet!$A$11:$AE$41,AB17+1,FALSE)))","v":""},{"$f":"IF('Entry Information'!$J108=\"\",\"\",'ADVANCED RESULTS'!AD18)","v":""},{"$f":"IF('Entry Information'!$J108=\"\",\"\",IF('ADVANCED RESULTS'!AE18=\"\",\"\",'ADVANCED RESULTS'!AE18))","v":""},"",{"$f":"IF('Entry Information'!$J108=\"\",\"\",IF('Entry Information'!Z108=\"\",AF17,AF17-100))","v":""},"",{"$f":"IF($AD17=\"\",\"\",(VLOOKUP($AH$41,Worksheet!$A$11:$AE$41,AH17+1,FALSE)))","v":""}]
[{"$f":"IF('Entry Information'!J109=\"\",\"\",'Entry Information'!B109)","v":""},{"$f":"IF('Entry Information'!J109=\"\",\"\",'Entry Information'!C109)","v":""},{"$f":"IF('Entry Information'!J109=\"\",\"\",'Entry Information'!D109)","v":""},{"$f":"IF('Entry Information'!J109=\"\",\"\",'Entry Information'!E109)","v":""},"ADV",{"$f":"IF('Entry Information'!$J109=\"\",\"\",'ADVANCED RESULTS'!F19)","v":""},{"$f":"IF('Entry Information'!$J109=\"\",\"\",IF('ADVANCED RESULTS'!G19=\"\",\"\",'ADVANCED RESULTS'!G19))","v":""},"",{"$f":"IF('Entry Information'!$J109=\"\",\"\",IF('Entry Information'!R109=\"\",H18,H18-100))","v":""},"",{"$f":"IF($F18=\"\",\"\",(VLOOKUP($J$41,Worksheet!$A$11:$AE$41,J18+1,FALSE)))","v":""},{"$f":"IF('Entry Information'!$J109=\"\",\"\",'ADVANCED RESULTS'!L19)","v":""},{"$f":"IF('Entry Information'!$J109=\"\",\"\",IF('ADVANCED RESULTS'!M19=\"\",\"\",'ADVANCED RESULTS'!M19))","v":""},"",{"$f":"IF('Entry Information'!$J109=\"\",\"\",IF('Entry Information'!T109=\"\",N18,N18-100))","v":""},"",{"$f":"IF($L18=\"\",\"\",(VLOOKUP($P$41,Worksheet!$A$11:$AE$41,P18+1,FALSE)))","v":""},{"$f":"IF('Entry Information'!$J109=\"\",\"\",'ADVANCED RESULTS'!R19)","v":""},{"$f":"IF('Entry Information'!$J109=\"\",\"\",IF('ADVANCED RESULTS'!S19=\"\",\"\",'ADVANCED RESULTS'!S19))","v":""},"",{"$f":"IF('Entry Information'!$J109=\"\",\"\",IF('Entry Information'!V109=\"\",T18,T18-100))","v":""},"",{"$f":"IF($R18=\"\",\"\",(VLOOKUP($V$41,Worksheet!$A$11:$AE$41,V18+1,FALSE)))","v":""},{"$f":"IF('Entry Information'!$J109=\"\",\"\",'ADVANCED RESULTS'!X19)","v":""},{"$f":"IF('Entry Information'!$J109=\"\",\"\",IF('ADVANCED RESULTS'!Y19=\"\",\"\",'ADVANCED RESULTS'!Y19))","v":""},"",{"$f":"IF('Entry Information'!$J109=\"\",\"\",IF('Entry Information'!X109=\"\",Z18,Z18-100))","v":""},"",{"$f":"IF($X18=\"\",\"\",(VLOOKUP($AB$41,Worksheet!$A$11:$AE$41,AB18+1,FALSE)))","v":""},{"$f":"IF('Entry Information'!$J109=\"\",\"\",'ADVANCED RESULTS'!AD19)","v":""},{"$f":"IF('Entry Information'!$J109=\"\",\"\",IF('ADVANCED RESULTS'!AE19=\"\",\"\",'ADVANCED RESULTS'!AE19))","v":""},"",{"$f":"IF('Entry Information'!$J109=\"\",\"\",IF('Entry Information'!Z109=\"\",AF18,AF18-100))","v":""},"",{"$f":"IF($AD18=\"\",\"\",(VLOOKUP($AH$41,Worksheet!$A$11:$AE$41,AH18+1,FALSE)))","v":""}]
[{"$f":"IF('Entry Information'!J110=\"\",\"\",'Entry Information'!B110)","v":""},{"$f":"IF('Entry Information'!J110=\"\",\"\",'Entry Information'!C110)","v":""},{"$f":"IF('Entry Information'!J110=\"\",\"\",'Entry Information'!D110)","v":""},{"$f":"IF('Entry Information'!J110=\"\",\"\",'Entry Information'!E110)","v":""},"ADV",{"$f":"IF('Entry Information'!$J110=\"\",\"\",'ADVANCED RESULTS'!F20)","v":""},{"$f":"IF('Entry Information'!$J110=\"\",\"\",IF('ADVANCED RESULTS'!G20=\"\",\"\",'ADVANCED RESULTS'!G20))","v":""},"",{"$f":"IF('Entry Information'!$J110=\"\",\"\",IF('Entry Information'!R110=\"\",H19,H19-100))","v":""},"",{"$f":"IF($F19=\"\",\"\",(VLOOKUP($J$41,Worksheet!$A$11:$AE$41,J19+1,FALSE)))","v":""},{"$f":"IF('Entry Information'!$J110=\"\",\"\",'ADVANCED RESULTS'!L20)","v":""},{"$f":"IF('Entry Information'!$J110=\"\",\"\",IF('ADVANCED RESULTS'!M20=\"\",\"\",'ADVANCED RESULTS'!M20))","v":""},"",{"$f":"IF('Entry Information'!$J110=\"\",\"\",IF('Entry Information'!T110=\"\",N19,N19-100))","v":""},"",{"$f":"IF($L19=\"\",\"\",(VLOOKUP($P$41,Worksheet!$A$11:$AE$41,P19+1,FALSE)))","v":""},{"$f":"IF('Entry Information'!$J110=\"\",\"\",'ADVANCED RESULTS'!R20)","v":""},{"$f":"IF('Entry Information'!$J110=\"\",\"\",IF('ADVANCED RESULTS'!S20=\"\",\"\",'ADVANCED RESULTS'!S20))","v":""},"",{"$f":"IF('Entry Information'!$J110=\"\",\"\",IF('Entry Information'!V110=\"\",T19,T19-100))","v":""},"",{"$f":"IF($R19=\"\",\"\",(VLOOKUP($V$41,Worksheet!$A$11:$AE$41,V19+1,FALSE)))","v":""},{"$f":"IF('Entry Information'!$J110=\"\",\"\",'ADVANCED RESULTS'!X20)","v":""},{"$f":"IF('Entry Information'!$J110=\"\",\"\",IF('ADVANCED RESULTS'!Y20=\"\",\"\",'ADVANCED RESULTS'!Y20))","v":""},"",{"$f":"IF('Entry Information'!$J110=\"\",\"\",IF('Entry Information'!X110=\"\",Z19,Z19-100))","v":""},"",{"$f":"IF($X19=\"\",\"\",(VLOOKUP($AB$41,Worksheet!$A$11:$AE$41,AB19+1,FALSE)))","v":""},{"$f":"IF('Entry Information'!$J110=\"\",\"\",'ADVANCED RESULTS'!AD20)","v":""},{"$f":"IF('Entry Information'!$J110=\"\",\"\",IF('ADVANCED RESULTS'!AE20=\"\",\"\",'ADVANCED RESULTS'!AE20))","v":""},"",{"$f":"IF('Entry Information'!$J110=\"\",\"\",IF('Entry Information'!Z110=\"\",AF19,AF19-100))","v":""},"",{"$f":"IF($AD19=\"\",\"\",(VLOOKUP($AH$41,Worksheet!$A$11:$AE$41,AH19+1,FALSE)))","v":""}]
[{"$f":"IF('Entry Information'!J111=\"\",\"\",'Entry Information'!B111)","v":""},{"$f":"IF('Entry Information'!J111=\"\",\"\",'Entry Information'!C111)","v":""},{"$f":"IF('Entry Information'!J111=\"\",\"\",'Entry Information'!D111)","v":""},{"$f":"IF('Entry Information'!J111=\"\",\"\",'Entry Information'!E111)","v":""},"ADV",{"$f":"IF('Entry Information'!$J111=\"\",\"\",'ADVANCED RESULTS'!F21)","v":""},{"$f":"IF('Entry Information'!$J111=\"\",\"\",IF('ADVANCED RESULTS'!G21=\"\",\"\",'ADVANCED RESULTS'!G21))","v":""},"",{"$f":"IF('Entry Information'!$J111=\"\",\"\",IF('Entry Information'!R111=\"\",H20,H20-100))","v":""},"",{"$f":"IF($F20=\"\",\"\",(VLOOKUP($J$41,Worksheet!$A$11:$AE$41,J20+1,FALSE)))","v":""},{"$f":"IF('Entry Information'!$J111=\"\",\"\",'ADVANCED RESULTS'!L21)","v":""},{"$f":"IF('Entry Information'!$J111=\"\",\"\",IF('ADVANCED RESULTS'!M21=\"\",\"\",'ADVANCED RESULTS'!M21))","v":""},"",{"$f":"IF('Entry Information'!$J111=\"\",\"\",IF('Entry Information'!T111=\"\",N20,N20-100))","v":""},"",{"$f":"IF($L20=\"\",\"\",(VLOOKUP($P$41,Worksheet!$A$11:$AE$41,P20+1,FALSE)))","v":""},{"$f":"IF('Entry Information'!$J111=\"\",\"\",'ADVANCED RESULTS'!R21)","v":""},{"$f":"IF('Entry Information'!$J111=\"\",\"\",IF('ADVANCED RESULTS'!S21=\"\",\"\",'ADVANCED RESULTS'!S21))","v":""},"",{"$f":"IF('Entry Information'!$J111=\"\",\"\",IF('Entry Information'!V111=\"\",T20,T20-100))","v":""},"",{"$f":"IF($R20=\"\",\"\",(VLOOKUP($V$41,Worksheet!$A$11:$AE$41,V20+1,FALSE)))","v":""},{"$f":"IF('Entry Information'!$J111=\"\",\"\",'ADVANCED RESULTS'!X21)","v":""},{"$f":"IF('Entry Information'!$J111=\"\",\"\",IF('ADVANCED RESULTS'!Y21=\"\",\"\",'ADVANCED RESULTS'!Y21))","v":""},"",{"$f":"IF('Entry Information'!$J111=\"\",\"\",IF('Entry Information'!X111=\"\",Z20,Z20-100))","v":""},"",{"$f":"IF($X20=\"\",\"\",(VLOOKUP($AB$41,Worksheet!$A$11:$AE$41,AB20+1,FALSE)))","v":""},{"$f":"IF('Entry Information'!$J111=\"\",\"\",'ADVANCED RESULTS'!AD21)","v":""},{"$f":"IF('Entry Information'!$J111=\"\",\"\",IF('ADVANCED RESULTS'!AE21=\"\",\"\",'ADVANCED RESULTS'!AE21))","v":""},"",{"$f":"IF('Entry Information'!$J111=\"\",\"\",IF('Entry Information'!Z111=\"\",AF20,AF20-100))","v":""},"",{"$f":"IF($AD20=\"\",\"\",(VLOOKUP($AH$41,Worksheet!$A$11:$AE$41,AH20+1,FALSE)))","v":""}]
[{"$f":"IF('Entry Information'!J112=\"\",\"\",'Entry Information'!B112)","v":""},{"$f":"IF('Entry Information'!J112=\"\",\"\",'Entry Information'!C112)","v":""},{"$f":"IF('Entry Information'!J112=\"\",\"\",'Entry Information'!D112)","v":""},{"$f":"IF('Entry Information'!J112=\"\",\"\",'Entry Information'!E112)","v":""},"ADV",{"$f":"IF('Entry Information'!$J112=\"\",\"\",'ADVANCED RESULTS'!F22)","v":""},{"$f":"IF('Entry Information'!$J112=\"\",\"\",IF('ADVANCED RESULTS'!G22=\"\",\"\",'ADVANCED RESULTS'!G22))","v":""},"",{"$f":"IF('Entry Information'!$J112=\"\",\"\",IF('Entry Information'!R112=\"\",H21,H21-100))","v":""},"",{"$f":"IF($F21=\"\",\"\",(VLOOKUP($J$41,Worksheet!$A$11:$AE$41,J21+1,FALSE)))","v":""},{"$f":"IF('Entry Information'!$J112=\"\",\"\",'ADVANCED RESULTS'!L22)","v":""},{"$f":"IF('Entry Information'!$J112=\"\",\"\",IF('ADVANCED RESULTS'!M22=\"\",\"\",'ADVANCED RESULTS'!M22))","v":""},"",{"$f":"IF('Entry Information'!$J112=\"\",\"\",IF('Entry Information'!T112=\"\",N21,N21-100))","v":""},"",{"$f":"IF($L21=\"\",\"\",(VLOOKUP($P$41,Worksheet!$A$11:$AE$41,P21+1,FALSE)))","v":""},{"$f":"IF('Entry Information'!$J112=\"\",\"\",'ADVANCED RESULTS'!R22)","v":""},{"$f":"IF('Entry Information'!$J112=\"\",\"\",IF('ADVANCED RESULTS'!S22=\"\",\"\",'ADVANCED RESULTS'!S22))","v":""},"",{"$f":"IF('Entry Information'!$J112=\"\",\"\",IF('Entry Information'!V112=\"\",T21,T21-100))","v":""},"",{"$f":"IF($R21=\"\",\"\",(VLOOKUP($V$41,Worksheet!$A$11:$AE$41,V21+1,FALSE)))","v":""},{"$f":"IF('Entry Information'!$J112=\"\",\"\",'ADVANCED RESULTS'!X22)","v":""},{"$f":"IF('Entry Information'!$J112=\"\",\"\",IF('ADVANCED RESULTS'!Y22=\"\",\"\",'ADVANCED RESULTS'!Y22))","v":""},"",{"$f":"IF('Entry Information'!$J112=\"\",\"\",IF('Entry Information'!X112=\"\",Z21,Z21-100))","v":""},"",{"$f":"IF($X21=\"\",\"\",(VLOOKUP($AB$41,Worksheet!$A$11:$AE$41,AB21+1,FALSE)))","v":""},{"$f":"IF('Entry Information'!$J112=\"\",\"\",'ADVANCED RESULTS'!AD22)","v":""},{"$f":"IF('Entry Information'!$J112=\"\",\"\",IF('ADVANCED RESULTS'!AE22=\"\",\"\",'ADVANCED RESULTS'!AE22))","v":""},"",{"$f":"IF('Entry Information'!$J112=\"\",\"\",IF('Entry Information'!Z112=\"\",AF21,AF21-100))","v":""},"",{"$f":"IF($AD21=\"\",\"\",(VLOOKUP($AH$41,Worksheet!$A$11:$AE$41,AH21+1,FALSE)))","v":""}]
[{"$f":"IF('Entry Information'!J113=\"\",\"\",'Entry Information'!B113)","v":""},{"$f":"IF('Entry Information'!J113=\"\",\"\",'Entry Information'!C113)","v":""},{"$f":"IF('Entry Information'!J113=\"\",\"\",'Entry Information'!D113)","v":""},{"$f":"IF('Entry Information'!J113=\"\",\"\",'Entry Information'!E113)","v":""},"ADV",{"$f":"IF('Entry Information'!$J113=\"\",\"\",'ADVANCED RESULTS'!F23)","v":""},{"$f":"IF('Entry Information'!$J113=\"\",\"\",IF('ADVANCED RESULTS'!G23=\"\",\"\",'ADVANCED RESULTS'!G23))","v":""},"",{"$f":"IF('Entry Information'!$J113=\"\",\"\",IF('Entry Information'!R113=\"\",H22,H22-100))","v":""},"",{"$f":"IF($F22=\"\",\"\",(VLOOKUP($J$41,Worksheet!$A$11:$AE$41,J22+1,FALSE)))","v":""},{"$f":"IF('Entry Information'!$J113=\"\",\"\",'ADVANCED RESULTS'!L23)","v":""},{"$f":"IF('Entry Information'!$J113=\"\",\"\",IF('ADVANCED RESULTS'!M23=\"\",\"\",'ADVANCED RESULTS'!M23))","v":""},"",{"$f":"IF('Entry Information'!$J113=\"\",\"\",IF('Entry Information'!T113=\"\",N22,N22-100))","v":""},"",{"$f":"IF($L22=\"\",\"\",(VLOOKUP($P$41,Worksheet!$A$11:$AE$41,P22+1,FALSE)))","v":""},{"$f":"IF('Entry Information'!$J113=\"\",\"\",'ADVANCED RESULTS'!R23)","v":""},{"$f":"IF('Entry Information'!$J113=\"\",\"\",IF('ADVANCED RESULTS'!S23=\"\",\"\",'ADVANCED RESULTS'!S23))","v":""},"",{"$f":"IF('Entry Information'!$J113=\"\",\"\",IF('Entry Information'!V113=\"\",T22,T22-100))","v":""},"",{"$f":"IF($R22=\"\",\"\",(VLOOKUP($V$41,Worksheet!$A$11:$AE$41,V22+1,FALSE)))","v":""},{"$f":"IF('Entry Information'!$J113=\"\",\"\",'ADVANCED RESULTS'!X23)","v":""},{"$f":"IF('Entry Information'!$J113=\"\",\"\",IF('ADVANCED RESULTS'!Y23=\"\",\"\",'ADVANCED RESULTS'!Y23))","v":""},"",{"$f":"IF('Entry Information'!$J113=\"\",\"\",IF('Entry Information'!X113=\"\",Z22,Z22-100))","v":""},"",{"$f":"IF($X22=\"\",\"\",(VLOOKUP($AB$41,Worksheet!$A$11:$AE$41,AB22+1,FALSE)))","v":""},{"$f":"IF('Entry Information'!$J113=\"\",\"\",'ADVANCED RESULTS'!AD23)","v":""},{"$f":"IF('Entry Information'!$J113=\"\",\"\",IF('ADVANCED RESULTS'!AE23=\"\",\"\",'ADVANCED RESULTS'!AE23))","v":""},"",{"$f":"IF('Entry Information'!$J113=\"\",\"\",IF('Entry Information'!Z113=\"\",AF22,AF22-100))","v":""},"",{"$f":"IF($AD22=\"\",\"\",(VLOOKUP($AH$41,Worksheet!$A$11:$AE$41,AH22+1,FALSE)))","v":""}]
[{"$f":"IF('Entry Information'!J114=\"\",\"\",'Entry Information'!B114)","v":""},{"$f":"IF('Entry Information'!J114=\"\",\"\",'Entry Information'!C114)","v":""},{"$f":"IF('Entry Information'!J114=\"\",\"\",'Entry Information'!D114)","v":""},{"$f":"IF('Entry Information'!J114=\"\",\"\",'Entry Information'!E114)","v":""},"ADV",{"$f":"IF('Entry Information'!$J114=\"\",\"\",'ADVANCED RESULTS'!F24)","v":""},{"$f":"IF('Entry Information'!$J114=\"\",\"\",IF('ADVANCED RESULTS'!G24=\"\",\"\",'ADVANCED RESULTS'!G24))","v":""},"",{"$f":"IF('Entry Information'!$J114=\"\",\"\",IF('Entry Information'!R114=\"\",H23,H23-100))","v":""},"",{"$f":"IF($F23=\"\",\"\",(VLOOKUP($J$41,Worksheet!$A$11:$AE$41,J23+1,FALSE)))","v":""},{"$f":"IF('Entry Information'!$J114=\"\",\"\",'ADVANCED RESULTS'!L24)","v":""},{"$f":"IF('Entry Information'!$J114=\"\",\"\",IF('ADVANCED RESULTS'!M24=\"\",\"\",'ADVANCED RESULTS'!M24))","v":""},"",{"$f":"IF('Entry Information'!$J114=\"\",\"\",IF('Entry Information'!T114=\"\",N23,N23-100))","v":""},"",{"$f":"IF($L23=\"\",\"\",(VLOOKUP($P$41,Worksheet!$A$11:$AE$41,P23+1,FALSE)))","v":""},{"$f":"IF('Entry Information'!$J114=\"\",\"\",'ADVANCED RESULTS'!R24)","v":""},{"$f":"IF('Entry Information'!$J114=\"\",\"\",IF('ADVANCED RESULTS'!S24=\"\",\"\",'ADVANCED RESULTS'!S24))","v":""},"",{"$f":"IF('Entry Information'!$J114=\"\",\"\",IF('Entry Information'!V114=\"\",T23,T23-100))","v":""},"",{"$f":"IF($R23=\"\",\"\",(VLOOKUP($V$41,Worksheet!$A$11:$AE$41,V23+1,FALSE)))","v":""},{"$f":"IF('Entry Information'!$J114=\"\",\"\",'ADVANCED RESULTS'!X24)","v":""},{"$f":"IF('Entry Information'!$J114=\"\",\"\",IF('ADVANCED RESULTS'!Y24=\"\",\"\",'ADVANCED RESULTS'!Y24))","v":""},"",{"$f":"IF('Entry Information'!$J114=\"\",\"\",IF('Entry Information'!X114=\"\",Z23,Z23-100))","v":""},"",{"$f":"IF($X23=\"\",\"\",(VLOOKUP($AB$41,Worksheet!$A$11:$AE$41,AB23+1,FALSE)))","v":""},{"$f":"IF('Entry Information'!$J114=\"\",\"\",'ADVANCED RESULTS'!AD24)","v":""},{"$f":"IF('Entry Information'!$J114=\"\",\"\",IF('ADVANCED RESULTS'!AE24=\"\",\"\",'ADVANCED RESULTS'!AE24))","v":""},"",{"$f":"IF('Entry Information'!$J114=\"\",\"\",IF('Entry Information'!Z114=\"\",AF23,AF23-100))","v":""},"",{"$f":"IF($AD23=\"\",\"\",(VLOOKUP($AH$41,Worksheet!$A$11:$AE$41,AH23+1,FALSE)))","v":""}]
[{"$f":"IF('Entry Information'!J115=\"\",\"\",'Entry Information'!B115)","v":""},{"$f":"IF('Entry Information'!J115=\"\",\"\",'Entry Information'!C115)","v":""},{"$f":"IF('Entry Information'!J115=\"\",\"\",'Entry Information'!D115)","v":""},{"$f":"IF('Entry Information'!J115=\"\",\"\",'Entry Information'!E115)","v":""},"ADV",{"$f":"IF('Entry Information'!$J115=\"\",\"\",'ADVANCED RESULTS'!F25)","v":""},{"$f":"IF('Entry Information'!$J115=\"\",\"\",IF('ADVANCED RESULTS'!G25=\"\",\"\",'ADVANCED RESULTS'!G25))","v":""},{"$f":"IF(G24=\"\",F24,(F24+(G24*0.001)))","v":""},{"$f":"IF('Entry Information'!$J115=\"\",\"\",IF('Entry Information'!R115=\"\",H24,H24-100))","v":""},"",{"$f":"IF($F24=\"\",\"\",(VLOOKUP($J$41,Worksheet!$A$11:$AE$41,J24+1,FALSE)))","v":""},{"$f":"IF('Entry Information'!$J115=\"\",\"\",'ADVANCED RESULTS'!L25)","v":""},{"$f":"IF('Entry Information'!$J115=\"\",\"\",IF('ADVANCED RESULTS'!M25=\"\",\"\",'ADVANCED RESULTS'!M25))","v":""},"",{"$f":"IF('Entry Information'!$J115=\"\",\"\",IF('Entry Information'!T115=\"\",N24,N24-100))","v":""},"",{"$f":"IF($L24=\"\",\"\",(VLOOKUP($P$41,Worksheet!$A$11:$AE$41,P24+1,FALSE)))","v":""},{"$f":"IF('Entry Information'!$J115=\"\",\"\",'ADVANCED RESULTS'!R25)","v":""},{"$f":"IF('Entry Information'!$J115=\"\",\"\",IF('ADVANCED RESULTS'!S25=\"\",\"\",'ADVANCED RESULTS'!S25))","v":""},"",{"$f":"IF('Entry Information'!$J115=\"\",\"\",IF('Entry Information'!V115=\"\",T24,T24-100))","v":""},"",{"$f":"IF($R24=\"\",\"\",(VLOOKUP($V$41,Worksheet!$A$11:$AE$41,V24+1,FALSE)))","v":""},{"$f":"IF('Entry Information'!$J115=\"\",\"\",'ADVANCED RESULTS'!X25)","v":""},{"$f":"IF('Entry Information'!$J115=\"\",\"\",IF('ADVANCED RESULTS'!Y25=\"\",\"\",'ADVANCED RESULTS'!Y25))","v":""},{"$f":"IF(Y24=\"\",X24,(X24+(Y24*0.001)))","v":""},{"$f":"IF('Entry Information'!$J115=\"\",\"\",IF('Entry Information'!X115=\"\",Z24,Z24-100))","v":""},"",{"$f":"IF($X24=\"\",\"\",(VLOOKUP($AB$41,Worksheet!$A$11:$AE$41,AB24+1,FALSE)))","v":""},{"$f":"IF('Entry Information'!$J115=\"\",\"\",'ADVANCED RESULTS'!AD25)","v":""},{"$f":"IF('Entry Information'!$J115=\"\",\"\",IF('ADVANCED RESULTS'!AE25=\"\",\"\",'ADVANCED RESULTS'!AE25))","v":""},{"$f":"IF(AE24=\"\",AD24,(AD24+(AE24*0.001)))","v":""},{"$f":"IF('Entry Information'!$J115=\"\",\"\",IF('Entry Information'!Z115=\"\",AF24,AF24-100))","v":""},"",{"$f":"IF($AD24=\"\",\"\",(VLOOKUP($AH$41,Worksheet!$A$11:$AE$41,AH24+1,FALSE)))","v":""}]
[{"$f":"IF('Entry Information'!J116=\"\",\"\",'Entry Information'!B116)","v":""},{"$f":"IF('Entry Information'!J116=\"\",\"\",'Entry Information'!C116)","v":""},{"$f":"IF('Entry Information'!J116=\"\",\"\",'Entry Information'!D116)","v":""},{"$f":"IF('Entry Information'!J116=\"\",\"\",'Entry Information'!E116)","v":""},"ADV",{"$f":"IF('Entry Information'!$J116=\"\",\"\",'ADVANCED RESULTS'!F26)","v":""},{"$f":"IF('Entry Information'!$J116=\"\",\"\",IF('ADVANCED RESULTS'!G26=\"\",\"\",'ADVANCED RESULTS'!G26))","v":""},{"$f":"IF(G25=\"\",F25,(F25+(G25*0.001)))","v":""},{"$f":"IF('Entry Information'!$J116=\"\",\"\",IF('Entry Information'!R116=\"\",H25,H25-100))","v":""},"",{"$f":"IF($F25=\"\",\"\",(VLOOKUP($J$41,Worksheet!$A$11:$AE$41,J25+1,FALSE)))","v":""},{"$f":"IF('Entry Information'!$J116=\"\",\"\",'ADVANCED RESULTS'!L26)","v":""},{"$f":"IF('Entry Information'!$J116=\"\",\"\",IF('ADVANCED RESULTS'!M26=\"\",\"\",'ADVANCED RESULTS'!M26))","v":""},"",{"$f":"IF('Entry Information'!$J116=\"\",\"\",IF('Entry Information'!T116=\"\",N25,N25-100))","v":""},"",{"$f":"IF($L25=\"\",\"\",(VLOOKUP($P$41,Worksheet!$A$11:$AE$41,P25+1,FALSE)))","v":""},{"$f":"IF('Entry Information'!$J116=\"\",\"\",'ADVANCED RESULTS'!R26)","v":""},{"$f":"IF('Entry Information'!$J116=\"\",\"\",IF('ADVANCED RESULTS'!S26=\"\",\"\",'ADVANCED RESULTS'!S26))","v":""},"",{"$f":"IF('Entry Information'!$J116=\"\",\"\",IF('Entry Information'!V116=\"\",T25,T25-100))","v":""},"",{"$f":"IF($R25=\"\",\"\",(VLOOKUP($V$41,Worksheet!$A$11:$AE$41,V25+1,FALSE)))","v":""},{"$f":"IF('Entry Information'!$J116=\"\",\"\",'ADVANCED RESULTS'!X26)","v":""},{"$f":"IF('Entry Information'!$J116=\"\",\"\",IF('ADVANCED RESULTS'!Y26=\"\",\"\",'ADVANCED RESULTS'!Y26))","v":""},{"$f":"IF(Y25=\"\",X25,(X25+(Y25*0.001)))","v":""},{"$f":"IF('Entry Information'!$J116=\"\",\"\",IF('Entry Information'!X116=\"\",Z25,Z25-100))","v":""},"",{"$f":"IF($X25=\"\",\"\",(VLOOKUP($AB$41,Worksheet!$A$11:$AE$41,AB25+1,FALSE)))","v":""},{"$f":"IF('Entry Information'!$J116=\"\",\"\",'ADVANCED RESULTS'!AD26)","v":""},{"$f":"IF('Entry Information'!$J116=\"\",\"\",IF('ADVANCED RESULTS'!AE26=\"\",\"\",'ADVANCED RESULTS'!AE26))","v":""},{"$f":"IF(AE25=\"\",AD25,(AD25+(AE25*0.001)))","v":""},{"$f":"IF('Entry Information'!$J116=\"\",\"\",IF('Entry Information'!Z116=\"\",AF25,AF25-100))","v":""},"",{"$f":"IF($AD25=\"\",\"\",(VLOOKUP($AH$41,Worksheet!$A$11:$AE$41,AH25+1,FALSE)))","v":""}]
[{"$f":"IF('Entry Information'!J117=\"\",\"\",'Entry Information'!B117)","v":""},{"$f":"IF('Entry Information'!J117=\"\",\"\",'Entry Information'!C117)","v":""},{"$f":"IF('Entry Information'!J117=\"\",\"\",'Entry Information'!D117)","v":""},{"$f":"IF('Entry Information'!J117=\"\",\"\",'Entry Information'!E117)","v":""},"ADV",{"$f":"IF('Entry Information'!$J117=\"\",\"\",'ADVANCED RESULTS'!F27)","v":""},{"$f":"IF('Entry Information'!$J117=\"\",\"\",IF('ADVANCED RESULTS'!G27=\"\",\"\",'ADVANCED RESULTS'!G27))","v":""},{"$f":"IF(G26=\"\",F26,(F26+(G26*0.001)))","v":""},{"$f":"IF('Entry Information'!$J117=\"\",\"\",IF('Entry Information'!R117=\"\",H26,H26-100))","v":""},"",{"$f":"IF($F26=\"\",\"\",(VLOOKUP($J$41,Worksheet!$A$11:$AE$41,J26+1,FALSE)))","v":""},{"$f":"IF('Entry Information'!$J117=\"\",\"\",'ADVANCED RESULTS'!L27)","v":""},{"$f":"IF('Entry Information'!$J117=\"\",\"\",IF('ADVANCED RESULTS'!M27=\"\",\"\",'ADVANCED RESULTS'!M27))","v":""},"",{"$f":"IF('Entry Information'!$J117=\"\",\"\",IF('Entry Information'!T117=\"\",N26,N26-100))","v":""},"",{"$f":"IF($L26=\"\",\"\",(VLOOKUP($P$41,Worksheet!$A$11:$AE$41,P26+1,FALSE)))","v":""},{"$f":"IF('Entry Information'!$J117=\"\",\"\",'ADVANCED RESULTS'!R27)","v":""},{"$f":"IF('Entry Information'!$J117=\"\",\"\",IF('ADVANCED RESULTS'!S27=\"\",\"\",'ADVANCED RESULTS'!S27))","v":""},"",{"$f":"IF('Entry Information'!$J117=\"\",\"\",IF('Entry Information'!V117=\"\",T26,T26-100))","v":""},"",{"$f":"IF($R26=\"\",\"\",(VLOOKUP($V$41,Worksheet!$A$11:$AE$41,V26+1,FALSE)))","v":""},{"$f":"IF('Entry Information'!$J117=\"\",\"\",'ADVANCED RESULTS'!X27)","v":""},{"$f":"IF('Entry Information'!$J117=\"\",\"\",IF('ADVANCED RESULTS'!Y27=\"\",\"\",'ADVANCED RESULTS'!Y27))","v":""},{"$f":"IF(Y26=\"\",X26,(X26+(Y26*0.001)))","v":""},{"$f":"IF('Entry Information'!$J117=\"\",\"\",IF('Entry Information'!X117=\"\",Z26,Z26-100))","v":""},"",{"$f":"IF($X26=\"\",\"\",(VLOOKUP($AB$41,Worksheet!$A$11:$AE$41,AB26+1,FALSE)))","v":""},{"$f":"IF('Entry Information'!$J117=\"\",\"\",'ADVANCED RESULTS'!AD27)","v":""},{"$f":"IF('Entry Information'!$J117=\"\",\"\",IF('ADVANCED RESULTS'!AE27=\"\",\"\",'ADVANCED RESULTS'!AE27))","v":""},{"$f":"IF(AE26=\"\",AD26,(AD26+(AE26*0.001)))","v":""},{"$f":"IF('Entry Information'!$J117=\"\",\"\",IF('Entry Information'!Z117=\"\",AF26,AF26-100))","v":""},"",{"$f":"IF($AD26=\"\",\"\",(VLOOKUP($AH$41,Worksheet!$A$11:$AE$41,AH26+1,FALSE)))","v":""}]
[{"$f":"IF('Entry Information'!J118=\"\",\"\",'Entry Information'!B118)","v":""},{"$f":"IF('Entry Information'!J118=\"\",\"\",'Entry Information'!C118)","v":""},{"$f":"IF('Entry Information'!J118=\"\",\"\",'Entry Information'!D118)","v":""},{"$f":"IF('Entry Information'!J118=\"\",\"\",'Entry Information'!E118)","v":""},"ADV",{"$f":"IF('Entry Information'!$J118=\"\",\"\",'ADVANCED RESULTS'!F28)","v":""},{"$f":"IF('Entry Information'!$J118=\"\",\"\",IF('ADVANCED RESULTS'!G28=\"\",\"\",'ADVANCED RESULTS'!G28))","v":""},"",{"$f":"IF('Entry Information'!$J118=\"\",\"\",IF('Entry Information'!R118=\"\",H27,H27-100))","v":""},"",{"$f":"IF($F27=\"\",\"\",(VLOOKUP($J$41,Worksheet!$A$11:$AE$41,J27+1,FALSE)))","v":""},{"$f":"IF('Entry Information'!$J118=\"\",\"\",'ADVANCED RESULTS'!L28)","v":""},{"$f":"IF('Entry Information'!$J118=\"\",\"\",IF('ADVANCED RESULTS'!M28=\"\",\"\",'ADVANCED RESULTS'!M28))","v":""},"",{"$f":"IF('Entry Information'!$J118=\"\",\"\",IF('Entry Information'!T118=\"\",N27,N27-100))","v":""},"",{"$f":"IF($L27=\"\",\"\",(VLOOKUP($P$41,Worksheet!$A$11:$AE$41,P27+1,FALSE)))","v":""},{"$f":"IF('Entry Information'!$J118=\"\",\"\",'ADVANCED RESULTS'!R28)","v":""},{"$f":"IF('Entry Information'!$J118=\"\",\"\",IF('ADVANCED RESULTS'!S28=\"\",\"\",'ADVANCED RESULTS'!S28))","v":""},"",{"$f":"IF('Entry Information'!$J118=\"\",\"\",IF('Entry Information'!V118=\"\",T27,T27-100))","v":""},"",{"$f":"IF($R27=\"\",\"\",(VLOOKUP($V$41,Worksheet!$A$11:$AE$41,V27+1,FALSE)))","v":""},{"$f":"IF('Entry Information'!$J118=\"\",\"\",'ADVANCED RESULTS'!X28)","v":""},{"$f":"IF('Entry Information'!$J118=\"\",\"\",IF('ADVANCED RESULTS'!Y28=\"\",\"\",'ADVANCED RESULTS'!Y28))","v":""},"",{"$f":"IF('Entry Information'!$J118=\"\",\"\",IF('Entry Information'!X118=\"\",Z27,Z27-100))","v":""},"",{"$f":"IF($X27=\"\",\"\",(VLOOKUP($AB$41,Worksheet!$A$11:$AE$41,AB27+1,FALSE)))","v":""},{"$f":"IF('Entry Information'!$J118=\"\",\"\",'ADVANCED RESULTS'!AD28)","v":""},{"$f":"IF('Entry Information'!$J118=\"\",\"\",IF('ADVANCED RESULTS'!AE28=\"\",\"\",'ADVANCED RESULTS'!AE28))","v":""},"",{"$f":"IF('Entry Information'!$J118=\"\",\"\",IF('Entry Information'!Z118=\"\",AF27,AF27-100))","v":""},"",{"$f":"IF($AD27=\"\",\"\",(VLOOKUP($AH$41,Worksheet!$A$11:$AE$41,AH27+1,FALSE)))","v":""}]
[{"$f":"IF('Entry Information'!J119=\"\",\"\",'Entry Information'!B119)","v":""},{"$f":"IF('Entry Information'!J119=\"\",\"\",'Entry Information'!C119)","v":""},{"$f":"IF('Entry Information'!J119=\"\",\"\",'Entry Information'!D119)","v":""},{"$f":"IF('Entry Information'!J119=\"\",\"\",'Entry Information'!E119)","v":""},"ADV",{"$f":"IF('Entry Information'!$J119=\"\",\"\",'ADVANCED RESULTS'!F29)","v":""},{"$f":"IF('Entry Information'!$J119=\"\",\"\",IF('ADVANCED RESULTS'!G29=\"\",\"\",'ADVANCED RESULTS'!G29))","v":""},"",{"$f":"IF('Entry Information'!$J119=\"\",\"\",IF('Entry Information'!R119=\"\",H28,H28-100))","v":""},"",{"$f":"IF($F28=\"\",\"\",(VLOOKUP($J$41,Worksheet!$A$11:$AE$41,J28+1,FALSE)))","v":""},{"$f":"IF('Entry Information'!$J119=\"\",\"\",'ADVANCED RESULTS'!L29)","v":""},{"$f":"IF('Entry Information'!$J119=\"\",\"\",IF('ADVANCED RESULTS'!M29=\"\",\"\",'ADVANCED RESULTS'!M29))","v":""},"",{"$f":"IF('Entry Information'!$J119=\"\",\"\",IF('Entry Information'!T119=\"\",N28,N28-100))","v":""},"",{"$f":"IF($L28=\"\",\"\",(VLOOKUP($P$41,Worksheet!$A$11:$AE$41,P28+1,FALSE)))","v":""},{"$f":"IF('Entry Information'!$J119=\"\",\"\",'ADVANCED RESULTS'!R29)","v":""},{"$f":"IF('Entry Information'!$J119=\"\",\"\",IF('ADVANCED RESULTS'!S29=\"\",\"\",'ADVANCED RESULTS'!S29))","v":""},"",{"$f":"IF('Entry Information'!$J119=\"\",\"\",IF('Entry Information'!V119=\"\",T28,T28-100))","v":""},"",{"$f":"IF($R28=\"\",\"\",(VLOOKUP($V$41,Worksheet!$A$11:$AE$41,V28+1,FALSE)))","v":""},{"$f":"IF('Entry Information'!$J119=\"\",\"\",'ADVANCED RESULTS'!X29)","v":""},{"$f":"IF('Entry Information'!$J119=\"\",\"\",IF('ADVANCED RESULTS'!Y29=\"\",\"\",'ADVANCED RESULTS'!Y29))","v":""},"",{"$f":"IF('Entry Information'!$J119=\"\",\"\",IF('Entry Information'!X119=\"\",Z28,Z28-100))","v":""},"",{"$f":"IF($X28=\"\",\"\",(VLOOKUP($AB$41,Worksheet!$A$11:$AE$41,AB28+1,FALSE)))","v":""},{"$f":"IF('Entry Information'!$J119=\"\",\"\",'ADVANCED RESULTS'!AD29)","v":""},{"$f":"IF('Entry Information'!$J119=\"\",\"\",IF('ADVANCED RESULTS'!AE29=\"\",\"\",'ADVANCED RESULTS'!AE29))","v":""},"",{"$f":"IF('Entry Information'!$J119=\"\",\"\",IF('Entry Information'!Z119=\"\",AF28,AF28-100))","v":""},"",{"$f":"IF($AD28=\"\",\"\",(VLOOKUP($AH$41,Worksheet!$A$11:$AE$41,AH28+1,FALSE)))","v":""}]
[{"$f":"IF('Entry Information'!J120=\"\",\"\",'Entry Information'!B120)","v":""},{"$f":"IF('Entry Information'!J120=\"\",\"\",'Entry Information'!C120)","v":""},{"$f":"IF('Entry Information'!J120=\"\",\"\",'Entry Information'!D120)","v":""},{"$f":"IF('Entry Information'!J120=\"\",\"\",'Entry Information'!E120)","v":""},"ADV",{"$f":"IF('Entry Information'!$J120=\"\",\"\",'ADVANCED RESULTS'!F30)","v":""},{"$f":"IF('Entry Information'!$J120=\"\",\"\",IF('ADVANCED RESULTS'!G30=\"\",\"\",'ADVANCED RESULTS'!G30))","v":""},"",{"$f":"IF('Entry Information'!$J120=\"\",\"\",IF('Entry Information'!R120=\"\",H29,H29-100))","v":""},"",{"$f":"IF($F29=\"\",\"\",(VLOOKUP($J$41,Worksheet!$A$11:$AE$41,J29+1,FALSE)))","v":""},{"$f":"IF('Entry Information'!$J120=\"\",\"\",'ADVANCED RESULTS'!L30)","v":""},{"$f":"IF('Entry Information'!$J120=\"\",\"\",IF('ADVANCED RESULTS'!M30=\"\",\"\",'ADVANCED RESULTS'!M30))","v":""},"",{"$f":"IF('Entry Information'!$J120=\"\",\"\",IF('Entry Information'!T120=\"\",N29,N29-100))","v":""},"",{"$f":"IF($L29=\"\",\"\",(VLOOKUP($P$41,Worksheet!$A$11:$AE$41,P29+1,FALSE)))","v":""},{"$f":"IF('Entry Information'!$J120=\"\",\"\",'ADVANCED RESULTS'!R30)","v":""},{"$f":"IF('Entry Information'!$J120=\"\",\"\",IF('ADVANCED RESULTS'!S30=\"\",\"\",'ADVANCED RESULTS'!S30))","v":""},"",{"$f":"IF('Entry Information'!$J120=\"\",\"\",IF('Entry Information'!V120=\"\",T29,T29-100))","v":""},"",{"$f":"IF($R29=\"\",\"\",(VLOOKUP($V$41,Worksheet!$A$11:$AE$41,V29+1,FALSE)))","v":""},{"$f":"IF('Entry Information'!$J120=\"\",\"\",'ADVANCED RESULTS'!X30)","v":""},{"$f":"IF('Entry Information'!$J120=\"\",\"\",IF('ADVANCED RESULTS'!Y30=\"\",\"\",'ADVANCED RESULTS'!Y30))","v":""},"",{"$f":"IF('Entry Information'!$J120=\"\",\"\",IF('Entry Information'!X120=\"\",Z29,Z29-100))","v":""},"",{"$f":"IF($X29=\"\",\"\",(VLOOKUP($AB$41,Worksheet!$A$11:$AE$41,AB29+1,FALSE)))","v":""},{"$f":"IF('Entry Information'!$J120=\"\",\"\",'ADVANCED RESULTS'!AD30)","v":""},{"$f":"IF('Entry Information'!$J120=\"\",\"\",IF('ADVANCED RESULTS'!AE30=\"\",\"\",'ADVANCED RESULTS'!AE30))","v":""},"",{"$f":"IF('Entry Information'!$J120=\"\",\"\",IF('Entry Information'!Z120=\"\",AF29,AF29-100))","v":""},"",{"$f":"IF($AD29=\"\",\"\",(VLOOKUP($AH$41,Worksheet!$A$11:$AE$41,AH29+1,FALSE)))","v":""}]
[{"$f":"IF('Entry Information'!J121=\"\",\"\",'Entry Information'!B121)","v":""},{"$f":"IF('Entry Information'!J121=\"\",\"\",'Entry Information'!C121)","v":""},{"$f":"IF('Entry Information'!J121=\"\",\"\",'Entry Information'!D121)","v":""},{"$f":"IF('Entry Information'!J121=\"\",\"\",'Entry Information'!E121)","v":""},"ADV",{"$f":"IF('Entry Information'!$J121=\"\",\"\",'ADVANCED RESULTS'!F31)","v":""},{"$f":"IF('Entry Information'!$J121=\"\",\"\",IF('ADVANCED RESULTS'!G31=\"\",\"\",'ADVANCED RESULTS'!G31))","v":""},"",{"$f":"IF('Entry Information'!$J121=\"\",\"\",IF('Entry Information'!R121=\"\",H30,H30-100))","v":""},"",{"$f":"IF($F30=\"\",\"\",(VLOOKUP($J$41,Worksheet!$A$11:$AE$41,J30+1,FALSE)))","v":""},{"$f":"IF('Entry Information'!$J121=\"\",\"\",'ADVANCED RESULTS'!L31)","v":""},{"$f":"IF('Entry Information'!$J121=\"\",\"\",IF('ADVANCED RESULTS'!M31=\"\",\"\",'ADVANCED RESULTS'!M31))","v":""},"",{"$f":"IF('Entry Information'!$J121=\"\",\"\",IF('Entry Information'!T121=\"\",N30,N30-100))","v":""},"",{"$f":"IF($L30=\"\",\"\",(VLOOKUP($P$41,Worksheet!$A$11:$AE$41,P30+1,FALSE)))","v":""},{"$f":"IF('Entry Information'!$J121=\"\",\"\",'ADVANCED RESULTS'!R31)","v":""},{"$f":"IF('Entry Information'!$J121=\"\",\"\",IF('ADVANCED RESULTS'!S31=\"\",\"\",'ADVANCED RESULTS'!S31))","v":""},"",{"$f":"IF('Entry Information'!$J121=\"\",\"\",IF('Entry Information'!V121=\"\",T30,T30-100))","v":""},"",{"$f":"IF($R30=\"\",\"\",(VLOOKUP($V$41,Worksheet!$A$11:$AE$41,V30+1,FALSE)))","v":""},{"$f":"IF('Entry Information'!$J121=\"\",\"\",'ADVANCED RESULTS'!X31)","v":""},{"$f":"IF('Entry Information'!$J121=\"\",\"\",IF('ADVANCED RESULTS'!Y31=\"\",\"\",'ADVANCED RESULTS'!Y31))","v":""},"",{"$f":"IF('Entry Information'!$J121=\"\",\"\",IF('Entry Information'!X121=\"\",Z30,Z30-100))","v":""},"",{"$f":"IF($X30=\"\",\"\",(VLOOKUP($AB$41,Worksheet!$A$11:$AE$41,AB30+1,FALSE)))","v":""},{"$f":"IF('Entry Information'!$J121=\"\",\"\",'ADVANCED RESULTS'!AD31)","v":""},{"$f":"IF('Entry Information'!$J121=\"\",\"\",IF('ADVANCED RESULTS'!AE31=\"\",\"\",'ADVANCED RESULTS'!AE31))","v":""},"",{"$f":"IF('Entry Information'!$J121=\"\",\"\",IF('Entry Information'!Z121=\"\",AF30,AF30-100))","v":""},"",{"$f":"IF($AD30=\"\",\"\",(VLOOKUP($AH$41,Worksheet!$A$11:$AE$41,AH30+1,FALSE)))","v":""}]
[{"$f":"IF('Entry Information'!J122=\"\",\"\",'Entry Information'!B122)","v":""},{"$f":"IF('Entry Information'!J122=\"\",\"\",'Entry Information'!C122)","v":""},{"$f":"IF('Entry Information'!J122=\"\",\"\",'Entry Information'!D122)","v":""},{"$f":"IF('Entry Information'!J122=\"\",\"\",'Entry Information'!E122)","v":""},"ADV",{"$f":"IF('Entry Information'!$J122=\"\",\"\",'ADVANCED RESULTS'!F32)","v":""},{"$f":"IF('Entry Information'!$J122=\"\",\"\",IF('ADVANCED RESULTS'!G32=\"\",\"\",'ADVANCED RESULTS'!G32))","v":""},"",{"$f":"IF('Entry Information'!$J122=\"\",\"\",IF('Entry Information'!R122=\"\",H31,H31-100))","v":""},"",{"$f":"IF($F31=\"\",\"\",(VLOOKUP($J$41,Worksheet!$A$11:$AE$41,J31+1,FALSE)))","v":""},{"$f":"IF('Entry Information'!$J122=\"\",\"\",'ADVANCED RESULTS'!L32)","v":""},{"$f":"IF('Entry Information'!$J122=\"\",\"\",IF('ADVANCED RESULTS'!M32=\"\",\"\",'ADVANCED RESULTS'!M32))","v":""},"",{"$f":"IF('Entry Information'!$J122=\"\",\"\",IF('Entry Information'!T122=\"\",N31,N31-100))","v":""},"",{"$f":"IF($L31=\"\",\"\",(VLOOKUP($P$41,Worksheet!$A$11:$AE$41,P31+1,FALSE)))","v":""},{"$f":"IF('Entry Information'!$J122=\"\",\"\",'ADVANCED RESULTS'!R32)","v":""},{"$f":"IF('Entry Information'!$J122=\"\",\"\",IF('ADVANCED RESULTS'!S32=\"\",\"\",'ADVANCED RESULTS'!S32))","v":""},"",{"$f":"IF('Entry Information'!$J122=\"\",\"\",IF('Entry Information'!V122=\"\",T31,T31-100))","v":""},"",{"$f":"IF($R31=\"\",\"\",(VLOOKUP($V$41,Worksheet!$A$11:$AE$41,V31+1,FALSE)))","v":""},{"$f":"IF('Entry Information'!$J122=\"\",\"\",'ADVANCED RESULTS'!X32)","v":""},{"$f":"IF('Entry Information'!$J122=\"\",\"\",IF('ADVANCED RESULTS'!Y32=\"\",\"\",'ADVANCED RESULTS'!Y32))","v":""},"",{"$f":"IF('Entry Information'!$J122=\"\",\"\",IF('Entry Information'!X122=\"\",Z31,Z31-100))","v":""},"",{"$f":"IF($X31=\"\",\"\",(VLOOKUP($AB$41,Worksheet!$A$11:$AE$41,AB31+1,FALSE)))","v":""},{"$f":"IF('Entry Information'!$J122=\"\",\"\",'ADVANCED RESULTS'!AD32)","v":""},{"$f":"IF('Entry Information'!$J122=\"\",\"\",IF('ADVANCED RESULTS'!AE32=\"\",\"\",'ADVANCED RESULTS'!AE32))","v":""},"",{"$f":"IF('Entry Information'!$J122=\"\",\"\",IF('Entry Information'!Z122=\"\",AF31,AF31-100))","v":""},"",{"$f":"IF($AD31=\"\",\"\",(VLOOKUP($AH$41,Worksheet!$A$11:$AE$41,AH31+1,FALSE)))","v":""}]
[{"$f":"IF('Entry Information'!J123=\"\",\"\",'Entry Information'!B123)","v":""},{"$f":"IF('Entry Information'!J123=\"\",\"\",'Entry Information'!C123)","v":""},{"$f":"IF('Entry Information'!J123=\"\",\"\",'Entry Information'!D123)","v":""},{"$f":"IF('Entry Information'!J123=\"\",\"\",'Entry Information'!E123)","v":""},"ADV",{"$f":"IF('Entry Information'!$J123=\"\",\"\",'ADVANCED RESULTS'!F33)","v":""},{"$f":"IF('Entry Information'!$J123=\"\",\"\",IF('ADVANCED RESULTS'!G33=\"\",\"\",'ADVANCED RESULTS'!G33))","v":""},"",{"$f":"IF('Entry Information'!$J123=\"\",\"\",IF('Entry Information'!R123=\"\",H32,H32-100))","v":""},"",{"$f":"IF($F32=\"\",\"\",(VLOOKUP($J$41,Worksheet!$A$11:$AE$41,J32+1,FALSE)))","v":""},{"$f":"IF('Entry Information'!$J123=\"\",\"\",'ADVANCED RESULTS'!L33)","v":""},{"$f":"IF('Entry Information'!$J123=\"\",\"\",IF('ADVANCED RESULTS'!M33=\"\",\"\",'ADVANCED RESULTS'!M33))","v":""},"",{"$f":"IF('Entry Information'!$J123=\"\",\"\",IF('Entry Information'!T123=\"\",N32,N32-100))","v":""},"",{"$f":"IF($L32=\"\",\"\",(VLOOKUP($P$41,Worksheet!$A$11:$AE$41,P32+1,FALSE)))","v":""},{"$f":"IF('Entry Information'!$J123=\"\",\"\",'ADVANCED RESULTS'!R33)","v":""},{"$f":"IF('Entry Information'!$J123=\"\",\"\",IF('ADVANCED RESULTS'!S33=\"\",\"\",'ADVANCED RESULTS'!S33))","v":""},"",{"$f":"IF('Entry Information'!$J123=\"\",\"\",IF('Entry Information'!V123=\"\",T32,T32-100))","v":""},"",{"$f":"IF($R32=\"\",\"\",(VLOOKUP($V$41,Worksheet!$A$11:$AE$41,V32+1,FALSE)))","v":""},{"$f":"IF('Entry Information'!$J123=\"\",\"\",'ADVANCED RESULTS'!X33)","v":""},{"$f":"IF('Entry Information'!$J123=\"\",\"\",IF('ADVANCED RESULTS'!Y33=\"\",\"\",'ADVANCED RESULTS'!Y33))","v":""},"",{"$f":"IF('Entry Information'!$J123=\"\",\"\",IF('Entry Information'!X123=\"\",Z32,Z32-100))","v":""},"",{"$f":"IF($X32=\"\",\"\",(VLOOKUP($AB$41,Worksheet!$A$11:$AE$41,AB32+1,FALSE)))","v":""},{"$f":"IF('Entry Information'!$J123=\"\",\"\",'ADVANCED RESULTS'!AD33)","v":""},{"$f":"IF('Entry Information'!$J123=\"\",\"\",IF('ADVANCED RESULTS'!AE33=\"\",\"\",'ADVANCED RESULTS'!AE33))","v":""},"",{"$f":"IF('Entry Information'!$J123=\"\",\"\",IF('Entry Information'!Z123=\"\",AF32,AF32-100))","v":""},"",{"$f":"IF($AD32=\"\",\"\",(VLOOKUP($AH$41,Worksheet!$A$11:$AE$41,AH32+1,FALSE)))","v":""}]
[{"$f":"IF('Entry Information'!J124=\"\",\"\",'Entry Information'!B124)","v":""},{"$f":"IF('Entry Information'!J124=\"\",\"\",'Entry Information'!C124)","v":""},{"$f":"IF('Entry Information'!J124=\"\",\"\",'Entry Information'!D124)","v":""},{"$f":"IF('Entry Information'!J124=\"\",\"\",'Entry Information'!E124)","v":""},"ADV",{"$f":"IF('Entry Information'!$J124=\"\",\"\",'ADVANCED RESULTS'!F34)","v":""},{"$f":"IF('Entry Information'!$J124=\"\",\"\",IF('ADVANCED RESULTS'!G34=\"\",\"\",'ADVANCED RESULTS'!G34))","v":""},"",{"$f":"IF('Entry Information'!$J124=\"\",\"\",IF('Entry Information'!R124=\"\",H33,H33-100))","v":""},"",{"$f":"IF($F33=\"\",\"\",(VLOOKUP($J$41,Worksheet!$A$11:$AE$41,J33+1,FALSE)))","v":""},{"$f":"IF('Entry Information'!$J124=\"\",\"\",'ADVANCED RESULTS'!L34)","v":""},{"$f":"IF('Entry Information'!$J124=\"\",\"\",IF('ADVANCED RESULTS'!M34=\"\",\"\",'ADVANCED RESULTS'!M34))","v":""},"",{"$f":"IF('Entry Information'!$J124=\"\",\"\",IF('Entry Information'!T124=\"\",N33,N33-100))","v":""},"",{"$f":"IF($L33=\"\",\"\",(VLOOKUP($P$41,Worksheet!$A$11:$AE$41,P33+1,FALSE)))","v":""},{"$f":"IF('Entry Information'!$J124=\"\",\"\",'ADVANCED RESULTS'!R34)","v":""},{"$f":"IF('Entry Information'!$J124=\"\",\"\",IF('ADVANCED RESULTS'!S34=\"\",\"\",'ADVANCED RESULTS'!S34))","v":""},"",{"$f":"IF('Entry Information'!$J124=\"\",\"\",IF('Entry Information'!V124=\"\",T33,T33-100))","v":""},"",{"$f":"IF($R33=\"\",\"\",(VLOOKUP($V$41,Worksheet!$A$11:$AE$41,V33+1,FALSE)))","v":""},{"$f":"IF('Entry Information'!$J124=\"\",\"\",'ADVANCED RESULTS'!X34)","v":""},{"$f":"IF('Entry Information'!$J124=\"\",\"\",IF('ADVANCED RESULTS'!Y34=\"\",\"\",'ADVANCED RESULTS'!Y34))","v":""},"",{"$f":"IF('Entry Information'!$J124=\"\",\"\",IF('Entry Information'!X124=\"\",Z33,Z33-100))","v":""},"",{"$f":"IF($X33=\"\",\"\",(VLOOKUP($AB$41,Worksheet!$A$11:$AE$41,AB33+1,FALSE)))","v":""},{"$f":"IF('Entry Information'!$J124=\"\",\"\",'ADVANCED RESULTS'!AD34)","v":""},{"$f":"IF('Entry Information'!$J124=\"\",\"\",IF('ADVANCED RESULTS'!AE34=\"\",\"\",'ADVANCED RESULTS'!AE34))","v":""},"",{"$f":"IF('Entry Information'!$J124=\"\",\"\",IF('Entry Information'!Z124=\"\",AF33,AF33-100))","v":""},"",{"$f":"IF($AD33=\"\",\"\",(VLOOKUP($AH$41,Worksheet!$A$11:$AE$41,AH33+1,FALSE)))","v":""}]
[{"$f":"IF('Entry Information'!J125=\"\",\"\",'Entry Information'!B125)","v":""},{"$f":"IF('Entry Information'!J125=\"\",\"\",'Entry Information'!C125)","v":""},{"$f":"IF('Entry Information'!J125=\"\",\"\",'Entry Information'!D125)","v":""},{"$f":"IF('Entry Information'!J125=\"\",\"\",'Entry Information'!E125)","v":""},"ADV",{"$f":"IF('Entry Information'!$J125=\"\",\"\",'ADVANCED RESULTS'!F35)","v":""},{"$f":"IF('Entry Information'!$J125=\"\",\"\",IF('ADVANCED RESULTS'!G35=\"\",\"\",'ADVANCED RESULTS'!G35))","v":""},"",{"$f":"IF('Entry Information'!$J125=\"\",\"\",IF('Entry Information'!R125=\"\",H34,H34-100))","v":""},"",{"$f":"IF($F34=\"\",\"\",(VLOOKUP($J$41,Worksheet!$A$11:$AE$41,J34+1,FALSE)))","v":""},{"$f":"IF('Entry Information'!$J125=\"\",\"\",'ADVANCED RESULTS'!L35)","v":""},{"$f":"IF('Entry Information'!$J125=\"\",\"\",IF('ADVANCED RESULTS'!M35=\"\",\"\",'ADVANCED RESULTS'!M35))","v":""},"",{"$f":"IF('Entry Information'!$J125=\"\",\"\",IF('Entry Information'!T125=\"\",N34,N34-100))","v":""},"",{"$f":"IF($L34=\"\",\"\",(VLOOKUP($P$41,Worksheet!$A$11:$AE$41,P34+1,FALSE)))","v":""},{"$f":"IF('Entry Information'!$J125=\"\",\"\",'ADVANCED RESULTS'!R35)","v":""},{"$f":"IF('Entry Information'!$J125=\"\",\"\",IF('ADVANCED RESULTS'!S35=\"\",\"\",'ADVANCED RESULTS'!S35))","v":""},"",{"$f":"IF('Entry Information'!$J125=\"\",\"\",IF('Entry Information'!V125=\"\",T34,T34-100))","v":""},"",{"$f":"IF($R34=\"\",\"\",(VLOOKUP($V$41,Worksheet!$A$11:$AE$41,V34+1,FALSE)))","v":""},{"$f":"IF('Entry Information'!$J125=\"\",\"\",'ADVANCED RESULTS'!X35)","v":""},{"$f":"IF('Entry Information'!$J125=\"\",\"\",IF('ADVANCED RESULTS'!Y35=\"\",\"\",'ADVANCED RESULTS'!Y35))","v":""},"",{"$f":"IF('Entry Information'!$J125=\"\",\"\",IF('Entry Information'!X125=\"\",Z34,Z34-100))","v":""},"",{"$f":"IF($X34=\"\",\"\",(VLOOKUP($AB$41,Worksheet!$A$11:$AE$41,AB34+1,FALSE)))","v":""},{"$f":"IF('Entry Information'!$J125=\"\",\"\",'ADVANCED RESULTS'!AD35)","v":""},{"$f":"IF('Entry Information'!$J125=\"\",\"\",IF('ADVANCED RESULTS'!AE35=\"\",\"\",'ADVANCED RESULTS'!AE35))","v":""},"",{"$f":"IF('Entry Information'!$J125=\"\",\"\",IF('Entry Information'!Z125=\"\",AF34,AF34-100))","v":""},"",{"$f":"IF($AD34=\"\",\"\",(VLOOKUP($AH$41,Worksheet!$A$11:$AE$41,AH34+1,FALSE)))","v":""}]
[{"$f":"IF('Entry Information'!J126=\"\",\"\",'Entry Information'!B126)","v":""},{"$f":"IF('Entry Information'!J126=\"\",\"\",'Entry Information'!C126)","v":""},{"$f":"IF('Entry Information'!J126=\"\",\"\",'Entry Information'!D126)","v":""},{"$f":"IF('Entry Information'!J126=\"\",\"\",'Entry Information'!E126)","v":""},"ADV",{"$f":"IF('Entry Information'!$J126=\"\",\"\",'ADVANCED RESULTS'!F36)","v":""},{"$f":"IF('Entry Information'!$J126=\"\",\"\",IF('ADVANCED RESULTS'!G36=\"\",\"\",'ADVANCED RESULTS'!G36))","v":""},"",{"$f":"IF('Entry Information'!$J126=\"\",\"\",IF('Entry Information'!R126=\"\",H35,H35-100))","v":""},"",{"$f":"IF($F35=\"\",\"\",(VLOOKUP($J$41,Worksheet!$A$11:$AE$41,J35+1,FALSE)))","v":""},{"$f":"IF('Entry Information'!$J126=\"\",\"\",'ADVANCED RESULTS'!L36)","v":""},{"$f":"IF('Entry Information'!$J126=\"\",\"\",IF('ADVANCED RESULTS'!M36=\"\",\"\",'ADVANCED RESULTS'!M36))","v":""},"",{"$f":"IF('Entry Information'!$J126=\"\",\"\",IF('Entry Information'!T126=\"\",N35,N35-100))","v":""},"",{"$f":"IF($L35=\"\",\"\",(VLOOKUP($P$41,Worksheet!$A$11:$AE$41,P35+1,FALSE)))","v":""},{"$f":"IF('Entry Information'!$J126=\"\",\"\",'ADVANCED RESULTS'!R36)","v":""},{"$f":"IF('Entry Information'!$J126=\"\",\"\",IF('ADVANCED RESULTS'!S36=\"\",\"\",'ADVANCED RESULTS'!S36))","v":""},"",{"$f":"IF('Entry Information'!$J126=\"\",\"\",IF('Entry Information'!V126=\"\",T35,T35-100))","v":""},"",{"$f":"IF($R35=\"\",\"\",(VLOOKUP($V$41,Worksheet!$A$11:$AE$41,V35+1,FALSE)))","v":""},{"$f":"IF('Entry Information'!$J126=\"\",\"\",'ADVANCED RESULTS'!X36)","v":""},{"$f":"IF('Entry Information'!$J126=\"\",\"\",IF('ADVANCED RESULTS'!Y36=\"\",\"\",'ADVANCED RESULTS'!Y36))","v":""},"",{"$f":"IF('Entry Information'!$J126=\"\",\"\",IF('Entry Information'!X126=\"\",Z35,Z35-100))","v":""},"",{"$f":"IF($X35=\"\",\"\",(VLOOKUP($AB$41,Worksheet!$A$11:$AE$41,AB35+1,FALSE)))","v":""},{"$f":"IF('Entry Information'!$J126=\"\",\"\",'ADVANCED RESULTS'!AD36)","v":""},{"$f":"IF('Entry Information'!$J126=\"\",\"\",IF('ADVANCED RESULTS'!AE36=\"\",\"\",'ADVANCED RESULTS'!AE36))","v":""},"",{"$f":"IF('Entry Information'!$J126=\"\",\"\",IF('Entry Information'!Z126=\"\",AF35,AF35-100))","v":""},"",{"$f":"IF($AD35=\"\",\"\",(VLOOKUP($AH$41,Worksheet!$A$11:$AE$41,AH35+1,FALSE)))","v":""}]
[{"$f":"IF('Entry Information'!J127=\"\",\"\",'Entry Information'!B127)","v":""},{"$f":"IF('Entry Information'!J127=\"\",\"\",'Entry Information'!C127)","v":""},{"$f":"IF('Entry Information'!J127=\"\",\"\",'Entry Information'!D127)","v":""},{"$f":"IF('Entry Information'!J127=\"\",\"\",'Entry Information'!E127)","v":""},"ADV",{"$f":"IF('Entry Information'!$J127=\"\",\"\",'ADVANCED RESULTS'!F37)","v":""},{"$f":"IF('Entry Information'!$J127=\"\",\"\",IF('ADVANCED RESULTS'!G37=\"\",\"\",'ADVANCED RESULTS'!G37))","v":""},"",{"$f":"IF('Entry Information'!$J127=\"\",\"\",IF('Entry Information'!R127=\"\",H36,H36-100))","v":""},"",{"$f":"IF($F36=\"\",\"\",(VLOOKUP($J$41,Worksheet!$A$11:$AE$41,J36+1,FALSE)))","v":""},{"$f":"IF('Entry Information'!$J127=\"\",\"\",'ADVANCED RESULTS'!L37)","v":""},{"$f":"IF('Entry Information'!$J127=\"\",\"\",IF('ADVANCED RESULTS'!M37=\"\",\"\",'ADVANCED RESULTS'!M37))","v":""},"",{"$f":"IF('Entry Information'!$J127=\"\",\"\",IF('Entry Information'!T127=\"\",N36,N36-100))","v":""},"",{"$f":"IF($L36=\"\",\"\",(VLOOKUP($P$41,Worksheet!$A$11:$AE$41,P36+1,FALSE)))","v":""},{"$f":"IF('Entry Information'!$J127=\"\",\"\",'ADVANCED RESULTS'!R37)","v":""},{"$f":"IF('Entry Information'!$J127=\"\",\"\",IF('ADVANCED RESULTS'!S37=\"\",\"\",'ADVANCED RESULTS'!S37))","v":""},"",{"$f":"IF('Entry Information'!$J127=\"\",\"\",IF('Entry Information'!V127=\"\",T36,T36-100))","v":""},"",{"$f":"IF($R36=\"\",\"\",(VLOOKUP($V$41,Worksheet!$A$11:$AE$41,V36+1,FALSE)))","v":""},{"$f":"IF('Entry Information'!$J127=\"\",\"\",'ADVANCED RESULTS'!X37)","v":""},{"$f":"IF('Entry Information'!$J127=\"\",\"\",IF('ADVANCED RESULTS'!Y37=\"\",\"\",'ADVANCED RESULTS'!Y37))","v":""},"",{"$f":"IF('Entry Information'!$J127=\"\",\"\",IF('Entry Information'!X127=\"\",Z36,Z36-100))","v":""},"",{"$f":"IF($X36=\"\",\"\",(VLOOKUP($AB$41,Worksheet!$A$11:$AE$41,AB36+1,FALSE)))","v":""},{"$f":"IF('Entry Information'!$J127=\"\",\"\",'ADVANCED RESULTS'!AD37)","v":""},{"$f":"IF('Entry Information'!$J127=\"\",\"\",IF('ADVANCED RESULTS'!AE37=\"\",\"\",'ADVANCED RESULTS'!AE37))","v":""},"",{"$f":"IF('Entry Information'!$J127=\"\",\"\",IF('Entry Information'!Z127=\"\",AF36,AF36-100))","v":""},"",{"$f":"IF($AD36=\"\",\"\",(VLOOKUP($AH$41,Worksheet!$A$11:$AE$41,AH36+1,FALSE)))","v":""}]
[{"$f":"IF('Entry Information'!J128=\"\",\"\",'Entry Information'!B128)","v":""},{"$f":"IF('Entry Information'!J128=\"\",\"\",'Entry Information'!C128)","v":""},{"$f":"IF('Entry Information'!J128=\"\",\"\",'Entry Information'!D128)","v":""},{"$f":"IF('Entry Information'!J128=\"\",\"\",'Entry Information'!E128)","v":""},"ADV",{"$f":"IF('Entry Information'!$J128=\"\",\"\",'ADVANCED RESULTS'!F38)","v":""},{"$f":"IF('Entry Information'!$J128=\"\",\"\",IF('ADVANCED RESULTS'!G38=\"\",\"\",'ADVANCED RESULTS'!G38))","v":""},"",{"$f":"IF('Entry Information'!$J128=\"\",\"\",IF('Entry Information'!R128=\"\",H37,H37-100))","v":""},"",{"$f":"IF($F37=\"\",\"\",(VLOOKUP($J$41,Worksheet!$A$11:$AE$41,J37+1,FALSE)))","v":""},{"$f":"IF('Entry Information'!$J128=\"\",\"\",'ADVANCED RESULTS'!L38)","v":""},{"$f":"IF('Entry Information'!$J128=\"\",\"\",IF('ADVANCED RESULTS'!M38=\"\",\"\",'ADVANCED RESULTS'!M38))","v":""},"",{"$f":"IF('Entry Information'!$J128=\"\",\"\",IF('Entry Information'!T128=\"\",N37,N37-100))","v":""},"",{"$f":"IF($L37=\"\",\"\",(VLOOKUP($P$41,Worksheet!$A$11:$AE$41,P37+1,FALSE)))","v":""},{"$f":"IF('Entry Information'!$J128=\"\",\"\",'ADVANCED RESULTS'!R38)","v":""},{"$f":"IF('Entry Information'!$J128=\"\",\"\",IF('ADVANCED RESULTS'!S38=\"\",\"\",'ADVANCED RESULTS'!S38))","v":""},"",{"$f":"IF('Entry Information'!$J128=\"\",\"\",IF('Entry Information'!V128=\"\",T37,T37-100))","v":""},"",{"$f":"IF($R37=\"\",\"\",(VLOOKUP($V$41,Worksheet!$A$11:$AE$41,V37+1,FALSE)))","v":""},{"$f":"IF('Entry Information'!$J128=\"\",\"\",'ADVANCED RESULTS'!X38)","v":""},{"$f":"IF('Entry Information'!$J128=\"\",\"\",IF('ADVANCED RESULTS'!Y38=\"\",\"\",'ADVANCED RESULTS'!Y38))","v":""},"",{"$f":"IF('Entry Information'!$J128=\"\",\"\",IF('Entry Information'!X128=\"\",Z37,Z37-100))","v":""},"",{"$f":"IF($X37=\"\",\"\",(VLOOKUP($AB$41,Worksheet!$A$11:$AE$41,AB37+1,FALSE)))","v":""},{"$f":"IF('Entry Information'!$J128=\"\",\"\",'ADVANCED RESULTS'!AD38)","v":""},{"$f":"IF('Entry Information'!$J128=\"\",\"\",IF('ADVANCED RESULTS'!AE38=\"\",\"\",'ADVANCED RESULTS'!AE38))","v":""},"",{"$f":"IF('Entry Information'!$J128=\"\",\"\",IF('Entry Information'!Z128=\"\",AF37,AF37-100))","v":""},"",{"$f":"IF($AD37=\"\",\"\",(VLOOKUP($AH$41,Worksheet!$A$11:$AE$41,AH37+1,FALSE)))","v":""}]
[{"$f":"IF('Entry Information'!J129=\"\",\"\",'Entry Information'!B129)","v":""},{"$f":"IF('Entry Information'!J129=\"\",\"\",'Entry Information'!C129)","v":""},{"$f":"IF('Entry Information'!J129=\"\",\"\",'Entry Information'!D129)","v":""},{"$f":"IF('Entry Information'!J129=\"\",\"\",'Entry Information'!E129)","v":""},"ADV",{"$f":"IF('Entry Information'!$J129=\"\",\"\",'ADVANCED RESULTS'!F39)","v":""},{"$f":"IF('Entry Information'!$J129=\"\",\"\",IF('ADVANCED RESULTS'!G39=\"\",\"\",'ADVANCED RESULTS'!G39))","v":""},"",{"$f":"IF('Entry Information'!$J129=\"\",\"\",IF('Entry Information'!R129=\"\",H38,H38-100))","v":""},"",{"$f":"IF($F38=\"\",\"\",(VLOOKUP($J$41,Worksheet!$A$11:$AE$41,J38+1,FALSE)))","v":""},{"$f":"IF('Entry Information'!$J129=\"\",\"\",'ADVANCED RESULTS'!L39)","v":""},{"$f":"IF('Entry Information'!$J129=\"\",\"\",IF('ADVANCED RESULTS'!M39=\"\",\"\",'ADVANCED RESULTS'!M39))","v":""},"",{"$f":"IF('Entry Information'!$J129=\"\",\"\",IF('Entry Information'!T129=\"\",N38,N38-100))","v":""},"",{"$f":"IF($L38=\"\",\"\",(VLOOKUP($P$41,Worksheet!$A$11:$AE$41,P38+1,FALSE)))","v":""},{"$f":"IF('Entry Information'!$J129=\"\",\"\",'ADVANCED RESULTS'!R39)","v":""},{"$f":"IF('Entry Information'!$J129=\"\",\"\",IF('ADVANCED RESULTS'!S39=\"\",\"\",'ADVANCED RESULTS'!S39))","v":""},"",{"$f":"IF('Entry Information'!$J129=\"\",\"\",IF('Entry Information'!V129=\"\",T38,T38-100))","v":""},"",{"$f":"IF($R38=\"\",\"\",(VLOOKUP($V$41,Worksheet!$A$11:$AE$41,V38+1,FALSE)))","v":""},{"$f":"IF('Entry Information'!$J129=\"\",\"\",'ADVANCED RESULTS'!X39)","v":""},{"$f":"IF('Entry Information'!$J129=\"\",\"\",IF('ADVANCED RESULTS'!Y39=\"\",\"\",'ADVANCED RESULTS'!Y39))","v":""},"",{"$f":"IF('Entry Information'!$J129=\"\",\"\",IF('Entry Information'!X129=\"\",Z38,Z38-100))","v":""},"",{"$f":"IF($X38=\"\",\"\",(VLOOKUP($AB$41,Worksheet!$A$11:$AE$41,AB38+1,FALSE)))","v":""},{"$f":"IF('Entry Information'!$J129=\"\",\"\",'ADVANCED RESULTS'!AD39)","v":""},{"$f":"IF('Entry Information'!$J129=\"\",\"\",IF('ADVANCED RESULTS'!AE39=\"\",\"\",'ADVANCED RESULTS'!AE39))","v":""},"",{"$f":"IF('Entry Information'!$J129=\"\",\"\",IF('Entry Information'!Z129=\"\",AF38,AF38-100))","v":""},"",{"$f":"IF($AD38=\"\",\"\",(VLOOKUP($AH$41,Worksheet!$A$11:$AE$41,AH38+1,FALSE)))","v":""}]
[{"$f":"IF('Entry Information'!J130=\"\",\"\",'Entry Information'!B130)","v":""},{"$f":"IF('Entry Information'!J130=\"\",\"\",'Entry Information'!C130)","v":""},{"$f":"IF('Entry Information'!J130=\"\",\"\",'Entry Information'!D130)","v":""},{"$f":"IF('Entry Information'!J130=\"\",\"\",'Entry Information'!E130)","v":""},"ADV",{"$f":"IF('Entry Information'!$J130=\"\",\"\",'ADVANCED RESULTS'!F40)","v":""},{"$f":"IF('Entry Information'!$J130=\"\",\"\",IF('ADVANCED RESULTS'!G40=\"\",\"\",'ADVANCED RESULTS'!G40))","v":""},"",{"$f":"IF('Entry Information'!$J130=\"\",\"\",IF('Entry Information'!R130=\"\",H39,H39-100))","v":""},"",{"$f":"IF($F39=\"\",\"\",(VLOOKUP($J$41,Worksheet!$A$11:$AE$41,J39+1,FALSE)))","v":""},{"$f":"IF('Entry Information'!$J130=\"\",\"\",'ADVANCED RESULTS'!L40)","v":""},{"$f":"IF('Entry Information'!$J130=\"\",\"\",IF('ADVANCED RESULTS'!M40=\"\",\"\",'ADVANCED RESULTS'!M40))","v":""},"",{"$f":"IF('Entry Information'!$J130=\"\",\"\",IF('Entry Information'!T130=\"\",N39,N39-100))","v":""},"",{"$f":"IF($L39=\"\",\"\",(VLOOKUP($P$41,Worksheet!$A$11:$AE$41,P39+1,FALSE)))","v":""},{"$f":"IF('Entry Information'!$J130=\"\",\"\",'ADVANCED RESULTS'!R40)","v":""},{"$f":"IF('Entry Information'!$J130=\"\",\"\",IF('ADVANCED RESULTS'!S40=\"\",\"\",'ADVANCED RESULTS'!S40))","v":""},"",{"$f":"IF('Entry Information'!$J130=\"\",\"\",IF('Entry Information'!V130=\"\",T39,T39-100))","v":""},"",{"$f":"IF($R39=\"\",\"\",(VLOOKUP($V$41,Worksheet!$A$11:$AE$41,V39+1,FALSE)))","v":""},{"$f":"IF('Entry Information'!$J130=\"\",\"\",'ADVANCED RESULTS'!X40)","v":""},{"$f":"IF('Entry Information'!$J130=\"\",\"\",IF('ADVANCED RESULTS'!Y40=\"\",\"\",'ADVANCED RESULTS'!Y40))","v":""},"",{"$f":"IF('Entry Information'!$J130=\"\",\"\",IF('Entry Information'!X130=\"\",Z39,Z39-100))","v":""},"",{"$f":"IF($X39=\"\",\"\",(VLOOKUP($AB$41,Worksheet!$A$11:$AE$41,AB39+1,FALSE)))","v":""},{"$f":"IF('Entry Information'!$J130=\"\",\"\",'ADVANCED RESULTS'!AD40)","v":""},{"$f":"IF('Entry Information'!$J130=\"\",\"\",IF('ADVANCED RESULTS'!AE40=\"\",\"\",'ADVANCED RESULTS'!AE40))","v":""},"",{"$f":"IF('Entry Information'!$J130=\"\",\"\",IF('Entry Information'!Z130=\"\",AF39,AF39-100))","v":""},"",{"$f":"IF($AD39=\"\",\"\",(VLOOKUP($AH$41,Worksheet!$A$11:$AE$41,AH39+1,FALSE)))","v":""}]
[]
[null,null,null,null,null,null,null,{"$f":"IF(G41=\"\",F41,(F41+(G41*0.001)))","v":0},null,{"$f":"COUNTIF(J10:J39,\">=0\")","v":0},null,null,null,null,null,{"$f":"COUNTIF(P10:P39,\">=0\")","v":0},null,null,null,null,null,{"$f":"COUNTIF(V10:V39,\">=0\")","v":0},null,null,null,null,null,{"$f":"COUNTIF(AB10:AB39,\">=0\")","v":0},null,null,null,null,null,{"$f":"COUNTIF(AH10:AH39,\">=0\")","v":0}]
[null,null,null,null,null,"1 - Total Penalty Points",null,null,null,null,null,"1 - Total Penalty Points",null,null,null,null,null,"1 Total Penalty Points",null,null,null,null,null,"1 - Total Penalty Points",null,null,null,null,null,"1 - Total Penalty Points"]
[null,null,null,null,null,"2 - Extended Trot",null,null,null,null,null,"2 - Drag Log",null,null,null,null,null,"2 - 1st Cow Working Center of Arena",null,null,null,null,null,"2 - Roping Cow",null,null,null,null,null,"2 - Roping Cow"]
[null,null,null,null,null,"3 - Transition down lope/walk/stop",null,null,null,null,null,"3 - Ground tie/bridle/pick-up leg(s)",null,null,null,null,null,"3 - 1st Cow Cut from Herd",null,null,null,null,null,"3 - Box Cow",null,null,null,null,null,"3 - Box Cow"]
[null,null,null,null,null,"4 - Transition to lope/lope",null,null,null,null,null,"4 - Gate",null,null,null,null,null,"4 -2nd Cow Working Center of Arena",null,null,null,null,null,"4 - First Lead Change",null,null,null,null,null,"4 - First Lead Change"]
[]
[]
["Scores in RED are ties - enter a 1 in the Tie Breaker Column of the winner to break tie.  If multiple ties enter a 1 for the second place and a 2 for winner."]
[]
[]
["Places highlighted have a major penatly."]
[]
["If Entered in \"Jack Pot\" cell to the right of Event All Around with be highlighted"]

{"sheet":"ADVANCED SELECT RESULTS","index":17,"n_rows":53,"n_cols":35,"rows_kept":53,"cut":false,"hidden":true,"merged":[[2,18,2,22],[2,23,2,28],[2,29,2,34],[1,0,1,2],[1,4,1,5],[1,9,1,16],[1,18,1,22],[1,23,1,28],[1,29,1,34],[2,1,2,2],[2,4,2,5],[2,9,2,11],[4,5,4,10],[4,11,4,16],[4,17,4,22],[4,23,4,28],[6,11,8,11],[6,12,8,12],[6,13,8,13],[6,26,8,26],[6,27,8,27],[6,28,8,28],[6,21,8,21],[6,15,8,15],[6,7,8,7],[6,8,8,8],[6,9,8,9],[6,10,8,10],[4,29,4,34],[6,32,8,32],[6,17,8,17],[6,18,8,18],[6,19,8,19],[6,20,8,20],[6,24,8,24],[6,25,8,25],[6,33,8,33],[6,34,8,34],[6,23,8,23],[5,5,5,10],[5,11,5,16],[5,17,5,22],[5,23,5,28],[5,29,5,34],[47,0,48,4],[6,29,8,29],[6,30,8,30],[6,31,8,31],[6,14,8,14],[6,5,8,5],[6,6,8,6],[6,22,8,22],[6,16,8,16]]}
[]
[null,null,null,null,"Event Name:",null,null,null,null,{"$f":"'Entry Information'!C4","v":"Ranch Horse Challenge"},null,null,null,null,null,null,null,null,"Judge #1 Name/Classes:",null,null,null,null,{"$f":"'Entry Information'!F4","v":"Mike Lund"}]
["Division:","ADVANCED",null,null,"Event Date:",null,null,null,null,{"$f":"'Entry Information'!C5","v":"2018-03-25"},null,null,null,null,null,null,null,null,"Judge #2 Name/Classes:",null,null,null,null,{"$f":"'Entry Information'!F5","v":"Karen Arlin"}]
[]
[null,null,null,null,null,"RANCH",null,null,null,null,null,"RANCH",null,null,null,null,null,"RANCH",null,null,null,null,null,"RANCH",null,null,null,null,null,"RANCH"]
[null,null,null,null,null,"RIDING",null,null,null,null,null,"TRAIL",null,null,null,null,null,"CUTING",null,null,null,null,null,"REINED WORK",null,null,null,null,null,"COW WORK"]
[null,null,null,null,null,"Score","Tie Breaker","Adjusted Score for Ties","Adjusted Score Major Penalty","Place","Placement Points","Score","Tie Breaker","Adjusted Score for Ties","Adjusted Score Major Penalty","Place","Placement Points","Score","Tie Breaker","Adjusted Score for Ties","Adjusted Score Major Penalty","Place","Placement Points","Score","Tie Breaker","Adjusted Score for Ties","Adjusted Score Major Penalty","Place","Placement Points","Score","Tie Breaker","Adjusted Score for Ties","Adjusted Score Major Penalty","Place","Placement Points"]
[]
["Back No.","Last Name","First Name","Registered Horse Name","Division"]
[{"$f":"IF('Entry Information'!H101=\"\",\"\",'Entry Information'!B101)","v":""},{"$f":"IF('Entry Information'!H101=\"\",\"\",'Entry Information'!C101)","v":""},{"$f":"IF('Entry Information'!H101=\"\",\"\",'Entry Information'!D101)","v":""},{"$f":"IF('Entry Information'!H101=\"\",\"\",'Entry Information'!E101)","v":""},"ADV",{"$f":"IF('Entry Information'!$H101=\"\",\"\",'ADVANCED RESULTS'!F11)","v":""},{"$f":"IF('Entry Information'!$H101=\"\",\"\",IF('ADVANCED RESULTS'!G11=\"\",\"\",'ADVANCED RESULTS'!G11))","v":""},{"$f":"IF(G10=\"\",F10,(F10+(G10*0.001)))","v":""},{"$f":"IF('Entry Information'!$H101=\"\",\"\",IF('Entry Information'!R101=\"\",H10,H10-100))","v":""},{"$f":"IF(I10=\"\",\"\",(RANK(I10,$I$10:$I$39,0)))","v":""},{"$f":"IF($F10=\"\",\"\",(VLOOKUP($J$41,Worksheet!$A$11:$AE$41,J10+1,FALSE)))","v":""},{"$f":"IF('Entry Information'!$H101=\"\",\"\",'ADVANCED RESULTS'!L11)","v":""},{"$f":"IF('Entry Information'!$H101=\"\",\"\",IF('ADVANCED RESULTS'!M11=\"\",\"\",'ADVANCED RESULTS'!M11))","v":""},{"$f":"IF(M10=\"\",L10,(L10+(M10*0.001)))","v":""},{"$f":"IF('Entry Information'!$H101=\"\",\"\",IF('Entry Information'!T101=\"\",N10,N10-100))","v":""},{"$f":"IF(O10=\"\",\"\",(RANK(O10,$O$10:$O$39,0)))","v":""},{"$f":"IF($L10=\"\",\"\",(VLOOKUP($P$41,Worksheet!$A$11:$AE$41,P10+1,FALSE)))","v":""},{"$f":"IF('Entry Information'!$H101=\"\",\"\",'ADVANCED RESULTS'!R11)","v":""},{"$f":"IF('Entry Information'!$H101=\"\",\"\",IF('ADVANCED RESULTS'!S11=\"\",\"\",'ADVANCED RESULTS'!S11))","v":""},{"$f":"IF(S10=\"\",R10,(R10+(S10*0.001)))","v":""},{"$f":"IF('Entry Information'!$H101=\"\",\"\",IF('Entry Information'!V101=\"\",T10,T10-100))","v":""},{"$f":"IF(U10=\"\",\"\",(RANK(U10,$U$10:$U$39,0)))","v":""},{"$f":"IF($R10=\"\",\"\",(VLOOKUP($V$41,Worksheet!$A$11:$AE$41,V10+1,FALSE)))","v":""},{"$f":"IF('Entry Information'!$H101=\"\",\"\",'ADVANCED RESULTS'!X11)","v":""},{"$f":"IF('Entry Information'!$H101=\"\",\"\",IF('ADVANCED RESULTS'!Y11=\"\",\"\",'ADVANCED RESULTS'!Y11))","v":""},{"$f":"IF(Y10=\"\",X10,(X10+(Y10*0.001)))","v":""},{"$f":"IF('Entry Information'!$H101=\"\",\"\",IF('Entry Information'!X101=\"\",Z10,Z10-100))","v":""},{"$f":"IF(AA10=\"\",\"\",(RANK(AA10,$AA$10:$AA$39,0)))","v":""},{"$f":"IF($X10=\"\",\"\",(VLOOKUP($AB$41,Worksheet!$A$11:$AE$41,AB10+1,FALSE)))","v":""},{"$f":"IF('Entry Information'!$H101=\"\",\"\",'ADVANCED RESULTS'!AD11)","v":""},{"$f":"IF('Entry Information'!$H101=\"\",\"\",IF('ADVANCED RESULTS'!AE11=\"\",\"\",'ADVANCED RESULTS'!AE11))","v":""},{"$f":"IF(AE10=\"\",AD10,(AD10+(AE10*0.001)))","v":""},{"$f":"IF('Entry Information'!$H101=\"\",\"\",IF('Entry Information'!Z101=\"\",AF10,AF10-100))","v":""},{"$f":"IF(AG10=\"\",\"\",(RANK(AG10,$AG$10:$AG$39,0)))","v":""},{"$f":"IF($AD10=\"\",\"\",(VLOOKUP($AH$41,Worksheet!$A$11:$AE$41,AH10+1,FALSE)))","v":""}]
[{"$f":"IF('Entry Information'!H102=\"\",\"\",'Entry Information'!B102)","v":""},{"$f":"IF('Entry Information'!H102=\"\",\"\",'Entry Information'!C102)","v":""},{"$f":"IF('Entry Information'!H102=\"\",\"\",'Entry Information'!D102)","v":""},{"$f":"IF('Entry Information'!H102=\"\",\"\",'Entry Information'!E102)","v":""},"ADV",{"$f":"IF('Entry Information'!$H102=\"\",\"\",'ADVANCED RESULTS'!F12)","v":""},{"$f":"IF('Entry Information'!$H102=\"\",\"\",IF('ADVANCED RESULTS'!G12=\"\",\"\",'ADVANCED RESULTS'!G12))","v":""},{"$f":"IF(G11=\"\",F11,(F11+(G11*0.001)))","v":""},{"$f":"IF('Entry Information'!$H102=\"\",\"\",IF('Entry Information'!R102=\"\",H11,H11-100))","v":""},{"$f":"IF(I11=\"\",\"\",(RANK(I11,$I$10:$I$39,0)))","v":""},{"$f":"IF($F11=\"\",\"\",(VLOOKUP($J$41,Worksheet!$A$11:$AE$41,J11+1,FALSE)))","v":""},{"$f":"IF('Entry Information'!$H102=\"\",\"\",'ADVANCED RESULTS'!L12)","v":""},{"$f":"IF('Entry Information'!$H102=\"\",\"\",IF('ADVANCED RESULTS'!M12=\"\",\"\",'ADVANCED RESULTS'!M12))","v":""},"",{"$f":"IF('Entry Information'!$H102=\"\",\"\",IF('Entry Information'!T102=\"\",N11,N11-100))","v":""},{"$f":"IF(O11=\"\",\"\",(RANK(O11,$O$10:$O$39,0)))","v":""},{"$f":"IF($L11=\"\",\"\",(VLOOKUP($P$41,Worksheet!$A$11:$AE$41,P11+1,FALSE)))","v":""},{"$f":"IF('Entry Information'!$H102=\"\",\"\",'ADVANCED RESULTS'!R12)","v":""},{"$f":"IF('Entry Information'!$H102=\"\",\"\",IF('ADVANCED RESULTS'!S12=\"\",\"\",'ADVANCED RESULTS'!S12))","v":""},"",{"$f":"IF('Entry Information'!$H102=\"\",\"\",IF('Entry Information'!V102=\"\",T11,T11-100))","v":""},{"$f":"IF(U11=\"\",\"\",(RANK(U11,$U$10:$U$39,0)))","v":""},{"$f":"IF($R11=\"\",\"\",(VLOOKUP($V$41,Worksheet!$A$11:$AE$41,V11+1,FALSE)))","v":""},{"$f":"IF('Entry Information'!$H102=\"\",\"\",'ADVANCED RESULTS'!X12)","v":""},{"$f":"IF('Entry Information'!$H102=\"\",\"\",IF('ADVANCED RESULTS'!Y12=\"\",\"\",'ADVANCED RESULTS'!Y12))","v":""},{"$f":"IF(Y11=\"\",X11,(X11+(Y11*0.001)))","v":""},{"$f":"IF('Entry Information'!$H102=\"\",\"\",IF('Entry Information'!X102=\"\",Z11,Z11-100))","v":""},{"$f":"IF(AA11=\"\",\"\",(RANK(AA11,$AA$10:$AA$39,0)))","v":""},{"$f":"IF($X11=\"\",\"\",(VLOOKUP($AB$41,Worksheet!$A$11:$AE$41,AB11+1,FALSE)))","v":""},{"$f":"IF('Entry Information'!$H102=\"\",\"\",'ADVANCED RESULTS'!AD12)","v":""},{"$f":"IF('Entry Information'!$H102=\"\",\"\",IF('ADVANCED RESULTS'!AE12=\"\",\"\",'ADVANCED RESULTS'!AE12))","v":""},{"$f":"IF(AE11=\"\",AD11,(AD11+(AE11*0.001)))","v":""},{"$f":"IF('Entry Information'!$H102=\"\",\"\",IF('Entry Information'!Z102=\"\",AF11,AF11-100))","v":""},{"$f":"IF(AG11=\"\",\"\",(RANK(AG11,$AG$10:$AG$39,0)))","v":""},{"$f":"IF($AD11=\"\",\"\",(VLOOKUP($AH$41,Worksheet!$A$11:$AE$41,AH11+1,FALSE)))","v":""}]
[{"$f":"IF('Entry Information'!H103=\"\",\"\",'Entry Information'!B103)","v":""},{"$f":"IF('Entry Information'!H103=\"\",\"\",'Entry Information'!C103)","v":""},{"$f":"IF('Entry Information'!H103=\"\",\"\",'Entry Information'!D103)","v":""},{"$f":"IF('Entry Information'!H103=\"\",\"\",'Entry Information'!E103)","v":""},"ADV",{"$f":"IF('Entry Information'!$H103=\"\",\"\",'ADVANCED RESULTS'!F13)","v":""},{"$f":"IF('Entry Information'!$H103=\"\",\"\",IF('ADVANCED RESULTS'!G13=\"\",\"\",'ADVANCED RESULTS'!G13))","v":""},"",{"$f":"IF('Entry Information'!$H103=\"\",\"\",IF('Entry Information'!R103=\"\",H12,H12-100))","v":""},"",{"$f":"IF($F12=\"\",\"\",(VLOOKUP($J$41,Worksheet!$A$11:$AE$41,J12+1,FALSE)))","v":""},{"$f":"IF('Entry Information'!$H103=\"\",\"\",'ADVANCED RESULTS'!L13)","v":""},{"$f":"IF('Entry Information'!$H103=\"\",\"\",IF('ADVANCED RESULTS'!M13=\"\",\"\",'ADVANCED RESULTS'!M13))","v":""},"",{"$f":"IF('Entry Information'!$H103=\"\",\"\",IF('Entry Information'!T103=\"\",N12,N12-100))","v":""},"",{"$f":"IF($L12=\"\",\"\",(VLOOKUP($P$41,Worksheet!$A$11:$AE$41,P12+1,FALSE)))","v":""},{"$f":"IF('Entry Information'!$H103=\"\",\"\",'ADVANCED RESULTS'!R13)","v":""},{"$f":"IF('Entry Information'!$H103=\"\",\"\",IF('ADVANCED RESULTS'!S13=\"\",\"\",'ADVANCED RESULTS'!S13))","v":""},"",{"$f":"IF('Entry Information'!$H103=\"\",\"\",IF('Entry Information'!V103=\"\",T12,T12-100))","v":""},"",{"$f":"IF($R12=\"\",\"\",(VLOOKUP($V$41,Worksheet!$A$11:$AE$41,V12+1,FALSE)))","v":""},{"$f":"IF('Entry Information'!$H103=\"\",\"\",'ADVANCED RESULTS'!X13)","v":""},{"$f":"IF('Entry Information'!$H103=\"\",\"\",IF('ADVANCED RESULTS'!Y13=\"\",\"\",'ADVANCED RESULTS'!Y13))","v":""},"",{"$f":"IF('Entry Information'!$H103=\"\",\"\",IF('Entry Information'!X103=\"\",Z12,Z12-100))","v":""},"",{"$f":"IF($X12=\"\",\"\",(VLOOKUP($AB$41,Worksheet!$A$11:$AE$41,AB12+1,FALSE)))","v":""},{"$f":"IF('Entry Information'!$H103=\"\",\"\",'ADVANCED RESULTS'!AD13)","v":""},{"$f":"IF('Entry Information'!$H103=\"\",\"\",IF('ADVANCED RESULTS'!AE13=\"\",\"\",'ADVANCED RESULTS'!AE13))","v":""},"",{"$f":"IF('Entry Information'!$H103=\"\",\"\",IF('Entry Information'!Z103=\"\",AF12,AF12-100))","v":""},"",{"$f":"IF($AD12=\"\",\"\",(VLOOKUP($AH$41,Worksheet!$A$11:$AE$41,AH12+1,FALSE)))","v":""}]
[{"$f":"IF('Entry Information'!H104=\"\",\"\",'Entry Information'!B104)","v":""},{"$f":"IF('Entry Information'!H104=\"\",\"\",'Entry Information'!C104)","v":""},{"$f":"IF('Entry Information'!H104=\"\",\"\",'Entry Information'!D104)","v":""},{"$f":"IF('Entry Information'!H104=\"\",\"\",'Entry Information'!E104)","v":""},"ADV",{"$f":"IF('Entry Information'!$H104=\"\",\"\",'ADVANCED RESULTS'!F14)","v":""},{"$f":"IF('Entry Information'!$H104=\"\",\"\",IF('ADVANCED RESULTS'!G14=\"\",\"\",'ADVANCED RESULTS'!G14))","v":""},"",{"$f":"IF('Entry Information'!$H104=\"\",\"\",IF('Entry Information'!R104=\"\",H13,H13-100))","v":""},"",{"$f":"IF($F13=\"\",\"\",(VLOOKUP($J$41,Worksheet!$A$11:$AE$41,J13+1,FALSE)))","v":""},{"$f":"IF('Entry Information'!$H104=\"\",\"\",'ADVANCED RESULTS'!L14)","v":""},{"$f":"IF('Entry Information'!$H104=\"\",\"\",IF('ADVANCED RESULTS'!M14=\"\",\"\",'ADVANCED RESULTS'!M14))","v":""},"",{"$f":"IF('Entry Information'!$H104=\"\",\"\",IF('Entry Information'!T104=\"\",N13,N13-100))","v":""},"",{"$f":"IF($L13=\"\",\"\",(VLOOKUP($P$41,Worksheet!$A$11:$AE$41,P13+1,FALSE)))","v":""},{"$f":"IF('Entry Information'!$H104=\"\",\"\",'ADVANCED RESULTS'!R14)","v":""},{"$f":"IF('Entry Information'!$H104=\"\",\"\",IF('ADVANCED RESULTS'!S14=\"\",\"\",'ADVANCED RESULTS'!S14))","v":""},"",{"$f":"IF('Entry Information'!$H104=\"\",\"\",IF('Entry Information'!V104=\"\",T13,T13-100))","v":""},"",{"$f":"IF($R13=\"\",\"\",(VLOOKUP($V$41,Worksheet!$A$11:$AE$41,V13+1,FALSE)))","v":""},{"$f":"IF('Entry Information'!$H104=\"\",\"\",'ADVANCED RESULTS'!X14)","v":""},{"$f":"IF('Entry Information'!$H104=\"\",\"\",IF('ADVANCED RESULTS'!Y14=\"\",\"\",'ADVANCED RESULTS'!Y14))","v":""},"",{"$f":"IF('Entry Information'!$H104=\"\",\"\",IF('Entry Information'!X104=\"\",Z13,Z13-100))","v":""},"",{"$f":"IF($X13=\"\",\"\",(VLOOKUP($AB$41,Worksheet!$A$11:$AE$41,AB13+1,FALSE)))","v":""},{"$f":"IF('Entry Information'!$H104=\"\",\"\",'ADVANCED RESULTS'!AD14)","v":""},{"$f":"IF('Entry Information'!$H104=\"\",\"\",IF('ADVANCED RESULTS'!AE14=\"\",\"\",'ADVANCED RESULTS'!AE14))","v":""},"",{"$f":"IF('Entry Information'!$H104=\"\",\"\",IF('Entry Information'!Z104=\"\",AF13,AF13-100))","v":""},"",{"$f":"IF($AD13=\"\",\"\",(VLOOKUP($AH$41,Worksheet!$A$11:$AE$41,AH13+1,FALSE)))","v":""}]
[{"$f":"IF('Entry Information'!H105=\"\",\"\",'Entry Information'!B105)","v":""},{"$f":"IF('Entry Information'!H105=\"\",\"\",'Entry Information'!C105)","v":""},{"$f":"IF('Entry Information'!H105=\"\",\"\",'Entry Information'!D105)","v":""},{"$f":"IF('Entry Information'!H105=\"\",\"\",'Entry Information'!E105)","v":""},"ADV",{"$f":"IF('Entry Information'!$H105=\"\",\"\",'ADVANCED RESULTS'!F15)","v":""},{"$f":"IF('Entry Information'!$H105=\"\",\"\",IF('ADVANCED RESULTS'!G15=\"\",\"\",'ADVANCED RESULTS'!G15))","v":""},"",{"$f":"IF('Entry Information'!$H105=\"\",\"\",IF('Entry Information'!R105=\"\",H14,H14-100))","v":""},"",{"$f":"IF($F14=\"\",\"\",(VLOOKUP($J$41,Worksheet!$A$11:$AE$41,J14+1,FALSE)))","v":""},{"$f":"IF('Entry Information'!$H105=\"\",\"\",'ADVANCED RESULTS'!L15)","v":""},{"$f":"IF('Entry Information'!$H105=\"\",\"\",IF('ADVANCED RESULTS'!M15=\"\",\"\",'ADVANCED RESULTS'!M15))","v":""},"",{"$f":"IF('Entry Information'!$H105=\"\",\"\",IF('Entry Information'!T105=\"\",N14,N14-100))","v":""},"",{"$f":"IF($L14=\"\",\"\",(VLOOKUP($P$41,Worksheet!$A$11:$AE$41,P14+1,FALSE)))","v":""},{"$f":"IF('Entry Information'!$H105=\"\",\"\",'ADVANCED RESULTS'!R15)","v":""},{"$f":"IF('Entry Information'!$H105=\"\",\"\",IF('ADVANCED RESULTS'!S15=\"\",\"\",'ADVANCED RESULTS'!S15))","v":""},"",{"$f":"IF('Entry Information'!$H105=\"\",\"\",IF('Entry Information'!V105=\"\",T14,T14-100))","v":""},"",{"$f":"IF($R14=\"\",\"\",(VLOOKUP($V$41,Worksheet!$A$11:$AE$41,V14+1,FALSE)))","v":""},{"$f":"IF('Entry Information'!$H105=\"\",\"\",'ADVANCED RESULTS'!X15)","v":""},{"$f":"IF('Entry Information'!$H105=\"\",\"\",IF('ADVANCED RESULTS'!Y15=\"\",\"\",'ADVANCED RESULTS'!Y15))","v":""},"",{"$f":"IF('Entry Information'!$H105=\"\",\"\",IF('Entry Information'!X105=\"\",Z14,Z14-100))","v":""},"",{"$f":"IF($X14=\"\",\"\",(VLOOKUP($AB$41,Worksheet!$A$11:$AE$41,AB14+1,FALSE)))","v":""},{"$f":"IF('Entry Information'!$H105=\"\",\"\",'ADVANCED RESULTS'!AD15)","v":""},{"$f":"IF('Entry Information'!$H105=\"\",\"\",IF('ADVANCED RESULTS'!AE15=\"\",\"\",'ADVANCED RESULTS'!AE15))","v":""},"",{"$f":"IF('Entry Information'!$H105=\"\",\"\",IF('Entry Information'!Z105=\"\",AF14,AF14-100))","v":""},"",{"$f":"IF($AD14=\"\",\"\",(VLOOKUP($AH$41,Worksheet!$A$11:$AE$41,AH14+1,FALSE)))","v":""}]
[{"$f":"IF('Entry Information'!H106=\"\",\"\",'Entry Information'!B106)","v":""},{"$f":"IF('Entry Information'!H106=\"\",\"\",'Entry Information'!C106)","v":""},{"$f":"IF('Entry Information'!H106=\"\",\"\",'Entry Information'!D106)","v":""},{"$f":"IF('Entry Information'!H106=\"\",\"\",'Entry Information'!E106)","v":""},"ADV",{"$f":"IF('Entry Information'!$H106=\"\",\"\",'ADVANCED RESULTS'!F16)","v":""},{"$f":"IF('Entry Information'!$H106=\"\",\"\",IF('ADVANCED RESULTS'!G16=\"\",\"\",'ADVANCED RESULTS'!G16))","v":""},"",{"$f":"IF('Entry Information'!$H106=\"\",\"\",IF('Entry Information'!R106=\"\",H15,H15-100))","v":""},"",{"$f":"IF($F15=\"\",\"\",(VLOOKUP($J$41,Worksheet!$A$11:$AE$41,J15+1,FALSE)))","v":""},{"$f":"IF('Entry Information'!$H106=\"\",\"\",'ADVANCED RESULTS'!L16)","v":""},{"$f":"IF('Entry Information'!$H106=\"\",\"\",IF('ADVANCED RESULTS'!M16=\"\",\"\",'ADVANCED RESULTS'!M16))","v":""},"",{"$f":"IF('Entry Information'!$H106=\"\",\"\",IF('Entry Information'!T106=\"\",N15,N15-100))","v":""},"",{"$f":"IF($L15=\"\",\"\",(VLOOKUP($P$41,Worksheet!$A$11:$AE$41,P15+1,FALSE)))","v":""},{"$f":"IF('Entry Information'!$H106=\"\",\"\",'ADVANCED RESULTS'!R16)","v":""},{"$f":"IF('Entry Information'!$H106=\"\",\"\",IF('ADVANCED RESULTS'!S16=\"\",\"\",'ADVANCED RESULTS'!S16))","v":""},"",{"$f":"IF('Entry Information'!$H106=\"\",\"\",IF('Entry Information'!V106=\"\",T15,T15-100))","v":""},"",{"$f":"IF($R15=\"\",\"\",(VLOOKUP($V$41,Worksheet!$A$11:$AE$41,V15+1,FALSE)))","v":""},{"$f":"IF('Entry Information'!$H106=\"\",\"\",'ADVANCED RESULTS'!X16)","v":""},{"$f":"IF('Entry Information'!$H106=\"\",\"\",IF('ADVANCED RESULTS'!Y16=\"\",\"\",'ADVANCED RESULTS'!Y16))","v":""},"",{"$f":"IF('Entry Information'!$H106=\"\",\"\",IF('Entry Information'!X106=\"\",Z15,Z15-100))","v":""},"",{"$f":"IF($X15=\"\",\"\",(VLOOKUP($AB$41,Worksheet!$A$11:$AE$41,AB15+1,FALSE)))","v":""},{"$f":"IF('Entry Information'!$H106=\"\",\"\",'ADVANCED RESULTS'!AD16)","v":""},{"$f":"IF('Entry Information'!$H106=\"\",\"\",IF('ADVANCED RESULTS'!AE16=\"\",\"\",'ADVANCED RESULTS'!AE16))","v":""},"",{"$f":"IF('Entry Information'!$H106=\"\",\"\",IF('Entry Information'!Z106=\"\",AF15,AF15-100))","v":""},"",{"$f":"IF($AD15=\"\",\"\",(VLOOKUP($AH$41,Worksheet!$A$11:$AE$41,AH15+1,FALSE)))","v":""}]
[{"$f":"IF('Entry Information'!H107=\"\",\"\",'Entry Information'!B107)","v":""},{"$f":"IF('Entry Information'!H107=\"\",\"\",'Entry Information'!C107)","v":""},{"$f":"IF('Entry Information'!H107=\"\",\"\",'Entry Information'!D107)","v":""},{"$f":"IF('Entry Information'!H107=\"\",\"\",'Entry Information'!E107)","v":""},"ADV",{"$f":"IF('Entry Information'!$H107=\"\",\"\",'ADVANCED RESULTS'!F17)","v":""},{"$f":"IF('Entry Information'!$H107=\"\",\"\",IF('ADVANCED RESULTS'!G17=\"\",\"\",'ADVANCED RESULTS'!G17))","v":""},"",{"$f":"IF('Entry Information'!$H107=\"\",\"\",IF('Entry Information'!R107=\"\",H16,H16-100))","v":""},"",{"$f":"IF($F16=\"\",\"\",(VLOOKUP($J$41,Worksheet!$A$11:$AE$41,J16+1,FALSE)))","v":""},{"$f":"IF('Entry Information'!$H107=\"\",\"\",'ADVANCED RESULTS'!L17)","v":""},{"$f":"IF('Entry Information'!$H107=\"\",\"\",IF('ADVANCED RESULTS'!M17=\"\",\"\",'ADVANCED RESULTS'!M17))","v":""},"",{"$f":"IF('Entry Information'!$H107=\"\",\"\",IF('Entry Information'!T107=\"\",N16,N16-100))","v":""},"",{"$f":"IF($L16=\"\",\"\",(VLOOKUP($P$41,Worksheet!$A$11:$AE$41,P16+1,FALSE)))","v":""},{"$f":"IF('Entry Information'!$H107=\"\",\"\",'ADVANCED RESULTS'!R17)","v":""},{"$f":"IF('Entry Information'!$H107=\"\",\"\",IF('ADVANCED RESULTS'!S17=\"\",\"\",'ADVANCED RESULTS'!S17))","v":""},"",{"$f":"IF('Entry Information'!$H107=\"\",\"\",IF('Entry Information'!V107=\"\",T16,T16-100))","v":""},"",{"$f":"IF($R16=\"\",\"\",(VLOOKUP($V$41,Worksheet!$A$11:$AE$41,V16+1,FALSE)))","v":""},{"$f":"IF('Entry Information'!$H107=\"\",\"\",'ADVANCED RESULTS'!X17)","v":""},{"$f":"IF('Entry Information'!$H107=\"\",\"\",IF('ADVANCED RESULTS'!Y17=\"\",\"\",'ADVANCED RESULTS'!Y17))","v":""},"",{"$f":"IF('Entry Information'!$H107=\"\",\"\",IF('Entry Information'!X107=\"\",Z16,Z16-100))","v":""},"",{"$f":"IF($X16=\"\",\"\",(VLOOKUP($AB$41,Worksheet!$A$11:$AE$41,AB16+1,FALSE)))","v":""},{"$f":"IF('Entry Information'!$H107=\"\",\"\",'ADVANCED RESULTS'!AD17)","v":""},{"$f":"IF('Entry Information'!$H107=\"\",\"\",IF('ADVANCED RESULTS'!AE17=\"\",\"\",'ADVANCED RESULTS'!AE17))","v":""},"",{"$f":"IF('Entry Information'!$H107=\"\",\"\",IF('Entry Information'!Z107=\"\",AF16,AF16-100))","v":""},"",{"$f":"IF($AD16=\"\",\"\",(VLOOKUP($AH$41,Worksheet!$A$11:$AE$41,AH16+1,FALSE)))","v":""}]
[{"$f":"IF('Entry Information'!H108=\"\",\"\",'Entry Information'!B108)","v":""},{"$f":"IF('Entry Information'!H108=\"\",\"\",'Entry Information'!C108)","v":""},{"$f":"IF('Entry Information'!H108=\"\",\"\",'Entry Information'!D108)","v":""},{"$f":"IF('Entry Information'!H108=\"\",\"\",'Entry Information'!E108)","v":""},"ADV",{"$f":"IF('Entry Information'!$H108=\"\",\"\",'ADVANCED RESULTS'!F18)","v":""},{"$f":"IF('Entry Information'!$H108=\"\",\"\",IF('ADVANCED RESULTS'!G18=\"\",\"\",'ADVANCED RESULTS'!G18))","v":""},"",{"$f":"IF('Entry Information'!$H108=\"\",\"\",IF('Entry Information'!R108=\"\",H17,H17-100))","v":""},"",{"$f":"IF($F17=\"\",\"\",(VLOOKUP($J$41,Worksheet!$A$11:$AE$41,J17+1,FALSE)))","v":""},{"$f":"IF('Entry Information'!$H108=\"\",\"\",'ADVANCED RESULTS'!L18)","v":""},{"$f":"IF('Entry Information'!$H108=\"\",\"\",IF('ADVANCED RESULTS'!M18=\"\",\"\",'ADVANCED RESULTS'!M18))","v":""},"",{"$f":"IF('Entry Information'!$H108=\"\",\"\",IF('Entry Information'!T108=\"\",N17,N17-100))","v":""},"",{"$f":"IF($L17=\"\",\"\",(VLOOKUP($P$41,Worksheet!$A$11:$AE$41,P17+1,FALSE)))","v":""},{"$f":"IF('Entry Information'!$H108=\"\",\"\",'ADVANCED RESULTS'!R18)","v":""},{"$f":"IF('Entry Information'!$H108=\"\",\"\",IF('ADVANCED RESULTS'!S18=\"\",\"\",'ADVANCED RESULTS'!S18))","v":""},"",{"$f":"IF('Entry Information'!$H108=\"\",\"\",IF('Entry Information'!V108=\"\",T17,T17-100))","v":""},"",{"$f":"IF($R17=\"\",\"\",(VLOOKUP($V$41,Worksheet!$A$11:$AE$41,V17+1,FALSE)))","v":""},{"$f":"IF('Entry Information'!$H108=\"\",\"\",'ADVANCED RESULTS'!X18)","v":""},{"$f":"IF('Entry Information'!$H108=\"\",\"\",IF('ADVANCED RESULTS'!Y18=\"\",\"\",'ADVANCED RESULTS'!Y18))","v":""},"",{"$f":"IF('Entry Information'!$H108=\"\",\"\",IF('Entry Information'!X108=\"\",Z17,Z17-100))","v":""},"",{"$f":"IF($X17=\"\",\"\",(VLOOKUP($AB$41,Worksheet!$A$11:$AE$41,AB17+1,FALSE)))","v":""},{"$f":"IF('Entry Information'!$H108=\"\",\"\",'ADVANCED RESULTS'!AD18)","v":""},{"$f":"IF('Entry Information'!$H108=\"\",\"\",IF('ADVANCED RESULTS'!AE18=\"\",\"\",'ADVANCED RESULTS'!AE18))","v":""},"",{"$f":"IF('Entry Information'!$H108=\"\",\"\",IF('Entry Information'!Z108=\"\",AF17,AF17-100))","v":""},"",{"$f":"IF($AD17=\"\",\"\",(VLOOKUP($AH$41,Worksheet!$A$11:$AE$41,AH17+1,FALSE)))","v":""}]
[{"$f":"IF('Entry Information'!H109=\"\",\"\",'Entry Information'!B109)","v":""},{"$f":"IF('Entry Information'!H109=\"\",\"\",'Entry Information'!C109)","v":""},{"$f":"IF('Entry Information'!H109=\"\",\"\",'Entry Information'!D109)","v":""},{"$f":"IF('Entry Information'!H109=\"\",\"\",'Entry Information'!E109)","v":""},"ADV",{"$f":"IF('Entry Information'!$H109=\"\",\"\",'ADVANCED RESULTS'!F19)","v":""},{"$f":"IF('Entry Information'!$H109=\"\",\"\",IF('ADVANCED RESULTS'!G19=\"\",\"\",'ADVANCED RESULTS'!G19))","v":""},"",{"$f":"IF('Entry Information'!$H109=\"\",\"\",IF('Entry Information'!R109=\"\",H18,H18-100))","v":""},"",{"$f":"IF($F18=\"\",\"\",(VLOOKUP($J$41,Worksheet!$A$11:$AE$41,J18+1,FALSE)))","v":""},{"$f":"IF('Entry Information'!$H109=\"\",\"\",'ADVANCED RESULTS'!L19)","v":""},{"$f":"IF('Entry Information'!$H109=\"\",\"\",IF('ADVANCED RESULTS'!M19=\"\",\"\",'ADVANCED RESULTS'!M19))","v":""},"",{"$f":"IF('Entry Information'!$H109=\"\",\"\",IF('Entry Information'!T109=\"\",N18,N18-100))","v":""},"",{"$f":"IF($L18=\"\",\"\",(VLOOKUP($P$41,Worksheet!$A$11:$AE$41,P18+1,FALSE)))","v":""},{"$f":"IF('Entry Information'!$H109=\"\",\"\",'ADVANCED RESULTS'!R19)","v":""},{"$f":"IF('Entry Information'!$H109=\"\",\"\",IF('ADVANCED RESULTS'!S19=\"\",\"\",'ADVANCED RESULTS'!S19))","v":""},"",{"$f":"IF('Entry Information'!$H109=\"\",\"\",IF('Entry Information'!V109=\"\",T18,T18-100))","v":""},"",{"$f":"IF($R18=\"\",\"\",(VLOOKUP($V$41,Worksheet!$A$11:$AE$41,V18+1,FALSE)))","v":""},{"$f":"IF('Entry Information'!$H109=\"\",\"\",'ADVANCED RESULTS'!X19)","v":""},{"$f":"IF('Entry Information'!$H109=\"\",\"\",IF('ADVANCED RESULTS'!Y19=\"\",\"\",'ADVANCED RESULTS'!Y19))","v":""},"",{"$f":"IF('Entry Information'!$H109=\"\",\"\",IF('Entry Information'!X109=\"\",Z18,Z18-100))","v":""},"",{"$f":"IF($X18=\"\",\"\",(VLOOKUP($AB$41,Worksheet!$A$11:$AE$41,AB18+1,FALSE)))","v":""},{"$f":"IF('Entry Information'!$H109=\"\",\"\",'ADVANCED RESULTS'!AD19)","v":""},{"$f":"IF('Entry Information'!$H109=\"\",\"\",IF('ADVANCED RESULTS'!AE19=\"\",\"\",'ADVANCED RESULTS'!AE19))","v":""},"",{"$f":"IF('Entry Information'!$H109=\"\",\"\",IF('Entry Information'!Z109=\"\",AF18,AF18-100))","v":""},"",{"$f":"IF($AD18=\"\",\"\",(VLOOKUP($AH$41,Worksheet!$A$11:$AE$41,AH18+1,FALSE)))","v":""}]
[{"$f":"IF('Entry Information'!H110=\"\",\"\",'Entry Information'!B110)","v":""},{"$f":"IF('Entry Information'!H110=\"\",\"\",'Entry Information'!C110)","v":""},{"$f":"IF('Entry Information'!H110=\"\",\"\",'Entry Information'!D110)","v":""},{"$f":"IF('Entry Information'!H110=\"\",\"\",'Entry Information'!E110)","v":""},"ADV",{"$f":"IF('Entry Information'!$H110=\"\",\"\",'ADVANCED RESULTS'!F20)","v":""},{"$f":"IF('Entry Information'!$H110=\"\",\"\",IF('ADVANCED RESULTS'!G20=\"\",\"\",'ADVANCED RESULTS'!G20))","v":""},"",{"$f":"IF('Entry Information'!$H110=\"\",\"\",IF('Entry Information'!R110=\"\",H19,H19-100))","v":""},"",{"$f":"IF($F19=\"\",\"\",(VLOOKUP($J$41,Worksheet!$A$11:$AE$41,J19+1,FALSE)))","v":""},{"$f":"IF('Entry Information'!$H110=\"\",\"\",'ADVANCED RESULTS'!L20)","v":""},{"$f":"IF('Entry Information'!$H110=\"\",\"\",IF('ADVANCED RESULTS'!M20=\"\",\"\",'ADVANCED RESULTS'!M20))","v":""},"",{"$f":"IF('Entry Information'!$H110=\"\",\"\",IF('Entry Information'!T110=\"\",N19,N19-100))","v":""},"",{"$f":"IF($L19=\"\",\"\",(VLOOKUP($P$41,Worksheet!$A$11:$AE$41,P19+1,FALSE)))","v":""},{"$f":"IF('Entry Information'!$H110=\"\",\"\",'ADVANCED RESULTS'!R20)","v":""},{"$f":"IF('Entry Information'!$H110=\"\",\"\",IF('ADVANCED RESULTS'!S20=\"\",\"\",'ADVANCED RESULTS'!S20))","v":""},"",{"$f":"IF('Entry Information'!$H110=\"\",\"\",IF('Entry Information'!V110=\"\",T19,T19-100))","v":""},"",{"$f":"IF($R19=\"\",\"\",(VLOOKUP($V$41,Worksheet!$A$11:$AE$41,V19+1,FALSE)))","v":""},{"$f":"IF('Entry Information'!$H110=\"\",\"\",'ADVANCED RESULTS'!X20)","v":""},{"$f":"IF('Entry Information'!$H110=\"\",\"\",IF('ADVANCED RESULTS'!Y20=\"\",\"\",'ADVANCED RESULTS'!Y20))","v":""},"",{"$f":"IF('Entry Information'!$H110=\"\",\"\",IF('Entry Information'!X110=\"\",Z19,Z19-100))","v":""},"",{"$f":"IF($X19=\"\",\"\",(VLOOKUP($AB$41,Worksheet!$A$11:$AE$41,AB19+1,FALSE)))","v":""},{"$f":"IF('Entry Information'!$H110=\"\",\"\",'ADVANCED RESULTS'!AD20)","v":""},{"$f":"IF('Entry Information'!$H110=\"\",\"\",IF('ADVANCED RESULTS'!AE20=\"\",\"\",'ADVANCED RESULTS'!AE20))","v":""},"",{"$f":"IF('Entry Information'!$H110=\"\",\"\",IF('Entry Information'!Z110=\"\",AF19,AF19-100))","v":""},"",{"$f":"IF($AD19=\"\",\"\",(VLOOKUP($AH$41,Worksheet!$A$11:$AE$41,AH19+1,FALSE)))","v":""}]
[{"$f":"IF('Entry Information'!H111=\"\",\"\",'Entry Information'!B111)","v":""},{"$f":"IF('Entry Information'!H111=\"\",\"\",'Entry Information'!C111)","v":""},{"$f":"IF('Entry Information'!H111=\"\",\"\",'Entry Information'!D111)","v":""},{"$f":"IF('Entry Information'!H111=\"\",\"\",'Entry Information'!E111)","v":""},"ADV",{"$f":"IF('Entry Information'!$H111=\"\",\"\",'ADVANCED RESULTS'!F21)","v":""},{"$f":"IF('Entry Information'!$H111=\"\",\"\",IF('ADVANCED RESULTS'!G21=\"\",\"\",'ADVANCED RESULTS'!G21))","v":""},"",{"$f":"IF('Entry Information'!$H111=\"\",\"\",IF('Entry Information'!R111=\"\",H20,H20-100))","v":""},"",{"$f":"IF($F20=\"\",\"\",(VLOOKUP($J$41,Worksheet!$A$11:$AE$41,J20+1,FALSE)))","v":""},{"$f":"IF('Entry Information'!$H111=\"\",\"\",'ADVANCED RESULTS'!L21)","v":""},{"$f":"IF('Entry Information'!$H111=\"\",\"\",IF('ADVANCED RESULTS'!M21=\"\",\"\",'ADVANCED RESULTS'!M21))","v":""},"",{"$f":"IF('Entry Information'!$H111=\"\",\"\",IF('Entry Information'!T111=\"\",N20,N20-100))","v":""},"",{"$f":"IF($L20=\"\",\"\",(VLOOKUP($P$41,Worksheet!$A$11:$AE$41,P20+1,FALSE)))","v":""},{"$f":"IF('Entry Information'!$H111=\"\",\"\",'ADVANCED RESULTS'!R21)","v":""},{"$f":"IF('Entry Information'!$H111=\"\",\"\",IF('ADVANCED RESULTS'!S21=\"\",\"\",'ADVANCED RESULTS'!S21))","v":""},"",{"$f":"IF('Entry Information'!$H111=\"\",\"\",IF('Entry Information'!V111=\"\",T20,T20-100))","v":""},"",{"$f":"IF($R20=\"\",\"\",(VLOOKUP($V$41,Worksheet!$A$11:$AE$41,V20+1,FALSE)))","v":""},{"$f":"IF('Entry Information'!$H111=\"\",\"\",'ADVANCED RESULTS'!X21)","v":""},{"$f":"IF('Entry Information'!$H111=\"\",\"\",IF('ADVANCED RESULTS'!Y21=\"\",\"\",'ADVANCED RESULTS'!Y21))","v":""},"",{"$f":"IF('Entry Information'!$H111=\"\",\"\",IF('Entry Information'!X111=\"\",Z20,Z20-100))","v":""},"",{"$f":"IF($X20=\"\",\"\",(VLOOKUP($AB$41,Worksheet!$A$11:$AE$41,AB20+1,FALSE)))","v":""},{"$f":"IF('Entry Information'!$H111=\"\",\"\",'ADVANCED RESULTS'!AD21)","v":""},{"$f":"IF('Entry Information'!$H111=\"\",\"\",IF('ADVANCED RESULTS'!AE21=\"\",\"\",'ADVANCED RESULTS'!AE21))","v":""},"",{"$f":"IF('Entry Information'!$H111=\"\",\"\",IF('Entry Information'!Z111=\"\",AF20,AF20-100))","v":""},"",{"$f":"IF($AD20=\"\",\"\",(VLOOKUP($AH$41,Worksheet!$A$11:$AE$41,AH20+1,FALSE)))","v":""}]
[{"$f":"IF('Entry Information'!H112=\"\",\"\",'Entry Information'!B112)","v":""},{"$f":"IF('Entry Information'!H112=\"\",\"\",'Entry Information'!C112)","v":""},{"$f":"IF('Entry Information'!H112=\"\",\"\",'Entry Information'!D112)","v":""},{"$f":"IF('Entry Information'!H112=\"\",\"\",'Entry Information'!E112)","v":""},"ADV",{"$f":"IF('Entry Information'!$H112=\"\",\"\",'ADVANCED RESULTS'!F22)","v":""},{"$f":"IF('Entry Information'!$H112=\"\",\"\",IF('ADVANCED RESULTS'!G22=\"\",\"\",'ADVANCED RESULTS'!G22))","v":""},"",{"$f":"IF('Entry Information'!$H112=\"\",\"\",IF('Entry Information'!R112=\"\",H21,H21-100))","v":""},"",{"$f":"IF($F21=\"\",\"\",(VLOOKUP($J$41,Worksheet!$A$11:$AE$41,J21+1,FALSE)))","v":""},{"$f":"IF('Entry Information'!$H112=\"\",\"\",'ADVANCED RESULTS'!L22)","v":""},{"$f":"IF('Entry Information'!$H112=\"\",\"\",IF('ADVANCED RESULTS'!M22=\"\",\"\",'ADVANCED RESULTS'!M22))","v":""},"",{"$f":"IF('Entry Information'!$H112=\"\",\"\",IF('Entry Information'!T112=\"\",N21,N21-100))","v":""},"",{"$f":"IF($L21=\"\",\"\",(VLOOKUP($P$41,Worksheet!$A$11:$AE$41,P21+1,FALSE)))","v":""},{"$f":"IF('Entry Information'!$H112=\"\",\"\",'ADVANCED RESULTS'!R22)","v":""},{"$f":"IF('Entry Information'!$H112=\"\",\"\",IF('ADVANCED RESULTS'!S22=\"\",\"\",'ADVANCED RESULTS'!S22))","v":""},"",{"$f":"IF('Entry Information'!$H112=\"\",\"\",IF('Entry Information'!V112=\"\",T21,T21-100))","v":""},"",{"$f":"IF($R21=\"\",\"\",(VLOOKUP($V$41,Worksheet!$A$11:$AE$41,V21+1,FALSE)))","v":""},{"$f":"IF('Entry Information'!$H112=\"\",\"\",'ADVANCED RESULTS'!X22)","v":""},{"$f":"IF('Entry Information'!$H112=\"\",\"\",IF('ADVANCED RESULTS'!Y22=\"\",\"\",'ADVANCED RESULTS'!Y22))","v":""},"",{"$f":"IF('Entry Information'!$H112=\"\",\"\",IF('Entry Information'!X112=\"\",Z21,Z21-100))","v":""},"",{"$f":"IF($X21=\"\",\"\",(VLOOKUP($AB$41,Worksheet!$A$11:$AE$41,AB21+1,FALSE)))","v":""},{"$f":"IF('Entry Information'!$H112=\"\",\"\",'ADVANCED RESULTS'!AD22)","v":""},{"$f":"IF('Entry Information'!$H112=\"\",\"\",IF('ADVANCED RESULTS'!AE22=\"\",\"\",'ADVANCED RESULTS'!AE22))","v":""},"",{"$f":"IF('Entry Information'!$H112=\"\",\"\",IF('Entry Information'!Z112=\"\",AF21,AF21-100))","v":""},"",{"$f":"IF($AD21=\"\",\"\",(VLOOKUP($AH$41,Worksheet!$A$11:$AE$41,AH21+1,FALSE)))","v":""}]
[{"$f":"IF('Entry Information'!H113=\"\",\"\",'Entry Information'!B113)","v":""},{"$f":"IF('Entry Information'!H113=\"\",\"\",'Entry Information'!C113)","v":""},{"$f":"IF('Entry Information'!H113=\"\",\"\",'Entry Information'!D113)","v":""},{"$f":"IF('Entry Information'!H113=\"\",\"\",'Entry Information'!E113)","v":""},"ADV",{"$f":"IF('Entry Information'!$H113=\"\",\"\",'ADVANCED RESULTS'!F23)","v":""},{"$f":"IF('Entry Information'!$H113=\"\",\"\",IF('ADVANCED RESULTS'!G23=\"\",\"\",'ADVANCED RESULTS'!G23))","v":""},"",{"$f":"IF('Entry Information'!$H113=\"\",\"\",IF('Entry Information'!R113=\"\",H22,H22-100))","v":""},"",{"$f":"IF($F22=\"\",\"\",(VLOOKUP($J$41,Worksheet!$A$11:$AE$41,J22+1,FALSE)))","v":""},{"$f":"IF('Entry Information'!$H113=\"\",\"\",'ADVANCED RESULTS'!L23)","v":""},{"$f":"IF('Entry Information'!$H113=\"\",\"\",IF('ADVANCED RESULTS'!M23=\"\",\"\",'ADVANCED RESULTS'!M23))","v":""},"",{"$f":"IF('Entry Information'!$H113=\"\",\"\",IF('Entry Information'!T113=\"\",N22,N22-100))","v":""},"",{"$f":"IF($L22=\"\",\"\",(VLOOKUP($P$41,Worksheet!$A$11:$AE$41,P22+1,FALSE)))","v":""},{"$f":"IF('Entry Information'!$H113=\"\",\"\",'ADVANCED RESULTS'!R23)","v":""},{"$f":"IF('Entry Information'!$H113=\"\",\"\",IF('ADVANCED RESULTS'!S23=\"\",\"\",'ADVANCED RESULTS'!S23))","v":""},"",{"$f":"IF('Entry Information'!$H113=\"\",\"\",IF('Entry Information'!V113=\"\",T22,T22-100))","v":""},"",{"$f":"IF($R22=\"\",\"\",(VLOOKUP($V$41,Worksheet!$A$11:$AE$41,V22+1,FALSE)))","v":""},{"$f":"IF('Entry Information'!$H113=\"\",\"\",'ADVANCED RESULTS'!X23)","v":""},{"$f":"IF('Entry Information'!$H113=\"\",\"\",IF('ADVANCED RESULTS'!Y23=\"\",\"\",'ADVANCED RESULTS'!Y23))","v":""},"",{"$f":"IF('Entry Information'!$H113=\"\",\"\",IF('Entry Information'!X113=\"\",Z22,Z22-100))","v":""},"",{"$f":"IF($X22=\"\",\"\",(VLOOKUP($AB$41,Worksheet!$A$11:$AE$41,AB22+1,FALSE)))","v":""},{"$f":"IF('Entry Information'!$H113=\"\",\"\",'ADVANCED RESULTS'!AD23)","v":""},{"$f":"IF('Entry Information'!$H113=\"\",\"\",IF('ADVANCED RESULTS'!AE23=\"\",\"\",'ADVANCED RESULTS'!AE23))","v":""},"",{"$f":"IF('Entry Information'!$H113=\"\",\"\",IF('Entry Information'!Z113=\"\",AF22,AF22-100))","v":""},"",{"$f":"IF($AD22=\"\",\"\",(VLOOKUP($AH$41,Worksheet!$A$11:$AE$41,AH22+1,FALSE)))","v":""}]
[{"$f":"IF('Entry Information'!H114=\"\",\"\",'Entry Information'!B114)","v":""},{"$f":"IF('Entry Information'!H114=\"\",\"\",'Entry Information'!C114)","v":""},{"$f":"IF('Entry Information'!H114=\"\",\"\",'Entry Information'!D114)","v":""},{"$f":"IF('Entry Information'!H114=\"\",\"\",'Entry Information'!E114)","v":""},"ADV",{"$f":"IF('Entry Information'!$H114=\"\",\"\",'ADVANCED RESULTS'!F24)","v":""},{"$f":"IF('Entry Information'!$H114=\"\",\"\",IF('ADVANCED RESULTS'!G24=\"\",\"\",'ADVANCED RESULTS'!G24))","v":""},"",{"$f":"IF('Entry Information'!$H114=\"\",\"\",IF('Entry Information'!R114=\"\",H23,H23-100))","v":""},"",{"$f":"IF($F23=\"\",\"\",(VLOOKUP($J$41,Worksheet!$A$11:$AE$41,J23+1,FALSE)))","v":""},{"$f":"IF('Entry Information'!$H114=\"\",\"\",'ADVANCED RESULTS'!L24)","v":""},{"$f":"IF('Entry Information'!$H114=\"\",\"\",IF('ADVANCED RESULTS'!M24=\"\",\"\",'ADVANCED RESULTS'!M24))","v":""},"",{"$f":"IF('Entry Information'!$H114=\"\",\"\",IF('Entry Information'!T114=\"\",N23,N23-100))","v":""},"",{"$f":"IF($L23=\"\",\"\",(VLOOKUP($P$41,Worksheet!$A$11:$AE$41,P23+1,FALSE)))","v":""},{"$f":"IF('Entry Information'!$H114=\"\",\"\",'ADVANCED RESULTS'!R24)","v":""},{"$f":"IF('Entry Information'!$H114=\"\",\"\",IF('ADVANCED RESULTS'!S24=\"\",\"\",'ADVANCED RESULTS'!S24))","v":""},"",{"$f":"IF('Entry Information'!$H114=\"\",\"\",IF('Entry Information'!V114=\"\",T23,T23-100))","v":""},"",{"$f":"IF($R23=\"\",\"\",(VLOOKUP($V$41,Worksheet!$A$11:$AE$41,V23+1,FALSE)))","v":""},{"$f":"IF('Entry Information'!$H114=\"\",\"\",'ADVANCED RESULTS'!X24)","v":""},{"$f":"IF('Entry Information'!$H114=\"\",\"\",IF('ADVANCED RESULTS'!Y24=\"\",\"\",'ADVANCED RESULTS'!Y24))","v":""},"",{"$f":"IF('Entry Information'!$H114=\"\",\"\",IF('Entry Information'!X114=\"\",Z23,Z23-100))","v":""},"",{"$f":"IF($X23=\"\",\"\",(VLOOKUP($AB$41,Worksheet!$A$11:$AE$41,AB23+1,FALSE)))","v":""},{"$f":"IF('Entry Information'!$H114=\"\",\"\",'ADVANCED RESULTS'!AD24)","v":""},{"$f":"IF('Entry Information'!$H114=\"\",\"\",IF('ADVANCED RESULTS'!AE24=\"\",\"\",'ADVANCED RESULTS'!AE24))","v":""},"",{"$f":"IF('Entry Information'!$H114=\"\",\"\",IF('Entry Information'!Z114=\"\",AF23,AF23-100))","v":""},"",{"$f":"IF($AD23=\"\",\"\",(VLOOKUP($AH$41,Worksheet!$A$11:$AE$41,AH23+1,FALSE)))","v":""}]
[{"$f":"IF('Entry Information'!H115=\"\",\"\",'Entry Information'!B115)","v":""},{"$f":"IF('Entry Information'!H115=\"\",\"\",'Entry Information'!C115)","v":""},{"$f":"IF('Entry Information'!H115=\"\",\"\",'Entry Information'!D115)","v":""},{"$f":"IF('Entry Information'!H115=\"\",\"\",'Entry Information'!E115)","v":""},"ADV",{"$f":"IF('Entry Information'!$H115=\"\",\"\",'ADVANCED RESULTS'!F25)","v":""},{"$f":"IF('Entry Information'!$H115=\"\",\"\",IF('ADVANCED RESULTS'!G25=\"\",\"\",'ADVANCED RESULTS'!G25))","v":""},{"$f":"IF(G24=\"\",F24,(F24+(G24*0.001)))","v":""},{"$f":"IF('Entry Information'!$H115=\"\",\"\",IF('Entry Information'!R115=\"\",H24,H24-100))","v":""},"",{"$f":"IF($F24=\"\",\"\",(VLOOKUP($J$41,Worksheet!$A$11:$AE$41,J24+1,FALSE)))","v":""},{"$f":"IF('Entry Information'!$H115=\"\",\"\",'ADVANCED RESULTS'!L25)","v":""},{"$f":"IF('Entry Information'!$H115=\"\",\"\",IF('ADVANCED RESULTS'!M25=\"\",\"\",'ADVANCED RESULTS'!M25))","v":""},"",{"$f":"IF('Entry Information'!$H115=\"\",\"\",IF('Entry Information'!T115=\"\",N24,N24-100))","v":""},"",{"$f":"IF($L24=\"\",\"\",(VLOOKUP($P$41,Worksheet!$A$11:$AE$41,P24+1,FALSE)))","v":""},{"$f":"IF('Entry Information'!$H115=\"\",\"\",'ADVANCED RESULTS'!R25)","v":""},{"$f":"IF('Entry Information'!$H115=\"\",\"\",IF('ADVANCED RESULTS'!S25=\"\",\"\",'ADVANCED RESULTS'!S25))","v":""},"",{"$f":"IF('Entry Information'!$H115=\"\",\"\",IF('Entry Information'!V115=\"\",T24,T24-100))","v":""},"",{"$f":"IF($R24=\"\",\"\",(VLOOKUP($V$41,Worksheet!$A$11:$AE$41,V24+1,FALSE)))","v":""},{"$f":"IF('Entry Information'!$H115=\"\",\"\",'ADVANCED RESULTS'!X25)","v":""},{"$f":"IF('Entry Information'!$H115=\"\",\"\",IF('ADVANCED RESULTS'!Y25=\"\",\"\",'ADVANCED RESULTS'!Y25))","v":""},{"$f":"IF(Y24=\"\",X24,(X24+(Y24*0.001)))","v":""},{"$f":"IF('Entry Information'!$H115=\"\",\"\",IF('Entry Information'!X115=\"\",Z24,Z24-100))","v":""},"",{"$f":"IF($X24=\"\",\"\",(VLOOKUP($AB$41,Worksheet!$A$11:$AE$41,AB24+1,FALSE)))","v":""},{"$f":"IF('Entry Information'!$H115=\"\",\"\",'ADVANCED RESULTS'!AD25)","v":""},{"$f":"IF('Entry Information'!$H115=\"\",\"\",IF('ADVANCED RESULTS'!AE25=\"\",\"\",'ADVANCED RESULTS'!AE25))","v":""},{"$f":"IF(AE24=\"\",AD24,(AD24+(AE24*0.001)))","v":""},{"$f":"IF('Entry Information'!$H115=\"\",\"\",IF('Entry Information'!Z115=\"\",AF24,AF24-100))","v":""},"",{"$f":"IF($AD24=\"\",\"\",(VLOOKUP($AH$41,Worksheet!$A$11:$AE$41,AH24+1,FALSE)))","v":""}]
[{"$f":"IF('Entry Information'!H116=\"\",\"\",'Entry Information'!B116)","v":""},{"$f":"IF('Entry Information'!H116=\"\",\"\",'Entry Information'!C116)","v":""},{"$f":"IF('Entry Information'!H116=\"\",\"\",'Entry Information'!D116)","v":""},{"$f":"IF('Entry Information'!H116=\"\",\"\",'Entry Information'!E116)","v":""},"ADV",{"$f":"IF('Entry Information'!$H116=\"\",\"\",'ADVANCED RESULTS'!F26)","v":""},{"$f":"IF('Entry Information'!$H116=\"\",\"\",IF('ADVANCED RESULTS'!G26=\"\",\"\",'ADVANCED RESULTS'!G26))","v":""},{"$f":"IF(G25=\"\",F25,(F25+(G25*0.001)))","v":""},{"$f":"IF('Entry Information'!$H116=\"\",\"\",IF('Entry Information'!R116=\"\",H25,H25-100))","v":""},"",{"$f":"IF($F25=\"\",\"\",(VLOOKUP($J$41,Worksheet!$A$11:$AE$41,J25+1,FALSE)))","v":""},{"$f":"IF('Entry Information'!$H116=\"\",\"\",'ADVANCED RESULTS'!L26)","v":""},{"$f":"IF('Entry Information'!$H116=\"\",\"\",IF('ADVANCED RESULTS'!M26=\"\",\"\",'ADVANCED RESULTS'!M26))","v":""},"",{"$f":"IF('Entry Information'!$H116=\"\",\"\",IF('Entry Information'!T116=\"\",N25,N25-100))","v":""},"",{"$f":"IF($L25=\"\",\"\",(VLOOKUP($P$41,Worksheet!$A$11:$AE$41,P25+1,FALSE)))","v":""},{"$f":"IF('Entry Information'!$H116=\"\",\"\",'ADVANCED RESULTS'!R26)","v":""},{"$f":"IF('Entry Information'!$H116=\"\",\"\",IF('ADVANCED RESULTS'!S26=\"\",\"\",'ADVANCED RESULTS'!S26))","v":""},"",{"$f":"IF('Entry Information'!$H116=\"\",\"\",IF('Entry Information'!V116=\"\",T25,T25-100))","v":""},"",{"$f":"IF($R25=\"\",\"\",(VLOOKUP($V$41,Worksheet!$A$11:$AE$41,V25+1,FALSE)))","v":""},{"$f":"IF('Entry Information'!$H116=\"\",\"\",'ADVANCED RESULTS'!X26)","v":""},{"$f":"IF('Entry Information'!$H116=\"\",\"\",IF('ADVANCED RESULTS'!Y26=\"\",\"\",'ADVANCED RESULTS'!Y26))","v":""},{"$f":"IF(Y25=\"\",X25,(X25+(Y25*0.001)))","v":""},{"$f":"IF('Entry Information'!$H116=\"\",\"\",IF('Entry Information'!X116=\"\",Z25,Z25-100))","v":""},"",{"$f":"IF($X25=\"\",\"\",(VLOOKUP($AB$41,Worksheet!$A$11:$AE$41,AB25+1,FALSE)))","v":""},{"$f":"IF('Entry Information'!$H116=\"\",\"\",'ADVANCED RESULTS'!AD26)","v":""},{"$f":"IF('Entry Information'!$H116=\"\",\"\",IF('ADVANCED RESULTS'!AE26=\"\",\"\",'ADVANCED RESULTS'!AE26))","v":""},{"$f":"IF(AE25=\"\",AD25,(AD25+(AE25*0.001)))","v":""},{"$f":"IF('Entry Information'!$H116=\"\",\"\",IF('Entry Information'!Z116=\"\",AF25,AF25-100))","v":""},"",{"$f":"IF($AD25=\"\",\"\",(VLOOKUP($AH$41,Worksheet!$A$11:$AE$41,AH25+1,FALSE)))","v":""}]
[{"$f":"IF('Entry Information'!H117=\"\",\"\",'Entry Information'!B117)","v":""},{"$f":"IF('Entry Information'!H117=\"\",\"\",'Entry Information'!C117)","v":""},{"$f":"IF('Entry Information'!H117=\"\",\"\",'Entry Information'!D117)","v":""},{"$f":"IF('Entry Information'!H117=\"\",\"\",'Entry Information'!E117)","v":""},"ADV",{"$f":"IF('Entry Information'!$H117=\"\",\"\",'ADVANCED RESULTS'!F27)","v":""},{"$f":"IF('Entry Information'!$H117=\"\",\"\",IF('ADVANCED RESULTS'!G27=\"\",\"\",'ADVANCED RESULTS'!G27))","v":""},{"$f":"IF(G26=\"\",F26,(F26+(G26*0.001)))","v":""},{"$f":"IF('Entry Information'!$H117=\"\",\"\",IF('Entry Information'!R117=\"\",H26,H26-100))","v":""},"",{"$f":"IF($F26=\"\",\"\",(VLOOKUP($J$41,Worksheet!$A$11:$AE$41,J26+1,FALSE)))","v":""},{"$f":"IF('Entry Information'!$H117=\"\",\"\",'ADVANCED RESULTS'!L27)","v":""},{"$f":"IF('Entry Information'!$H117=\"\",\"\",IF('ADVANCED RESULTS'!M27=\"\",\"\",'ADVANCED RESULTS'!M27))","v":""},"",{"$f":"IF('Entry Information'!$H117=\"\",\"\",IF('Entry Information'!T117=\"\",N26,N26-100))","v":""},"",{"$f":"IF($L26=\"\",\"\",(VLOOKUP($P$41,Worksheet!$A$11:$AE$41,P26+1,FALSE)))","v":""},{"$f":"IF('Entry Information'!$H117=\"\",\"\",'ADVANCED RESULTS'!R27)","v":""},{"$f":"IF('Entry Information'!$H117=\"\",\"\",IF('ADVANCED RESULTS'!S27=\"\",\"\",'ADVANCED RESULTS'!S27))","v":""},"",{"$f":"IF('Entry Information'!$H117=\"\",\"\",IF('Entry Information'!V117=\"\",T26,T26-100))","v":""},"",{"$f":"IF($R26=\"\",\"\",(VLOOKUP($V$41,Worksheet!$A$11:$AE$41,V26+1,FALSE)))","v":""},{"$f":"IF('Entry Information'!$H117=\"\",\"\",'ADVANCED RESULTS'!X27)","v":""},{"$f":"IF('Entry Information'!$H117=\"\",\"\",IF('ADVANCED RESULTS'!Y27=\"\",\"\",'ADVANCED RESULTS'!Y27))","v":""},{"$f":"IF(Y26=\"\",X26,(X26+(Y26*0.001)))","v":""},{"$f":"IF('Entry Information'!$H117=\"\",\"\",IF('Entry Information'!X117=\"\",Z26,Z26-100))","v":""},"",{"$f":"IF($X26=\"\",\"\",(VLOOKUP($AB$41,Worksheet!$A$11:$AE$41,AB26+1,FALSE)))","v":""},{"$f":"IF('Entry Information'!$H117=\"\",\"\",'ADVANCED RESULTS'!AD27)","v":""},{"$f":"IF('Entry Information'!$H117=\"\",\"\",IF('ADVANCED RESULTS'!AE27=\"\",\"\",'ADVANCED RESULTS'!AE27))","v":""},{"$f":"IF(AE26=\"\",AD26,(AD26+(AE26*0.001)))","v":""},{"$f":"IF('Entry Information'!$H117=\"\",\"\",IF('Entry Information'!Z117=\"\",AF26,AF26-100))","v":""},"",{"$f":"IF($AD26=\"\",\"\",(VLOOKUP($AH$41,Worksheet!$A$11:$AE$41,AH26+1,FALSE)))","v":""}]
[{"$f":"IF('Entry Information'!H118=\"\",\"\",'Entry Information'!B118)","v":""},{"$f":"IF('Entry Information'!H118=\"\",\"\",'Entry Information'!C118)","v":""},{"$f":"IF('Entry Information'!H118=\"\",\"\",'Entry Information'!D118)","v":""},{"$f":"IF('Entry Information'!H118=\"\",\"\",'Entry Information'!E118)","v":""},"ADV",{"$f":"IF('Entry Information'!$H118=\"\",\"\",'ADVANCED RESULTS'!F28)","v":""},{"$f":"IF('Entry Information'!$H118=\"\",\"\",IF('ADVANCED RESULTS'!G28=\"\",\"\",'ADVANCED RESULTS'!G28))","v":""},"",{"$f":"IF('Entry Information'!$H118=\"\",\"\",IF('Entry Information'!R118=\"\",H27,H27-100))","v":""},"",{"$f":"IF($F27=\"\",\"\",(VLOOKUP($J$41,Worksheet!$A$11:$AE$41,J27+1,FALSE)))","v":""},{"$f":"IF('Entry Information'!$H118=\"\",\"\",'ADVANCED RESULTS'!L28)","v":""},{"$f":"IF('Entry Information'!$H118=\"\",\"\",IF('ADVANCED RESULTS'!M28=\"\",\"\",'ADVANCED RESULTS'!M28))","v":""},"",{"$f":"IF('Entry Information'!$H118=\"\",\"\",IF('Entry Information'!T118=\"\",N27,N27-100))","v":""},"",{"$f":"IF($L27=\"\",\"\",(VLOOKUP($P$41,Worksheet!$A$11:$AE$41,P27+1,FALSE)))","v":""},{"$f":"IF('Entry Information'!$H118=\"\",\"\",'ADVANCED RESULTS'!R28)","v":""},{"$f":"IF('Entry Information'!$H118=\"\",\"\",IF('ADVANCED RESULTS'!S28=\"\",\"\",'ADVANCED RESULTS'!S28))","v":""},"",{"$f":"IF('Entry Information'!$H118=\"\",\"\",IF('Entry Information'!V118=\"\",T27,T27-100))","v":""},"",{"$f":"IF($R27=\"\",\"\",(VLOOKUP($V$41,Worksheet!$A$11:$AE$41,V27+1,FALSE)))","v":""},{"$f":"IF('Entry Information'!$H118=\"\",\"\",'ADVANCED RESULTS'!X28)","v":""},{"$f":"IF('Entry Information'!$H118=\"\",\"\",IF('ADVANCED RESULTS'!Y28=\"\",\"\",'ADVANCED RESULTS'!Y28))","v":""},"",{"$f":"IF('Entry Information'!$H118=\"\",\"\",IF('Entry Information'!X118=\"\",Z27,Z27-100))","v":""},"",{"$f":"IF($X27=\"\",\"\",(VLOOKUP($AB$41,Worksheet!$A$11:$AE$41,AB27+1,FALSE)))","v":""},{"$f":"IF('Entry Information'!$H118=\"\",\"\",'ADVANCED RESULTS'!AD28)","v":""},{"$f":"IF('Entry Information'!$H118=\"\",\"\",IF('ADVANCED RESULTS'!AE28=\"\",\"\",'ADVANCED RESULTS'!AE28))","v":""},"",{"$f":"IF('Entry Information'!$H118=\"\",\"\",IF('Entry Information'!Z118=\"\",AF27,AF27-100))","v":""},"",{"$f":"IF($AD27=\"\",\"\",(VLOOKUP($AH$41,Worksheet!$A$11:$AE$41,AH27+1,FALSE)))","v":""}]
[{"$f":"IF('Entry Information'!H119=\"\",\"\",'Entry Information'!B119)","v":""},{"$f":"IF('Entry Information'!H119=\"\",\"\",'Entry Information'!C119)","v":""},{"$f":"IF('Entry Information'!H119=\"\",\"\",'Entry Information'!D119)","v":""},{"$f":"IF('Entry Information'!H119=\"\",\"\",'Entry Information'!E119)","v":""},"ADV",{"$f":"IF('Entry Information'!$H119=\"\",\"\",'ADVANCED RESULTS'!F29)","v":""},{"$f":"IF('Entry Information'!$H119=\"\",\"\",IF('ADVANCED RESULTS'!G29=\"\",\"\",'ADVANCED RESULTS'!G29))","v":""},"",{"$f":"IF('Entry Information'!$H119=\"\",\"\",IF('Entry Information'!R119=\"\",H28,H28-100))","v":""},"",{"$f":"IF($F28=\"\",\"\",(VLOOKUP($J$41,Worksheet!$A$11:$AE$41,J28+1,FALSE)))","v":""},{"$f":"IF('Entry Information'!$H119=\"\",\"\",'ADVANCED RESULTS'!L29)","v":""},{"$f":"IF('Entry Information'!$H119=\"\",\"\",IF('ADVANCED RESULTS'!M29=\"\",\"\",'ADVANCED RESULTS'!M29))","v":""},"",{"$f":"IF('Entry Information'!$H119=\"\",\"\",IF('Entry Information'!T119=\"\",N28,N28-100))","v":""},"",{"$f":"IF($L28=\"\",\"\",(VLOOKUP($P$41,Worksheet!$A$11:$AE$41,P28+1,FALSE)))","v":""},{"$f":"IF('Entry Information'!$H119=\"\",\"\",'ADVANCED RESULTS'!R29)","v":""},{"$f":"IF('Entry Information'!$H119=\"\",\"\",IF('ADVANCED RESULTS'!S29=\"\",\"\",'ADVANCED RESULTS'!S29))","v":""},"",{"$f":"IF('Entry Information'!$H119=\"\",\"\",IF('Entry Information'!V119=\"\",T28,T28-100))","v":""},"",{"$f":"IF($R28=\"\",\"\",(VLOOKUP($V$41,Worksheet!$A$11:$AE$41,V28+1,FALSE)))","v":""},{"$f":"IF('Entry Information'!$H119=\"\",\"\",'ADVANCED RESULTS'!X29)","v":""},{"$f":"IF('Entry Information'!$H119=\"\",\"\",IF('ADVANCED RESULTS'!Y29=\"\",\"\",'ADVANCED RESULTS'!Y29))","v":""},"",{"$f":"IF('Entry Information'!$H119=\"\",\"\",IF('Entry Information'!X119=\"\",Z28,Z28-100))","v":""},"",{"$f":"IF($X28=\"\",\"\",(VLOOKUP($AB$41,Worksheet!$A$11:$AE$41,AB28+1,FALSE)))","v":""},{"$f":"IF('Entry Information'!$H119=\"\",\"\",'ADVANCED RESULTS'!AD29)","v":""},{"$f":"IF('Entry Information'!$H119=\"\",\"\",IF('ADVANCED RESULTS'!AE29=\"\",\"\",'ADVANCED RESULTS'!AE29))","v":""},"",{"$f":"IF('Entry Information'!$H119=\"\",\"\",IF('Entry Information'!Z119=\"\",AF28,AF28-100))","v":""},"",{"$f":"IF($AD28=\"\",\"\",(VLOOKUP($AH$41,Worksheet!$A$11:$AE$41,AH28+1,FALSE)))","v":""}]
[{"$f":"IF('Entry Information'!H120=\"\",\"\",'Entry Information'!B120)","v":""},{"$f":"IF('Entry Information'!H120=\"\",\"\",'Entry Information'!C120)","v":""},{"$f":"IF('Entry Information'!H120=\"\",\"\",'Entry Information'!D120)","v":""},{"$f":"IF('Entry Information'!H120=\"\",\"\",'Entry Information'!E120)","v":""},"ADV",{"$f":"IF('Entry Information'!$H120=\"\",\"\",'ADVANCED RESULTS'!F30)","v":""},{"$f":"IF('Entry Information'!$H120=\"\",\"\",IF('ADVANCED RESULTS'!G30=\"\",\"\",'ADVANCED RESULTS'!G30))","v":""},"",{"$f":"IF('Entry Information'!$H120=\"\",\"\",IF('Entry Information'!R120=\"\",H29,H29-100))","v":""},"",{"$f":"IF($F29=\"\",\"\",(VLOOKUP($J$41,Worksheet!$A$11:$AE$41,J29+1,FALSE)))","v":""},{"$f":"IF('Entry Information'!$H120=\"\",\"\",'ADVANCED RESULTS'!L30)","v":""},{"$f":"IF('Entry Information'!$H120=\"\",\"\",IF('ADVANCED RESULTS'!M30=\"\",\"\",'ADVANCED RESULTS'!M30))","v":""},"",{"$f":"IF('Entry Information'!$H120=\"\",\"\",IF('Entry Information'!T120=\"\",N29,N29-100))","v":""},"",{"$f":"IF($L29=\"\",\"\",(VLOOKUP($P$41,Worksheet!$A$11:$AE$41,P29+1,FALSE)))","v":""},{"$f":"IF('Entry Information'!$H120=\"\",\"\",'ADVANCED RESULTS'!R30)","v":""},{"$f":"IF('Entry Information'!$H120=\"\",\"\",IF('ADVANCED RESULTS'!S30=\"\",\"\",'ADVANCED RESULTS'!S30))","v":""},"",{"$f":"IF('Entry Information'!$H120=\"\",\"\",IF('Entry Information'!V120=\"\",T29,T29-100))","v":""},"",{"$f":"IF($R29=\"\",\"\",(VLOOKUP($V$41,Worksheet!$A$11:$AE$41,V29+1,FALSE)))","v":""},{"$f":"IF('Entry Information'!$H120=\"\",\"\",'ADVANCED RESULTS'!X30)","v":""},{"$f":"IF('Entry Information'!$H120=\"\",\"\",IF('ADVANCED RESULTS'!Y30=\"\",\"\",'ADVANCED RESULTS'!Y30))","v":""},"",{"$f":"IF('Entry Information'!$H120=\"\",\"\",IF('Entry Information'!X120=\"\",Z29,Z29-100))","v":""},"",{"$f":"IF($X29=\"\",\"\",(VLOOKUP($AB$41,Worksheet!$A$11:$AE$41,AB29+1,FALSE)))","v":""},{"$f":"IF('Entry Information'!$H120=\"\",\"\",'ADVANCED RESULTS'!AD30)","v":""},{"$f":"IF('Entry Information'!$H120=\"\",\"\",IF('ADVANCED RESULTS'!AE30=\"\",\"\",'ADVANCED RESULTS'!AE30))","v":""},"",{"$f":"IF('Entry Information'!$H120=\"\",\"\",IF('Entry Information'!Z120=\"\",AF29,AF29-100))","v":""},"",{"$f":"IF($AD29=\"\",\"\",(VLOOKUP($AH$41,Worksheet!$A$11:$AE$41,AH29+1,FALSE)))","v":""}]
[{"$f":"IF('Entry Information'!H121=\"\",\"\",'Entry Information'!B121)","v":""},{"$f":"IF('Entry Information'!H121=\"\",\"\",'Entry Information'!C121)","v":""},{"$f":"IF('Entry Information'!H121=\"\",\"\",'Entry Information'!D121)","v":""},{"$f":"IF('Entry Information'!H121=\"\",\"\",'Entry Information'!E121)","v":""},"ADV",{"$f":"IF('Entry Information'!$H121=\"\",\"\",'ADVANCED RESULTS'!F31)","v":""},{"$f":"IF('Entry Information'!$H121=\"\",\"\",IF('ADVANCED RESULTS'!G31=\"\",\"\",'ADVANCED RESULTS'!G31))","v":""},"",{"$f":"IF('Entry Information'!$H121=\"\",\"\",IF('Entry Information'!R121=\"\",H30,H30-100))","v":""},"",{"$f":"IF($F30=\"\",\"\",(VLOOKUP($J$41,Worksheet!$A$11:$AE$41,J30+1,FALSE)))","v":""},{"$f":"IF('Entry Information'!$H121=\"\",\"\",'ADVANCED RESULTS'!L31)","v":""},{"$f":"IF('Entry Information'!$H121=\"\",\"\",IF('ADVANCED RESULTS'!M31=\"\",\"\",'ADVANCED RESULTS'!M31))","v":""},"",{"$f":"IF('Entry Information'!$H121=\"\",\"\",IF('Entry Information'!T121=\"\",N30,N30-100))","v":""},"",{"$f":"IF($L30=\"\",\"\",(VLOOKUP($P$41,Worksheet!$A$11:$AE$41,P30+1,FALSE)))","v":""},{"$f":"IF('Entry Information'!$H121=\"\",\"\",'ADVANCED RESULTS'!R31)","v":""},{"$f":"IF('Entry Information'!$H121=\"\",\"\",IF('ADVANCED RESULTS'!S31=\"\",\"\",'ADVANCED RESULTS'!S31))","v":""},"",{"$f":"IF('Entry Information'!$H121=\"\",\"\",IF('Entry Information'!V121=\"\",T30,T30-100))","v":""},"",{"$f":"IF($R30=\"\",\"\",(VLOOKUP($V$41,Worksheet!$A$11:$AE$41,V30+1,FALSE)))","v":""},{"$f":"IF('Entry Information'!$H121=\"\",\"\",'ADVANCED RESULTS'!X31)","v":""},{"$f":"IF('Entry Information'!$H121=\"\",\"\",IF('ADVANCED RESULTS'!Y31=\"\",\"\",'ADVANCED RESULTS'!Y31))","v":""},"",{"$f":"IF('Entry Information'!$H121=\"\",\"\",IF('Entry Information'!X121=\"\",Z30,Z30-100))","v":""},"",{"$f":"IF($X30=\"\",\"\",(VLOOKUP($AB$41,Worksheet!$A$11:$AE$41,AB30+1,FALSE)))","v":""},{"$f":"IF('Entry Information'!$H121=\"\",\"\",'ADVANCED RESULTS'!AD31)","v":""},{"$f":"IF('Entry Information'!$H121=\"\",\"\",IF('ADVANCED RESULTS'!AE31=\"\",\"\",'ADVANCED RESULTS'!AE31))","v":""},"",{"$f":"IF('Entry Information'!$H121=\"\",\"\",IF('Entry Information'!Z121=\"\",AF30,AF30-100))","v":""},"",{"$f":"IF($AD30=\"\",\"\",(VLOOKUP($AH$41,Worksheet!$A$11:$AE$41,AH30+1,FALSE)))","v":""}]
[{"$f":"IF('Entry Information'!H122=\"\",\"\",'Entry Information'!B122)","v":""},{"$f":"IF('Entry Information'!H122=\"\",\"\",'Entry Information'!C122)","v":""},{"$f":"IF('Entry Information'!H122=\"\",\"\",'Entry Information'!D122)","v":""},{"$f":"IF('Entry Information'!H122=\"\",\"\",'Entry Information'!E122)","v":""},"ADV",{"$f":"IF('Entry Information'!$H122=\"\",\"\",'ADVANCED RESULTS'!F32)","v":""},{"$f":"IF('Entry Information'!$H122=\"\",\"\",IF('ADVANCED RESULTS'!G32=\"\",\"\",'ADVANCED RESULTS'!G32))","v":""},"",{"$f":"IF('Entry Information'!$H122=\"\",\"\",IF('Entry Information'!R122=\"\",H31,H31-100))","v":""},"",{"$f":"IF($F31=\"\",\"\",(VLOOKUP($J$41,Worksheet!$A$11:$AE$41,J31+1,FALSE)))","v":""},{"$f":"IF('Entry Information'!$H122=\"\",\"\",'ADVANCED RESULTS'!L32)","v":""},{"$f":"IF('Entry Information'!$H122=\"\",\"\",IF('ADVANCED RESULTS'!M32=\"\",\"\",'ADVANCED RESULTS'!M32))","v":""},"",{"$f":"IF('Entry Information'!$H122=\"\",\"\",IF('Entry Information'!T122=\"\",N31,N31-100))","v":""},"",{"$f":"IF($L31=\"\",\"\",(VLOOKUP($P$41,Worksheet!$A$11:$AE$41,P31+1,FALSE)))","v":""},{"$f":"IF('Entry Information'!$H122=\"\",\"\",'ADVANCED RESULTS'!R32)","v":""},{"$f":"IF('Entry Information'!$H122=\"\",\"\",IF('ADVANCED RESULTS'!S32=\"\",\"\",'ADVANCED RESULTS'!S32))","v":""},"",{"$f":"IF('Entry Information'!$H122=\"\",\"\",IF('Entry Information'!V122=\"\",T31,T31-100))","v":""},"",{"$f":"IF($R31=\"\",\"\",(VLOOKUP($V$41,Worksheet!$A$11:$AE$41,V31+1,FALSE)))","v":""},{"$f":"IF('Entry Information'!$H122=\"\",\"\",'ADVANCED RESULTS'!X32)","v":""},{"$f":"IF('Entry Information'!$H122=\"\",\"\",IF('ADVANCED RESULTS'!Y32=\"\",\"\",'ADVANCED RESULTS'!Y32))","v":""},"",{"$f":"IF('Entry Information'!$H122=\"\",\"\",IF('Entry Information'!X122=\"\",Z31,Z31-100))","v":""},"",{"$f":"IF($X31=\"\",\"\",(VLOOKUP($AB$41,Worksheet!$A$11:$AE$41,AB31+1,FALSE)))","v":""},{"$f":"IF('Entry Information'!$H122=\"\",\"\",'ADVANCED RESULTS'!AD32)","v":""},{"$f":"IF('Entry Information'!$H122=\"\",\"\",IF('ADVANCED RESULTS'!AE32=\"\",\"\",'ADVANCED RESULTS'!AE32))","v":""},"",{"$f":"IF('Entry Information'!$H122=\"\",\"\",IF('Entry Information'!Z122=\"\",AF31,AF31-100))","v":""},"",{"$f":"IF($AD31=\"\",\"\",(VLOOKUP($AH$41,Worksheet!$A$11:$AE$41,AH31+1,FALSE)))","v":""}]
[{"$f":"IF('Entry Information'!H123=\"\",\"\",'Entry Information'!B123)","v":""},{"$f":"IF('Entry Information'!H123=\"\",\"\",'Entry Information'!C123)","v":""},{"$f":"IF('Entry Information'!H123=\"\",\"\",'Entry Information'!D123)","v":""},{"$f":"IF('Entry Information'!H123=\"\",\"\",'Entry Information'!E123)","v":""},"ADV",{"$f":"IF('Entry Information'!$H123=\"\",\"\",'ADVANCED RESULTS'!F33)","v":""},{"$f":"IF('Entry Information'!$H123=\"\",\"\",IF('ADVANCED RESULTS'!G33=\"\",\"\",'ADVANCED RESULTS'!G33))","v":""},"",{"$f":"IF('Entry Information'!$H123=\"\",\"\",IF('Entry Information'!R123=\"\",H32,H32-100))","v":""},"",{"$f":"IF($F32=\"\",\"\",(VLOOKUP($J$41,Worksheet!$A$11:$AE$41,J32+1,FALSE)))","v":""},{"$f":"IF('Entry Information'!$H123=\"\",\"\",'ADVANCED RESULTS'!L33)","v":""},{"$f":"IF('Entry Information'!$H123=\"\",\"\",IF('ADVANCED RESULTS'!M33=\"\",\"\",'ADVANCED RESULTS'!M33))","v":""},"",{"$f":"IF('Entry Information'!$H123=\"\",\"\",IF('Entry Information'!T123=\"\",N32,N32-100))","v":""},"",{"$f":"IF($L32=\"\",\"\",(VLOOKUP($P$41,Worksheet!$A$11:$AE$41,P32+1,FALSE)))","v":""},{"$f":"IF('Entry Information'!$H123=\"\",\"\",'ADVANCED RESULTS'!R33)","v":""},{"$f":"IF('Entry Information'!$H123=\"\",\"\",IF('ADVANCED RESULTS'!S33=\"\",\"\",'ADVANCED RESULTS'!S33))","v":""},"",{"$f":"IF('Entry Information'!$H123=\"\",\"\",IF('Entry Information'!V123=\"\",T32,T32-100))","v":""},"",{"$f":"IF($R32=\"\",\"\",(VLOOKUP($V$41,Worksheet!$A$11:$AE$41,V32+1,FALSE)))","v":""},{"$f":"IF('Entry Information'!$H123=\"\",\"\",'ADVANCED RESULTS'!X33)","v":""},{"$f":"IF('Entry Information'!$H123=\"\",\"\",IF('ADVANCED RESULTS'!Y33=\"\",\"\",'ADVANCED RESULTS'!Y33))","v":""},"",{"$f":"IF('Entry Information'!$H123=\"\",\"\",IF('Entry Information'!X123=\"\",Z32,Z32-100))","v":""},"",{"$f":"IF($X32=\"\",\"\",(VLOOKUP($AB$41,Worksheet!$A$11:$AE$41,AB32+1,FALSE)))","v":""},{"$f":"IF('Entry Information'!$H123=\"\",\"\",'ADVANCED RESULTS'!AD33)","v":""},{"$f":"IF('Entry Information'!$H123=\"\",\"\",IF('ADVANCED RESULTS'!AE33=\"\",\"\",'ADVANCED RESULTS'!AE33))","v":""},"",{"$f":"IF('Entry Information'!$H123=\"\",\"\",IF('Entry Information'!Z123=\"\",AF32,AF32-100))","v":""},"",{"$f":"IF($AD32=\"\",\"\",(VLOOKUP($AH$41,Worksheet!$A$11:$AE$41,AH32+1,FALSE)))","v":""}]
[{"$f":"IF('Entry Information'!H124=\"\",\"\",'Entry Information'!B124)","v":""},{"$f":"IF('Entry Information'!H124=\"\",\"\",'Entry Information'!C124)","v":""},{"$f":"IF('Entry Information'!H124=\"\",\"\",'Entry Information'!D124)","v":""},{"$f":"IF('Entry Information'!H124=\"\",\"\",'Entry Information'!E124)","v":""},"ADV",{"$f":"IF('Entry Information'!$H124=\"\",\"\",'ADVANCED RESULTS'!F34)","v":""},{"$f":"IF('Entry Information'!$H124=\"\",\"\",IF('ADVANCED RESULTS'!G34=\"\",\"\",'ADVANCED RESULTS'!G34))","v":""},"",{"$f":"IF('Entry Information'!$H124=\"\",\"\",IF('Entry Information'!R124=\"\",H33,H33-100))","v":""},"",{"$f":"IF($F33=\"\",\"\",(VLOOKUP($J$41,Worksheet!$A$11:$AE$41,J33+1,FALSE)))","v":""},{"$f":"IF('Entry Information'!$H124=\"\",\"\",'ADVANCED RESULTS'!L34)","v":""},{"$f":"IF('Entry Information'!$H124=\"\",\"\",IF('ADVANCED RESULTS'!M34=\"\",\"\",'ADVANCED RESULTS'!M34))","v":""},"",{"$f":"IF('Entry Information'!$H124=\"\",\"\",IF('Entry Information'!T124=\"\",N33,N33-100))","v":""},"",{"$f":"IF($L33=\"\",\"\",(VLOOKUP($P$41,Worksheet!$A$11:$AE$41,P33+1,FALSE)))","v":""},{"$f":"IF('Entry Information'!$H124=\"\",\"\",'ADVANCED RESULTS'!R34)","v":""},{"$f":"IF('Entry Information'!$H124=\"\",\"\",IF('ADVANCED RESULTS'!S34=\"\",\"\",'ADVANCED RESULTS'!S34))","v":""},"",{"$f":"IF('Entry Information'!$H124=\"\",\"\",IF('Entry Information'!V124=\"\",T33,T33-100))","v":""},"",{"$f":"IF($R33=\"\",\"\",(VLOOKUP($V$41,Worksheet!$A$11:$AE$41,V33+1,FALSE)))","v":""},{"$f":"IF('Entry Information'!$H124=\"\",\"\",'ADVANCED RESULTS'!X34)","v":""},{"$f":"IF('Entry Information'!$H124=\"\",\"\",IF('ADVANCED RESULTS'!Y34=\"\",\"\",'ADVANCED RESULTS'!Y34))","v":""},"",{"$f":"IF('Entry Information'!$H124=\"\",\"\",IF('Entry Information'!X124=\"\",Z33,Z33-100))","v":""},"",{"$f":"IF($X33=\"\",\"\",(VLOOKUP($AB$41,Worksheet!$A$11:$AE$41,AB33+1,FALSE)))","v":""},{"$f":"IF('Entry Information'!$H124=\"\",\"\",'ADVANCED RESULTS'!AD34)","v":""},{"$f":"IF('Entry Information'!$H124=\"\",\"\",IF('ADVANCED RESULTS'!AE34=\"\",\"\",'ADVANCED RESULTS'!AE34))","v":""},"",{"$f":"IF('Entry Information'!$H124=\"\",\"\",IF('Entry Information'!Z124=\"\",AF33,AF33-100))","v":""},"",{"$f":"IF($AD33=\"\",\"\",(VLOOKUP($AH$41,Worksheet!$A$11:$AE$41,AH33+1,FALSE)))","v":""}]
[{"$f":"IF('Entry Information'!H125=\"\",\"\",'Entry Information'!B125)","v":""},{"$f":"IF('Entry Information'!H125=\"\",\"\",'Entry Information'!C125)","v":""},{"$f":"IF('Entry Information'!H125=\"\",\"\",'Entry Information'!D125)","v":""},{"$f":"IF('Entry Information'!H125=\"\",\"\",'Entry Information'!E125)","v":""},"ADV",{"$f":"IF('Entry Information'!$H125=\"\",\"\",'ADVANCED RESULTS'!F35)","v":""},{"$f":"IF('Entry Information'!$H125=\"\",\"\",IF('ADVANCED RESULTS'!G35=\"\",\"\",'ADVANCED RESULTS'!G35))","v":""},"",{"$f":"IF('Entry Information'!$H125=\"\",\"\",IF('Entry Information'!R125=\"\",H34,H34-100))","v":""},"",{"$f":"IF($F34=\"\",\"\",(VLOOKUP($J$41,Worksheet!$A$11:$AE$41,J34+1,FALSE)))","v":""},{"$f":"IF('Entry Information'!$H125=\"\",\"\",'ADVANCED RESULTS'!L35)","v":""},{"$f":"IF('Entry Information'!$H125=\"\",\"\",IF('ADVANCED RESULTS'!M35=\"\",\"\",'ADVANCED RESULTS'!M35))","v":""},"",{"$f":"IF('Entry Information'!$H125=\"\",\"\",IF('Entry Information'!T125=\"\",N34,N34-100))","v":""},"",{"$f":"IF($L34=\"\",\"\",(VLOOKUP($P$41,Worksheet!$A$11:$AE$41,P34+1,FALSE)))","v":""},{"$f":"IF('Entry Information'!$H125=\"\",\"\",'ADVANCED RESULTS'!R35)","v":""},{"$f":"IF('Entry Information'!$H125=\"\",\"\",IF('ADVANCED RESULTS'!S35=\"\",\"\",'ADVANCED RESULTS'!S35))","v":""},"",{"$f":"IF('Entry Information'!$H125=\"\",\"\",IF('Entry Information'!V125=\"\",T34,T34-100))","v":""},"",{"$f":"IF($R34=\"\",\"\",(VLOOKUP($V$41,Worksheet!$A$11:$AE$41,V34+1,FALSE)))","v":""},{"$f":"IF('Entry Information'!$H125=\"\",\"\",'ADVANCED RESULTS'!X35)","v":""},{"$f":"IF('Entry Information'!$H125=\"\",\"\",IF('ADVANCED RESULTS'!Y35=\"\",\"\",'ADVANCED RESULTS'!Y35))","v":""},"",{"$f":"IF('Entry Information'!$H125=\"\",\"\",IF('Entry Information'!X125=\"\",Z34,Z34-100))","v":""},"",{"$f":"IF($X34=\"\",\"\",(VLOOKUP($AB$41,Worksheet!$A$11:$AE$41,AB34+1,FALSE)))","v":""},{"$f":"IF('Entry Information'!$H125=\"\",\"\",'ADVANCED RESULTS'!AD35)","v":""},{"$f":"IF('Entry Information'!$H125=\"\",\"\",IF('ADVANCED RESULTS'!AE35=\"\",\"\",'ADVANCED RESULTS'!AE35))","v":""},"",{"$f":"IF('Entry Information'!$H125=\"\",\"\",IF('Entry Information'!Z125=\"\",AF34,AF34-100))","v":""},"",{"$f":"IF($AD34=\"\",\"\",(VLOOKUP($AH$41,Worksheet!$A$11:$AE$41,AH34+1,FALSE)))","v":""}]
[{"$f":"IF('Entry Information'!H126=\"\",\"\",'Entry Information'!B126)","v":""},{"$f":"IF('Entry Information'!H126=\"\",\"\",'Entry Information'!C126)","v":""},{"$f":"IF('Entry Information'!H126=\"\",\"\",'Entry Information'!D126)","v":""},{"$f":"IF('Entry Information'!H126=\"\",\"\",'Entry Information'!E126)","v":""},"ADV",{"$f":"IF('Entry Information'!$H126=\"\",\"\",'ADVANCED RESULTS'!F36)","v":""},{"$f":"IF('Entry Information'!$H126=\"\",\"\",IF('ADVANCED RESULTS'!G36=\"\",\"\",'ADVANCED RESULTS'!G36))","v":""},"",{"$f":"IF('Entry Information'!$H126=\"\",\"\",IF('Entry Information'!R126=\"\",H35,H35-100))","v":""},"",{"$f":"IF($F35=\"\",\"\",(VLOOKUP($J$41,Worksheet!$A$11:$AE$41,J35+1,FALSE)))","v":""},{"$f":"IF('Entry Information'!$H126=\"\",\"\",'ADVANCED RESULTS'!L36)","v":""},{"$f":"IF('Entry Information'!$H126=\"\",\"\",IF('ADVANCED RESULTS'!M36=\"\",\"\",'ADVANCED RESULTS'!M36))","v":""},"",{"$f":"IF('Entry Information'!$H126=\"\",\"\",IF('Entry Information'!T126=\"\",N35,N35-100))","v":""},"",{"$f":"IF($L35=\"\",\"\",(VLOOKUP($P$41,Worksheet!$A$11:$AE$41,P35+1,FALSE)))","v":""},{"$f":"IF('Entry Information'!$H126=\"\",\"\",'ADVANCED RESULTS'!R36)","v":""},{"$f":"IF('Entry Information'!$H126=\"\",\"\",IF('ADVANCED RESULTS'!S36=\"\",\"\",'ADVANCED RESULTS'!S36))","v":""},"",{"$f":"IF('Entry Information'!$H126=\"\",\"\",IF('Entry Information'!V126=\"\",T35,T35-100))","v":""},"",{"$f":"IF($R35=\"\",\"\",(VLOOKUP($V$41,Worksheet!$A$11:$AE$41,V35+1,FALSE)))","v":""},{"$f":"IF('Entry Information'!$H126=\"\",\"\",'ADVANCED RESULTS'!X36)","v":""},{"$f":"IF('Entry Information'!$H126=\"\",\"\",IF('ADVANCED RESULTS'!Y36=\"\",\"\",'ADVANCED RESULTS'!Y36))","v":""},"",{"$f":"IF('Entry Information'!$H126=\"\",\"\",IF('Entry Information'!X126=\"\",Z35,Z35-100))","v":""},"",{"$f":"IF($X35=\"\",\"\",(VLOOKUP($AB$41,Worksheet!$A$11:$AE$41,AB35+1,FALSE)))","v":""},{"$f":"IF('Entry Information'!$H126=\"\",\"\",'ADVANCED RESULTS'!AD36)","v":""},{"$f":"IF('Entry Information'!$H126=\"\",\"\",IF('ADVANCED RESULTS'!AE36=\"\",\"\",'ADVANCED RESULTS'!AE36))","v":""},"",{"$f":"IF('Entry Information'!$H126=\"\",\"\",IF('Entry Information'!Z126=\"\",AF35,AF35-100))","v":""},"",{"$f":"IF($AD35=\"\",\"\",(VLOOKUP($AH$41,Worksheet!$A$11:$AE$41,AH35+1,FALSE)))","v":""}]
[{"$f":"IF('Entry Information'!H127=\"\",\"\",'Entry Information'!B127)","v":""},{"$f":"IF('Entry Information'!H127=\"\",\"\",'Entry Information'!C127)","v":""},{"$f":"IF('Entry Information'!H127=\"\",\"\",'Entry Information'!D127)","v":""},{"$f":"IF('Entry Information'!H127=\"\",\"\",'Entry Information'!E127)","v":""},"ADV",{"$f":"IF('Entry Information'!$H127=\"\",\"\",'ADVANCED RESULTS'!F37)","v":""},{"$f":"IF('Entry Information'!$H127=\"\",\"\",IF('ADVANCED RESULTS'!G37=\"\",\"\",'ADVANCED RESULTS'!G37))","v":""},"",{"$f":"IF('Entry Information'!$H127=\"\",\"\",IF('Entry Information'!R127=\"\",H36,H36-100))","v":""},"",{"$f":"IF($F36=\"\",\"\",(VLOOKUP($J$41,Worksheet!$A$11:$AE$41,J36+1,FALSE)))","v":""},{"$f":"IF('Entry Information'!$H127=\"\",\"\",'ADVANCED RESULTS'!L37)","v":""},{"$f":"IF('Entry Information'!$H127=\"\",\"\",IF('ADVANCED RESULTS'!M37=\"\",\"\",'ADVANCED RESULTS'!M37))","v":""},"",{"$f":"IF('Entry Information'!$H127=\"\",\"\",IF('Entry Information'!T127=\"\",N36,N36-100))","v":""},"",{"$f":"IF($L36=\"\",\"\",(VLOOKUP($P$41,Worksheet!$A$11:$AE$41,P36+1,FALSE)))","v":""},{"$f":"IF('Entry Information'!$H127=\"\",\"\",'ADVANCED RESULTS'!R37)","v":""},{"$f":"IF('Entry Information'!$H127=\"\",\"\",IF('ADVANCED RESULTS'!S37=\"\",\"\",'ADVANCED RESULTS'!S37))","v":""},"",{"$f":"IF('Entry Information'!$H127=\"\",\"\",IF('Entry Information'!V127=\"\",T36,T36-100))","v":""},"",{"$f":"IF($R36=\"\",\"\",(VLOOKUP($V$41,Worksheet!$A$11:$AE$41,V36+1,FALSE)))","v":""},{"$f":"IF('Entry Information'!$H127=\"\",\"\",'ADVANCED RESULTS'!X37)","v":""},{"$f":"IF('Entry Information'!$H127=\"\",\"\",IF('ADVANCED RESULTS'!Y37=\"\",\"\",'ADVANCED RESULTS'!Y37))","v":""},"",{"$f":"IF('Entry Information'!$H127=\"\",\"\",IF('Entry Information'!X127=\"\",Z36,Z36-100))","v":""},"",{"$f":"IF($X36=\"\",\"\",(VLOOKUP($AB$41,Worksheet!$A$11:$AE$41,AB36+1,FALSE)))","v":""},{"$f":"IF('Entry Information'!$H127=\"\",\"\",'ADVANCED RESULTS'!AD37)","v":""},{"$f":"IF('Entry Information'!$H127=\"\",\"\",IF('ADVANCED RESULTS'!AE37=\"\",\"\",'ADVANCED RESULTS'!AE37))","v":""},"",{"$f":"IF('Entry Information'!$H127=\"\",\"\",IF('Entry Information'!Z127=\"\",AF36,AF36-100))","v":""},"",{"$f":"IF($AD36=\"\",\"\",(VLOOKUP($AH$41,Worksheet!$A$11:$AE$41,AH36+1,FALSE)))","v":""}]
[{"$f":"IF('Entry Information'!H128=\"\",\"\",'Entry Information'!B128)","v":""},{"$f":"IF('Entry Information'!H128=\"\",\"\",'Entry Information'!C128)","v":""},{"$f":"IF('Entry Information'!H128=\"\",\"\",'Entry Information'!D128)","v":""},{"$f":"IF('Entry Information'!H128=\"\",\"\",'Entry Information'!E128)","v":""},"ADV",{"$f":"IF('Entry Information'!$H128=\"\",\"\",'ADVANCED RESULTS'!F38)","v":""},{"$f":"IF('Entry Information'!$H128=\"\",\"\",IF('ADVANCED RESULTS'!G38=\"\",\"\",'ADVANCED RESULTS'!G38))","v":""},"",{"$f":"IF('Entry Information'!$H128=\"\",\"\",IF('Entry Information'!R128=\"\",H37,H37-100))","v":""},"",{"$f":"IF($F37=\"\",\"\",(VLOOKUP($J$41,Worksheet!$A$11:$AE$41,J37+1,FALSE)))","v":""},{"$f":"IF('Entry Information'!$H128=\"\",\"\",'ADVANCED RESULTS'!L38)","v":""},{"$f":"IF('Entry Information'!$H128=\"\",\"\",IF('ADVANCED RESULTS'!M38=\"\",\"\",'ADVANCED RESULTS'!M38))","v":""},"",{"$f":"IF('Entry Information'!$H128=\"\",\"\",IF('Entry Information'!T128=\"\",N37,N37-100))","v":""},"",{"$f":"IF($L37=\"\",\"\",(VLOOKUP($P$41,Worksheet!$A$11:$AE$41,P37+1,FALSE)))","v":""},{"$f":"IF('Entry Information'!$H128=\"\",\"\",'ADVANCED RESULTS'!R38)","v":""},{"$f":"IF('Entry Information'!$H128=\"\",\"\",IF('ADVANCED RESULTS'!S38=\"\",\"\",'ADVANCED RESULTS'!S38))","v":""},"",{"$f":"IF('Entry Information'!$H128=\"\",\"\",IF('Entry Information'!V128=\"\",T37,T37-100))","v":""},"",{"$f":"IF($R37=\"\",\"\",(VLOOKUP($V$41,Worksheet!$A$11:$AE$41,V37+1,FALSE)))","v":""},{"$f":"IF('Entry Information'!$H128=\"\",\"\",'ADVANCED RESULTS'!X38)","v":""},{"$f":"IF('Entry Information'!$H128=\"\",\"\",IF('ADVANCED RESULTS'!Y38=\"\",\"\",'ADVANCED RESULTS'!Y38))","v":""},"",{"$f":"IF('Entry Information'!$H128=\"\",\"\",IF('Entry Information'!X128=\"\",Z37,Z37-100))","v":""},"",{"$f":"IF($X37=\"\",\"\",(VLOOKUP($AB$41,Worksheet!$A$11:$AE$41,AB37+1,FALSE)))","v":""},{"$f":"IF('Entry Information'!$H128=\"\",\"\",'ADVANCED RESULTS'!AD38)","v":""},{"$f":"IF('Entry Information'!$H128=\"\",\"\",IF('ADVANCED RESULTS'!AE38=\"\",\"\",'ADVANCED RESULTS'!AE38))","v":""},"",{"$f":"IF('Entry Information'!$H128=\"\",\"\",IF('Entry Information'!Z128=\"\",AF37,AF37-100))","v":""},"",{"$f":"IF($AD37=\"\",\"\",(VLOOKUP($AH$41,Worksheet!$A$11:$AE$41,AH37+1,FALSE)))","v":""}]
[{"$f":"IF('Entry Information'!H129=\"\",\"\",'Entry Information'!B129)","v":""},{"$f":"IF('Entry Information'!H129=\"\",\"\",'Entry Information'!C129)","v":""},{"$f":"IF('Entry Information'!H129=\"\",\"\",'Entry Information'!D129)","v":""},{"$f":"IF('Entry Information'!H129=\"\",\"\",'Entry Information'!E129)","v":""},"ADV",{"$f":"IF('Entry Information'!$H129=\"\",\"\",'ADVANCED RESULTS'!F39)","v":""},{"$f":"IF('Entry Information'!$H129=\"\",\"\",IF('ADVANCED RESULTS'!G39=\"\",\"\",'ADVANCED RESULTS'!G39))","v":""},"",{"$f":"IF('Entry Information'!$H129=\"\",\"\",IF('Entry Information'!R129=\"\",H38,H38-100))","v":""},"",{"$f":"IF($F38=\"\",\"\",(VLOOKUP($J$41,Worksheet!$A$11:$AE$41,J38+1,FALSE)))","v":""},{"$f":"IF('Entry Information'!$H129=\"\",\"\",'ADVANCED RESULTS'!L39)","v":""},{"$f":"IF('Entry Information'!$H129=\"\",\"\",IF('ADVANCED RESULTS'!M39=\"\",\"\",'ADVANCED RESULTS'!M39))","v":""},"",{"$f":"IF('Entry Information'!$H129=\"\",\"\",IF('Entry Information'!T129=\"\",N38,N38-100))","v":""},"",{"$f":"IF($L38=\"\",\"\",(VLOOKUP($P$41,Worksheet!$A$11:$AE$41,P38+1,FALSE)))","v":""},{"$f":"IF('Entry Information'!$H129=\"\",\"\",'ADVANCED RESULTS'!R39)","v":""},{"$f":"IF('Entry Information'!$H129=\"\",\"\",IF('ADVANCED RESULTS'!S39=\"\",\"\",'ADVANCED RESULTS'!S39))","v":""},"",{"$f":"IF('Entry Information'!$H129=\"\",\"\",IF('Entry Information'!V129=\"\",T38,T38-100))","v":""},"",{"$f":"IF($R38=\"\",\"\",(VLOOKUP($V$41,Worksheet!$A$11:$AE$41,V38+1,FALSE)))","v":""},{"$f":"IF('Entry Information'!$H129=\"\",\"\",'ADVANCED RESULTS'!X39)","v":""},{"$f":"IF('Entry Information'!$H129=\"\",\"\",IF('ADVANCED RESULTS'!Y39=\"\",\"\",'ADVANCED RESULTS'!Y39))","v":""},"",{"$f":"IF('Entry Information'!$H129=\"\",\"\",IF('Entry Information'!X129=\"\",Z38,Z38-100))","v":""},"",{"$f":"IF($X38=\"\",\"\",(VLOOKUP($AB$41,Worksheet!$A$11:$AE$41,AB38+1,FALSE)))","v":""},{"$f":"IF('Entry Information'!$H129=\"\",\"\",'ADVANCED RESULTS'!AD39)","v":""},{"$f":"IF('Entry Information'!$H129=\"\",\"\",IF('ADVANCED RESULTS'!AE39=\"\",\"\",'ADVANCED RESULTS'!AE39))","v":""},"",{"$f":"IF('Entry Information'!$H129=\"\",\"\",IF('Entry Information'!Z129=\"\",AF38,AF38-100))","v":""},"",{"$f":"IF($AD38=\"\",\"\",(VLOOKUP($AH$41,Worksheet!$A$11:$AE$41,AH38+1,FALSE)))","v":""}]
[{"$f":"IF('Entry Information'!H130=\"\",\"\",'Entry Information'!B130)","v":""},{"$f":"IF('Entry Information'!H130=\"\",\"\",'Entry Information'!C130)","v":""},{"$f":"IF('Entry Information'!H130=\"\",\"\",'Entry Information'!D130)","v":""},{"$f":"IF('Entry Information'!H130=\"\",\"\",'Entry Information'!E130)","v":""},"ADV",{"$f":"IF('Entry Information'!$H130=\"\",\"\",'ADVANCED RESULTS'!F40)","v":""},{"$f":"IF('Entry Information'!$H130=\"\",\"\",IF('ADVANCED RESULTS'!G40=\"\",\"\",'ADVANCED RESULTS'!G40))","v":""},"",{"$f":"IF('Entry Information'!$H130=\"\",\"\",IF('Entry Information'!R130=\"\",H39,H39-100))","v":""},"",{"$f":"IF($F39=\"\",\"\",(VLOOKUP($J$41,Worksheet!$A$11:$AE$41,J39+1,FALSE)))","v":""},{"$f":"IF('Entry Information'!$H130=\"\",\"\",'ADVANCED RESULTS'!L40)","v":""},{"$f":"IF('Entry Information'!$H130=\"\",\"\",IF('ADVANCED RESULTS'!M40=\"\",\"\",'ADVANCED RESULTS'!M40))","v":""},"",{"$f":"IF('Entry Information'!$H130=\"\",\"\",IF('Entry Information'!T130=\"\",N39,N39-100))","v":""},"",{"$f":"IF($L39=\"\",\"\",(VLOOKUP($P$41,Worksheet!$A$11:$AE$41,P39+1,FALSE)))","v":""},{"$f":"IF('Entry Information'!$H130=\"\",\"\",'ADVANCED RESULTS'!R40)","v":""},{"$f":"IF('Entry Information'!$H130=\"\",\"\",IF('ADVANCED RESULTS'!S40=\"\",\"\",'ADVANCED RESULTS'!S40))","v":""},"",{"$f":"IF('Entry Information'!$H130=\"\",\"\",IF('Entry Information'!V130=\"\",T39,T39-100))","v":""},"",{"$f":"IF($R39=\"\",\"\",(VLOOKUP($V$41,Worksheet!$A$11:$AE$41,V39+1,FALSE)))","v":""},{"$f":"IF('Entry Information'!$H130=\"\",\"\",'ADVANCED RESULTS'!X40)","v":""},{"$f":"IF('Entry Information'!$H130=\"\",\"\",IF('ADVANCED RESULTS'!Y40=\"\",\"\",'ADVANCED RESULTS'!Y40))","v":""},"",{"$f":"IF('Entry Information'!$H130=\"\",\"\",IF('Entry Information'!X130=\"\",Z39,Z39-100))","v":""},"",{"$f":"IF($X39=\"\",\"\",(VLOOKUP($AB$41,Worksheet!$A$11:$AE$41,AB39+1,FALSE)))","v":""},{"$f":"IF('Entry Information'!$H130=\"\",\"\",'ADVANCED RESULTS'!AD40)","v":""},{"$f":"IF('Entry Information'!$H130=\"\",\"\",IF('ADVANCED RESULTS'!AE40=\"\",\"\",'ADVANCED RESULTS'!AE40))","v":""},"",{"$f":"IF('Entry Information'!$H130=\"\",\"\",IF('Entry Information'!Z130=\"\",AF39,AF39-100))","v":""},"",{"$f":"IF($AD39=\"\",\"\",(VLOOKUP($AH$41,Worksheet!$A$11:$AE$41,AH39+1,FALSE)))","v":""}]
[]
[null,null,null,null,null,null,null,{"$f":"IF(G41=\"\",F41,(F41+(G41*0.001)))","v":0},null,{"$f":"COUNTIF(J10:J39,\">=0\")","v":0},null,null,null,null,null,{"$f":"COUNTIF(P10:P39,\">=0\")","v":0},null,null,null,null,null,{"$f":"COUNTIF(V10:V39,\">=0\")","v":0},null,null,null,null,null,{"$f":"COUNTIF(AB10:AB39,\">=0\")","v":0},null,null,null,null,null,{"$f":"COUNTIF(AH10:AH39,\">=0\")","v":0}]
[null,null,null,null,null,"1 - Total Penalty Points",null,null,null,null,null,"1 - Total Penalty Points",null,null,null,null,null,"1 Total Penalty Points",null,null,null,null,null,"1 - Total Penalty Points",null,null,null,null,null,"1 - Total Penalty Points"]
[null,null,null,null,null,"2 - Extended Trot",null,null,null,null,null,"2 - Drag Log",null,null,null,null,null,"2 - 1st Cow Working Center of Arena",null,null,null,null,null,"2 - Roping Cow",null,null,null,null,null,"2 - Roping Cow"]
[null,null,null,null,null,"3 - Transition down lope/walk/stop",null,null,null,null,null,"3 - Ground tie/bridle/pick-up leg(s)",null,null,null,null,null,"3 - 1st Cow Cut from Herd",null,null,null,null,null,"3 - Box Cow",null,null,null,null,null,"3 - Box Cow"]
[null,null,null,null,null,"4 - Transition to lope/lope",null,null,null,null,null,"4 - Gate",null,null,null,null,null,"4 -2nd Cow Working Center of Arena",null,null,null,null,null,"4 - First Lead Change",null,null,null,null,null,"4 - First Lead Change"]
[]
[]
["Scores in RED are ties - enter a 1 in the Tie Breaker Column of the winner to break tie.  If multiple ties enter a 1 for the second place and a 2 for winner."]
[]
[]
["Places highlighted have a major penatly."]
[]
["If Entered in \"Jack Pot\" cell to the right of Event All Around with be highlighted"]

{"sheet":"ADVANCED JR HORSE RESULTS","index":18,"n_rows":53,"n_cols":35,"rows_kept":53,"cut":false,"hidden":true,"merged":[[2,18,2,22],[2,23,2,28],[2,29,2,34],[1,0,1,2],[1,4,1,5],[1,9,1,16],[1,18,1,22],[1,23,1,28],[1,29,1,34],[2,1,2,2],[2,4,2,5],[2,9,2,11],[4,5,4,10],[4,11,4,16],[4,17,4,22],[4,23,4,28],[6,11,8,11],[6,12,8,12],[6,13,8,13],[6,26,8,26],[6,27,8,27],[6,28,8,28],[6,21,8,21],[6,15,8,15],[6,7,8,7],[6,8,8,8],[6,9,8,9],[6,10,8,10],[4,29,4,34],[6,32,8,32],[6,17,8,17],[6,18,8,18],[6,19,8,19],[6,20,8,20],[6,24,8,24],[6,25,8,25],[6,33,8,33],[6,34,8,34],[6,23,8,23],[5,5,5,10],[5,11,5,16],[5,17,5,22],[5,23,5,28],[5,29,5,34],[47,0,48,4],[6,29,8,29],[6,30,8,30],[6,31,8,31],[6,14,8,14],[6,5,8,5],[6,6,8,6],[6,22,8,22],[6,16,8,16]]}
[]
[null,null,null,null,"Event Name:",null,null,null,null,{"$f":"'Entry Information'!C4","v":"Ranch Horse Challenge"},null,null,null,null,null,null,null,null,"Judge #1 Name/Classes:",null,null,null,null,{"$f":"'Entry Information'!F4","v":"Mike Lund"}]
["Division:","ADVANCED",null,null,"Event Date:",null,null,null,null,{"$f":"'Entry Information'!C5","v":"2018-03-25"},null,null,null,null,null,null,null,null,"Judge #2 Name/Classes:",null,null,null,null,{"$f":"'Entry Information'!F5","v":"Karen Arlin"}]
[]
[null,null,null,null,null,"RANCH",null,null,null,null,null,"RANCH",null,null,null,null,null,"RANCH",null,null,null,null,null,"RANCH",null,null,null,null,null,"RANCH"]
[null,null,null,null,null,"RIDING",null,null,null,null,null,"TRAIL",null,null,null,null,null,"CUTING",null,null,null,null,null,"REINED WORK",null,null,null,null,null,"COW WORK"]
[null,null,null,null,null,"Score","Tie Breaker","Adjusted Score for Ties","Adjusted Score Major Penalty","Place","Placement Points","Score","Tie Breaker","Adjusted Score for Ties","Adjusted Score Major Penalty","Place","Placement Points","Score","Tie Breaker","Adjusted Score for Ties","Adjusted Score Major Penalty","Place","Placement Points","Score","Tie Breaker","Adjusted Score for Ties","Adjusted Score Major Penalty","Place","Placement Points","Score","Tie Breaker","Adjusted Score for Ties","Adjusted Score Major Penalty","Place","Placement Points"]
[]
["Back No.","Last Name","First Name","Registered Horse Name","Division"]
[{"$f":"IF('Entry Information'!I101=\"\",\"\",'Entry Information'!B101)","v":""},{"$f":"IF('Entry Information'!I101=\"\",\"\",'Entry Information'!C101)","v":""},{"$f":"IF('Entry Information'!I101=\"\",\"\",'Entry Information'!D101)","v":""},{"$f":"IF('Entry Information'!I101=\"\",\"\",'Entry Information'!E101)","v":""},"ADV",{"$f":"IF('Entry Information'!$I101=\"\",\"\",'ADVANCED RESULTS'!F11)","v":""},{"$f":"IF('Entry Information'!$I101=\"\",\"\",IF('ADVANCED RESULTS'!G11=\"\",\"\",'ADVANCED RESULTS'!G11))","v":""},{"$f":"IF(G10=\"\",F10,(F10+(G10*0.001)))","v":""},{"$f":"IF('Entry Information'!$I101=\"\",\"\",IF('Entry Information'!R101=\"\",H10,H10-100))","v":""},{"$f":"IF(I10=\"\",\"\",(RANK(I10,$I$10:$I$39,0)))","v":""},{"$f":"IF($F10=\"\",\"\",(VLOOKUP($J$41,Worksheet!$A$11:$AE$41,J10+1,FALSE)))","v":""},{"$f":"IF('Entry Information'!$I101=\"\",\"\",'ADVANCED RESULTS'!L11)","v":""},{"$f":"IF('Entry Information'!$I101=\"\",\"\",IF('ADVANCED RESULTS'!M11=\"\",\"\",'ADVANCED RESULTS'!M11))","v":""},{"$f":"IF(M10=\"\",L10,(L10+(M10*0.001)))","v":""},{"$f":"IF('Entry Information'!$I101=\"\",\"\",IF('Entry Information'!T101=\"\",N10,N10-100))","v":""},{"$f":"IF(O10=\"\",\"\",(RANK(O10,$O$10:$O$39,0)))","v":""},{"$f":"IF($L10=\"\",\"\",(VLOOKUP($P$41,Worksheet!$A$11:$AE$41,P10+1,FALSE)))","v":""},{"$f":"IF('Entry Information'!$I101=\"\",\"\",'ADVANCED RESULTS'!R11)","v":""},{"$f":"IF('Entry Information'!$I101=\"\",\"\",IF('ADVANCED RESULTS'!S11=\"\",\"\",'ADVANCED RESULTS'!S11))","v":""},{"$f":"IF(S10=\"\",R10,(R10+(S10*0.001)))","v":""},{"$f":"IF('Entry Information'!$I101=\"\",\"\",IF('Entry Information'!V101=\"\",T10,T10-100))","v":""},{"$f":"IF(U10=\"\",\"\",(RANK(U10,$U$10:$U$39,0)))","v":""},{"$f":"IF($R10=\"\",\"\",(VLOOKUP($V$41,Worksheet!$A$11:$AE$41,V10+1,FALSE)))","v":""},{"$f":"IF('Entry Information'!$I101=\"\",\"\",'ADVANCED RESULTS'!X11)","v":""},{"$f":"IF('Entry Information'!$I101=\"\",\"\",IF('ADVANCED RESULTS'!Y11=\"\",\"\",'ADVANCED RESULTS'!Y11))","v":""},{"$f":"IF(Y10=\"\",X10,(X10+(Y10*0.001)))","v":""},{"$f":"IF('Entry Information'!$I101=\"\",\"\",IF('Entry Information'!X101=\"\",Z10,Z10-100))","v":""},{"$f":"IF(AA10=\"\",\"\",(RANK(AA10,$AA$10:$AA$39,0)))","v":""},{"$f":"IF($X10=\"\",\"\",(VLOOKUP($AB$41,Worksheet!$A$11:$AE$41,AB10+1,FALSE)))","v":""},{"$f":"IF('Entry Information'!$I101=\"\",\"\",'ADVANCED RESULTS'!AD11)","v":""},{"$f":"IF('Entry Information'!$I101=\"\",\"\",IF('ADVANCED RESULTS'!AE11=\"\",\"\",'ADVANCED RESULTS'!AE11))","v":""},{"$f":"IF(AE10=\"\",AD10,(AD10+(AE10*0.001)))","v":""},{"$f":"IF('Entry Information'!$I101=\"\",\"\",IF('Entry Information'!Z101=\"\",AF10,AF10-100))","v":""},{"$f":"IF(AG10=\"\",\"\",(RANK(AG10,$AG$10:$AG$39,0)))","v":""},{"$f":"IF($AD10=\"\",\"\",(VLOOKUP($AH$41,Worksheet!$A$11:$AE$41,AH10+1,FALSE)))","v":""}]
[{"$f":"IF('Entry Information'!I102=\"\",\"\",'Entry Information'!B102)","v":""},{"$f":"IF('Entry Information'!I102=\"\",\"\",'Entry Information'!C102)","v":""},{"$f":"IF('Entry Information'!I102=\"\",\"\",'Entry Information'!D102)","v":""},{"$f":"IF('Entry Information'!I102=\"\",\"\",'Entry Information'!E102)","v":""},"ADV",{"$f":"IF('Entry Information'!$I102=\"\",\"\",'ADVANCED RESULTS'!F12)","v":""},{"$f":"IF('Entry Information'!$I102=\"\",\"\",IF('ADVANCED RESULTS'!G12=\"\",\"\",'ADVANCED RESULTS'!G12))","v":""},{"$f":"IF(G11=\"\",F11,(F11+(G11*0.001)))","v":""},{"$f":"IF('Entry Information'!$I102=\"\",\"\",IF('Entry Information'!R102=\"\",H11,H11-100))","v":""},{"$f":"IF(I11=\"\",\"\",(RANK(I11,$I$10:$I$39,0)))","v":""},{"$f":"IF($F11=\"\",\"\",(VLOOKUP($J$41,Worksheet!$A$11:$AE$41,J11+1,FALSE)))","v":""},{"$f":"IF('Entry Information'!$I102=\"\",\"\",'ADVANCED RESULTS'!L12)","v":""},{"$f":"IF('Entry Information'!$I102=\"\",\"\",IF('ADVANCED RESULTS'!M12=\"\",\"\",'ADVANCED RESULTS'!M12))","v":""},"",{"$f":"IF('Entry Information'!$I102=\"\",\"\",IF('Entry Information'!T102=\"\",N11,N11-100))","v":""},{"$f":"IF(O11=\"\",\"\",(RANK(O11,$O$10:$O$39,0)))","v":""},{"$f":"IF($L11=\"\",\"\",(VLOOKUP($P$41,Worksheet!$A$11:$AE$41,P11+1,FALSE)))","v":""},{"$f":"IF('Entry Information'!$I102=\"\",\"\",'ADVANCED RESULTS'!R12)","v":""},{"$f":"IF('Entry Information'!$I102=\"\",\"\",IF('ADVANCED RESULTS'!S12=\"\",\"\",'ADVANCED RESULTS'!S12))","v":""},"",{"$f":"IF('Entry Information'!$I102=\"\",\"\",IF('Entry Information'!V102=\"\",T11,T11-100))","v":""},{"$f":"IF(U11=\"\",\"\",(RANK(U11,$U$10:$U$39,0)))","v":""},{"$f":"IF($R11=\"\",\"\",(VLOOKUP($V$41,Worksheet!$A$11:$AE$41,V11+1,FALSE)))","v":""},{"$f":"IF('Entry Information'!$I102=\"\",\"\",'ADVANCED RESULTS'!X12)","v":""},{"$f":"IF('Entry Information'!$I102=\"\",\"\",IF('ADVANCED RESULTS'!Y12=\"\",\"\",'ADVANCED RESULTS'!Y12))","v":""},{"$f":"IF(Y11=\"\",X11,(X11+(Y11*0.001)))","v":""},{"$f":"IF('Entry Information'!$I102=\"\",\"\",IF('Entry Information'!X102=\"\",Z11,Z11-100))","v":""},{"$f":"IF(AA11=\"\",\"\",(RANK(AA11,$AA$10:$AA$39,0)))","v":""},{"$f":"IF($X11=\"\",\"\",(VLOOKUP($AB$41,Worksheet!$A$11:$AE$41,AB11+1,FALSE)))","v":""},{"$f":"IF('Entry Information'!$I102=\"\",\"\",'ADVANCED RESULTS'!AD12)","v":""},{"$f":"IF('Entry Information'!$I102=\"\",\"\",IF('ADVANCED RESULTS'!AE12=\"\",\"\",'ADVANCED RESULTS'!AE12))","v":""},{"$f":"IF(AE11=\"\",AD11,(AD11+(AE11*0.001)))","v":""},{"$f":"IF('Entry Information'!$I102=\"\",\"\",IF('Entry Information'!Z102=\"\",AF11,AF11-100))","v":""},{"$f":"IF(AG11=\"\",\"\",(RANK(AG11,$AG$10:$AG$39,0)))","v":""},{"$f":"IF($AD11=\"\",\"\",(VLOOKUP($AH$41,Worksheet!$A$11:$AE$41,AH11+1,FALSE)))","v":""}]
[{"$f":"IF('Entry Information'!I103=\"\",\"\",'Entry Information'!B103)","v":""},{"$f":"IF('Entry Information'!I103=\"\",\"\",'Entry Information'!C103)","v":""},{"$f":"IF('Entry Information'!I103=\"\",\"\",'Entry Information'!D103)","v":""},{"$f":"IF('Entry Information'!I103=\"\",\"\",'Entry Information'!E103)","v":""},"ADV",{"$f":"IF('Entry Information'!$I103=\"\",\"\",'ADVANCED RESULTS'!F13)","v":""},{"$f":"IF('Entry Information'!$I103=\"\",\"\",IF('ADVANCED RESULTS'!G13=\"\",\"\",'ADVANCED RESULTS'!G13))","v":""},"",{"$f":"IF('Entry Information'!$I103=\"\",\"\",IF('Entry Information'!R103=\"\",H12,H12-100))","v":""},"",{"$f":"IF($F12=\"\",\"\",(VLOOKUP($J$41,Worksheet!$A$11:$AE$41,J12+1,FALSE)))","v":""},{"$f":"IF('Entry Information'!$I103=\"\",\"\",'ADVANCED RESULTS'!L13)","v":""},{"$f":"IF('Entry Information'!$I103=\"\",\"\",IF('ADVANCED RESULTS'!M13=\"\",\"\",'ADVANCED RESULTS'!M13))","v":""},"",{"$f":"IF('Entry Information'!$I103=\"\",\"\",IF('Entry Information'!T103=\"\",N12,N12-100))","v":""},"",{"$f":"IF($L12=\"\",\"\",(VLOOKUP($P$41,Worksheet!$A$11:$AE$41,P12+1,FALSE)))","v":""},{"$f":"IF('Entry Information'!$I103=\"\",\"\",'ADVANCED RESULTS'!R13)","v":""},{"$f":"IF('Entry Information'!$I103=\"\",\"\",IF('ADVANCED RESULTS'!S13=\"\",\"\",'ADVANCED RESULTS'!S13))","v":""},"",{"$f":"IF('Entry Information'!$I103=\"\",\"\",IF('Entry Information'!V103=\"\",T12,T12-100))","v":""},"",{"$f":"IF($R12=\"\",\"\",(VLOOKUP($V$41,Worksheet!$A$11:$AE$41,V12+1,FALSE)))","v":""},{"$f":"IF('Entry Information'!$I103=\"\",\"\",'ADVANCED RESULTS'!X13)","v":""},{"$f":"IF('Entry Information'!$I103=\"\",\"\",IF('ADVANCED RESULTS'!Y13=\"\",\"\",'ADVANCED RESULTS'!Y13))","v":""},"",{"$f":"IF('Entry Information'!$I103=\"\",\"\",IF('Entry Information'!X103=\"\",Z12,Z12-100))","v":""},"",{"$f":"IF($X12=\"\",\"\",(VLOOKUP($AB$41,Worksheet!$A$11:$AE$41,AB12+1,FALSE)))","v":""},{"$f":"IF('Entry Information'!$I103=\"\",\"\",'ADVANCED RESULTS'!AD13)","v":""},{"$f":"IF('Entry Information'!$I103=\"\",\"\",IF('ADVANCED RESULTS'!AE13=\"\",\"\",'ADVANCED RESULTS'!AE13))","v":""},"",{"$f":"IF('Entry Information'!$I103=\"\",\"\",IF('Entry Information'!Z103=\"\",AF12,AF12-100))","v":""},"",{"$f":"IF($AD12=\"\",\"\",(VLOOKUP($AH$41,Worksheet!$A$11:$AE$41,AH12+1,FALSE)))","v":""}]
[{"$f":"IF('Entry Information'!I104=\"\",\"\",'Entry Information'!B104)","v":""},{"$f":"IF('Entry Information'!I104=\"\",\"\",'Entry Information'!C104)","v":""},{"$f":"IF('Entry Information'!I104=\"\",\"\",'Entry Information'!D104)","v":""},{"$f":"IF('Entry Information'!I104=\"\",\"\",'Entry Information'!E104)","v":""},"ADV",{"$f":"IF('Entry Information'!$I104=\"\",\"\",'ADVANCED RESULTS'!F14)","v":""},{"$f":"IF('Entry Information'!$I104=\"\",\"\",IF('ADVANCED RESULTS'!G14=\"\",\"\",'ADVANCED RESULTS'!G14))","v":""},"",{"$f":"IF('Entry Information'!$I104=\"\",\"\",IF('Entry Information'!R104=\"\",H13,H13-100))","v":""},"",{"$f":"IF($F13=\"\",\"\",(VLOOKUP($J$41,Worksheet!$A$11:$AE$41,J13+1,FALSE)))","v":""},{"$f":"IF('Entry Information'!$I104=\"\",\"\",'ADVANCED RESULTS'!L14)","v":""},{"$f":"IF('Entry Information'!$I104=\"\",\"\",IF('ADVANCED RESULTS'!M14=\"\",\"\",'ADVANCED RESULTS'!M14))","v":""},"",{"$f":"IF('Entry Information'!$I104=\"\",\"\",IF('Entry Information'!T104=\"\",N13,N13-100))","v":""},"",{"$f":"IF($L13=\"\",\"\",(VLOOKUP($P$41,Worksheet!$A$11:$AE$41,P13+1,FALSE)))","v":""},{"$f":"IF('Entry Information'!$I104=\"\",\"\",'ADVANCED RESULTS'!R14)","v":""},{"$f":"IF('Entry Information'!$I104=\"\",\"\",IF('ADVANCED RESULTS'!S14=\"\",\"\",'ADVANCED RESULTS'!S14))","v":""},"",{"$f":"IF('Entry Information'!$I104=\"\",\"\",IF('Entry Information'!V104=\"\",T13,T13-100))","v":""},"",{"$f":"IF($R13=\"\",\"\",(VLOOKUP($V$41,Worksheet!$A$11:$AE$41,V13+1,FALSE)))","v":""},{"$f":"IF('Entry Information'!$I104=\"\",\"\",'ADVANCED RESULTS'!X14)","v":""},{"$f":"IF('Entry Information'!$I104=\"\",\"\",IF('ADVANCED RESULTS'!Y14=\"\",\"\",'ADVANCED RESULTS'!Y14))","v":""},"",{"$f":"IF('Entry Information'!$I104=\"\",\"\",IF('Entry Information'!X104=\"\",Z13,Z13-100))","v":""},"",{"$f":"IF($X13=\"\",\"\",(VLOOKUP($AB$41,Worksheet!$A$11:$AE$41,AB13+1,FALSE)))","v":""},{"$f":"IF('Entry Information'!$I104=\"\",\"\",'ADVANCED RESULTS'!AD14)","v":""},{"$f":"IF('Entry Information'!$I104=\"\",\"\",IF('ADVANCED RESULTS'!AE14=\"\",\"\",'ADVANCED RESULTS'!AE14))","v":""},"",{"$f":"IF('Entry Information'!$I104=\"\",\"\",IF('Entry Information'!Z104=\"\",AF13,AF13-100))","v":""},"",{"$f":"IF($AD13=\"\",\"\",(VLOOKUP($AH$41,Worksheet!$A$11:$AE$41,AH13+1,FALSE)))","v":""}]
[{"$f":"IF('Entry Information'!I105=\"\",\"\",'Entry Information'!B105)","v":""},{"$f":"IF('Entry Information'!I105=\"\",\"\",'Entry Information'!C105)","v":""},{"$f":"IF('Entry Information'!I105=\"\",\"\",'Entry Information'!D105)","v":""},{"$f":"IF('Entry Information'!I105=\"\",\"\",'Entry Information'!E105)","v":""},"ADV",{"$f":"IF('Entry Information'!$I105=\"\",\"\",'ADVANCED RESULTS'!F15)","v":""},{"$f":"IF('Entry Information'!$I105=\"\",\"\",IF('ADVANCED RESULTS'!G15=\"\",\"\",'ADVANCED RESULTS'!G15))","v":""},"",{"$f":"IF('Entry Information'!$I105=\"\",\"\",IF('Entry Information'!R105=\"\",H14,H14-100))","v":""},"",{"$f":"IF($F14=\"\",\"\",(VLOOKUP($J$41,Worksheet!$A$11:$AE$41,J14+1,FALSE)))","v":""},{"$f":"IF('Entry Information'!$I105=\"\",\"\",'ADVANCED RESULTS'!L15)","v":""},{"$f":"IF('Entry Information'!$I105=\"\",\"\",IF('ADVANCED RESULTS'!M15=\"\",\"\",'ADVANCED RESULTS'!M15))","v":""},"",{"$f":"IF('Entry Information'!$I105=\"\",\"\",IF('Entry Information'!T105=\"\",N14,N14-100))","v":""},"",{"$f":"IF($L14=\"\",\"\",(VLOOKUP($P$41,Worksheet!$A$11:$AE$41,P14+1,FALSE)))","v":""},{"$f":"IF('Entry Information'!$I105=\"\",\"\",'ADVANCED RESULTS'!R15)","v":""},{"$f":"IF('Entry Information'!$I105=\"\",\"\",IF('ADVANCED RESULTS'!S15=\"\",\"\",'ADVANCED RESULTS'!S15))","v":""},"",{"$f":"IF('Entry Information'!$I105=\"\",\"\",IF('Entry Information'!V105=\"\",T14,T14-100))","v":""},"",{"$f":"IF($R14=\"\",\"\",(VLOOKUP($V$41,Worksheet!$A$11:$AE$41,V14+1,FALSE)))","v":""},{"$f":"IF('Entry Information'!$I105=\"\",\"\",'ADVANCED RESULTS'!X15)","v":""},{"$f":"IF('Entry Information'!$I105=\"\",\"\",IF('ADVANCED RESULTS'!Y15=\"\",\"\",'ADVANCED RESULTS'!Y15))","v":""},"",{"$f":"IF('Entry Information'!$I105=\"\",\"\",IF('Entry Information'!X105=\"\",Z14,Z14-100))","v":""},"",{"$f":"IF($X14=\"\",\"\",(VLOOKUP($AB$41,Worksheet!$A$11:$AE$41,AB14+1,FALSE)))","v":""},{"$f":"IF('Entry Information'!$I105=\"\",\"\",'ADVANCED RESULTS'!AD15)","v":""},{"$f":"IF('Entry Information'!$I105=\"\",\"\",IF('ADVANCED RESULTS'!AE15=\"\",\"\",'ADVANCED RESULTS'!AE15))","v":""},"",{"$f":"IF('Entry Information'!$I105=\"\",\"\",IF('Entry Information'!Z105=\"\",AF14,AF14-100))","v":""},"",{"$f":"IF($AD14=\"\",\"\",(VLOOKUP($AH$41,Worksheet!$A$11:$AE$41,AH14+1,FALSE)))","v":""}]
[{"$f":"IF('Entry Information'!I106=\"\",\"\",'Entry Information'!B106)","v":""},{"$f":"IF('Entry Information'!I106=\"\",\"\",'Entry Information'!C106)","v":""},{"$f":"IF('Entry Information'!I106=\"\",\"\",'Entry Information'!D106)","v":""},{"$f":"IF('Entry Information'!I106=\"\",\"\",'Entry Information'!E106)","v":""},"ADV",{"$f":"IF('Entry Information'!$I106=\"\",\"\",'ADVANCED RESULTS'!F16)","v":""},{"$f":"IF('Entry Information'!$I106=\"\",\"\",IF('ADVANCED RESULTS'!G16=\"\",\"\",'ADVANCED RESULTS'!G16))","v":""},"",{"$f":"IF('Entry Information'!$I106=\"\",\"\",IF('Entry Information'!R106=\"\",H15,H15-100))","v":""},"",{"$f":"IF($F15=\"\",\"\",(VLOOKUP($J$41,Worksheet!$A$11:$AE$41,J15+1,FALSE)))","v":""},{"$f":"IF('Entry Information'!$I106=\"\",\"\",'ADVANCED RESULTS'!L16)","v":""},{"$f":"IF('Entry Information'!$I106=\"\",\"\",IF('ADVANCED RESULTS'!M16=\"\",\"\",'ADVANCED RESULTS'!M16))","v":""},"",{"$f":"IF('Entry Information'!$I106=\"\",\"\",IF('Entry Information'!T106=\"\",N15,N15-100))","v":""},"",{"$f":"IF($L15=\"\",\"\",(VLOOKUP($P$41,Worksheet!$A$11:$AE$41,P15+1,FALSE)))","v":""},{"$f":"IF('Entry Information'!$I106=\"\",\"\",'ADVANCED RESULTS'!R16)","v":""},{"$f":"IF('Entry Information'!$I106=\"\",\"\",IF('ADVANCED RESULTS'!S16=\"\",\"\",'ADVANCED RESULTS'!S16))","v":""},"",{"$f":"IF('Entry Information'!$I106=\"\",\"\",IF('Entry Information'!V106=\"\",T15,T15-100))","v":""},"",{"$f":"IF($R15=\"\",\"\",(VLOOKUP($V$41,Worksheet!$A$11:$AE$41,V15+1,FALSE)))","v":""},{"$f":"IF('Entry Information'!$I106=\"\",\"\",'ADVANCED RESULTS'!X16)","v":""},{"$f":"IF('Entry Information'!$I106=\"\",\"\",IF('ADVANCED RESULTS'!Y16=\"\",\"\",'ADVANCED RESULTS'!Y16))","v":""},"",{"$f":"IF('Entry Information'!$I106=\"\",\"\",IF('Entry Information'!X106=\"\",Z15,Z15-100))","v":""},"",{"$f":"IF($X15=\"\",\"\",(VLOOKUP($AB$41,Worksheet!$A$11:$AE$41,AB15+1,FALSE)))","v":""},{"$f":"IF('Entry Information'!$I106=\"\",\"\",'ADVANCED RESULTS'!AD16)","v":""},{"$f":"IF('Entry Information'!$I106=\"\",\"\",IF('ADVANCED RESULTS'!AE16=\"\",\"\",'ADVANCED RESULTS'!AE16))","v":""},"",{"$f":"IF('Entry Information'!$I106=\"\",\"\",IF('Entry Information'!Z106=\"\",AF15,AF15-100))","v":""},"",{"$f":"IF($AD15=\"\",\"\",(VLOOKUP($AH$41,Worksheet!$A$11:$AE$41,AH15+1,FALSE)))","v":""}]
[{"$f":"IF('Entry Information'!I107=\"\",\"\",'Entry Information'!B107)","v":""},{"$f":"IF('Entry Information'!I107=\"\",\"\",'Entry Information'!C107)","v":""},{"$f":"IF('Entry Information'!I107=\"\",\"\",'Entry Information'!D107)","v":""},{"$f":"IF('Entry Information'!I107=\"\",\"\",'Entry Information'!E107)","v":""},"ADV",{"$f":"IF('Entry Information'!$I107=\"\",\"\",'ADVANCED RESULTS'!F17)","v":""},{"$f":"IF('Entry Information'!$I107=\"\",\"\",IF('ADVANCED RESULTS'!G17=\"\",\"\",'ADVANCED RESULTS'!G17))","v":""},"",{"$f":"IF('Entry Information'!$I107=\"\",\"\",IF('Entry Information'!R107=\"\",H16,H16-100))","v":""},"",{"$f":"IF($F16=\"\",\"\",(VLOOKUP($J$41,Worksheet!$A$11:$AE$41,J16+1,FALSE)))","v":""},{"$f":"IF('Entry Information'!$I107=\"\",\"\",'ADVANCED RESULTS'!L17)","v":""},{"$f":"IF('Entry Information'!$I107=\"\",\"\",IF('ADVANCED RESULTS'!M17=\"\",\"\",'ADVANCED RESULTS'!M17))","v":""},"",{"$f":"IF('Entry Information'!$I107=\"\",\"\",IF('Entry Information'!T107=\"\",N16,N16-100))","v":""},"",{"$f":"IF($L16=\"\",\"\",(VLOOKUP($P$41,Worksheet!$A$11:$AE$41,P16+1,FALSE)))","v":""},{"$f":"IF('Entry Information'!$I107=\"\",\"\",'ADVANCED RESULTS'!R17)","v":""},{"$f":"IF('Entry Information'!$I107=\"\",\"\",IF('ADVANCED RESULTS'!S17=\"\",\"\",'ADVANCED RESULTS'!S17))","v":""},"",{"$f":"IF('Entry Information'!$I107=\"\",\"\",IF('Entry Information'!V107=\"\",T16,T16-100))","v":""},"",{"$f":"IF($R16=\"\",\"\",(VLOOKUP($V$41,Worksheet!$A$11:$AE$41,V16+1,FALSE)))","v":""},{"$f":"IF('Entry Information'!$I107=\"\",\"\",'ADVANCED RESULTS'!X17)","v":""},{"$f":"IF('Entry Information'!$I107=\"\",\"\",IF('ADVANCED RESULTS'!Y17=\"\",\"\",'ADVANCED RESULTS'!Y17))","v":""},"",{"$f":"IF('Entry Information'!$I107=\"\",\"\",IF('Entry Information'!X107=\"\",Z16,Z16-100))","v":""},"",{"$f":"IF($X16=\"\",\"\",(VLOOKUP($AB$41,Worksheet!$A$11:$AE$41,AB16+1,FALSE)))","v":""},{"$f":"IF('Entry Information'!$I107=\"\",\"\",'ADVANCED RESULTS'!AD17)","v":""},{"$f":"IF('Entry Information'!$I107=\"\",\"\",IF('ADVANCED RESULTS'!AE17=\"\",\"\",'ADVANCED RESULTS'!AE17))","v":""},"",{"$f":"IF('Entry Information'!$I107=\"\",\"\",IF('Entry Information'!Z107=\"\",AF16,AF16-100))","v":""},"",{"$f":"IF($AD16=\"\",\"\",(VLOOKUP($AH$41,Worksheet!$A$11:$AE$41,AH16+1,FALSE)))","v":""}]
[{"$f":"IF('Entry Information'!I108=\"\",\"\",'Entry Information'!B108)","v":""},{"$f":"IF('Entry Information'!I108=\"\",\"\",'Entry Information'!C108)","v":""},{"$f":"IF('Entry Information'!I108=\"\",\"\",'Entry Information'!D108)","v":""},{"$f":"IF('Entry Information'!I108=\"\",\"\",'Entry Information'!E108)","v":""},"ADV",{"$f":"IF('Entry Information'!$I108=\"\",\"\",'ADVANCED RESULTS'!F18)","v":""},{"$f":"IF('Entry Information'!$I108=\"\",\"\",IF('ADVANCED RESULTS'!G18=\"\",\"\",'ADVANCED RESULTS'!G18))","v":""},"",{"$f":"IF('Entry Information'!$I108=\"\",\"\",IF('Entry Information'!R108=\"\",H17,H17-100))","v":""},"",{"$f":"IF($F17=\"\",\"\",(VLOOKUP($J$41,Worksheet!$A$11:$AE$41,J17+1,FALSE)))","v":""},{"$f":"IF('Entry Information'!$I108=\"\",\"\",'ADVANCED RESULTS'!L18)","v":""},{"$f":"IF('Entry Information'!$I108=\"\",\"\",IF('ADVANCED RESULTS'!M18=\"\",\"\",'ADVANCED RESULTS'!M18))","v":""},"",{"$f":"IF('Entry Information'!$I108=\"\",\"\",IF('Entry Information'!T108=\"\",N17,N17-100))","v":""},"",{"$f":"IF($L17=\"\",\"\",(VLOOKUP($P$41,Worksheet!$A$11:$AE$41,P17+1,FALSE)))","v":""},{"$f":"IF('Entry Information'!$I108=\"\",\"\",'ADVANCED RESULTS'!R18)","v":""},{"$f":"IF('Entry Information'!$I108=\"\",\"\",IF('ADVANCED RESULTS'!S18=\"\",\"\",'ADVANCED RESULTS'!S18))","v":""},"",{"$f":"IF('Entry Information'!$I108=\"\",\"\",IF('Entry Information'!V108=\"\",T17,T17-100))","v":""},"",{"$f":"IF($R17=\"\",\"\",(VLOOKUP($V$41,Worksheet!$A$11:$AE$41,V17+1,FALSE)))","v":""},{"$f":"IF('Entry Information'!$I108=\"\",\"\",'ADVANCED RESULTS'!X18)","v":""},{"$f":"IF('Entry Information'!$I108=\"\",\"\",IF('ADVANCED RESULTS'!Y18=\"\",\"\",'ADVANCED RESULTS'!Y18))","v":""},"",{"$f":"IF('Entry Information'!$I108=\"\",\"\",IF('Entry Information'!X108=\"\",Z17,Z17-100))","v":""},"",{"$f":"IF($X17=\"\",\"\",(VLOOKUP($AB$41,Worksheet!$A$11:$AE$41,AB17+1,FALSE)))","v":""},{"$f":"IF('Entry Information'!$I108=\"\",\"\",'ADVANCED RESULTS'!AD18)","v":""},{"$f":"IF('Entry Information'!$I108=\"\",\"\",IF('ADVANCED RESULTS'!AE18=\"\",\"\",'ADVANCED RESULTS'!AE18))","v":""},"",{"$f":"IF('Entry Information'!$I108=\"\",\"\",IF('Entry Information'!Z108=\"\",AF17,AF17-100))","v":""},"",{"$f":"IF($AD17=\"\",\"\",(VLOOKUP($AH$41,Worksheet!$A$11:$AE$41,AH17+1,FALSE)))","v":""}]
[{"$f":"IF('Entry Information'!I109=\"\",\"\",'Entry Information'!B109)","v":""},{"$f":"IF('Entry Information'!I109=\"\",\"\",'Entry Information'!C109)","v":""},{"$f":"IF('Entry Information'!I109=\"\",\"\",'Entry Information'!D109)","v":""},{"$f":"IF('Entry Information'!I109=\"\",\"\",'Entry Information'!E109)","v":""},"ADV",{"$f":"IF('Entry Information'!$I109=\"\",\"\",'ADVANCED RESULTS'!F19)","v":""},{"$f":"IF('Entry Information'!$I109=\"\",\"\",IF('ADVANCED RESULTS'!G19=\"\",\"\",'ADVANCED RESULTS'!G19))","v":""},"",{"$f":"IF('Entry Information'!$I109=\"\",\"\",IF('Entry Information'!R109=\"\",H18,H18-100))","v":""},"",{"$f":"IF($F18=\"\",\"\",(VLOOKUP($J$41,Worksheet!$A$11:$AE$41,J18+1,FALSE)))","v":""},{"$f":"IF('Entry Information'!$I109=\"\",\"\",'ADVANCED RESULTS'!L19)","v":""},{"$f":"IF('Entry Information'!$I109=\"\",\"\",IF('ADVANCED RESULTS'!M19=\"\",\"\",'ADVANCED RESULTS'!M19))","v":""},"",{"$f":"IF('Entry Information'!$I109=\"\",\"\",IF('Entry Information'!T109=\"\",N18,N18-100))","v":""},"",{"$f":"IF($L18=\"\",\"\",(VLOOKUP($P$41,Worksheet!$A$11:$AE$41,P18+1,FALSE)))","v":""},{"$f":"IF('Entry Information'!$I109=\"\",\"\",'ADVANCED RESULTS'!R19)","v":""},{"$f":"IF('Entry Information'!$I109=\"\",\"\",IF('ADVANCED RESULTS'!S19=\"\",\"\",'ADVANCED RESULTS'!S19))","v":""},"",{"$f":"IF('Entry Information'!$I109=\"\",\"\",IF('Entry Information'!V109=\"\",T18,T18-100))","v":""},"",{"$f":"IF($R18=\"\",\"\",(VLOOKUP($V$41,Worksheet!$A$11:$AE$41,V18+1,FALSE)))","v":""},{"$f":"IF('Entry Information'!$I109=\"\",\"\",'ADVANCED RESULTS'!X19)","v":""},{"$f":"IF('Entry Information'!$I109=\"\",\"\",IF('ADVANCED RESULTS'!Y19=\"\",\"\",'ADVANCED RESULTS'!Y19))","v":""},"",{"$f":"IF('Entry Information'!$I109=\"\",\"\",IF('Entry Information'!X109=\"\",Z18,Z18-100))","v":""},"",{"$f":"IF($X18=\"\",\"\",(VLOOKUP($AB$41,Worksheet!$A$11:$AE$41,AB18+1,FALSE)))","v":""},{"$f":"IF('Entry Information'!$I109=\"\",\"\",'ADVANCED RESULTS'!AD19)","v":""},{"$f":"IF('Entry Information'!$I109=\"\",\"\",IF('ADVANCED RESULTS'!AE19=\"\",\"\",'ADVANCED RESULTS'!AE19))","v":""},"",{"$f":"IF('Entry Information'!$I109=\"\",\"\",IF('Entry Information'!Z109=\"\",AF18,AF18-100))","v":""},"",{"$f":"IF($AD18=\"\",\"\",(VLOOKUP($AH$41,Worksheet!$A$11:$AE$41,AH18+1,FALSE)))","v":""}]
[{"$f":"IF('Entry Information'!I110=\"\",\"\",'Entry Information'!B110)","v":""},{"$f":"IF('Entry Information'!I110=\"\",\"\",'Entry Information'!C110)","v":""},{"$f":"IF('Entry Information'!I110=\"\",\"\",'Entry Information'!D110)","v":""},{"$f":"IF('Entry Information'!I110=\"\",\"\",'Entry Information'!E110)","v":""},"ADV",{"$f":"IF('Entry Information'!$I110=\"\",\"\",'ADVANCED RESULTS'!F20)","v":""},{"$f":"IF('Entry Information'!$I110=\"\",\"\",IF('ADVANCED RESULTS'!G20=\"\",\"\",'ADVANCED RESULTS'!G20))","v":""},"",{"$f":"IF('Entry Information'!$I110=\"\",\"\",IF('Entry Information'!R110=\"\",H19,H19-100))","v":""},"",{"$f":"IF($F19=\"\",\"\",(VLOOKUP($J$41,Worksheet!$A$11:$AE$41,J19+1,FALSE)))","v":""},{"$f":"IF('Entry Information'!$I110=\"\",\"\",'ADVANCED RESULTS'!L20)","v":""},{"$f":"IF('Entry Information'!$I110=\"\",\"\",IF('ADVANCED RESULTS'!M20=\"\",\"\",'ADVANCED RESULTS'!M20))","v":""},"",{"$f":"IF('Entry Information'!$I110=\"\",\"\",IF('Entry Information'!T110=\"\",N19,N19-100))","v":""},"",{"$f":"IF($L19=\"\",\"\",(VLOOKUP($P$41,Worksheet!$A$11:$AE$41,P19+1,FALSE)))","v":""},{"$f":"IF('Entry Information'!$I110=\"\",\"\",'ADVANCED RESULTS'!R20)","v":""},{"$f":"IF('Entry Information'!$I110=\"\",\"\",IF('ADVANCED RESULTS'!S20=\"\",\"\",'ADVANCED RESULTS'!S20))","v":""},"",{"$f":"IF('Entry Information'!$I110=\"\",\"\",IF('Entry Information'!V110=\"\",T19,T19-100))","v":""},"",{"$f":"IF($R19=\"\",\"\",(VLOOKUP($V$41,Worksheet!$A$11:$AE$41,V19+1,FALSE)))","v":""},{"$f":"IF('Entry Information'!$I110=\"\",\"\",'ADVANCED RESULTS'!X20)","v":""},{"$f":"IF('Entry Information'!$I110=\"\",\"\",IF('ADVANCED RESULTS'!Y20=\"\",\"\",'ADVANCED RESULTS'!Y20))","v":""},"",{"$f":"IF('Entry Information'!$I110=\"\",\"\",IF('Entry Information'!X110=\"\",Z19,Z19-100))","v":""},"",{"$f":"IF($X19=\"\",\"\",(VLOOKUP($AB$41,Worksheet!$A$11:$AE$41,AB19+1,FALSE)))","v":""},{"$f":"IF('Entry Information'!$I110=\"\",\"\",'ADVANCED RESULTS'!AD20)","v":""},{"$f":"IF('Entry Information'!$I110=\"\",\"\",IF('ADVANCED RESULTS'!AE20=\"\",\"\",'ADVANCED RESULTS'!AE20))","v":""},"",{"$f":"IF('Entry Information'!$I110=\"\",\"\",IF('Entry Information'!Z110=\"\",AF19,AF19-100))","v":""},"",{"$f":"IF($AD19=\"\",\"\",(VLOOKUP($AH$41,Worksheet!$A$11:$AE$41,AH19+1,FALSE)))","v":""}]
[{"$f":"IF('Entry Information'!I111=\"\",\"\",'Entry Information'!B111)","v":""},{"$f":"IF('Entry Information'!I111=\"\",\"\",'Entry Information'!C111)","v":""},{"$f":"IF('Entry Information'!I111=\"\",\"\",'Entry Information'!D111)","v":""},{"$f":"IF('Entry Information'!I111=\"\",\"\",'Entry Information'!E111)","v":""},"ADV",{"$f":"IF('Entry Information'!$I111=\"\",\"\",'ADVANCED RESULTS'!F21)","v":""},{"$f":"IF('Entry Information'!$I111=\"\",\"\",IF('ADVANCED RESULTS'!G21=\"\",\"\",'ADVANCED RESULTS'!G21))","v":""},"",{"$f":"IF('Entry Information'!$I111=\"\",\"\",IF('Entry Information'!R111=\"\",H20,H20-100))","v":""},"",{"$f":"IF($F20=\"\",\"\",(VLOOKUP($J$41,Worksheet!$A$11:$AE$41,J20+1,FALSE)))","v":""},{"$f":"IF('Entry Information'!$I111=\"\",\"\",'ADVANCED RESULTS'!L21)","v":""},{"$f":"IF('Entry Information'!$I111=\"\",\"\",IF('ADVANCED RESULTS'!M21=\"\",\"\",'ADVANCED RESULTS'!M21))","v":""},"",{"$f":"IF('Entry Information'!$I111=\"\",\"\",IF('Entry Information'!T111=\"\",N20,N20-100))","v":""},"",{"$f":"IF($L20=\"\",\"\",(VLOOKUP($P$41,Worksheet!$A$11:$AE$41,P20+1,FALSE)))","v":""},{"$f":"IF('Entry Information'!$I111=\"\",\"\",'ADVANCED RESULTS'!R21)","v":""},{"$f":"IF('Entry Information'!$I111=\"\",\"\",IF('ADVANCED RESULTS'!S21=\"\",\"\",'ADVANCED RESULTS'!S21))","v":""},"",{"$f":"IF('Entry Information'!$I111=\"\",\"\",IF('Entry Information'!V111=\"\",T20,T20-100))","v":""},"",{"$f":"IF($R20=\"\",\"\",(VLOOKUP($V$41,Worksheet!$A$11:$AE$41,V20+1,FALSE)))","v":""},{"$f":"IF('Entry Information'!$I111=\"\",\"\",'ADVANCED RESULTS'!X21)","v":""},{"$f":"IF('Entry Information'!$I111=\"\",\"\",IF('ADVANCED RESULTS'!Y21=\"\",\"\",'ADVANCED RESULTS'!Y21))","v":""},"",{"$f":"IF('Entry Information'!$I111=\"\",\"\",IF('Entry Information'!X111=\"\",Z20,Z20-100))","v":""},"",{"$f":"IF($X20=\"\",\"\",(VLOOKUP($AB$41,Worksheet!$A$11:$AE$41,AB20+1,FALSE)))","v":""},{"$f":"IF('Entry Information'!$I111=\"\",\"\",'ADVANCED RESULTS'!AD21)","v":""},{"$f":"IF('Entry Information'!$I111=\"\",\"\",IF('ADVANCED RESULTS'!AE21=\"\",\"\",'ADVANCED RESULTS'!AE21))","v":""},"",{"$f":"IF('Entry Information'!$I111=\"\",\"\",IF('Entry Information'!Z111=\"\",AF20,AF20-100))","v":""},"",{"$f":"IF($AD20=\"\",\"\",(VLOOKUP($AH$41,Worksheet!$A$11:$AE$41,AH20+1,FALSE)))","v":""}]
[{"$f":"IF('Entry Information'!I112=\"\",\"\",'Entry Information'!B112)","v":""},{"$f":"IF('Entry Information'!I112=\"\",\"\",'Entry Information'!C112)","v":""},{"$f":"IF('Entry Information'!I112=\"\",\"\",'Entry Information'!D112)","v":""},{"$f":"IF('Entry Information'!I112=\"\",\"\",'Entry Information'!E112)","v":""},"ADV",{"$f":"IF('Entry Information'!$I112=\"\",\"\",'ADVANCED RESULTS'!F22)","v":""},{"$f":"IF('Entry Information'!$I112=\"\",\"\",IF('ADVANCED RESULTS'!G22=\"\",\"\",'ADVANCED RESULTS'!G22))","v":""},"",{"$f":"IF('Entry Information'!$I112=\"\",\"\",IF('Entry Information'!R112=\"\",H21,H21-100))","v":""},"",{"$f":"IF($F21=\"\",\"\",(VLOOKUP($J$41,Worksheet!$A$11:$AE$41,J21+1,FALSE)))","v":""},{"$f":"IF('Entry Information'!$I112=\"\",\"\",'ADVANCED RESULTS'!L22)","v":""},{"$f":"IF('Entry Information'!$I112=\"\",\"\",IF('ADVANCED RESULTS'!M22=\"\",\"\",'ADVANCED RESULTS'!M22))","v":""},"",{"$f":"IF('Entry Information'!$I112=\"\",\"\",IF('Entry Information'!T112=\"\",N21,N21-100))","v":""},"",{"$f":"IF($L21=\"\",\"\",(VLOOKUP($P$41,Worksheet!$A$11:$AE$41,P21+1,FALSE)))","v":""},{"$f":"IF('Entry Information'!$I112=\"\",\"\",'ADVANCED RESULTS'!R22)","v":""},{"$f":"IF('Entry Information'!$I112=\"\",\"\",IF('ADVANCED RESULTS'!S22=\"\",\"\",'ADVANCED RESULTS'!S22))","v":""},"",{"$f":"IF('Entry Information'!$I112=\"\",\"\",IF('Entry Information'!V112=\"\",T21,T21-100))","v":""},"",{"$f":"IF($R21=\"\",\"\",(VLOOKUP($V$41,Worksheet!$A$11:$AE$41,V21+1,FALSE)))","v":""},{"$f":"IF('Entry Information'!$I112=\"\",\"\",'ADVANCED RESULTS'!X22)","v":""},{"$f":"IF('Entry Information'!$I112=\"\",\"\",IF('ADVANCED RESULTS'!Y22=\"\",\"\",'ADVANCED RESULTS'!Y22))","v":""},"",{"$f":"IF('Entry Information'!$I112=\"\",\"\",IF('Entry Information'!X112=\"\",Z21,Z21-100))","v":""},"",{"$f":"IF($X21=\"\",\"\",(VLOOKUP($AB$41,Worksheet!$A$11:$AE$41,AB21+1,FALSE)))","v":""},{"$f":"IF('Entry Information'!$I112=\"\",\"\",'ADVANCED RESULTS'!AD22)","v":""},{"$f":"IF('Entry Information'!$I112=\"\",\"\",IF('ADVANCED RESULTS'!AE22=\"\",\"\",'ADVANCED RESULTS'!AE22))","v":""},"",{"$f":"IF('Entry Information'!$I112=\"\",\"\",IF('Entry Information'!Z112=\"\",AF21,AF21-100))","v":""},"",{"$f":"IF($AD21=\"\",\"\",(VLOOKUP($AH$41,Worksheet!$A$11:$AE$41,AH21+1,FALSE)))","v":""}]
[{"$f":"IF('Entry Information'!I113=\"\",\"\",'Entry Information'!B113)","v":""},{"$f":"IF('Entry Information'!I113=\"\",\"\",'Entry Information'!C113)","v":""},{"$f":"IF('Entry Information'!I113=\"\",\"\",'Entry Information'!D113)","v":""},{"$f":"IF('Entry Information'!I113=\"\",\"\",'Entry Information'!E113)","v":""},"ADV",{"$f":"IF('Entry Information'!$I113=\"\",\"\",'ADVANCED RESULTS'!F23)","v":""},{"$f":"IF('Entry Information'!$I113=\"\",\"\",IF('ADVANCED RESULTS'!G23=\"\",\"\",'ADVANCED RESULTS'!G23))","v":""},"",{"$f":"IF('Entry Information'!$I113=\"\",\"\",IF('Entry Information'!R113=\"\",H22,H22-100))","v":""},"",{"$f":"IF($F22=\"\",\"\",(VLOOKUP($J$41,Worksheet!$A$11:$AE$41,J22+1,FALSE)))","v":""},{"$f":"IF('Entry Information'!$I113=\"\",\"\",'ADVANCED RESULTS'!L23)","v":""},{"$f":"IF('Entry Information'!$I113=\"\",\"\",IF('ADVANCED RESULTS'!M23=\"\",\"\",'ADVANCED RESULTS'!M23))","v":""},"",{"$f":"IF('Entry Information'!$I113=\"\",\"\",IF('Entry Information'!T113=\"\",N22,N22-100))","v":""},"",{"$f":"IF($L22=\"\",\"\",(VLOOKUP($P$41,Worksheet!$A$11:$AE$41,P22+1,FALSE)))","v":""},{"$f":"IF('Entry Information'!$I113=\"\",\"\",'ADVANCED RESULTS'!R23)","v":""},{"$f":"IF('Entry Information'!$I113=\"\",\"\",IF('ADVANCED RESULTS'!S23=\"\",\"\",'ADVANCED RESULTS'!S23))","v":""},"",{"$f":"IF('Entry Information'!$I113=\"\",\"\",IF('Entry Information'!V113=\"\",T22,T22-100))","v":""},"",{"$f":"IF($R22=\"\",\"\",(VLOOKUP($V$41,Worksheet!$A$11:$AE$41,V22+1,FALSE)))","v":""},{"$f":"IF('Entry Information'!$I113=\"\",\"\",'ADVANCED RESULTS'!X23)","v":""},{"$f":"IF('Entry Information'!$I113=\"\",\"\",IF('ADVANCED RESULTS'!Y23=\"\",\"\",'ADVANCED RESULTS'!Y23))","v":""},"",{"$f":"IF('Entry Information'!$I113=\"\",\"\",IF('Entry Information'!X113=\"\",Z22,Z22-100))","v":""},"",{"$f":"IF($X22=\"\",\"\",(VLOOKUP($AB$41,Worksheet!$A$11:$AE$41,AB22+1,FALSE)))","v":""},{"$f":"IF('Entry Information'!$I113=\"\",\"\",'ADVANCED RESULTS'!AD23)","v":""},{"$f":"IF('Entry Information'!$I113=\"\",\"\",IF('ADVANCED RESULTS'!AE23=\"\",\"\",'ADVANCED RESULTS'!AE23))","v":""},"",{"$f":"IF('Entry Information'!$I113=\"\",\"\",IF('Entry Information'!Z113=\"\",AF22,AF22-100))","v":""},"",{"$f":"IF($AD22=\"\",\"\",(VLOOKUP($AH$41,Worksheet!$A$11:$AE$41,AH22+1,FALSE)))","v":""}]
[{"$f":"IF('Entry Information'!I114=\"\",\"\",'Entry Information'!B114)","v":""},{"$f":"IF('Entry Information'!I114=\"\",\"\",'Entry Information'!C114)","v":""},{"$f":"IF('Entry Information'!I114=\"\",\"\",'Entry Information'!D114)","v":""},{"$f":"IF('Entry Information'!I114=\"\",\"\",'Entry Information'!E114)","v":""},"ADV",{"$f":"IF('Entry Information'!$I114=\"\",\"\",'ADVANCED RESULTS'!F24)","v":""},{"$f":"IF('Entry Information'!$I114=\"\",\"\",IF('ADVANCED RESULTS'!G24=\"\",\"\",'ADVANCED RESULTS'!G24))","v":""},"",{"$f":"IF('Entry Information'!$I114=\"\",\"\",IF('Entry Information'!R114=\"\",H23,H23-100))","v":""},"",{"$f":"IF($F23=\"\",\"\",(VLOOKUP($J$41,Worksheet!$A$11:$AE$41,J23+1,FALSE)))","v":""},{"$f":"IF('Entry Information'!$I114=\"\",\"\",'ADVANCED RESULTS'!L24)","v":""},{"$f":"IF('Entry Information'!$I114=\"\",\"\",IF('ADVANCED RESULTS'!M24=\"\",\"\",'ADVANCED RESULTS'!M24))","v":""},"",{"$f":"IF('Entry Information'!$I114=\"\",\"\",IF('Entry Information'!T114=\"\",N23,N23-100))","v":""},"",{"$f":"IF($L23=\"\",\"\",(VLOOKUP($P$41,Worksheet!$A$11:$AE$41,P23+1,FALSE)))","v":""},{"$f":"IF('Entry Information'!$I114=\"\",\"\",'ADVANCED RESULTS'!R24)","v":""},{"$f":"IF('Entry Information'!$I114=\"\",\"\",IF('ADVANCED RESULTS'!S24=\"\",\"\",'ADVANCED RESULTS'!S24))","v":""},"",{"$f":"IF('Entry Information'!$I114=\"\",\"\",IF('Entry Information'!V114=\"\",T23,T23-100))","v":""},"",{"$f":"IF($R23=\"\",\"\",(VLOOKUP($V$41,Worksheet!$A$11:$AE$41,V23+1,FALSE)))","v":""},{"$f":"IF('Entry Information'!$I114=\"\",\"\",'ADVANCED RESULTS'!X24)","v":""},{"$f":"IF('Entry Information'!$I114=\"\",\"\",IF('ADVANCED RESULTS'!Y24=\"\",\"\",'ADVANCED RESULTS'!Y24))","v":""},"",{"$f":"IF('Entry Information'!$I114=\"\",\"\",IF('Entry Information'!X114=\"\",Z23,Z23-100))","v":""},"",{"$f":"IF($X23=\"\",\"\",(VLOOKUP($AB$41,Worksheet!$A$11:$AE$41,AB23+1,FALSE)))","v":""},{"$f":"IF('Entry Information'!$I114=\"\",\"\",'ADVANCED RESULTS'!AD24)","v":""},{"$f":"IF('Entry Information'!$I114=\"\",\"\",IF('ADVANCED RESULTS'!AE24=\"\",\"\",'ADVANCED RESULTS'!AE24))","v":""},"",{"$f":"IF('Entry Information'!$I114=\"\",\"\",IF('Entry Information'!Z114=\"\",AF23,AF23-100))","v":""},"",{"$f":"IF($AD23=\"\",\"\",(VLOOKUP($AH$41,Worksheet!$A$11:$AE$41,AH23+1,FALSE)))","v":""}]
[{"$f":"IF('Entry Information'!I115=\"\",\"\",'Entry Information'!B115)","v":""},{"$f":"IF('Entry Information'!I115=\"\",\"\",'Entry Information'!C115)","v":""},{"$f":"IF('Entry Information'!I115=\"\",\"\",'Entry Information'!D115)","v":""},{"$f":"IF('Entry Information'!I115=\"\",\"\",'Entry Information'!E115)","v":""},"ADV",{"$f":"IF('Entry Information'!$I115=\"\",\"\",'ADVANCED RESULTS'!F25)","v":""},{"$f":"IF('Entry Information'!$I115=\"\",\"\",IF('ADVANCED RESULTS'!G25=\"\",\"\",'ADVANCED RESULTS'!G25))","v":""},{"$f":"IF(G24=\"\",F24,(F24+(G24*0.001)))","v":""},{"$f":"IF('Entry Information'!$I115=\"\",\"\",IF('Entry Information'!R115=\"\",H24,H24-100))","v":""},"",{"$f":"IF($F24=\"\",\"\",(VLOOKUP($J$41,Worksheet!$A$11:$AE$41,J24+1,FALSE)))","v":""},{"$f":"IF('Entry Information'!$I115=\"\",\"\",'ADVANCED RESULTS'!L25)","v":""},{"$f":"IF('Entry Information'!$I115=\"\",\"\",IF('ADVANCED RESULTS'!M25=\"\",\"\",'ADVANCED RESULTS'!M25))","v":""},"",{"$f":"IF('Entry Information'!$I115=\"\",\"\",IF('Entry Information'!T115=\"\",N24,N24-100))","v":""},"",{"$f":"IF($L24=\"\",\"\",(VLOOKUP($P$41,Worksheet!$A$11:$AE$41,P24+1,FALSE)))","v":""},{"$f":"IF('Entry Information'!$I115=\"\",\"\",'ADVANCED RESULTS'!R25)","v":""},{"$f":"IF('Entry Information'!$I115=\"\",\"\",IF('ADVANCED RESULTS'!S25=\"\",\"\",'ADVANCED RESULTS'!S25))","v":""},"",{"$f":"IF('Entry Information'!$I115=\"\",\"\",IF('Entry Information'!V115=\"\",T24,T24-100))","v":""},"",{"$f":"IF($R24=\"\",\"\",(VLOOKUP($V$41,Worksheet!$A$11:$AE$41,V24+1,FALSE)))","v":""},{"$f":"IF('Entry Information'!$I115=\"\",\"\",'ADVANCED RESULTS'!X25)","v":""},{"$f":"IF('Entry Information'!$I115=\"\",\"\",IF('ADVANCED RESULTS'!Y25=\"\",\"\",'ADVANCED RESULTS'!Y25))","v":""},{"$f":"IF(Y24=\"\",X24,(X24+(Y24*0.001)))","v":""},{"$f":"IF('Entry Information'!$I115=\"\",\"\",IF('Entry Information'!X115=\"\",Z24,Z24-100))","v":""},"",{"$f":"IF($X24=\"\",\"\",(VLOOKUP($AB$41,Worksheet!$A$11:$AE$41,AB24+1,FALSE)))","v":""},{"$f":"IF('Entry Information'!$I115=\"\",\"\",'ADVANCED RESULTS'!AD25)","v":""},{"$f":"IF('Entry Information'!$I115=\"\",\"\",IF('ADVANCED RESULTS'!AE25=\"\",\"\",'ADVANCED RESULTS'!AE25))","v":""},{"$f":"IF(AE24=\"\",AD24,(AD24+(AE24*0.001)))","v":""},{"$f":"IF('Entry Information'!$I115=\"\",\"\",IF('Entry Information'!Z115=\"\",AF24,AF24-100))","v":""},"",{"$f":"IF($AD24=\"\",\"\",(VLOOKUP($AH$41,Worksheet!$A$11:$AE$41,AH24+1,FALSE)))","v":""}]
[{"$f":"IF('Entry Information'!I116=\"\",\"\",'Entry Information'!B116)","v":""},{"$f":"IF('Entry Information'!I116=\"\",\"\",'Entry Information'!C116)","v":""},{"$f":"IF('Entry Information'!I116=\"\",\"\",'Entry Information'!D116)","v":""},{"$f":"IF('Entry Information'!I116=\"\",\"\",'Entry Information'!E116)","v":""},"ADV",{"$f":"IF('Entry Information'!$I116=\"\",\"\",'ADVANCED RESULTS'!F26)","v":""},{"$f":"IF('Entry Information'!$I116=\"\",\"\",IF('ADVANCED RESULTS'!G26=\"\",\"\",'ADVANCED RESULTS'!G26))","v":""},{"$f":"IF(G25=\"\",F25,(F25+(G25*0.001)))","v":""},{"$f":"IF('Entry Information'!$I116=\"\",\"\",IF('Entry Information'!R116=\"\",H25,H25-100))","v":""},"",{"$f":"IF($F25=\"\",\"\",(VLOOKUP($J$41,Worksheet!$A$11:$AE$41,J25+1,FALSE)))","v":""},{"$f":"IF('Entry Information'!$I116=\"\",\"\",'ADVANCED RESULTS'!L26)","v":""},{"$f":"IF('Entry Information'!$I116=\"\",\"\",IF('ADVANCED RESULTS'!M26=\"\",\"\",'ADVANCED RESULTS'!M26))","v":""},"",{"$f":"IF('Entry Information'!$I116=\"\",\"\",IF('Entry Information'!T116=\"\",N25,N25-100))","v":""},"",{"$f":"IF($L25=\"\",\"\",(VLOOKUP($P$41,Worksheet!$A$11:$AE$41,P25+1,FALSE)))","v":""},{"$f":"IF('Entry Information'!$I116=\"\",\"\",'ADVANCED RESULTS'!R26)","v":""},{"$f":"IF('Entry Information'!$I116=\"\",\"\",IF('ADVANCED RESULTS'!S26=\"\",\"\",'ADVANCED RESULTS'!S26))","v":""},"",{"$f":"IF('Entry Information'!$I116=\"\",\"\",IF('Entry Information'!V116=\"\",T25,T25-100))","v":""},"",{"$f":"IF($R25=\"\",\"\",(VLOOKUP($V$41,Worksheet!$A$11:$AE$41,V25+1,FALSE)))","v":""},{"$f":"IF('Entry Information'!$I116=\"\",\"\",'ADVANCED RESULTS'!X26)","v":""},{"$f":"IF('Entry Information'!$I116=\"\",\"\",IF('ADVANCED RESULTS'!Y26=\"\",\"\",'ADVANCED RESULTS'!Y26))","v":""},{"$f":"IF(Y25=\"\",X25,(X25+(Y25*0.001)))","v":""},{"$f":"IF('Entry Information'!$I116=\"\",\"\",IF('Entry Information'!X116=\"\",Z25,Z25-100))","v":""},"",{"$f":"IF($X25=\"\",\"\",(VLOOKUP($AB$41,Worksheet!$A$11:$AE$41,AB25+1,FALSE)))","v":""},{"$f":"IF('Entry Information'!$I116=\"\",\"\",'ADVANCED RESULTS'!AD26)","v":""},{"$f":"IF('Entry Information'!$I116=\"\",\"\",IF('ADVANCED RESULTS'!AE26=\"\",\"\",'ADVANCED RESULTS'!AE26))","v":""},{"$f":"IF(AE25=\"\",AD25,(AD25+(AE25*0.001)))","v":""},{"$f":"IF('Entry Information'!$I116=\"\",\"\",IF('Entry Information'!Z116=\"\",AF25,AF25-100))","v":""},"",{"$f":"IF($AD25=\"\",\"\",(VLOOKUP($AH$41,Worksheet!$A$11:$AE$41,AH25+1,FALSE)))","v":""}]
[{"$f":"IF('Entry Information'!I117=\"\",\"\",'Entry Information'!B117)","v":""},{"$f":"IF('Entry Information'!I117=\"\",\"\",'Entry Information'!C117)","v":""},{"$f":"IF('Entry Information'!I117=\"\",\"\",'Entry Information'!D117)","v":""},{"$f":"IF('Entry Information'!I117=\"\",\"\",'Entry Information'!E117)","v":""},"ADV",{"$f":"IF('Entry Information'!$I117=\"\",\"\",'ADVANCED RESULTS'!F27)","v":""},{"$f":"IF('Entry Information'!$I117=\"\",\"\",IF('ADVANCED RESULTS'!G27=\"\",\"\",'ADVANCED RESULTS'!G27))","v":""},{"$f":"IF(G26=\"\",F26,(F26+(G26*0.001)))","v":""},{"$f":"IF('Entry Information'!$I117=\"\",\"\",IF('Entry Information'!R117=\"\",H26,H26-100))","v":""},"",{"$f":"IF($F26=\"\",\"\",(VLOOKUP($J$41,Worksheet!$A$11:$AE$41,J26+1,FALSE)))","v":""},{"$f":"IF('Entry Information'!$I117=\"\",\"\",'ADVANCED RESULTS'!L27)","v":""},{"$f":"IF('Entry Information'!$I117=\"\",\"\",IF('ADVANCED RESULTS'!M27=\"\",\"\",'ADVANCED RESULTS'!M27))","v":""},"",{"$f":"IF('Entry Information'!$I117=\"\",\"\",IF('Entry Information'!T117=\"\",N26,N26-100))","v":""},"",{"$f":"IF($L26=\"\",\"\",(VLOOKUP($P$41,Worksheet!$A$11:$AE$41,P26+1,FALSE)))","v":""},{"$f":"IF('Entry Information'!$I117=\"\",\"\",'ADVANCED RESULTS'!R27)","v":""},{"$f":"IF('Entry Information'!$I117=\"\",\"\",IF('ADVANCED RESULTS'!S27=\"\",\"\",'ADVANCED RESULTS'!S27))","v":""},"",{"$f":"IF('Entry Information'!$I117=\"\",\"\",IF('Entry Information'!V117=\"\",T26,T26-100))","v":""},"",{"$f":"IF($R26=\"\",\"\",(VLOOKUP($V$41,Worksheet!$A$11:$AE$41,V26+1,FALSE)))","v":""},{"$f":"IF('Entry Information'!$I117=\"\",\"\",'ADVANCED RESULTS'!X27)","v":""},{"$f":"IF('Entry Information'!$I117=\"\",\"\",IF('ADVANCED RESULTS'!Y27=\"\",\"\",'ADVANCED RESULTS'!Y27))","v":""},{"$f":"IF(Y26=\"\",X26,(X26+(Y26*0.001)))","v":""},{"$f":"IF('Entry Information'!$I117=\"\",\"\",IF('Entry Information'!X117=\"\",Z26,Z26-100))","v":""},"",{"$f":"IF($X26=\"\",\"\",(VLOOKUP($AB$41,Worksheet!$A$11:$AE$41,AB26+1,FALSE)))","v":""},{"$f":"IF('Entry Information'!$I117=\"\",\"\",'ADVANCED RESULTS'!AD27)","v":""},{"$f":"IF('Entry Information'!$I117=\"\",\"\",IF('ADVANCED RESULTS'!AE27=\"\",\"\",'ADVANCED RESULTS'!AE27))","v":""},{"$f":"IF(AE26=\"\",AD26,(AD26+(AE26*0.001)))","v":""},{"$f":"IF('Entry Information'!$I117=\"\",\"\",IF('Entry Information'!Z117=\"\",AF26,AF26-100))","v":""},"",{"$f":"IF($AD26=\"\",\"\",(VLOOKUP($AH$41,Worksheet!$A$11:$AE$41,AH26+1,FALSE)))","v":""}]
[{"$f":"IF('Entry Information'!I118=\"\",\"\",'Entry Information'!B118)","v":""},{"$f":"IF('Entry Information'!I118=\"\",\"\",'Entry Information'!C118)","v":""},{"$f":"IF('Entry Information'!I118=\"\",\"\",'Entry Information'!D118)","v":""},{"$f":"IF('Entry Information'!I118=\"\",\"\",'Entry Information'!E118)","v":""},"ADV",{"$f":"IF('Entry Information'!$I118=\"\",\"\",'ADVANCED RESULTS'!F28)","v":""},{"$f":"IF('Entry Information'!$I118=\"\",\"\",IF('ADVANCED RESULTS'!G28=\"\",\"\",'ADVANCED RESULTS'!G28))","v":""},"",{"$f":"IF('Entry Information'!$I118=\"\",\"\",IF('Entry Information'!R118=\"\",H27,H27-100))","v":""},"",{"$f":"IF($F27=\"\",\"\",(VLOOKUP($J$41,Worksheet!$A$11:$AE$41,J27+1,FALSE)))","v":""},{"$f":"IF('Entry Information'!$I118=\"\",\"\",'ADVANCED RESULTS'!L28)","v":""},{"$f":"IF('Entry Information'!$I118=\"\",\"\",IF('ADVANCED RESULTS'!M28=\"\",\"\",'ADVANCED RESULTS'!M28))","v":""},"",{"$f":"IF('Entry Information'!$I118=\"\",\"\",IF('Entry Information'!T118=\"\",N27,N27-100))","v":""},"",{"$f":"IF($L27=\"\",\"\",(VLOOKUP($P$41,Worksheet!$A$11:$AE$41,P27+1,FALSE)))","v":""},{"$f":"IF('Entry Information'!$I118=\"\",\"\",'ADVANCED RESULTS'!R28)","v":""},{"$f":"IF('Entry Information'!$I118=\"\",\"\",IF('ADVANCED RESULTS'!S28=\"\",\"\",'ADVANCED RESULTS'!S28))","v":""},"",{"$f":"IF('Entry Information'!$I118=\"\",\"\",IF('Entry Information'!V118=\"\",T27,T27-100))","v":""},"",{"$f":"IF($R27=\"\",\"\",(VLOOKUP($V$41,Worksheet!$A$11:$AE$41,V27+1,FALSE)))","v":""},{"$f":"IF('Entry Information'!$I118=\"\",\"\",'ADVANCED RESULTS'!X28)","v":""},{"$f":"IF('Entry Information'!$I118=\"\",\"\",IF('ADVANCED RESULTS'!Y28=\"\",\"\",'ADVANCED RESULTS'!Y28))","v":""},"",{"$f":"IF('Entry Information'!$I118=\"\",\"\",IF('Entry Information'!X118=\"\",Z27,Z27-100))","v":""},"",{"$f":"IF($X27=\"\",\"\",(VLOOKUP($AB$41,Worksheet!$A$11:$AE$41,AB27+1,FALSE)))","v":""},{"$f":"IF('Entry Information'!$I118=\"\",\"\",'ADVANCED RESULTS'!AD28)","v":""},{"$f":"IF('Entry Information'!$I118=\"\",\"\",IF('ADVANCED RESULTS'!AE28=\"\",\"\",'ADVANCED RESULTS'!AE28))","v":""},"",{"$f":"IF('Entry Information'!$I118=\"\",\"\",IF('Entry Information'!Z118=\"\",AF27,AF27-100))","v":""},"",{"$f":"IF($AD27=\"\",\"\",(VLOOKUP($AH$41,Worksheet!$A$11:$AE$41,AH27+1,FALSE)))","v":""}]
[{"$f":"IF('Entry Information'!I119=\"\",\"\",'Entry Information'!B119)","v":""},{"$f":"IF('Entry Information'!I119=\"\",\"\",'Entry Information'!C119)","v":""},{"$f":"IF('Entry Information'!I119=\"\",\"\",'Entry Information'!D119)","v":""},{"$f":"IF('Entry Information'!I119=\"\",\"\",'Entry Information'!E119)","v":""},"ADV",{"$f":"IF('Entry Information'!$I119=\"\",\"\",'ADVANCED RESULTS'!F29)","v":""},{"$f":"IF('Entry Information'!$I119=\"\",\"\",IF('ADVANCED RESULTS'!G29=\"\",\"\",'ADVANCED RESULTS'!G29))","v":""},"",{"$f":"IF('Entry Information'!$I119=\"\",\"\",IF('Entry Information'!R119=\"\",H28,H28-100))","v":""},"",{"$f":"IF($F28=\"\",\"\",(VLOOKUP($J$41,Worksheet!$A$11:$AE$41,J28+1,FALSE)))","v":""},{"$f":"IF('Entry Information'!$I119=\"\",\"\",'ADVANCED RESULTS'!L29)","v":""},{"$f":"IF('Entry Information'!$I119=\"\",\"\",IF('ADVANCED RESULTS'!M29=\"\",\"\",'ADVANCED RESULTS'!M29))","v":""},"",{"$f":"IF('Entry Information'!$I119=\"\",\"\",IF('Entry Information'!T119=\"\",N28,N28-100))","v":""},"",{"$f":"IF($L28=\"\",\"\",(VLOOKUP($P$41,Worksheet!$A$11:$AE$41,P28+1,FALSE)))","v":""},{"$f":"IF('Entry Information'!$I119=\"\",\"\",'ADVANCED RESULTS'!R29)","v":""},{"$f":"IF('Entry Information'!$I119=\"\",\"\",IF('ADVANCED RESULTS'!S29=\"\",\"\",'ADVANCED RESULTS'!S29))","v":""},"",{"$f":"IF('Entry Information'!$I119=\"\",\"\",IF('Entry Information'!V119=\"\",T28,T28-100))","v":""},"",{"$f":"IF($R28=\"\",\"\",(VLOOKUP($V$41,Worksheet!$A$11:$AE$41,V28+1,FALSE)))","v":""},{"$f":"IF('Entry Information'!$I119=\"\",\"\",'ADVANCED RESULTS'!X29)","v":""},{"$f":"IF('Entry Information'!$I119=\"\",\"\",IF('ADVANCED RESULTS'!Y29=\"\",\"\",'ADVANCED RESULTS'!Y29))","v":""},"",{"$f":"IF('Entry Information'!$I119=\"\",\"\",IF('Entry Information'!X119=\"\",Z28,Z28-100))","v":""},"",{"$f":"IF($X28=\"\",\"\",(VLOOKUP($AB$41,Worksheet!$A$11:$AE$41,AB28+1,FALSE)))","v":""},{"$f":"IF('Entry Information'!$I119=\"\",\"\",'ADVANCED RESULTS'!AD29)","v":""},{"$f":"IF('Entry Information'!$I119=\"\",\"\",IF('ADVANCED RESULTS'!AE29=\"\",\"\",'ADVANCED RESULTS'!AE29))","v":""},"",{"$f":"IF('Entry Information'!$I119=\"\",\"\",IF('Entry Information'!Z119=\"\",AF28,AF28-100))","v":""},"",{"$f":"IF($AD28=\"\",\"\",(VLOOKUP($AH$41,Worksheet!$A$11:$AE$41,AH28+1,FALSE)))","v":""}]
[{"$f":"IF('Entry Information'!I120=\"\",\"\",'Entry Information'!B120)","v":""},{"$f":"IF('Entry Information'!I120=\"\",\"\",'Entry Information'!C120)","v":""},{"$f":"IF('Entry Information'!I120=\"\",\"\",'Entry Information'!D120)","v":""},{"$f":"IF('Entry Information'!I120=\"\",\"\",'Entry Information'!E120)","v":""},"ADV",{"$f":"IF('Entry Information'!$I120=\"\",\"\",'ADVANCED RESULTS'!F30)","v":""},{"$f":"IF('Entry Information'!$I120=\"\",\"\",IF('ADVANCED RESULTS'!G30=\"\",\"\",'ADVANCED RESULTS'!G30))","v":""},"",{"$f":"IF('Entry Information'!$I120=\"\",\"\",IF('Entry Information'!R120=\"\",H29,H29-100))","v":""},"",{"$f":"IF($F29=\"\",\"\",(VLOOKUP($J$41,Worksheet!$A$11:$AE$41,J29+1,FALSE)))","v":""},{"$f":"IF('Entry Information'!$I120=\"\",\"\",'ADVANCED RESULTS'!L30)","v":""},{"$f":"IF('Entry Information'!$I120=\"\",\"\",IF('ADVANCED RESULTS'!M30=\"\",\"\",'ADVANCED RESULTS'!M30))","v":""},"",{"$f":"IF('Entry Information'!$I120=\"\",\"\",IF('Entry Information'!T120=\"\",N29,N29-100))","v":""},"",{"$f":"IF($L29=\"\",\"\",(VLOOKUP($P$41,Worksheet!$A$11:$AE$41,P29+1,FALSE)))","v":""},{"$f":"IF('Entry Information'!$I120=\"\",\"\",'ADVANCED RESULTS'!R30)","v":""},{"$f":"IF('Entry Information'!$I120=\"\",\"\",IF('ADVANCED RESULTS'!S30=\"\",\"\",'ADVANCED RESULTS'!S30))","v":""},"",{"$f":"IF('Entry Information'!$I120=\"\",\"\",IF('Entry Information'!V120=\"\",T29,T29-100))","v":""},"",{"$f":"IF($R29=\"\",\"\",(VLOOKUP($V$41,Worksheet!$A$11:$AE$41,V29+1,FALSE)))","v":""},{"$f":"IF('Entry Information'!$I120=\"\",\"\",'ADVANCED RESULTS'!X30)","v":""},{"$f":"IF('Entry Information'!$I120=\"\",\"\",IF('ADVANCED RESULTS'!Y30=\"\",\"\",'ADVANCED RESULTS'!Y30))","v":""},"",{"$f":"IF('Entry Information'!$I120=\"\",\"\",IF('Entry Information'!X120=\"\",Z29,Z29-100))","v":""},"",{"$f":"IF($X29=\"\",\"\",(VLOOKUP($AB$41,Worksheet!$A$11:$AE$41,AB29+1,FALSE)))","v":""},{"$f":"IF('Entry Information'!$I120=\"\",\"\",'ADVANCED RESULTS'!AD30)","v":""},{"$f":"IF('Entry Information'!$I120=\"\",\"\",IF('ADVANCED RESULTS'!AE30=\"\",\"\",'ADVANCED RESULTS'!AE30))","v":""},"",{"$f":"IF('Entry Information'!$I120=\"\",\"\",IF('Entry Information'!Z120=\"\",AF29,AF29-100))","v":""},"",{"$f":"IF($AD29=\"\",\"\",(VLOOKUP($AH$41,Worksheet!$A$11:$AE$41,AH29+1,FALSE)))","v":""}]
[{"$f":"IF('Entry Information'!I121=\"\",\"\",'Entry Information'!B121)","v":""},{"$f":"IF('Entry Information'!I121=\"\",\"\",'Entry Information'!C121)","v":""},{"$f":"IF('Entry Information'!I121=\"\",\"\",'Entry Information'!D121)","v":""},{"$f":"IF('Entry Information'!I121=\"\",\"\",'Entry Information'!E121)","v":""},"ADV",{"$f":"IF('Entry Information'!$I121=\"\",\"\",'ADVANCED RESULTS'!F31)","v":""},{"$f":"IF('Entry Information'!$I121=\"\",\"\",IF('ADVANCED RESULTS'!G31=\"\",\"\",'ADVANCED RESULTS'!G31))","v":""},"",{"$f":"IF('Entry Information'!$I121=\"\",\"\",IF('Entry Information'!R121=\"\",H30,H30-100))","v":""},"",{"$f":"IF($F30=\"\",\"\",(VLOOKUP($J$41,Worksheet!$A$11:$AE$41,J30+1,FALSE)))","v":""},{"$f":"IF('Entry Information'!$I121=\"\",\"\",'ADVANCED RESULTS'!L31)","v":""},{"$f":"IF('Entry Information'!$I121=\"\",\"\",IF('ADVANCED RESULTS'!M31=\"\",\"\",'ADVANCED RESULTS'!M31))","v":""},"",{"$f":"IF('Entry Information'!$I121=\"\",\"\",IF('Entry Information'!T121=\"\",N30,N30-100))","v":""},"",{"$f":"IF($L30=\"\",\"\",(VLOOKUP($P$41,Worksheet!$A$11:$AE$41,P30+1,FALSE)))","v":""},{"$f":"IF('Entry Information'!$I121=\"\",\"\",'ADVANCED RESULTS'!R31)","v":""},{"$f":"IF('Entry Information'!$I121=\"\",\"\",IF('ADVANCED RESULTS'!S31=\"\",\"\",'ADVANCED RESULTS'!S31))","v":""},"",{"$f":"IF('Entry Information'!$I121=\"\",\"\",IF('Entry Information'!V121=\"\",T30,T30-100))","v":""},"",{"$f":"IF($R30=\"\",\"\",(VLOOKUP($V$41,Worksheet!$A$11:$AE$41,V30+1,FALSE)))","v":""},{"$f":"IF('Entry Information'!$I121=\"\",\"\",'ADVANCED RESULTS'!X31)","v":""},{"$f":"IF('Entry Information'!$I121=\"\",\"\",IF('ADVANCED RESULTS'!Y31=\"\",\"\",'ADVANCED RESULTS'!Y31))","v":""},"",{"$f":"IF('Entry Information'!$I121=\"\",\"\",IF('Entry Information'!X121=\"\",Z30,Z30-100))","v":""},"",{"$f":"IF($X30=\"\",\"\",(VLOOKUP($AB$41,Worksheet!$A$11:$AE$41,AB30+1,FALSE)))","v":""},{"$f":"IF('Entry Information'!$I121=\"\",\"\",'ADVANCED RESULTS'!AD31)","v":""},{"$f":"IF('Entry Information'!$I121=\"\",\"\",IF('ADVANCED RESULTS'!AE31=\"\",\"\",'ADVANCED RESULTS'!AE31))","v":""},"",{"$f":"IF('Entry Information'!$I121=\"\",\"\",IF('Entry Information'!Z121=\"\",AF30,AF30-100))","v":""},"",{"$f":"IF($AD30=\"\",\"\",(VLOOKUP($AH$41,Worksheet!$A$11:$AE$41,AH30+1,FALSE)))","v":""}]
[{"$f":"IF('Entry Information'!I122=\"\",\"\",'Entry Information'!B122)","v":""},{"$f":"IF('Entry Information'!I122=\"\",\"\",'Entry Information'!C122)","v":""},{"$f":"IF('Entry Information'!I122=\"\",\"\",'Entry Information'!D122)","v":""},{"$f":"IF('Entry Information'!I122=\"\",\"\",'Entry Information'!E122)","v":""},"ADV",{"$f":"IF('Entry Information'!$I122=\"\",\"\",'ADVANCED RESULTS'!F32)","v":""},{"$f":"IF('Entry Information'!$I122=\"\",\"\",IF('ADVANCED RESULTS'!G32=\"\",\"\",'ADVANCED RESULTS'!G32))","v":""},"",{"$f":"IF('Entry Information'!$I122=\"\",\"\",IF('Entry Information'!R122=\"\",H31,H31-100))","v":""},"",{"$f":"IF($F31=\"\",\"\",(VLOOKUP($J$41,Worksheet!$A$11:$AE$41,J31+1,FALSE)))","v":""},{"$f":"IF('Entry Information'!$I122=\"\",\"\",'ADVANCED RESULTS'!L32)","v":""},{"$f":"IF('Entry Information'!$I122=\"\",\"\",IF('ADVANCED RESULTS'!M32=\"\",\"\",'ADVANCED RESULTS'!M32))","v":""},"",{"$f":"IF('Entry Information'!$I122=\"\",\"\",IF('Entry Information'!T122=\"\",N31,N31-100))","v":""},"",{"$f":"IF($L31=\"\",\"\",(VLOOKUP($P$41,Worksheet!$A$11:$AE$41,P31+1,FALSE)))","v":""},{"$f":"IF('Entry Information'!$I122=\"\",\"\",'ADVANCED RESULTS'!R32)","v":""},{"$f":"IF('Entry Information'!$I122=\"\",\"\",IF('ADVANCED RESULTS'!S32=\"\",\"\",'ADVANCED RESULTS'!S32))","v":""},"",{"$f":"IF('Entry Information'!$I122=\"\",\"\",IF('Entry Information'!V122=\"\",T31,T31-100))","v":""},"",{"$f":"IF($R31=\"\",\"\",(VLOOKUP($V$41,Worksheet!$A$11:$AE$41,V31+1,FALSE)))","v":""},{"$f":"IF('Entry Information'!$I122=\"\",\"\",'ADVANCED RESULTS'!X32)","v":""},{"$f":"IF('Entry Information'!$I122=\"\",\"\",IF('ADVANCED RESULTS'!Y32=\"\",\"\",'ADVANCED RESULTS'!Y32))","v":""},"",{"$f":"IF('Entry Information'!$I122=\"\",\"\",IF('Entry Information'!X122=\"\",Z31,Z31-100))","v":""},"",{"$f":"IF($X31=\"\",\"\",(VLOOKUP($AB$41,Worksheet!$A$11:$AE$41,AB31+1,FALSE)))","v":""},{"$f":"IF('Entry Information'!$I122=\"\",\"\",'ADVANCED RESULTS'!AD32)","v":""},{"$f":"IF('Entry Information'!$I122=\"\",\"\",IF('ADVANCED RESULTS'!AE32=\"\",\"\",'ADVANCED RESULTS'!AE32))","v":""},"",{"$f":"IF('Entry Information'!$I122=\"\",\"\",IF('Entry Information'!Z122=\"\",AF31,AF31-100))","v":""},"",{"$f":"IF($AD31=\"\",\"\",(VLOOKUP($AH$41,Worksheet!$A$11:$AE$41,AH31+1,FALSE)))","v":""}]
[{"$f":"IF('Entry Information'!I123=\"\",\"\",'Entry Information'!B123)","v":""},{"$f":"IF('Entry Information'!I123=\"\",\"\",'Entry Information'!C123)","v":""},{"$f":"IF('Entry Information'!I123=\"\",\"\",'Entry Information'!D123)","v":""},{"$f":"IF('Entry Information'!I123=\"\",\"\",'Entry Information'!E123)","v":""},"ADV",{"$f":"IF('Entry Information'!$I123=\"\",\"\",'ADVANCED RESULTS'!F33)","v":""},{"$f":"IF('Entry Information'!$I123=\"\",\"\",IF('ADVANCED RESULTS'!G33=\"\",\"\",'ADVANCED RESULTS'!G33))","v":""},"",{"$f":"IF('Entry Information'!$I123=\"\",\"\",IF('Entry Information'!R123=\"\",H32,H32-100))","v":""},"",{"$f":"IF($F32=\"\",\"\",(VLOOKUP($J$41,Worksheet!$A$11:$AE$41,J32+1,FALSE)))","v":""},{"$f":"IF('Entry Information'!$I123=\"\",\"\",'ADVANCED RESULTS'!L33)","v":""},{"$f":"IF('Entry Information'!$I123=\"\",\"\",IF('ADVANCED RESULTS'!M33=\"\",\"\",'ADVANCED RESULTS'!M33))","v":""},"",{"$f":"IF('Entry Information'!$I123=\"\",\"\",IF('Entry Information'!T123=\"\",N32,N32-100))","v":""},"",{"$f":"IF($L32=\"\",\"\",(VLOOKUP($P$41,Worksheet!$A$11:$AE$41,P32+1,FALSE)))","v":""},{"$f":"IF('Entry Information'!$I123=\"\",\"\",'ADVANCED RESULTS'!R33)","v":""},{"$f":"IF('Entry Information'!$I123=\"\",\"\",IF('ADVANCED RESULTS'!S33=\"\",\"\",'ADVANCED RESULTS'!S33))","v":""},"",{"$f":"IF('Entry Information'!$I123=\"\",\"\",IF('Entry Information'!V123=\"\",T32,T32-100))","v":""},"",{"$f":"IF($R32=\"\",\"\",(VLOOKUP($V$41,Worksheet!$A$11:$AE$41,V32+1,FALSE)))","v":""},{"$f":"IF('Entry Information'!$I123=\"\",\"\",'ADVANCED RESULTS'!X33)","v":""},{"$f":"IF('Entry Information'!$I123=\"\",\"\",IF('ADVANCED RESULTS'!Y33=\"\",\"\",'ADVANCED RESULTS'!Y33))","v":""},"",{"$f":"IF('Entry Information'!$I123=\"\",\"\",IF('Entry Information'!X123=\"\",Z32,Z32-100))","v":""},"",{"$f":"IF($X32=\"\",\"\",(VLOOKUP($AB$41,Worksheet!$A$11:$AE$41,AB32+1,FALSE)))","v":""},{"$f":"IF('Entry Information'!$I123=\"\",\"\",'ADVANCED RESULTS'!AD33)","v":""},{"$f":"IF('Entry Information'!$I123=\"\",\"\",IF('ADVANCED RESULTS'!AE33=\"\",\"\",'ADVANCED RESULTS'!AE33))","v":""},"",{"$f":"IF('Entry Information'!$I123=\"\",\"\",IF('Entry Information'!Z123=\"\",AF32,AF32-100))","v":""},"",{"$f":"IF($AD32=\"\",\"\",(VLOOKUP($AH$41,Worksheet!$A$11:$AE$41,AH32+1,FALSE)))","v":""}]
[{"$f":"IF('Entry Information'!I124=\"\",\"\",'Entry Information'!B124)","v":""},{"$f":"IF('Entry Information'!I124=\"\",\"\",'Entry Information'!C124)","v":""},{"$f":"IF('Entry Information'!I124=\"\",\"\",'Entry Information'!D124)","v":""},{"$f":"IF('Entry Information'!I124=\"\",\"\",'Entry Information'!E124)","v":""},"ADV",{"$f":"IF('Entry Information'!$I124=\"\",\"\",'ADVANCED RESULTS'!F34)","v":""},{"$f":"IF('Entry Information'!$I124=\"\",\"\",IF('ADVANCED RESULTS'!G34=\"\",\"\",'ADVANCED RESULTS'!G34))","v":""},"",{"$f":"IF('Entry Information'!$I124=\"\",\"\",IF('Entry Information'!R124=\"\",H33,H33-100))","v":""},"",{"$f":"IF($F33=\"\",\"\",(VLOOKUP($J$41,Worksheet!$A$11:$AE$41,J33+1,FALSE)))","v":""},{"$f":"IF('Entry Information'!$I124=\"\",\"\",'ADVANCED RESULTS'!L34)","v":""},{"$f":"IF('Entry Information'!$I124=\"\",\"\",IF('ADVANCED RESULTS'!M34=\"\",\"\",'ADVANCED RESULTS'!M34))","v":""},"",{"$f":"IF('Entry Information'!$I124=\"\",\"\",IF('Entry Information'!T124=\"\",N33,N33-100))","v":""},"",{"$f":"IF($L33=\"\",\"\",(VLOOKUP($P$41,Worksheet!$A$11:$AE$41,P33+1,FALSE)))","v":""},{"$f":"IF('Entry Information'!$I124=\"\",\"\",'ADVANCED RESULTS'!R34)","v":""},{"$f":"IF('Entry Information'!$I124=\"\",\"\",IF('ADVANCED RESULTS'!S34=\"\",\"\",'ADVANCED RESULTS'!S34))","v":""},"",{"$f":"IF('Entry Information'!$I124=\"\",\"\",IF('Entry Information'!V124=\"\",T33,T33-100))","v":""},"",{"$f":"IF($R33=\"\",\"\",(VLOOKUP($V$41,Worksheet!$A$11:$AE$41,V33+1,FALSE)))","v":""},{"$f":"IF('Entry Information'!$I124=\"\",\"\",'ADVANCED RESULTS'!X34)","v":""},{"$f":"IF('Entry Information'!$I124=\"\",\"\",IF('ADVANCED RESULTS'!Y34=\"\",\"\",'ADVANCED RESULTS'!Y34))","v":""},"",{"$f":"IF('Entry Information'!$I124=\"\",\"\",IF('Entry Information'!X124=\"\",Z33,Z33-100))","v":""},"",{"$f":"IF($X33=\"\",\"\",(VLOOKUP($AB$41,Worksheet!$A$11:$AE$41,AB33+1,FALSE)))","v":""},{"$f":"IF('Entry Information'!$I124=\"\",\"\",'ADVANCED RESULTS'!AD34)","v":""},{"$f":"IF('Entry Information'!$I124=\"\",\"\",IF('ADVANCED RESULTS'!AE34=\"\",\"\",'ADVANCED RESULTS'!AE34))","v":""},"",{"$f":"IF('Entry Information'!$I124=\"\",\"\",IF('Entry Information'!Z124=\"\",AF33,AF33-100))","v":""},"",{"$f":"IF($AD33=\"\",\"\",(VLOOKUP($AH$41,Worksheet!$A$11:$AE$41,AH33+1,FALSE)))","v":""}]
[{"$f":"IF('Entry Information'!I125=\"\",\"\",'Entry Information'!B125)","v":""},{"$f":"IF('Entry Information'!I125=\"\",\"\",'Entry Information'!C125)","v":""},{"$f":"IF('Entry Information'!I125=\"\",\"\",'Entry Information'!D125)","v":""},{"$f":"IF('Entry Information'!I125=\"\",\"\",'Entry Information'!E125)","v":""},"ADV",{"$f":"IF('Entry Information'!$I125=\"\",\"\",'ADVANCED RESULTS'!F35)","v":""},{"$f":"IF('Entry Information'!$I125=\"\",\"\",IF('ADVANCED RESULTS'!G35=\"\",\"\",'ADVANCED RESULTS'!G35))","v":""},"",{"$f":"IF('Entry Information'!$I125=\"\",\"\",IF('Entry Information'!R125=\"\",H34,H34-100))","v":""},"",{"$f":"IF($F34=\"\",\"\",(VLOOKUP($J$41,Worksheet!$A$11:$AE$41,J34+1,FALSE)))","v":""},{"$f":"IF('Entry Information'!$I125=\"\",\"\",'ADVANCED RESULTS'!L35)","v":""},{"$f":"IF('Entry Information'!$I125=\"\",\"\",IF('ADVANCED RESULTS'!M35=\"\",\"\",'ADVANCED RESULTS'!M35))","v":""},"",{"$f":"IF('Entry Information'!$I125=\"\",\"\",IF('Entry Information'!T125=\"\",N34,N34-100))","v":""},"",{"$f":"IF($L34=\"\",\"\",(VLOOKUP($P$41,Worksheet!$A$11:$AE$41,P34+1,FALSE)))","v":""},{"$f":"IF('Entry Information'!$I125=\"\",\"\",'ADVANCED RESULTS'!R35)","v":""},{"$f":"IF('Entry Information'!$I125=\"\",\"\",IF('ADVANCED RESULTS'!S35=\"\",\"\",'ADVANCED RESULTS'!S35))","v":""},"",{"$f":"IF('Entry Information'!$I125=\"\",\"\",IF('Entry Information'!V125=\"\",T34,T34-100))","v":""},"",{"$f":"IF($R34=\"\",\"\",(VLOOKUP($V$41,Worksheet!$A$11:$AE$41,V34+1,FALSE)))","v":""},{"$f":"IF('Entry Information'!$I125=\"\",\"\",'ADVANCED RESULTS'!X35)","v":""},{"$f":"IF('Entry Information'!$I125=\"\",\"\",IF('ADVANCED RESULTS'!Y35=\"\",\"\",'ADVANCED RESULTS'!Y35))","v":""},"",{"$f":"IF('Entry Information'!$I125=\"\",\"\",IF('Entry Information'!X125=\"\",Z34,Z34-100))","v":""},"",{"$f":"IF($X34=\"\",\"\",(VLOOKUP($AB$41,Worksheet!$A$11:$AE$41,AB34+1,FALSE)))","v":""},{"$f":"IF('Entry Information'!$I125=\"\",\"\",'ADVANCED RESULTS'!AD35)","v":""},{"$f":"IF('Entry Information'!$I125=\"\",\"\",IF('ADVANCED RESULTS'!AE35=\"\",\"\",'ADVANCED RESULTS'!AE35))","v":""},"",{"$f":"IF('Entry Information'!$I125=\"\",\"\",IF('Entry Information'!Z125=\"\",AF34,AF34-100))","v":""},"",{"$f":"IF($AD34=\"\",\"\",(VLOOKUP($AH$41,Worksheet!$A$11:$AE$41,AH34+1,FALSE)))","v":""}]
[{"$f":"IF('Entry Information'!I126=\"\",\"\",'Entry Information'!B126)","v":""},{"$f":"IF('Entry Information'!I126=\"\",\"\",'Entry Information'!C126)","v":""},{"$f":"IF('Entry Information'!I126=\"\",\"\",'Entry Information'!D126)","v":""},{"$f":"IF('Entry Information'!I126=\"\",\"\",'Entry Information'!E126)","v":""},"ADV",{"$f":"IF('Entry Information'!$I126=\"\",\"\",'ADVANCED RESULTS'!F36)","v":""},{"$f":"IF('Entry Information'!$I126=\"\",\"\",IF('ADVANCED RESULTS'!G36=\"\",\"\",'ADVANCED RESULTS'!G36))","v":""},"",{"$f":"IF('Entry Information'!$I126=\"\",\"\",IF('Entry Information'!R126=\"\",H35,H35-100))","v":""},"",{"$f":"IF($F35=\"\",\"\",(VLOOKUP($J$41,Worksheet!$A$11:$AE$41,J35+1,FALSE)))","v":""},{"$f":"IF('Entry Information'!$I126=\"\",\"\",'ADVANCED RESULTS'!L36)","v":""},{"$f":"IF('Entry Information'!$I126=\"\",\"\",IF('ADVANCED RESULTS'!M36=\"\",\"\",'ADVANCED RESULTS'!M36))","v":""},"",{"$f":"IF('Entry Information'!$I126=\"\",\"\",IF('Entry Information'!T126=\"\",N35,N35-100))","v":""},"",{"$f":"IF($L35=\"\",\"\",(VLOOKUP($P$41,Worksheet!$A$11:$AE$41,P35+1,FALSE)))","v":""},{"$f":"IF('Entry Information'!$I126=\"\",\"\",'ADVANCED RESULTS'!R36)","v":""},{"$f":"IF('Entry Information'!$I126=\"\",\"\",IF('ADVANCED RESULTS'!S36=\"\",\"\",'ADVANCED RESULTS'!S36))","v":""},"",{"$f":"IF('Entry Information'!$I126=\"\",\"\",IF('Entry Information'!V126=\"\",T35,T35-100))","v":""},"",{"$f":"IF($R35=\"\",\"\",(VLOOKUP($V$41,Worksheet!$A$11:$AE$41,V35+1,FALSE)))","v":""},{"$f":"IF('Entry Information'!$I126=\"\",\"\",'ADVANCED RESULTS'!X36)","v":""},{"$f":"IF('Entry Information'!$I126=\"\",\"\",IF('ADVANCED RESULTS'!Y36=\"\",\"\",'ADVANCED RESULTS'!Y36))","v":""},"",{"$f":"IF('Entry Information'!$I126=\"\",\"\",IF('Entry Information'!X126=\"\",Z35,Z35-100))","v":""},"",{"$f":"IF($X35=\"\",\"\",(VLOOKUP($AB$41,Worksheet!$A$11:$AE$41,AB35+1,FALSE)))","v":""},{"$f":"IF('Entry Information'!$I126=\"\",\"\",'ADVANCED RESULTS'!AD36)","v":""},{"$f":"IF('Entry Information'!$I126=\"\",\"\",IF('ADVANCED RESULTS'!AE36=\"\",\"\",'ADVANCED RESULTS'!AE36))","v":""},"",{"$f":"IF('Entry Information'!$I126=\"\",\"\",IF('Entry Information'!Z126=\"\",AF35,AF35-100))","v":""},"",{"$f":"IF($AD35=\"\",\"\",(VLOOKUP($AH$41,Worksheet!$A$11:$AE$41,AH35+1,FALSE)))","v":""}]
[{"$f":"IF('Entry Information'!I127=\"\",\"\",'Entry Information'!B127)","v":""},{"$f":"IF('Entry Information'!I127=\"\",\"\",'Entry Information'!C127)","v":""},{"$f":"IF('Entry Information'!I127=\"\",\"\",'Entry Information'!D127)","v":""},{"$f":"IF('Entry Information'!I127=\"\",\"\",'Entry Information'!E127)","v":""},"ADV",{"$f":"IF('Entry Information'!$I127=\"\",\"\",'ADVANCED RESULTS'!F37)","v":""},{"$f":"IF('Entry Information'!$I127=\"\",\"\",IF('ADVANCED RESULTS'!G37=\"\",\"\",'ADVANCED RESULTS'!G37))","v":""},"",{"$f":"IF('Entry Information'!$I127=\"\",\"\",IF('Entry Information'!R127=\"\",H36,H36-100))","v":""},"",{"$f":"IF($F36=\"\",\"\",(VLOOKUP($J$41,Worksheet!$A$11:$AE$41,J36+1,FALSE)))","v":""},{"$f":"IF('Entry Information'!$I127=\"\",\"\",'ADVANCED RESULTS'!L37)","v":""},{"$f":"IF('Entry Information'!$I127=\"\",\"\",IF('ADVANCED RESULTS'!M37=\"\",\"\",'ADVANCED RESULTS'!M37))","v":""},"",{"$f":"IF('Entry Information'!$I127=\"\",\"\",IF('Entry Information'!T127=\"\",N36,N36-100))","v":""},"",{"$f":"IF($L36=\"\",\"\",(VLOOKUP($P$41,Worksheet!$A$11:$AE$41,P36+1,FALSE)))","v":""},{"$f":"IF('Entry Information'!$I127=\"\",\"\",'ADVANCED RESULTS'!R37)","v":""},{"$f":"IF('Entry Information'!$I127=\"\",\"\",IF('ADVANCED RESULTS'!S37=\"\",\"\",'ADVANCED RESULTS'!S37))","v":""},"",{"$f":"IF('Entry Information'!$I127=\"\",\"\",IF('Entry Information'!V127=\"\",T36,T36-100))","v":""},"",{"$f":"IF($R36=\"\",\"\",(VLOOKUP($V$41,Worksheet!$A$11:$AE$41,V36+1,FALSE)))","v":""},{"$f":"IF('Entry Information'!$I127=\"\",\"\",'ADVANCED RESULTS'!X37)","v":""},{"$f":"IF('Entry Information'!$I127=\"\",\"\",IF('ADVANCED RESULTS'!Y37=\"\",\"\",'ADVANCED RESULTS'!Y37))","v":""},"",{"$f":"IF('Entry Information'!$I127=\"\",\"\",IF('Entry Information'!X127=\"\",Z36,Z36-100))","v":""},"",{"$f":"IF($X36=\"\",\"\",(VLOOKUP($AB$41,Worksheet!$A$11:$AE$41,AB36+1,FALSE)))","v":""},{"$f":"IF('Entry Information'!$I127=\"\",\"\",'ADVANCED RESULTS'!AD37)","v":""},{"$f":"IF('Entry Information'!$I127=\"\",\"\",IF('ADVANCED RESULTS'!AE37=\"\",\"\",'ADVANCED RESULTS'!AE37))","v":""},"",{"$f":"IF('Entry Information'!$I127=\"\",\"\",IF('Entry Information'!Z127=\"\",AF36,AF36-100))","v":""},"",{"$f":"IF($AD36=\"\",\"\",(VLOOKUP($AH$41,Worksheet!$A$11:$AE$41,AH36+1,FALSE)))","v":""}]
[{"$f":"IF('Entry Information'!I128=\"\",\"\",'Entry Information'!B128)","v":""},{"$f":"IF('Entry Information'!I128=\"\",\"\",'Entry Information'!C128)","v":""},{"$f":"IF('Entry Information'!I128=\"\",\"\",'Entry Information'!D128)","v":""},{"$f":"IF('Entry Information'!I128=\"\",\"\",'Entry Information'!E128)","v":""},"ADV",{"$f":"IF('Entry Information'!$I128=\"\",\"\",'ADVANCED RESULTS'!F38)","v":""},{"$f":"IF('Entry Information'!$I128=\"\",\"\",IF('ADVANCED RESULTS'!G38=\"\",\"\",'ADVANCED RESULTS'!G38))","v":""},"",{"$f":"IF('Entry Information'!$I128=\"\",\"\",IF('Entry Information'!R128=\"\",H37,H37-100))","v":""},"",{"$f":"IF($F37=\"\",\"\",(VLOOKUP($J$41,Worksheet!$A$11:$AE$41,J37+1,FALSE)))","v":""},{"$f":"IF('Entry Information'!$I128=\"\",\"\",'ADVANCED RESULTS'!L38)","v":""},{"$f":"IF('Entry Information'!$I128=\"\",\"\",IF('ADVANCED RESULTS'!M38=\"\",\"\",'ADVANCED RESULTS'!M38))","v":""},"",{"$f":"IF('Entry Information'!$I128=\"\",\"\",IF('Entry Information'!T128=\"\",N37,N37-100))","v":""},"",{"$f":"IF($L37=\"\",\"\",(VLOOKUP($P$41,Worksheet!$A$11:$AE$41,P37+1,FALSE)))","v":""},{"$f":"IF('Entry Information'!$I128=\"\",\"\",'ADVANCED RESULTS'!R38)","v":""},{"$f":"IF('Entry Information'!$I128=\"\",\"\",IF('ADVANCED RESULTS'!S38=\"\",\"\",'ADVANCED RESULTS'!S38))","v":""},"",{"$f":"IF('Entry Information'!$I128=\"\",\"\",IF('Entry Information'!V128=\"\",T37,T37-100))","v":""},"",{"$f":"IF($R37=\"\",\"\",(VLOOKUP($V$41,Worksheet!$A$11:$AE$41,V37+1,FALSE)))","v":""},{"$f":"IF('Entry Information'!$I128=\"\",\"\",'ADVANCED RESULTS'!X38)","v":""},{"$f":"IF('Entry Information'!$I128=\"\",\"\",IF('ADVANCED RESULTS'!Y38=\"\",\"\",'ADVANCED RESULTS'!Y38))","v":""},"",{"$f":"IF('Entry Information'!$I128=\"\",\"\",IF('Entry Information'!X128=\"\",Z37,Z37-100))","v":""},"",{"$f":"IF($X37=\"\",\"\",(VLOOKUP($AB$41,Worksheet!$A$11:$AE$41,AB37+1,FALSE)))","v":""},{"$f":"IF('Entry Information'!$I128=\"\",\"\",'ADVANCED RESULTS'!AD38)","v":""},{"$f":"IF('Entry Information'!$I128=\"\",\"\",IF('ADVANCED RESULTS'!AE38=\"\",\"\",'ADVANCED RESULTS'!AE38))","v":""},"",{"$f":"IF('Entry Information'!$I128=\"\",\"\",IF('Entry Information'!Z128=\"\",AF37,AF37-100))","v":""},"",{"$f":"IF($AD37=\"\",\"\",(VLOOKUP($AH$41,Worksheet!$A$11:$AE$41,AH37+1,FALSE)))","v":""}]
[{"$f":"IF('Entry Information'!I129=\"\",\"\",'Entry Information'!B129)","v":""},{"$f":"IF('Entry Information'!I129=\"\",\"\",'Entry Information'!C129)","v":""},{"$f":"IF('Entry Information'!I129=\"\",\"\",'Entry Information'!D129)","v":""},{"$f":"IF('Entry Information'!I129=\"\",\"\",'Entry Information'!E129)","v":""},"ADV",{"$f":"IF('Entry Information'!$I129=\"\",\"\",'ADVANCED RESULTS'!F39)","v":""},{"$f":"IF('Entry Information'!$I129=\"\",\"\",IF('ADVANCED RESULTS'!G39=\"\",\"\",'ADVANCED RESULTS'!G39))","v":""},"",{"$f":"IF('Entry Information'!$I129=\"\",\"\",IF('Entry Information'!R129=\"\",H38,H38-100))","v":""},"",{"$f":"IF($F38=\"\",\"\",(VLOOKUP($J$41,Worksheet!$A$11:$AE$41,J38+1,FALSE)))","v":""},{"$f":"IF('Entry Information'!$I129=\"\",\"\",'ADVANCED RESULTS'!L39)","v":""},{"$f":"IF('Entry Information'!$I129=\"\",\"\",IF('ADVANCED RESULTS'!M39=\"\",\"\",'ADVANCED RESULTS'!M39))","v":""},"",{"$f":"IF('Entry Information'!$I129=\"\",\"\",IF('Entry Information'!T129=\"\",N38,N38-100))","v":""},"",{"$f":"IF($L38=\"\",\"\",(VLOOKUP($P$41,Worksheet!$A$11:$AE$41,P38+1,FALSE)))","v":""},{"$f":"IF('Entry Information'!$I129=\"\",\"\",'ADVANCED RESULTS'!R39)","v":""},{"$f":"IF('Entry Information'!$I129=\"\",\"\",IF('ADVANCED RESULTS'!S39=\"\",\"\",'ADVANCED RESULTS'!S39))","v":""},"",{"$f":"IF('Entry Information'!$I129=\"\",\"\",IF('Entry Information'!V129=\"\",T38,T38-100))","v":""},"",{"$f":"IF($R38=\"\",\"\",(VLOOKUP($V$41,Worksheet!$A$11:$AE$41,V38+1,FALSE)))","v":""},{"$f":"IF('Entry Information'!$I129=\"\",\"\",'ADVANCED RESULTS'!X39)","v":""},{"$f":"IF('Entry Information'!$I129=\"\",\"\",IF('ADVANCED RESULTS'!Y39=\"\",\"\",'ADVANCED RESULTS'!Y39))","v":""},"",{"$f":"IF('Entry Information'!$I129=\"\",\"\",IF('Entry Information'!X129=\"\",Z38,Z38-100))","v":""},"",{"$f":"IF($X38=\"\",\"\",(VLOOKUP($AB$41,Worksheet!$A$11:$AE$41,AB38+1,FALSE)))","v":""},{"$f":"IF('Entry Information'!$I129=\"\",\"\",'ADVANCED RESULTS'!AD39)","v":""},{"$f":"IF('Entry Information'!$I129=\"\",\"\",IF('ADVANCED RESULTS'!AE39=\"\",\"\",'ADVANCED RESULTS'!AE39))","v":""},"",{"$f":"IF('Entry Information'!$I129=\"\",\"\",IF('Entry Information'!Z129=\"\",AF38,AF38-100))","v":""},"",{"$f":"IF($AD38=\"\",\"\",(VLOOKUP($AH$41,Worksheet!$A$11:$AE$41,AH38+1,FALSE)))","v":""}]
[{"$f":"IF('Entry Information'!I130=\"\",\"\",'Entry Information'!B130)","v":""},{"$f":"IF('Entry Information'!I130=\"\",\"\",'Entry Information'!C130)","v":""},{"$f":"IF('Entry Information'!I130=\"\",\"\",'Entry Information'!D130)","v":""},{"$f":"IF('Entry Information'!I130=\"\",\"\",'Entry Information'!E130)","v":""},"ADV",{"$f":"IF('Entry Information'!$I130=\"\",\"\",'ADVANCED RESULTS'!F40)","v":""},{"$f":"IF('Entry Information'!$I130=\"\",\"\",IF('ADVANCED RESULTS'!G40=\"\",\"\",'ADVANCED RESULTS'!G40))","v":""},"",{"$f":"IF('Entry Information'!$I130=\"\",\"\",IF('Entry Information'!R130=\"\",H39,H39-100))","v":""},"",{"$f":"IF($F39=\"\",\"\",(VLOOKUP($J$41,Worksheet!$A$11:$AE$41,J39+1,FALSE)))","v":""},{"$f":"IF('Entry Information'!$I130=\"\",\"\",'ADVANCED RESULTS'!L40)","v":""},{"$f":"IF('Entry Information'!$I130=\"\",\"\",IF('ADVANCED RESULTS'!M40=\"\",\"\",'ADVANCED RESULTS'!M40))","v":""},"",{"$f":"IF('Entry Information'!$I130=\"\",\"\",IF('Entry Information'!T130=\"\",N39,N39-100))","v":""},"",{"$f":"IF($L39=\"\",\"\",(VLOOKUP($P$41,Worksheet!$A$11:$AE$41,P39+1,FALSE)))","v":""},{"$f":"IF('Entry Information'!$I130=\"\",\"\",'ADVANCED RESULTS'!R40)","v":""},{"$f":"IF('Entry Information'!$I130=\"\",\"\",IF('ADVANCED RESULTS'!S40=\"\",\"\",'ADVANCED RESULTS'!S40))","v":""},"",{"$f":"IF('Entry Information'!$I130=\"\",\"\",IF('Entry Information'!V130=\"\",T39,T39-100))","v":""},"",{"$f":"IF($R39=\"\",\"\",(VLOOKUP($V$41,Worksheet!$A$11:$AE$41,V39+1,FALSE)))","v":""},{"$f":"IF('Entry Information'!$I130=\"\",\"\",'ADVANCED RESULTS'!X40)","v":""},{"$f":"IF('Entry Information'!$I130=\"\",\"\",IF('ADVANCED RESULTS'!Y40=\"\",\"\",'ADVANCED RESULTS'!Y40))","v":""},"",{"$f":"IF('Entry Information'!$I130=\"\",\"\",IF('Entry Information'!X130=\"\",Z39,Z39-100))","v":""},"",{"$f":"IF($X39=\"\",\"\",(VLOOKUP($AB$41,Worksheet!$A$11:$AE$41,AB39+1,FALSE)))","v":""},{"$f":"IF('Entry Information'!$I130=\"\",\"\",'ADVANCED RESULTS'!AD40)","v":""},{"$f":"IF('Entry Information'!$I130=\"\",\"\",IF('ADVANCED RESULTS'!AE40=\"\",\"\",'ADVANCED RESULTS'!AE40))","v":""},"",{"$f":"IF('Entry Information'!$I130=\"\",\"\",IF('Entry Information'!Z130=\"\",AF39,AF39-100))","v":""},"",{"$f":"IF($AD39=\"\",\"\",(VLOOKUP($AH$41,Worksheet!$A$11:$AE$41,AH39+1,FALSE)))","v":""}]
[]
[null,null,null,null,null,null,null,{"$f":"IF(G41=\"\",F41,(F41+(G41*0.001)))","v":0},null,{"$f":"COUNTIF(J10:J39,\">=0\")","v":0},null,null,null,null,null,{"$f":"COUNTIF(P10:P39,\">=0\")","v":0},null,null,null,null,null,{"$f":"COUNTIF(V10:V39,\">=0\")","v":0},null,null,null,null,null,{"$f":"COUNTIF(AB10:AB39,\">=0\")","v":0},null,null,null,null,null,{"$f":"COUNTIF(AH10:AH39,\">=0\")","v":0}]
[null,null,null,null,null,"1 - Total Penalty Points",null,null,null,null,null,"1 - Total Penalty Points",null,null,null,null,null,"1 Total Penalty Points",null,null,null,null,null,"1 - Total Penalty Points",null,null,null,null,null,"1 - Total Penalty Points"]
[null,null,null,null,null,"2 - Extended Trot",null,null,null,null,null,"2 - Drag Log",null,null,null,null,null,"2 - 1st Cow Working Center of Arena",null,null,null,null,null,"2 - Roping Cow",null,null,null,null,null,"2 - Roping Cow"]
[null,null,null,null,null,"3 - Transition down lope/walk/stop",null,null,null,null,null,"3 - Ground tie/bridle/pick-up leg(s)",null,null,null,null,null,"3 - 1st Cow Cut from Herd",null,null,null,null,null,"3 - Box Cow",null,null,null,null,null,"3 - Box Cow"]
[null,null,null,null,null,"4 - Transition to lope/lope",null,null,null,null,null,"4 - Gate",null,null,null,null,null,"4 -2nd Cow Working Center of Arena",null,null,null,null,null,"4 - First Lead Change",null,null,null,null,null,"4 - First Lead Change"]
[]
[]
["Scores in RED are ties - enter a 1 in the Tie Breaker Column of the winner to break tie.  If multiple ties enter a 1 for the second place and a 2 for winner."]
[]
[]
["Places highlighted have a major penatly."]
[]
["If Entered in \"Jack Pot\" cell to the right of Event All Around with be highlighted"]

{"sheet":"OPEN RESULTS","index":19,"n_rows":52,"n_cols":50,"rows_kept":52,"cut":false,"hidden":true,"merged":[[4,36,4,49],[5,39,9,39],[5,17,5,22],[5,11,5,16],[5,23,5,28],[6,23,6,28],[5,36,9,36],[7,19,9,19],[7,13,9,13],[5,37,9,37],[7,30,9,30],[7,33,9,33],[7,22,9,22],[7,27,9,27],[7,26,9,26],[6,17,6,22],[2,1,2,2],[2,4,2,5],[2,9,2,11],[2,21,2,22],[4,5,4,34],[2,23,2,28],[1,29,1,34],[2,29,2,34],[7,25,9,25],[5,5,5,10],[7,32,9,32],[7,7,9,7],[6,5,6,10],[7,21,9,21],[7,20,9,20],[7,11,9,11],[6,11,6,16],[7,14,9,14],[7,31,9,31],[7,34,9,34],[6,29,6,34],[1,0,1,2],[1,4,1,5],[1,9,1,16],[1,21,1,22],[1,23,1,28],[48,0,49,4],[5,29,5,34],[7,28,9,28],[7,12,9,12],[7,15,9,15],[7,16,9,16],[7,23,9,23],[7,24,9,24],[7,17,9,17],[7,9,9,9],[7,5,9,5],[7,6,9,6],[7,10,9,10],[7,8,9,8],[7,18,9,18],[7,29,9,29],[5,44,9,44],[5,42,9,42],[5,41,9,41],[5,49,9,49],[5,47,9,47],[5,46,9,46]]}
[]
[null,null,null,null,"Event Name:",null,null,null,null,{"$f":"'Entry Information'!C4","v":"Ranch Horse Challenge"},null,null,null,null,null,null,null,null,null,null,null,"Judge #1 Name/Classes:",null,{"$f":"'Entry Information'!F4","v":"Mike Lund"}]
["Division:","OPEN",null,null,"Event Date:",null,null,null,null,{"$f":"'Entry Information'!C5","v":"2018-03-25"},null,null,null,null,null,null,null,null,null,null,null,"Judge #2 Name/Classes:",null,{"$f":"'Entry Information'!F5","v":"Karen Arlin"}]
[]
[null,null,null,null,null,"OPEN INDIVIDUAL CLASS RESULTS",null,null,null,null,null,null,null,null,null,null,null,null,null,null,null,null,null,null,null,null,null,null,null,null,null,null,null,null,null,null,"OPEN ALL AROUND RESULTS"]
[null,null,null,null,null,"RANCH",null,null,null,null,null,"RANCH",null,null,null,null,null,"RANCH",null,null,null,null,null,"RANCH",null,null,null,null,null,"RANCH",null,null,null,null,null,null,"TOTAL  ALL AROUND PLACEMENT POINTS","Tie Breaker","Adjusted ","EVENT ALL AROUND",null,"TOTAL SELECT ALL AROUND PLACEMENT POINTS","Tie Breaker","Adjusted ","SELECT ALL AROUND",null,"TOTAL   JR HORSE ALL AROUND PLACEMENT POINTS","Tie Breaker","Adjusted ","JR HORSE ALL AROUND"]
[null,null,null,null,null,"RIDING",null,null,null,null,null,"TRAIL",null,null,null,null,null,"CUTING",null,null,null,null,null,"REINED WORK",null,null,null,null,null,"COW WORK",null,null,null,null,null,null,null,null,"Placement",null,null,null,null,"Placement",null,null,null,null,"Placement"]
[null,null,null,null,null,"Score","Tie Breaker","Adjusted Score for Ties","Adjusted Score Major Penalty","Place","Placement Points","Score","Tie Breaker","Adjusted Score for Ties","Adjusted Score Major Penalty","Place","Placement Points","Score","Tie Breaker","Adjusted Score for Ties","Adjusted Score Major Penalty","Place","Placement Points","Score","Tie Breaker","Adjusted Score for Ties","Adjusted Score Major Penalty","Place","Placement Points","Score","Tie Breaker","Adjusted Score for Ties","Adjusted Score Major Penalty","Place","Placement Points",null,null,null,"Points",null,null,null,null,"Points",null,null,null,null,"Points"]
[]
["Back No.","Last Name","First Name","Registered Horse Name","Division"]
[{"$f":"IF('Entry Information'!B131=\"\",\"\",'Entry Information'!B131)","v":""},{"$f":"IF('Entry Information'!C131=\"\",\"\",'Entry Information'!C131)","v":""},{"$f":"IF('Entry Information'!D131=\"\",\"\",'Entry Information'!D131)","v":""},{"$f":"IF('Entry Information'!E131=\"\",\"\",'Entry Information'!E131)","v":""},"OPEN",{"$f":"IF('Entry Information'!Q131=\"\",\"\",'Entry Information'!Q131)","v":""},null,{"$f":"IF(G11=\"\",F11,(F11+(G11*0.001)))","v":""},{"$f":"IF('Entry Information'!R131=\"\",H11,H11-100)","v":""},{"$f":"IF(I11=\"\",\"\",(RANK(I11,$I$11:$I$40,0)))","v":""},{"$f":"IF($F11=\"\",\"\",(VLOOKUP($J$42,Worksheet!$A$11:$AE$41,J11+1,FALSE)))","v":""},{"$f":"IF('Entry Information'!S131=\"\",\"\",'Entry Information'!S131)","v":""},null,{"$f":"IF(M11=\"\",L11,(L11+(M11*0.001)))","v":""},{"$f":"IF('Entry Information'!T131=\"\",N11,N11-100)","v":""},{"$f":"IF(O11=\"\",\"\",(RANK(O11,$O$11:$O$40,0)))","v":""},{"$f":"IF($L11=\"\",\"\",(VLOOKUP($P$42,Worksheet!$A$11:$AE$41,P11+1,FALSE)))","v":""},{"$f":"IF('Entry Information'!U131=\"\",\"\",'Entry Information'!U131)","v":""},null,{"$f":"IF(S11=\"\",R11,(R11+(S11*0.001)))","v":""},{"$f":"IF('Entry Information'!V131=\"\",T11,T11-100)","v":""},{"$f":"IF(U11=\"\",\"\",(RANK(U11,$U$11:$U$40,0)))","v":""},{"$f":"IF($R11=\"\",\"\",(VLOOKUP($V$42,Worksheet!$A$11:$AE$41,V11+1,FALSE)))","v":""},{"$f":"IF('Entry Information'!W131=\"\",\"\",'Entry Information'!W131)","v":""},null,{"$f":"IF(Y11=\"\",X11,(X11+(Y11*0.001)))","v":""},{"$f":"IF('Entry Information'!X131=\"\",Z11,Z11-100)","v":""},{"$f":"IF(AA11=\"\",\"\",(RANK(AA11,$AA$11:$AA$40,0)))","v":""},{"$f":"IF($X11=\"\",\"\",(VLOOKUP($AB$42,Worksheet!$A$11:$AE$41,AB11+1,FALSE)))","v":""},{"$f":"IF('Entry Information'!Y131=\"\",\"\",'Entry Information'!Y131)","v":""},null,{"$f":"IF(AE11=\"\",AD11,(AD11+(AE11*0.001)))","v":""},{"$f":"IF('Entry Information'!Z131=\"\",AF11,AF11-100)","v":""},{"$f":"IF(AG11=\"\",\"\",(RANK(AG11,$AG$11:$AG$40,0)))","v":""},{"$f":"IF($AD11=\"\",\"\",(VLOOKUP($AH$42,Worksheet!$A$11:$AE$41,AH11+1,FALSE)))","v":""},null,{"$f":"IF('OPEN ALL-AROUND RESULTS'!A10=\"\",\"\",(SUM('OPEN ALL-AROUND RESULTS'!$K10,'OPEN ALL-AROUND RESULTS'!$AC10,'OPEN ALL-AROUND RESULTS'!$AI10,'OPEN ALL-AROUND RESULTS'!$W10,'OPEN ALL-AROUND RESULTS'!$Q10)))","v":""},null,{"$f":"IF(AL11=\"\",AK11,(AK11+(AL11*0.001)))","v":""},{"$f":"IF(AM11=\"\",\"\",(RANK(AM11,$AM$11:$AM$40,0)))","v":""},null,{"$f":"IF(OR('Entry Information'!H131=\"\",'Entry Information'!J131=\"\"),\"\",(SUM('OPEN SELECT RESULTS'!$K10,'OPEN SELECT RESULTS'!$AC10,'OPEN SELECT RESULTS'!$AI10, 'OPEN SELECT RESULTS'!$W10,'OPEN SELECT RESULTS'!$Q10)))","v":""},null,{"$f":"IF(AQ11=\"\",AP11,(AP11+(AQ11*0.001)))","v":""},{"$f":"IF(AR11=\"\",\"\",(RANK(AR11,$AR$11:$AR$40,0)))","v":""},null,{"$f":"IF(OR('Entry Information'!I131=\"\",'Entry Information'!J131=\"\"),\"\",(SUM('OPEN JR HORSE RESULTS'!$K10,'OPEN JR HORSE RESULTS'!$AC10,'OPEN JR HORSE RESULTS'!$AI10, 'OPEN JR HORSE RESULTS'!$W10,'OPEN JR HORSE RESULTS'!$Q10)))","v":""},null,{"$f":"IF(AV11=\"\",AU11,(AU11+(AV11*0.001)))","v":""},{"$f":"IF(AW11=\"\",\"\",(RANK(AW11,$AW$11:$AW$40,0)))","v":""}]
[{"$f":"IF('Entry Information'!B132=\"\",\"\",'Entry Information'!B132)","v":""},{"$f":"IF('Entry Information'!C132=\"\",\"\",'Entry Information'!C132)","v":""},{"$f":"IF('Entry Information'!D132=\"\",\"\",'Entry Information'!D132)","v":""},{"$f":"IF('Entry Information'!E132=\"\",\"\",'Entry Information'!E132)","v":""},"OPEN",{"$f":"IF('Entry Information'!Q132=\"\",\"\",'Entry Information'!Q132)","v":""},null,{"$f":"IF(G12=\"\",F12,(F12+(G12*0.001)))","v":""},{"$f":"IF('Entry Information'!R132=\"\",H12,H12-100)","v":""},{"$f":"IF(I12=\"\",\"\",(RANK(I12,$I$11:$I$40,0)))","v":""},{"$f":"IF($F12=\"\",\"\",(VLOOKUP($J$42,Worksheet!$A$11:$AE$41,J12+1,FALSE)))","v":""},{"$f":"IF('Entry Information'!S132=\"\",\"\",'Entry Information'!S132)","v":""},null,"",{"$f":"IF('Entry Information'!T132=\"\",N12,N12-100)","v":""},{"$f":"IF(O12=\"\",\"\",(RANK(O12,$O$11:$O$40,0)))","v":""},{"$f":"IF($L12=\"\",\"\",(VLOOKUP($P$42,Worksheet!$A$11:$AE$41,P12+1,FALSE)))","v":""},{"$f":"IF('Entry Information'!U132=\"\",\"\",'Entry Information'!U132)","v":""},null,{"$f":"IF(S12=\"\",R12,(R12+(S12*0.001)))","v":""},{"$f":"IF('Entry Information'!V132=\"\",T12,T12-100)","v":""},{"$f":"IF(T12=\"\",\"\",(RANK(T12,$T$11:$T$40,0)))","v":""},{"$f":"IF($R12=\"\",\"\",(VLOOKUP($V$42,Worksheet!$A$11:$AE$41,V12+1,FALSE)))","v":""},{"$f":"IF('Entry Information'!W132=\"\",\"\",'Entry Information'!W132)","v":""},null,{"$f":"IF(Y12=\"\",X12,(X12+(Y12*0.001)))","v":""},{"$f":"IF('Entry Information'!X132=\"\",Z12,Z12-100)","v":""},{"$f":"IF(AA12=\"\",\"\",(RANK(AA12,$AA$11:$AA$40,0)))","v":""},{"$f":"IF($X12=\"\",\"\",(VLOOKUP($AB$42,Worksheet!$A$11:$AE$41,AB12+1,FALSE)))","v":""},{"$f":"IF('Entry Information'!Y132=\"\",\"\",'Entry Information'!Y132)","v":""},null,{"$f":"IF(AE12=\"\",AD12,(AD12+(AE12*0.001)))","v":""},{"$f":"IF('Entry Information'!Z132=\"\",AF12,AF12-100)","v":""},{"$f":"IF(AG12=\"\",\"\",(RANK(AG12,$AG$11:$AG$40,0)))","v":""},{"$f":"IF($AD12=\"\",\"\",(VLOOKUP($AH$42,Worksheet!$A$11:$AE$41,AH12+1,FALSE)))","v":""},null,{"$f":"IF('OPEN ALL-AROUND RESULTS'!A11=\"\",\"\",(SUM('OPEN ALL-AROUND RESULTS'!$K11,'OPEN ALL-AROUND RESULTS'!$AC11,'OPEN ALL-AROUND RESULTS'!$AI11,'OPEN ALL-AROUND RESULTS'!$W11,'OPEN ALL-AROUND RESULTS'!$Q11)))","v":""},null,"","",null,{"$f":"IF(OR('Entry Information'!H132=\"\",'Entry Information'!J132=\"\"),\"\",(SUM('OPEN SELECT RESULTS'!$K11,'OPEN SELECT RESULTS'!$AC11,'OPEN SELECT RESULTS'!$AI11, 'OPEN SELECT RESULTS'!$W11,'OPEN SELECT RESULTS'!$Q11)))","v":""},null,"","",null,{"$f":"IF(OR('Entry Information'!I132=\"\",'Entry Information'!J132=\"\"),\"\",(SUM('OPEN JR HORSE RESULTS'!$K11,'OPEN JR HORSE RESULTS'!$AC11,'OPEN JR HORSE RESULTS'!$AI11, 'OPEN JR HORSE RESULTS'!$W11,'OPEN JR HORSE RESULTS'!$Q11)))","v":""},null,"",""]
[{"$f":"IF('Entry Information'!B133=\"\",\"\",'Entry Information'!B133)","v":""},{"$f":"IF('Entry Information'!C133=\"\",\"\",'Entry Information'!C133)","v":""},{"$f":"IF('Entry Information'!D133=\"\",\"\",'Entry Information'!D133)","v":""},{"$f":"IF('Entry Information'!E133=\"\",\"\",'Entry Information'!E133)","v":""},"OPEN",{"$f":"IF('Entry Information'!Q133=\"\",\"\",'Entry Information'!Q133)","v":""},null,"",{"$f":"IF('Entry Information'!R133=\"\",H13,H13-100)","v":""},"",{"$f":"IF($F13=\"\",\"\",(VLOOKUP($J$42,Worksheet!$A$11:$AE$41,J13+1,FALSE)))","v":""},{"$f":"IF('Entry Information'!S133=\"\",\"\",'Entry Information'!S133)","v":""},null,"",{"$f":"IF('Entry Information'!T133=\"\",N13,N13-100)","v":""},"",{"$f":"IF($L13=\"\",\"\",(VLOOKUP($P$42,Worksheet!$A$11:$AE$41,P13+1,FALSE)))","v":""},{"$f":"IF('Entry Information'!U133=\"\",\"\",'Entry Information'!U133)","v":""},null,"",{"$f":"IF('Entry Information'!V133=\"\",T13,T13-100)","v":""},"",{"$f":"IF($R13=\"\",\"\",(VLOOKUP($V$42,Worksheet!$A$11:$AE$41,V13+1,FALSE)))","v":""},{"$f":"IF('Entry Information'!W133=\"\",\"\",'Entry Information'!W133)","v":""},null,"",{"$f":"IF('Entry Information'!X133=\"\",Z13,Z13-100)","v":""},"",{"$f":"IF($X13=\"\",\"\",(VLOOKUP($AB$42,Worksheet!$A$11:$AE$41,AB13+1,FALSE)))","v":""},{"$f":"IF('Entry Information'!Y133=\"\",\"\",'Entry Information'!Y133)","v":""},null,"",{"$f":"IF('Entry Information'!Z133=\"\",AF13,AF13-100)","v":""},"",{"$f":"IF($AD13=\"\",\"\",(VLOOKUP($AH$42,Worksheet!$A$11:$AE$41,AH13+1,FALSE)))","v":""},null,{"$f":"IF('OPEN ALL-AROUND RESULTS'!A12=\"\",\"\",(SUM('OPEN ALL-AROUND RESULTS'!$K12,'OPEN ALL-AROUND RESULTS'!$AC12,'OPEN ALL-AROUND RESULTS'!$AI12,'OPEN ALL-AROUND RESULTS'!$W12,'OPEN ALL-AROUND RESULTS'!$Q12)))","v":""},null,"","",null,{"$f":"IF(OR('Entry Information'!H133=\"\",'Entry Information'!J133=\"\"),\"\",(SUM('OPEN SELECT RESULTS'!$K12,'OPEN SELECT RESULTS'!$AC12,'OPEN SELECT RESULTS'!$AI12, 'OPEN SELECT RESULTS'!$W12,'OPEN SELECT RESULTS'!$Q12)))","v":""},null,"","",null,{"$f":"IF(OR('Entry Information'!I133=\"\",'Entry Information'!J133=\"\"),\"\",(SUM('OPEN JR HORSE RESULTS'!$K12,'OPEN JR HORSE RESULTS'!$AC12,'OPEN JR HORSE RESULTS'!$AI12, 'OPEN JR HORSE RESULTS'!$W12,'OPEN JR HORSE RESULTS'!$Q12)))","v":""},null,"",""]
[{"$f":"IF('Entry Information'!B134=\"\",\"\",'Entry Information'!B134)","v":""},{"$f":"IF('Entry Information'!C134=\"\",\"\",'Entry Information'!C134)","v":""},{"$f":"IF('Entry Information'!D134=\"\",\"\",'Entry Information'!D134)","v":""},{"$f":"IF('Entry Information'!E134=\"\",\"\",'Entry Information'!E134)","v":""},"OPEN",{"$f":"IF('Entry Information'!Q134=\"\",\"\",'Entry Information'!Q134)","v":""},null,"",{"$f":"IF('Entry Information'!R134=\"\",H14,H14-100)","v":""},"",{"$f":"IF($F14=\"\",\"\",(VLOOKUP($J$42,Worksheet!$A$11:$AE$41,J14+1,FALSE)))","v":""},{"$f":"IF('Entry Information'!S134=\"\",\"\",'Entry Information'!S134)","v":""},null,"",{"$f":"IF('Entry Information'!T134=\"\",N14,N14-100)","v":""},"",{"$f":"IF($L14=\"\",\"\",(VLOOKUP($P$42,Worksheet!$A$11:$AE$41,P14+1,FALSE)))","v":""},{"$f":"IF('Entry Information'!U134=\"\",\"\",'Entry Information'!U134)","v":""},null,"",{"$f":"IF('Entry Information'!V134=\"\",T14,T14-100)","v":""},"",{"$f":"IF($R14=\"\",\"\",(VLOOKUP($V$42,Worksheet!$A$11:$AE$41,V14+1,FALSE)))","v":""},{"$f":"IF('Entry Information'!W134=\"\",\"\",'Entry Information'!W134)","v":""},null,"",{"$f":"IF('Entry Information'!X134=\"\",Z14,Z14-100)","v":""},"",{"$f":"IF($X14=\"\",\"\",(VLOOKUP($AB$42,Worksheet!$A$11:$AE$41,AB14+1,FALSE)))","v":""},{"$f":"IF('Entry Information'!Y134=\"\",\"\",'Entry Information'!Y134)","v":""},null,"",{"$f":"IF('Entry Information'!Z134=\"\",AF14,AF14-100)","v":""},"",{"$f":"IF($AD14=\"\",\"\",(VLOOKUP($AH$42,Worksheet!$A$11:$AE$41,AH14+1,FALSE)))","v":""},null,{"$f":"IF('OPEN ALL-AROUND RESULTS'!A13=\"\",\"\",(SUM('OPEN ALL-AROUND RESULTS'!$K13,'OPEN ALL-AROUND RESULTS'!$AC13,'OPEN ALL-AROUND RESULTS'!$AI13,'OPEN ALL-AROUND RESULTS'!$W13,'OPEN ALL-AROUND RESULTS'!$Q13)))","v":""},null,"","",null,{"$f":"IF(OR('Entry Information'!H134=\"\",'Entry Information'!J134=\"\"),\"\",(SUM('OPEN SELECT RESULTS'!$K13,'OPEN SELECT RESULTS'!$AC13,'OPEN SELECT RESULTS'!$AI13, 'OPEN SELECT RESULTS'!$W13,'OPEN SELECT RESULTS'!$Q13)))","v":""},null,"","",null,{"$f":"IF(OR('Entry Information'!I134=\"\",'Entry Information'!J134=\"\"),\"\",(SUM('OPEN JR HORSE RESULTS'!$K13,'OPEN JR HORSE RESULTS'!$AC13,'OPEN JR HORSE RESULTS'!$AI13, 'OPEN JR HORSE RESULTS'!$W13,'OPEN JR HORSE RESULTS'!$Q13)))","v":""},null,"",""]
[{"$f":"IF('Entry Information'!B135=\"\",\"\",'Entry Information'!B135)","v":""},{"$f":"IF('Entry Information'!C135=\"\",\"\",'Entry Information'!C135)","v":""},{"$f":"IF('Entry Information'!D135=\"\",\"\",'Entry Information'!D135)","v":""},{"$f":"IF('Entry Information'!E135=\"\",\"\",'Entry Information'!E135)","v":""},"OPEN",{"$f":"IF('Entry Information'!Q135=\"\",\"\",'Entry Information'!Q135)","v":""},null,"",{"$f":"IF('Entry Information'!R135=\"\",H15,H15-100)","v":""},"",{"$f":"IF($F15=\"\",\"\",(VLOOKUP($J$42,Worksheet!$A$11:$AE$41,J15+1,FALSE)))","v":""},{"$f":"IF('Entry Information'!S135=\"\",\"\",'Entry Information'!S135)","v":""},null,"",{"$f":"IF('Entry Information'!T135=\"\",N15,N15-100)","v":""},"",{"$f":"IF($L15=\"\",\"\",(VLOOKUP($P$42,Worksheet!$A$11:$AE$41,P15+1,FALSE)))","v":""},{"$f":"IF('Entry Information'!U135=\"\",\"\",'Entry Information'!U135)","v":""},null,"",{"$f":"IF('Entry Information'!V135=\"\",T15,T15-100)","v":""},"",{"$f":"IF($R15=\"\",\"\",(VLOOKUP($V$42,Worksheet!$A$11:$AE$41,V15+1,FALSE)))","v":""},{"$f":"IF('Entry Information'!W135=\"\",\"\",'Entry Information'!W135)","v":""},null,"",{"$f":"IF('Entry Information'!X135=\"\",Z15,Z15-100)","v":""},"",{"$f":"IF($X15=\"\",\"\",(VLOOKUP($AB$42,Worksheet!$A$11:$AE$41,AB15+1,FALSE)))","v":""},{"$f":"IF('Entry Information'!Y135=\"\",\"\",'Entry Information'!Y135)","v":""},null,"",{"$f":"IF('Entry Information'!Z135=\"\",AF15,AF15-100)","v":""},"",{"$f":"IF($AD15=\"\",\"\",(VLOOKUP($AH$42,Worksheet!$A$11:$AE$41,AH15+1,FALSE)))","v":""},null,{"$f":"IF('OPEN ALL-AROUND RESULTS'!A14=\"\",\"\",(SUM('OPEN ALL-AROUND RESULTS'!$K14,'OPEN ALL-AROUND RESULTS'!$AC14,'OPEN ALL-AROUND RESULTS'!$AI14,'OPEN ALL-AROUND RESULTS'!$W14,'OPEN ALL-AROUND RESULTS'!$Q14)))","v":""},null,"","",null,{"$f":"IF(OR('Entry Information'!H135=\"\",'Entry Information'!J135=\"\"),\"\",(SUM('OPEN SELECT RESULTS'!$K14,'OPEN SELECT RESULTS'!$AC14,'OPEN SELECT RESULTS'!$AI14, 'OPEN SELECT RESULTS'!$W14,'OPEN SELECT RESULTS'!$Q14)))","v":""},null,"","",null,{"$f":"IF(OR('Entry Information'!I135=\"\",'Entry Information'!J135=\"\"),\"\",(SUM('OPEN JR HORSE RESULTS'!$K14,'OPEN JR HORSE RESULTS'!$AC14,'OPEN JR HORSE RESULTS'!$AI14, 'OPEN JR HORSE RESULTS'!$W14,'OPEN JR HORSE RESULTS'!$Q14)))","v":""},null,"",""]
[{"$f":"IF('Entry Information'!B136=\"\",\"\",'Entry Information'!B136)","v":""},{"$f":"IF('Entry Information'!C136=\"\",\"\",'Entry Information'!C136)","v":""},{"$f":"IF('Entry Information'!D136=\"\",\"\",'Entry Information'!D136)","v":""},{"$f":"IF('Entry Information'!E136=\"\",\"\",'Entry Information'!E136)","v":""},"OPEN",{"$f":"IF('Entry Information'!Q136=\"\",\"\",'Entry Information'!Q136)","v":""},null,"",{"$f":"IF('Entry Information'!R136=\"\",H16,H16-100)","v":""},"",{"$f":"IF($F16=\"\",\"\",(VLOOKUP($J$42,Worksheet!$A$11:$AE$41,J16+1,FALSE)))","v":""},{"$f":"IF('Entry Information'!S136=\"\",\"\",'Entry Information'!S136)","v":""},null,"",{"$f":"IF('Entry Information'!T136=\"\",N16,N16-100)","v":""},"",{"$f":"IF($L16=\"\",\"\",(VLOOKUP($P$42,Worksheet!$A$11:$AE$41,P16+1,FALSE)))","v":""},{"$f":"IF('Entry Information'!U136=\"\",\"\",'Entry Information'!U136)","v":""},null,"",{"$f":"IF('Entry Information'!V136=\"\",T16,T16-100)","v":""},"",{"$f":"IF($R16=\"\",\"\",(VLOOKUP($V$42,Worksheet!$A$11:$AE$41,V16+1,FALSE)))","v":""},{"$f":"IF('Entry Information'!W136=\"\",\"\",'Entry Information'!W136)","v":""},null,"",{"$f":"IF('Entry Information'!X136=\"\",Z16,Z16-100)","v":""},"",{"$f":"IF($X16=\"\",\"\",(VLOOKUP($AB$42,Worksheet!$A$11:$AE$41,AB16+1,FALSE)))","v":""},{"$f":"IF('Entry Information'!Y136=\"\",\"\",'Entry Information'!Y136)","v":""},null,"",{"$f":"IF('Entry Information'!Z136=\"\",AF16,AF16-100)","v":""},"",{"$f":"IF($AD16=\"\",\"\",(VLOOKUP($AH$42,Worksheet!$A$11:$AE$41,AH16+1,FALSE)))","v":""},null,{"$f":"IF('OPEN ALL-AROUND RESULTS'!A15=\"\",\"\",(SUM('OPEN ALL-AROUND RESULTS'!$K15,'OPEN ALL-AROUND RESULTS'!$AC15,'OPEN ALL-AROUND RESULTS'!$AI15,'OPEN ALL-AROUND RESULTS'!$W15,'OPEN ALL-AROUND RESULTS'!$Q15)))","v":""},null,"","",null,{"$f":"IF(OR('Entry Information'!H136=\"\",'Entry Information'!J136=\"\"),\"\",(SUM('OPEN SELECT RESULTS'!$K15,'OPEN SELECT RESULTS'!$AC15,'OPEN SELECT RESULTS'!$AI15, 'OPEN SELECT RESULTS'!$W15,'OPEN SELECT RESULTS'!$Q15)))","v":""},null,"","",null,{"$f":"IF(OR('Entry Information'!I136=\"\",'Entry Information'!J136=\"\"),\"\",(SUM('OPEN JR HORSE RESULTS'!$K15,'OPEN JR HORSE RESULTS'!$AC15,'OPEN JR HORSE RESULTS'!$AI15, 'OPEN JR HORSE RESULTS'!$W15,'OPEN JR HORSE RESULTS'!$Q15)))","v":""},null,"",""]
[{"$f":"IF('Entry Information'!B137=\"\",\"\",'Entry Information'!B137)","v":""},{"$f":"IF('Entry Information'!C137=\"\",\"\",'Entry Information'!C137)","v":""},{"$f":"IF('Entry Information'!D137=\"\",\"\",'Entry Information'!D137)","v":""},{"$f":"IF('Entry Information'!E137=\"\",\"\",'Entry Information'!E137)","v":""},"OPEN",{"$f":"IF('Entry Information'!Q137=\"\",\"\",'Entry Information'!Q137)","v":""},null,"",{"$f":"IF('Entry Information'!R137=\"\",H17,H17-100)","v":""},"",{"$f":"IF($F17=\"\",\"\",(VLOOKUP($J$42,Worksheet!$A$11:$AE$41,J17+1,FALSE)))","v":""},{"$f":"IF('Entry Information'!S137=\"\",\"\",'Entry Information'!S137)","v":""},null,"",{"$f":"IF('Entry Information'!T137=\"\",N17,N17-100)","v":""},"",{"$f":"IF($L17=\"\",\"\",(VLOOKUP($P$42,Worksheet!$A$11:$AE$41,P17+1,FALSE)))","v":""},{"$f":"IF('Entry Information'!U137=\"\",\"\",'Entry Information'!U137)","v":""},null,"",{"$f":"IF('Entry Information'!V137=\"\",T17,T17-100)","v":""},"",{"$f":"IF($R17=\"\",\"\",(VLOOKUP($V$42,Worksheet!$A$11:$AE$41,V17+1,FALSE)))","v":""},{"$f":"IF('Entry Information'!W137=\"\",\"\",'Entry Information'!W137)","v":""},null,"",{"$f":"IF('Entry Information'!X137=\"\",Z17,Z17-100)","v":""},"",{"$f":"IF($X17=\"\",\"\",(VLOOKUP($AB$42,Worksheet!$A$11:$AE$41,AB17+1,FALSE)))","v":""},{"$f":"IF('Entry Information'!Y137=\"\",\"\",'Entry Information'!Y137)","v":""},null,"",{"$f":"IF('Entry Information'!Z137=\"\",AF17,AF17-100)","v":""},"",{"$f":"IF($AD17=\"\",\"\",(VLOOKUP($AH$42,Worksheet!$A$11:$AE$41,AH17+1,FALSE)))","v":""},null,{"$f":"IF('OPEN ALL-AROUND RESULTS'!A16=\"\",\"\",(SUM('OPEN ALL-AROUND RESULTS'!$K16,'OPEN ALL-AROUND RESULTS'!$AC16,'OPEN ALL-AROUND RESULTS'!$AI16,'OPEN ALL-AROUND RESULTS'!$W16,'OPEN ALL-AROUND RESULTS'!$Q16)))","v":""},null,"","",null,{"$f":"IF(OR('Entry Information'!H137=\"\",'Entry Information'!J137=\"\"),\"\",(SUM('OPEN SELECT RESULTS'!$K16,'OPEN SELECT RESULTS'!$AC16,'OPEN SELECT RESULTS'!$AI16, 'OPEN SELECT RESULTS'!$W16,'OPEN SELECT RESULTS'!$Q16)))","v":""},null,"","",null,{"$f":"IF(OR('Entry Information'!I137=\"\",'Entry Information'!J137=\"\"),\"\",(SUM('OPEN JR HORSE RESULTS'!$K16,'OPEN JR HORSE RESULTS'!$AC16,'OPEN JR HORSE RESULTS'!$AI16, 'OPEN JR HORSE RESULTS'!$W16,'OPEN JR HORSE RESULTS'!$Q16)))","v":""},null,"",""]
[{"$f":"IF('Entry Information'!B138=\"\",\"\",'Entry Information'!B138)","v":""},{"$f":"IF('Entry Information'!C138=\"\",\"\",'Entry Information'!C138)","v":""},{"$f":"IF('Entry Information'!D138=\"\",\"\",'Entry Information'!D138)","v":""},{"$f":"IF('Entry Information'!E138=\"\",\"\",'Entry Information'!E138)","v":""},"OPEN",{"$f":"IF('Entry Information'!Q138=\"\",\"\",'Entry Information'!Q138)","v":""},null,"",{"$f":"IF('Entry Information'!R138=\"\",H18,H18-100)","v":""},"",{"$f":"IF($F18=\"\",\"\",(VLOOKUP($J$42,Worksheet!$A$11:$AE$41,J18+1,FALSE)))","v":""},{"$f":"IF('Entry Information'!S138=\"\",\"\",'Entry Information'!S138)","v":""},null,"",{"$f":"IF('Entry Information'!T138=\"\",N18,N18-100)","v":""},"",{"$f":"IF($L18=\"\",\"\",(VLOOKUP($P$42,Worksheet!$A$11:$AE$41,P18+1,FALSE)))","v":""},{"$f":"IF('Entry Information'!U138=\"\",\"\",'Entry Information'!U138)","v":""},null,"",{"$f":"IF('Entry Information'!V138=\"\",T18,T18-100)","v":""},"",{"$f":"IF($R18=\"\",\"\",(VLOOKUP($V$42,Worksheet!$A$11:$AE$41,V18+1,FALSE)))","v":""},{"$f":"IF('Entry Information'!W138=\"\",\"\",'Entry Information'!W138)","v":""},null,"",{"$f":"IF('Entry Information'!X138=\"\",Z18,Z18-100)","v":""},"",{"$f":"IF($X18=\"\",\"\",(VLOOKUP($AB$42,Worksheet!$A$11:$AE$41,AB18+1,FALSE)))","v":""},{"$f":"IF('Entry Information'!Y138=\"\",\"\",'Entry Information'!Y138)","v":""},null,"",{"$f":"IF('Entry Information'!Z138=\"\",AF18,AF18-100)","v":""},"",{"$f":"IF($AD18=\"\",\"\",(VLOOKUP($AH$42,Worksheet!$A$11:$AE$41,AH18+1,FALSE)))","v":""},null,{"$f":"IF('OPEN ALL-AROUND RESULTS'!A17=\"\",\"\",(SUM('OPEN ALL-AROUND RESULTS'!$K17,'OPEN ALL-AROUND RESULTS'!$AC17,'OPEN ALL-AROUND RESULTS'!$AI17,'OPEN ALL-AROUND RESULTS'!$W17,'OPEN ALL-AROUND RESULTS'!$Q17)))","v":""},null,"","",null,{"$f":"IF(OR('Entry Information'!H138=\"\",'Entry Information'!J138=\"\"),\"\",(SUM('OPEN SELECT RESULTS'!$K17,'OPEN SELECT RESULTS'!$AC17,'OPEN SELECT RESULTS'!$AI17, 'OPEN SELECT RESULTS'!$W17,'OPEN SELECT RESULTS'!$Q17)))","v":""},null,"","",null,{"$f":"IF(OR('Entry Information'!I138=\"\",'Entry Information'!J138=\"\"),\"\",(SUM('OPEN JR HORSE RESULTS'!$K17,'OPEN JR HORSE RESULTS'!$AC17,'OPEN JR HORSE RESULTS'!$AI17, 'OPEN JR HORSE RESULTS'!$W17,'OPEN JR HORSE RESULTS'!$Q17)))","v":""},null,"",""]
[{"$f":"IF('Entry Information'!B139=\"\",\"\",'Entry Information'!B139)","v":""},{"$f":"IF('Entry Information'!C139=\"\",\"\",'Entry Information'!C139)","v":""},{"$f":"IF('Entry Information'!D139=\"\",\"\",'Entry Information'!D139)","v":""},{"$f":"IF('Entry Information'!E139=\"\",\"\",'Entry Information'!E139)","v":""},"OPEN",{"$f":"IF('Entry Information'!Q139=\"\",\"\",'Entry Information'!Q139)","v":""},null,"",{"$f":"IF('Entry Information'!R139=\"\",H19,H19-100)","v":""},"",{"$f":"IF($F19=\"\",\"\",(VLOOKUP($J$42,Worksheet!$A$11:$AE$41,J19+1,FALSE)))","v":""},{"$f":"IF('Entry Information'!S139=\"\",\"\",'Entry Information'!S139)","v":""},null,"",{"$f":"IF('Entry Information'!T139=\"\",N19,N19-100)","v":""},"",{"$f":"IF($L19=\"\",\"\",(VLOOKUP($P$42,Worksheet!$A$11:$AE$41,P19+1,FALSE)))","v":""},{"$f":"IF('Entry Information'!U139=\"\",\"\",'Entry Information'!U139)","v":""},null,"",{"$f":"IF('Entry Information'!V139=\"\",T19,T19-100)","v":""},"",{"$f":"IF($R19=\"\",\"\",(VLOOKUP($V$42,Worksheet!$A$11:$AE$41,V19+1,FALSE)))","v":""},{"$f":"IF('Entry Information'!W139=\"\",\"\",'Entry Information'!W139)","v":""},null,"",{"$f":"IF('Entry Information'!X139=\"\",Z19,Z19-100)","v":""},"",{"$f":"IF($X19=\"\",\"\",(VLOOKUP($AB$42,Worksheet!$A$11:$AE$41,AB19+1,FALSE)))","v":""},{"$f":"IF('Entry Information'!Y139=\"\",\"\",'Entry Information'!Y139)","v":""},null,"",{"$f":"IF('Entry Information'!Z139=\"\",AF19,AF19-100)","v":""},"",{"$f":"IF($AD19=\"\",\"\",(VLOOKUP($AH$42,Worksheet!$A$11:$AE$41,AH19+1,FALSE)))","v":""},null,{"$f":"IF('OPEN ALL-AROUND RESULTS'!A18=\"\",\"\",(SUM('OPEN ALL-AROUND RESULTS'!$K18,'OPEN ALL-AROUND RESULTS'!$AC18,'OPEN ALL-AROUND RESULTS'!$AI18,'OPEN ALL-AROUND RESULTS'!$W18,'OPEN ALL-AROUND RESULTS'!$Q18)))","v":""},null,"","",null,{"$f":"IF(OR('Entry Information'!H139=\"\",'Entry Information'!J139=\"\"),\"\",(SUM('OPEN SELECT RESULTS'!$K18,'OPEN SELECT RESULTS'!$AC18,'OPEN SELECT RESULTS'!$AI18, 'OPEN SELECT RESULTS'!$W18,'OPEN SELECT RESULTS'!$Q18)))","v":""},null,"","",null,{"$f":"IF(OR('Entry Information'!I139=\"\",'Entry Information'!J139=\"\"),\"\",(SUM('OPEN JR HORSE RESULTS'!$K18,'OPEN JR HORSE RESULTS'!$AC18,'OPEN JR HORSE RESULTS'!$AI18, 'OPEN JR HORSE RESULTS'!$W18,'OPEN JR HORSE RESULTS'!$Q18)))","v":""},null,"",""]
[{"$f":"IF('Entry Information'!B140=\"\",\"\",'Entry Information'!B140)","v":""},{"$f":"IF('Entry Information'!C140=\"\",\"\",'Entry Information'!C140)","v":""},{"$f":"IF('Entry Information'!D140=\"\",\"\",'Entry Information'!D140)","v":""},{"$f":"IF('Entry Information'!E140=\"\",\"\",'Entry Information'!E140)","v":""},"OPEN",{"$f":"IF('Entry Information'!Q140=\"\",\"\",'Entry Information'!Q140)","v":""},null,"",{"$f":"IF('Entry Information'!R140=\"\",H20,H20-100)","v":""},"",{"$f":"IF($F20=\"\",\"\",(VLOOKUP($J$42,Worksheet!$A$11:$AE$41,J20+1,FALSE)))","v":""},{"$f":"IF('Entry Information'!S140=\"\",\"\",'Entry Information'!S140)","v":""},null,"",{"$f":"IF('Entry Information'!T140=\"\",N20,N20-100)","v":""},"",{"$f":"IF($L20=\"\",\"\",(VLOOKUP($P$42,Worksheet!$A$11:$AE$41,P20+1,FALSE)))","v":""},{"$f":"IF('Entry Information'!U140=\"\",\"\",'Entry Information'!U140)","v":""},null,"",{"$f":"IF('Entry Information'!V140=\"\",T20,T20-100)","v":""},"",{"$f":"IF($R20=\"\",\"\",(VLOOKUP($V$42,Worksheet!$A$11:$AE$41,V20+1,FALSE)))","v":""},{"$f":"IF('Entry Information'!W140=\"\",\"\",'Entry Information'!W140)","v":""},null,"",{"$f":"IF('Entry Information'!X140=\"\",Z20,Z20-100)","v":""},"",{"$f":"IF($X20=\"\",\"\",(VLOOKUP($AB$42,Worksheet!$A$11:$AE$41,AB20+1,FALSE)))","v":""},{"$f":"IF('Entry Information'!Y140=\"\",\"\",'Entry Information'!Y140)","v":""},null,"",{"$f":"IF('Entry Information'!Z140=\"\",AF20,AF20-100)","v":""},"",{"$f":"IF($AD20=\"\",\"\",(VLOOKUP($AH$42,Worksheet!$A$11:$AE$41,AH20+1,FALSE)))","v":""},null,{"$f":"IF('OPEN ALL-AROUND RESULTS'!A19=\"\",\"\",(SUM('OPEN ALL-AROUND RESULTS'!$K19,'OPEN ALL-AROUND RESULTS'!$AC19,'OPEN ALL-AROUND RESULTS'!$AI19,'OPEN ALL-AROUND RESULTS'!$W19,'OPEN ALL-AROUND RESULTS'!$Q19)))","v":""},null,"","",null,{"$f":"IF(OR('Entry Information'!H140=\"\",'Entry Information'!J140=\"\"),\"\",(SUM('OPEN SELECT RESULTS'!$K19,'OPEN SELECT RESULTS'!$AC19,'OPEN SELECT RESULTS'!$AI19, 'OPEN SELECT RESULTS'!$W19,'OPEN SELECT RESULTS'!$Q19)))","v":""},null,"","",null,{"$f":"IF(OR('Entry Information'!I140=\"\",'Entry Information'!J140=\"\"),\"\",(SUM('OPEN JR HORSE RESULTS'!$K19,'OPEN JR HORSE RESULTS'!$AC19,'OPEN JR HORSE RESULTS'!$AI19, 'OPEN JR HORSE RESULTS'!$W19,'OPEN JR HORSE RESULTS'!$Q19)))","v":""},null,"",""]
[{"$f":"IF('Entry Information'!B141=\"\",\"\",'Entry Information'!B141)","v":""},{"$f":"IF('Entry Information'!C141=\"\",\"\",'Entry Information'!C141)","v":""},{"$f":"IF('Entry Information'!D141=\"\",\"\",'Entry Information'!D141)","v":""},{"$f":"IF('Entry Information'!E141=\"\",\"\",'Entry Information'!E141)","v":""},"OPEN",{"$f":"IF('Entry Information'!Q141=\"\",\"\",'Entry Information'!Q141)","v":""},null,"",{"$f":"IF('Entry Information'!R141=\"\",H21,H21-100)","v":""},"",{"$f":"IF($F21=\"\",\"\",(VLOOKUP($J$42,Worksheet!$A$11:$AE$41,J21+1,FALSE)))","v":""},{"$f":"IF('Entry Information'!S141=\"\",\"\",'Entry Information'!S141)","v":""},null,"",{"$f":"IF('Entry Information'!T141=\"\",N21,N21-100)","v":""},"",{"$f":"IF($L21=\"\",\"\",(VLOOKUP($P$42,Worksheet!$A$11:$AE$41,P21+1,FALSE)))","v":""},{"$f":"IF('Entry Information'!U141=\"\",\"\",'Entry Information'!U141)","v":""},null,"",{"$f":"IF('Entry Information'!V141=\"\",T21,T21-100)","v":""},"",{"$f":"IF($R21=\"\",\"\",(VLOOKUP($V$42,Worksheet!$A$11:$AE$41,V21+1,FALSE)))","v":""},{"$f":"IF('Entry Information'!W141=\"\",\"\",'Entry Information'!W141)","v":""},null,"",{"$f":"IF('Entry Information'!X141=\"\",Z21,Z21-100)","v":""},"",{"$f":"IF($X21=\"\",\"\",(VLOOKUP($AB$42,Worksheet!$A$11:$AE$41,AB21+1,FALSE)))","v":""},{"$f":"IF('Entry Information'!Y141=\"\",\"\",'Entry Information'!Y141)","v":""},null,"",{"$f":"IF('Entry Information'!Z141=\"\",AF21,AF21-100)","v":""},"",{"$f":"IF($AD21=\"\",\"\",(VLOOKUP($AH$42,Worksheet!$A$11:$AE$41,AH21+1,FALSE)))","v":""},null,{"$f":"IF('OPEN ALL-AROUND RESULTS'!A20=\"\",\"\",(SUM('OPEN ALL-AROUND RESULTS'!$K20,'OPEN ALL-AROUND RESULTS'!$AC20,'OPEN ALL-AROUND RESULTS'!$AI20,'OPEN ALL-AROUND RESULTS'!$W20,'OPEN ALL-AROUND RESULTS'!$Q20)))","v":""},null,"","",null,{"$f":"IF(OR('Entry Information'!H141=\"\",'Entry Information'!J141=\"\"),\"\",(SUM('OPEN SELECT RESULTS'!$K20,'OPEN SELECT RESULTS'!$AC20,'OPEN SELECT RESULTS'!$AI20, 'OPEN SELECT RESULTS'!$W20,'OPEN SELECT RESULTS'!$Q20)))","v":""},null,"","",null,{"$f":"IF(OR('Entry Information'!I141=\"\",'Entry Information'!J141=\"\"),\"\",(SUM('OPEN JR HORSE RESULTS'!$K20,'OPEN JR HORSE RESULTS'!$AC20,'OPEN JR HORSE RESULTS'!$AI20, 'OPEN JR HORSE RESULTS'!$W20,'OPEN JR HORSE RESULTS'!$Q20)))","v":""},null,"",""]
[{"$f":"IF('Entry Information'!B142=\"\",\"\",'Entry Information'!B142)","v":""},{"$f":"IF('Entry Information'!C142=\"\",\"\",'Entry Information'!C142)","v":""},{"$f":"IF('Entry Information'!D142=\"\",\"\",'Entry Information'!D142)","v":""},{"$f":"IF('Entry Information'!E142=\"\",\"\",'Entry Information'!E142)","v":""},"OPEN",{"$f":"IF('Entry Information'!Q142=\"\",\"\",'Entry Information'!Q142)","v":""},null,"",{"$f":"IF('Entry Information'!R142=\"\",H22,H22-100)","v":""},"",{"$f":"IF($F22=\"\",\"\",(VLOOKUP($J$42,Worksheet!$A$11:$AE$41,J22+1,FALSE)))","v":""},{"$f":"IF('Entry Information'!S142=\"\",\"\",'Entry Information'!S142)","v":""},null,"",{"$f":"IF('Entry Information'!T142=\"\",N22,N22-100)","v":""},"",{"$f":"IF($L22=\"\",\"\",(VLOOKUP($P$42,Worksheet!$A$11:$AE$41,P22+1,FALSE)))","v":""},{"$f":"IF('Entry Information'!U142=\"\",\"\",'Entry Information'!U142)","v":""},null,"",{"$f":"IF('Entry Information'!V142=\"\",T22,T22-100)","v":""},"",{"$f":"IF($R22=\"\",\"\",(VLOOKUP($V$42,Worksheet!$A$11:$AE$41,V22+1,FALSE)))","v":""},{"$f":"IF('Entry Information'!W142=\"\",\"\",'Entry Information'!W142)","v":""},null,"",{"$f":"IF('Entry Information'!X142=\"\",Z22,Z22-100)","v":""},"",{"$f":"IF($X22=\"\",\"\",(VLOOKUP($AB$42,Worksheet!$A$11:$AE$41,AB22+1,FALSE)))","v":""},{"$f":"IF('Entry Information'!Y142=\"\",\"\",'Entry Information'!Y142)","v":""},null,"",{"$f":"IF('Entry Information'!Z142=\"\",AF22,AF22-100)","v":""},"",{"$f":"IF($AD22=\"\",\"\",(VLOOKUP($AH$42,Worksheet!$A$11:$AE$41,AH22+1,FALSE)))","v":""},null,{"$f":"IF('OPEN ALL-AROUND RESULTS'!A21=\"\",\"\",(SUM('OPEN ALL-AROUND RESULTS'!$K21,'OPEN ALL-AROUND RESULTS'!$AC21,'OPEN ALL-AROUND RESULTS'!$AI21,'OPEN ALL-AROUND RESULTS'!$W21,'OPEN ALL-AROUND RESULTS'!$Q21)))","v":""},null,"","",null,{"$f":"IF(OR('Entry Information'!H142=\"\",'Entry Information'!J142=\"\"),\"\",(SUM('OPEN SELECT RESULTS'!$K21,'OPEN SELECT RESULTS'!$AC21,'OPEN SELECT RESULTS'!$AI21, 'OPEN SELECT RESULTS'!$W21,'OPEN SELECT RESULTS'!$Q21)))","v":""},null,"","",null,{"$f":"IF(OR('Entry Information'!I142=\"\",'Entry Information'!J142=\"\"),\"\",(SUM('OPEN JR HORSE RESULTS'!$K21,'OPEN JR HORSE RESULTS'!$AC21,'OPEN JR HORSE RESULTS'!$AI21, 'OPEN JR HORSE RESULTS'!$W21,'OPEN JR HORSE RESULTS'!$Q21)))","v":""},null,"",""]
[{"$f":"IF('Entry Information'!B143=\"\",\"\",'Entry Information'!B143)","v":""},{"$f":"IF('Entry Information'!C143=\"\",\"\",'Entry Information'!C143)","v":""},{"$f":"IF('Entry Information'!D143=\"\",\"\",'Entry Information'!D143)","v":""},{"$f":"IF('Entry Information'!E143=\"\",\"\",'Entry Information'!E143)","v":""},"OPEN",{"$f":"IF('Entry Information'!Q143=\"\",\"\",'Entry Information'!Q143)","v":""},null,"",{"$f":"IF('Entry Information'!R143=\"\",H23,H23-100)","v":""},"",{"$f":"IF($F23=\"\",\"\",(VLOOKUP($J$42,Worksheet!$A$11:$AE$41,J23+1,FALSE)))","v":""},{"$f":"IF('Entry Information'!S143=\"\",\"\",'Entry Information'!S143)","v":""},null,"",{"$f":"IF('Entry Information'!T143=\"\",N23,N23-100)","v":""},"",{"$f":"IF($L23=\"\",\"\",(VLOOKUP($P$42,Worksheet!$A$11:$AE$41,P23+1,FALSE)))","v":""},{"$f":"IF('Entry Information'!U143=\"\",\"\",'Entry Information'!U143)","v":""},null,"",{"$f":"IF('Entry Information'!V143=\"\",T23,T23-100)","v":""},"",{"$f":"IF($R23=\"\",\"\",(VLOOKUP($V$42,Worksheet!$A$11:$AE$41,V23+1,FALSE)))","v":""},{"$f":"IF('Entry Information'!W143=\"\",\"\",'Entry Information'!W143)","v":""},null,"",{"$f":"IF('Entry Information'!X143=\"\",Z23,Z23-100)","v":""},"",{"$f":"IF($X23=\"\",\"\",(VLOOKUP($AB$42,Worksheet!$A$11:$AE$41,AB23+1,FALSE)))","v":""},{"$f":"IF('Entry Information'!Y143=\"\",\"\",'Entry Information'!Y143)","v":""},null,"",{"$f":"IF('Entry Information'!Z143=\"\",AF23,AF23-100)","v":""},"",{"$f":"IF($AD23=\"\",\"\",(VLOOKUP($AH$42,Worksheet!$A$11:$AE$41,AH23+1,FALSE)))","v":""},null,{"$f":"IF('OPEN ALL-AROUND RESULTS'!A22=\"\",\"\",(SUM('OPEN ALL-AROUND RESULTS'!$K22,'OPEN ALL-AROUND RESULTS'!$AC22,'OPEN ALL-AROUND RESULTS'!$AI22,'OPEN ALL-AROUND RESULTS'!$W22,'OPEN ALL-AROUND RESULTS'!$Q22)))","v":""},null,"","",null,{"$f":"IF(OR('Entry Information'!H143=\"\",'Entry Information'!J143=\"\"),\"\",(SUM('OPEN SELECT RESULTS'!$K22,'OPEN SELECT RESULTS'!$AC22,'OPEN SELECT RESULTS'!$AI22, 'OPEN SELECT RESULTS'!$W22,'OPEN SELECT RESULTS'!$Q22)))","v":""},null,"","",null,{"$f":"IF(OR('Entry Information'!I143=\"\",'Entry Information'!J143=\"\"),\"\",(SUM('OPEN JR HORSE RESULTS'!$K22,'OPEN JR HORSE RESULTS'!$AC22,'OPEN JR HORSE RESULTS'!$AI22, 'OPEN JR HORSE RESULTS'!$W22,'OPEN JR HORSE RESULTS'!$Q22)))","v":""},null,"",""]
[{"$f":"IF('Entry Information'!B144=\"\",\"\",'Entry Information'!B144)","v":""},{"$f":"IF('Entry Information'!C144=\"\",\"\",'Entry Information'!C144)","v":""},{"$f":"IF('Entry Information'!D144=\"\",\"\",'Entry Information'!D144)","v":""},{"$f":"IF('Entry Information'!E144=\"\",\"\",'Entry Information'!E144)","v":""},"OPEN",{"$f":"IF('Entry Information'!Q144=\"\",\"\",'Entry Information'!Q144)","v":""},null,"",{"$f":"IF('Entry Information'!R144=\"\",H24,H24-100)","v":""},"",{"$f":"IF($F24=\"\",\"\",(VLOOKUP($J$42,Worksheet!$A$11:$AE$41,J24+1,FALSE)))","v":""},{"$f":"IF('Entry Information'!S144=\"\",\"\",'Entry Information'!S144)","v":""},null,"",{"$f":"IF('Entry Information'!T144=\"\",N24,N24-100)","v":""},"",{"$f":"IF($L24=\"\",\"\",(VLOOKUP($P$42,Worksheet!$A$11:$AE$41,P24+1,FALSE)))","v":""},{"$f":"IF('Entry Information'!U144=\"\",\"\",'Entry Information'!U144)","v":""},null,"",{"$f":"IF('Entry Information'!V144=\"\",T24,T24-100)","v":""},"",{"$f":"IF($R24=\"\",\"\",(VLOOKUP($V$42,Worksheet!$A$11:$AE$41,V24+1,FALSE)))","v":""},{"$f":"IF('Entry Information'!W144=\"\",\"\",'Entry Information'!W144)","v":""},null,"",{"$f":"IF('Entry Information'!X144=\"\",Z24,Z24-100)","v":""},"",{"$f":"IF($X24=\"\",\"\",(VLOOKUP($AB$42,Worksheet!$A$11:$AE$41,AB24+1,FALSE)))","v":""},{"$f":"IF('Entry Information'!Y144=\"\",\"\",'Entry Information'!Y144)","v":""},null,"",{"$f":"IF('Entry Information'!Z144=\"\",AF24,AF24-100)","v":""},"",{"$f":"IF($AD24=\"\",\"\",(VLOOKUP($AH$42,Worksheet!$A$11:$AE$41,AH24+1,FALSE)))","v":""},null,{"$f":"IF('OPEN ALL-AROUND RESULTS'!A23=\"\",\"\",(SUM('OPEN ALL-AROUND RESULTS'!$K23,'OPEN ALL-AROUND RESULTS'!$AC23,'OPEN ALL-AROUND RESULTS'!$AI23,'OPEN ALL-AROUND RESULTS'!$W23,'OPEN ALL-AROUND RESULTS'!$Q23)))","v":""},null,"","",null,{"$f":"IF(OR('Entry Information'!H144=\"\",'Entry Information'!J144=\"\"),\"\",(SUM('OPEN SELECT RESULTS'!$K23,'OPEN SELECT RESULTS'!$AC23,'OPEN SELECT RESULTS'!$AI23, 'OPEN SELECT RESULTS'!$W23,'OPEN SELECT RESULTS'!$Q23)))","v":""},null,"","",null,{"$f":"IF(OR('Entry Information'!I144=\"\",'Entry Information'!J144=\"\"),\"\",(SUM('OPEN JR HORSE RESULTS'!$K23,'OPEN JR HORSE RESULTS'!$AC23,'OPEN JR HORSE RESULTS'!$AI23, 'OPEN JR HORSE RESULTS'!$W23,'OPEN JR HORSE RESULTS'!$Q23)))","v":""},null,"",""]
[{"$f":"IF('Entry Information'!B145=\"\",\"\",'Entry Information'!B145)","v":""},{"$f":"IF('Entry Information'!C145=\"\",\"\",'Entry Information'!C145)","v":""},{"$f":"IF('Entry Information'!D145=\"\",\"\",'Entry Information'!D145)","v":""},{"$f":"IF('Entry Information'!E145=\"\",\"\",'Entry Information'!E145)","v":""},"OPEN",{"$f":"IF('Entry Information'!Q145=\"\",\"\",'Entry Information'!Q145)","v":""},null,"",{"$f":"IF('Entry Information'!R145=\"\",H25,H25-100)","v":""},"",{"$f":"IF($F25=\"\",\"\",(VLOOKUP($J$42,Worksheet!$A$11:$AE$41,J25+1,FALSE)))","v":""},{"$f":"IF('Entry Information'!S145=\"\",\"\",'Entry Information'!S145)","v":""},null,"",{"$f":"IF('Entry Information'!T145=\"\",N25,N25-100)","v":""},"",{"$f":"IF($L25=\"\",\"\",(VLOOKUP($P$42,Worksheet!$A$11:$AE$41,P25+1,FALSE)))","v":""},{"$f":"IF('Entry Information'!U145=\"\",\"\",'Entry Information'!U145)","v":""},null,"",{"$f":"IF('Entry Information'!V145=\"\",T25,T25-100)","v":""},"",{"$f":"IF($R25=\"\",\"\",(VLOOKUP($V$42,Worksheet!$A$11:$AE$41,V25+1,FALSE)))","v":""},{"$f":"IF('Entry Information'!W145=\"\",\"\",'Entry Information'!W145)","v":""},null,"",{"$f":"IF('Entry Information'!X145=\"\",Z25,Z25-100)","v":""},"",{"$f":"IF($X25=\"\",\"\",(VLOOKUP($AB$42,Worksheet!$A$11:$AE$41,AB25+1,FALSE)))","v":""},{"$f":"IF('Entry Information'!Y145=\"\",\"\",'Entry Information'!Y145)","v":""},null,"",{"$f":"IF('Entry Information'!Z145=\"\",AF25,AF25-100)","v":""},"",{"$f":"IF($AD25=\"\",\"\",(VLOOKUP($AH$42,Worksheet!$A$11:$AE$41,AH25+1,FALSE)))","v":""},null,{"$f":"IF('OPEN ALL-AROUND RESULTS'!A24=\"\",\"\",(SUM('OPEN ALL-AROUND RESULTS'!$K24,'OPEN ALL-AROUND RESULTS'!$AC24,'OPEN ALL-AROUND RESULTS'!$AI24,'OPEN ALL-AROUND RESULTS'!$W24,'OPEN ALL-AROUND RESULTS'!$Q24)))","v":""},null,"","",null,{"$f":"IF(OR('Entry Information'!H145=\"\",'Entry Information'!J145=\"\"),\"\",(SUM('OPEN SELECT RESULTS'!$K24,'OPEN SELECT RESULTS'!$AC24,'OPEN SELECT RESULTS'!$AI24, 'OPEN SELECT RESULTS'!$W24,'OPEN SELECT RESULTS'!$Q24)))","v":""},null,"","",null,{"$f":"IF(OR('Entry Information'!I145=\"\",'Entry Information'!J145=\"\"),\"\",(SUM('OPEN JR HORSE RESULTS'!$K24,'OPEN JR HORSE RESULTS'!$AC24,'OPEN JR HORSE RESULTS'!$AI24, 'OPEN JR HORSE RESULTS'!$W24,'OPEN JR HORSE RESULTS'!$Q24)))","v":""},null,"",""]
[{"$f":"IF('Entry Information'!B146=\"\",\"\",'Entry Information'!B146)","v":""},{"$f":"IF('Entry Information'!C146=\"\",\"\",'Entry Information'!C146)","v":""},{"$f":"IF('Entry Information'!D146=\"\",\"\",'Entry Information'!D146)","v":""},{"$f":"IF('Entry Information'!E146=\"\",\"\",'Entry Information'!E146)","v":""},"OPEN",{"$f":"IF('Entry Information'!Q146=\"\",\"\",'Entry Information'!Q146)","v":""},null,{"$f":"IF(G26=\"\",F26,(F26+(G26*0.001)))","v":""},{"$f":"IF('Entry Information'!R146=\"\",H26,H26-100)","v":""},"",{"$f":"IF($F26=\"\",\"\",(VLOOKUP($J$42,Worksheet!$A$11:$AE$41,J26+1,FALSE)))","v":""},{"$f":"IF('Entry Information'!S146=\"\",\"\",'Entry Information'!S146)","v":""},null,"",{"$f":"IF('Entry Information'!T146=\"\",N26,N26-100)","v":""},"",{"$f":"IF($L26=\"\",\"\",(VLOOKUP($P$42,Worksheet!$A$11:$AE$41,P26+1,FALSE)))","v":""},{"$f":"IF('Entry Information'!U146=\"\",\"\",'Entry Information'!U146)","v":""},null,"",{"$f":"IF('Entry Information'!V146=\"\",T26,T26-100)","v":""},"",{"$f":"IF($R26=\"\",\"\",(VLOOKUP($V$42,Worksheet!$A$11:$AE$41,V26+1,FALSE)))","v":""},{"$f":"IF('Entry Information'!W146=\"\",\"\",'Entry Information'!W146)","v":""},null,{"$f":"IF(Y26=\"\",X26,(X26+(Y26*0.001)))","v":""},{"$f":"IF('Entry Information'!X146=\"\",Z26,Z26-100)","v":""},"",{"$f":"IF($X26=\"\",\"\",(VLOOKUP($AB$42,Worksheet!$A$11:$AE$41,AB26+1,FALSE)))","v":""},{"$f":"IF('Entry Information'!Y146=\"\",\"\",'Entry Information'!Y146)","v":""},null,{"$f":"IF(AE26=\"\",AD26,(AD26+(AE26*0.001)))","v":""},{"$f":"IF('Entry Information'!Z146=\"\",AF26,AF26-100)","v":""},"",{"$f":"IF($AD26=\"\",\"\",(VLOOKUP($AH$42,Worksheet!$A$11:$AE$41,AH26+1,FALSE)))","v":""},null,{"$f":"IF('OPEN ALL-AROUND RESULTS'!A25=\"\",\"\",(SUM('OPEN ALL-AROUND RESULTS'!$K25,'OPEN ALL-AROUND RESULTS'!$AC25,'OPEN ALL-AROUND RESULTS'!$AI25,'OPEN ALL-AROUND RESULTS'!$W25,'OPEN ALL-AROUND RESULTS'!$Q25)))","v":""},null,"","",null,{"$f":"IF(OR('Entry Information'!H146=\"\",'Entry Information'!J146=\"\"),\"\",(SUM('OPEN SELECT RESULTS'!$K25,'OPEN SELECT RESULTS'!$AC25,'OPEN SELECT RESULTS'!$AI25, 'OPEN SELECT RESULTS'!$W25,'OPEN SELECT RESULTS'!$Q25)))","v":""},null,"","",null,{"$f":"IF(OR('Entry Information'!I146=\"\",'Entry Information'!J146=\"\"),\"\",(SUM('OPEN JR HORSE RESULTS'!$K25,'OPEN JR HORSE RESULTS'!$AC25,'OPEN JR HORSE RESULTS'!$AI25, 'OPEN JR HORSE RESULTS'!$W25,'OPEN JR HORSE RESULTS'!$Q25)))","v":""},null,"",""]
[{"$f":"IF('Entry Information'!B147=\"\",\"\",'Entry Information'!B147)","v":""},{"$f":"IF('Entry Information'!C147=\"\",\"\",'Entry Information'!C147)","v":""},{"$f":"IF('Entry Information'!D147=\"\",\"\",'Entry Information'!D147)","v":""},{"$f":"IF('Entry Information'!E147=\"\",\"\",'Entry Information'!E147)","v":""},"OPEN",{"$f":"IF('Entry Information'!Q147=\"\",\"\",'Entry Information'!Q147)","v":""},null,{"$f":"IF(G27=\"\",F27,(F27+(G27*0.001)))","v":""},{"$f":"IF('Entry Information'!R147=\"\",H27,H27-100)","v":""},"",{"$f":"IF($F27=\"\",\"\",(VLOOKUP($J$42,Worksheet!$A$11:$AE$41,J27+1,FALSE)))","v":""},{"$f":"IF('Entry Information'!S147=\"\",\"\",'Entry Information'!S147)","v":""},null,"",{"$f":"IF('Entry Information'!T147=\"\",N27,N27-100)","v":""},"",{"$f":"IF($L27=\"\",\"\",(VLOOKUP($P$42,Worksheet!$A$11:$AE$41,P27+1,FALSE)))","v":""},{"$f":"IF('Entry Information'!U147=\"\",\"\",'Entry Information'!U147)","v":""},null,"",{"$f":"IF('Entry Information'!V147=\"\",T27,T27-100)","v":""},"",{"$f":"IF($R27=\"\",\"\",(VLOOKUP($V$42,Worksheet!$A$11:$AE$41,V27+1,FALSE)))","v":""},{"$f":"IF('Entry Information'!W147=\"\",\"\",'Entry Information'!W147)","v":""},null,{"$f":"IF(Y27=\"\",X27,(X27+(Y27*0.001)))","v":""},{"$f":"IF('Entry Information'!X147=\"\",Z27,Z27-100)","v":""},"",{"$f":"IF($X27=\"\",\"\",(VLOOKUP($AB$42,Worksheet!$A$11:$AE$41,AB27+1,FALSE)))","v":""},{"$f":"IF('Entry Information'!Y147=\"\",\"\",'Entry Information'!Y147)","v":""},null,{"$f":"IF(AE27=\"\",AD27,(AD27+(AE27*0.001)))","v":""},{"$f":"IF('Entry Information'!Z147=\"\",AF27,AF27-100)","v":""},"",{"$f":"IF($AD27=\"\",\"\",(VLOOKUP($AH$42,Worksheet!$A$11:$AE$41,AH27+1,FALSE)))","v":""},null,{"$f":"IF('OPEN ALL-AROUND RESULTS'!A26=\"\",\"\",(SUM('OPEN ALL-AROUND RESULTS'!$K26,'OPEN ALL-AROUND RESULTS'!$AC26,'OPEN ALL-AROUND RESULTS'!$AI26,'OPEN ALL-AROUND RESULTS'!$W26,'OPEN ALL-AROUND RESULTS'!$Q26)))","v":""},null,"","",null,{"$f":"IF(OR('Entry Information'!H147=\"\",'Entry Information'!J147=\"\"),\"\",(SUM('OPEN SELECT RESULTS'!$K26,'OPEN SELECT RESULTS'!$AC26,'OPEN SELECT RESULTS'!$AI26, 'OPEN SELECT RESULTS'!$W26,'OPEN SELECT RESULTS'!$Q26)))","v":""},null,"","",null,{"$f":"IF(OR('Entry Information'!I147=\"\",'Entry Information'!J147=\"\"),\"\",(SUM('OPEN JR HORSE RESULTS'!$K26,'OPEN JR HORSE RESULTS'!$AC26,'OPEN JR HORSE RESULTS'!$AI26, 'OPEN JR HORSE RESULTS'!$W26,'OPEN JR HORSE RESULTS'!$Q26)))","v":""},null,"",""]
[{"$f":"IF('Entry Information'!B148=\"\",\"\",'Entry Information'!B148)","v":""},{"$f":"IF('Entry Information'!C148=\"\",\"\",'Entry Information'!C148)","v":""},{"$f":"IF('Entry Information'!D148=\"\",\"\",'Entry Information'!D148)","v":""},{"$f":"IF('Entry Information'!E148=\"\",\"\",'Entry Information'!E148)","v":""},"OPEN",{"$f":"IF('Entry Information'!Q148=\"\",\"\",'Entry Information'!Q148)","v":""},null,"",{"$f":"IF('Entry Information'!R148=\"\",H28,H28-100)","v":""},"",{"$f":"IF($F28=\"\",\"\",(VLOOKUP($J$42,Worksheet!$A$11:$AE$41,J28+1,FALSE)))","v":""},{"$f":"IF('Entry Information'!S148=\"\",\"\",'Entry Information'!S148)","v":""},null,"",{"$f":"IF('Entry Information'!T148=\"\",N28,N28-100)","v":""},"",{"$f":"IF($L28=\"\",\"\",(VLOOKUP($P$42,Worksheet!$A$11:$AE$41,P28+1,FALSE)))","v":""},{"$f":"IF('Entry Information'!U148=\"\",\"\",'Entry Information'!U148)","v":""},null,"",{"$f":"IF('Entry Information'!V148=\"\",T28,T28-100)","v":""},"",{"$f":"IF($R28=\"\",\"\",(VLOOKUP($V$42,Worksheet!$A$11:$AE$41,V28+1,FALSE)))","v":""},{"$f":"IF('Entry Information'!W148=\"\",\"\",'Entry Information'!W148)","v":""},null,"",{"$f":"IF('Entry Information'!X148=\"\",Z28,Z28-100)","v":""},"",{"$f":"IF($X28=\"\",\"\",(VLOOKUP($AB$42,Worksheet!$A$11:$AE$41,AB28+1,FALSE)))","v":""},{"$f":"IF('Entry Information'!Y148=\"\",\"\",'Entry Information'!Y148)","v":""},null,"",{"$f":"IF('Entry Information'!Z148=\"\",AF28,AF28-100)","v":""},"",{"$f":"IF($AD28=\"\",\"\",(VLOOKUP($AH$42,Worksheet!$A$11:$AE$41,AH28+1,FALSE)))","v":""},null,{"$f":"IF('OPEN ALL-AROUND RESULTS'!A27=\"\",\"\",(SUM('OPEN ALL-AROUND RESULTS'!$K27,'OPEN ALL-AROUND RESULTS'!$AC27,'OPEN ALL-AROUND RESULTS'!$AI27,'OPEN ALL-AROUND RESULTS'!$W27,'OPEN ALL-AROUND RESULTS'!$Q27)))","v":""},null,"","",null,{"$f":"IF(OR('Entry Information'!H148=\"\",'Entry Information'!J148=\"\"),\"\",(SUM('OPEN SELECT RESULTS'!$K27,'OPEN SELECT RESULTS'!$AC27,'OPEN SELECT RESULTS'!$AI27, 'OPEN SELECT RESULTS'!$W27,'OPEN SELECT RESULTS'!$Q27)))","v":""},null,"","",null,{"$f":"IF(OR('Entry Information'!I148=\"\",'Entry Information'!J148=\"\"),\"\",(SUM('OPEN JR HORSE RESULTS'!$K27,'OPEN JR HORSE RESULTS'!$AC27,'OPEN JR HORSE RESULTS'!$AI27, 'OPEN JR HORSE RESULTS'!$W27,'OPEN JR HORSE RESULTS'!$Q27)))","v":""},null,"",""]
[{"$f":"IF('Entry Information'!B149=\"\",\"\",'Entry Information'!B149)","v":""},{"$f":"IF('Entry Information'!C149=\"\",\"\",'Entry Information'!C149)","v":""},{"$f":"IF('Entry Information'!D149=\"\",\"\",'Entry Information'!D149)","v":""},{"$f":"IF('Entry Information'!E149=\"\",\"\",'Entry Information'!E149)","v":""},"OPEN",{"$f":"IF('Entry Information'!Q149=\"\",\"\",'Entry Information'!Q149)","v":""},null,"",{"$f":"IF('Entry Information'!R149=\"\",H29,H29-100)","v":""},"",{"$f":"IF($F29=\"\",\"\",(VLOOKUP($J$42,Worksheet!$A$11:$AE$41,J29+1,FALSE)))","v":""},{"$f":"IF('Entry Information'!S149=\"\",\"\",'Entry Information'!S149)","v":""},null,"",{"$f":"IF('Entry Information'!T149=\"\",N29,N29-100)","v":""},"",{"$f":"IF($L29=\"\",\"\",(VLOOKUP($P$42,Worksheet!$A$11:$AE$41,P29+1,FALSE)))","v":""},{"$f":"IF('Entry Information'!U149=\"\",\"\",'Entry Information'!U149)","v":""},null,"",{"$f":"IF('Entry Information'!V149=\"\",T29,T29-100)","v":""},"",{"$f":"IF($R29=\"\",\"\",(VLOOKUP($V$42,Worksheet!$A$11:$AE$41,V29+1,FALSE)))","v":""},{"$f":"IF('Entry Information'!W149=\"\",\"\",'Entry Information'!W149)","v":""},null,"",{"$f":"IF('Entry Information'!X149=\"\",Z29,Z29-100)","v":""},"",{"$f":"IF($X29=\"\",\"\",(VLOOKUP($AB$42,Worksheet!$A$11:$AE$41,AB29+1,FALSE)))","v":""},{"$f":"IF('Entry Information'!Y149=\"\",\"\",'Entry Information'!Y149)","v":""},null,"",{"$f":"IF('Entry Information'!Z149=\"\",AF29,AF29-100)","v":""},"",{"$f":"IF($AD29=\"\",\"\",(VLOOKUP($AH$42,Worksheet!$A$11:$AE$41,AH29+1,FALSE)))","v":""},null,{"$f":"IF('OPEN ALL-AROUND RESULTS'!A28=\"\",\"\",(SUM('OPEN ALL-AROUND RESULTS'!$K28,'OPEN ALL-AROUND RESULTS'!$AC28,'OPEN ALL-AROUND RESULTS'!$AI28,'OPEN ALL-AROUND RESULTS'!$W28,'OPEN ALL-AROUND RESULTS'!$Q28)))","v":""},null,"","",null,{"$f":"IF(OR('Entry Information'!H149=\"\",'Entry Information'!J149=\"\"),\"\",(SUM('OPEN SELECT RESULTS'!$K28,'OPEN SELECT RESULTS'!$AC28,'OPEN SELECT RESULTS'!$AI28, 'OPEN SELECT RESULTS'!$W28,'OPEN SELECT RESULTS'!$Q28)))","v":""},null,"","",null,{"$f":"IF(OR('Entry Information'!I149=\"\",'Entry Information'!J149=\"\"),\"\",(SUM('OPEN JR HORSE RESULTS'!$K28,'OPEN JR HORSE RESULTS'!$AC28,'OPEN JR HORSE RESULTS'!$AI28, 'OPEN JR HORSE RESULTS'!$W28,'OPEN JR HORSE RESULTS'!$Q28)))","v":""},null,"",""]
[{"$f":"IF('Entry Information'!B150=\"\",\"\",'Entry Information'!B150)","v":""},{"$f":"IF('Entry Information'!C150=\"\",\"\",'Entry Information'!C150)","v":""},{"$f":"IF('Entry Information'!D150=\"\",\"\",'Entry Information'!D150)","v":""},{"$f":"IF('Entry Information'!E150=\"\",\"\",'Entry Information'!E150)","v":""},"OPEN",{"$f":"IF('Entry Information'!Q150=\"\",\"\",'Entry Information'!Q150)","v":""},null,"",{"$f":"IF('Entry Information'!R150=\"\",H30,H30-100)","v":""},"",{"$f":"IF($F30=\"\",\"\",(VLOOKUP($J$42,Worksheet!$A$11:$AE$41,J30+1,FALSE)))","v":""},{"$f":"IF('Entry Information'!S150=\"\",\"\",'Entry Information'!S150)","v":""},null,"",{"$f":"IF('Entry Information'!T150=\"\",N30,N30-100)","v":""},"",{"$f":"IF($L30=\"\",\"\",(VLOOKUP($P$42,Worksheet!$A$11:$AE$41,P30+1,FALSE)))","v":""},{"$f":"IF('Entry Information'!U150=\"\",\"\",'Entry Information'!U150)","v":""},null,"",{"$f":"IF('Entry Information'!V150=\"\",T30,T30-100)","v":""},"",{"$f":"IF($R30=\"\",\"\",(VLOOKUP($V$42,Worksheet!$A$11:$AE$41,V30+1,FALSE)))","v":""},{"$f":"IF('Entry Information'!W150=\"\",\"\",'Entry Information'!W150)","v":""},null,"",{"$f":"IF('Entry Information'!X150=\"\",Z30,Z30-100)","v":""},"",{"$f":"IF($X30=\"\",\"\",(VLOOKUP($AB$42,Worksheet!$A$11:$AE$41,AB30+1,FALSE)))","v":""},{"$f":"IF('Entry Information'!Y150=\"\",\"\",'Entry Information'!Y150)","v":""},null,"",{"$f":"IF('Entry Information'!Z150=\"\",AF30,AF30-100)","v":""},"",{"$f":"IF($AD30=\"\",\"\",(VLOOKUP($AH$42,Worksheet!$A$11:$AE$41,AH30+1,FALSE)))","v":""},null,{"$f":"IF('OPEN ALL-AROUND RESULTS'!A29=\"\",\"\",(SUM('OPEN ALL-AROUND RESULTS'!$K29,'OPEN ALL-AROUND RESULTS'!$AC29,'OPEN ALL-AROUND RESULTS'!$AI29,'OPEN ALL-AROUND RESULTS'!$W29,'OPEN ALL-AROUND RESULTS'!$Q29)))","v":""},null,"","",null,{"$f":"IF(OR('Entry Information'!H150=\"\",'Entry Information'!J150=\"\"),\"\",(SUM('OPEN SELECT RESULTS'!$K29,'OPEN SELECT RESULTS'!$AC29,'OPEN SELECT RESULTS'!$AI29, 'OPEN SELECT RESULTS'!$W29,'OPEN SELECT RESULTS'!$Q29)))","v":""},null,"","",null,{"$f":"IF(OR('Entry Information'!I150=\"\",'Entry Information'!J150=\"\"),\"\",(SUM('OPEN JR HORSE RESULTS'!$K29,'OPEN JR HORSE RESULTS'!$AC29,'OPEN JR HORSE RESULTS'!$AI29, 'OPEN JR HORSE RESULTS'!$W29,'OPEN JR HORSE RESULTS'!$Q29)))","v":""},null,"",""]
[{"$f":"IF('Entry Information'!B151=\"\",\"\",'Entry Information'!B151)","v":""},{"$f":"IF('Entry Information'!C151=\"\",\"\",'Entry Information'!C151)","v":""},{"$f":"IF('Entry Information'!D151=\"\",\"\",'Entry Information'!D151)","v":""},{"$f":"IF('Entry Information'!E151=\"\",\"\",'Entry Information'!E151)","v":""},"OPEN",{"$f":"IF('Entry Information'!Q151=\"\",\"\",'Entry Information'!Q151)","v":""},null,"",{"$f":"IF('Entry Information'!R151=\"\",H31,H31-100)","v":""},"",{"$f":"IF($F31=\"\",\"\",(VLOOKUP($J$42,Worksheet!$A$11:$AE$41,J31+1,FALSE)))","v":""},{"$f":"IF('Entry Information'!S151=\"\",\"\",'Entry Information'!S151)","v":""},null,"",{"$f":"IF('Entry Information'!T151=\"\",N31,N31-100)","v":""},"",{"$f":"IF($L31=\"\",\"\",(VLOOKUP($P$42,Worksheet!$A$11:$AE$41,P31+1,FALSE)))","v":""},{"$f":"IF('Entry Information'!U151=\"\",\"\",'Entry Information'!U151)","v":""},null,"",{"$f":"IF('Entry Information'!V151=\"\",T31,T31-100)","v":""},"",{"$f":"IF($R31=\"\",\"\",(VLOOKUP($V$42,Worksheet!$A$11:$AE$41,V31+1,FALSE)))","v":""},{"$f":"IF('Entry Information'!W151=\"\",\"\",'Entry Information'!W151)","v":""},null,"",{"$f":"IF('Entry Information'!X151=\"\",Z31,Z31-100)","v":""},"",{"$f":"IF($X31=\"\",\"\",(VLOOKUP($AB$42,Worksheet!$A$11:$AE$41,AB31+1,FALSE)))","v":""},{"$f":"IF('Entry Information'!Y151=\"\",\"\",'Entry Information'!Y151)","v":""},null,"",{"$f":"IF('Entry Information'!Z151=\"\",AF31,AF31-100)","v":""},"",{"$f":"IF($AD31=\"\",\"\",(VLOOKUP($AH$42,Worksheet!$A$11:$AE$41,AH31+1,FALSE)))","v":""},null,{"$f":"IF('OPEN ALL-AROUND RESULTS'!A30=\"\",\"\",(SUM('OPEN ALL-AROUND RESULTS'!$K30,'OPEN ALL-AROUND RESULTS'!$AC30,'OPEN ALL-AROUND RESULTS'!$AI30,'OPEN ALL-AROUND RESULTS'!$W30,'OPEN ALL-AROUND RESULTS'!$Q30)))","v":""},null,"","",null,{"$f":"IF(OR('Entry Information'!H151=\"\",'Entry Information'!J151=\"\"),\"\",(SUM('OPEN SELECT RESULTS'!$K30,'OPEN SELECT RESULTS'!$AC30,'OPEN SELECT RESULTS'!$AI30, 'OPEN SELECT RESULTS'!$W30,'OPEN SELECT RESULTS'!$Q30)))","v":""},null,"","",null,{"$f":"IF(OR('Entry Information'!I151=\"\",'Entry Information'!J151=\"\"),\"\",(SUM('OPEN JR HORSE RESULTS'!$K30,'OPEN JR HORSE RESULTS'!$AC30,'OPEN JR HORSE RESULTS'!$AI30, 'OPEN JR HORSE RESULTS'!$W30,'OPEN JR HORSE RESULTS'!$Q30)))","v":""},null,"",""]
[{"$f":"IF('Entry Information'!B152=\"\",\"\",'Entry Information'!B152)","v":""},{"$f":"IF('Entry Information'!C152=\"\",\"\",'Entry Information'!C152)","v":""},{"$f":"IF('Entry Information'!D152=\"\",\"\",'Entry Information'!D152)","v":""},{"$f":"IF('Entry Information'!E152=\"\",\"\",'Entry Information'!E152)","v":""},"OPEN",{"$f":"IF('Entry Information'!Q152=\"\",\"\",'Entry Information'!Q152)","v":""},null,"",{"$f":"IF('Entry Information'!R152=\"\",H32,H32-100)","v":""},"",{"$f":"IF($F32=\"\",\"\",(VLOOKUP($J$42,Worksheet!$A$11:$AE$41,J32+1,FALSE)))","v":""},{"$f":"IF('Entry Information'!S152=\"\",\"\",'Entry Information'!S152)","v":""},null,"",{"$f":"IF('Entry Information'!T152=\"\",N32,N32-100)","v":""},"",{"$f":"IF($L32=\"\",\"\",(VLOOKUP($P$42,Worksheet!$A$11:$AE$41,P32+1,FALSE)))","v":""},{"$f":"IF('Entry Information'!U152=\"\",\"\",'Entry Information'!U152)","v":""},null,"",{"$f":"IF('Entry Information'!V152=\"\",T32,T32-100)","v":""},"",{"$f":"IF($R32=\"\",\"\",(VLOOKUP($V$42,Worksheet!$A$11:$AE$41,V32+1,FALSE)))","v":""},{"$f":"IF('Entry Information'!W152=\"\",\"\",'Entry Information'!W152)","v":""},null,"",{"$f":"IF('Entry Information'!X152=\"\",Z32,Z32-100)","v":""},"",{"$f":"IF($X32=\"\",\"\",(VLOOKUP($AB$42,Worksheet!$A$11:$AE$41,AB32+1,FALSE)))","v":""},{"$f":"IF('Entry Information'!Y152=\"\",\"\",'Entry Information'!Y152)","v":""},null,"",{"$f":"IF('Entry Information'!Z152=\"\",AF32,AF32-100)","v":""},"",{"$f":"IF($AD32=\"\",\"\",(VLOOKUP($AH$42,Worksheet!$A$11:$AE$41,AH32+1,FALSE)))","v":""},null,{"$f":"IF('OPEN ALL-AROUND RESULTS'!A31=\"\",\"\",(SUM('OPEN ALL-AROUND RESULTS'!$K31,'OPEN ALL-AROUND RESULTS'!$AC31,'OPEN ALL-AROUND RESULTS'!$AI31,'OPEN ALL-AROUND RESULTS'!$W31,'OPEN ALL-AROUND RESULTS'!$Q31)))","v":""},null,"","",null,{"$f":"IF(OR('Entry Information'!H152=\"\",'Entry Information'!J152=\"\"),\"\",(SUM('OPEN SELECT RESULTS'!$K31,'OPEN SELECT RESULTS'!$AC31,'OPEN SELECT RESULTS'!$AI31, 'OPEN SELECT RESULTS'!$W31,'OPEN SELECT RESULTS'!$Q31)))","v":""},null,"","",null,{"$f":"IF(OR('Entry Information'!I152=\"\",'Entry Information'!J152=\"\"),\"\",(SUM('OPEN JR HORSE RESULTS'!$K31,'OPEN JR HORSE RESULTS'!$AC31,'OPEN JR HORSE RESULTS'!$AI31, 'OPEN JR HORSE RESULTS'!$W31,'OPEN JR HORSE RESULTS'!$Q31)))","v":""},null,"",""]
[{"$f":"IF('Entry Information'!B153=\"\",\"\",'Entry Information'!B153)","v":""},{"$f":"IF('Entry Information'!C153=\"\",\"\",'Entry Information'!C153)","v":""},{"$f":"IF('Entry Information'!D153=\"\",\"\",'Entry Information'!D153)","v":""},{"$f":"IF('Entry Information'!E153=\"\",\"\",'Entry Information'!E153)","v":""},"OPEN",{"$f":"IF('Entry Information'!Q153=\"\",\"\",'Entry Information'!Q153)","v":""},null,"",{"$f":"IF('Entry Information'!R153=\"\",H33,H33-100)","v":""},"",{"$f":"IF($F33=\"\",\"\",(VLOOKUP($J$42,Worksheet!$A$11:$AE$41,J33+1,FALSE)))","v":""},{"$f":"IF('Entry Information'!S153=\"\",\"\",'Entry Information'!S153)","v":""},null,"",{"$f":"IF('Entry Information'!T153=\"\",N33,N33-100)","v":""},"",{"$f":"IF($L33=\"\",\"\",(VLOOKUP($P$42,Worksheet!$A$11:$AE$41,P33+1,FALSE)))","v":""},{"$f":"IF('Entry Information'!U153=\"\",\"\",'Entry Information'!U153)","v":""},null,"",{"$f":"IF('Entry Information'!V153=\"\",T33,T33-100)","v":""},"",{"$f":"IF($R33=\"\",\"\",(VLOOKUP($V$42,Worksheet!$A$11:$AE$41,V33+1,FALSE)))","v":""},{"$f":"IF('Entry Information'!W153=\"\",\"\",'Entry Information'!W153)","v":""},null,"",{"$f":"IF('Entry Information'!X153=\"\",Z33,Z33-100)","v":""},"",{"$f":"IF($X33=\"\",\"\",(VLOOKUP($AB$42,Worksheet!$A$11:$AE$41,AB33+1,FALSE)))","v":""},{"$f":"IF('Entry Information'!Y153=\"\",\"\",'Entry Information'!Y153)","v":""},null,"",{"$f":"IF('Entry Information'!Z153=\"\",AF33,AF33-100)","v":""},"",{"$f":"IF($AD33=\"\",\"\",(VLOOKUP($AH$42,Worksheet!$A$11:$AE$41,AH33+1,FALSE)))","v":""},null,{"$f":"IF('OPEN ALL-AROUND RESULTS'!A32=\"\",\"\",(SUM('OPEN ALL-AROUND RESULTS'!$K32,'OPEN ALL-AROUND RESULTS'!$AC32,'OPEN ALL-AROUND RESULTS'!$AI32,'OPEN ALL-AROUND RESULTS'!$W32,'OPEN ALL-AROUND RESULTS'!$Q32)))","v":""},null,"","",null,{"$f":"IF(OR('Entry Information'!H153=\"\",'Entry Information'!J153=\"\"),\"\",(SUM('OPEN SELECT RESULTS'!$K32,'OPEN SELECT RESULTS'!$AC32,'OPEN SELECT RESULTS'!$AI32, 'OPEN SELECT RESULTS'!$W32,'OPEN SELECT RESULTS'!$Q32)))","v":""},null,"","",null,{"$f":"IF(OR('Entry Information'!I153=\"\",'Entry Information'!J153=\"\"),\"\",(SUM('OPEN JR HORSE RESULTS'!$K32,'OPEN JR HORSE RESULTS'!$AC32,'OPEN JR HORSE RESULTS'!$AI32, 'OPEN JR HORSE RESULTS'!$W32,'OPEN JR HORSE RESULTS'!$Q32)))","v":""},null,"",""]
[{"$f":"IF('Entry Information'!B154=\"\",\"\",'Entry Information'!B154)","v":""},{"$f":"IF('Entry Information'!C154=\"\",\"\",'Entry Information'!C154)","v":""},{"$f":"IF('Entry Information'!D154=\"\",\"\",'Entry Information'!D154)","v":""},{"$f":"IF('Entry Information'!E154=\"\",\"\",'Entry Information'!E154)","v":""},"OPEN",{"$f":"IF('Entry Information'!Q154=\"\",\"\",'Entry Information'!Q154)","v":""},null,"",{"$f":"IF('Entry Information'!R154=\"\",H34,H34-100)","v":""},"",{"$f":"IF($F34=\"\",\"\",(VLOOKUP($J$42,Worksheet!$A$11:$AE$41,J34+1,FALSE)))","v":""},{"$f":"IF('Entry Information'!S154=\"\",\"\",'Entry Information'!S154)","v":""},null,"",{"$f":"IF('Entry Information'!T154=\"\",N34,N34-100)","v":""},"",{"$f":"IF($L34=\"\",\"\",(VLOOKUP($P$42,Worksheet!$A$11:$AE$41,P34+1,FALSE)))","v":""},{"$f":"IF('Entry Information'!U154=\"\",\"\",'Entry Information'!U154)","v":""},null,"",{"$f":"IF('Entry Information'!V154=\"\",T34,T34-100)","v":""},"",{"$f":"IF($R34=\"\",\"\",(VLOOKUP($V$42,Worksheet!$A$11:$AE$41,V34+1,FALSE)))","v":""},{"$f":"IF('Entry Information'!W154=\"\",\"\",'Entry Information'!W154)","v":""},null,"",{"$f":"IF('Entry Information'!X154=\"\",Z34,Z34-100)","v":""},"",{"$f":"IF($X34=\"\",\"\",(VLOOKUP($AB$42,Worksheet!$A$11:$AE$41,AB34+1,FALSE)))","v":""},{"$f":"IF('Entry Information'!Y154=\"\",\"\",'Entry Information'!Y154)","v":""},null,"",{"$f":"IF('Entry Information'!Z154=\"\",AF34,AF34-100)","v":""},"",{"$f":"IF($AD34=\"\",\"\",(VLOOKUP($AH$42,Worksheet!$A$11:$AE$41,AH34+1,FALSE)))","v":""},null,{"$f":"IF('OPEN ALL-AROUND RESULTS'!A33=\"\",\"\",(SUM('OPEN ALL-AROUND RESULTS'!$K33,'OPEN ALL-AROUND RESULTS'!$AC33,'OPEN ALL-AROUND RESULTS'!$AI33,'OPEN ALL-AROUND RESULTS'!$W33,'OPEN ALL-AROUND RESULTS'!$Q33)))","v":""},null,"","",null,{"$f":"IF(OR('Entry Information'!H154=\"\",'Entry Information'!J154=\"\"),\"\",(SUM('OPEN SELECT RESULTS'!$K33,'OPEN SELECT RESULTS'!$AC33,'OPEN SELECT RESULTS'!$AI33, 'OPEN SELECT RESULTS'!$W33,'OPEN SELECT RESULTS'!$Q33)))","v":""},null,"","",null,{"$f":"IF(OR('Entry Information'!I154=\"\",'Entry Information'!J154=\"\"),\"\",(SUM('OPEN JR HORSE RESULTS'!$K33,'OPEN JR HORSE RESULTS'!$AC33,'OPEN JR HORSE RESULTS'!$AI33, 'OPEN JR HORSE RESULTS'!$W33,'OPEN JR HORSE RESULTS'!$Q33)))","v":""},null,"",""]
[{"$f":"IF('Entry Information'!B155=\"\",\"\",'Entry Information'!B155)","v":""},{"$f":"IF('Entry Information'!C155=\"\",\"\",'Entry Information'!C155)","v":""},{"$f":"IF('Entry Information'!D155=\"\",\"\",'Entry Information'!D155)","v":""},{"$f":"IF('Entry Information'!E155=\"\",\"\",'Entry Information'!E155)","v":""},"OPEN",{"$f":"IF('Entry Information'!Q155=\"\",\"\",'Entry Information'!Q155)","v":""},null,"",{"$f":"IF('Entry Information'!R155=\"\",H35,H35-100)","v":""},"",{"$f":"IF($F35=\"\",\"\",(VLOOKUP($J$42,Worksheet!$A$11:$AE$41,J35+1,FALSE)))","v":""},{"$f":"IF('Entry Information'!S155=\"\",\"\",'Entry Information'!S155)","v":""},null,"",{"$f":"IF('Entry Information'!T155=\"\",N35,N35-100)","v":""},"",{"$f":"IF($L35=\"\",\"\",(VLOOKUP($P$42,Worksheet!$A$11:$AE$41,P35+1,FALSE)))","v":""},{"$f":"IF('Entry Information'!U155=\"\",\"\",'Entry Information'!U155)","v":""},null,"",{"$f":"IF('Entry Information'!V155=\"\",T35,T35-100)","v":""},"",{"$f":"IF($R35=\"\",\"\",(VLOOKUP($V$42,Worksheet!$A$11:$AE$41,V35+1,FALSE)))","v":""},{"$f":"IF('Entry Information'!W155=\"\",\"\",'Entry Information'!W155)","v":""},null,"",{"$f":"IF('Entry Information'!X155=\"\",Z35,Z35-100)","v":""},"",{"$f":"IF($X35=\"\",\"\",(VLOOKUP($AB$42,Worksheet!$A$11:$AE$41,AB35+1,FALSE)))","v":""},{"$f":"IF('Entry Information'!Y155=\"\",\"\",'Entry Information'!Y155)","v":""},null,"",{"$f":"IF('Entry Information'!Z155=\"\",AF35,AF35-100)","v":""},"",{"$f":"IF($AD35=\"\",\"\",(VLOOKUP($AH$42,Worksheet!$A$11:$AE$41,AH35+1,FALSE)))","v":""},null,{"$f":"IF('OPEN ALL-AROUND RESULTS'!A34=\"\",\"\",(SUM('OPEN ALL-AROUND RESULTS'!$K34,'OPEN ALL-AROUND RESULTS'!$AC34,'OPEN ALL-AROUND RESULTS'!$AI34,'OPEN ALL-AROUND RESULTS'!$W34,'OPEN ALL-AROUND RESULTS'!$Q34)))","v":""},null,"","",null,{"$f":"IF(OR('Entry Information'!H155=\"\",'Entry Information'!J155=\"\"),\"\",(SUM('OPEN SELECT RESULTS'!$K34,'OPEN SELECT RESULTS'!$AC34,'OPEN SELECT RESULTS'!$AI34, 'OPEN SELECT RESULTS'!$W34,'OPEN SELECT RESULTS'!$Q34)))","v":""},null,"","",null,{"$f":"IF(OR('Entry Information'!I155=\"\",'Entry Information'!J155=\"\"),\"\",(SUM('OPEN JR HORSE RESULTS'!$K34,'OPEN JR HORSE RESULTS'!$AC34,'OPEN JR HORSE RESULTS'!$AI34, 'OPEN JR HORSE RESULTS'!$W34,'OPEN JR HORSE RESULTS'!$Q34)))","v":""},null,"",""]
[{"$f":"IF('Entry Information'!B156=\"\",\"\",'Entry Information'!B156)","v":""},{"$f":"IF('Entry Information'!C156=\"\",\"\",'Entry Information'!C156)","v":""},{"$f":"IF('Entry Information'!D156=\"\",\"\",'Entry Information'!D156)","v":""},{"$f":"IF('Entry Information'!E156=\"\",\"\",'Entry Information'!E156)","v":""},"OPEN",{"$f":"IF('Entry Information'!Q156=\"\",\"\",'Entry Information'!Q156)","v":""},null,"",{"$f":"IF('Entry Information'!R156=\"\",H36,H36-100)","v":""},"",{"$f":"IF($F36=\"\",\"\",(VLOOKUP($J$42,Worksheet!$A$11:$AE$41,J36+1,FALSE)))","v":""},{"$f":"IF('Entry Information'!S156=\"\",\"\",'Entry Information'!S156)","v":""},null,"",{"$f":"IF('Entry Information'!T156=\"\",N36,N36-100)","v":""},"",{"$f":"IF($L36=\"\",\"\",(VLOOKUP($P$42,Worksheet!$A$11:$AE$41,P36+1,FALSE)))","v":""},{"$f":"IF('Entry Information'!U156=\"\",\"\",'Entry Information'!U156)","v":""},null,"",{"$f":"IF('Entry Information'!V156=\"\",T36,T36-100)","v":""},"",{"$f":"IF($R36=\"\",\"\",(VLOOKUP($V$42,Worksheet!$A$11:$AE$41,V36+1,FALSE)))","v":""},{"$f":"IF('Entry Information'!W156=\"\",\"\",'Entry Information'!W156)","v":""},null,"",{"$f":"IF('Entry Information'!X156=\"\",Z36,Z36-100)","v":""},"",{"$f":"IF($X36=\"\",\"\",(VLOOKUP($AB$42,Worksheet!$A$11:$AE$41,AB36+1,FALSE)))","v":""},{"$f":"IF('Entry Information'!Y156=\"\",\"\",'Entry Information'!Y156)","v":""},null,"",{"$f":"IF('Entry Information'!Z156=\"\",AF36,AF36-100)","v":""},"",{"$f":"IF($AD36=\"\",\"\",(VLOOKUP($AH$42,Worksheet!$A$11:$AE$41,AH36+1,FALSE)))","v":""},null,{"$f":"IF('OPEN ALL-AROUND RESULTS'!A35=\"\",\"\",(SUM('OPEN ALL-AROUND RESULTS'!$K35,'OPEN ALL-AROUND RESULTS'!$AC35,'OPEN ALL-AROUND RESULTS'!$AI35,'OPEN ALL-AROUND RESULTS'!$W35,'OPEN ALL-AROUND RESULTS'!$Q35)))","v":""},null,"","",null,{"$f":"IF(OR('Entry Information'!H156=\"\",'Entry Information'!J156=\"\"),\"\",(SUM('OPEN SELECT RESULTS'!$K35,'OPEN SELECT RESULTS'!$AC35,'OPEN SELECT RESULTS'!$AI35, 'OPEN SELECT RESULTS'!$W35,'OPEN SELECT RESULTS'!$Q35)))","v":""},null,"","",null,{"$f":"IF(OR('Entry Information'!I156=\"\",'Entry Information'!J156=\"\"),\"\",(SUM('OPEN JR HORSE RESULTS'!$K35,'OPEN JR HORSE RESULTS'!$AC35,'OPEN JR HORSE RESULTS'!$AI35, 'OPEN JR HORSE RESULTS'!$W35,'OPEN JR HORSE RESULTS'!$Q35)))","v":""},null,"",""]
[{"$f":"IF('Entry Information'!B157=\"\",\"\",'Entry Information'!B157)","v":""},{"$f":"IF('Entry Information'!C157=\"\",\"\",'Entry Information'!C157)","v":""},{"$f":"IF('Entry Information'!D157=\"\",\"\",'Entry Information'!D157)","v":""},{"$f":"IF('Entry Information'!E157=\"\",\"\",'Entry Information'!E157)","v":""},"OPEN",{"$f":"IF('Entry Information'!Q157=\"\",\"\",'Entry Information'!Q157)","v":""},null,"",{"$f":"IF('Entry Information'!R157=\"\",H37,H37-100)","v":""},"",{"$f":"IF($F37=\"\",\"\",(VLOOKUP($J$42,Worksheet!$A$11:$AE$41,J37+1,FALSE)))","v":""},{"$f":"IF('Entry Information'!S157=\"\",\"\",'Entry Information'!S157)","v":""},null,"",{"$f":"IF('Entry Information'!T157=\"\",N37,N37-100)","v":""},"",{"$f":"IF($L37=\"\",\"\",(VLOOKUP($P$42,Worksheet!$A$11:$AE$41,P37+1,FALSE)))","v":""},{"$f":"IF('Entry Information'!U157=\"\",\"\",'Entry Information'!U157)","v":""},null,"",{"$f":"IF('Entry Information'!V157=\"\",T37,T37-100)","v":""},"",{"$f":"IF($R37=\"\",\"\",(VLOOKUP($V$42,Worksheet!$A$11:$AE$41,V37+1,FALSE)))","v":""},{"$f":"IF('Entry Information'!W157=\"\",\"\",'Entry Information'!W157)","v":""},null,"",{"$f":"IF('Entry Information'!X157=\"\",Z37,Z37-100)","v":""},"",{"$f":"IF($X37=\"\",\"\",(VLOOKUP($AB$42,Worksheet!$A$11:$AE$41,AB37+1,FALSE)))","v":""},{"$f":"IF('Entry Information'!Y157=\"\",\"\",'Entry Information'!Y157)","v":""},null,"",{"$f":"IF('Entry Information'!Z157=\"\",AF37,AF37-100)","v":""},"",{"$f":"IF($AD37=\"\",\"\",(VLOOKUP($AH$42,Worksheet!$A$11:$AE$41,AH37+1,FALSE)))","v":""},null,{"$f":"IF('OPEN ALL-AROUND RESULTS'!A36=\"\",\"\",(SUM('OPEN ALL-AROUND RESULTS'!$K36,'OPEN ALL-AROUND RESULTS'!$AC36,'OPEN ALL-AROUND RESULTS'!$AI36,'OPEN ALL-AROUND RESULTS'!$W36,'OPEN ALL-AROUND RESULTS'!$Q36)))","v":""},null,"","",null,{"$f":"IF(OR('Entry Information'!H157=\"\",'Entry Information'!J157=\"\"),\"\",(SUM('OPEN SELECT RESULTS'!$K36,'OPEN SELECT RESULTS'!$AC36,'OPEN SELECT RESULTS'!$AI36, 'OPEN SELECT RESULTS'!$W36,'OPEN SELECT RESULTS'!$Q36)))","v":""},null,"","",null,{"$f":"IF(OR('Entry Information'!I157=\"\",'Entry Information'!J157=\"\"),\"\",(SUM('OPEN JR HORSE RESULTS'!$K36,'OPEN JR HORSE RESULTS'!$AC36,'OPEN JR HORSE RESULTS'!$AI36, 'OPEN JR HORSE RESULTS'!$W36,'OPEN JR HORSE RESULTS'!$Q36)))","v":""},null,"",""]
[{"$f":"IF('Entry Information'!B158=\"\",\"\",'Entry Information'!B158)","v":""},{"$f":"IF('Entry Information'!C158=\"\",\"\",'Entry Information'!C158)","v":""},{"$f":"IF('Entry Information'!D158=\"\",\"\",'Entry Information'!D158)","v":""},{"$f":"IF('Entry Information'!E158=\"\",\"\",'Entry Information'!E158)","v":""},"OPEN",{"$f":"IF('Entry Information'!Q158=\"\",\"\",'Entry Information'!Q158)","v":""},null,"",{"$f":"IF('Entry Information'!R158=\"\",H38,H38-100)","v":""},"",{"$f":"IF($F38=\"\",\"\",(VLOOKUP($J$42,Worksheet!$A$11:$AE$41,J38+1,FALSE)))","v":""},{"$f":"IF('Entry Information'!S158=\"\",\"\",'Entry Information'!S158)","v":""},null,"",{"$f":"IF('Entry Information'!T158=\"\",N38,N38-100)","v":""},"",{"$f":"IF($L38=\"\",\"\",(VLOOKUP($P$42,Worksheet!$A$11:$AE$41,P38+1,FALSE)))","v":""},{"$f":"IF('Entry Information'!U158=\"\",\"\",'Entry Information'!U158)","v":""},null,"",{"$f":"IF('Entry Information'!V158=\"\",T38,T38-100)","v":""},"",{"$f":"IF($R38=\"\",\"\",(VLOOKUP($V$42,Worksheet!$A$11:$AE$41,V38+1,FALSE)))","v":""},{"$f":"IF('Entry Information'!W158=\"\",\"\",'Entry Information'!W158)","v":""},null,"",{"$f":"IF('Entry Information'!X158=\"\",Z38,Z38-100)","v":""},"",{"$f":"IF($X38=\"\",\"\",(VLOOKUP($AB$42,Worksheet!$A$11:$AE$41,AB38+1,FALSE)))","v":""},{"$f":"IF('Entry Information'!Y158=\"\",\"\",'Entry Information'!Y158)","v":""},null,"",{"$f":"IF('Entry Information'!Z158=\"\",AF38,AF38-100)","v":""},"",{"$f":"IF($AD38=\"\",\"\",(VLOOKUP($AH$42,Worksheet!$A$11:$AE$41,AH38+1,FALSE)))","v":""},null,{"$f":"IF('OPEN ALL-AROUND RESULTS'!A37=\"\",\"\",(SUM('OPEN ALL-AROUND RESULTS'!$K37,'OPEN ALL-AROUND RESULTS'!$AC37,'OPEN ALL-AROUND RESULTS'!$AI37,'OPEN ALL-AROUND RESULTS'!$W37,'OPEN ALL-AROUND RESULTS'!$Q37)))","v":""},null,"","",null,{"$f":"IF(OR('Entry Information'!H158=\"\",'Entry Information'!J158=\"\"),\"\",(SUM('OPEN SELECT RESULTS'!$K37,'OPEN SELECT RESULTS'!$AC37,'OPEN SELECT RESULTS'!$AI37, 'OPEN SELECT RESULTS'!$W37,'OPEN SELECT RESULTS'!$Q37)))","v":""},null,"","",null,{"$f":"IF(OR('Entry Information'!I158=\"\",'Entry Information'!J158=\"\"),\"\",(SUM('OPEN JR HORSE RESULTS'!$K37,'OPEN JR HORSE RESULTS'!$AC37,'OPEN JR HORSE RESULTS'!$AI37, 'OPEN JR HORSE RESULTS'!$W37,'OPEN JR HORSE RESULTS'!$Q37)))","v":""},null,"",""]
[{"$f":"IF('Entry Information'!B159=\"\",\"\",'Entry Information'!B159)","v":""},{"$f":"IF('Entry Information'!C159=\"\",\"\",'Entry Information'!C159)","v":""},{"$f":"IF('Entry Information'!D159=\"\",\"\",'Entry Information'!D159)","v":""},{"$f":"IF('Entry Information'!E159=\"\",\"\",'Entry Information'!E159)","v":""},"OPEN",{"$f":"IF('Entry Information'!Q159=\"\",\"\",'Entry Information'!Q159)","v":""},null,"",{"$f":"IF('Entry Information'!R159=\"\",H39,H39-100)","v":""},"",{"$f":"IF($F39=\"\",\"\",(VLOOKUP($J$42,Worksheet!$A$11:$AE$41,J39+1,FALSE)))","v":""},{"$f":"IF('Entry Information'!S159=\"\",\"\",'Entry Information'!S159)","v":""},null,"",{"$f":"IF('Entry Information'!T159=\"\",N39,N39-100)","v":""},"",{"$f":"IF($L39=\"\",\"\",(VLOOKUP($P$42,Worksheet!$A$11:$AE$41,P39+1,FALSE)))","v":""},{"$f":"IF('Entry Information'!U159=\"\",\"\",'Entry Information'!U159)","v":""},null,"",{"$f":"IF('Entry Information'!V159=\"\",T39,T39-100)","v":""},"",{"$f":"IF($R39=\"\",\"\",(VLOOKUP($V$42,Worksheet!$A$11:$AE$41,V39+1,FALSE)))","v":""},{"$f":"IF('Entry Information'!W159=\"\",\"\",'Entry Information'!W159)","v":""},null,"",{"$f":"IF('Entry Information'!X159=\"\",Z39,Z39-100)","v":""},"",{"$f":"IF($X39=\"\",\"\",(VLOOKUP($AB$42,Worksheet!$A$11:$AE$41,AB39+1,FALSE)))","v":""},{"$f":"IF('Entry Information'!Y159=\"\",\"\",'Entry Information'!Y159)","v":""},null,"",{"$f":"IF('Entry Information'!Z159=\"\",AF39,AF39-100)","v":""},"",{"$f":"IF($AD39=\"\",\"\",(VLOOKUP($AH$42,Worksheet!$A$11:$AE$41,AH39+1,FALSE)))","v":""},null,{"$f":"IF('OPEN ALL-AROUND RESULTS'!A38=\"\",\"\",(SUM('OPEN ALL-AROUND RESULTS'!$K38,'OPEN ALL-AROUND RESULTS'!$AC38,'OPEN ALL-AROUND RESULTS'!$AI38,'OPEN ALL-AROUND RESULTS'!$W38,'OPEN ALL-AROUND RESULTS'!$Q38)))","v":""},null,"","",null,{"$f":"IF(OR('Entry Information'!H159=\"\",'Entry Information'!J159=\"\"),\"\",(SUM('OPEN SELECT RESULTS'!$K38,'OPEN SELECT RESULTS'!$AC38,'OPEN SELECT RESULTS'!$AI38, 'OPEN SELECT RESULTS'!$W38,'OPEN SELECT RESULTS'!$Q38)))","v":""},null,"","",null,{"$f":"IF(OR('Entry Information'!I159=\"\",'Entry Information'!J159=\"\"),\"\",(SUM('OPEN JR HORSE RESULTS'!$K38,'OPEN JR HORSE RESULTS'!$AC38,'OPEN JR HORSE RESULTS'!$AI38, 'OPEN JR HORSE RESULTS'!$W38,'OPEN JR HORSE RESULTS'!$Q38)))","v":""},null,"",""]
[{"$f":"IF('Entry Information'!B160=\"\",\"\",'Entry Information'!B160)","v":""},{"$f":"IF('Entry Information'!C160=\"\",\"\",'Entry Information'!C160)","v":""},{"$f":"IF('Entry Information'!D160=\"\",\"\",'Entry Information'!D160)","v":""},{"$f":"IF('Entry Information'!E160=\"\",\"\",'Entry Information'!E160)","v":""},"OPEN",{"$f":"IF('Entry Information'!Q160=\"\",\"\",'Entry Information'!Q160)","v":""},null,"",{"$f":"IF('Entry Information'!R160=\"\",H40,H40-100)","v":""},"",{"$f":"IF($F40=\"\",\"\",(VLOOKUP($J$42,Worksheet!$A$11:$AE$41,J40+1,FALSE)))","v":""},{"$f":"IF('Entry Information'!S160=\"\",\"\",'Entry Information'!S160)","v":""},null,"",{"$f":"IF('Entry Information'!T160=\"\",N40,N40-100)","v":""},"",{"$f":"IF($L40=\"\",\"\",(VLOOKUP($P$42,Worksheet!$A$11:$AE$41,P40+1,FALSE)))","v":""},{"$f":"IF('Entry Information'!U160=\"\",\"\",'Entry Information'!U160)","v":""},null,"",{"$f":"IF('Entry Information'!V160=\"\",T40,T40-100)","v":""},"",{"$f":"IF($R40=\"\",\"\",(VLOOKUP($V$42,Worksheet!$A$11:$AE$41,V40+1,FALSE)))","v":""},{"$f":"IF('Entry Information'!W160=\"\",\"\",'Entry Information'!W160)","v":""},null,"",{"$f":"IF('Entry Information'!X160=\"\",Z40,Z40-100)","v":""},"",{"$f":"IF($X40=\"\",\"\",(VLOOKUP($AB$42,Worksheet!$A$11:$AE$41,AB40+1,FALSE)))","v":""},{"$f":"IF('Entry Information'!Y160=\"\",\"\",'Entry Information'!Y160)","v":""},null,"",{"$f":"IF('Entry Information'!Z160=\"\",AF40,AF40-100)","v":""},"",{"$f":"IF($AD40=\"\",\"\",(VLOOKUP($AH$42,Worksheet!$A$11:$AE$41,AH40+1,FALSE)))","v":""},null,{"$f":"IF('OPEN ALL-AROUND RESULTS'!A39=\"\",\"\",(SUM('OPEN ALL-AROUND RESULTS'!$K39,'OPEN ALL-AROUND RESULTS'!$AC39,'OPEN ALL-AROUND RESULTS'!$AI39,'OPEN ALL-AROUND RESULTS'!$W39,'OPEN ALL-AROUND RESULTS'!$Q39)))","v":""},null,"","",null,{"$f":"IF(OR('Entry Information'!H160=\"\",'Entry Information'!J160=\"\"),\"\",(SUM('OPEN SELECT RESULTS'!$K39,'OPEN SELECT RESULTS'!$AC39,'OPEN SELECT RESULTS'!$AI39, 'OPEN SELECT RESULTS'!$W39,'OPEN SELECT RESULTS'!$Q39)))","v":""},null,"","",null,{"$f":"IF(OR('Entry Information'!I160=\"\",'Entry Information'!J160=\"\"),\"\",(SUM('OPEN JR HORSE RESULTS'!$K39,'OPEN JR HORSE RESULTS'!$AC39,'OPEN JR HORSE RESULTS'!$AI39, 'OPEN JR HORSE RESULTS'!$W39,'OPEN JR HORSE RESULTS'!$Q39)))","v":""},null,"",""]
[]
[null,null,null,null,null,null,null,null,null,{"$f":"COUNTIF(J11:J40,\">=0\")","v":0},null,null,null,null,null,{"$f":"COUNTIF(P11:P40,\">=0\")","v":0},null,null,null,null,null,{"$f":"COUNTIF(V11:V40,\">=0\")","v":0},null,null,null,null,null,{"$f":"COUNTIF(AB11:AB40,\">=0\")","v":0},null,null,null,null,null,{"$f":"COUNTIF(AH11:AH40,\">=0\")","v":0}]
[null,null,null,null,null,"1 - Total Penalty Points",null,null,null,null,null,"1 - Total Penalty Points",null,null,null,null,null,"1 Total Penalty Points",null,null,null,null,null,"1 - Total Penalty Points",null,null,null,null,null,"1 - Rope / Rope Handling",null,null,null,null,null,null,"Working Ranch Score ",null,null,null,null,"Working Ranch Score ",null,null,null,null,"Working Ranch Score "]
[null,null,null,null,null,"2 - Extended Trot",null,null,null,null,null,"2 - Rope Handling",null,null,null,null,null,"2 - Working Center of Arena",null,null,null,null,null,"2 - First Lead Change",null,null,null,null,null,"2 - Total Penalty Points",null,null,null,null,null,null,"and then use WR Tie-Breakers",null,null,null,null,"and then use WR Tie-Breakers",null,null,null,null,"and then use WR Tie-Breakers"]
[null,null,null,null,null,"3 - Transition down lope/walk/stop",null,null,null,null,null,"3 - Log Drag",null,null,null,null,null,"3 - First Cut From the Herd",null,null,null,null,null,"3 -Spin",null,null,null,null,null,"3 - Box Cow"]
[null,null,null,null,null,"4 - Transition to lope/lope",null,null,null,null,null,"4 - Gate",null,null,null,null,null,"4 - Second Cut From the Herd",null,null,null,null,null,"4 -First Stop",null,null,null,null,null,"4 - First Turn On the Fence"]
[null,null,null,null,null,null,null,null,null,null,null,null,null,null,null,null,null,null,null,null,null,null,null,null,null,null,null,null,null,"5 - Degree of Difficulty"]
[null,null,null,null,null,null,null,null,null,null,null,null,null,null,null,null,null,null,null,null,null,null,null,null,null,null,null,null,null,"6 - Time Worked"]
["Scores in RED are ties - enter a 1 in the Tie Breaker Column of the winner to break tie.  If multiple ties enter a 1 for the second place and a 2 for winner."]
[]
[]
["Places highlighted have a major penatly."]

{"sheet":"OPEN ALL-AROUND RESULTS","index":20,"n_rows":53,"n_cols":35,"rows_kept":53,"cut":false,"hidden":true,"merged":[[2,21,2,22],[2,23,2,28],[2,29,2,34],[1,0,1,2],[1,4,1,5],[1,9,1,16],[1,21,1,22],[1,23,1,28],[1,29,1,34],[2,1,2,2],[2,4,2,5],[2,9,2,11],[4,5,4,10],[4,11,4,16],[4,17,4,22],[4,23,4,28],[6,11,8,11],[6,12,8,12],[6,13,8,13],[6,26,8,26],[6,27,8,27],[6,28,8,28],[6,21,8,21],[6,15,8,15],[6,7,8,7],[6,8,8,8],[6,9,8,9],[6,10,8,10],[4,29,4,34],[6,32,8,32],[6,17,8,17],[6,18,8,18],[6,19,8,19],[6,20,8,20],[6,24,8,24],[6,25,8,25],[6,33,8,33],[6,34,8,34],[6,23,8,23],[5,5,5,10],[5,11,5,16],[5,17,5,22],[5,23,5,28],[5,29,5,34],[47,0,48,4],[6,29,8,29],[6,30,8,30],[6,31,8,31],[6,14,8,14],[6,5,8,5],[6,6,8,6],[6,22,8,22],[6,16,8,16]]}
[]
[null,null,null,null,"Event Name:",null,null,null,null,{"$f":"'Entry Information'!C4","v":"Ranch Horse Challenge"},null,null,null,null,null,null,null,null,null,null,null,"Judge #1 Name/Classes:",null,{"$f":"'Entry Information'!F4","v":"Mike Lund"}]
["Division:","OPEN",null,null,"Event Date:",null,null,null,null,{"$f":"'Entry Information'!C5","v":"2018-03-25"},null,null,null,null,null,null,null,null,null,null,null,"Judge #2 Name/Classes:",null,{"$f":"'Entry Information'!F5","v":"Karen Arlin"}]
[]
[null,null,null,null,null,"RANCH",null,null,null,null,null,"RANCH",null,null,null,null,null,"RANCH",null,null,null,null,null,"RANCH",null,null,null,null,null,"RANCH"]
[null,null,null,null,null,"RIDING",null,null,null,null,null,"TRAIL",null,null,null,null,null,"CUTING",null,null,null,null,null,"REINED WORK",null,null,null,null,null,"COW WORK"]
[null,null,null,null,null,"Score","Tie Breaker","Adjusted Score for Ties","Adjusted Score Major Penalty","Place","Placement Points","Score","Tie Breaker","Adjusted Score for Ties","Adjusted Score Major Penalty","Place","Placement Points","Score","Tie Breaker","Adjusted Score for Ties","Adjusted Score Major Penalty","Place","Placement Points","Score","Tie Breaker","Adjusted Score for Ties","Adjusted Score Major Penalty","Place","Placement Points","Score","Tie Breaker","Adjusted Score for Ties","Adjusted Score Major Penalty","Place","Placement Points"]
[]
["Back No.","Last Name","First Name","Registered Horse Name","Division"]
[{"$f":"IF('Entry Information'!J131=\"\",\"\",'Entry Information'!B131)","v":""},{"$f":"IF('Entry Information'!J131=\"\",\"\",'Entry Information'!C131)","v":""},{"$f":"IF('Entry Information'!J131=\"\",\"\",'Entry Information'!D131)","v":""},{"$f":"IF('Entry Information'!J131=\"\",\"\",'Entry Information'!E131)","v":""},"OPEN",{"$f":"IF('Entry Information'!$J131=\"\",\"\",'OPEN RESULTS'!F11)","v":""},{"$f":"IF('Entry Information'!$J131=\"\",\"\",IF('OPEN RESULTS'!G11=\"\",\"\",'OPEN RESULTS'!G11))","v":""},{"$f":"IF(G10=\"\",F10,(F10+(G10*0.001)))","v":""},{"$f":"IF('Entry Information'!$J131=\"\",\"\",IF('Entry Information'!R131=\"\",H10,H10-100))","v":""},{"$f":"IF(I10=\"\",\"\",(RANK(I10,$I$10:$I$39,0)))","v":""},{"$f":"IF($F10=\"\",\"\",(VLOOKUP($J$41,Worksheet!$A$11:$AE$41,J10+1,FALSE)))","v":""},{"$f":"IF('Entry Information'!$J131=\"\",\"\",'OPEN RESULTS'!L11)","v":""},{"$f":"IF('Entry Information'!$J131=\"\",\"\",IF('OPEN RESULTS'!M11=\"\",\"\",'OPEN RESULTS'!M11))","v":""},{"$f":"IF(M10=\"\",L10,(L10+(M10*0.001)))","v":""},{"$f":"IF('Entry Information'!$J131=\"\",\"\",IF('Entry Information'!T131=\"\",N10,N10-100))","v":""},{"$f":"IF(O10=\"\",\"\",(RANK(O10,$O$10:$O$39,0)))","v":""},{"$f":"IF($L10=\"\",\"\",(VLOOKUP($P$41,Worksheet!$A$11:$AE$41,P10+1,FALSE)))","v":""},{"$f":"IF('Entry Information'!$J131=\"\",\"\",'OPEN RESULTS'!R11)","v":""},{"$f":"IF('Entry Information'!$J131=\"\",\"\",IF('OPEN RESULTS'!S11=\"\",\"\",'OPEN RESULTS'!S11))","v":""},{"$f":"IF(S10=\"\",R10,(R10+(S10*0.001)))","v":""},{"$f":"IF('Entry Information'!$J131=\"\",\"\",IF('Entry Information'!V131=\"\",T10,T10-100))","v":""},{"$f":"IF(U10=\"\",\"\",(RANK(U10,$U$10:$U$39,0)))","v":""},{"$f":"IF($R10=\"\",\"\",(VLOOKUP($V$41,Worksheet!$A$11:$AE$41,V10+1,FALSE)))","v":""},{"$f":"IF('Entry Information'!$J131=\"\",\"\",'OPEN RESULTS'!X11)","v":""},{"$f":"IF('Entry Information'!$J131=\"\",\"\",IF('OPEN RESULTS'!Y11=\"\",\"\",'OPEN RESULTS'!Y11))","v":""},{"$f":"IF(Y10=\"\",X10,(X10+(Y10*0.001)))","v":""},{"$f":"IF('Entry Information'!$J131=\"\",\"\",IF('Entry Information'!X131=\"\",Z10,Z10-100))","v":""},{"$f":"IF(AA10=\"\",\"\",(RANK(AA10,$AA$10:$AA$39,0)))","v":""},{"$f":"IF($X10=\"\",\"\",(VLOOKUP($AB$41,Worksheet!$A$11:$AE$41,AB10+1,FALSE)))","v":""},{"$f":"IF('Entry Information'!$J131=\"\",\"\",'OPEN RESULTS'!AD11)","v":""},{"$f":"IF('Entry Information'!$J131=\"\",\"\",IF('OPEN RESULTS'!AE11=\"\",\"\",'OPEN RESULTS'!AE11))","v":""},{"$f":"IF(AE10=\"\",AD10,(AD10+(AE10*0.001)))","v":""},{"$f":"IF('Entry Information'!$J131=\"\",\"\",IF('Entry Information'!Z131=\"\",AF10,AF10-100))","v":""},{"$f":"IF(AG10=\"\",\"\",(RANK(AG10,$AG$10:$AG$39,0)))","v":""},{"$f":"IF($AD10=\"\",\"\",(VLOOKUP($AH$41,Worksheet!$A$11:$AE$41,AH10+1,FALSE)))","v":""}]
[{"$f":"IF('Entry Information'!J132=\"\",\"\",'Entry Information'!B132)","v":""},{"$f":"IF('Entry Information'!J132=\"\",\"\",'Entry Information'!C132)","v":""},{"$f":"IF('Entry Information'!J132=\"\",\"\",'Entry Information'!D132)","v":""},{"$f":"IF('Entry Information'!J132=\"\",\"\",'Entry Information'!E132)","v":""},"OPEN",{"$f":"IF('Entry Information'!$J132=\"\",\"\",'OPEN RESULTS'!F12)","v":""},{"$f":"IF('Entry Information'!$J132=\"\",\"\",IF('OPEN RESULTS'!G12=\"\",\"\",'OPEN RESULTS'!G12))","v":""},{"$f":"IF(G11=\"\",F11,(F11+(G11*0.001)))","v":""},{"$f":"IF('Entry Information'!$J132=\"\",\"\",IF('Entry Information'!R132=\"\",H11,H11-100))","v":""},{"$f":"IF(I11=\"\",\"\",(RANK(I11,$I$10:$I$39,0)))","v":""},{"$f":"IF($F11=\"\",\"\",(VLOOKUP($J$41,Worksheet!$A$11:$AE$41,J11+1,FALSE)))","v":""},{"$f":"IF('Entry Information'!$J132=\"\",\"\",'OPEN RESULTS'!L12)","v":""},{"$f":"IF('Entry Information'!$J132=\"\",\"\",IF('OPEN RESULTS'!M12=\"\",\"\",'OPEN RESULTS'!M12))","v":""},"",{"$f":"IF('Entry Information'!$J132=\"\",\"\",IF('Entry Information'!T132=\"\",N11,N11-100))","v":""},{"$f":"IF(O11=\"\",\"\",(RANK(O11,$O$10:$O$39,0)))","v":""},{"$f":"IF($L11=\"\",\"\",(VLOOKUP($P$41,Worksheet!$A$11:$AE$41,P11+1,FALSE)))","v":""},{"$f":"IF('Entry Information'!$J132=\"\",\"\",'OPEN RESULTS'!R12)","v":""},{"$f":"IF('Entry Information'!$J132=\"\",\"\",IF('OPEN RESULTS'!S12=\"\",\"\",'OPEN RESULTS'!S12))","v":""},{"$f":"IF(S11=\"\",R11,(R11+(S11*0.001)))","v":""},{"$f":"IF('Entry Information'!$J132=\"\",\"\",IF('Entry Information'!V132=\"\",T11,T11-100))","v":""},{"$f":"IF(T11=\"\",\"\",(RANK(T11,$T$10:$T$39,0)))","v":""},{"$f":"IF($R11=\"\",\"\",(VLOOKUP($V$41,Worksheet!$A$11:$AE$41,V11+1,FALSE)))","v":""},{"$f":"IF('Entry Information'!$J132=\"\",\"\",'OPEN RESULTS'!X12)","v":""},{"$f":"IF('Entry Information'!$J132=\"\",\"\",IF('OPEN RESULTS'!Y12=\"\",\"\",'OPEN RESULTS'!Y12))","v":""},{"$f":"IF(Y11=\"\",X11,(X11+(Y11*0.001)))","v":""},{"$f":"IF('Entry Information'!$J132=\"\",\"\",IF('Entry Information'!X132=\"\",Z11,Z11-100))","v":""},{"$f":"IF(AA11=\"\",\"\",(RANK(AA11,$AA$10:$AA$39,0)))","v":""},{"$f":"IF($X11=\"\",\"\",(VLOOKUP($AB$41,Worksheet!$A$11:$AE$41,AB11+1,FALSE)))","v":""},{"$f":"IF('Entry Information'!$J132=\"\",\"\",'OPEN RESULTS'!AD12)","v":""},{"$f":"IF('Entry Information'!$J132=\"\",\"\",IF('OPEN RESULTS'!AE12=\"\",\"\",'OPEN RESULTS'!AE12))","v":""},{"$f":"IF(AE11=\"\",AD11,(AD11+(AE11*0.001)))","v":""},{"$f":"IF('Entry Information'!$J132=\"\",\"\",IF('Entry Information'!Z132=\"\",AF11,AF11-100))","v":""},{"$f":"IF(AG11=\"\",\"\",(RANK(AG11,$AG$10:$AG$39,0)))","v":""},{"$f":"IF($AD11=\"\",\"\",(VLOOKUP($AH$41,Worksheet!$A$11:$AE$41,AH11+1,FALSE)))","v":""}]
[{"$f":"IF('Entry Information'!J133=\"\",\"\",'Entry Information'!B133)","v":""},{"$f":"IF('Entry Information'!J133=\"\",\"\",'Entry Information'!C133)","v":""},{"$f":"IF('Entry Information'!J133=\"\",\"\",'Entry Information'!D133)","v":""},{"$f":"IF('Entry Information'!J133=\"\",\"\",'Entry Information'!E133)","v":""},"OPEN",{"$f":"IF('Entry Information'!$J133=\"\",\"\",'OPEN RESULTS'!F13)","v":""},{"$f":"IF('Entry Information'!$J133=\"\",\"\",IF('OPEN RESULTS'!G13=\"\",\"\",'OPEN RESULTS'!G13))","v":""},"",{"$f":"IF('Entry Information'!$J133=\"\",\"\",IF('Entry Information'!R133=\"\",H12,H12-100))","v":""},"",{"$f":"IF($F12=\"\",\"\",(VLOOKUP($J$41,Worksheet!$A$11:$AE$41,J12+1,FALSE)))","v":""},{"$f":"IF('Entry Information'!$J133=\"\",\"\",'OPEN RESULTS'!L13)","v":""},{"$f":"IF('Entry Information'!$J133=\"\",\"\",IF('OPEN RESULTS'!M13=\"\",\"\",'OPEN RESULTS'!M13))","v":""},"",{"$f":"IF('Entry Information'!$J133=\"\",\"\",IF('Entry Information'!T133=\"\",N12,N12-100))","v":""},"",{"$f":"IF($L12=\"\",\"\",(VLOOKUP($P$41,Worksheet!$A$11:$AE$41,P12+1,FALSE)))","v":""},{"$f":"IF('Entry Information'!$J133=\"\",\"\",'OPEN RESULTS'!R13)","v":""},{"$f":"IF('Entry Information'!$J133=\"\",\"\",IF('OPEN RESULTS'!S13=\"\",\"\",'OPEN RESULTS'!S13))","v":""},"",{"$f":"IF('Entry Information'!$J133=\"\",\"\",IF('Entry Information'!V133=\"\",T12,T12-100))","v":""},"",{"$f":"IF($R12=\"\",\"\",(VLOOKUP($V$41,Worksheet!$A$11:$AE$41,V12+1,FALSE)))","v":""},{"$f":"IF('Entry Information'!$J133=\"\",\"\",'OPEN RESULTS'!X13)","v":""},{"$f":"IF('Entry Information'!$J133=\"\",\"\",IF('OPEN RESULTS'!Y13=\"\",\"\",'OPEN RESULTS'!Y13))","v":""},"",{"$f":"IF('Entry Information'!$J133=\"\",\"\",IF('Entry Information'!X133=\"\",Z12,Z12-100))","v":""},"",{"$f":"IF($X12=\"\",\"\",(VLOOKUP($AB$41,Worksheet!$A$11:$AE$41,AB12+1,FALSE)))","v":""},{"$f":"IF('Entry Information'!$J133=\"\",\"\",'OPEN RESULTS'!AD13)","v":""},{"$f":"IF('Entry Information'!$J133=\"\",\"\",IF('OPEN RESULTS'!AE13=\"\",\"\",'OPEN RESULTS'!AE13))","v":""},"",{"$f":"IF('Entry Information'!$J133=\"\",\"\",IF('Entry Information'!Z133=\"\",AF12,AF12-100))","v":""},"",{"$f":"IF($AD12=\"\",\"\",(VLOOKUP($AH$41,Worksheet!$A$11:$AE$41,AH12+1,FALSE)))","v":""}]
[{"$f":"IF('Entry Information'!J134=\"\",\"\",'Entry Information'!B134)","v":""},{"$f":"IF('Entry Information'!J134=\"\",\"\",'Entry Information'!C134)","v":""},{"$f":"IF('Entry Information'!J134=\"\",\"\",'Entry Information'!D134)","v":""},{"$f":"IF('Entry Information'!J134=\"\",\"\",'Entry Information'!E134)","v":""},"OPEN",{"$f":"IF('Entry Information'!$J134=\"\",\"\",'OPEN RESULTS'!F14)","v":""},{"$f":"IF('Entry Information'!$J134=\"\",\"\",IF('OPEN RESULTS'!G14=\"\",\"\",'OPEN RESULTS'!G14))","v":""},"",{"$f":"IF('Entry Information'!$J134=\"\",\"\",IF('Entry Information'!R134=\"\",H13,H13-100))","v":""},"",{"$f":"IF($F13=\"\",\"\",(VLOOKUP($J$41,Worksheet!$A$11:$AE$41,J13+1,FALSE)))","v":""},{"$f":"IF('Entry Information'!$J134=\"\",\"\",'OPEN RESULTS'!L14)","v":""},{"$f":"IF('Entry Information'!$J134=\"\",\"\",IF('OPEN RESULTS'!M14=\"\",\"\",'OPEN RESULTS'!M14))","v":""},"",{"$f":"IF('Entry Information'!$J134=\"\",\"\",IF('Entry Information'!T134=\"\",N13,N13-100))","v":""},"",{"$f":"IF($L13=\"\",\"\",(VLOOKUP($P$41,Worksheet!$A$11:$AE$41,P13+1,FALSE)))","v":""},{"$f":"IF('Entry Information'!$J134=\"\",\"\",'OPEN RESULTS'!R14)","v":""},{"$f":"IF('Entry Information'!$J134=\"\",\"\",IF('OPEN RESULTS'!S14=\"\",\"\",'OPEN RESULTS'!S14))","v":""},"",{"$f":"IF('Entry Information'!$J134=\"\",\"\",IF('Entry Information'!V134=\"\",T13,T13-100))","v":""},"",{"$f":"IF($R13=\"\",\"\",(VLOOKUP($V$41,Worksheet!$A$11:$AE$41,V13+1,FALSE)))","v":""},{"$f":"IF('Entry Information'!$J134=\"\",\"\",'OPEN RESULTS'!X14)","v":""},{"$f":"IF('Entry Information'!$J134=\"\",\"\",IF('OPEN RESULTS'!Y14=\"\",\"\",'OPEN RESULTS'!Y14))","v":""},"",{"$f":"IF('Entry Information'!$J134=\"\",\"\",IF('Entry Information'!X134=\"\",Z13,Z13-100))","v":""},"",{"$f":"IF($X13=\"\",\"\",(VLOOKUP($AB$41,Worksheet!$A$11:$AE$41,AB13+1,FALSE)))","v":""},{"$f":"IF('Entry Information'!$J134=\"\",\"\",'OPEN RESULTS'!AD14)","v":""},{"$f":"IF('Entry Information'!$J134=\"\",\"\",IF('OPEN RESULTS'!AE14=\"\",\"\",'OPEN RESULTS'!AE14))","v":""},"",{"$f":"IF('Entry Information'!$J134=\"\",\"\",IF('Entry Information'!Z134=\"\",AF13,AF13-100))","v":""},"",{"$f":"IF($AD13=\"\",\"\",(VLOOKUP($AH$41,Worksheet!$A$11:$AE$41,AH13+1,FALSE)))","v":""}]
[{"$f":"IF('Entry Information'!J135=\"\",\"\",'Entry Information'!B135)","v":""},{"$f":"IF('Entry Information'!J135=\"\",\"\",'Entry Information'!C135)","v":""},{"$f":"IF('Entry Information'!J135=\"\",\"\",'Entry Information'!D135)","v":""},{"$f":"IF('Entry Information'!J135=\"\",\"\",'Entry Information'!E135)","v":""},"OPEN",{"$f":"IF('Entry Information'!$J135=\"\",\"\",'OPEN RESULTS'!F15)","v":""},{"$f":"IF('Entry Information'!$J135=\"\",\"\",IF('OPEN RESULTS'!G15=\"\",\"\",'OPEN RESULTS'!G15))","v":""},"",{"$f":"IF('Entry Information'!$J135=\"\",\"\",IF('Entry Information'!R135=\"\",H14,H14-100))","v":""},"",{"$f":"IF($F14=\"\",\"\",(VLOOKUP($J$41,Worksheet!$A$11:$AE$41,J14+1,FALSE)))","v":""},{"$f":"IF('Entry Information'!$J135=\"\",\"\",'OPEN RESULTS'!L15)","v":""},{"$f":"IF('Entry Information'!$J135=\"\",\"\",IF('OPEN RESULTS'!M15=\"\",\"\",'OPEN RESULTS'!M15))","v":""},"",{"$f":"IF('Entry Information'!$J135=\"\",\"\",IF('Entry Information'!T135=\"\",N14,N14-100))","v":""},"",{"$f":"IF($L14=\"\",\"\",(VLOOKUP($P$41,Worksheet!$A$11:$AE$41,P14+1,FALSE)))","v":""},{"$f":"IF('Entry Information'!$J135=\"\",\"\",'OPEN RESULTS'!R15)","v":""},{"$f":"IF('Entry Information'!$J135=\"\",\"\",IF('OPEN RESULTS'!S15=\"\",\"\",'OPEN RESULTS'!S15))","v":""},"",{"$f":"IF('Entry Information'!$J135=\"\",\"\",IF('Entry Information'!V135=\"\",T14,T14-100))","v":""},"",{"$f":"IF($R14=\"\",\"\",(VLOOKUP($V$41,Worksheet!$A$11:$AE$41,V14+1,FALSE)))","v":""},{"$f":"IF('Entry Information'!$J135=\"\",\"\",'OPEN RESULTS'!X15)","v":""},{"$f":"IF('Entry Information'!$J135=\"\",\"\",IF('OPEN RESULTS'!Y15=\"\",\"\",'OPEN RESULTS'!Y15))","v":""},"",{"$f":"IF('Entry Information'!$J135=\"\",\"\",IF('Entry Information'!X135=\"\",Z14,Z14-100))","v":""},"",{"$f":"IF($X14=\"\",\"\",(VLOOKUP($AB$41,Worksheet!$A$11:$AE$41,AB14+1,FALSE)))","v":""},{"$f":"IF('Entry Information'!$J135=\"\",\"\",'OPEN RESULTS'!AD15)","v":""},{"$f":"IF('Entry Information'!$J135=\"\",\"\",IF('OPEN RESULTS'!AE15=\"\",\"\",'OPEN RESULTS'!AE15))","v":""},"",{"$f":"IF('Entry Information'!$J135=\"\",\"\",IF('Entry Information'!Z135=\"\",AF14,AF14-100))","v":""},"",{"$f":"IF($AD14=\"\",\"\",(VLOOKUP($AH$41,Worksheet!$A$11:$AE$41,AH14+1,FALSE)))","v":""}]
[{"$f":"IF('Entry Information'!J136=\"\",\"\",'Entry Information'!B136)","v":""},{"$f":"IF('Entry Information'!J136=\"\",\"\",'Entry Information'!C136)","v":""},{"$f":"IF('Entry Information'!J136=\"\",\"\",'Entry Information'!D136)","v":""},{"$f":"IF('Entry Information'!J136=\"\",\"\",'Entry Information'!E136)","v":""},"OPEN",{"$f":"IF('Entry Information'!$J136=\"\",\"\",'OPEN RESULTS'!F16)","v":""},{"$f":"IF('Entry Information'!$J136=\"\",\"\",IF('OPEN RESULTS'!G16=\"\",\"\",'OPEN RESULTS'!G16))","v":""},"",{"$f":"IF('Entry Information'!$J136=\"\",\"\",IF('Entry Information'!R136=\"\",H15,H15-100))","v":""},"",{"$f":"IF($F15=\"\",\"\",(VLOOKUP($J$41,Worksheet!$A$11:$AE$41,J15+1,FALSE)))","v":""},{"$f":"IF('Entry Information'!$J136=\"\",\"\",'OPEN RESULTS'!L16)","v":""},{"$f":"IF('Entry Information'!$J136=\"\",\"\",IF('OPEN RESULTS'!M16=\"\",\"\",'OPEN RESULTS'!M16))","v":""},"",{"$f":"IF('Entry Information'!$J136=\"\",\"\",IF('Entry Information'!T136=\"\",N15,N15-100))","v":""},"",{"$f":"IF($L15=\"\",\"\",(VLOOKUP($P$41,Worksheet!$A$11:$AE$41,P15+1,FALSE)))","v":""},{"$f":"IF('Entry Information'!$J136=\"\",\"\",'OPEN RESULTS'!R16)","v":""},{"$f":"IF('Entry Information'!$J136=\"\",\"\",IF('OPEN RESULTS'!S16=\"\",\"\",'OPEN RESULTS'!S16))","v":""},"",{"$f":"IF('Entry Information'!$J136=\"\",\"\",IF('Entry Information'!V136=\"\",T15,T15-100))","v":""},"",{"$f":"IF($R15=\"\",\"\",(VLOOKUP($V$41,Worksheet!$A$11:$AE$41,V15+1,FALSE)))","v":""},{"$f":"IF('Entry Information'!$J136=\"\",\"\",'OPEN RESULTS'!X16)","v":""},{"$f":"IF('Entry Information'!$J136=\"\",\"\",IF('OPEN RESULTS'!Y16=\"\",\"\",'OPEN RESULTS'!Y16))","v":""},"",{"$f":"IF('Entry Information'!$J136=\"\",\"\",IF('Entry Information'!X136=\"\",Z15,Z15-100))","v":""},"",{"$f":"IF($X15=\"\",\"\",(VLOOKUP($AB$41,Worksheet!$A$11:$AE$41,AB15+1,FALSE)))","v":""},{"$f":"IF('Entry Information'!$J136=\"\",\"\",'OPEN RESULTS'!AD16)","v":""},{"$f":"IF('Entry Information'!$J136=\"\",\"\",IF('OPEN RESULTS'!AE16=\"\",\"\",'OPEN RESULTS'!AE16))","v":""},"",{"$f":"IF('Entry Information'!$J136=\"\",\"\",IF('Entry Information'!Z136=\"\",AF15,AF15-100))","v":""},"",{"$f":"IF($AD15=\"\",\"\",(VLOOKUP($AH$41,Worksheet!$A$11:$AE$41,AH15+1,FALSE)))","v":""}]
[{"$f":"IF('Entry Information'!J137=\"\",\"\",'Entry Information'!B137)","v":""},{"$f":"IF('Entry Information'!J137=\"\",\"\",'Entry Information'!C137)","v":""},{"$f":"IF('Entry Information'!J137=\"\",\"\",'Entry Information'!D137)","v":""},{"$f":"IF('Entry Information'!J137=\"\",\"\",'Entry Information'!E137)","v":""},"OPEN",{"$f":"IF('Entry Information'!$J137=\"\",\"\",'OPEN RESULTS'!F17)","v":""},{"$f":"IF('Entry Information'!$J137=\"\",\"\",IF('OPEN RESULTS'!G17=\"\",\"\",'OPEN RESULTS'!G17))","v":""},"",{"$f":"IF('Entry Information'!$J137=\"\",\"\",IF('Entry Information'!R137=\"\",H16,H16-100))","v":""},"",{"$f":"IF($F16=\"\",\"\",(VLOOKUP($J$41,Worksheet!$A$11:$AE$41,J16+1,FALSE)))","v":""},{"$f":"IF('Entry Information'!$J137=\"\",\"\",'OPEN RESULTS'!L17)","v":""},{"$f":"IF('Entry Information'!$J137=\"\",\"\",IF('OPEN RESULTS'!M17=\"\",\"\",'OPEN RESULTS'!M17))","v":""},"",{"$f":"IF('Entry Information'!$J137=\"\",\"\",IF('Entry Information'!T137=\"\",N16,N16-100))","v":""},"",{"$f":"IF($L16=\"\",\"\",(VLOOKUP($P$41,Worksheet!$A$11:$AE$41,P16+1,FALSE)))","v":""},{"$f":"IF('Entry Information'!$J137=\"\",\"\",'OPEN RESULTS'!R17)","v":""},{"$f":"IF('Entry Information'!$J137=\"\",\"\",IF('OPEN RESULTS'!S17=\"\",\"\",'OPEN RESULTS'!S17))","v":""},"",{"$f":"IF('Entry Information'!$J137=\"\",\"\",IF('Entry Information'!V137=\"\",T16,T16-100))","v":""},"",{"$f":"IF($R16=\"\",\"\",(VLOOKUP($V$41,Worksheet!$A$11:$AE$41,V16+1,FALSE)))","v":""},{"$f":"IF('Entry Information'!$J137=\"\",\"\",'OPEN RESULTS'!X17)","v":""},{"$f":"IF('Entry Information'!$J137=\"\",\"\",IF('OPEN RESULTS'!Y17=\"\",\"\",'OPEN RESULTS'!Y17))","v":""},"",{"$f":"IF('Entry Information'!$J137=\"\",\"\",IF('Entry Information'!X137=\"\",Z16,Z16-100))","v":""},"",{"$f":"IF($X16=\"\",\"\",(VLOOKUP($AB$41,Worksheet!$A$11:$AE$41,AB16+1,FALSE)))","v":""},{"$f":"IF('Entry Information'!$J137=\"\",\"\",'OPEN RESULTS'!AD17)","v":""},{"$f":"IF('Entry Information'!$J137=\"\",\"\",IF('OPEN RESULTS'!AE17=\"\",\"\",'OPEN RESULTS'!AE17))","v":""},"",{"$f":"IF('Entry Information'!$J137=\"\",\"\",IF('Entry Information'!Z137=\"\",AF16,AF16-100))","v":""},"",{"$f":"IF($AD16=\"\",\"\",(VLOOKUP($AH$41,Worksheet!$A$11:$AE$41,AH16+1,FALSE)))","v":""}]
[{"$f":"IF('Entry Information'!J138=\"\",\"\",'Entry Information'!B138)","v":""},{"$f":"IF('Entry Information'!J138=\"\",\"\",'Entry Information'!C138)","v":""},{"$f":"IF('Entry Information'!J138=\"\",\"\",'Entry Information'!D138)","v":""},{"$f":"IF('Entry Information'!J138=\"\",\"\",'Entry Information'!E138)","v":""},"OPEN",{"$f":"IF('Entry Information'!$J138=\"\",\"\",'OPEN RESULTS'!F18)","v":""},{"$f":"IF('Entry Information'!$J138=\"\",\"\",IF('OPEN RESULTS'!G18=\"\",\"\",'OPEN RESULTS'!G18))","v":""},"",{"$f":"IF('Entry Information'!$J138=\"\",\"\",IF('Entry Information'!R138=\"\",H17,H17-100))","v":""},"",{"$f":"IF($F17=\"\",\"\",(VLOOKUP($J$41,Worksheet!$A$11:$AE$41,J17+1,FALSE)))","v":""},{"$f":"IF('Entry Information'!$J138=\"\",\"\",'OPEN RESULTS'!L18)","v":""},{"$f":"IF('Entry Information'!$J138=\"\",\"\",IF('OPEN RESULTS'!M18=\"\",\"\",'OPEN RESULTS'!M18))","v":""},"",{"$f":"IF('Entry Information'!$J138=\"\",\"\",IF('Entry Information'!T138=\"\",N17,N17-100))","v":""},"",{"$f":"IF($L17=\"\",\"\",(VLOOKUP($P$41,Worksheet!$A$11:$AE$41,P17+1,FALSE)))","v":""},{"$f":"IF('Entry Information'!$J138=\"\",\"\",'OPEN RESULTS'!R18)","v":""},{"$f":"IF('Entry Information'!$J138=\"\",\"\",IF('OPEN RESULTS'!S18=\"\",\"\",'OPEN RESULTS'!S18))","v":""},"",{"$f":"IF('Entry Information'!$J138=\"\",\"\",IF('Entry Information'!V138=\"\",T17,T17-100))","v":""},"",{"$f":"IF($R17=\"\",\"\",(VLOOKUP($V$41,Worksheet!$A$11:$AE$41,V17+1,FALSE)))","v":""},{"$f":"IF('Entry Information'!$J138=\"\",\"\",'OPEN RESULTS'!X18)","v":""},{"$f":"IF('Entry Information'!$J138=\"\",\"\",IF('OPEN RESULTS'!Y18=\"\",\"\",'OPEN RESULTS'!Y18))","v":""},"",{"$f":"IF('Entry Information'!$J138=\"\",\"\",IF('Entry Information'!X138=\"\",Z17,Z17-100))","v":""},"",{"$f":"IF($X17=\"\",\"\",(VLOOKUP($AB$41,Worksheet!$A$11:$AE$41,AB17+1,FALSE)))","v":""},{"$f":"IF('Entry Information'!$J138=\"\",\"\",'OPEN RESULTS'!AD18)","v":""},{"$f":"IF('Entry Information'!$J138=\"\",\"\",IF('OPEN RESULTS'!AE18=\"\",\"\",'OPEN RESULTS'!AE18))","v":""},"",{"$f":"IF('Entry Information'!$J138=\"\",\"\",IF('Entry Information'!Z138=\"\",AF17,AF17-100))","v":""},"",{"$f":"IF($AD17=\"\",\"\",(VLOOKUP($AH$41,Worksheet!$A$11:$AE$41,AH17+1,FALSE)))","v":""}]
[{"$f":"IF('Entry Information'!J139=\"\",\"\",'Entry Information'!B139)","v":""},{"$f":"IF('Entry Information'!J139=\"\",\"\",'Entry Information'!C139)","v":""},{"$f":"IF('Entry Information'!J139=\"\",\"\",'Entry Information'!D139)","v":""},{"$f":"IF('Entry Information'!J139=\"\",\"\",'Entry Information'!E139)","v":""},"OPEN",{"$f":"IF('Entry Information'!$J139=\"\",\"\",'OPEN RESULTS'!F19)","v":""},{"$f":"IF('Entry Information'!$J139=\"\",\"\",IF('OPEN RESULTS'!G19=\"\",\"\",'OPEN RESULTS'!G19))","v":""},"",{"$f":"IF('Entry Information'!$J139=\"\",\"\",IF('Entry Information'!R139=\"\",H18,H18-100))","v":""},"",{"$f":"IF($F18=\"\",\"\",(VLOOKUP($J$41,Worksheet!$A$11:$AE$41,J18+1,FALSE)))","v":""},{"$f":"IF('Entry Information'!$J139=\"\",\"\",'OPEN RESULTS'!L19)","v":""},{"$f":"IF('Entry Information'!$J139=\"\",\"\",IF('OPEN RESULTS'!M19=\"\",\"\",'OPEN RESULTS'!M19))","v":""},"",{"$f":"IF('Entry Information'!$J139=\"\",\"\",IF('Entry Information'!T139=\"\",N18,N18-100))","v":""},"",{"$f":"IF($L18=\"\",\"\",(VLOOKUP($P$41,Worksheet!$A$11:$AE$41,P18+1,FALSE)))","v":""},{"$f":"IF('Entry Information'!$J139=\"\",\"\",'OPEN RESULTS'!R19)","v":""},{"$f":"IF('Entry Information'!$J139=\"\",\"\",IF('OPEN RESULTS'!S19=\"\",\"\",'OPEN RESULTS'!S19))","v":""},"",{"$f":"IF('Entry Information'!$J139=\"\",\"\",IF('Entry Information'!V139=\"\",T18,T18-100))","v":""},"",{"$f":"IF($R18=\"\",\"\",(VLOOKUP($V$41,Worksheet!$A$11:$AE$41,V18+1,FALSE)))","v":""},{"$f":"IF('Entry Information'!$J139=\"\",\"\",'OPEN RESULTS'!X19)","v":""},{"$f":"IF('Entry Information'!$J139=\"\",\"\",IF('OPEN RESULTS'!Y19=\"\",\"\",'OPEN RESULTS'!Y19))","v":""},"",{"$f":"IF('Entry Information'!$J139=\"\",\"\",IF('Entry Information'!X139=\"\",Z18,Z18-100))","v":""},"",{"$f":"IF($X18=\"\",\"\",(VLOOKUP($AB$41,Worksheet!$A$11:$AE$41,AB18+1,FALSE)))","v":""},{"$f":"IF('Entry Information'!$J139=\"\",\"\",'OPEN RESULTS'!AD19)","v":""},{"$f":"IF('Entry Information'!$J139=\"\",\"\",IF('OPEN RESULTS'!AE19=\"\",\"\",'OPEN RESULTS'!AE19))","v":""},"",{"$f":"IF('Entry Information'!$J139=\"\",\"\",IF('Entry Information'!Z139=\"\",AF18,AF18-100))","v":""},"",{"$f":"IF($AD18=\"\",\"\",(VLOOKUP($AH$41,Worksheet!$A$11:$AE$41,AH18+1,FALSE)))","v":""}]
[{"$f":"IF('Entry Information'!J140=\"\",\"\",'Entry Information'!B140)","v":""},{"$f":"IF('Entry Information'!J140=\"\",\"\",'Entry Information'!C140)","v":""},{"$f":"IF('Entry Information'!J140=\"\",\"\",'Entry Information'!D140)","v":""},{"$f":"IF('Entry Information'!J140=\"\",\"\",'Entry Information'!E140)","v":""},"OPEN",{"$f":"IF('Entry Information'!$J140=\"\",\"\",'OPEN RESULTS'!F20)","v":""},{"$f":"IF('Entry Information'!$J140=\"\",\"\",IF('OPEN RESULTS'!G20=\"\",\"\",'OPEN RESULTS'!G20))","v":""},"",{"$f":"IF('Entry Information'!$J140=\"\",\"\",IF('Entry Information'!R140=\"\",H19,H19-100))","v":""},"",{"$f":"IF($F19=\"\",\"\",(VLOOKUP($J$41,Worksheet!$A$11:$AE$41,J19+1,FALSE)))","v":""},{"$f":"IF('Entry Information'!$J140=\"\",\"\",'OPEN RESULTS'!L20)","v":""},{"$f":"IF('Entry Information'!$J140=\"\",\"\",IF('OPEN RESULTS'!M20=\"\",\"\",'OPEN RESULTS'!M20))","v":""},"",{"$f":"IF('Entry Information'!$J140=\"\",\"\",IF('Entry Information'!T140=\"\",N19,N19-100))","v":""},"",{"$f":"IF($L19=\"\",\"\",(VLOOKUP($P$41,Worksheet!$A$11:$AE$41,P19+1,FALSE)))","v":""},{"$f":"IF('Entry Information'!$J140=\"\",\"\",'OPEN RESULTS'!R20)","v":""},{"$f":"IF('Entry Information'!$J140=\"\",\"\",IF('OPEN RESULTS'!S20=\"\",\"\",'OPEN RESULTS'!S20))","v":""},"",{"$f":"IF('Entry Information'!$J140=\"\",\"\",IF('Entry Information'!V140=\"\",T19,T19-100))","v":""},"",{"$f":"IF($R19=\"\",\"\",(VLOOKUP($V$41,Worksheet!$A$11:$AE$41,V19+1,FALSE)))","v":""},{"$f":"IF('Entry Information'!$J140=\"\",\"\",'OPEN RESULTS'!X20)","v":""},{"$f":"IF('Entry Information'!$J140=\"\",\"\",IF('OPEN RESULTS'!Y20=\"\",\"\",'OPEN RESULTS'!Y20))","v":""},"",{"$f":"IF('Entry Information'!$J140=\"\",\"\",IF('Entry Information'!X140=\"\",Z19,Z19-100))","v":""},"",{"$f":"IF($X19=\"\",\"\",(VLOOKUP($AB$41,Worksheet!$A$11:$AE$41,AB19+1,FALSE)))","v":""},{"$f":"IF('Entry Information'!$J140=\"\",\"\",'OPEN RESULTS'!AD20)","v":""},{"$f":"IF('Entry Information'!$J140=\"\",\"\",IF('OPEN RESULTS'!AE20=\"\",\"\",'OPEN RESULTS'!AE20))","v":""},"",{"$f":"IF('Entry Information'!$J140=\"\",\"\",IF('Entry Information'!Z140=\"\",AF19,AF19-100))","v":""},"",{"$f":"IF($AD19=\"\",\"\",(VLOOKUP($AH$41,Worksheet!$A$11:$AE$41,AH19+1,FALSE)))","v":""}]
[{"$f":"IF('Entry Information'!J141=\"\",\"\",'Entry Information'!B141)","v":""},{"$f":"IF('Entry Information'!J141=\"\",\"\",'Entry Information'!C141)","v":""},{"$f":"IF('Entry Information'!J141=\"\",\"\",'Entry Information'!D141)","v":""},{"$f":"IF('Entry Information'!J141=\"\",\"\",'Entry Information'!E141)","v":""},"OPEN",{"$f":"IF('Entry Information'!$J141=\"\",\"\",'OPEN RESULTS'!F21)","v":""},{"$f":"IF('Entry Information'!$J141=\"\",\"\",IF('OPEN RESULTS'!G21=\"\",\"\",'OPEN RESULTS'!G21))","v":""},"",{"$f":"IF('Entry Information'!$J141=\"\",\"\",IF('Entry Information'!R141=\"\",H20,H20-100))","v":""},"",{"$f":"IF($F20=\"\",\"\",(VLOOKUP($J$41,Worksheet!$A$11:$AE$41,J20+1,FALSE)))","v":""},{"$f":"IF('Entry Information'!$J141=\"\",\"\",'OPEN RESULTS'!L21)","v":""},{"$f":"IF('Entry Information'!$J141=\"\",\"\",IF('OPEN RESULTS'!M21=\"\",\"\",'OPEN RESULTS'!M21))","v":""},"",{"$f":"IF('Entry Information'!$J141=\"\",\"\",IF('Entry Information'!T141=\"\",N20,N20-100))","v":""},"",{"$f":"IF($L20=\"\",\"\",(VLOOKUP($P$41,Worksheet!$A$11:$AE$41,P20+1,FALSE)))","v":""},{"$f":"IF('Entry Information'!$J141=\"\",\"\",'OPEN RESULTS'!R21)","v":""},{"$f":"IF('Entry Information'!$J141=\"\",\"\",IF('OPEN RESULTS'!S21=\"\",\"\",'OPEN RESULTS'!S21))","v":""},"",{"$f":"IF('Entry Information'!$J141=\"\",\"\",IF('Entry Information'!V141=\"\",T20,T20-100))","v":""},"",{"$f":"IF($R20=\"\",\"\",(VLOOKUP($V$41,Worksheet!$A$11:$AE$41,V20+1,FALSE)))","v":""},{"$f":"IF('Entry Information'!$J141=\"\",\"\",'OPEN RESULTS'!X21)","v":""},{"$f":"IF('Entry Information'!$J141=\"\",\"\",IF('OPEN RESULTS'!Y21=\"\",\"\",'OPEN RESULTS'!Y21))","v":""},"",{"$f":"IF('Entry Information'!$J141=\"\",\"\",IF('Entry Information'!X141=\"\",Z20,Z20-100))","v":""},"",{"$f":"IF($X20=\"\",\"\",(VLOOKUP($AB$41,Worksheet!$A$11:$AE$41,AB20+1,FALSE)))","v":""},{"$f":"IF('Entry Information'!$J141=\"\",\"\",'OPEN RESULTS'!AD21)","v":""},{"$f":"IF('Entry Information'!$J141=\"\",\"\",IF('OPEN RESULTS'!AE21=\"\",\"\",'OPEN RESULTS'!AE21))","v":""},"",{"$f":"IF('Entry Information'!$J141=\"\",\"\",IF('Entry Information'!Z141=\"\",AF20,AF20-100))","v":""},"",{"$f":"IF($AD20=\"\",\"\",(VLOOKUP($AH$41,Worksheet!$A$11:$AE$41,AH20+1,FALSE)))","v":""}]
[{"$f":"IF('Entry Information'!J142=\"\",\"\",'Entry Information'!B142)","v":""},{"$f":"IF('Entry Information'!J142=\"\",\"\",'Entry Information'!C142)","v":""},{"$f":"IF('Entry Information'!J142=\"\",\"\",'Entry Information'!D142)","v":""},{"$f":"IF('Entry Information'!J142=\"\",\"\",'Entry Information'!E142)","v":""},"OPEN",{"$f":"IF('Entry Information'!$J142=\"\",\"\",'OPEN RESULTS'!F22)","v":""},{"$f":"IF('Entry Information'!$J142=\"\",\"\",IF('OPEN RESULTS'!G22=\"\",\"\",'OPEN RESULTS'!G22))","v":""},"",{"$f":"IF('Entry Information'!$J142=\"\",\"\",IF('Entry Information'!R142=\"\",H21,H21-100))","v":""},"",{"$f":"IF($F21=\"\",\"\",(VLOOKUP($J$41,Worksheet!$A$11:$AE$41,J21+1,FALSE)))","v":""},{"$f":"IF('Entry Information'!$J142=\"\",\"\",'OPEN RESULTS'!L22)","v":""},{"$f":"IF('Entry Information'!$J142=\"\",\"\",IF('OPEN RESULTS'!M22=\"\",\"\",'OPEN RESULTS'!M22))","v":""},"",{"$f":"IF('Entry Information'!$J142=\"\",\"\",IF('Entry Information'!T142=\"\",N21,N21-100))","v":""},"",{"$f":"IF($L21=\"\",\"\",(VLOOKUP($P$41,Worksheet!$A$11:$AE$41,P21+1,FALSE)))","v":""},{"$f":"IF('Entry Information'!$J142=\"\",\"\",'OPEN RESULTS'!R22)","v":""},{"$f":"IF('Entry Information'!$J142=\"\",\"\",IF('OPEN RESULTS'!S22=\"\",\"\",'OPEN RESULTS'!S22))","v":""},"",{"$f":"IF('Entry Information'!$J142=\"\",\"\",IF('Entry Information'!V142=\"\",T21,T21-100))","v":""},"",{"$f":"IF($R21=\"\",\"\",(VLOOKUP($V$41,Worksheet!$A$11:$AE$41,V21+1,FALSE)))","v":""},{"$f":"IF('Entry Information'!$J142=\"\",\"\",'OPEN RESULTS'!X22)","v":""},{"$f":"IF('Entry Information'!$J142=\"\",\"\",IF('OPEN RESULTS'!Y22=\"\",\"\",'OPEN RESULTS'!Y22))","v":""},"",{"$f":"IF('Entry Information'!$J142=\"\",\"\",IF('Entry Information'!X142=\"\",Z21,Z21-100))","v":""},"",{"$f":"IF($X21=\"\",\"\",(VLOOKUP($AB$41,Worksheet!$A$11:$AE$41,AB21+1,FALSE)))","v":""},{"$f":"IF('Entry Information'!$J142=\"\",\"\",'OPEN RESULTS'!AD22)","v":""},{"$f":"IF('Entry Information'!$J142=\"\",\"\",IF('OPEN RESULTS'!AE22=\"\",\"\",'OPEN RESULTS'!AE22))","v":""},"",{"$f":"IF('Entry Information'!$J142=\"\",\"\",IF('Entry Information'!Z142=\"\",AF21,AF21-100))","v":""},"",{"$f":"IF($AD21=\"\",\"\",(VLOOKUP($AH$41,Worksheet!$A$11:$AE$41,AH21+1,FALSE)))","v":""}]
[{"$f":"IF('Entry Information'!J143=\"\",\"\",'Entry Information'!B143)","v":""},{"$f":"IF('Entry Information'!J143=\"\",\"\",'Entry Information'!C143)","v":""},{"$f":"IF('Entry Information'!J143=\"\",\"\",'Entry Information'!D143)","v":""},{"$f":"IF('Entry Information'!J143=\"\",\"\",'Entry Information'!E143)","v":""},"OPEN",{"$f":"IF('Entry Information'!$J143=\"\",\"\",'OPEN RESULTS'!F23)","v":""},{"$f":"IF('Entry Information'!$J143=\"\",\"\",IF('OPEN RESULTS'!G23=\"\",\"\",'OPEN RESULTS'!G23))","v":""},"",{"$f":"IF('Entry Information'!$J143=\"\",\"\",IF('Entry Information'!R143=\"\",H22,H22-100))","v":""},"",{"$f":"IF($F22=\"\",\"\",(VLOOKUP($J$41,Worksheet!$A$11:$AE$41,J22+1,FALSE)))","v":""},{"$f":"IF('Entry Information'!$J143=\"\",\"\",'OPEN RESULTS'!L23)","v":""},{"$f":"IF('Entry Information'!$J143=\"\",\"\",IF('OPEN RESULTS'!M23=\"\",\"\",'OPEN RESULTS'!M23))","v":""},"",{"$f":"IF('Entry Information'!$J143=\"\",\"\",IF('Entry Information'!T143=\"\",N22,N22-100))","v":""},"",{"$f":"IF($L22=\"\",\"\",(VLOOKUP($P$41,Worksheet!$A$11:$AE$41,P22+1,FALSE)))","v":""},{"$f":"IF('Entry Information'!$J143=\"\",\"\",'OPEN RESULTS'!R23)","v":""},{"$f":"IF('Entry Information'!$J143=\"\",\"\",IF('OPEN RESULTS'!S23=\"\",\"\",'OPEN RESULTS'!S23))","v":""},"",{"$f":"IF('Entry Information'!$J143=\"\",\"\",IF('Entry Information'!V143=\"\",T22,T22-100))","v":""},"",{"$f":"IF($R22=\"\",\"\",(VLOOKUP($V$41,Worksheet!$A$11:$AE$41,V22+1,FALSE)))","v":""},{"$f":"IF('Entry Information'!$J143=\"\",\"\",'OPEN RESULTS'!X23)","v":""},{"$f":"IF('Entry Information'!$J143=\"\",\"\",IF('OPEN RESULTS'!Y23=\"\",\"\",'OPEN RESULTS'!Y23))","v":""},"",{"$f":"IF('Entry Information'!$J143=\"\",\"\",IF('Entry Information'!X143=\"\",Z22,Z22-100))","v":""},"",{"$f":"IF($X22=\"\",\"\",(VLOOKUP($AB$41,Worksheet!$A$11:$AE$41,AB22+1,FALSE)))","v":""},{"$f":"IF('Entry Information'!$J143=\"\",\"\",'OPEN RESULTS'!AD23)","v":""},{"$f":"IF('Entry Information'!$J143=\"\",\"\",IF('OPEN RESULTS'!AE23=\"\",\"\",'OPEN RESULTS'!AE23))","v":""},"",{"$f":"IF('Entry Information'!$J143=\"\",\"\",IF('Entry Information'!Z143=\"\",AF22,AF22-100))","v":""},"",{"$f":"IF($AD22=\"\",\"\",(VLOOKUP($AH$41,Worksheet!$A$11:$AE$41,AH22+1,FALSE)))","v":""}]
[{"$f":"IF('Entry Information'!J144=\"\",\"\",'Entry Information'!B144)","v":""},{"$f":"IF('Entry Information'!J144=\"\",\"\",'Entry Information'!C144)","v":""},{"$f":"IF('Entry Information'!J144=\"\",\"\",'Entry Information'!D144)","v":""},{"$f":"IF('Entry Information'!J144=\"\",\"\",'Entry Information'!E144)","v":""},"OPEN",{"$f":"IF('Entry Information'!$J144=\"\",\"\",'OPEN RESULTS'!F24)","v":""},{"$f":"IF('Entry Information'!$J144=\"\",\"\",IF('OPEN RESULTS'!G24=\"\",\"\",'OPEN RESULTS'!G24))","v":""},"",{"$f":"IF('Entry Information'!$J144=\"\",\"\",IF('Entry Information'!R144=\"\",H23,H23-100))","v":""},"",{"$f":"IF($F23=\"\",\"\",(VLOOKUP($J$41,Worksheet!$A$11:$AE$41,J23+1,FALSE)))","v":""},{"$f":"IF('Entry Information'!$J144=\"\",\"\",'OPEN RESULTS'!L24)","v":""},{"$f":"IF('Entry Information'!$J144=\"\",\"\",IF('OPEN RESULTS'!M24=\"\",\"\",'OPEN RESULTS'!M24))","v":""},"",{"$f":"IF('Entry Information'!$J144=\"\",\"\",IF('Entry Information'!T144=\"\",N23,N23-100))","v":""},"",{"$f":"IF($L23=\"\",\"\",(VLOOKUP($P$41,Worksheet!$A$11:$AE$41,P23+1,FALSE)))","v":""},{"$f":"IF('Entry Information'!$J144=\"\",\"\",'OPEN RESULTS'!R24)","v":""},{"$f":"IF('Entry Information'!$J144=\"\",\"\",IF('OPEN RESULTS'!S24=\"\",\"\",'OPEN RESULTS'!S24))","v":""},"",{"$f":"IF('Entry Information'!$J144=\"\",\"\",IF('Entry Information'!V144=\"\",T23,T23-100))","v":""},"",{"$f":"IF($R23=\"\",\"\",(VLOOKUP($V$41,Worksheet!$A$11:$AE$41,V23+1,FALSE)))","v":""},{"$f":"IF('Entry Information'!$J144=\"\",\"\",'OPEN RESULTS'!X24)","v":""},{"$f":"IF('Entry Information'!$J144=\"\",\"\",IF('OPEN RESULTS'!Y24=\"\",\"\",'OPEN RESULTS'!Y24))","v":""},"",{"$f":"IF('Entry Information'!$J144=\"\",\"\",IF('Entry Information'!X144=\"\",Z23,Z23-100))","v":""},"",{"$f":"IF($X23=\"\",\"\",(VLOOKUP($AB$41,Worksheet!$A$11:$AE$41,AB23+1,FALSE)))","v":""},{"$f":"IF('Entry Information'!$J144=\"\",\"\",'OPEN RESULTS'!AD24)","v":""},{"$f":"IF('Entry Information'!$J144=\"\",\"\",IF('OPEN RESULTS'!AE24=\"\",\"\",'OPEN RESULTS'!AE24))","v":""},"",{"$f":"IF('Entry Information'!$J144=\"\",\"\",IF('Entry Information'!Z144=\"\",AF23,AF23-100))","v":""},"",{"$f":"IF($AD23=\"\",\"\",(VLOOKUP($AH$41,Worksheet!$A$11:$AE$41,AH23+1,FALSE)))","v":""}]
[{"$f":"IF('Entry Information'!J145=\"\",\"\",'Entry Information'!B145)","v":""},{"$f":"IF('Entry Information'!J145=\"\",\"\",'Entry Information'!C145)","v":""},{"$f":"IF('Entry Information'!J145=\"\",\"\",'Entry Information'!D145)","v":""},{"$f":"IF('Entry Information'!J145=\"\",\"\",'Entry Information'!E145)","v":""},"OPEN",{"$f":"IF('Entry Information'!$J145=\"\",\"\",'OPEN RESULTS'!F25)","v":""},{"$f":"IF('Entry Information'!$J145=\"\",\"\",IF('OPEN RESULTS'!G25=\"\",\"\",'OPEN RESULTS'!G25))","v":""},"",{"$f":"IF('Entry Information'!$J145=\"\",\"\",IF('Entry Information'!R145=\"\",H24,H24-100))","v":""},"",{"$f":"IF($F24=\"\",\"\",(VLOOKUP($J$41,Worksheet!$A$11:$AE$41,J24+1,FALSE)))","v":""},{"$f":"IF('Entry Information'!$J145=\"\",\"\",'OPEN RESULTS'!L25)","v":""},{"$f":"IF('Entry Information'!$J145=\"\",\"\",IF('OPEN RESULTS'!M25=\"\",\"\",'OPEN RESULTS'!M25))","v":""},"",{"$f":"IF('Entry Information'!$J145=\"\",\"\",IF('Entry Information'!T145=\"\",N24,N24-100))","v":""},"",{"$f":"IF($L24=\"\",\"\",(VLOOKUP($P$41,Worksheet!$A$11:$AE$41,P24+1,FALSE)))","v":""},{"$f":"IF('Entry Information'!$J145=\"\",\"\",'OPEN RESULTS'!R25)","v":""},{"$f":"IF('Entry Information'!$J145=\"\",\"\",IF('OPEN RESULTS'!S25=\"\",\"\",'OPEN RESULTS'!S25))","v":""},"",{"$f":"IF('Entry Information'!$J145=\"\",\"\",IF('Entry Information'!V145=\"\",T24,T24-100))","v":""},"",{"$f":"IF($R24=\"\",\"\",(VLOOKUP($V$41,Worksheet!$A$11:$AE$41,V24+1,FALSE)))","v":""},{"$f":"IF('Entry Information'!$J145=\"\",\"\",'OPEN RESULTS'!X25)","v":""},{"$f":"IF('Entry Information'!$J145=\"\",\"\",IF('OPEN RESULTS'!Y25=\"\",\"\",'OPEN RESULTS'!Y25))","v":""},"",{"$f":"IF('Entry Information'!$J145=\"\",\"\",IF('Entry Information'!X145=\"\",Z24,Z24-100))","v":""},"",{"$f":"IF($X24=\"\",\"\",(VLOOKUP($AB$41,Worksheet!$A$11:$AE$41,AB24+1,FALSE)))","v":""},{"$f":"IF('Entry Information'!$J145=\"\",\"\",'OPEN RESULTS'!AD25)","v":""},{"$f":"IF('Entry Information'!$J145=\"\",\"\",IF('OPEN RESULTS'!AE25=\"\",\"\",'OPEN RESULTS'!AE25))","v":""},"",{"$f":"IF('Entry Information'!$J145=\"\",\"\",IF('Entry Information'!Z145=\"\",AF24,AF24-100))","v":""},"",{"$f":"IF($AD24=\"\",\"\",(VLOOKUP($AH$41,Worksheet!$A$11:$AE$41,AH24+1,FALSE)))","v":""}]
[{"$f":"IF('Entry Information'!J146=\"\",\"\",'Entry Information'!B146)","v":""},{"$f":"IF('Entry Information'!J146=\"\",\"\",'Entry Information'!C146)","v":""},{"$f":"IF('Entry Information'!J146=\"\",\"\",'Entry Information'!D146)","v":""},{"$f":"IF('Entry Information'!J146=\"\",\"\",'Entry Information'!E146)","v":""},"OPEN",{"$f":"IF('Entry Information'!$J146=\"\",\"\",'OPEN RESULTS'!F26)","v":""},{"$f":"IF('Entry Information'!$J146=\"\",\"\",IF('OPEN RESULTS'!G26=\"\",\"\",'OPEN RESULTS'!G26))","v":""},{"$f":"IF(G25=\"\",F25,(F25+(G25*0.001)))","v":""},{"$f":"IF('Entry Information'!$J146=\"\",\"\",IF('Entry Information'!R146=\"\",H25,H25-100))","v":""},"",{"$f":"IF($F25=\"\",\"\",(VLOOKUP($J$41,Worksheet!$A$11:$AE$41,J25+1,FALSE)))","v":""},{"$f":"IF('Entry Information'!$J146=\"\",\"\",'OPEN RESULTS'!L26)","v":""},{"$f":"IF('Entry Information'!$J146=\"\",\"\",IF('OPEN RESULTS'!M26=\"\",\"\",'OPEN RESULTS'!M26))","v":""},"",{"$f":"IF('Entry Information'!$J146=\"\",\"\",IF('Entry Information'!T146=\"\",N25,N25-100))","v":""},"",{"$f":"IF($L25=\"\",\"\",(VLOOKUP($P$41,Worksheet!$A$11:$AE$41,P25+1,FALSE)))","v":""},{"$f":"IF('Entry Information'!$J146=\"\",\"\",'OPEN RESULTS'!R26)","v":""},{"$f":"IF('Entry Information'!$J146=\"\",\"\",IF('OPEN RESULTS'!S26=\"\",\"\",'OPEN RESULTS'!S26))","v":""},"",{"$f":"IF('Entry Information'!$J146=\"\",\"\",IF('Entry Information'!V146=\"\",T25,T25-100))","v":""},"",{"$f":"IF($R25=\"\",\"\",(VLOOKUP($V$41,Worksheet!$A$11:$AE$41,V25+1,FALSE)))","v":""},{"$f":"IF('Entry Information'!$J146=\"\",\"\",'OPEN RESULTS'!X26)","v":""},{"$f":"IF('Entry Information'!$J146=\"\",\"\",IF('OPEN RESULTS'!Y26=\"\",\"\",'OPEN RESULTS'!Y26))","v":""},{"$f":"IF(Y25=\"\",X25,(X25+(Y25*0.001)))","v":""},{"$f":"IF('Entry Information'!$J146=\"\",\"\",IF('Entry Information'!X146=\"\",Z25,Z25-100))","v":""},"",{"$f":"IF($X25=\"\",\"\",(VLOOKUP($AB$41,Worksheet!$A$11:$AE$41,AB25+1,FALSE)))","v":""},{"$f":"IF('Entry Information'!$J146=\"\",\"\",'OPEN RESULTS'!AD26)","v":""},{"$f":"IF('Entry Information'!$J146=\"\",\"\",IF('OPEN RESULTS'!AE26=\"\",\"\",'OPEN RESULTS'!AE26))","v":""},{"$f":"IF(AE25=\"\",AD25,(AD25+(AE25*0.001)))","v":""},{"$f":"IF('Entry Information'!$J146=\"\",\"\",IF('Entry Information'!Z146=\"\",AF25,AF25-100))","v":""},"",{"$f":"IF($AD25=\"\",\"\",(VLOOKUP($AH$41,Worksheet!$A$11:$AE$41,AH25+1,FALSE)))","v":""}]
[{"$f":"IF('Entry Information'!J147=\"\",\"\",'Entry Information'!B147)","v":""},{"$f":"IF('Entry Information'!J147=\"\",\"\",'Entry Information'!C147)","v":""},{"$f":"IF('Entry Information'!J147=\"\",\"\",'Entry Information'!D147)","v":""},{"$f":"IF('Entry Information'!J147=\"\",\"\",'Entry Information'!E147)","v":""},"OPEN",{"$f":"IF('Entry Information'!$J147=\"\",\"\",'OPEN RESULTS'!F27)","v":""},{"$f":"IF('Entry Information'!$J147=\"\",\"\",IF('OPEN RESULTS'!G27=\"\",\"\",'OPEN RESULTS'!G27))","v":""},{"$f":"IF(G26=\"\",F26,(F26+(G26*0.001)))","v":""},{"$f":"IF('Entry Information'!$J147=\"\",\"\",IF('Entry Information'!R147=\"\",H26,H26-100))","v":""},"",{"$f":"IF($F26=\"\",\"\",(VLOOKUP($J$41,Worksheet!$A$11:$AE$41,J26+1,FALSE)))","v":""},{"$f":"IF('Entry Information'!$J147=\"\",\"\",'OPEN RESULTS'!L27)","v":""},{"$f":"IF('Entry Information'!$J147=\"\",\"\",IF('OPEN RESULTS'!M27=\"\",\"\",'OPEN RESULTS'!M27))","v":""},"",{"$f":"IF('Entry Information'!$J147=\"\",\"\",IF('Entry Information'!T147=\"\",N26,N26-100))","v":""},"",{"$f":"IF($L26=\"\",\"\",(VLOOKUP($P$41,Worksheet!$A$11:$AE$41,P26+1,FALSE)))","v":""},{"$f":"IF('Entry Information'!$J147=\"\",\"\",'OPEN RESULTS'!R27)","v":""},{"$f":"IF('Entry Information'!$J147=\"\",\"\",IF('OPEN RESULTS'!S27=\"\",\"\",'OPEN RESULTS'!S27))","v":""},"",{"$f":"IF('Entry Information'!$J147=\"\",\"\",IF('Entry Information'!V147=\"\",T26,T26-100))","v":""},"",{"$f":"IF($R26=\"\",\"\",(VLOOKUP($V$41,Worksheet!$A$11:$AE$41,V26+1,FALSE)))","v":""},{"$f":"IF('Entry Information'!$J147=\"\",\"\",'OPEN RESULTS'!X27)","v":""},{"$f":"IF('Entry Information'!$J147=\"\",\"\",IF('OPEN RESULTS'!Y27=\"\",\"\",'OPEN RESULTS'!Y27))","v":""},{"$f":"IF(Y26=\"\",X26,(X26+(Y26*0.001)))","v":""},{"$f":"IF('Entry Information'!$J147=\"\",\"\",IF('Entry Information'!X147=\"\",Z26,Z26-100))","v":""},"",{"$f":"IF($X26=\"\",\"\",(VLOOKUP($AB$41,Worksheet!$A$11:$AE$41,AB26+1,FALSE)))","v":""},{"$f":"IF('Entry Information'!$J147=\"\",\"\",'OPEN RESULTS'!AD27)","v":""},{"$f":"IF('Entry Information'!$J147=\"\",\"\",IF('OPEN RESULTS'!AE27=\"\",\"\",'OPEN RESULTS'!AE27))","v":""},{"$f":"IF(AE26=\"\",AD26,(AD26+(AE26*0.001)))","v":""},{"$f":"IF('Entry Information'!$J147=\"\",\"\",IF('Entry Information'!Z147=\"\",AF26,AF26-100))","v":""},"",{"$f":"IF($AD26=\"\",\"\",(VLOOKUP($AH$41,Worksheet!$A$11:$AE$41,AH26+1,FALSE)))","v":""}]
[{"$f":"IF('Entry Information'!J148=\"\",\"\",'Entry Information'!B148)","v":""},{"$f":"IF('Entry Information'!J148=\"\",\"\",'Entry Information'!C148)","v":""},{"$f":"IF('Entry Information'!J148=\"\",\"\",'Entry Information'!D148)","v":""},{"$f":"IF('Entry Information'!J148=\"\",\"\",'Entry Information'!E148)","v":""},"OPEN",{"$f":"IF('Entry Information'!$J148=\"\",\"\",'OPEN RESULTS'!F28)","v":""},{"$f":"IF('Entry Information'!$J148=\"\",\"\",IF('OPEN RESULTS'!G28=\"\",\"\",'OPEN RESULTS'!G28))","v":""},"",{"$f":"IF('Entry Information'!$J148=\"\",\"\",IF('Entry Information'!R148=\"\",H27,H27-100))","v":""},"",{"$f":"IF($F27=\"\",\"\",(VLOOKUP($J$41,Worksheet!$A$11:$AE$41,J27+1,FALSE)))","v":""},{"$f":"IF('Entry Information'!$J148=\"\",\"\",'OPEN RESULTS'!L28)","v":""},{"$f":"IF('Entry Information'!$J148=\"\",\"\",IF('OPEN RESULTS'!M28=\"\",\"\",'OPEN RESULTS'!M28))","v":""},"",{"$f":"IF('Entry Information'!$J148=\"\",\"\",IF('Entry Information'!T148=\"\",N27,N27-100))","v":""},"",{"$f":"IF($L27=\"\",\"\",(VLOOKUP($P$41,Worksheet!$A$11:$AE$41,P27+1,FALSE)))","v":""},{"$f":"IF('Entry Information'!$J148=\"\",\"\",'OPEN RESULTS'!R28)","v":""},{"$f":"IF('Entry Information'!$J148=\"\",\"\",IF('OPEN RESULTS'!S28=\"\",\"\",'OPEN RESULTS'!S28))","v":""},"",{"$f":"IF('Entry Information'!$J148=\"\",\"\",IF('Entry Information'!V148=\"\",T27,T27-100))","v":""},"",{"$f":"IF($R27=\"\",\"\",(VLOOKUP($V$41,Worksheet!$A$11:$AE$41,V27+1,FALSE)))","v":""},{"$f":"IF('Entry Information'!$J148=\"\",\"\",'OPEN RESULTS'!X28)","v":""},{"$f":"IF('Entry Information'!$J148=\"\",\"\",IF('OPEN RESULTS'!Y28=\"\",\"\",'OPEN RESULTS'!Y28))","v":""},"",{"$f":"IF('Entry Information'!$J148=\"\",\"\",IF('Entry Information'!X148=\"\",Z27,Z27-100))","v":""},"",{"$f":"IF($X27=\"\",\"\",(VLOOKUP($AB$41,Worksheet!$A$11:$AE$41,AB27+1,FALSE)))","v":""},{"$f":"IF('Entry Information'!$J148=\"\",\"\",'OPEN RESULTS'!AD28)","v":""},{"$f":"IF('Entry Information'!$J148=\"\",\"\",IF('OPEN RESULTS'!AE28=\"\",\"\",'OPEN RESULTS'!AE28))","v":""},"",{"$f":"IF('Entry Information'!$J148=\"\",\"\",IF('Entry Information'!Z148=\"\",AF27,AF27-100))","v":""},"",{"$f":"IF($AD27=\"\",\"\",(VLOOKUP($AH$41,Worksheet!$A$11:$AE$41,AH27+1,FALSE)))","v":""}]
[{"$f":"IF('Entry Information'!J149=\"\",\"\",'Entry Information'!B149)","v":""},{"$f":"IF('Entry Information'!J149=\"\",\"\",'Entry Information'!C149)","v":""},{"$f":"IF('Entry Information'!J149=\"\",\"\",'Entry Information'!D149)","v":""},{"$f":"IF('Entry Information'!J149=\"\",\"\",'Entry Information'!E149)","v":""},"OPEN",{"$f":"IF('Entry Information'!$J149=\"\",\"\",'OPEN RESULTS'!F29)","v":""},{"$f":"IF('Entry Information'!$J149=\"\",\"\",IF('OPEN RESULTS'!G29=\"\",\"\",'OPEN RESULTS'!G29))","v":""},"",{"$f":"IF('Entry Information'!$J149=\"\",\"\",IF('Entry Information'!R149=\"\",H28,H28-100))","v":""},"",{"$f":"IF($F28=\"\",\"\",(VLOOKUP($J$41,Worksheet!$A$11:$AE$41,J28+1,FALSE)))","v":""},{"$f":"IF('Entry Information'!$J149=\"\",\"\",'OPEN RESULTS'!L29)","v":""},{"$f":"IF('Entry Information'!$J149=\"\",\"\",IF('OPEN RESULTS'!M29=\"\",\"\",'OPEN RESULTS'!M29))","v":""},"",{"$f":"IF('Entry Information'!$J149=\"\",\"\",IF('Entry Information'!T149=\"\",N28,N28-100))","v":""},"",{"$f":"IF($L28=\"\",\"\",(VLOOKUP($P$41,Worksheet!$A$11:$AE$41,P28+1,FALSE)))","v":""},{"$f":"IF('Entry Information'!$J149=\"\",\"\",'OPEN RESULTS'!R29)","v":""},{"$f":"IF('Entry Information'!$J149=\"\",\"\",IF('OPEN RESULTS'!S29=\"\",\"\",'OPEN RESULTS'!S29))","v":""},"",{"$f":"IF('Entry Information'!$J149=\"\",\"\",IF('Entry Information'!V149=\"\",T28,T28-100))","v":""},"",{"$f":"IF($R28=\"\",\"\",(VLOOKUP($V$41,Worksheet!$A$11:$AE$41,V28+1,FALSE)))","v":""},{"$f":"IF('Entry Information'!$J149=\"\",\"\",'OPEN RESULTS'!X29)","v":""},{"$f":"IF('Entry Information'!$J149=\"\",\"\",IF('OPEN RESULTS'!Y29=\"\",\"\",'OPEN RESULTS'!Y29))","v":""},"",{"$f":"IF('Entry Information'!$J149=\"\",\"\",IF('Entry Information'!X149=\"\",Z28,Z28-100))","v":""},"",{"$f":"IF($X28=\"\",\"\",(VLOOKUP($AB$41,Worksheet!$A$11:$AE$41,AB28+1,FALSE)))","v":""},{"$f":"IF('Entry Information'!$J149=\"\",\"\",'OPEN RESULTS'!AD29)","v":""},{"$f":"IF('Entry Information'!$J149=\"\",\"\",IF('OPEN RESULTS'!AE29=\"\",\"\",'OPEN RESULTS'!AE29))","v":""},"",{"$f":"IF('Entry Information'!$J149=\"\",\"\",IF('Entry Information'!Z149=\"\",AF28,AF28-100))","v":""},"",{"$f":"IF($AD28=\"\",\"\",(VLOOKUP($AH$41,Worksheet!$A$11:$AE$41,AH28+1,FALSE)))","v":""}]
[{"$f":"IF('Entry Information'!J150=\"\",\"\",'Entry Information'!B150)","v":""},{"$f":"IF('Entry Information'!J150=\"\",\"\",'Entry Information'!C150)","v":""},{"$f":"IF('Entry Information'!J150=\"\",\"\",'Entry Information'!D150)","v":""},{"$f":"IF('Entry Information'!J150=\"\",\"\",'Entry Information'!E150)","v":""},"OPEN",{"$f":"IF('Entry Information'!$J150=\"\",\"\",'OPEN RESULTS'!F30)","v":""},{"$f":"IF('Entry Information'!$J150=\"\",\"\",IF('OPEN RESULTS'!G30=\"\",\"\",'OPEN RESULTS'!G30))","v":""},"",{"$f":"IF('Entry Information'!$J150=\"\",\"\",IF('Entry Information'!R150=\"\",H29,H29-100))","v":""},"",{"$f":"IF($F29=\"\",\"\",(VLOOKUP($J$41,Worksheet!$A$11:$AE$41,J29+1,FALSE)))","v":""},{"$f":"IF('Entry Information'!$J150=\"\",\"\",'OPEN RESULTS'!L30)","v":""},{"$f":"IF('Entry Information'!$J150=\"\",\"\",IF('OPEN RESULTS'!M30=\"\",\"\",'OPEN RESULTS'!M30))","v":""},"",{"$f":"IF('Entry Information'!$J150=\"\",\"\",IF('Entry Information'!T150=\"\",N29,N29-100))","v":""},"",{"$f":"IF($L29=\"\",\"\",(VLOOKUP($P$41,Worksheet!$A$11:$AE$41,P29+1,FALSE)))","v":""},{"$f":"IF('Entry Information'!$J150=\"\",\"\",'OPEN RESULTS'!R30)","v":""},{"$f":"IF('Entry Information'!$J150=\"\",\"\",IF('OPEN RESULTS'!S30=\"\",\"\",'OPEN RESULTS'!S30))","v":""},"",{"$f":"IF('Entry Information'!$J150=\"\",\"\",IF('Entry Information'!V150=\"\",T29,T29-100))","v":""},"",{"$f":"IF($R29=\"\",\"\",(VLOOKUP($V$41,Worksheet!$A$11:$AE$41,V29+1,FALSE)))","v":""},{"$f":"IF('Entry Information'!$J150=\"\",\"\",'OPEN RESULTS'!X30)","v":""},{"$f":"IF('Entry Information'!$J150=\"\",\"\",IF('OPEN RESULTS'!Y30=\"\",\"\",'OPEN RESULTS'!Y30))","v":""},"",{"$f":"IF('Entry Information'!$J150=\"\",\"\",IF('Entry Information'!X150=\"\",Z29,Z29-100))","v":""},"",{"$f":"IF($X29=\"\",\"\",(VLOOKUP($AB$41,Worksheet!$A$11:$AE$41,AB29+1,FALSE)))","v":""},{"$f":"IF('Entry Information'!$J150=\"\",\"\",'OPEN RESULTS'!AD30)","v":""},{"$f":"IF('Entry Information'!$J150=\"\",\"\",IF('OPEN RESULTS'!AE30=\"\",\"\",'OPEN RESULTS'!AE30))","v":""},"",{"$f":"IF('Entry Information'!$J150=\"\",\"\",IF('Entry Information'!Z150=\"\",AF29,AF29-100))","v":""},"",{"$f":"IF($AD29=\"\",\"\",(VLOOKUP($AH$41,Worksheet!$A$11:$AE$41,AH29+1,FALSE)))","v":""}]
[{"$f":"IF('Entry Information'!J151=\"\",\"\",'Entry Information'!B151)","v":""},{"$f":"IF('Entry Information'!J151=\"\",\"\",'Entry Information'!C151)","v":""},{"$f":"IF('Entry Information'!J151=\"\",\"\",'Entry Information'!D151)","v":""},{"$f":"IF('Entry Information'!J151=\"\",\"\",'Entry Information'!E151)","v":""},"OPEN",{"$f":"IF('Entry Information'!$J151=\"\",\"\",'OPEN RESULTS'!F31)","v":""},{"$f":"IF('Entry Information'!$J151=\"\",\"\",IF('OPEN RESULTS'!G31=\"\",\"\",'OPEN RESULTS'!G31))","v":""},"",{"$f":"IF('Entry Information'!$J151=\"\",\"\",IF('Entry Information'!R151=\"\",H30,H30-100))","v":""},"",{"$f":"IF($F30=\"\",\"\",(VLOOKUP($J$41,Worksheet!$A$11:$AE$41,J30+1,FALSE)))","v":""},{"$f":"IF('Entry Information'!$J151=\"\",\"\",'OPEN RESULTS'!L31)","v":""},{"$f":"IF('Entry Information'!$J151=\"\",\"\",IF('OPEN RESULTS'!M31=\"\",\"\",'OPEN RESULTS'!M31))","v":""},"",{"$f":"IF('Entry Information'!$J151=\"\",\"\",IF('Entry Information'!T151=\"\",N30,N30-100))","v":""},"",{"$f":"IF($L30=\"\",\"\",(VLOOKUP($P$41,Worksheet!$A$11:$AE$41,P30+1,FALSE)))","v":""},{"$f":"IF('Entry Information'!$J151=\"\",\"\",'OPEN RESULTS'!R31)","v":""},{"$f":"IF('Entry Information'!$J151=\"\",\"\",IF('OPEN RESULTS'!S31=\"\",\"\",'OPEN RESULTS'!S31))","v":""},"",{"$f":"IF('Entry Information'!$J151=\"\",\"\",IF('Entry Information'!V151=\"\",T30,T30-100))","v":""},"",{"$f":"IF($R30=\"\",\"\",(VLOOKUP($V$41,Worksheet!$A$11:$AE$41,V30+1,FALSE)))","v":""},{"$f":"IF('Entry Information'!$J151=\"\",\"\",'OPEN RESULTS'!X31)","v":""},{"$f":"IF('Entry Information'!$J151=\"\",\"\",IF('OPEN RESULTS'!Y31=\"\",\"\",'OPEN RESULTS'!Y31))","v":""},"",{"$f":"IF('Entry Information'!$J151=\"\",\"\",IF('Entry Information'!X151=\"\",Z30,Z30-100))","v":""},"",{"$f":"IF($X30=\"\",\"\",(VLOOKUP($AB$41,Worksheet!$A$11:$AE$41,AB30+1,FALSE)))","v":""},{"$f":"IF('Entry Information'!$J151=\"\",\"\",'OPEN RESULTS'!AD31)","v":""},{"$f":"IF('Entry Information'!$J151=\"\",\"\",IF('OPEN RESULTS'!AE31=\"\",\"\",'OPEN RESULTS'!AE31))","v":""},"",{"$f":"IF('Entry Information'!$J151=\"\",\"\",IF('Entry Information'!Z151=\"\",AF30,AF30-100))","v":""},"",{"$f":"IF($AD30=\"\",\"\",(VLOOKUP($AH$41,Worksheet!$A$11:$AE$41,AH30+1,FALSE)))","v":""}]
[{"$f":"IF('Entry Information'!J152=\"\",\"\",'Entry Information'!B152)","v":""},{"$f":"IF('Entry Information'!J152=\"\",\"\",'Entry Information'!C152)","v":""},{"$f":"IF('Entry Information'!J152=\"\",\"\",'Entry Information'!D152)","v":""},{"$f":"IF('Entry Information'!J152=\"\",\"\",'Entry Information'!E152)","v":""},"OPEN",{"$f":"IF('Entry Information'!$J152=\"\",\"\",'OPEN RESULTS'!F32)","v":""},{"$f":"IF('Entry Information'!$J152=\"\",\"\",IF('OPEN RESULTS'!G32=\"\",\"\",'OPEN RESULTS'!G32))","v":""},"",{"$f":"IF('Entry Information'!$J152=\"\",\"\",IF('Entry Information'!R152=\"\",H31,H31-100))","v":""},"",{"$f":"IF($F31=\"\",\"\",(VLOOKUP($J$41,Worksheet!$A$11:$AE$41,J31+1,FALSE)))","v":""},{"$f":"IF('Entry Information'!$J152=\"\",\"\",'OPEN RESULTS'!L32)","v":""},{"$f":"IF('Entry Information'!$J152=\"\",\"\",IF('OPEN RESULTS'!M32=\"\",\"\",'OPEN RESULTS'!M32))","v":""},"",{"$f":"IF('Entry Information'!$J152=\"\",\"\",IF('Entry Information'!T152=\"\",N31,N31-100))","v":""},"",{"$f":"IF($L31=\"\",\"\",(VLOOKUP($P$41,Worksheet!$A$11:$AE$41,P31+1,FALSE)))","v":""},{"$f":"IF('Entry Information'!$J152=\"\",\"\",'OPEN RESULTS'!R32)","v":""},{"$f":"IF('Entry Information'!$J152=\"\",\"\",IF('OPEN RESULTS'!S32=\"\",\"\",'OPEN RESULTS'!S32))","v":""},"",{"$f":"IF('Entry Information'!$J152=\"\",\"\",IF('Entry Information'!V152=\"\",T31,T31-100))","v":""},"",{"$f":"IF($R31=\"\",\"\",(VLOOKUP($V$41,Worksheet!$A$11:$AE$41,V31+1,FALSE)))","v":""},{"$f":"IF('Entry Information'!$J152=\"\",\"\",'OPEN RESULTS'!X32)","v":""},{"$f":"IF('Entry Information'!$J152=\"\",\"\",IF('OPEN RESULTS'!Y32=\"\",\"\",'OPEN RESULTS'!Y32))","v":""},"",{"$f":"IF('Entry Information'!$J152=\"\",\"\",IF('Entry Information'!X152=\"\",Z31,Z31-100))","v":""},"",{"$f":"IF($X31=\"\",\"\",(VLOOKUP($AB$41,Worksheet!$A$11:$AE$41,AB31+1,FALSE)))","v":""},{"$f":"IF('Entry Information'!$J152=\"\",\"\",'OPEN RESULTS'!AD32)","v":""},{"$f":"IF('Entry Information'!$J152=\"\",\"\",IF('OPEN RESULTS'!AE32=\"\",\"\",'OPEN RESULTS'!AE32))","v":""},"",{"$f":"IF('Entry Information'!$J152=\"\",\"\",IF('Entry Information'!Z152=\"\",AF31,AF31-100))","v":""},"",{"$f":"IF($AD31=\"\",\"\",(VLOOKUP($AH$41,Worksheet!$A$11:$AE$41,AH31+1,FALSE)))","v":""}]
[{"$f":"IF('Entry Information'!J153=\"\",\"\",'Entry Information'!B153)","v":""},{"$f":"IF('Entry Information'!J153=\"\",\"\",'Entry Information'!C153)","v":""},{"$f":"IF('Entry Information'!J153=\"\",\"\",'Entry Information'!D153)","v":""},{"$f":"IF('Entry Information'!J153=\"\",\"\",'Entry Information'!E153)","v":""},"OPEN",{"$f":"IF('Entry Information'!$J153=\"\",\"\",'OPEN RESULTS'!F33)","v":""},{"$f":"IF('Entry Information'!$J153=\"\",\"\",IF('OPEN RESULTS'!G33=\"\",\"\",'OPEN RESULTS'!G33))","v":""},"",{"$f":"IF('Entry Information'!$J153=\"\",\"\",IF('Entry Information'!R153=\"\",H32,H32-100))","v":""},"",{"$f":"IF($F32=\"\",\"\",(VLOOKUP($J$41,Worksheet!$A$11:$AE$41,J32+1,FALSE)))","v":""},{"$f":"IF('Entry Information'!$J153=\"\",\"\",'OPEN RESULTS'!L33)","v":""},{"$f":"IF('Entry Information'!$J153=\"\",\"\",IF('OPEN RESULTS'!M33=\"\",\"\",'OPEN RESULTS'!M33))","v":""},"",{"$f":"IF('Entry Information'!$J153=\"\",\"\",IF('Entry Information'!T153=\"\",N32,N32-100))","v":""},"",{"$f":"IF($L32=\"\",\"\",(VLOOKUP($P$41,Worksheet!$A$11:$AE$41,P32+1,FALSE)))","v":""},{"$f":"IF('Entry Information'!$J153=\"\",\"\",'OPEN RESULTS'!R33)","v":""},{"$f":"IF('Entry Information'!$J153=\"\",\"\",IF('OPEN RESULTS'!S33=\"\",\"\",'OPEN RESULTS'!S33))","v":""},"",{"$f":"IF('Entry Information'!$J153=\"\",\"\",IF('Entry Information'!V153=\"\",T32,T32-100))","v":""},"",{"$f":"IF($R32=\"\",\"\",(VLOOKUP($V$41,Worksheet!$A$11:$AE$41,V32+1,FALSE)))","v":""},{"$f":"IF('Entry Information'!$J153=\"\",\"\",'OPEN RESULTS'!X33)","v":""},{"$f":"IF('Entry Information'!$J153=\"\",\"\",IF('OPEN RESULTS'!Y33=\"\",\"\",'OPEN RESULTS'!Y33))","v":""},"",{"$f":"IF('Entry Information'!$J153=\"\",\"\",IF('Entry Information'!X153=\"\",Z32,Z32-100))","v":""},"",{"$f":"IF($X32=\"\",\"\",(VLOOKUP($AB$41,Worksheet!$A$11:$AE$41,AB32+1,FALSE)))","v":""},{"$f":"IF('Entry Information'!$J153=\"\",\"\",'OPEN RESULTS'!AD33)","v":""},{"$f":"IF('Entry Information'!$J153=\"\",\"\",IF('OPEN RESULTS'!AE33=\"\",\"\",'OPEN RESULTS'!AE33))","v":""},"",{"$f":"IF('Entry Information'!$J153=\"\",\"\",IF('Entry Information'!Z153=\"\",AF32,AF32-100))","v":""},"",{"$f":"IF($AD32=\"\",\"\",(VLOOKUP($AH$41,Worksheet!$A$11:$AE$41,AH32+1,FALSE)))","v":""}]
[{"$f":"IF('Entry Information'!J154=\"\",\"\",'Entry Information'!B154)","v":""},{"$f":"IF('Entry Information'!J154=\"\",\"\",'Entry Information'!C154)","v":""},{"$f":"IF('Entry Information'!J154=\"\",\"\",'Entry Information'!D154)","v":""},{"$f":"IF('Entry Information'!J154=\"\",\"\",'Entry Information'!E154)","v":""},"OPEN",{"$f":"IF('Entry Information'!$J154=\"\",\"\",'OPEN RESULTS'!F34)","v":""},{"$f":"IF('Entry Information'!$J154=\"\",\"\",IF('OPEN RESULTS'!G34=\"\",\"\",'OPEN RESULTS'!G34))","v":""},"",{"$f":"IF('Entry Information'!$J154=\"\",\"\",IF('Entry Information'!R154=\"\",H33,H33-100))","v":""},"",{"$f":"IF($F33=\"\",\"\",(VLOOKUP($J$41,Worksheet!$A$11:$AE$41,J33+1,FALSE)))","v":""},{"$f":"IF('Entry Information'!$J154=\"\",\"\",'OPEN RESULTS'!L34)","v":""},{"$f":"IF('Entry Information'!$J154=\"\",\"\",IF('OPEN RESULTS'!M34=\"\",\"\",'OPEN RESULTS'!M34))","v":""},"",{"$f":"IF('Entry Information'!$J154=\"\",\"\",IF('Entry Information'!T154=\"\",N33,N33-100))","v":""},"",{"$f":"IF($L33=\"\",\"\",(VLOOKUP($P$41,Worksheet!$A$11:$AE$41,P33+1,FALSE)))","v":""},{"$f":"IF('Entry Information'!$J154=\"\",\"\",'OPEN RESULTS'!R34)","v":""},{"$f":"IF('Entry Information'!$J154=\"\",\"\",IF('OPEN RESULTS'!S34=\"\",\"\",'OPEN RESULTS'!S34))","v":""},"",{"$f":"IF('Entry Information'!$J154=\"\",\"\",IF('Entry Information'!V154=\"\",T33,T33-100))","v":""},"",{"$f":"IF($R33=\"\",\"\",(VLOOKUP($V$41,Worksheet!$A$11:$AE$41,V33+1,FALSE)))","v":""},{"$f":"IF('Entry Information'!$J154=\"\",\"\",'OPEN RESULTS'!X34)","v":""},{"$f":"IF('Entry Information'!$J154=\"\",\"\",IF('OPEN RESULTS'!Y34=\"\",\"\",'OPEN RESULTS'!Y34))","v":""},"",{"$f":"IF('Entry Information'!$J154=\"\",\"\",IF('Entry Information'!X154=\"\",Z33,Z33-100))","v":""},"",{"$f":"IF($X33=\"\",\"\",(VLOOKUP($AB$41,Worksheet!$A$11:$AE$41,AB33+1,FALSE)))","v":""},{"$f":"IF('Entry Information'!$J154=\"\",\"\",'OPEN RESULTS'!AD34)","v":""},{"$f":"IF('Entry Information'!$J154=\"\",\"\",IF('OPEN RESULTS'!AE34=\"\",\"\",'OPEN RESULTS'!AE34))","v":""},"",{"$f":"IF('Entry Information'!$J154=\"\",\"\",IF('Entry Information'!Z154=\"\",AF33,AF33-100))","v":""},"",{"$f":"IF($AD33=\"\",\"\",(VLOOKUP($AH$41,Worksheet!$A$11:$AE$41,AH33+1,FALSE)))","v":""}]
[{"$f":"IF('Entry Information'!J155=\"\",\"\",'Entry Information'!B155)","v":""},{"$f":"IF('Entry Information'!J155=\"\",\"\",'Entry Information'!C155)","v":""},{"$f":"IF('Entry Information'!J155=\"\",\"\",'Entry Information'!D155)","v":""},{"$f":"IF('Entry Information'!J155=\"\",\"\",'Entry Information'!E155)","v":""},"OPEN",{"$f":"IF('Entry Information'!$J155=\"\",\"\",'OPEN RESULTS'!F35)","v":""},{"$f":"IF('Entry Information'!$J155=\"\",\"\",IF('OPEN RESULTS'!G35=\"\",\"\",'OPEN RESULTS'!G35))","v":""},"",{"$f":"IF('Entry Information'!$J155=\"\",\"\",IF('Entry Information'!R155=\"\",H34,H34-100))","v":""},"",{"$f":"IF($F34=\"\",\"\",(VLOOKUP($J$41,Worksheet!$A$11:$AE$41,J34+1,FALSE)))","v":""},{"$f":"IF('Entry Information'!$J155=\"\",\"\",'OPEN RESULTS'!L35)","v":""},{"$f":"IF('Entry Information'!$J155=\"\",\"\",IF('OPEN RESULTS'!M35=\"\",\"\",'OPEN RESULTS'!M35))","v":""},"",{"$f":"IF('Entry Information'!$J155=\"\",\"\",IF('Entry Information'!T155=\"\",N34,N34-100))","v":""},"",{"$f":"IF($L34=\"\",\"\",(VLOOKUP($P$41,Worksheet!$A$11:$AE$41,P34+1,FALSE)))","v":""},{"$f":"IF('Entry Information'!$J155=\"\",\"\",'OPEN RESULTS'!R35)","v":""},{"$f":"IF('Entry Information'!$J155=\"\",\"\",IF('OPEN RESULTS'!S35=\"\",\"\",'OPEN RESULTS'!S35))","v":""},"",{"$f":"IF('Entry Information'!$J155=\"\",\"\",IF('Entry Information'!V155=\"\",T34,T34-100))","v":""},"",{"$f":"IF($R34=\"\",\"\",(VLOOKUP($V$41,Worksheet!$A$11:$AE$41,V34+1,FALSE)))","v":""},{"$f":"IF('Entry Information'!$J155=\"\",\"\",'OPEN RESULTS'!X35)","v":""},{"$f":"IF('Entry Information'!$J155=\"\",\"\",IF('OPEN RESULTS'!Y35=\"\",\"\",'OPEN RESULTS'!Y35))","v":""},"",{"$f":"IF('Entry Information'!$J155=\"\",\"\",IF('Entry Information'!X155=\"\",Z34,Z34-100))","v":""},"",{"$f":"IF($X34=\"\",\"\",(VLOOKUP($AB$41,Worksheet!$A$11:$AE$41,AB34+1,FALSE)))","v":""},{"$f":"IF('Entry Information'!$J155=\"\",\"\",'OPEN RESULTS'!AD35)","v":""},{"$f":"IF('Entry Information'!$J155=\"\",\"\",IF('OPEN RESULTS'!AE35=\"\",\"\",'OPEN RESULTS'!AE35))","v":""},"",{"$f":"IF('Entry Information'!$J155=\"\",\"\",IF('Entry Information'!Z155=\"\",AF34,AF34-100))","v":""},"",{"$f":"IF($AD34=\"\",\"\",(VLOOKUP($AH$41,Worksheet!$A$11:$AE$41,AH34+1,FALSE)))","v":""}]
[{"$f":"IF('Entry Information'!J156=\"\",\"\",'Entry Information'!B156)","v":""},{"$f":"IF('Entry Information'!J156=\"\",\"\",'Entry Information'!C156)","v":""},{"$f":"IF('Entry Information'!J156=\"\",\"\",'Entry Information'!D156)","v":""},{"$f":"IF('Entry Information'!J156=\"\",\"\",'Entry Information'!E156)","v":""},"OPEN",{"$f":"IF('Entry Information'!$J156=\"\",\"\",'OPEN RESULTS'!F36)","v":""},{"$f":"IF('Entry Information'!$J156=\"\",\"\",IF('OPEN RESULTS'!G36=\"\",\"\",'OPEN RESULTS'!G36))","v":""},"",{"$f":"IF('Entry Information'!$J156=\"\",\"\",IF('Entry Information'!R156=\"\",H35,H35-100))","v":""},"",{"$f":"IF($F35=\"\",\"\",(VLOOKUP($J$41,Worksheet!$A$11:$AE$41,J35+1,FALSE)))","v":""},{"$f":"IF('Entry Information'!$J156=\"\",\"\",'OPEN RESULTS'!L36)","v":""},{"$f":"IF('Entry Information'!$J156=\"\",\"\",IF('OPEN RESULTS'!M36=\"\",\"\",'OPEN RESULTS'!M36))","v":""},"",{"$f":"IF('Entry Information'!$J156=\"\",\"\",IF('Entry Information'!T156=\"\",N35,N35-100))","v":""},"",{"$f":"IF($L35=\"\",\"\",(VLOOKUP($P$41,Worksheet!$A$11:$AE$41,P35+1,FALSE)))","v":""},{"$f":"IF('Entry Information'!$J156=\"\",\"\",'OPEN RESULTS'!R36)","v":""},{"$f":"IF('Entry Information'!$J156=\"\",\"\",IF('OPEN RESULTS'!S36=\"\",\"\",'OPEN RESULTS'!S36))","v":""},"",{"$f":"IF('Entry Information'!$J156=\"\",\"\",IF('Entry Information'!V156=\"\",T35,T35-100))","v":""},"",{"$f":"IF($R35=\"\",\"\",(VLOOKUP($V$41,Worksheet!$A$11:$AE$41,V35+1,FALSE)))","v":""},{"$f":"IF('Entry Information'!$J156=\"\",\"\",'OPEN RESULTS'!X36)","v":""},{"$f":"IF('Entry Information'!$J156=\"\",\"\",IF('OPEN RESULTS'!Y36=\"\",\"\",'OPEN RESULTS'!Y36))","v":""},"",{"$f":"IF('Entry Information'!$J156=\"\",\"\",IF('Entry Information'!X156=\"\",Z35,Z35-100))","v":""},"",{"$f":"IF($X35=\"\",\"\",(VLOOKUP($AB$41,Worksheet!$A$11:$AE$41,AB35+1,FALSE)))","v":""},{"$f":"IF('Entry Information'!$J156=\"\",\"\",'OPEN RESULTS'!AD36)","v":""},{"$f":"IF('Entry Information'!$J156=\"\",\"\",IF('OPEN RESULTS'!AE36=\"\",\"\",'OPEN RESULTS'!AE36))","v":""},"",{"$f":"IF('Entry Information'!$J156=\"\",\"\",IF('Entry Information'!Z156=\"\",AF35,AF35-100))","v":""},"",{"$f":"IF($AD35=\"\",\"\",(VLOOKUP($AH$41,Worksheet!$A$11:$AE$41,AH35+1,FALSE)))","v":""}]
[{"$f":"IF('Entry Information'!J157=\"\",\"\",'Entry Information'!B157)","v":""},{"$f":"IF('Entry Information'!J157=\"\",\"\",'Entry Information'!C157)","v":""},{"$f":"IF('Entry Information'!J157=\"\",\"\",'Entry Information'!D157)","v":""},{"$f":"IF('Entry Information'!J157=\"\",\"\",'Entry Information'!E157)","v":""},"OPEN",{"$f":"IF('Entry Information'!$J157=\"\",\"\",'OPEN RESULTS'!F37)","v":""},{"$f":"IF('Entry Information'!$J157=\"\",\"\",IF('OPEN RESULTS'!G37=\"\",\"\",'OPEN RESULTS'!G37))","v":""},"",{"$f":"IF('Entry Information'!$J157=\"\",\"\",IF('Entry Information'!R157=\"\",H36,H36-100))","v":""},"",{"$f":"IF($F36=\"\",\"\",(VLOOKUP($J$41,Worksheet!$A$11:$AE$41,J36+1,FALSE)))","v":""},{"$f":"IF('Entry Information'!$J157=\"\",\"\",'OPEN RESULTS'!L37)","v":""},{"$f":"IF('Entry Information'!$J157=\"\",\"\",IF('OPEN RESULTS'!M37=\"\",\"\",'OPEN RESULTS'!M37))","v":""},"",{"$f":"IF('Entry Information'!$J157=\"\",\"\",IF('Entry Information'!T157=\"\",N36,N36-100))","v":""},"",{"$f":"IF($L36=\"\",\"\",(VLOOKUP($P$41,Worksheet!$A$11:$AE$41,P36+1,FALSE)))","v":""},{"$f":"IF('Entry Information'!$J157=\"\",\"\",'OPEN RESULTS'!R37)","v":""},{"$f":"IF('Entry Information'!$J157=\"\",\"\",IF('OPEN RESULTS'!S37=\"\",\"\",'OPEN RESULTS'!S37))","v":""},"",{"$f":"IF('Entry Information'!$J157=\"\",\"\",IF('Entry Information'!V157=\"\",T36,T36-100))","v":""},"",{"$f":"IF($R36=\"\",\"\",(VLOOKUP($V$41,Worksheet!$A$11:$AE$41,V36+1,FALSE)))","v":""},{"$f":"IF('Entry Information'!$J157=\"\",\"\",'OPEN RESULTS'!X37)","v":""},{"$f":"IF('Entry Information'!$J157=\"\",\"\",IF('OPEN RESULTS'!Y37=\"\",\"\",'OPEN RESULTS'!Y37))","v":""},"",{"$f":"IF('Entry Information'!$J157=\"\",\"\",IF('Entry Information'!X157=\"\",Z36,Z36-100))","v":""},"",{"$f":"IF($X36=\"\",\"\",(VLOOKUP($AB$41,Worksheet!$A$11:$AE$41,AB36+1,FALSE)))","v":""},{"$f":"IF('Entry Information'!$J157=\"\",\"\",'OPEN RESULTS'!AD37)","v":""},{"$f":"IF('Entry Information'!$J157=\"\",\"\",IF('OPEN RESULTS'!AE37=\"\",\"\",'OPEN RESULTS'!AE37))","v":""},"",{"$f":"IF('Entry Information'!$J157=\"\",\"\",IF('Entry Information'!Z157=\"\",AF36,AF36-100))","v":""},"",{"$f":"IF($AD36=\"\",\"\",(VLOOKUP($AH$41,Worksheet!$A$11:$AE$41,AH36+1,FALSE)))","v":""}]
[{"$f":"IF('Entry Information'!J158=\"\",\"\",'Entry Information'!B158)","v":""},{"$f":"IF('Entry Information'!J158=\"\",\"\",'Entry Information'!C158)","v":""},{"$f":"IF('Entry Information'!J158=\"\",\"\",'Entry Information'!D158)","v":""},{"$f":"IF('Entry Information'!J158=\"\",\"\",'Entry Information'!E158)","v":""},"OPEN",{"$f":"IF('Entry Information'!$J158=\"\",\"\",'OPEN RESULTS'!F38)","v":""},{"$f":"IF('Entry Information'!$J158=\"\",\"\",IF('OPEN RESULTS'!G38=\"\",\"\",'OPEN RESULTS'!G38))","v":""},"",{"$f":"IF('Entry Information'!$J158=\"\",\"\",IF('Entry Information'!R158=\"\",H37,H37-100))","v":""},"",{"$f":"IF($F37=\"\",\"\",(VLOOKUP($J$41,Worksheet!$A$11:$AE$41,J37+1,FALSE)))","v":""},{"$f":"IF('Entry Information'!$J158=\"\",\"\",'OPEN RESULTS'!L38)","v":""},{"$f":"IF('Entry Information'!$J158=\"\",\"\",IF('OPEN RESULTS'!M38=\"\",\"\",'OPEN RESULTS'!M38))","v":""},"",{"$f":"IF('Entry Information'!$J158=\"\",\"\",IF('Entry Information'!T158=\"\",N37,N37-100))","v":""},"",{"$f":"IF($L37=\"\",\"\",(VLOOKUP($P$41,Worksheet!$A$11:$AE$41,P37+1,FALSE)))","v":""},{"$f":"IF('Entry Information'!$J158=\"\",\"\",'OPEN RESULTS'!R38)","v":""},{"$f":"IF('Entry Information'!$J158=\"\",\"\",IF('OPEN RESULTS'!S38=\"\",\"\",'OPEN RESULTS'!S38))","v":""},"",{"$f":"IF('Entry Information'!$J158=\"\",\"\",IF('Entry Information'!V158=\"\",T37,T37-100))","v":""},"",{"$f":"IF($R37=\"\",\"\",(VLOOKUP($V$41,Worksheet!$A$11:$AE$41,V37+1,FALSE)))","v":""},{"$f":"IF('Entry Information'!$J158=\"\",\"\",'OPEN RESULTS'!X38)","v":""},{"$f":"IF('Entry Information'!$J158=\"\",\"\",IF('OPEN RESULTS'!Y38=\"\",\"\",'OPEN RESULTS'!Y38))","v":""},"",{"$f":"IF('Entry Information'!$J158=\"\",\"\",IF('Entry Information'!X158=\"\",Z37,Z37-100))","v":""},"",{"$f":"IF($X37=\"\",\"\",(VLOOKUP($AB$41,Worksheet!$A$11:$AE$41,AB37+1,FALSE)))","v":""},{"$f":"IF('Entry Information'!$J158=\"\",\"\",'OPEN RESULTS'!AD38)","v":""},{"$f":"IF('Entry Information'!$J158=\"\",\"\",IF('OPEN RESULTS'!AE38=\"\",\"\",'OPEN RESULTS'!AE38))","v":""},"",{"$f":"IF('Entry Information'!$J158=\"\",\"\",IF('Entry Information'!Z158=\"\",AF37,AF37-100))","v":""},"",{"$f":"IF($AD37=\"\",\"\",(VLOOKUP($AH$41,Worksheet!$A$11:$AE$41,AH37+1,FALSE)))","v":""}]
[{"$f":"IF('Entry Information'!J159=\"\",\"\",'Entry Information'!B159)","v":""},{"$f":"IF('Entry Information'!J159=\"\",\"\",'Entry Information'!C159)","v":""},{"$f":"IF('Entry Information'!J159=\"\",\"\",'Entry Information'!D159)","v":""},{"$f":"IF('Entry Information'!J159=\"\",\"\",'Entry Information'!E159)","v":""},"OPEN",{"$f":"IF('Entry Information'!$J159=\"\",\"\",'OPEN RESULTS'!F39)","v":""},{"$f":"IF('Entry Information'!$J159=\"\",\"\",IF('OPEN RESULTS'!G39=\"\",\"\",'OPEN RESULTS'!G39))","v":""},"",{"$f":"IF('Entry Information'!$J159=\"\",\"\",IF('Entry Information'!R159=\"\",H38,H38-100))","v":""},"",{"$f":"IF($F38=\"\",\"\",(VLOOKUP($J$41,Worksheet!$A$11:$AE$41,J38+1,FALSE)))","v":""},{"$f":"IF('Entry Information'!$J159=\"\",\"\",'OPEN RESULTS'!L39)","v":""},{"$f":"IF('Entry Information'!$J159=\"\",\"\",IF('OPEN RESULTS'!M39=\"\",\"\",'OPEN RESULTS'!M39))","v":""},"",{"$f":"IF('Entry Information'!$J159=\"\",\"\",IF('Entry Information'!T159=\"\",N38,N38-100))","v":""},"",{"$f":"IF($L38=\"\",\"\",(VLOOKUP($P$41,Worksheet!$A$11:$AE$41,P38+1,FALSE)))","v":""},{"$f":"IF('Entry Information'!$J159=\"\",\"\",'OPEN RESULTS'!R39)","v":""},{"$f":"IF('Entry Information'!$J159=\"\",\"\",IF('OPEN RESULTS'!S39=\"\",\"\",'OPEN RESULTS'!S39))","v":""},"",{"$f":"IF('Entry Information'!$J159=\"\",\"\",IF('Entry Information'!V159=\"\",T38,T38-100))","v":""},"",{"$f":"IF($R38=\"\",\"\",(VLOOKUP($V$41,Worksheet!$A$11:$AE$41,V38+1,FALSE)))","v":""},{"$f":"IF('Entry Information'!$J159=\"\",\"\",'OPEN RESULTS'!X39)","v":""},{"$f":"IF('Entry Information'!$J159=\"\",\"\",IF('OPEN RESULTS'!Y39=\"\",\"\",'OPEN RESULTS'!Y39))","v":""},"",{"$f":"IF('Entry Information'!$J159=\"\",\"\",IF('Entry Information'!X159=\"\",Z38,Z38-100))","v":""},"",{"$f":"IF($X38=\"\",\"\",(VLOOKUP($AB$41,Worksheet!$A$11:$AE$41,AB38+1,FALSE)))","v":""},{"$f":"IF('Entry Information'!$J159=\"\",\"\",'OPEN RESULTS'!AD39)","v":""},{"$f":"IF('Entry Information'!$J159=\"\",\"\",IF('OPEN RESULTS'!AE39=\"\",\"\",'OPEN RESULTS'!AE39))","v":""},"",{"$f":"IF('Entry Information'!$J159=\"\",\"\",IF('Entry Information'!Z159=\"\",AF38,AF38-100))","v":""},"",{"$f":"IF($AD38=\"\",\"\",(VLOOKUP($AH$41,Worksheet!$A$11:$AE$41,AH38+1,FALSE)))","v":""}]
[{"$f":"IF('Entry Information'!J160=\"\",\"\",'Entry Information'!B160)","v":""},{"$f":"IF('Entry Information'!J160=\"\",\"\",'Entry Information'!C160)","v":""},{"$f":"IF('Entry Information'!J160=\"\",\"\",'Entry Information'!D160)","v":""},{"$f":"IF('Entry Information'!J160=\"\",\"\",'Entry Information'!E160)","v":""},"OPEN",{"$f":"IF('Entry Information'!$J160=\"\",\"\",'OPEN RESULTS'!F40)","v":""},{"$f":"IF('Entry Information'!$J160=\"\",\"\",IF('OPEN RESULTS'!G40=\"\",\"\",'OPEN RESULTS'!G40))","v":""},"",{"$f":"IF('Entry Information'!$J160=\"\",\"\",IF('Entry Information'!R160=\"\",H39,H39-100))","v":""},"",{"$f":"IF($F39=\"\",\"\",(VLOOKUP($J$41,Worksheet!$A$11:$AE$41,J39+1,FALSE)))","v":""},{"$f":"IF('Entry Information'!$J160=\"\",\"\",'OPEN RESULTS'!L40)","v":""},{"$f":"IF('Entry Information'!$J160=\"\",\"\",IF('OPEN RESULTS'!M40=\"\",\"\",'OPEN RESULTS'!M40))","v":""},"",{"$f":"IF('Entry Information'!$J160=\"\",\"\",IF('Entry Information'!T160=\"\",N39,N39-100))","v":""},"",{"$f":"IF($L39=\"\",\"\",(VLOOKUP($P$41,Worksheet!$A$11:$AE$41,P39+1,FALSE)))","v":""},{"$f":"IF('Entry Information'!$J160=\"\",\"\",'OPEN RESULTS'!R40)","v":""},{"$f":"IF('Entry Information'!$J160=\"\",\"\",IF('OPEN RESULTS'!S40=\"\",\"\",'OPEN RESULTS'!S40))","v":""},"",{"$f":"IF('Entry Information'!$J160=\"\",\"\",IF('Entry Information'!V160=\"\",T39,T39-100))","v":""},"",{"$f":"IF($R39=\"\",\"\",(VLOOKUP($V$41,Worksheet!$A$11:$AE$41,V39+1,FALSE)))","v":""},{"$f":"IF('Entry Information'!$J160=\"\",\"\",'OPEN RESULTS'!X40)","v":""},{"$f":"IF('Entry Information'!$J160=\"\",\"\",IF('OPEN RESULTS'!Y40=\"\",\"\",'OPEN RESULTS'!Y40))","v":""},"",{"$f":"IF('Entry Information'!$J160=\"\",\"\",IF('Entry Information'!X160=\"\",Z39,Z39-100))","v":""},"",{"$f":"IF($X39=\"\",\"\",(VLOOKUP($AB$41,Worksheet!$A$11:$AE$41,AB39+1,FALSE)))","v":""},{"$f":"IF('Entry Information'!$J160=\"\",\"\",'OPEN RESULTS'!AD40)","v":""},{"$f":"IF('Entry Information'!$J160=\"\",\"\",IF('OPEN RESULTS'!AE40=\"\",\"\",'OPEN RESULTS'!AE40))","v":""},"",{"$f":"IF('Entry Information'!$J160=\"\",\"\",IF('Entry Information'!Z160=\"\",AF39,AF39-100))","v":""},"",{"$f":"IF($AD39=\"\",\"\",(VLOOKUP($AH$41,Worksheet!$A$11:$AE$41,AH39+1,FALSE)))","v":""}]
[]
[null,null,null,null,null,null,null,null,null,{"$f":"COUNTIF(J10:J39,\">=0\")","v":0},null,null,null,null,null,{"$f":"COUNTIF(P10:P39,\">=0\")","v":0},null,null,null,null,null,{"$f":"COUNTIF(V10:V39,\">=0\")","v":0},null,null,null,null,null,{"$f":"COUNTIF(AB10:AB39,\">=0\")","v":0},null,null,null,null,null,{"$f":"COUNTIF(AH10:AH39,\">=0\")","v":0}]
[null,null,null,null,null,"1 - Total Penalty Points",null,null,null,null,null,"1 - Total Penalty Points",null,null,null,null,null,"1 Total Penalty Points",null,null,null,null,null,"1 - Total Penalty Points",null,null,null,null,null,"1 - Total Penalty Points"]
[null,null,null,null,null,"2 - Extended Trot",null,null,null,null,null,"2 - Drag Log",null,null,null,null,null,"2 - 1st Cow Working Center of Arena",null,null,null,null,null,"2 - Roping Cow",null,null,null,null,null,"2 - Roping Cow"]
[null,null,null,null,null,"3 - Transition down lope/walk/stop",null,null,null,null,null,"3 - Ground tie/bridle/pick-up leg(s)",null,null,null,null,null,"3 - 1st Cow Cut from Herd",null,null,null,null,null,"3 - Box Cow",null,null,null,null,null,"3 - Box Cow"]
[null,null,null,null,null,"4 - Transition to lope/lope",null,null,null,null,null,"4 - Gate",null,null,null,null,null,"4 -2nd Cow Working Center of Arena",null,null,null,null,null,"4 - First Lead Change",null,null,null,null,null,"4 - First Lead Change"]
[]
[]
["Scores in RED are ties - enter a 1 in the Tie Breaker Column of the winner to break tie.  If multiple ties enter a 1 for the second place and a 2 for winner."]
[]
[]
["Places highlighted have a major penatly."]
[]
["If Entered in \"Jack Pot\" cell to the right of Event All Around with be highlighted"]

{"sheet":"OPEN SELECT RESULTS","index":21,"n_rows":53,"n_cols":35,"rows_kept":53,"cut":false,"hidden":true,"merged":[[2,21,2,22],[2,23,2,28],[2,29,2,34],[1,0,1,2],[1,4,1,5],[1,9,1,16],[1,21,1,22],[1,23,1,28],[1,29,1,34],[2,1,2,2],[2,4,2,5],[2,9,2,11],[4,5,4,10],[4,11,4,16],[4,17,4,22],[4,23,4,28],[6,11,8,11],[6,12,8,12],[6,13,8,13],[6,26,8,26],[6,27,8,27],[6,28,8,28],[6,21,8,21],[6,15,8,15],[6,7,8,7],[6,8,8,8],[6,9,8,9],[6,10,8,10],[4,29,4,34],[6,32,8,32],[6,17,8,17],[6,18,8,18],[6,19,8,19],[6,20,8,20],[6,24,8,24],[6,25,8,25],[6,33,8,33],[6,34,8,34],[6,23,8,23],[5,5,5,10],[5,11,5,16],[5,17,5,22],[5,23,5,28],[5,29,5,34],[47,0,48,4],[6,29,8,29],[6,30,8,30],[6,31,8,31],[6,14,8,14],[6,5,8,5],[6,6,8,6],[6,22,8,22],[6,16,8,16]]}
[]
[null,null,null,null,"Event Name:",null,null,null,null,{"$f":"'Entry Information'!C4","v":"Ranch Horse Challenge"},null,null,null,null,null,null,null,null,null,null,null,"Judge #1 Name/Classes:",null,{"$f":"'Entry Information'!F4","v":"Mike Lund"}]
["Division:","OPEN",null,null,"Event Date:",null,null,null,null,{"$f":"'Entry Information'!C5","v":"2018-03-25"},null,null,null,null,null,null,null,null,null,null,null,"Judge #2 Name/Classes:",null,{"$f":"'Entry Information'!F5","v":"Karen Arlin"}]
[]
[null,null,null,null,null,"RANCH",null,null,null,null,null,"RANCH",null,null,null,null,null,"RANCH",null,null,null,null,null,"RANCH",null,null,null,null,null,"RANCH"]
[null,null,null,null,null,"RIDING",null,null,null,null,null,"TRAIL",null,null,null,null,null,"CUTING",null,null,null,null,null,"REINED WORK",null,null,null,null,null,"COW WORK"]
[null,null,null,null,null,"Score","Tie Breaker","Adjusted Score for Ties","Adjusted Score Major Penalty","Place","Placement Points","Score","Tie Breaker","Adjusted Score for Ties","Adjusted Score Major Penalty","Place","Placement Points","Score","Tie Breaker","Adjusted Score for Ties","Adjusted Score Major Penalty","Place","Placement Points","Score","Tie Breaker","Adjusted Score for Ties","Adjusted Score Major Penalty","Place","Placement Points","Score","Tie Breaker","Adjusted Score for Ties","Adjusted Score Major Penalty","Place","Placement Points"]
[]
["Back No.","Last Name","First Name","Registered Horse Name","Division"]
[{"$f":"IF('Entry Information'!H131=\"\",\"\",'Entry Information'!B131)","v":""},{"$f":"IF('Entry Information'!H131=\"\",\"\",'Entry Information'!C131)","v":""},{"$f":"IF('Entry Information'!H131=\"\",\"\",'Entry Information'!D131)","v":""},{"$f":"IF('Entry Information'!H131=\"\",\"\",'Entry Information'!E131)","v":""},"OPEN",{"$f":"IF('Entry Information'!$H131=\"\",\"\",'OPEN RESULTS'!F11)","v":""},{"$f":"IF('Entry Information'!$H131=\"\",\"\",IF('OPEN RESULTS'!G11=\"\",\"\",'OPEN RESULTS'!G11))","v":""},{"$f":"IF(G10=\"\",F10,(F10+(G10*0.001)))","v":""},{"$f":"IF('Entry Information'!$H131=\"\",\"\",IF('Entry Information'!R131=\"\",H10,H10-100))","v":""},{"$f":"IF(I10=\"\",\"\",(RANK(I10,$I$10:$I$39,0)))","v":""},{"$f":"IF($F10=\"\",\"\",(VLOOKUP($J$41,Worksheet!$A$11:$AE$41,J10+1,FALSE)))","v":""},{"$f":"IF('Entry Information'!$H131=\"\",\"\",'OPEN RESULTS'!L11)","v":""},{"$f":"IF('Entry Information'!$H131=\"\",\"\",IF('OPEN RESULTS'!M11=\"\",\"\",'OPEN RESULTS'!M11))","v":""},{"$f":"IF(M10=\"\",L10,(L10+(M10*0.001)))","v":""},{"$f":"IF('Entry Information'!$H131=\"\",\"\",IF('Entry Information'!T131=\"\",N10,N10-100))","v":""},{"$f":"IF(O10=\"\",\"\",(RANK(O10,$O$10:$O$39,0)))","v":""},{"$f":"IF($L10=\"\",\"\",(VLOOKUP($P$41,Worksheet!$A$11:$AE$41,P10+1,FALSE)))","v":""},{"$f":"IF('Entry Information'!$H131=\"\",\"\",'OPEN RESULTS'!R11)","v":""},{"$f":"IF('Entry Information'!$H131=\"\",\"\",IF('OPEN RESULTS'!S11=\"\",\"\",'OPEN RESULTS'!S11))","v":""},{"$f":"IF(S10=\"\",R10,(R10+(S10*0.001)))","v":""},{"$f":"IF('Entry Information'!$H131=\"\",\"\",IF('Entry Information'!V131=\"\",T10,T10-100))","v":""},{"$f":"IF(U10=\"\",\"\",(RANK(U10,$U$10:$U$39,0)))","v":""},{"$f":"IF($R10=\"\",\"\",(VLOOKUP($V$41,Worksheet!$A$11:$AE$41,V10+1,FALSE)))","v":""},{"$f":"IF('Entry Information'!$H131=\"\",\"\",'OPEN RESULTS'!X11)","v":""},{"$f":"IF('Entry Information'!$H131=\"\",\"\",IF('OPEN RESULTS'!Y11=\"\",\"\",'OPEN RESULTS'!Y11))","v":""},{"$f":"IF(Y10=\"\",X10,(X10+(Y10*0.001)))","v":""},{"$f":"IF('Entry Information'!$H131=\"\",\"\",IF('Entry Information'!X131=\"\",Z10,Z10-100))","v":""},{"$f":"IF(AA10=\"\",\"\",(RANK(AA10,$AA$10:$AA$39,0)))","v":""},{"$f":"IF($X10=\"\",\"\",(VLOOKUP($AB$41,Worksheet!$A$11:$AE$41,AB10+1,FALSE)))","v":""},{"$f":"IF('Entry Information'!$H131=\"\",\"\",'OPEN RESULTS'!AD11)","v":""},{"$f":"IF('Entry Information'!$H131=\"\",\"\",IF('OPEN RESULTS'!AE11=\"\",\"\",'OPEN RESULTS'!AE11))","v":""},{"$f":"IF(AE10=\"\",AD10,(AD10+(AE10*0.001)))","v":""},{"$f":"IF('Entry Information'!$H131=\"\",\"\",IF('Entry Information'!Z131=\"\",AF10,AF10-100))","v":""},{"$f":"IF(AG10=\"\",\"\",(RANK(AG10,$AG$10:$AG$39,0)))","v":""},{"$f":"IF($AD10=\"\",\"\",(VLOOKUP($AH$41,Worksheet!$A$11:$AE$41,AH10+1,FALSE)))","v":""}]
[{"$f":"IF('Entry Information'!H132=\"\",\"\",'Entry Information'!B132)","v":""},{"$f":"IF('Entry Information'!H132=\"\",\"\",'Entry Information'!C132)","v":""},{"$f":"IF('Entry Information'!H132=\"\",\"\",'Entry Information'!D132)","v":""},{"$f":"IF('Entry Information'!H132=\"\",\"\",'Entry Information'!E132)","v":""},"OPEN",{"$f":"IF('Entry Information'!$H132=\"\",\"\",'OPEN RESULTS'!F12)","v":""},{"$f":"IF('Entry Information'!$H132=\"\",\"\",IF('OPEN RESULTS'!G12=\"\",\"\",'OPEN RESULTS'!G12))","v":""},{"$f":"IF(G11=\"\",F11,(F11+(G11*0.001)))","v":""},{"$f":"IF('Entry Information'!$H132=\"\",\"\",IF('Entry Information'!R132=\"\",H11,H11-100))","v":""},{"$f":"IF(I11=\"\",\"\",(RANK(I11,$I$10:$I$39,0)))","v":""},{"$f":"IF($F11=\"\",\"\",(VLOOKUP($J$41,Worksheet!$A$11:$AE$41,J11+1,FALSE)))","v":""},{"$f":"IF('Entry Information'!$H132=\"\",\"\",'OPEN RESULTS'!L12)","v":""},{"$f":"IF('Entry Information'!$H132=\"\",\"\",IF('OPEN RESULTS'!M12=\"\",\"\",'OPEN RESULTS'!M12))","v":""},"",{"$f":"IF('Entry Information'!$H132=\"\",\"\",IF('Entry Information'!T132=\"\",N11,N11-100))","v":""},{"$f":"IF(O11=\"\",\"\",(RANK(O11,$O$10:$O$39,0)))","v":""},{"$f":"IF($L11=\"\",\"\",(VLOOKUP($P$41,Worksheet!$A$11:$AE$41,P11+1,FALSE)))","v":""},{"$f":"IF('Entry Information'!$H132=\"\",\"\",'OPEN RESULTS'!R12)","v":""},{"$f":"IF('Entry Information'!$H132=\"\",\"\",IF('OPEN RESULTS'!S12=\"\",\"\",'OPEN RESULTS'!S12))","v":""},{"$f":"IF(S11=\"\",R11,(R11+(S11*0.001)))","v":""},{"$f":"IF('Entry Information'!$H132=\"\",\"\",IF('Entry Information'!V132=\"\",T11,T11-100))","v":""},{"$f":"IF(T11=\"\",\"\",(RANK(T11,$T$10:$T$39,0)))","v":""},{"$f":"IF($R11=\"\",\"\",(VLOOKUP($V$41,Worksheet!$A$11:$AE$41,V11+1,FALSE)))","v":""},{"$f":"IF('Entry Information'!$H132=\"\",\"\",'OPEN RESULTS'!X12)","v":""},{"$f":"IF('Entry Information'!$H132=\"\",\"\",IF('OPEN RESULTS'!Y12=\"\",\"\",'OPEN RESULTS'!Y12))","v":""},{"$f":"IF(Y11=\"\",X11,(X11+(Y11*0.001)))","v":""},{"$f":"IF('Entry Information'!$H132=\"\",\"\",IF('Entry Information'!X132=\"\",Z11,Z11-100))","v":""},{"$f":"IF(AA11=\"\",\"\",(RANK(AA11,$AA$10:$AA$39,0)))","v":""},{"$f":"IF($X11=\"\",\"\",(VLOOKUP($AB$41,Worksheet!$A$11:$AE$41,AB11+1,FALSE)))","v":""},{"$f":"IF('Entry Information'!$H132=\"\",\"\",'OPEN RESULTS'!AD12)","v":""},{"$f":"IF('Entry Information'!$H132=\"\",\"\",IF('OPEN RESULTS'!AE12=\"\",\"\",'OPEN RESULTS'!AE12))","v":""},{"$f":"IF(AE11=\"\",AD11,(AD11+(AE11*0.001)))","v":""},{"$f":"IF('Entry Information'!$H132=\"\",\"\",IF('Entry Information'!Z132=\"\",AF11,AF11-100))","v":""},{"$f":"IF(AG11=\"\",\"\",(RANK(AG11,$AG$10:$AG$39,0)))","v":""},{"$f":"IF($AD11=\"\",\"\",(VLOOKUP($AH$41,Worksheet!$A$11:$AE$41,AH11+1,FALSE)))","v":""}]
[{"$f":"IF('Entry Information'!H133=\"\",\"\",'Entry Information'!B133)","v":""},{"$f":"IF('Entry Information'!H133=\"\",\"\",'Entry Information'!C133)","v":""},{"$f":"IF('Entry Information'!H133=\"\",\"\",'Entry Information'!D133)","v":""},{"$f":"IF('Entry Information'!H133=\"\",\"\",'Entry Information'!E133)","v":""},"OPEN",{"$f":"IF('Entry Information'!$H133=\"\",\"\",'OPEN RESULTS'!F13)","v":""},{"$f":"IF('Entry Information'!$H133=\"\",\"\",IF('OPEN RESULTS'!G13=\"\",\"\",'OPEN RESULTS'!G13))","v":""},"",{"$f":"IF('Entry Information'!$H133=\"\",\"\",IF('Entry Information'!R133=\"\",H12,H12-100))","v":""},"",{"$f":"IF($F12=\"\",\"\",(VLOOKUP($J$41,Worksheet!$A$11:$AE$41,J12+1,FALSE)))","v":""},{"$f":"IF('Entry Information'!$H133=\"\",\"\",'OPEN RESULTS'!L13)","v":""},{"$f":"IF('Entry Information'!$H133=\"\",\"\",IF('OPEN RESULTS'!M13=\"\",\"\",'OPEN RESULTS'!M13))","v":""},"",{"$f":"IF('Entry Information'!$H133=\"\",\"\",IF('Entry Information'!T133=\"\",N12,N12-100))","v":""},"",{"$f":"IF($L12=\"\",\"\",(VLOOKUP($P$41,Worksheet!$A$11:$AE$41,P12+1,FALSE)))","v":""},{"$f":"IF('Entry Information'!$H133=\"\",\"\",'OPEN RESULTS'!R13)","v":""},{"$f":"IF('Entry Information'!$H133=\"\",\"\",IF('OPEN RESULTS'!S13=\"\",\"\",'OPEN RESULTS'!S13))","v":""},"",{"$f":"IF('Entry Information'!$H133=\"\",\"\",IF('Entry Information'!V133=\"\",T12,T12-100))","v":""},"",{"$f":"IF($R12=\"\",\"\",(VLOOKUP($V$41,Worksheet!$A$11:$AE$41,V12+1,FALSE)))","v":""},{"$f":"IF('Entry Information'!$H133=\"\",\"\",'OPEN RESULTS'!X13)","v":""},{"$f":"IF('Entry Information'!$H133=\"\",\"\",IF('OPEN RESULTS'!Y13=\"\",\"\",'OPEN RESULTS'!Y13))","v":""},"",{"$f":"IF('Entry Information'!$H133=\"\",\"\",IF('Entry Information'!X133=\"\",Z12,Z12-100))","v":""},"",{"$f":"IF($X12=\"\",\"\",(VLOOKUP($AB$41,Worksheet!$A$11:$AE$41,AB12+1,FALSE)))","v":""},{"$f":"IF('Entry Information'!$H133=\"\",\"\",'OPEN RESULTS'!AD13)","v":""},{"$f":"IF('Entry Information'!$H133=\"\",\"\",IF('OPEN RESULTS'!AE13=\"\",\"\",'OPEN RESULTS'!AE13))","v":""},"",{"$f":"IF('Entry Information'!$H133=\"\",\"\",IF('Entry Information'!Z133=\"\",AF12,AF12-100))","v":""},"",{"$f":"IF($AD12=\"\",\"\",(VLOOKUP($AH$41,Worksheet!$A$11:$AE$41,AH12+1,FALSE)))","v":""}]
[{"$f":"IF('Entry Information'!H134=\"\",\"\",'Entry Information'!B134)","v":""},{"$f":"IF('Entry Information'!H134=\"\",\"\",'Entry Information'!C134)","v":""},{"$f":"IF('Entry Information'!H134=\"\",\"\",'Entry Information'!D134)","v":""},{"$f":"IF('Entry Information'!H134=\"\",\"\",'Entry Information'!E134)","v":""},"OPEN",{"$f":"IF('Entry Information'!$H134=\"\",\"\",'OPEN RESULTS'!F14)","v":""},{"$f":"IF('Entry Information'!$H134=\"\",\"\",IF('OPEN RESULTS'!G14=\"\",\"\",'OPEN RESULTS'!G14))","v":""},"",{"$f":"IF('Entry Information'!$H134=\"\",\"\",IF('Entry Information'!R134=\"\",H13,H13-100))","v":""},"",{"$f":"IF($F13=\"\",\"\",(VLOOKUP($J$41,Worksheet!$A$11:$AE$41,J13+1,FALSE)))","v":""},{"$f":"IF('Entry Information'!$H134=\"\",\"\",'OPEN RESULTS'!L14)","v":""},{"$f":"IF('Entry Information'!$H134=\"\",\"\",IF('OPEN RESULTS'!M14=\"\",\"\",'OPEN RESULTS'!M14))","v":""},"",{"$f":"IF('Entry Information'!$H134=\"\",\"\",IF('Entry Information'!T134=\"\",N13,N13-100))","v":""},"",{"$f":"IF($L13=\"\",\"\",(VLOOKUP($P$41,Worksheet!$A$11:$AE$41,P13+1,FALSE)))","v":""},{"$f":"IF('Entry Information'!$H134=\"\",\"\",'OPEN RESULTS'!R14)","v":""},{"$f":"IF('Entry Information'!$H134=\"\",\"\",IF('OPEN RESULTS'!S14=\"\",\"\",'OPEN RESULTS'!S14))","v":""},"",{"$f":"IF('Entry Information'!$H134=\"\",\"\",IF('Entry Information'!V134=\"\",T13,T13-100))","v":""},"",{"$f":"IF($R13=\"\",\"\",(VLOOKUP($V$41,Worksheet!$A$11:$AE$41,V13+1,FALSE)))","v":""},{"$f":"IF('Entry Information'!$H134=\"\",\"\",'OPEN RESULTS'!X14)","v":""},{"$f":"IF('Entry Information'!$H134=\"\",\"\",IF('OPEN RESULTS'!Y14=\"\",\"\",'OPEN RESULTS'!Y14))","v":""},"",{"$f":"IF('Entry Information'!$H134=\"\",\"\",IF('Entry Information'!X134=\"\",Z13,Z13-100))","v":""},"",{"$f":"IF($X13=\"\",\"\",(VLOOKUP($AB$41,Worksheet!$A$11:$AE$41,AB13+1,FALSE)))","v":""},{"$f":"IF('Entry Information'!$H134=\"\",\"\",'OPEN RESULTS'!AD14)","v":""},{"$f":"IF('Entry Information'!$H134=\"\",\"\",IF('OPEN RESULTS'!AE14=\"\",\"\",'OPEN RESULTS'!AE14))","v":""},"",{"$f":"IF('Entry Information'!$H134=\"\",\"\",IF('Entry Information'!Z134=\"\",AF13,AF13-100))","v":""},"",{"$f":"IF($AD13=\"\",\"\",(VLOOKUP($AH$41,Worksheet!$A$11:$AE$41,AH13+1,FALSE)))","v":""}]
[{"$f":"IF('Entry Information'!H135=\"\",\"\",'Entry Information'!B135)","v":""},{"$f":"IF('Entry Information'!H135=\"\",\"\",'Entry Information'!C135)","v":""},{"$f":"IF('Entry Information'!H135=\"\",\"\",'Entry Information'!D135)","v":""},{"$f":"IF('Entry Information'!H135=\"\",\"\",'Entry Information'!E135)","v":""},"OPEN",{"$f":"IF('Entry Information'!$H135=\"\",\"\",'OPEN RESULTS'!F15)","v":""},{"$f":"IF('Entry Information'!$H135=\"\",\"\",IF('OPEN RESULTS'!G15=\"\",\"\",'OPEN RESULTS'!G15))","v":""},"",{"$f":"IF('Entry Information'!$H135=\"\",\"\",IF('Entry Information'!R135=\"\",H14,H14-100))","v":""},"",{"$f":"IF($F14=\"\",\"\",(VLOOKUP($J$41,Worksheet!$A$11:$AE$41,J14+1,FALSE)))","v":""},{"$f":"IF('Entry Information'!$H135=\"\",\"\",'OPEN RESULTS'!L15)","v":""},{"$f":"IF('Entry Information'!$H135=\"\",\"\",IF('OPEN RESULTS'!M15=\"\",\"\",'OPEN RESULTS'!M15))","v":""},"",{"$f":"IF('Entry Information'!$H135=\"\",\"\",IF('Entry Information'!T135=\"\",N14,N14-100))","v":""},"",{"$f":"IF($L14=\"\",\"\",(VLOOKUP($P$41,Worksheet!$A$11:$AE$41,P14+1,FALSE)))","v":""},{"$f":"IF('Entry Information'!$H135=\"\",\"\",'OPEN RESULTS'!R15)","v":""},{"$f":"IF('Entry Information'!$H135=\"\",\"\",IF('OPEN RESULTS'!S15=\"\",\"\",'OPEN RESULTS'!S15))","v":""},"",{"$f":"IF('Entry Information'!$H135=\"\",\"\",IF('Entry Information'!V135=\"\",T14,T14-100))","v":""},"",{"$f":"IF($R14=\"\",\"\",(VLOOKUP($V$41,Worksheet!$A$11:$AE$41,V14+1,FALSE)))","v":""},{"$f":"IF('Entry Information'!$H135=\"\",\"\",'OPEN RESULTS'!X15)","v":""},{"$f":"IF('Entry Information'!$H135=\"\",\"\",IF('OPEN RESULTS'!Y15=\"\",\"\",'OPEN RESULTS'!Y15))","v":""},"",{"$f":"IF('Entry Information'!$H135=\"\",\"\",IF('Entry Information'!X135=\"\",Z14,Z14-100))","v":""},"",{"$f":"IF($X14=\"\",\"\",(VLOOKUP($AB$41,Worksheet!$A$11:$AE$41,AB14+1,FALSE)))","v":""},{"$f":"IF('Entry Information'!$H135=\"\",\"\",'OPEN RESULTS'!AD15)","v":""},{"$f":"IF('Entry Information'!$H135=\"\",\"\",IF('OPEN RESULTS'!AE15=\"\",\"\",'OPEN RESULTS'!AE15))","v":""},"",{"$f":"IF('Entry Information'!$H135=\"\",\"\",IF('Entry Information'!Z135=\"\",AF14,AF14-100))","v":""},"",{"$f":"IF($AD14=\"\",\"\",(VLOOKUP($AH$41,Worksheet!$A$11:$AE$41,AH14+1,FALSE)))","v":""}]
[{"$f":"IF('Entry Information'!H136=\"\",\"\",'Entry Information'!B136)","v":""},{"$f":"IF('Entry Information'!H136=\"\",\"\",'Entry Information'!C136)","v":""},{"$f":"IF('Entry Information'!H136=\"\",\"\",'Entry Information'!D136)","v":""},{"$f":"IF('Entry Information'!H136=\"\",\"\",'Entry Information'!E136)","v":""},"OPEN",{"$f":"IF('Entry Information'!$H136=\"\",\"\",'OPEN RESULTS'!F16)","v":""},{"$f":"IF('Entry Information'!$H136=\"\",\"\",IF('OPEN RESULTS'!G16=\"\",\"\",'OPEN RESULTS'!G16))","v":""},"",{"$f":"IF('Entry Information'!$H136=\"\",\"\",IF('Entry Information'!R136=\"\",H15,H15-100))","v":""},"",{"$f":"IF($F15=\"\",\"\",(VLOOKUP($J$41,Worksheet!$A$11:$AE$41,J15+1,FALSE)))","v":""},{"$f":"IF('Entry Information'!$H136=\"\",\"\",'OPEN RESULTS'!L16)","v":""},{"$f":"IF('Entry Information'!$H136=\"\",\"\",IF('OPEN RESULTS'!M16=\"\",\"\",'OPEN RESULTS'!M16))","v":""},"",{"$f":"IF('Entry Information'!$H136=\"\",\"\",IF('Entry Information'!T136=\"\",N15,N15-100))","v":""},"",{"$f":"IF($L15=\"\",\"\",(VLOOKUP($P$41,Worksheet!$A$11:$AE$41,P15+1,FALSE)))","v":""},{"$f":"IF('Entry Information'!$H136=\"\",\"\",'OPEN RESULTS'!R16)","v":""},{"$f":"IF('Entry Information'!$H136=\"\",\"\",IF('OPEN RESULTS'!S16=\"\",\"\",'OPEN RESULTS'!S16))","v":""},"",{"$f":"IF('Entry Information'!$H136=\"\",\"\",IF('Entry Information'!V136=\"\",T15,T15-100))","v":""},"",{"$f":"IF($R15=\"\",\"\",(VLOOKUP($V$41,Worksheet!$A$11:$AE$41,V15+1,FALSE)))","v":""},{"$f":"IF('Entry Information'!$H136=\"\",\"\",'OPEN RESULTS'!X16)","v":""},{"$f":"IF('Entry Information'!$H136=\"\",\"\",IF('OPEN RESULTS'!Y16=\"\",\"\",'OPEN RESULTS'!Y16))","v":""},"",{"$f":"IF('Entry Information'!$H136=\"\",\"\",IF('Entry Information'!X136=\"\",Z15,Z15-100))","v":""},"",{"$f":"IF($X15=\"\",\"\",(VLOOKUP($AB$41,Worksheet!$A$11:$AE$41,AB15+1,FALSE)))","v":""},{"$f":"IF('Entry Information'!$H136=\"\",\"\",'OPEN RESULTS'!AD16)","v":""},{"$f":"IF('Entry Information'!$H136=\"\",\"\",IF('OPEN RESULTS'!AE16=\"\",\"\",'OPEN RESULTS'!AE16))","v":""},"",{"$f":"IF('Entry Information'!$H136=\"\",\"\",IF('Entry Information'!Z136=\"\",AF15,AF15-100))","v":""},"",{"$f":"IF($AD15=\"\",\"\",(VLOOKUP($AH$41,Worksheet!$A$11:$AE$41,AH15+1,FALSE)))","v":""}]
[{"$f":"IF('Entry Information'!H137=\"\",\"\",'Entry Information'!B137)","v":""},{"$f":"IF('Entry Information'!H137=\"\",\"\",'Entry Information'!C137)","v":""},{"$f":"IF('Entry Information'!H137=\"\",\"\",'Entry Information'!D137)","v":""},{"$f":"IF('Entry Information'!H137=\"\",\"\",'Entry Information'!E137)","v":""},"OPEN",{"$f":"IF('Entry Information'!$H137=\"\",\"\",'OPEN RESULTS'!F17)","v":""},{"$f":"IF('Entry Information'!$H137=\"\",\"\",IF('OPEN RESULTS'!G17=\"\",\"\",'OPEN RESULTS'!G17))","v":""},"",{"$f":"IF('Entry Information'!$H137=\"\",\"\",IF('Entry Information'!R137=\"\",H16,H16-100))","v":""},"",{"$f":"IF($F16=\"\",\"\",(VLOOKUP($J$41,Worksheet!$A$11:$AE$41,J16+1,FALSE)))","v":""},{"$f":"IF('Entry Information'!$H137=\"\",\"\",'OPEN RESULTS'!L17)","v":""},{"$f":"IF('Entry Information'!$H137=\"\",\"\",IF('OPEN RESULTS'!M17=\"\",\"\",'OPEN RESULTS'!M17))","v":""},"",{"$f":"IF('Entry Information'!$H137=\"\",\"\",IF('Entry Information'!T137=\"\",N16,N16-100))","v":""},"",{"$f":"IF($L16=\"\",\"\",(VLOOKUP($P$41,Worksheet!$A$11:$AE$41,P16+1,FALSE)))","v":""},{"$f":"IF('Entry Information'!$H137=\"\",\"\",'OPEN RESULTS'!R17)","v":""},{"$f":"IF('Entry Information'!$H137=\"\",\"\",IF('OPEN RESULTS'!S17=\"\",\"\",'OPEN RESULTS'!S17))","v":""},"",{"$f":"IF('Entry Information'!$H137=\"\",\"\",IF('Entry Information'!V137=\"\",T16,T16-100))","v":""},"",{"$f":"IF($R16=\"\",\"\",(VLOOKUP($V$41,Worksheet!$A$11:$AE$41,V16+1,FALSE)))","v":""},{"$f":"IF('Entry Information'!$H137=\"\",\"\",'OPEN RESULTS'!X17)","v":""},{"$f":"IF('Entry Information'!$H137=\"\",\"\",IF('OPEN RESULTS'!Y17=\"\",\"\",'OPEN RESULTS'!Y17))","v":""},"",{"$f":"IF('Entry Information'!$H137=\"\",\"\",IF('Entry Information'!X137=\"\",Z16,Z16-100))","v":""},"",{"$f":"IF($X16=\"\",\"\",(VLOOKUP($AB$41,Worksheet!$A$11:$AE$41,AB16+1,FALSE)))","v":""},{"$f":"IF('Entry Information'!$H137=\"\",\"\",'OPEN RESULTS'!AD17)","v":""},{"$f":"IF('Entry Information'!$H137=\"\",\"\",IF('OPEN RESULTS'!AE17=\"\",\"\",'OPEN RESULTS'!AE17))","v":""},"",{"$f":"IF('Entry Information'!$H137=\"\",\"\",IF('Entry Information'!Z137=\"\",AF16,AF16-100))","v":""},"",{"$f":"IF($AD16=\"\",\"\",(VLOOKUP($AH$41,Worksheet!$A$11:$AE$41,AH16+1,FALSE)))","v":""}]
[{"$f":"IF('Entry Information'!H138=\"\",\"\",'Entry Information'!B138)","v":""},{"$f":"IF('Entry Information'!H138=\"\",\"\",'Entry Information'!C138)","v":""},{"$f":"IF('Entry Information'!H138=\"\",\"\",'Entry Information'!D138)","v":""},{"$f":"IF('Entry Information'!H138=\"\",\"\",'Entry Information'!E138)","v":""},"OPEN",{"$f":"IF('Entry Information'!$H138=\"\",\"\",'OPEN RESULTS'!F18)","v":""},{"$f":"IF('Entry Information'!$H138=\"\",\"\",IF('OPEN RESULTS'!G18=\"\",\"\",'OPEN RESULTS'!G18))","v":""},"",{"$f":"IF('Entry Information'!$H138=\"\",\"\",IF('Entry Information'!R138=\"\",H17,H17-100))","v":""},"",{"$f":"IF($F17=\"\",\"\",(VLOOKUP($J$41,Worksheet!$A$11:$AE$41,J17+1,FALSE)))","v":""},{"$f":"IF('Entry Information'!$H138=\"\",\"\",'OPEN RESULTS'!L18)","v":""},{"$f":"IF('Entry Information'!$H138=\"\",\"\",IF('OPEN RESULTS'!M18=\"\",\"\",'OPEN RESULTS'!M18))","v":""},"",{"$f":"IF('Entry Information'!$H138=\"\",\"\",IF('Entry Information'!T138=\"\",N17,N17-100))","v":""},"",{"$f":"IF($L17=\"\",\"\",(VLOOKUP($P$41,Worksheet!$A$11:$AE$41,P17+1,FALSE)))","v":""},{"$f":"IF('Entry Information'!$H138=\"\",\"\",'OPEN RESULTS'!R18)","v":""},{"$f":"IF('Entry Information'!$H138=\"\",\"\",IF('OPEN RESULTS'!S18=\"\",\"\",'OPEN RESULTS'!S18))","v":""},"",{"$f":"IF('Entry Information'!$H138=\"\",\"\",IF('Entry Information'!V138=\"\",T17,T17-100))","v":""},"",{"$f":"IF($R17=\"\",\"\",(VLOOKUP($V$41,Worksheet!$A$11:$AE$41,V17+1,FALSE)))","v":""},{"$f":"IF('Entry Information'!$H138=\"\",\"\",'OPEN RESULTS'!X18)","v":""},{"$f":"IF('Entry Information'!$H138=\"\",\"\",IF('OPEN RESULTS'!Y18=\"\",\"\",'OPEN RESULTS'!Y18))","v":""},"",{"$f":"IF('Entry Information'!$H138=\"\",\"\",IF('Entry Information'!X138=\"\",Z17,Z17-100))","v":""},"",{"$f":"IF($X17=\"\",\"\",(VLOOKUP($AB$41,Worksheet!$A$11:$AE$41,AB17+1,FALSE)))","v":""},{"$f":"IF('Entry Information'!$H138=\"\",\"\",'OPEN RESULTS'!AD18)","v":""},{"$f":"IF('Entry Information'!$H138=\"\",\"\",IF('OPEN RESULTS'!AE18=\"\",\"\",'OPEN RESULTS'!AE18))","v":""},"",{"$f":"IF('Entry Information'!$H138=\"\",\"\",IF('Entry Information'!Z138=\"\",AF17,AF17-100))","v":""},"",{"$f":"IF($AD17=\"\",\"\",(VLOOKUP($AH$41,Worksheet!$A$11:$AE$41,AH17+1,FALSE)))","v":""}]
[{"$f":"IF('Entry Information'!H139=\"\",\"\",'Entry Information'!B139)","v":""},{"$f":"IF('Entry Information'!H139=\"\",\"\",'Entry Information'!C139)","v":""},{"$f":"IF('Entry Information'!H139=\"\",\"\",'Entry Information'!D139)","v":""},{"$f":"IF('Entry Information'!H139=\"\",\"\",'Entry Information'!E139)","v":""},"OPEN",{"$f":"IF('Entry Information'!$H139=\"\",\"\",'OPEN RESULTS'!F19)","v":""},{"$f":"IF('Entry Information'!$H139=\"\",\"\",IF('OPEN RESULTS'!G19=\"\",\"\",'OPEN RESULTS'!G19))","v":""},"",{"$f":"IF('Entry Information'!$H139=\"\",\"\",IF('Entry Information'!R139=\"\",H18,H18-100))","v":""},"",{"$f":"IF($F18=\"\",\"\",(VLOOKUP($J$41,Worksheet!$A$11:$AE$41,J18+1,FALSE)))","v":""},{"$f":"IF('Entry Information'!$H139=\"\",\"\",'OPEN RESULTS'!L19)","v":""},{"$f":"IF('Entry Information'!$H139=\"\",\"\",IF('OPEN RESULTS'!M19=\"\",\"\",'OPEN RESULTS'!M19))","v":""},"",{"$f":"IF('Entry Information'!$H139=\"\",\"\",IF('Entry Information'!T139=\"\",N18,N18-100))","v":""},"",{"$f":"IF($L18=\"\",\"\",(VLOOKUP($P$41,Worksheet!$A$11:$AE$41,P18+1,FALSE)))","v":""},{"$f":"IF('Entry Information'!$H139=\"\",\"\",'OPEN RESULTS'!R19)","v":""},{"$f":"IF('Entry Information'!$H139=\"\",\"\",IF('OPEN RESULTS'!S19=\"\",\"\",'OPEN RESULTS'!S19))","v":""},"",{"$f":"IF('Entry Information'!$H139=\"\",\"\",IF('Entry Information'!V139=\"\",T18,T18-100))","v":""},"",{"$f":"IF($R18=\"\",\"\",(VLOOKUP($V$41,Worksheet!$A$11:$AE$41,V18+1,FALSE)))","v":""},{"$f":"IF('Entry Information'!$H139=\"\",\"\",'OPEN RESULTS'!X19)","v":""},{"$f":"IF('Entry Information'!$H139=\"\",\"\",IF('OPEN RESULTS'!Y19=\"\",\"\",'OPEN RESULTS'!Y19))","v":""},"",{"$f":"IF('Entry Information'!$H139=\"\",\"\",IF('Entry Information'!X139=\"\",Z18,Z18-100))","v":""},"",{"$f":"IF($X18=\"\",\"\",(VLOOKUP($AB$41,Worksheet!$A$11:$AE$41,AB18+1,FALSE)))","v":""},{"$f":"IF('Entry Information'!$H139=\"\",\"\",'OPEN RESULTS'!AD19)","v":""},{"$f":"IF('Entry Information'!$H139=\"\",\"\",IF('OPEN RESULTS'!AE19=\"\",\"\",'OPEN RESULTS'!AE19))","v":""},"",{"$f":"IF('Entry Information'!$H139=\"\",\"\",IF('Entry Information'!Z139=\"\",AF18,AF18-100))","v":""},"",{"$f":"IF($AD18=\"\",\"\",(VLOOKUP($AH$41,Worksheet!$A$11:$AE$41,AH18+1,FALSE)))","v":""}]
[{"$f":"IF('Entry Information'!H140=\"\",\"\",'Entry Information'!B140)","v":""},{"$f":"IF('Entry Information'!H140=\"\",\"\",'Entry Information'!C140)","v":""},{"$f":"IF('Entry Information'!H140=\"\",\"\",'Entry Information'!D140)","v":""},{"$f":"IF('Entry Information'!H140=\"\",\"\",'Entry Information'!E140)","v":""},"OPEN",{"$f":"IF('Entry Information'!$H140=\"\",\"\",'OPEN RESULTS'!F20)","v":""},{"$f":"IF('Entry Information'!$H140=\"\",\"\",IF('OPEN RESULTS'!G20=\"\",\"\",'OPEN RESULTS'!G20))","v":""},"",{"$f":"IF('Entry Information'!$H140=\"\",\"\",IF('Entry Information'!R140=\"\",H19,H19-100))","v":""},"",{"$f":"IF($F19=\"\",\"\",(VLOOKUP($J$41,Worksheet!$A$11:$AE$41,J19+1,FALSE)))","v":""},{"$f":"IF('Entry Information'!$H140=\"\",\"\",'OPEN RESULTS'!L20)","v":""},{"$f":"IF('Entry Information'!$H140=\"\",\"\",IF('OPEN RESULTS'!M20=\"\",\"\",'OPEN RESULTS'!M20))","v":""},"",{"$f":"IF('Entry Information'!$H140=\"\",\"\",IF('Entry Information'!T140=\"\",N19,N19-100))","v":""},"",{"$f":"IF($L19=\"\",\"\",(VLOOKUP($P$41,Worksheet!$A$11:$AE$41,P19+1,FALSE)))","v":""},{"$f":"IF('Entry Information'!$H140=\"\",\"\",'OPEN RESULTS'!R20)","v":""},{"$f":"IF('Entry Information'!$H140=\"\",\"\",IF('OPEN RESULTS'!S20=\"\",\"\",'OPEN RESULTS'!S20))","v":""},"",{"$f":"IF('Entry Information'!$H140=\"\",\"\",IF('Entry Information'!V140=\"\",T19,T19-100))","v":""},"",{"$f":"IF($R19=\"\",\"\",(VLOOKUP($V$41,Worksheet!$A$11:$AE$41,V19+1,FALSE)))","v":""},{"$f":"IF('Entry Information'!$H140=\"\",\"\",'OPEN RESULTS'!X20)","v":""},{"$f":"IF('Entry Information'!$H140=\"\",\"\",IF('OPEN RESULTS'!Y20=\"\",\"\",'OPEN RESULTS'!Y20))","v":""},"",{"$f":"IF('Entry Information'!$H140=\"\",\"\",IF('Entry Information'!X140=\"\",Z19,Z19-100))","v":""},"",{"$f":"IF($X19=\"\",\"\",(VLOOKUP($AB$41,Worksheet!$A$11:$AE$41,AB19+1,FALSE)))","v":""},{"$f":"IF('Entry Information'!$H140=\"\",\"\",'OPEN RESULTS'!AD20)","v":""},{"$f":"IF('Entry Information'!$H140=\"\",\"\",IF('OPEN RESULTS'!AE20=\"\",\"\",'OPEN RESULTS'!AE20))","v":""},"",{"$f":"IF('Entry Information'!$H140=\"\",\"\",IF('Entry Information'!Z140=\"\",AF19,AF19-100))","v":""},"",{"$f":"IF($AD19=\"\",\"\",(VLOOKUP($AH$41,Worksheet!$A$11:$AE$41,AH19+1,FALSE)))","v":""}]
[{"$f":"IF('Entry Information'!H141=\"\",\"\",'Entry Information'!B141)","v":""},{"$f":"IF('Entry Information'!H141=\"\",\"\",'Entry Information'!C141)","v":""},{"$f":"IF('Entry Information'!H141=\"\",\"\",'Entry Information'!D141)","v":""},{"$f":"IF('Entry Information'!H141=\"\",\"\",'Entry Information'!E141)","v":""},"OPEN",{"$f":"IF('Entry Information'!$H141=\"\",\"\",'OPEN RESULTS'!F21)","v":""},{"$f":"IF('Entry Information'!$H141=\"\",\"\",IF('OPEN RESULTS'!G21=\"\",\"\",'OPEN RESULTS'!G21))","v":""},"",{"$f":"IF('Entry Information'!$H141=\"\",\"\",IF('Entry Information'!R141=\"\",H20,H20-100))","v":""},"",{"$f":"IF($F20=\"\",\"\",(VLOOKUP($J$41,Worksheet!$A$11:$AE$41,J20+1,FALSE)))","v":""},{"$f":"IF('Entry Information'!$H141=\"\",\"\",'OPEN RESULTS'!L21)","v":""},{"$f":"IF('Entry Information'!$H141=\"\",\"\",IF('OPEN RESULTS'!M21=\"\",\"\",'OPEN RESULTS'!M21))","v":""},"",{"$f":"IF('Entry Information'!$H141=\"\",\"\",IF('Entry Information'!T141=\"\",N20,N20-100))","v":""},"",{"$f":"IF($L20=\"\",\"\",(VLOOKUP($P$41,Worksheet!$A$11:$AE$41,P20+1,FALSE)))","v":""},{"$f":"IF('Entry Information'!$H141=\"\",\"\",'OPEN RESULTS'!R21)","v":""},{"$f":"IF('Entry Information'!$H141=\"\",\"\",IF('OPEN RESULTS'!S21=\"\",\"\",'OPEN RESULTS'!S21))","v":""},"",{"$f":"IF('Entry Information'!$H141=\"\",\"\",IF('Entry Information'!V141=\"\",T20,T20-100))","v":""},"",{"$f":"IF($R20=\"\",\"\",(VLOOKUP($V$41,Worksheet!$A$11:$AE$41,V20+1,FALSE)))","v":""},{"$f":"IF('Entry Information'!$H141=\"\",\"\",'OPEN RESULTS'!X21)","v":""},{"$f":"IF('Entry Information'!$H141=\"\",\"\",IF('OPEN RESULTS'!Y21=\"\",\"\",'OPEN RESULTS'!Y21))","v":""},"",{"$f":"IF('Entry Information'!$H141=\"\",\"\",IF('Entry Information'!X141=\"\",Z20,Z20-100))","v":""},"",{"$f":"IF($X20=\"\",\"\",(VLOOKUP($AB$41,Worksheet!$A$11:$AE$41,AB20+1,FALSE)))","v":""},{"$f":"IF('Entry Information'!$H141=\"\",\"\",'OPEN RESULTS'!AD21)","v":""},{"$f":"IF('Entry Information'!$H141=\"\",\"\",IF('OPEN RESULTS'!AE21=\"\",\"\",'OPEN RESULTS'!AE21))","v":""},"",{"$f":"IF('Entry Information'!$H141=\"\",\"\",IF('Entry Information'!Z141=\"\",AF20,AF20-100))","v":""},"",{"$f":"IF($AD20=\"\",\"\",(VLOOKUP($AH$41,Worksheet!$A$11:$AE$41,AH20+1,FALSE)))","v":""}]
[{"$f":"IF('Entry Information'!H142=\"\",\"\",'Entry Information'!B142)","v":""},{"$f":"IF('Entry Information'!H142=\"\",\"\",'Entry Information'!C142)","v":""},{"$f":"IF('Entry Information'!H142=\"\",\"\",'Entry Information'!D142)","v":""},{"$f":"IF('Entry Information'!H142=\"\",\"\",'Entry Information'!E142)","v":""},"OPEN",{"$f":"IF('Entry Information'!$H142=\"\",\"\",'OPEN RESULTS'!F22)","v":""},{"$f":"IF('Entry Information'!$H142=\"\",\"\",IF('OPEN RESULTS'!G22=\"\",\"\",'OPEN RESULTS'!G22))","v":""},"",{"$f":"IF('Entry Information'!$H142=\"\",\"\",IF('Entry Information'!R142=\"\",H21,H21-100))","v":""},"",{"$f":"IF($F21=\"\",\"\",(VLOOKUP($J$41,Worksheet!$A$11:$AE$41,J21+1,FALSE)))","v":""},{"$f":"IF('Entry Information'!$H142=\"\",\"\",'OPEN RESULTS'!L22)","v":""},{"$f":"IF('Entry Information'!$H142=\"\",\"\",IF('OPEN RESULTS'!M22=\"\",\"\",'OPEN RESULTS'!M22))","v":""},"",{"$f":"IF('Entry Information'!$H142=\"\",\"\",IF('Entry Information'!T142=\"\",N21,N21-100))","v":""},"",{"$f":"IF($L21=\"\",\"\",(VLOOKUP($P$41,Worksheet!$A$11:$AE$41,P21+1,FALSE)))","v":""},{"$f":"IF('Entry Information'!$H142=\"\",\"\",'OPEN RESULTS'!R22)","v":""},{"$f":"IF('Entry Information'!$H142=\"\",\"\",IF('OPEN RESULTS'!S22=\"\",\"\",'OPEN RESULTS'!S22))","v":""},"",{"$f":"IF('Entry Information'!$H142=\"\",\"\",IF('Entry Information'!V142=\"\",T21,T21-100))","v":""},"",{"$f":"IF($R21=\"\",\"\",(VLOOKUP($V$41,Worksheet!$A$11:$AE$41,V21+1,FALSE)))","v":""},{"$f":"IF('Entry Information'!$H142=\"\",\"\",'OPEN RESULTS'!X22)","v":""},{"$f":"IF('Entry Information'!$H142=\"\",\"\",IF('OPEN RESULTS'!Y22=\"\",\"\",'OPEN RESULTS'!Y22))","v":""},"",{"$f":"IF('Entry Information'!$H142=\"\",\"\",IF('Entry Information'!X142=\"\",Z21,Z21-100))","v":""},"",{"$f":"IF($X21=\"\",\"\",(VLOOKUP($AB$41,Worksheet!$A$11:$AE$41,AB21+1,FALSE)))","v":""},{"$f":"IF('Entry Information'!$H142=\"\",\"\",'OPEN RESULTS'!AD22)","v":""},{"$f":"IF('Entry Information'!$H142=\"\",\"\",IF('OPEN RESULTS'!AE22=\"\",\"\",'OPEN RESULTS'!AE22))","v":""},"",{"$f":"IF('Entry Information'!$H142=\"\",\"\",IF('Entry Information'!Z142=\"\",AF21,AF21-100))","v":""},"",{"$f":"IF($AD21=\"\",\"\",(VLOOKUP($AH$41,Worksheet!$A$11:$AE$41,AH21+1,FALSE)))","v":""}]
[{"$f":"IF('Entry Information'!H143=\"\",\"\",'Entry Information'!B143)","v":""},{"$f":"IF('Entry Information'!H143=\"\",\"\",'Entry Information'!C143)","v":""},{"$f":"IF('Entry Information'!H143=\"\",\"\",'Entry Information'!D143)","v":""},{"$f":"IF('Entry Information'!H143=\"\",\"\",'Entry Information'!E143)","v":""},"OPEN",{"$f":"IF('Entry Information'!$H143=\"\",\"\",'OPEN RESULTS'!F23)","v":""},{"$f":"IF('Entry Information'!$H143=\"\",\"\",IF('OPEN RESULTS'!G23=\"\",\"\",'OPEN RESULTS'!G23))","v":""},"",{"$f":"IF('Entry Information'!$H143=\"\",\"\",IF('Entry Information'!R143=\"\",H22,H22-100))","v":""},"",{"$f":"IF($F22=\"\",\"\",(VLOOKUP($J$41,Worksheet!$A$11:$AE$41,J22+1,FALSE)))","v":""},{"$f":"IF('Entry Information'!$H143=\"\",\"\",'OPEN RESULTS'!L23)","v":""},{"$f":"IF('Entry Information'!$H143=\"\",\"\",IF('OPEN RESULTS'!M23=\"\",\"\",'OPEN RESULTS'!M23))","v":""},"",{"$f":"IF('Entry Information'!$H143=\"\",\"\",IF('Entry Information'!T143=\"\",N22,N22-100))","v":""},"",{"$f":"IF($L22=\"\",\"\",(VLOOKUP($P$41,Worksheet!$A$11:$AE$41,P22+1,FALSE)))","v":""},{"$f":"IF('Entry Information'!$H143=\"\",\"\",'OPEN RESULTS'!R23)","v":""},{"$f":"IF('Entry Information'!$H143=\"\",\"\",IF('OPEN RESULTS'!S23=\"\",\"\",'OPEN RESULTS'!S23))","v":""},"",{"$f":"IF('Entry Information'!$H143=\"\",\"\",IF('Entry Information'!V143=\"\",T22,T22-100))","v":""},"",{"$f":"IF($R22=\"\",\"\",(VLOOKUP($V$41,Worksheet!$A$11:$AE$41,V22+1,FALSE)))","v":""},{"$f":"IF('Entry Information'!$H143=\"\",\"\",'OPEN RESULTS'!X23)","v":""},{"$f":"IF('Entry Information'!$H143=\"\",\"\",IF('OPEN RESULTS'!Y23=\"\",\"\",'OPEN RESULTS'!Y23))","v":""},"",{"$f":"IF('Entry Information'!$H143=\"\",\"\",IF('Entry Information'!X143=\"\",Z22,Z22-100))","v":""},"",{"$f":"IF($X22=\"\",\"\",(VLOOKUP($AB$41,Worksheet!$A$11:$AE$41,AB22+1,FALSE)))","v":""},{"$f":"IF('Entry Information'!$H143=\"\",\"\",'OPEN RESULTS'!AD23)","v":""},{"$f":"IF('Entry Information'!$H143=\"\",\"\",IF('OPEN RESULTS'!AE23=\"\",\"\",'OPEN RESULTS'!AE23))","v":""},"",{"$f":"IF('Entry Information'!$H143=\"\",\"\",IF('Entry Information'!Z143=\"\",AF22,AF22-100))","v":""},"",{"$f":"IF($AD22=\"\",\"\",(VLOOKUP($AH$41,Worksheet!$A$11:$AE$41,AH22+1,FALSE)))","v":""}]
[{"$f":"IF('Entry Information'!H144=\"\",\"\",'Entry Information'!B144)","v":""},{"$f":"IF('Entry Information'!H144=\"\",\"\",'Entry Information'!C144)","v":""},{"$f":"IF('Entry Information'!H144=\"\",\"\",'Entry Information'!D144)","v":""},{"$f":"IF('Entry Information'!H144=\"\",\"\",'Entry Information'!E144)","v":""},"OPEN",{"$f":"IF('Entry Information'!$H144=\"\",\"\",'OPEN RESULTS'!F24)","v":""},{"$f":"IF('Entry Information'!$H144=\"\",\"\",IF('OPEN RESULTS'!G24=\"\",\"\",'OPEN RESULTS'!G24))","v":""},"",{"$f":"IF('Entry Information'!$H144=\"\",\"\",IF('Entry Information'!R144=\"\",H23,H23-100))","v":""},"",{"$f":"IF($F23=\"\",\"\",(VLOOKUP($J$41,Worksheet!$A$11:$AE$41,J23+1,FALSE)))","v":""},{"$f":"IF('Entry Information'!$H144=\"\",\"\",'OPEN RESULTS'!L24)","v":""},{"$f":"IF('Entry Information'!$H144=\"\",\"\",IF('OPEN RESULTS'!M24=\"\",\"\",'OPEN RESULTS'!M24))","v":""},"",{"$f":"IF('Entry Information'!$H144=\"\",\"\",IF('Entry Information'!T144=\"\",N23,N23-100))","v":""},"",{"$f":"IF($L23=\"\",\"\",(VLOOKUP($P$41,Worksheet!$A$11:$AE$41,P23+1,FALSE)))","v":""},{"$f":"IF('Entry Information'!$H144=\"\",\"\",'OPEN RESULTS'!R24)","v":""},{"$f":"IF('Entry Information'!$H144=\"\",\"\",IF('OPEN RESULTS'!S24=\"\",\"\",'OPEN RESULTS'!S24))","v":""},"",{"$f":"IF('Entry Information'!$H144=\"\",\"\",IF('Entry Information'!V144=\"\",T23,T23-100))","v":""},"",{"$f":"IF($R23=\"\",\"\",(VLOOKUP($V$41,Worksheet!$A$11:$AE$41,V23+1,FALSE)))","v":""},{"$f":"IF('Entry Information'!$H144=\"\",\"\",'OPEN RESULTS'!X24)","v":""},{"$f":"IF('Entry Information'!$H144=\"\",\"\",IF('OPEN RESULTS'!Y24=\"\",\"\",'OPEN RESULTS'!Y24))","v":""},"",{"$f":"IF('Entry Information'!$H144=\"\",\"\",IF('Entry Information'!X144=\"\",Z23,Z23-100))","v":""},"",{"$f":"IF($X23=\"\",\"\",(VLOOKUP($AB$41,Worksheet!$A$11:$AE$41,AB23+1,FALSE)))","v":""},{"$f":"IF('Entry Information'!$H144=\"\",\"\",'OPEN RESULTS'!AD24)","v":""},{"$f":"IF('Entry Information'!$H144=\"\",\"\",IF('OPEN RESULTS'!AE24=\"\",\"\",'OPEN RESULTS'!AE24))","v":""},"",{"$f":"IF('Entry Information'!$H144=\"\",\"\",IF('Entry Information'!Z144=\"\",AF23,AF23-100))","v":""},"",{"$f":"IF($AD23=\"\",\"\",(VLOOKUP($AH$41,Worksheet!$A$11:$AE$41,AH23+1,FALSE)))","v":""}]
[{"$f":"IF('Entry Information'!H145=\"\",\"\",'Entry Information'!B145)","v":""},{"$f":"IF('Entry Information'!H145=\"\",\"\",'Entry Information'!C145)","v":""},{"$f":"IF('Entry Information'!H145=\"\",\"\",'Entry Information'!D145)","v":""},{"$f":"IF('Entry Information'!H145=\"\",\"\",'Entry Information'!E145)","v":""},"OPEN",{"$f":"IF('Entry Information'!$H145=\"\",\"\",'OPEN RESULTS'!F25)","v":""},{"$f":"IF('Entry Information'!$H145=\"\",\"\",IF('OPEN RESULTS'!G25=\"\",\"\",'OPEN RESULTS'!G25))","v":""},"",{"$f":"IF('Entry Information'!$H145=\"\",\"\",IF('Entry Information'!R145=\"\",H24,H24-100))","v":""},"",{"$f":"IF($F24=\"\",\"\",(VLOOKUP($J$41,Worksheet!$A$11:$AE$41,J24+1,FALSE)))","v":""},{"$f":"IF('Entry Information'!$H145=\"\",\"\",'OPEN RESULTS'!L25)","v":""},{"$f":"IF('Entry Information'!$H145=\"\",\"\",IF('OPEN RESULTS'!M25=\"\",\"\",'OPEN RESULTS'!M25))","v":""},"",{"$f":"IF('Entry Information'!$H145=\"\",\"\",IF('Entry Information'!T145=\"\",N24,N24-100))","v":""},"",{"$f":"IF($L24=\"\",\"\",(VLOOKUP($P$41,Worksheet!$A$11:$AE$41,P24+1,FALSE)))","v":""},{"$f":"IF('Entry Information'!$H145=\"\",\"\",'OPEN RESULTS'!R25)","v":""},{"$f":"IF('Entry Information'!$H145=\"\",\"\",IF('OPEN RESULTS'!S25=\"\",\"\",'OPEN RESULTS'!S25))","v":""},"",{"$f":"IF('Entry Information'!$H145=\"\",\"\",IF('Entry Information'!V145=\"\",T24,T24-100))","v":""},"",{"$f":"IF($R24=\"\",\"\",(VLOOKUP($V$41,Worksheet!$A$11:$AE$41,V24+1,FALSE)))","v":""},{"$f":"IF('Entry Information'!$H145=\"\",\"\",'OPEN RESULTS'!X25)","v":""},{"$f":"IF('Entry Information'!$H145=\"\",\"\",IF('OPEN RESULTS'!Y25=\"\",\"\",'OPEN RESULTS'!Y25))","v":""},"",{"$f":"IF('Entry Information'!$H145=\"\",\"\",IF('Entry Information'!X145=\"\",Z24,Z24-100))","v":""},"",{"$f":"IF($X24=\"\",\"\",(VLOOKUP($AB$41,Worksheet!$A$11:$AE$41,AB24+1,FALSE)))","v":""},{"$f":"IF('Entry Information'!$H145=\"\",\"\",'OPEN RESULTS'!AD25)","v":""},{"$f":"IF('Entry Information'!$H145=\"\",\"\",IF('OPEN RESULTS'!AE25=\"\",\"\",'OPEN RESULTS'!AE25))","v":""},"",{"$f":"IF('Entry Information'!$H145=\"\",\"\",IF('Entry Information'!Z145=\"\",AF24,AF24-100))","v":""},"",{"$f":"IF($AD24=\"\",\"\",(VLOOKUP($AH$41,Worksheet!$A$11:$AE$41,AH24+1,FALSE)))","v":""}]
[{"$f":"IF('Entry Information'!H146=\"\",\"\",'Entry Information'!B146)","v":""},{"$f":"IF('Entry Information'!H146=\"\",\"\",'Entry Information'!C146)","v":""},{"$f":"IF('Entry Information'!H146=\"\",\"\",'Entry Information'!D146)","v":""},{"$f":"IF('Entry Information'!H146=\"\",\"\",'Entry Information'!E146)","v":""},"OPEN",{"$f":"IF('Entry Information'!$H146=\"\",\"\",'OPEN RESULTS'!F26)","v":""},{"$f":"IF('Entry Information'!$H146=\"\",\"\",IF('OPEN RESULTS'!G26=\"\",\"\",'OPEN RESULTS'!G26))","v":""},{"$f":"IF(G25=\"\",F25,(F25+(G25*0.001)))","v":""},{"$f":"IF('Entry Information'!$H146=\"\",\"\",IF('Entry Information'!R146=\"\",H25,H25-100))","v":""},"",{"$f":"IF($F25=\"\",\"\",(VLOOKUP($J$41,Worksheet!$A$11:$AE$41,J25+1,FALSE)))","v":""},{"$f":"IF('Entry Information'!$H146=\"\",\"\",'OPEN RESULTS'!L26)","v":""},{"$f":"IF('Entry Information'!$H146=\"\",\"\",IF('OPEN RESULTS'!M26=\"\",\"\",'OPEN RESULTS'!M26))","v":""},"",{"$f":"IF('Entry Information'!$H146=\"\",\"\",IF('Entry Information'!T146=\"\",N25,N25-100))","v":""},"",{"$f":"IF($L25=\"\",\"\",(VLOOKUP($P$41,Worksheet!$A$11:$AE$41,P25+1,FALSE)))","v":""},{"$f":"IF('Entry Information'!$H146=\"\",\"\",'OPEN RESULTS'!R26)","v":""},{"$f":"IF('Entry Information'!$H146=\"\",\"\",IF('OPEN RESULTS'!S26=\"\",\"\",'OPEN RESULTS'!S26))","v":""},"",{"$f":"IF('Entry Information'!$H146=\"\",\"\",IF('Entry Information'!V146=\"\",T25,T25-100))","v":""},"",{"$f":"IF($R25=\"\",\"\",(VLOOKUP($V$41,Worksheet!$A$11:$AE$41,V25+1,FALSE)))","v":""},{"$f":"IF('Entry Information'!$H146=\"\",\"\",'OPEN RESULTS'!X26)","v":""},{"$f":"IF('Entry Information'!$H146=\"\",\"\",IF('OPEN RESULTS'!Y26=\"\",\"\",'OPEN RESULTS'!Y26))","v":""},{"$f":"IF(Y25=\"\",X25,(X25+(Y25*0.001)))","v":""},{"$f":"IF('Entry Information'!$H146=\"\",\"\",IF('Entry Information'!X146=\"\",Z25,Z25-100))","v":""},"",{"$f":"IF($X25=\"\",\"\",(VLOOKUP($AB$41,Worksheet!$A$11:$AE$41,AB25+1,FALSE)))","v":""},{"$f":"IF('Entry Information'!$H146=\"\",\"\",'OPEN RESULTS'!AD26)","v":""},{"$f":"IF('Entry Information'!$H146=\"\",\"\",IF('OPEN RESULTS'!AE26=\"\",\"\",'OPEN RESULTS'!AE26))","v":""},{"$f":"IF(AE25=\"\",AD25,(AD25+(AE25*0.001)))","v":""},{"$f":"IF('Entry Information'!$H146=\"\",\"\",IF('Entry Information'!Z146=\"\",AF25,AF25-100))","v":""},"",{"$f":"IF($AD25=\"\",\"\",(VLOOKUP($AH$41,Worksheet!$A$11:$AE$41,AH25+1,FALSE)))","v":""}]
[{"$f":"IF('Entry Information'!H147=\"\",\"\",'Entry Information'!B147)","v":""},{"$f":"IF('Entry Information'!H147=\"\",\"\",'Entry Information'!C147)","v":""},{"$f":"IF('Entry Information'!H147=\"\",\"\",'Entry Information'!D147)","v":""},{"$f":"IF('Entry Information'!H147=\"\",\"\",'Entry Information'!E147)","v":""},"OPEN",{"$f":"IF('Entry Information'!$H147=\"\",\"\",'OPEN RESULTS'!F27)","v":""},{"$f":"IF('Entry Information'!$H147=\"\",\"\",IF('OPEN RESULTS'!G27=\"\",\"\",'OPEN RESULTS'!G27))","v":""},{"$f":"IF(G26=\"\",F26,(F26+(G26*0.001)))","v":""},{"$f":"IF('Entry Information'!$H147=\"\",\"\",IF('Entry Information'!R147=\"\",H26,H26-100))","v":""},"",{"$f":"IF($F26=\"\",\"\",(VLOOKUP($J$41,Worksheet!$A$11:$AE$41,J26+1,FALSE)))","v":""},{"$f":"IF('Entry Information'!$H147=\"\",\"\",'OPEN RESULTS'!L27)","v":""},{"$f":"IF('Entry Information'!$H147=\"\",\"\",IF('OPEN RESULTS'!M27=\"\",\"\",'OPEN RESULTS'!M27))","v":""},"",{"$f":"IF('Entry Information'!$H147=\"\",\"\",IF('Entry Information'!T147=\"\",N26,N26-100))","v":""},"",{"$f":"IF($L26=\"\",\"\",(VLOOKUP($P$41,Worksheet!$A$11:$AE$41,P26+1,FALSE)))","v":""},{"$f":"IF('Entry Information'!$H147=\"\",\"\",'OPEN RESULTS'!R27)","v":""},{"$f":"IF('Entry Information'!$H147=\"\",\"\",IF('OPEN RESULTS'!S27=\"\",\"\",'OPEN RESULTS'!S27))","v":""},"",{"$f":"IF('Entry Information'!$H147=\"\",\"\",IF('Entry Information'!V147=\"\",T26,T26-100))","v":""},"",{"$f":"IF($R26=\"\",\"\",(VLOOKUP($V$41,Worksheet!$A$11:$AE$41,V26+1,FALSE)))","v":""},{"$f":"IF('Entry Information'!$H147=\"\",\"\",'OPEN RESULTS'!X27)","v":""},{"$f":"IF('Entry Information'!$H147=\"\",\"\",IF('OPEN RESULTS'!Y27=\"\",\"\",'OPEN RESULTS'!Y27))","v":""},{"$f":"IF(Y26=\"\",X26,(X26+(Y26*0.001)))","v":""},{"$f":"IF('Entry Information'!$H147=\"\",\"\",IF('Entry Information'!X147=\"\",Z26,Z26-100))","v":""},"",{"$f":"IF($X26=\"\",\"\",(VLOOKUP($AB$41,Worksheet!$A$11:$AE$41,AB26+1,FALSE)))","v":""},{"$f":"IF('Entry Information'!$H147=\"\",\"\",'OPEN RESULTS'!AD27)","v":""},{"$f":"IF('Entry Information'!$H147=\"\",\"\",IF('OPEN RESULTS'!AE27=\"\",\"\",'OPEN RESULTS'!AE27))","v":""},{"$f":"IF(AE26=\"\",AD26,(AD26+(AE26*0.001)))","v":""},{"$f":"IF('Entry Information'!$H147=\"\",\"\",IF('Entry Information'!Z147=\"\",AF26,AF26-100))","v":""},"",{"$f":"IF($AD26=\"\",\"\",(VLOOKUP($AH$41,Worksheet!$A$11:$AE$41,AH26+1,FALSE)))","v":""}]
[{"$f":"IF('Entry Information'!H148=\"\",\"\",'Entry Information'!B148)","v":""},{"$f":"IF('Entry Information'!H148=\"\",\"\",'Entry Information'!C148)","v":""},{"$f":"IF('Entry Information'!H148=\"\",\"\",'Entry Information'!D148)","v":""},{"$f":"IF('Entry Information'!H148=\"\",\"\",'Entry Information'!E148)","v":""},"OPEN",{"$f":"IF('Entry Information'!$H148=\"\",\"\",'OPEN RESULTS'!F28)","v":""},{"$f":"IF('Entry Information'!$H148=\"\",\"\",IF('OPEN RESULTS'!G28=\"\",\"\",'OPEN RESULTS'!G28))","v":""},"",{"$f":"IF('Entry Information'!$H148=\"\",\"\",IF('Entry Information'!R148=\"\",H27,H27-100))","v":""},"",{"$f":"IF($F27=\"\",\"\",(VLOOKUP($J$41,Worksheet!$A$11:$AE$41,J27+1,FALSE)))","v":""},{"$f":"IF('Entry Information'!$H148=\"\",\"\",'OPEN RESULTS'!L28)","v":""},{"$f":"IF('Entry Information'!$H148=\"\",\"\",IF('OPEN RESULTS'!M28=\"\",\"\",'OPEN RESULTS'!M28))","v":""},"",{"$f":"IF('Entry Information'!$H148=\"\",\"\",IF('Entry Information'!T148=\"\",N27,N27-100))","v":""},"",{"$f":"IF($L27=\"\",\"\",(VLOOKUP($P$41,Worksheet!$A$11:$AE$41,P27+1,FALSE)))","v":""},{"$f":"IF('Entry Information'!$H148=\"\",\"\",'OPEN RESULTS'!R28)","v":""},{"$f":"IF('Entry Information'!$H148=\"\",\"\",IF('OPEN RESULTS'!S28=\"\",\"\",'OPEN RESULTS'!S28))","v":""},"",{"$f":"IF('Entry Information'!$H148=\"\",\"\",IF('Entry Information'!V148=\"\",T27,T27-100))","v":""},"",{"$f":"IF($R27=\"\",\"\",(VLOOKUP($V$41,Worksheet!$A$11:$AE$41,V27+1,FALSE)))","v":""},{"$f":"IF('Entry Information'!$H148=\"\",\"\",'OPEN RESULTS'!X28)","v":""},{"$f":"IF('Entry Information'!$H148=\"\",\"\",IF('OPEN RESULTS'!Y28=\"\",\"\",'OPEN RESULTS'!Y28))","v":""},"",{"$f":"IF('Entry Information'!$H148=\"\",\"\",IF('Entry Information'!X148=\"\",Z27,Z27-100))","v":""},"",{"$f":"IF($X27=\"\",\"\",(VLOOKUP($AB$41,Worksheet!$A$11:$AE$41,AB27+1,FALSE)))","v":""},{"$f":"IF('Entry Information'!$H148=\"\",\"\",'OPEN RESULTS'!AD28)","v":""},{"$f":"IF('Entry Information'!$H148=\"\",\"\",IF('OPEN RESULTS'!AE28=\"\",\"\",'OPEN RESULTS'!AE28))","v":""},"",{"$f":"IF('Entry Information'!$H148=\"\",\"\",IF('Entry Information'!Z148=\"\",AF27,AF27-100))","v":""},"",{"$f":"IF($AD27=\"\",\"\",(VLOOKUP($AH$41,Worksheet!$A$11:$AE$41,AH27+1,FALSE)))","v":""}]
[{"$f":"IF('Entry Information'!H149=\"\",\"\",'Entry Information'!B149)","v":""},{"$f":"IF('Entry Information'!H149=\"\",\"\",'Entry Information'!C149)","v":""},{"$f":"IF('Entry Information'!H149=\"\",\"\",'Entry Information'!D149)","v":""},{"$f":"IF('Entry Information'!H149=\"\",\"\",'Entry Information'!E149)","v":""},"OPEN",{"$f":"IF('Entry Information'!$H149=\"\",\"\",'OPEN RESULTS'!F29)","v":""},{"$f":"IF('Entry Information'!$H149=\"\",\"\",IF('OPEN RESULTS'!G29=\"\",\"\",'OPEN RESULTS'!G29))","v":""},"",{"$f":"IF('Entry Information'!$H149=\"\",\"\",IF('Entry Information'!R149=\"\",H28,H28-100))","v":""},"",{"$f":"IF($F28=\"\",\"\",(VLOOKUP($J$41,Worksheet!$A$11:$AE$41,J28+1,FALSE)))","v":""},{"$f":"IF('Entry Information'!$H149=\"\",\"\",'OPEN RESULTS'!L29)","v":""},{"$f":"IF('Entry Information'!$H149=\"\",\"\",IF('OPEN RESULTS'!M29=\"\",\"\",'OPEN RESULTS'!M29))","v":""},"",{"$f":"IF('Entry Information'!$H149=\"\",\"\",IF('Entry Information'!T149=\"\",N28,N28-100))","v":""},"",{"$f":"IF($L28=\"\",\"\",(VLOOKUP($P$41,Worksheet!$A$11:$AE$41,P28+1,FALSE)))","v":""},{"$f":"IF('Entry Information'!$H149=\"\",\"\",'OPEN RESULTS'!R29)","v":""},{"$f":"IF('Entry Information'!$H149=\"\",\"\",IF('OPEN RESULTS'!S29=\"\",\"\",'OPEN RESULTS'!S29))","v":""},"",{"$f":"IF('Entry Information'!$H149=\"\",\"\",IF('Entry Information'!V149=\"\",T28,T28-100))","v":""},"",{"$f":"IF($R28=\"\",\"\",(VLOOKUP($V$41,Worksheet!$A$11:$AE$41,V28+1,FALSE)))","v":""},{"$f":"IF('Entry Information'!$H149=\"\",\"\",'OPEN RESULTS'!X29)","v":""},{"$f":"IF('Entry Information'!$H149=\"\",\"\",IF('OPEN RESULTS'!Y29=\"\",\"\",'OPEN RESULTS'!Y29))","v":""},"",{"$f":"IF('Entry Information'!$H149=\"\",\"\",IF('Entry Information'!X149=\"\",Z28,Z28-100))","v":""},"",{"$f":"IF($X28=\"\",\"\",(VLOOKUP($AB$41,Worksheet!$A$11:$AE$41,AB28+1,FALSE)))","v":""},{"$f":"IF('Entry Information'!$H149=\"\",\"\",'OPEN RESULTS'!AD29)","v":""},{"$f":"IF('Entry Information'!$H149=\"\",\"\",IF('OPEN RESULTS'!AE29=\"\",\"\",'OPEN RESULTS'!AE29))","v":""},"",{"$f":"IF('Entry Information'!$H149=\"\",\"\",IF('Entry Information'!Z149=\"\",AF28,AF28-100))","v":""},"",{"$f":"IF($AD28=\"\",\"\",(VLOOKUP($AH$41,Worksheet!$A$11:$AE$41,AH28+1,FALSE)))","v":""}]
[{"$f":"IF('Entry Information'!H150=\"\",\"\",'Entry Information'!B150)","v":""},{"$f":"IF('Entry Information'!H150=\"\",\"\",'Entry Information'!C150)","v":""},{"$f":"IF('Entry Information'!H150=\"\",\"\",'Entry Information'!D150)","v":""},{"$f":"IF('Entry Information'!H150=\"\",\"\",'Entry Information'!E150)","v":""},"OPEN",{"$f":"IF('Entry Information'!$H150=\"\",\"\",'OPEN RESULTS'!F30)","v":""},{"$f":"IF('Entry Information'!$H150=\"\",\"\",IF('OPEN RESULTS'!G30=\"\",\"\",'OPEN RESULTS'!G30))","v":""},"",{"$f":"IF('Entry Information'!$H150=\"\",\"\",IF('Entry Information'!R150=\"\",H29,H29-100))","v":""},"",{"$f":"IF($F29=\"\",\"\",(VLOOKUP($J$41,Worksheet!$A$11:$AE$41,J29+1,FALSE)))","v":""},{"$f":"IF('Entry Information'!$H150=\"\",\"\",'OPEN RESULTS'!L30)","v":""},{"$f":"IF('Entry Information'!$H150=\"\",\"\",IF('OPEN RESULTS'!M30=\"\",\"\",'OPEN RESULTS'!M30))","v":""},"",{"$f":"IF('Entry Information'!$H150=\"\",\"\",IF('Entry Information'!T150=\"\",N29,N29-100))","v":""},"",{"$f":"IF($L29=\"\",\"\",(VLOOKUP($P$41,Worksheet!$A$11:$AE$41,P29+1,FALSE)))","v":""},{"$f":"IF('Entry Information'!$H150=\"\",\"\",'OPEN RESULTS'!R30)","v":""},{"$f":"IF('Entry Information'!$H150=\"\",\"\",IF('OPEN RESULTS'!S30=\"\",\"\",'OPEN RESULTS'!S30))","v":""},"",{"$f":"IF('Entry Information'!$H150=\"\",\"\",IF('Entry Information'!V150=\"\",T29,T29-100))","v":""},"",{"$f":"IF($R29=\"\",\"\",(VLOOKUP($V$41,Worksheet!$A$11:$AE$41,V29+1,FALSE)))","v":""},{"$f":"IF('Entry Information'!$H150=\"\",\"\",'OPEN RESULTS'!X30)","v":""},{"$f":"IF('Entry Information'!$H150=\"\",\"\",IF('OPEN RESULTS'!Y30=\"\",\"\",'OPEN RESULTS'!Y30))","v":""},"",{"$f":"IF('Entry Information'!$H150=\"\",\"\",IF('Entry Information'!X150=\"\",Z29,Z29-100))","v":""},"",{"$f":"IF($X29=\"\",\"\",(VLOOKUP($AB$41,Worksheet!$A$11:$AE$41,AB29+1,FALSE)))","v":""},{"$f":"IF('Entry Information'!$H150=\"\",\"\",'OPEN RESULTS'!AD30)","v":""},{"$f":"IF('Entry Information'!$H150=\"\",\"\",IF('OPEN RESULTS'!AE30=\"\",\"\",'OPEN RESULTS'!AE30))","v":""},"",{"$f":"IF('Entry Information'!$H150=\"\",\"\",IF('Entry Information'!Z150=\"\",AF29,AF29-100))","v":""},"",{"$f":"IF($AD29=\"\",\"\",(VLOOKUP($AH$41,Worksheet!$A$11:$AE$41,AH29+1,FALSE)))","v":""}]
[{"$f":"IF('Entry Information'!H151=\"\",\"\",'Entry Information'!B151)","v":""},{"$f":"IF('Entry Information'!H151=\"\",\"\",'Entry Information'!C151)","v":""},{"$f":"IF('Entry Information'!H151=\"\",\"\",'Entry Information'!D151)","v":""},{"$f":"IF('Entry Information'!H151=\"\",\"\",'Entry Information'!E151)","v":""},"OPEN",{"$f":"IF('Entry Information'!$H151=\"\",\"\",'OPEN RESULTS'!F31)","v":""},{"$f":"IF('Entry Information'!$H151=\"\",\"\",IF('OPEN RESULTS'!G31=\"\",\"\",'OPEN RESULTS'!G31))","v":""},"",{"$f":"IF('Entry Information'!$H151=\"\",\"\",IF('Entry Information'!R151=\"\",H30,H30-100))","v":""},"",{"$f":"IF($F30=\"\",\"\",(VLOOKUP($J$41,Worksheet!$A$11:$AE$41,J30+1,FALSE)))","v":""},{"$f":"IF('Entry Information'!$H151=\"\",\"\",'OPEN RESULTS'!L31)","v":""},{"$f":"IF('Entry Information'!$H151=\"\",\"\",IF('OPEN RESULTS'!M31=\"\",\"\",'OPEN RESULTS'!M31))","v":""},"",{"$f":"IF('Entry Information'!$H151=\"\",\"\",IF('Entry Information'!T151=\"\",N30,N30-100))","v":""},"",{"$f":"IF($L30=\"\",\"\",(VLOOKUP($P$41,Worksheet!$A$11:$AE$41,P30+1,FALSE)))","v":""},{"$f":"IF('Entry Information'!$H151=\"\",\"\",'OPEN RESULTS'!R31)","v":""},{"$f":"IF('Entry Information'!$H151=\"\",\"\",IF('OPEN RESULTS'!S31=\"\",\"\",'OPEN RESULTS'!S31))","v":""},"",{"$f":"IF('Entry Information'!$H151=\"\",\"\",IF('Entry Information'!V151=\"\",T30,T30-100))","v":""},"",{"$f":"IF($R30=\"\",\"\",(VLOOKUP($V$41,Worksheet!$A$11:$AE$41,V30+1,FALSE)))","v":""},{"$f":"IF('Entry Information'!$H151=\"\",\"\",'OPEN RESULTS'!X31)","v":""},{"$f":"IF('Entry Information'!$H151=\"\",\"\",IF('OPEN RESULTS'!Y31=\"\",\"\",'OPEN RESULTS'!Y31))","v":""},"",{"$f":"IF('Entry Information'!$H151=\"\",\"\",IF('Entry Information'!X151=\"\",Z30,Z30-100))","v":""},"",{"$f":"IF($X30=\"\",\"\",(VLOOKUP($AB$41,Worksheet!$A$11:$AE$41,AB30+1,FALSE)))","v":""},{"$f":"IF('Entry Information'!$H151=\"\",\"\",'OPEN RESULTS'!AD31)","v":""},{"$f":"IF('Entry Information'!$H151=\"\",\"\",IF('OPEN RESULTS'!AE31=\"\",\"\",'OPEN RESULTS'!AE31))","v":""},"",{"$f":"IF('Entry Information'!$H151=\"\",\"\",IF('Entry Information'!Z151=\"\",AF30,AF30-100))","v":""},"",{"$f":"IF($AD30=\"\",\"\",(VLOOKUP($AH$41,Worksheet!$A$11:$AE$41,AH30+1,FALSE)))","v":""}]
[{"$f":"IF('Entry Information'!H152=\"\",\"\",'Entry Information'!B152)","v":""},{"$f":"IF('Entry Information'!H152=\"\",\"\",'Entry Information'!C152)","v":""},{"$f":"IF('Entry Information'!H152=\"\",\"\",'Entry Information'!D152)","v":""},{"$f":"IF('Entry Information'!H152=\"\",\"\",'Entry Information'!E152)","v":""},"OPEN",{"$f":"IF('Entry Information'!$H152=\"\",\"\",'OPEN RESULTS'!F32)","v":""},{"$f":"IF('Entry Information'!$H152=\"\",\"\",IF('OPEN RESULTS'!G32=\"\",\"\",'OPEN RESULTS'!G32))","v":""},"",{"$f":"IF('Entry Information'!$H152=\"\",\"\",IF('Entry Information'!R152=\"\",H31,H31-100))","v":""},"",{"$f":"IF($F31=\"\",\"\",(VLOOKUP($J$41,Worksheet!$A$11:$AE$41,J31+1,FALSE)))","v":""},{"$f":"IF('Entry Information'!$H152=\"\",\"\",'OPEN RESULTS'!L32)","v":""},{"$f":"IF('Entry Information'!$H152=\"\",\"\",IF('OPEN RESULTS'!M32=\"\",\"\",'OPEN RESULTS'!M32))","v":""},"",{"$f":"IF('Entry Information'!$H152=\"\",\"\",IF('Entry Information'!T152=\"\",N31,N31-100))","v":""},"",{"$f":"IF($L31=\"\",\"\",(VLOOKUP($P$41,Worksheet!$A$11:$AE$41,P31+1,FALSE)))","v":""},{"$f":"IF('Entry Information'!$H152=\"\",\"\",'OPEN RESULTS'!R32)","v":""},{"$f":"IF('Entry Information'!$H152=\"\",\"\",IF('OPEN RESULTS'!S32=\"\",\"\",'OPEN RESULTS'!S32))","v":""},"",{"$f":"IF('Entry Information'!$H152=\"\",\"\",IF('Entry Information'!V152=\"\",T31,T31-100))","v":""},"",{"$f":"IF($R31=\"\",\"\",(VLOOKUP($V$41,Worksheet!$A$11:$AE$41,V31+1,FALSE)))","v":""},{"$f":"IF('Entry Information'!$H152=\"\",\"\",'OPEN RESULTS'!X32)","v":""},{"$f":"IF('Entry Information'!$H152=\"\",\"\",IF('OPEN RESULTS'!Y32=\"\",\"\",'OPEN RESULTS'!Y32))","v":""},"",{"$f":"IF('Entry Information'!$H152=\"\",\"\",IF('Entry Information'!X152=\"\",Z31,Z31-100))","v":""},"",{"$f":"IF($X31=\"\",\"\",(VLOOKUP($AB$41,Worksheet!$A$11:$AE$41,AB31+1,FALSE)))","v":""},{"$f":"IF('Entry Information'!$H152=\"\",\"\",'OPEN RESULTS'!AD32)","v":""},{"$f":"IF('Entry Information'!$H152=\"\",\"\",IF('OPEN RESULTS'!AE32=\"\",\"\",'OPEN RESULTS'!AE32))","v":""},"",{"$f":"IF('Entry Information'!$H152=\"\",\"\",IF('Entry Information'!Z152=\"\",AF31,AF31-100))","v":""},"",{"$f":"IF($AD31=\"\",\"\",(VLOOKUP($AH$41,Worksheet!$A$11:$AE$41,AH31+1,FALSE)))","v":""}]
[{"$f":"IF('Entry Information'!H153=\"\",\"\",'Entry Information'!B153)","v":""},{"$f":"IF('Entry Information'!H153=\"\",\"\",'Entry Information'!C153)","v":""},{"$f":"IF('Entry Information'!H153=\"\",\"\",'Entry Information'!D153)","v":""},{"$f":"IF('Entry Information'!H153=\"\",\"\",'Entry Information'!E153)","v":""},"OPEN",{"$f":"IF('Entry Information'!$H153=\"\",\"\",'OPEN RESULTS'!F33)","v":""},{"$f":"IF('Entry Information'!$H153=\"\",\"\",IF('OPEN RESULTS'!G33=\"\",\"\",'OPEN RESULTS'!G33))","v":""},"",{"$f":"IF('Entry Information'!$H153=\"\",\"\",IF('Entry Information'!R153=\"\",H32,H32-100))","v":""},"",{"$f":"IF($F32=\"\",\"\",(VLOOKUP($J$41,Worksheet!$A$11:$AE$41,J32+1,FALSE)))","v":""},{"$f":"IF('Entry Information'!$H153=\"\",\"\",'OPEN RESULTS'!L33)","v":""},{"$f":"IF('Entry Information'!$H153=\"\",\"\",IF('OPEN RESULTS'!M33=\"\",\"\",'OPEN RESULTS'!M33))","v":""},"",{"$f":"IF('Entry Information'!$H153=\"\",\"\",IF('Entry Information'!T153=\"\",N32,N32-100))","v":""},"",{"$f":"IF($L32=\"\",\"\",(VLOOKUP($P$41,Worksheet!$A$11:$AE$41,P32+1,FALSE)))","v":""},{"$f":"IF('Entry Information'!$H153=\"\",\"\",'OPEN RESULTS'!R33)","v":""},{"$f":"IF('Entry Information'!$H153=\"\",\"\",IF('OPEN RESULTS'!S33=\"\",\"\",'OPEN RESULTS'!S33))","v":""},"",{"$f":"IF('Entry Information'!$H153=\"\",\"\",IF('Entry Information'!V153=\"\",T32,T32-100))","v":""},"",{"$f":"IF($R32=\"\",\"\",(VLOOKUP($V$41,Worksheet!$A$11:$AE$41,V32+1,FALSE)))","v":""},{"$f":"IF('Entry Information'!$H153=\"\",\"\",'OPEN RESULTS'!X33)","v":""},{"$f":"IF('Entry Information'!$H153=\"\",\"\",IF('OPEN RESULTS'!Y33=\"\",\"\",'OPEN RESULTS'!Y33))","v":""},"",{"$f":"IF('Entry Information'!$H153=\"\",\"\",IF('Entry Information'!X153=\"\",Z32,Z32-100))","v":""},"",{"$f":"IF($X32=\"\",\"\",(VLOOKUP($AB$41,Worksheet!$A$11:$AE$41,AB32+1,FALSE)))","v":""},{"$f":"IF('Entry Information'!$H153=\"\",\"\",'OPEN RESULTS'!AD33)","v":""},{"$f":"IF('Entry Information'!$H153=\"\",\"\",IF('OPEN RESULTS'!AE33=\"\",\"\",'OPEN RESULTS'!AE33))","v":""},"",{"$f":"IF('Entry Information'!$H153=\"\",\"\",IF('Entry Information'!Z153=\"\",AF32,AF32-100))","v":""},"",{"$f":"IF($AD32=\"\",\"\",(VLOOKUP($AH$41,Worksheet!$A$11:$AE$41,AH32+1,FALSE)))","v":""}]
[{"$f":"IF('Entry Information'!H154=\"\",\"\",'Entry Information'!B154)","v":""},{"$f":"IF('Entry Information'!H154=\"\",\"\",'Entry Information'!C154)","v":""},{"$f":"IF('Entry Information'!H154=\"\",\"\",'Entry Information'!D154)","v":""},{"$f":"IF('Entry Information'!H154=\"\",\"\",'Entry Information'!E154)","v":""},"OPEN",{"$f":"IF('Entry Information'!$H154=\"\",\"\",'OPEN RESULTS'!F34)","v":""},{"$f":"IF('Entry Information'!$H154=\"\",\"\",IF('OPEN RESULTS'!G34=\"\",\"\",'OPEN RESULTS'!G34))","v":""},"",{"$f":"IF('Entry Information'!$H154=\"\",\"\",IF('Entry Information'!R154=\"\",H33,H33-100))","v":""},"",{"$f":"IF($F33=\"\",\"\",(VLOOKUP($J$41,Worksheet!$A$11:$AE$41,J33+1,FALSE)))","v":""},{"$f":"IF('Entry Information'!$H154=\"\",\"\",'OPEN RESULTS'!L34)","v":""},{"$f":"IF('Entry Information'!$H154=\"\",\"\",IF('OPEN RESULTS'!M34=\"\",\"\",'OPEN RESULTS'!M34))","v":""},"",{"$f":"IF('Entry Information'!$H154=\"\",\"\",IF('Entry Information'!T154=\"\",N33,N33-100))","v":""},"",{"$f":"IF($L33=\"\",\"\",(VLOOKUP($P$41,Worksheet!$A$11:$AE$41,P33+1,FALSE)))","v":""},{"$f":"IF('Entry Information'!$H154=\"\",\"\",'OPEN RESULTS'!R34)","v":""},{"$f":"IF('Entry Information'!$H154=\"\",\"\",IF('OPEN RESULTS'!S34=\"\",\"\",'OPEN RESULTS'!S34))","v":""},"",{"$f":"IF('Entry Information'!$H154=\"\",\"\",IF('Entry Information'!V154=\"\",T33,T33-100))","v":""},"",{"$f":"IF($R33=\"\",\"\",(VLOOKUP($V$41,Worksheet!$A$11:$AE$41,V33+1,FALSE)))","v":""},{"$f":"IF('Entry Information'!$H154=\"\",\"\",'OPEN RESULTS'!X34)","v":""},{"$f":"IF('Entry Information'!$H154=\"\",\"\",IF('OPEN RESULTS'!Y34=\"\",\"\",'OPEN RESULTS'!Y34))","v":""},"",{"$f":"IF('Entry Information'!$H154=\"\",\"\",IF('Entry Information'!X154=\"\",Z33,Z33-100))","v":""},"",{"$f":"IF($X33=\"\",\"\",(VLOOKUP($AB$41,Worksheet!$A$11:$AE$41,AB33+1,FALSE)))","v":""},{"$f":"IF('Entry Information'!$H154=\"\",\"\",'OPEN RESULTS'!AD34)","v":""},{"$f":"IF('Entry Information'!$H154=\"\",\"\",IF('OPEN RESULTS'!AE34=\"\",\"\",'OPEN RESULTS'!AE34))","v":""},"",{"$f":"IF('Entry Information'!$H154=\"\",\"\",IF('Entry Information'!Z154=\"\",AF33,AF33-100))","v":""},"",{"$f":"IF($AD33=\"\",\"\",(VLOOKUP($AH$41,Worksheet!$A$11:$AE$41,AH33+1,FALSE)))","v":""}]
[{"$f":"IF('Entry Information'!H155=\"\",\"\",'Entry Information'!B155)","v":""},{"$f":"IF('Entry Information'!H155=\"\",\"\",'Entry Information'!C155)","v":""},{"$f":"IF('Entry Information'!H155=\"\",\"\",'Entry Information'!D155)","v":""},{"$f":"IF('Entry Information'!H155=\"\",\"\",'Entry Information'!E155)","v":""},"OPEN",{"$f":"IF('Entry Information'!$H155=\"\",\"\",'OPEN RESULTS'!F35)","v":""},{"$f":"IF('Entry Information'!$H155=\"\",\"\",IF('OPEN RESULTS'!G35=\"\",\"\",'OPEN RESULTS'!G35))","v":""},"",{"$f":"IF('Entry Information'!$H155=\"\",\"\",IF('Entry Information'!R155=\"\",H34,H34-100))","v":""},"",{"$f":"IF($F34=\"\",\"\",(VLOOKUP($J$41,Worksheet!$A$11:$AE$41,J34+1,FALSE)))","v":""},{"$f":"IF('Entry Information'!$H155=\"\",\"\",'OPEN RESULTS'!L35)","v":""},{"$f":"IF('Entry Information'!$H155=\"\",\"\",IF('OPEN RESULTS'!M35=\"\",\"\",'OPEN RESULTS'!M35))","v":""},"",{"$f":"IF('Entry Information'!$H155=\"\",\"\",IF('Entry Information'!T155=\"\",N34,N34-100))","v":""},"",{"$f":"IF($L34=\"\",\"\",(VLOOKUP($P$41,Worksheet!$A$11:$AE$41,P34+1,FALSE)))","v":""},{"$f":"IF('Entry Information'!$H155=\"\",\"\",'OPEN RESULTS'!R35)","v":""},{"$f":"IF('Entry Information'!$H155=\"\",\"\",IF('OPEN RESULTS'!S35=\"\",\"\",'OPEN RESULTS'!S35))","v":""},"",{"$f":"IF('Entry Information'!$H155=\"\",\"\",IF('Entry Information'!V155=\"\",T34,T34-100))","v":""},"",{"$f":"IF($R34=\"\",\"\",(VLOOKUP($V$41,Worksheet!$A$11:$AE$41,V34+1,FALSE)))","v":""},{"$f":"IF('Entry Information'!$H155=\"\",\"\",'OPEN RESULTS'!X35)","v":""},{"$f":"IF('Entry Information'!$H155=\"\",\"\",IF('OPEN RESULTS'!Y35=\"\",\"\",'OPEN RESULTS'!Y35))","v":""},"",{"$f":"IF('Entry Information'!$H155=\"\",\"\",IF('Entry Information'!X155=\"\",Z34,Z34-100))","v":""},"",{"$f":"IF($X34=\"\",\"\",(VLOOKUP($AB$41,Worksheet!$A$11:$AE$41,AB34+1,FALSE)))","v":""},{"$f":"IF('Entry Information'!$H155=\"\",\"\",'OPEN RESULTS'!AD35)","v":""},{"$f":"IF('Entry Information'!$H155=\"\",\"\",IF('OPEN RESULTS'!AE35=\"\",\"\",'OPEN RESULTS'!AE35))","v":""},"",{"$f":"IF('Entry Information'!$H155=\"\",\"\",IF('Entry Information'!Z155=\"\",AF34,AF34-100))","v":""},"",{"$f":"IF($AD34=\"\",\"\",(VLOOKUP($AH$41,Worksheet!$A$11:$AE$41,AH34+1,FALSE)))","v":""}]
[{"$f":"IF('Entry Information'!H156=\"\",\"\",'Entry Information'!B156)","v":""},{"$f":"IF('Entry Information'!H156=\"\",\"\",'Entry Information'!C156)","v":""},{"$f":"IF('Entry Information'!H156=\"\",\"\",'Entry Information'!D156)","v":""},{"$f":"IF('Entry Information'!H156=\"\",\"\",'Entry Information'!E156)","v":""},"OPEN",{"$f":"IF('Entry Information'!$H156=\"\",\"\",'OPEN RESULTS'!F36)","v":""},{"$f":"IF('Entry Information'!$H156=\"\",\"\",IF('OPEN RESULTS'!G36=\"\",\"\",'OPEN RESULTS'!G36))","v":""},"",{"$f":"IF('Entry Information'!$H156=\"\",\"\",IF('Entry Information'!R156=\"\",H35,H35-100))","v":""},"",{"$f":"IF($F35=\"\",\"\",(VLOOKUP($J$41,Worksheet!$A$11:$AE$41,J35+1,FALSE)))","v":""},{"$f":"IF('Entry Information'!$H156=\"\",\"\",'OPEN RESULTS'!L36)","v":""},{"$f":"IF('Entry Information'!$H156=\"\",\"\",IF('OPEN RESULTS'!M36=\"\",\"\",'OPEN RESULTS'!M36))","v":""},"",{"$f":"IF('Entry Information'!$H156=\"\",\"\",IF('Entry Information'!T156=\"\",N35,N35-100))","v":""},"",{"$f":"IF($L35=\"\",\"\",(VLOOKUP($P$41,Worksheet!$A$11:$AE$41,P35+1,FALSE)))","v":""},{"$f":"IF('Entry Information'!$H156=\"\",\"\",'OPEN RESULTS'!R36)","v":""},{"$f":"IF('Entry Information'!$H156=\"\",\"\",IF('OPEN RESULTS'!S36=\"\",\"\",'OPEN RESULTS'!S36))","v":""},"",{"$f":"IF('Entry Information'!$H156=\"\",\"\",IF('Entry Information'!V156=\"\",T35,T35-100))","v":""},"",{"$f":"IF($R35=\"\",\"\",(VLOOKUP($V$41,Worksheet!$A$11:$AE$41,V35+1,FALSE)))","v":""},{"$f":"IF('Entry Information'!$H156=\"\",\"\",'OPEN RESULTS'!X36)","v":""},{"$f":"IF('Entry Information'!$H156=\"\",\"\",IF('OPEN RESULTS'!Y36=\"\",\"\",'OPEN RESULTS'!Y36))","v":""},"",{"$f":"IF('Entry Information'!$H156=\"\",\"\",IF('Entry Information'!X156=\"\",Z35,Z35-100))","v":""},"",{"$f":"IF($X35=\"\",\"\",(VLOOKUP($AB$41,Worksheet!$A$11:$AE$41,AB35+1,FALSE)))","v":""},{"$f":"IF('Entry Information'!$H156=\"\",\"\",'OPEN RESULTS'!AD36)","v":""},{"$f":"IF('Entry Information'!$H156=\"\",\"\",IF('OPEN RESULTS'!AE36=\"\",\"\",'OPEN RESULTS'!AE36))","v":""},"",{"$f":"IF('Entry Information'!$H156=\"\",\"\",IF('Entry Information'!Z156=\"\",AF35,AF35-100))","v":""},"",{"$f":"IF($AD35=\"\",\"\",(VLOOKUP($AH$41,Worksheet!$A$11:$AE$41,AH35+1,FALSE)))","v":""}]
[{"$f":"IF('Entry Information'!H157=\"\",\"\",'Entry Information'!B157)","v":""},{"$f":"IF('Entry Information'!H157=\"\",\"\",'Entry Information'!C157)","v":""},{"$f":"IF('Entry Information'!H157=\"\",\"\",'Entry Information'!D157)","v":""},{"$f":"IF('Entry Information'!H157=\"\",\"\",'Entry Information'!E157)","v":""},"OPEN",{"$f":"IF('Entry Information'!$H157=\"\",\"\",'OPEN RESULTS'!F37)","v":""},{"$f":"IF('Entry Information'!$H157=\"\",\"\",IF('OPEN RESULTS'!G37=\"\",\"\",'OPEN RESULTS'!G37))","v":""},"",{"$f":"IF('Entry Information'!$H157=\"\",\"\",IF('Entry Information'!R157=\"\",H36,H36-100))","v":""},"",{"$f":"IF($F36=\"\",\"\",(VLOOKUP($J$41,Worksheet!$A$11:$AE$41,J36+1,FALSE)))","v":""},{"$f":"IF('Entry Information'!$H157=\"\",\"\",'OPEN RESULTS'!L37)","v":""},{"$f":"IF('Entry Information'!$H157=\"\",\"\",IF('OPEN RESULTS'!M37=\"\",\"\",'OPEN RESULTS'!M37))","v":""},"",{"$f":"IF('Entry Information'!$H157=\"\",\"\",IF('Entry Information'!T157=\"\",N36,N36-100))","v":""},"",{"$f":"IF($L36=\"\",\"\",(VLOOKUP($P$41,Worksheet!$A$11:$AE$41,P36+1,FALSE)))","v":""},{"$f":"IF('Entry Information'!$H157=\"\",\"\",'OPEN RESULTS'!R37)","v":""},{"$f":"IF('Entry Information'!$H157=\"\",\"\",IF('OPEN RESULTS'!S37=\"\",\"\",'OPEN RESULTS'!S37))","v":""},"",{"$f":"IF('Entry Information'!$H157=\"\",\"\",IF('Entry Information'!V157=\"\",T36,T36-100))","v":""},"",{"$f":"IF($R36=\"\",\"\",(VLOOKUP($V$41,Worksheet!$A$11:$AE$41,V36+1,FALSE)))","v":""},{"$f":"IF('Entry Information'!$H157=\"\",\"\",'OPEN RESULTS'!X37)","v":""},{"$f":"IF('Entry Information'!$H157=\"\",\"\",IF('OPEN RESULTS'!Y37=\"\",\"\",'OPEN RESULTS'!Y37))","v":""},"",{"$f":"IF('Entry Information'!$H157=\"\",\"\",IF('Entry Information'!X157=\"\",Z36,Z36-100))","v":""},"",{"$f":"IF($X36=\"\",\"\",(VLOOKUP($AB$41,Worksheet!$A$11:$AE$41,AB36+1,FALSE)))","v":""},{"$f":"IF('Entry Information'!$H157=\"\",\"\",'OPEN RESULTS'!AD37)","v":""},{"$f":"IF('Entry Information'!$H157=\"\",\"\",IF('OPEN RESULTS'!AE37=\"\",\"\",'OPEN RESULTS'!AE37))","v":""},"",{"$f":"IF('Entry Information'!$H157=\"\",\"\",IF('Entry Information'!Z157=\"\",AF36,AF36-100))","v":""},"",{"$f":"IF($AD36=\"\",\"\",(VLOOKUP($AH$41,Worksheet!$A$11:$AE$41,AH36+1,FALSE)))","v":""}]
[{"$f":"IF('Entry Information'!H158=\"\",\"\",'Entry Information'!B158)","v":""},{"$f":"IF('Entry Information'!H158=\"\",\"\",'Entry Information'!C158)","v":""},{"$f":"IF('Entry Information'!H158=\"\",\"\",'Entry Information'!D158)","v":""},{"$f":"IF('Entry Information'!H158=\"\",\"\",'Entry Information'!E158)","v":""},"OPEN",{"$f":"IF('Entry Information'!$H158=\"\",\"\",'OPEN RESULTS'!F38)","v":""},{"$f":"IF('Entry Information'!$H158=\"\",\"\",IF('OPEN RESULTS'!G38=\"\",\"\",'OPEN RESULTS'!G38))","v":""},"",{"$f":"IF('Entry Information'!$H158=\"\",\"\",IF('Entry Information'!R158=\"\",H37,H37-100))","v":""},"",{"$f":"IF($F37=\"\",\"\",(VLOOKUP($J$41,Worksheet!$A$11:$AE$41,J37+1,FALSE)))","v":""},{"$f":"IF('Entry Information'!$H158=\"\",\"\",'OPEN RESULTS'!L38)","v":""},{"$f":"IF('Entry Information'!$H158=\"\",\"\",IF('OPEN RESULTS'!M38=\"\",\"\",'OPEN RESULTS'!M38))","v":""},"",{"$f":"IF('Entry Information'!$H158=\"\",\"\",IF('Entry Information'!T158=\"\",N37,N37-100))","v":""},"",{"$f":"IF($L37=\"\",\"\",(VLOOKUP($P$41,Worksheet!$A$11:$AE$41,P37+1,FALSE)))","v":""},{"$f":"IF('Entry Information'!$H158=\"\",\"\",'OPEN RESULTS'!R38)","v":""},{"$f":"IF('Entry Information'!$H158=\"\",\"\",IF('OPEN RESULTS'!S38=\"\",\"\",'OPEN RESULTS'!S38))","v":""},"",{"$f":"IF('Entry Information'!$H158=\"\",\"\",IF('Entry Information'!V158=\"\",T37,T37-100))","v":""},"",{"$f":"IF($R37=\"\",\"\",(VLOOKUP($V$41,Worksheet!$A$11:$AE$41,V37+1,FALSE)))","v":""},{"$f":"IF('Entry Information'!$H158=\"\",\"\",'OPEN RESULTS'!X38)","v":""},{"$f":"IF('Entry Information'!$H158=\"\",\"\",IF('OPEN RESULTS'!Y38=\"\",\"\",'OPEN RESULTS'!Y38))","v":""},"",{"$f":"IF('Entry Information'!$H158=\"\",\"\",IF('Entry Information'!X158=\"\",Z37,Z37-100))","v":""},"",{"$f":"IF($X37=\"\",\"\",(VLOOKUP($AB$41,Worksheet!$A$11:$AE$41,AB37+1,FALSE)))","v":""},{"$f":"IF('Entry Information'!$H158=\"\",\"\",'OPEN RESULTS'!AD38)","v":""},{"$f":"IF('Entry Information'!$H158=\"\",\"\",IF('OPEN RESULTS'!AE38=\"\",\"\",'OPEN RESULTS'!AE38))","v":""},"",{"$f":"IF('Entry Information'!$H158=\"\",\"\",IF('Entry Information'!Z158=\"\",AF37,AF37-100))","v":""},"",{"$f":"IF($AD37=\"\",\"\",(VLOOKUP($AH$41,Worksheet!$A$11:$AE$41,AH37+1,FALSE)))","v":""}]
[{"$f":"IF('Entry Information'!H159=\"\",\"\",'Entry Information'!B159)","v":""},{"$f":"IF('Entry Information'!H159=\"\",\"\",'Entry Information'!C159)","v":""},{"$f":"IF('Entry Information'!H159=\"\",\"\",'Entry Information'!D159)","v":""},{"$f":"IF('Entry Information'!H159=\"\",\"\",'Entry Information'!E159)","v":""},"OPEN",{"$f":"IF('Entry Information'!$H159=\"\",\"\",'OPEN RESULTS'!F39)","v":""},{"$f":"IF('Entry Information'!$H159=\"\",\"\",IF('OPEN RESULTS'!G39=\"\",\"\",'OPEN RESULTS'!G39))","v":""},"",{"$f":"IF('Entry Information'!$H159=\"\",\"\",IF('Entry Information'!R159=\"\",H38,H38-100))","v":""},"",{"$f":"IF($F38=\"\",\"\",(VLOOKUP($J$41,Worksheet!$A$11:$AE$41,J38+1,FALSE)))","v":""},{"$f":"IF('Entry Information'!$H159=\"\",\"\",'OPEN RESULTS'!L39)","v":""},{"$f":"IF('Entry Information'!$H159=\"\",\"\",IF('OPEN RESULTS'!M39=\"\",\"\",'OPEN RESULTS'!M39))","v":""},"",{"$f":"IF('Entry Information'!$H159=\"\",\"\",IF('Entry Information'!T159=\"\",N38,N38-100))","v":""},"",{"$f":"IF($L38=\"\",\"\",(VLOOKUP($P$41,Worksheet!$A$11:$AE$41,P38+1,FALSE)))","v":""},{"$f":"IF('Entry Information'!$H159=\"\",\"\",'OPEN RESULTS'!R39)","v":""},{"$f":"IF('Entry Information'!$H159=\"\",\"\",IF('OPEN RESULTS'!S39=\"\",\"\",'OPEN RESULTS'!S39))","v":""},"",{"$f":"IF('Entry Information'!$H159=\"\",\"\",IF('Entry Information'!V159=\"\",T38,T38-100))","v":""},"",{"$f":"IF($R38=\"\",\"\",(VLOOKUP($V$41,Worksheet!$A$11:$AE$41,V38+1,FALSE)))","v":""},{"$f":"IF('Entry Information'!$H159=\"\",\"\",'OPEN RESULTS'!X39)","v":""},{"$f":"IF('Entry Information'!$H159=\"\",\"\",IF('OPEN RESULTS'!Y39=\"\",\"\",'OPEN RESULTS'!Y39))","v":""},"",{"$f":"IF('Entry Information'!$H159=\"\",\"\",IF('Entry Information'!X159=\"\",Z38,Z38-100))","v":""},"",{"$f":"IF($X38=\"\",\"\",(VLOOKUP($AB$41,Worksheet!$A$11:$AE$41,AB38+1,FALSE)))","v":""},{"$f":"IF('Entry Information'!$H159=\"\",\"\",'OPEN RESULTS'!AD39)","v":""},{"$f":"IF('Entry Information'!$H159=\"\",\"\",IF('OPEN RESULTS'!AE39=\"\",\"\",'OPEN RESULTS'!AE39))","v":""},"",{"$f":"IF('Entry Information'!$H159=\"\",\"\",IF('Entry Information'!Z159=\"\",AF38,AF38-100))","v":""},"",{"$f":"IF($AD38=\"\",\"\",(VLOOKUP($AH$41,Worksheet!$A$11:$AE$41,AH38+1,FALSE)))","v":""}]
[{"$f":"IF('Entry Information'!H160=\"\",\"\",'Entry Information'!B160)","v":""},{"$f":"IF('Entry Information'!H160=\"\",\"\",'Entry Information'!C160)","v":""},{"$f":"IF('Entry Information'!H160=\"\",\"\",'Entry Information'!D160)","v":""},{"$f":"IF('Entry Information'!H160=\"\",\"\",'Entry Information'!E160)","v":""},"OPEN",{"$f":"IF('Entry Information'!$H160=\"\",\"\",'OPEN RESULTS'!F40)","v":""},{"$f":"IF('Entry Information'!$H160=\"\",\"\",IF('OPEN RESULTS'!G40=\"\",\"\",'OPEN RESULTS'!G40))","v":""},"",{"$f":"IF('Entry Information'!$H160=\"\",\"\",IF('Entry Information'!R160=\"\",H39,H39-100))","v":""},"",{"$f":"IF($F39=\"\",\"\",(VLOOKUP($J$41,Worksheet!$A$11:$AE$41,J39+1,FALSE)))","v":""},{"$f":"IF('Entry Information'!$H160=\"\",\"\",'OPEN RESULTS'!L40)","v":""},{"$f":"IF('Entry Information'!$H160=\"\",\"\",IF('OPEN RESULTS'!M40=\"\",\"\",'OPEN RESULTS'!M40))","v":""},"",{"$f":"IF('Entry Information'!$H160=\"\",\"\",IF('Entry Information'!T160=\"\",N39,N39-100))","v":""},"",{"$f":"IF($L39=\"\",\"\",(VLOOKUP($P$41,Worksheet!$A$11:$AE$41,P39+1,FALSE)))","v":""},{"$f":"IF('Entry Information'!$H160=\"\",\"\",'OPEN RESULTS'!R40)","v":""},{"$f":"IF('Entry Information'!$H160=\"\",\"\",IF('OPEN RESULTS'!S40=\"\",\"\",'OPEN RESULTS'!S40))","v":""},"",{"$f":"IF('Entry Information'!$H160=\"\",\"\",IF('Entry Information'!V160=\"\",T39,T39-100))","v":""},"",{"$f":"IF($R39=\"\",\"\",(VLOOKUP($V$41,Worksheet!$A$11:$AE$41,V39+1,FALSE)))","v":""},{"$f":"IF('Entry Information'!$H160=\"\",\"\",'OPEN RESULTS'!X40)","v":""},{"$f":"IF('Entry Information'!$H160=\"\",\"\",IF('OPEN RESULTS'!Y40=\"\",\"\",'OPEN RESULTS'!Y40))","v":""},"",{"$f":"IF('Entry Information'!$H160=\"\",\"\",IF('Entry Information'!X160=\"\",Z39,Z39-100))","v":""},"",{"$f":"IF($X39=\"\",\"\",(VLOOKUP($AB$41,Worksheet!$A$11:$AE$41,AB39+1,FALSE)))","v":""},{"$f":"IF('Entry Information'!$H160=\"\",\"\",'OPEN RESULTS'!AD40)","v":""},{"$f":"IF('Entry Information'!$H160=\"\",\"\",IF('OPEN RESULTS'!AE40=\"\",\"\",'OPEN RESULTS'!AE40))","v":""},"",{"$f":"IF('Entry Information'!$H160=\"\",\"\",IF('Entry Information'!Z160=\"\",AF39,AF39-100))","v":""},"",{"$f":"IF($AD39=\"\",\"\",(VLOOKUP($AH$41,Worksheet!$A$11:$AE$41,AH39+1,FALSE)))","v":""}]
[]
[null,null,null,null,null,null,null,null,null,{"$f":"COUNTIF(J10:J39,\">=0\")","v":0},null,null,null,null,null,{"$f":"COUNTIF(P10:P39,\">=0\")","v":0},null,null,null,null,null,{"$f":"COUNTIF(V10:V39,\">=0\")","v":0},null,null,null,null,null,{"$f":"COUNTIF(AB10:AB39,\">=0\")","v":0},null,null,null,null,null,{"$f":"COUNTIF(AH10:AH39,\">=0\")","v":0}]
[null,null,null,null,null,"1 - Total Penalty Points",null,null,null,null,null,"1 - Total Penalty Points",null,null,null,null,null,"1 Total Penalty Points",null,null,null,null,null,"1 - Total Penalty Points",null,null,null,null,null,"1 - Total Penalty Points"]
[null,null,null,null,null,"2 - Extended Trot",null,null,null,null,null,"2 - Drag Log",null,null,null,null,null,"2 - 1st Cow Working Center of Arena",null,null,null,null,null,"2 - Roping Cow",null,null,null,null,null,"2 - Roping Cow"]
[null,null,null,null,null,"3 - Transition down lope/walk/stop",null,null,null,null,null,"3 - Ground tie/bridle/pick-up leg(s)",null,null,null,null,null,"3 - 1st Cow Cut from Herd",null,null,null,null,null,"3 - Box Cow",null,null,null,null,null,"3 - Box Cow"]
[null,null,null,null,null,"4 - Transition to lope/lope",null,null,null,null,null,"4 - Gate",null,null,null,null,null,"4 -2nd Cow Working Center of Arena",null,null,null,null,null,"4 - First Lead Change",null,null,null,null,null,"4 - First Lead Change"]
[]
[]
["Scores in RED are ties - enter a 1 in the Tie Breaker Column of the winner to break tie.  If multiple ties enter a 1 for the second place and a 2 for winner."]
[]
[]
["Places highlighted have a major penatly."]
[]
["If Entered in \"Jack Pot\" cell to the right of Event All Around with be highlighted"]

{"sheet":"OPEN JR HORSE RESULTS","index":22,"n_rows":53,"n_cols":35,"rows_kept":53,"cut":false,"hidden":true,"merged":[[2,21,2,22],[2,23,2,28],[2,29,2,34],[1,0,1,2],[1,4,1,5],[1,9,1,16],[1,21,1,22],[1,23,1,28],[1,29,1,34],[2,1,2,2],[2,4,2,5],[2,9,2,11],[4,5,4,10],[4,11,4,16],[4,17,4,22],[4,23,4,28],[6,11,8,11],[6,12,8,12],[6,13,8,13],[6,26,8,26],[6,27,8,27],[6,28,8,28],[6,21,8,21],[6,15,8,15],[6,7,8,7],[6,8,8,8],[6,9,8,9],[6,10,8,10],[4,29,4,34],[6,32,8,32],[6,17,8,17],[6,18,8,18],[6,19,8,19],[6,20,8,20],[6,24,8,24],[6,25,8,25],[6,33,8,33],[6,34,8,34],[6,23,8,23],[5,5,5,10],[5,11,5,16],[5,17,5,22],[5,23,5,28],[5,29,5,34],[47,0,48,4],[6,29,8,29],[6,30,8,30],[6,31,8,31],[6,14,8,14],[6,5,8,5],[6,6,8,6],[6,22,8,22],[6,16,8,16]]}
[]
[null,null,null,null,"Event Name:",null,null,null,null,{"$f":"'Entry Information'!C4","v":"Ranch Horse Challenge"},null,null,null,null,null,null,null,null,null,null,null,"Judge #1 Name/Classes:",null,{"$f":"'Entry Information'!F4","v":"Mike Lund"}]
["Division:","OPEN",null,null,"Event Date:",null,null,null,null,{"$f":"'Entry Information'!C5","v":"2018-03-25"},null,null,null,null,null,null,null,null,null,null,null,"Judge #2 Name/Classes:",null,{"$f":"'Entry Information'!F5","v":"Karen Arlin"}]
[]
[null,null,null,null,null,"RANCH",null,null,null,null,null,"RANCH",null,null,null,null,null,"RANCH",null,null,null,null,null,"RANCH",null,null,null,null,null,"RANCH"]
[null,null,null,null,null,"RIDING",null,null,null,null,null,"TRAIL",null,null,null,null,null,"CUTING",null,null,null,null,null,"REINED WORK",null,null,null,null,null,"COW WORK"]
[null,null,null,null,null,"Score","Tie Breaker","Adjusted Score for Ties","Adjusted Score Major Penalty","Place","Placement Points","Score","Tie Breaker","Adjusted Score for Ties","Adjusted Score Major Penalty","Place","Placement Points","Score","Tie Breaker","Adjusted Score for Ties","Adjusted Score Major Penalty","Place","Placement Points","Score","Tie Breaker","Adjusted Score for Ties","Adjusted Score Major Penalty","Place","Placement Points","Score","Tie Breaker","Adjusted Score for Ties","Adjusted Score Major Penalty","Place","Placement Points"]
[]
["Back No.","Last Name","First Name","Registered Horse Name","Division"]
[{"$f":"IF('Entry Information'!I131=\"\",\"\",'Entry Information'!B131)","v":""},{"$f":"IF('Entry Information'!I131=\"\",\"\",'Entry Information'!C131)","v":""},{"$f":"IF('Entry Information'!I131=\"\",\"\",'Entry Information'!D131)","v":""},{"$f":"IF('Entry Information'!I131=\"\",\"\",'Entry Information'!E131)","v":""},"OPEN",{"$f":"IF('Entry Information'!$I131=\"\",\"\",'OPEN RESULTS'!F11)","v":""},{"$f":"IF('Entry Information'!$I131=\"\",\"\",IF('OPEN RESULTS'!G11=\"\",\"\",'OPEN RESULTS'!G11))","v":""},{"$f":"IF(G10=\"\",F10,(F10+(G10*0.001)))","v":""},{"$f":"IF('Entry Information'!$I131=\"\",\"\",IF('Entry Information'!R131=\"\",H10,H10-100))","v":""},{"$f":"IF(I10=\"\",\"\",(RANK(I10,$I$10:$I$39,0)))","v":""},{"$f":"IF($F10=\"\",\"\",(VLOOKUP($J$41,Worksheet!$A$11:$AE$41,J10+1,FALSE)))","v":""},{"$f":"IF('Entry Information'!$I131=\"\",\"\",'OPEN RESULTS'!L11)","v":""},{"$f":"IF('Entry Information'!$I131=\"\",\"\",IF('OPEN RESULTS'!M11=\"\",\"\",'OPEN RESULTS'!M11))","v":""},{"$f":"IF(M10=\"\",L10,(L10+(M10*0.001)))","v":""},{"$f":"IF('Entry Information'!$I131=\"\",\"\",IF('Entry Information'!T131=\"\",N10,N10-100))","v":""},{"$f":"IF(O10=\"\",\"\",(RANK(O10,$O$10:$O$39,0)))","v":""},{"$f":"IF($L10=\"\",\"\",(VLOOKUP($P$41,Worksheet!$A$11:$AE$41,P10+1,FALSE)))","v":""},{"$f":"IF('Entry Information'!$I131=\"\",\"\",'OPEN RESULTS'!R11)","v":""},{"$f":"IF('Entry Information'!$I131=\"\",\"\",IF('OPEN RESULTS'!S11=\"\",\"\",'OPEN RESULTS'!S11))","v":""},{"$f":"IF(S10=\"\",R10,(R10+(S10*0.001)))","v":""},{"$f":"IF('Entry Information'!$I131=\"\",\"\",IF('Entry Information'!V131=\"\",T10,T10-100))","v":""},{"$f":"IF(U10=\"\",\"\",(RANK(U10,$U$10:$U$39,0)))","v":""},{"$f":"IF($R10=\"\",\"\",(VLOOKUP($V$41,Worksheet!$A$11:$AE$41,V10+1,FALSE)))","v":""},{"$f":"IF('Entry Information'!$I131=\"\",\"\",'OPEN RESULTS'!X11)","v":""},{"$f":"IF('Entry Information'!$I131=\"\",\"\",IF('OPEN RESULTS'!Y11=\"\",\"\",'OPEN RESULTS'!Y11))","v":""},{"$f":"IF(Y10=\"\",X10,(X10+(Y10*0.001)))","v":""},{"$f":"IF('Entry Information'!$I131=\"\",\"\",IF('Entry Information'!X131=\"\",Z10,Z10-100))","v":""},{"$f":"IF(AA10=\"\",\"\",(RANK(AA10,$AA$10:$AA$39,0)))","v":""},{"$f":"IF($X10=\"\",\"\",(VLOOKUP($AB$41,Worksheet!$A$11:$AE$41,AB10+1,FALSE)))","v":""},{"$f":"IF('Entry Information'!$I131=\"\",\"\",'OPEN RESULTS'!AD11)","v":""},{"$f":"IF('Entry Information'!$I131=\"\",\"\",IF('OPEN RESULTS'!AE11=\"\",\"\",'OPEN RESULTS'!AE11))","v":""},{"$f":"IF(AE10=\"\",AD10,(AD10+(AE10*0.001)))","v":""},{"$f":"IF('Entry Information'!$I131=\"\",\"\",IF('Entry Information'!Z131=\"\",AF10,AF10-100))","v":""},{"$f":"IF(AG10=\"\",\"\",(RANK(AG10,$AG$10:$AG$39,0)))","v":""},{"$f":"IF($AD10=\"\",\"\",(VLOOKUP($AH$41,Worksheet!$A$11:$AE$41,AH10+1,FALSE)))","v":""}]
[{"$f":"IF('Entry Information'!I132=\"\",\"\",'Entry Information'!B132)","v":""},{"$f":"IF('Entry Information'!I132=\"\",\"\",'Entry Information'!C132)","v":""},{"$f":"IF('Entry Information'!I132=\"\",\"\",'Entry Information'!D132)","v":""},{"$f":"IF('Entry Information'!I132=\"\",\"\",'Entry Information'!E132)","v":""},"OPEN",{"$f":"IF('Entry Information'!$I132=\"\",\"\",'OPEN RESULTS'!F12)","v":""},{"$f":"IF('Entry Information'!$I132=\"\",\"\",IF('OPEN RESULTS'!G12=\"\",\"\",'OPEN RESULTS'!G12))","v":""},{"$f":"IF(G11=\"\",F11,(F11+(G11*0.001)))","v":""},{"$f":"IF('Entry Information'!$I132=\"\",\"\",IF('Entry Information'!R132=\"\",H11,H11-100))","v":""},{"$f":"IF(I11=\"\",\"\",(RANK(I11,$I$10:$I$39,0)))","v":""},{"$f":"IF($F11=\"\",\"\",(VLOOKUP($J$41,Worksheet!$A$11:$AE$41,J11+1,FALSE)))","v":""},{"$f":"IF('Entry Information'!$I132=\"\",\"\",'OPEN RESULTS'!L12)","v":""},{"$f":"IF('Entry Information'!$I132=\"\",\"\",IF('OPEN RESULTS'!M12=\"\",\"\",'OPEN RESULTS'!M12))","v":""},"",{"$f":"IF('Entry Information'!$I132=\"\",\"\",IF('Entry Information'!T132=\"\",N11,N11-100))","v":""},{"$f":"IF(O11=\"\",\"\",(RANK(O11,$O$10:$O$39,0)))","v":""},{"$f":"IF($L11=\"\",\"\",(VLOOKUP($P$41,Worksheet!$A$11:$AE$41,P11+1,FALSE)))","v":""},{"$f":"IF('Entry Information'!$I132=\"\",\"\",'OPEN RESULTS'!R12)","v":""},{"$f":"IF('Entry Information'!$I132=\"\",\"\",IF('OPEN RESULTS'!S12=\"\",\"\",'OPEN RESULTS'!S12))","v":""},{"$f":"IF(S11=\"\",R11,(R11+(S11*0.001)))","v":""},{"$f":"IF('Entry Information'!$I132=\"\",\"\",IF('Entry Information'!V132=\"\",T11,T11-100))","v":""},{"$f":"IF(T11=\"\",\"\",(RANK(T11,$T$10:$T$39,0)))","v":""},{"$f":"IF($R11=\"\",\"\",(VLOOKUP($V$41,Worksheet!$A$11:$AE$41,V11+1,FALSE)))","v":""},{"$f":"IF('Entry Information'!$I132=\"\",\"\",'OPEN RESULTS'!X12)","v":""},{"$f":"IF('Entry Information'!$I132=\"\",\"\",IF('OPEN RESULTS'!Y12=\"\",\"\",'OPEN RESULTS'!Y12))","v":""},{"$f":"IF(Y11=\"\",X11,(X11+(Y11*0.001)))","v":""},{"$f":"IF('Entry Information'!$I132=\"\",\"\",IF('Entry Information'!X132=\"\",Z11,Z11-100))","v":""},{"$f":"IF(AA11=\"\",\"\",(RANK(AA11,$AA$10:$AA$39,0)))","v":""},{"$f":"IF($X11=\"\",\"\",(VLOOKUP($AB$41,Worksheet!$A$11:$AE$41,AB11+1,FALSE)))","v":""},{"$f":"IF('Entry Information'!$I132=\"\",\"\",'OPEN RESULTS'!AD12)","v":""},{"$f":"IF('Entry Information'!$I132=\"\",\"\",IF('OPEN RESULTS'!AE12=\"\",\"\",'OPEN RESULTS'!AE12))","v":""},{"$f":"IF(AE11=\"\",AD11,(AD11+(AE11*0.001)))","v":""},{"$f":"IF('Entry Information'!$I132=\"\",\"\",IF('Entry Information'!Z132=\"\",AF11,AF11-100))","v":""},{"$f":"IF(AG11=\"\",\"\",(RANK(AG11,$AG$10:$AG$39,0)))","v":""},{"$f":"IF($AD11=\"\",\"\",(VLOOKUP($AH$41,Worksheet!$A$11:$AE$41,AH11+1,FALSE)))","v":""}]
[{"$f":"IF('Entry Information'!I133=\"\",\"\",'Entry Information'!B133)","v":""},{"$f":"IF('Entry Information'!I133=\"\",\"\",'Entry Information'!C133)","v":""},{"$f":"IF('Entry Information'!I133=\"\",\"\",'Entry Information'!D133)","v":""},{"$f":"IF('Entry Information'!I133=\"\",\"\",'Entry Information'!E133)","v":""},"OPEN",{"$f":"IF('Entry Information'!$I133=\"\",\"\",'OPEN RESULTS'!F13)","v":""},{"$f":"IF('Entry Information'!$I133=\"\",\"\",IF('OPEN RESULTS'!G13=\"\",\"\",'OPEN RESULTS'!G13))","v":""},"",{"$f":"IF('Entry Information'!$I133=\"\",\"\",IF('Entry Information'!R133=\"\",H12,H12-100))","v":""},"",{"$f":"IF($F12=\"\",\"\",(VLOOKUP($J$41,Worksheet!$A$11:$AE$41,J12+1,FALSE)))","v":""},{"$f":"IF('Entry Information'!$I133=\"\",\"\",'OPEN RESULTS'!L13)","v":""},{"$f":"IF('Entry Information'!$I133=\"\",\"\",IF('OPEN RESULTS'!M13=\"\",\"\",'OPEN RESULTS'!M13))","v":""},"",{"$f":"IF('Entry Information'!$I133=\"\",\"\",IF('Entry Information'!T133=\"\",N12,N12-100))","v":""},"",{"$f":"IF($L12=\"\",\"\",(VLOOKUP($P$41,Worksheet!$A$11:$AE$41,P12+1,FALSE)))","v":""},{"$f":"IF('Entry Information'!$I133=\"\",\"\",'OPEN RESULTS'!R13)","v":""},{"$f":"IF('Entry Information'!$I133=\"\",\"\",IF('OPEN RESULTS'!S13=\"\",\"\",'OPEN RESULTS'!S13))","v":""},"",{"$f":"IF('Entry Information'!$I133=\"\",\"\",IF('Entry Information'!V133=\"\",T12,T12-100))","v":""},"",{"$f":"IF($R12=\"\",\"\",(VLOOKUP($V$41,Worksheet!$A$11:$AE$41,V12+1,FALSE)))","v":""},{"$f":"IF('Entry Information'!$I133=\"\",\"\",'OPEN RESULTS'!X13)","v":""},{"$f":"IF('Entry Information'!$I133=\"\",\"\",IF('OPEN RESULTS'!Y13=\"\",\"\",'OPEN RESULTS'!Y13))","v":""},"",{"$f":"IF('Entry Information'!$I133=\"\",\"\",IF('Entry Information'!X133=\"\",Z12,Z12-100))","v":""},"",{"$f":"IF($X12=\"\",\"\",(VLOOKUP($AB$41,Worksheet!$A$11:$AE$41,AB12+1,FALSE)))","v":""},{"$f":"IF('Entry Information'!$I133=\"\",\"\",'OPEN RESULTS'!AD13)","v":""},{"$f":"IF('Entry Information'!$I133=\"\",\"\",IF('OPEN RESULTS'!AE13=\"\",\"\",'OPEN RESULTS'!AE13))","v":""},"",{"$f":"IF('Entry Information'!$I133=\"\",\"\",IF('Entry Information'!Z133=\"\",AF12,AF12-100))","v":""},"",{"$f":"IF($AD12=\"\",\"\",(VLOOKUP($AH$41,Worksheet!$A$11:$AE$41,AH12+1,FALSE)))","v":""}]
[{"$f":"IF('Entry Information'!I134=\"\",\"\",'Entry Information'!B134)","v":""},{"$f":"IF('Entry Information'!I134=\"\",\"\",'Entry Information'!C134)","v":""},{"$f":"IF('Entry Information'!I134=\"\",\"\",'Entry Information'!D134)","v":""},{"$f":"IF('Entry Information'!I134=\"\",\"\",'Entry Information'!E134)","v":""},"OPEN",{"$f":"IF('Entry Information'!$I134=\"\",\"\",'OPEN RESULTS'!F14)","v":""},{"$f":"IF('Entry Information'!$I134=\"\",\"\",IF('OPEN RESULTS'!G14=\"\",\"\",'OPEN RESULTS'!G14))","v":""},"",{"$f":"IF('Entry Information'!$I134=\"\",\"\",IF('Entry Information'!R134=\"\",H13,H13-100))","v":""},"",{"$f":"IF($F13=\"\",\"\",(VLOOKUP($J$41,Worksheet!$A$11:$AE$41,J13+1,FALSE)))","v":""},{"$f":"IF('Entry Information'!$I134=\"\",\"\",'OPEN RESULTS'!L14)","v":""},{"$f":"IF('Entry Information'!$I134=\"\",\"\",IF('OPEN RESULTS'!M14=\"\",\"\",'OPEN RESULTS'!M14))","v":""},"",{"$f":"IF('Entry Information'!$I134=\"\",\"\",IF('Entry Information'!T134=\"\",N13,N13-100))","v":""},"",{"$f":"IF($L13=\"\",\"\",(VLOOKUP($P$41,Worksheet!$A$11:$AE$41,P13+1,FALSE)))","v":""},{"$f":"IF('Entry Information'!$I134=\"\",\"\",'OPEN RESULTS'!R14)","v":""},{"$f":"IF('Entry Information'!$I134=\"\",\"\",IF('OPEN RESULTS'!S14=\"\",\"\",'OPEN RESULTS'!S14))","v":""},"",{"$f":"IF('Entry Information'!$I134=\"\",\"\",IF('Entry Information'!V134=\"\",T13,T13-100))","v":""},"",{"$f":"IF($R13=\"\",\"\",(VLOOKUP($V$41,Worksheet!$A$11:$AE$41,V13+1,FALSE)))","v":""},{"$f":"IF('Entry Information'!$I134=\"\",\"\",'OPEN RESULTS'!X14)","v":""},{"$f":"IF('Entry Information'!$I134=\"\",\"\",IF('OPEN RESULTS'!Y14=\"\",\"\",'OPEN RESULTS'!Y14))","v":""},"",{"$f":"IF('Entry Information'!$I134=\"\",\"\",IF('Entry Information'!X134=\"\",Z13,Z13-100))","v":""},"",{"$f":"IF($X13=\"\",\"\",(VLOOKUP($AB$41,Worksheet!$A$11:$AE$41,AB13+1,FALSE)))","v":""},{"$f":"IF('Entry Information'!$I134=\"\",\"\",'OPEN RESULTS'!AD14)","v":""},{"$f":"IF('Entry Information'!$I134=\"\",\"\",IF('OPEN RESULTS'!AE14=\"\",\"\",'OPEN RESULTS'!AE14))","v":""},"",{"$f":"IF('Entry Information'!$I134=\"\",\"\",IF('Entry Information'!Z134=\"\",AF13,AF13-100))","v":""},"",{"$f":"IF($AD13=\"\",\"\",(VLOOKUP($AH$41,Worksheet!$A$11:$AE$41,AH13+1,FALSE)))","v":""}]
[{"$f":"IF('Entry Information'!I135=\"\",\"\",'Entry Information'!B135)","v":""},{"$f":"IF('Entry Information'!I135=\"\",\"\",'Entry Information'!C135)","v":""},{"$f":"IF('Entry Information'!I135=\"\",\"\",'Entry Information'!D135)","v":""},{"$f":"IF('Entry Information'!I135=\"\",\"\",'Entry Information'!E135)","v":""},"OPEN",{"$f":"IF('Entry Information'!$I135=\"\",\"\",'OPEN RESULTS'!F15)","v":""},{"$f":"IF('Entry Information'!$I135=\"\",\"\",IF('OPEN RESULTS'!G15=\"\",\"\",'OPEN RESULTS'!G15))","v":""},"",{"$f":"IF('Entry Information'!$I135=\"\",\"\",IF('Entry Information'!R135=\"\",H14,H14-100))","v":""},"",{"$f":"IF($F14=\"\",\"\",(VLOOKUP($J$41,Worksheet!$A$11:$AE$41,J14+1,FALSE)))","v":""},{"$f":"IF('Entry Information'!$I135=\"\",\"\",'OPEN RESULTS'!L15)","v":""},{"$f":"IF('Entry Information'!$I135=\"\",\"\",IF('OPEN RESULTS'!M15=\"\",\"\",'OPEN RESULTS'!M15))","v":""},"",{"$f":"IF('Entry Information'!$I135=\"\",\"\",IF('Entry Information'!T135=\"\",N14,N14-100))","v":""},"",{"$f":"IF($L14=\"\",\"\",(VLOOKUP($P$41,Worksheet!$A$11:$AE$41,P14+1,FALSE)))","v":""},{"$f":"IF('Entry Information'!$I135=\"\",\"\",'OPEN RESULTS'!R15)","v":""},{"$f":"IF('Entry Information'!$I135=\"\",\"\",IF('OPEN RESULTS'!S15=\"\",\"\",'OPEN RESULTS'!S15))","v":""},"",{"$f":"IF('Entry Information'!$I135=\"\",\"\",IF('Entry Information'!V135=\"\",T14,T14-100))","v":""},"",{"$f":"IF($R14=\"\",\"\",(VLOOKUP($V$41,Worksheet!$A$11:$AE$41,V14+1,FALSE)))","v":""},{"$f":"IF('Entry Information'!$I135=\"\",\"\",'OPEN RESULTS'!X15)","v":""},{"$f":"IF('Entry Information'!$I135=\"\",\"\",IF('OPEN RESULTS'!Y15=\"\",\"\",'OPEN RESULTS'!Y15))","v":""},"",{"$f":"IF('Entry Information'!$I135=\"\",\"\",IF('Entry Information'!X135=\"\",Z14,Z14-100))","v":""},"",{"$f":"IF($X14=\"\",\"\",(VLOOKUP($AB$41,Worksheet!$A$11:$AE$41,AB14+1,FALSE)))","v":""},{"$f":"IF('Entry Information'!$I135=\"\",\"\",'OPEN RESULTS'!AD15)","v":""},{"$f":"IF('Entry Information'!$I135=\"\",\"\",IF('OPEN RESULTS'!AE15=\"\",\"\",'OPEN RESULTS'!AE15))","v":""},"",{"$f":"IF('Entry Information'!$I135=\"\",\"\",IF('Entry Information'!Z135=\"\",AF14,AF14-100))","v":""},"",{"$f":"IF($AD14=\"\",\"\",(VLOOKUP($AH$41,Worksheet!$A$11:$AE$41,AH14+1,FALSE)))","v":""}]
[{"$f":"IF('Entry Information'!I136=\"\",\"\",'Entry Information'!B136)","v":""},{"$f":"IF('Entry Information'!I136=\"\",\"\",'Entry Information'!C136)","v":""},{"$f":"IF('Entry Information'!I136=\"\",\"\",'Entry Information'!D136)","v":""},{"$f":"IF('Entry Information'!I136=\"\",\"\",'Entry Information'!E136)","v":""},"OPEN",{"$f":"IF('Entry Information'!$I136=\"\",\"\",'OPEN RESULTS'!F16)","v":""},{"$f":"IF('Entry Information'!$I136=\"\",\"\",IF('OPEN RESULTS'!G16=\"\",\"\",'OPEN RESULTS'!G16))","v":""},"",{"$f":"IF('Entry Information'!$I136=\"\",\"\",IF('Entry Information'!R136=\"\",H15,H15-100))","v":""},"",{"$f":"IF($F15=\"\",\"\",(VLOOKUP($J$41,Worksheet!$A$11:$AE$41,J15+1,FALSE)))","v":""},{"$f":"IF('Entry Information'!$I136=\"\",\"\",'OPEN RESULTS'!L16)","v":""},{"$f":"IF('Entry Information'!$I136=\"\",\"\",IF('OPEN RESULTS'!M16=\"\",\"\",'OPEN RESULTS'!M16))","v":""},"",{"$f":"IF('Entry Information'!$I136=\"\",\"\",IF('Entry Information'!T136=\"\",N15,N15-100))","v":""},"",{"$f":"IF($L15=\"\",\"\",(VLOOKUP($P$41,Worksheet!$A$11:$AE$41,P15+1,FALSE)))","v":""},{"$f":"IF('Entry Information'!$I136=\"\",\"\",'OPEN RESULTS'!R16)","v":""},{"$f":"IF('Entry Information'!$I136=\"\",\"\",IF('OPEN RESULTS'!S16=\"\",\"\",'OPEN RESULTS'!S16))","v":""},"",{"$f":"IF('Entry Information'!$I136=\"\",\"\",IF('Entry Information'!V136=\"\",T15,T15-100))","v":""},"",{"$f":"IF($R15=\"\",\"\",(VLOOKUP($V$41,Worksheet!$A$11:$AE$41,V15+1,FALSE)))","v":""},{"$f":"IF('Entry Information'!$I136=\"\",\"\",'OPEN RESULTS'!X16)","v":""},{"$f":"IF('Entry Information'!$I136=\"\",\"\",IF('OPEN RESULTS'!Y16=\"\",\"\",'OPEN RESULTS'!Y16))","v":""},"",{"$f":"IF('Entry Information'!$I136=\"\",\"\",IF('Entry Information'!X136=\"\",Z15,Z15-100))","v":""},"",{"$f":"IF($X15=\"\",\"\",(VLOOKUP($AB$41,Worksheet!$A$11:$AE$41,AB15+1,FALSE)))","v":""},{"$f":"IF('Entry Information'!$I136=\"\",\"\",'OPEN RESULTS'!AD16)","v":""},{"$f":"IF('Entry Information'!$I136=\"\",\"\",IF('OPEN RESULTS'!AE16=\"\",\"\",'OPEN RESULTS'!AE16))","v":""},"",{"$f":"IF('Entry Information'!$I136=\"\",\"\",IF('Entry Information'!Z136=\"\",AF15,AF15-100))","v":""},"",{"$f":"IF($AD15=\"\",\"\",(VLOOKUP($AH$41,Worksheet!$A$11:$AE$41,AH15+1,FALSE)))","v":""}]
[{"$f":"IF('Entry Information'!I137=\"\",\"\",'Entry Information'!B137)","v":""},{"$f":"IF('Entry Information'!I137=\"\",\"\",'Entry Information'!C137)","v":""},{"$f":"IF('Entry Information'!I137=\"\",\"\",'Entry Information'!D137)","v":""},{"$f":"IF('Entry Information'!I137=\"\",\"\",'Entry Information'!E137)","v":""},"OPEN",{"$f":"IF('Entry Information'!$I137=\"\",\"\",'OPEN RESULTS'!F17)","v":""},{"$f":"IF('Entry Information'!$I137=\"\",\"\",IF('OPEN RESULTS'!G17=\"\",\"\",'OPEN RESULTS'!G17))","v":""},"",{"$f":"IF('Entry Information'!$I137=\"\",\"\",IF('Entry Information'!R137=\"\",H16,H16-100))","v":""},"",{"$f":"IF($F16=\"\",\"\",(VLOOKUP($J$41,Worksheet!$A$11:$AE$41,J16+1,FALSE)))","v":""},{"$f":"IF('Entry Information'!$I137=\"\",\"\",'OPEN RESULTS'!L17)","v":""},{"$f":"IF('Entry Information'!$I137=\"\",\"\",IF('OPEN RESULTS'!M17=\"\",\"\",'OPEN RESULTS'!M17))","v":""},"",{"$f":"IF('Entry Information'!$I137=\"\",\"\",IF('Entry Information'!T137=\"\",N16,N16-100))","v":""},"",{"$f":"IF($L16=\"\",\"\",(VLOOKUP($P$41,Worksheet!$A$11:$AE$41,P16+1,FALSE)))","v":""},{"$f":"IF('Entry Information'!$I137=\"\",\"\",'OPEN RESULTS'!R17)","v":""},{"$f":"IF('Entry Information'!$I137=\"\",\"\",IF('OPEN RESULTS'!S17=\"\",\"\",'OPEN RESULTS'!S17))","v":""},"",{"$f":"IF('Entry Information'!$I137=\"\",\"\",IF('Entry Information'!V137=\"\",T16,T16-100))","v":""},"",{"$f":"IF($R16=\"\",\"\",(VLOOKUP($V$41,Worksheet!$A$11:$AE$41,V16+1,FALSE)))","v":""},{"$f":"IF('Entry Information'!$I137=\"\",\"\",'OPEN RESULTS'!X17)","v":""},{"$f":"IF('Entry Information'!$I137=\"\",\"\",IF('OPEN RESULTS'!Y17=\"\",\"\",'OPEN RESULTS'!Y17))","v":""},"",{"$f":"IF('Entry Information'!$I137=\"\",\"\",IF('Entry Information'!X137=\"\",Z16,Z16-100))","v":""},"",{"$f":"IF($X16=\"\",\"\",(VLOOKUP($AB$41,Worksheet!$A$11:$AE$41,AB16+1,FALSE)))","v":""},{"$f":"IF('Entry Information'!$I137=\"\",\"\",'OPEN RESULTS'!AD17)","v":""},{"$f":"IF('Entry Information'!$I137=\"\",\"\",IF('OPEN RESULTS'!AE17=\"\",\"\",'OPEN RESULTS'!AE17))","v":""},"",{"$f":"IF('Entry Information'!$I137=\"\",\"\",IF('Entry Information'!Z137=\"\",AF16,AF16-100))","v":""},"",{"$f":"IF($AD16=\"\",\"\",(VLOOKUP($AH$41,Worksheet!$A$11:$AE$41,AH16+1,FALSE)))","v":""}]
[{"$f":"IF('Entry Information'!I138=\"\",\"\",'Entry Information'!B138)","v":""},{"$f":"IF('Entry Information'!I138=\"\",\"\",'Entry Information'!C138)","v":""},{"$f":"IF('Entry Information'!I138=\"\",\"\",'Entry Information'!D138)","v":""},{"$f":"IF('Entry Information'!I138=\"\",\"\",'Entry Information'!E138)","v":""},"OPEN",{"$f":"IF('Entry Information'!$I138=\"\",\"\",'OPEN RESULTS'!F18)","v":""},{"$f":"IF('Entry Information'!$I138=\"\",\"\",IF('OPEN RESULTS'!G18=\"\",\"\",'OPEN RESULTS'!G18))","v":""},"",{"$f":"IF('Entry Information'!$I138=\"\",\"\",IF('Entry Information'!R138=\"\",H17,H17-100))","v":""},"",{"$f":"IF($F17=\"\",\"\",(VLOOKUP($J$41,Worksheet!$A$11:$AE$41,J17+1,FALSE)))","v":""},{"$f":"IF('Entry Information'!$I138=\"\",\"\",'OPEN RESULTS'!L18)","v":""},{"$f":"IF('Entry Information'!$I138=\"\",\"\",IF('OPEN RESULTS'!M18=\"\",\"\",'OPEN RESULTS'!M18))","v":""},"",{"$f":"IF('Entry Information'!$I138=\"\",\"\",IF('Entry Information'!T138=\"\",N17,N17-100))","v":""},"",{"$f":"IF($L17=\"\",\"\",(VLOOKUP($P$41,Worksheet!$A$11:$AE$41,P17+1,FALSE)))","v":""},{"$f":"IF('Entry Information'!$I138=\"\",\"\",'OPEN RESULTS'!R18)","v":""},{"$f":"IF('Entry Information'!$I138=\"\",\"\",IF('OPEN RESULTS'!S18=\"\",\"\",'OPEN RESULTS'!S18))","v":""},"",{"$f":"IF('Entry Information'!$I138=\"\",\"\",IF('Entry Information'!V138=\"\",T17,T17-100))","v":""},"",{"$f":"IF($R17=\"\",\"\",(VLOOKUP($V$41,Worksheet!$A$11:$AE$41,V17+1,FALSE)))","v":""},{"$f":"IF('Entry Information'!$I138=\"\",\"\",'OPEN RESULTS'!X18)","v":""},{"$f":"IF('Entry Information'!$I138=\"\",\"\",IF('OPEN RESULTS'!Y18=\"\",\"\",'OPEN RESULTS'!Y18))","v":""},"",{"$f":"IF('Entry Information'!$I138=\"\",\"\",IF('Entry Information'!X138=\"\",Z17,Z17-100))","v":""},"",{"$f":"IF($X17=\"\",\"\",(VLOOKUP($AB$41,Worksheet!$A$11:$AE$41,AB17+1,FALSE)))","v":""},{"$f":"IF('Entry Information'!$I138=\"\",\"\",'OPEN RESULTS'!AD18)","v":""},{"$f":"IF('Entry Information'!$I138=\"\",\"\",IF('OPEN RESULTS'!AE18=\"\",\"\",'OPEN RESULTS'!AE18))","v":""},"",{"$f":"IF('Entry Information'!$I138=\"\",\"\",IF('Entry Information'!Z138=\"\",AF17,AF17-100))","v":""},"",{"$f":"IF($AD17=\"\",\"\",(VLOOKUP($AH$41,Worksheet!$A$11:$AE$41,AH17+1,FALSE)))","v":""}]
[{"$f":"IF('Entry Information'!I139=\"\",\"\",'Entry Information'!B139)","v":""},{"$f":"IF('Entry Information'!I139=\"\",\"\",'Entry Information'!C139)","v":""},{"$f":"IF('Entry Information'!I139=\"\",\"\",'Entry Information'!D139)","v":""},{"$f":"IF('Entry Information'!I139=\"\",\"\",'Entry Information'!E139)","v":""},"OPEN",{"$f":"IF('Entry Information'!$I139=\"\",\"\",'OPEN RESULTS'!F19)","v":""},{"$f":"IF('Entry Information'!$I139=\"\",\"\",IF('OPEN RESULTS'!G19=\"\",\"\",'OPEN RESULTS'!G19))","v":""},"",{"$f":"IF('Entry Information'!$I139=\"\",\"\",IF('Entry Information'!R139=\"\",H18,H18-100))","v":""},"",{"$f":"IF($F18=\"\",\"\",(VLOOKUP($J$41,Worksheet!$A$11:$AE$41,J18+1,FALSE)))","v":""},{"$f":"IF('Entry Information'!$I139=\"\",\"\",'OPEN RESULTS'!L19)","v":""},{"$f":"IF('Entry Information'!$I139=\"\",\"\",IF('OPEN RESULTS'!M19=\"\",\"\",'OPEN RESULTS'!M19))","v":""},"",{"$f":"IF('Entry Information'!$I139=\"\",\"\",IF('Entry Information'!T139=\"\",N18,N18-100))","v":""},"",{"$f":"IF($L18=\"\",\"\",(VLOOKUP($P$41,Worksheet!$A$11:$AE$41,P18+1,FALSE)))","v":""},{"$f":"IF('Entry Information'!$I139=\"\",\"\",'OPEN RESULTS'!R19)","v":""},{"$f":"IF('Entry Information'!$I139=\"\",\"\",IF('OPEN RESULTS'!S19=\"\",\"\",'OPEN RESULTS'!S19))","v":""},"",{"$f":"IF('Entry Information'!$I139=\"\",\"\",IF('Entry Information'!V139=\"\",T18,T18-100))","v":""},"",{"$f":"IF($R18=\"\",\"\",(VLOOKUP($V$41,Worksheet!$A$11:$AE$41,V18+1,FALSE)))","v":""},{"$f":"IF('Entry Information'!$I139=\"\",\"\",'OPEN RESULTS'!X19)","v":""},{"$f":"IF('Entry Information'!$I139=\"\",\"\",IF('OPEN RESULTS'!Y19=\"\",\"\",'OPEN RESULTS'!Y19))","v":""},"",{"$f":"IF('Entry Information'!$I139=\"\",\"\",IF('Entry Information'!X139=\"\",Z18,Z18-100))","v":""},"",{"$f":"IF($X18=\"\",\"\",(VLOOKUP($AB$41,Worksheet!$A$11:$AE$41,AB18+1,FALSE)))","v":""},{"$f":"IF('Entry Information'!$I139=\"\",\"\",'OPEN RESULTS'!AD19)","v":""},{"$f":"IF('Entry Information'!$I139=\"\",\"\",IF('OPEN RESULTS'!AE19=\"\",\"\",'OPEN RESULTS'!AE19))","v":""},"",{"$f":"IF('Entry Information'!$I139=\"\",\"\",IF('Entry Information'!Z139=\"\",AF18,AF18-100))","v":""},"",{"$f":"IF($AD18=\"\",\"\",(VLOOKUP($AH$41,Worksheet!$A$11:$AE$41,AH18+1,FALSE)))","v":""}]
[{"$f":"IF('Entry Information'!I140=\"\",\"\",'Entry Information'!B140)","v":""},{"$f":"IF('Entry Information'!I140=\"\",\"\",'Entry Information'!C140)","v":""},{"$f":"IF('Entry Information'!I140=\"\",\"\",'Entry Information'!D140)","v":""},{"$f":"IF('Entry Information'!I140=\"\",\"\",'Entry Information'!E140)","v":""},"OPEN",{"$f":"IF('Entry Information'!$I140=\"\",\"\",'OPEN RESULTS'!F20)","v":""},{"$f":"IF('Entry Information'!$I140=\"\",\"\",IF('OPEN RESULTS'!G20=\"\",\"\",'OPEN RESULTS'!G20))","v":""},"",{"$f":"IF('Entry Information'!$I140=\"\",\"\",IF('Entry Information'!R140=\"\",H19,H19-100))","v":""},"",{"$f":"IF($F19=\"\",\"\",(VLOOKUP($J$41,Worksheet!$A$11:$AE$41,J19+1,FALSE)))","v":""},{"$f":"IF('Entry Information'!$I140=\"\",\"\",'OPEN RESULTS'!L20)","v":""},{"$f":"IF('Entry Information'!$I140=\"\",\"\",IF('OPEN RESULTS'!M20=\"\",\"\",'OPEN RESULTS'!M20))","v":""},"",{"$f":"IF('Entry Information'!$I140=\"\",\"\",IF('Entry Information'!T140=\"\",N19,N19-100))","v":""},"",{"$f":"IF($L19=\"\",\"\",(VLOOKUP($P$41,Worksheet!$A$11:$AE$41,P19+1,FALSE)))","v":""},{"$f":"IF('Entry Information'!$I140=\"\",\"\",'OPEN RESULTS'!R20)","v":""},{"$f":"IF('Entry Information'!$I140=\"\",\"\",IF('OPEN RESULTS'!S20=\"\",\"\",'OPEN RESULTS'!S20))","v":""},"",{"$f":"IF('Entry Information'!$I140=\"\",\"\",IF('Entry Information'!V140=\"\",T19,T19-100))","v":""},"",{"$f":"IF($R19=\"\",\"\",(VLOOKUP($V$41,Worksheet!$A$11:$AE$41,V19+1,FALSE)))","v":""},{"$f":"IF('Entry Information'!$I140=\"\",\"\",'OPEN RESULTS'!X20)","v":""},{"$f":"IF('Entry Information'!$I140=\"\",\"\",IF('OPEN RESULTS'!Y20=\"\",\"\",'OPEN RESULTS'!Y20))","v":""},"",{"$f":"IF('Entry Information'!$I140=\"\",\"\",IF('Entry Information'!X140=\"\",Z19,Z19-100))","v":""},"",{"$f":"IF($X19=\"\",\"\",(VLOOKUP($AB$41,Worksheet!$A$11:$AE$41,AB19+1,FALSE)))","v":""},{"$f":"IF('Entry Information'!$I140=\"\",\"\",'OPEN RESULTS'!AD20)","v":""},{"$f":"IF('Entry Information'!$I140=\"\",\"\",IF('OPEN RESULTS'!AE20=\"\",\"\",'OPEN RESULTS'!AE20))","v":""},"",{"$f":"IF('Entry Information'!$I140=\"\",\"\",IF('Entry Information'!Z140=\"\",AF19,AF19-100))","v":""},"",{"$f":"IF($AD19=\"\",\"\",(VLOOKUP($AH$41,Worksheet!$A$11:$AE$41,AH19+1,FALSE)))","v":""}]
[{"$f":"IF('Entry Information'!I141=\"\",\"\",'Entry Information'!B141)","v":""},{"$f":"IF('Entry Information'!I141=\"\",\"\",'Entry Information'!C141)","v":""},{"$f":"IF('Entry Information'!I141=\"\",\"\",'Entry Information'!D141)","v":""},{"$f":"IF('Entry Information'!I141=\"\",\"\",'Entry Information'!E141)","v":""},"OPEN",{"$f":"IF('Entry Information'!$I141=\"\",\"\",'OPEN RESULTS'!F21)","v":""},{"$f":"IF('Entry Information'!$I141=\"\",\"\",IF('OPEN RESULTS'!G21=\"\",\"\",'OPEN RESULTS'!G21))","v":""},"",{"$f":"IF('Entry Information'!$I141=\"\",\"\",IF('Entry Information'!R141=\"\",H20,H20-100))","v":""},"",{"$f":"IF($F20=\"\",\"\",(VLOOKUP($J$41,Worksheet!$A$11:$AE$41,J20+1,FALSE)))","v":""},{"$f":"IF('Entry Information'!$I141=\"\",\"\",'OPEN RESULTS'!L21)","v":""},{"$f":"IF('Entry Information'!$I141=\"\",\"\",IF('OPEN RESULTS'!M21=\"\",\"\",'OPEN RESULTS'!M21))","v":""},"",{"$f":"IF('Entry Information'!$I141=\"\",\"\",IF('Entry Information'!T141=\"\",N20,N20-100))","v":""},"",{"$f":"IF($L20=\"\",\"\",(VLOOKUP($P$41,Worksheet!$A$11:$AE$41,P20+1,FALSE)))","v":""},{"$f":"IF('Entry Information'!$I141=\"\",\"\",'OPEN RESULTS'!R21)","v":""},{"$f":"IF('Entry Information'!$I141=\"\",\"\",IF('OPEN RESULTS'!S21=\"\",\"\",'OPEN RESULTS'!S21))","v":""},"",{"$f":"IF('Entry Information'!$I141=\"\",\"\",IF('Entry Information'!V141=\"\",T20,T20-100))","v":""},"",{"$f":"IF($R20=\"\",\"\",(VLOOKUP($V$41,Worksheet!$A$11:$AE$41,V20+1,FALSE)))","v":""},{"$f":"IF('Entry Information'!$I141=\"\",\"\",'OPEN RESULTS'!X21)","v":""},{"$f":"IF('Entry Information'!$I141=\"\",\"\",IF('OPEN RESULTS'!Y21=\"\",\"\",'OPEN RESULTS'!Y21))","v":""},"",{"$f":"IF('Entry Information'!$I141=\"\",\"\",IF('Entry Information'!X141=\"\",Z20,Z20-100))","v":""},"",{"$f":"IF($X20=\"\",\"\",(VLOOKUP($AB$41,Worksheet!$A$11:$AE$41,AB20+1,FALSE)))","v":""},{"$f":"IF('Entry Information'!$I141=\"\",\"\",'OPEN RESULTS'!AD21)","v":""},{"$f":"IF('Entry Information'!$I141=\"\",\"\",IF('OPEN RESULTS'!AE21=\"\",\"\",'OPEN RESULTS'!AE21))","v":""},"",{"$f":"IF('Entry Information'!$I141=\"\",\"\",IF('Entry Information'!Z141=\"\",AF20,AF20-100))","v":""},"",{"$f":"IF($AD20=\"\",\"\",(VLOOKUP($AH$41,Worksheet!$A$11:$AE$41,AH20+1,FALSE)))","v":""}]
[{"$f":"IF('Entry Information'!I142=\"\",\"\",'Entry Information'!B142)","v":""},{"$f":"IF('Entry Information'!I142=\"\",\"\",'Entry Information'!C142)","v":""},{"$f":"IF('Entry Information'!I142=\"\",\"\",'Entry Information'!D142)","v":""},{"$f":"IF('Entry Information'!I142=\"\",\"\",'Entry Information'!E142)","v":""},"OPEN",{"$f":"IF('Entry Information'!$I142=\"\",\"\",'OPEN RESULTS'!F22)","v":""},{"$f":"IF('Entry Information'!$I142=\"\",\"\",IF('OPEN RESULTS'!G22=\"\",\"\",'OPEN RESULTS'!G22))","v":""},"",{"$f":"IF('Entry Information'!$I142=\"\",\"\",IF('Entry Information'!R142=\"\",H21,H21-100))","v":""},"",{"$f":"IF($F21=\"\",\"\",(VLOOKUP($J$41,Worksheet!$A$11:$AE$41,J21+1,FALSE)))","v":""},{"$f":"IF('Entry Information'!$I142=\"\",\"\",'OPEN RESULTS'!L22)","v":""},{"$f":"IF('Entry Information'!$I142=\"\",\"\",IF('OPEN RESULTS'!M22=\"\",\"\",'OPEN RESULTS'!M22))","v":""},"",{"$f":"IF('Entry Information'!$I142=\"\",\"\",IF('Entry Information'!T142=\"\",N21,N21-100))","v":""},"",{"$f":"IF($L21=\"\",\"\",(VLOOKUP($P$41,Worksheet!$A$11:$AE$41,P21+1,FALSE)))","v":""},{"$f":"IF('Entry Information'!$I142=\"\",\"\",'OPEN RESULTS'!R22)","v":""},{"$f":"IF('Entry Information'!$I142=\"\",\"\",IF('OPEN RESULTS'!S22=\"\",\"\",'OPEN RESULTS'!S22))","v":""},"",{"$f":"IF('Entry Information'!$I142=\"\",\"\",IF('Entry Information'!V142=\"\",T21,T21-100))","v":""},"",{"$f":"IF($R21=\"\",\"\",(VLOOKUP($V$41,Worksheet!$A$11:$AE$41,V21+1,FALSE)))","v":""},{"$f":"IF('Entry Information'!$I142=\"\",\"\",'OPEN RESULTS'!X22)","v":""},{"$f":"IF('Entry Information'!$I142=\"\",\"\",IF('OPEN RESULTS'!Y22=\"\",\"\",'OPEN RESULTS'!Y22))","v":""},"",{"$f":"IF('Entry Information'!$I142=\"\",\"\",IF('Entry Information'!X142=\"\",Z21,Z21-100))","v":""},"",{"$f":"IF($X21=\"\",\"\",(VLOOKUP($AB$41,Worksheet!$A$11:$AE$41,AB21+1,FALSE)))","v":""},{"$f":"IF('Entry Information'!$I142=\"\",\"\",'OPEN RESULTS'!AD22)","v":""},{"$f":"IF('Entry Information'!$I142=\"\",\"\",IF('OPEN RESULTS'!AE22=\"\",\"\",'OPEN RESULTS'!AE22))","v":""},"",{"$f":"IF('Entry Information'!$I142=\"\",\"\",IF('Entry Information'!Z142=\"\",AF21,AF21-100))","v":""},"",{"$f":"IF($AD21=\"\",\"\",(VLOOKUP($AH$41,Worksheet!$A$11:$AE$41,AH21+1,FALSE)))","v":""}]
[{"$f":"IF('Entry Information'!I143=\"\",\"\",'Entry Information'!B143)","v":""},{"$f":"IF('Entry Information'!I143=\"\",\"\",'Entry Information'!C143)","v":""},{"$f":"IF('Entry Information'!I143=\"\",\"\",'Entry Information'!D143)","v":""},{"$f":"IF('Entry Information'!I143=\"\",\"\",'Entry Information'!E143)","v":""},"OPEN",{"$f":"IF('Entry Information'!$I143=\"\",\"\",'OPEN RESULTS'!F23)","v":""},{"$f":"IF('Entry Information'!$I143=\"\",\"\",IF('OPEN RESULTS'!G23=\"\",\"\",'OPEN RESULTS'!G23))","v":""},"",{"$f":"IF('Entry Information'!$I143=\"\",\"\",IF('Entry Information'!R143=\"\",H22,H22-100))","v":""},"",{"$f":"IF($F22=\"\",\"\",(VLOOKUP($J$41,Worksheet!$A$11:$AE$41,J22+1,FALSE)))","v":""},{"$f":"IF('Entry Information'!$I143=\"\",\"\",'OPEN RESULTS'!L23)","v":""},{"$f":"IF('Entry Information'!$I143=\"\",\"\",IF('OPEN RESULTS'!M23=\"\",\"\",'OPEN RESULTS'!M23))","v":""},"",{"$f":"IF('Entry Information'!$I143=\"\",\"\",IF('Entry Information'!T143=\"\",N22,N22-100))","v":""},"",{"$f":"IF($L22=\"\",\"\",(VLOOKUP($P$41,Worksheet!$A$11:$AE$41,P22+1,FALSE)))","v":""},{"$f":"IF('Entry Information'!$I143=\"\",\"\",'OPEN RESULTS'!R23)","v":""},{"$f":"IF('Entry Information'!$I143=\"\",\"\",IF('OPEN RESULTS'!S23=\"\",\"\",'OPEN RESULTS'!S23))","v":""},"",{"$f":"IF('Entry Information'!$I143=\"\",\"\",IF('Entry Information'!V143=\"\",T22,T22-100))","v":""},"",{"$f":"IF($R22=\"\",\"\",(VLOOKUP($V$41,Worksheet!$A$11:$AE$41,V22+1,FALSE)))","v":""},{"$f":"IF('Entry Information'!$I143=\"\",\"\",'OPEN RESULTS'!X23)","v":""},{"$f":"IF('Entry Information'!$I143=\"\",\"\",IF('OPEN RESULTS'!Y23=\"\",\"\",'OPEN RESULTS'!Y23))","v":""},"",{"$f":"IF('Entry Information'!$I143=\"\",\"\",IF('Entry Information'!X143=\"\",Z22,Z22-100))","v":""},"",{"$f":"IF($X22=\"\",\"\",(VLOOKUP($AB$41,Worksheet!$A$11:$AE$41,AB22+1,FALSE)))","v":""},{"$f":"IF('Entry Information'!$I143=\"\",\"\",'OPEN RESULTS'!AD23)","v":""},{"$f":"IF('Entry Information'!$I143=\"\",\"\",IF('OPEN RESULTS'!AE23=\"\",\"\",'OPEN RESULTS'!AE23))","v":""},"",{"$f":"IF('Entry Information'!$I143=\"\",\"\",IF('Entry Information'!Z143=\"\",AF22,AF22-100))","v":""},"",{"$f":"IF($AD22=\"\",\"\",(VLOOKUP($AH$41,Worksheet!$A$11:$AE$41,AH22+1,FALSE)))","v":""}]
[{"$f":"IF('Entry Information'!I144=\"\",\"\",'Entry Information'!B144)","v":""},{"$f":"IF('Entry Information'!I144=\"\",\"\",'Entry Information'!C144)","v":""},{"$f":"IF('Entry Information'!I144=\"\",\"\",'Entry Information'!D144)","v":""},{"$f":"IF('Entry Information'!I144=\"\",\"\",'Entry Information'!E144)","v":""},"OPEN",{"$f":"IF('Entry Information'!$I144=\"\",\"\",'OPEN RESULTS'!F24)","v":""},{"$f":"IF('Entry Information'!$I144=\"\",\"\",IF('OPEN RESULTS'!G24=\"\",\"\",'OPEN RESULTS'!G24))","v":""},"",{"$f":"IF('Entry Information'!$I144=\"\",\"\",IF('Entry Information'!R144=\"\",H23,H23-100))","v":""},"",{"$f":"IF($F23=\"\",\"\",(VLOOKUP($J$41,Worksheet!$A$11:$AE$41,J23+1,FALSE)))","v":""},{"$f":"IF('Entry Information'!$I144=\"\",\"\",'OPEN RESULTS'!L24)","v":""},{"$f":"IF('Entry Information'!$I144=\"\",\"\",IF('OPEN RESULTS'!M24=\"\",\"\",'OPEN RESULTS'!M24))","v":""},"",{"$f":"IF('Entry Information'!$I144=\"\",\"\",IF('Entry Information'!T144=\"\",N23,N23-100))","v":""},"",{"$f":"IF($L23=\"\",\"\",(VLOOKUP($P$41,Worksheet!$A$11:$AE$41,P23+1,FALSE)))","v":""},{"$f":"IF('Entry Information'!$I144=\"\",\"\",'OPEN RESULTS'!R24)","v":""},{"$f":"IF('Entry Information'!$I144=\"\",\"\",IF('OPEN RESULTS'!S24=\"\",\"\",'OPEN RESULTS'!S24))","v":""},"",{"$f":"IF('Entry Information'!$I144=\"\",\"\",IF('Entry Information'!V144=\"\",T23,T23-100))","v":""},"",{"$f":"IF($R23=\"\",\"\",(VLOOKUP($V$41,Worksheet!$A$11:$AE$41,V23+1,FALSE)))","v":""},{"$f":"IF('Entry Information'!$I144=\"\",\"\",'OPEN RESULTS'!X24)","v":""},{"$f":"IF('Entry Information'!$I144=\"\",\"\",IF('OPEN RESULTS'!Y24=\"\",\"\",'OPEN RESULTS'!Y24))","v":""},"",{"$f":"IF('Entry Information'!$I144=\"\",\"\",IF('Entry Information'!X144=\"\",Z23,Z23-100))","v":""},"",{"$f":"IF($X23=\"\",\"\",(VLOOKUP($AB$41,Worksheet!$A$11:$AE$41,AB23+1,FALSE)))","v":""},{"$f":"IF('Entry Information'!$I144=\"\",\"\",'OPEN RESULTS'!AD24)","v":""},{"$f":"IF('Entry Information'!$I144=\"\",\"\",IF('OPEN RESULTS'!AE24=\"\",\"\",'OPEN RESULTS'!AE24))","v":""},"",{"$f":"IF('Entry Information'!$I144=\"\",\"\",IF('Entry Information'!Z144=\"\",AF23,AF23-100))","v":""},"",{"$f":"IF($AD23=\"\",\"\",(VLOOKUP($AH$41,Worksheet!$A$11:$AE$41,AH23+1,FALSE)))","v":""}]
[{"$f":"IF('Entry Information'!I145=\"\",\"\",'Entry Information'!B145)","v":""},{"$f":"IF('Entry Information'!I145=\"\",\"\",'Entry Information'!C145)","v":""},{"$f":"IF('Entry Information'!I145=\"\",\"\",'Entry Information'!D145)","v":""},{"$f":"IF('Entry Information'!I145=\"\",\"\",'Entry Information'!E145)","v":""},"OPEN",{"$f":"IF('Entry Information'!$I145=\"\",\"\",'OPEN RESULTS'!F25)","v":""},{"$f":"IF('Entry Information'!$I145=\"\",\"\",IF('OPEN RESULTS'!G25=\"\",\"\",'OPEN RESULTS'!G25))","v":""},"",{"$f":"IF('Entry Information'!$I145=\"\",\"\",IF('Entry Information'!R145=\"\",H24,H24-100))","v":""},"",{"$f":"IF($F24=\"\",\"\",(VLOOKUP($J$41,Worksheet!$A$11:$AE$41,J24+1,FALSE)))","v":""},{"$f":"IF('Entry Information'!$I145=\"\",\"\",'OPEN RESULTS'!L25)","v":""},{"$f":"IF('Entry Information'!$I145=\"\",\"\",IF('OPEN RESULTS'!M25=\"\",\"\",'OPEN RESULTS'!M25))","v":""},"",{"$f":"IF('Entry Information'!$I145=\"\",\"\",IF('Entry Information'!T145=\"\",N24,N24-100))","v":""},"",{"$f":"IF($L24=\"\",\"\",(VLOOKUP($P$41,Worksheet!$A$11:$AE$41,P24+1,FALSE)))","v":""},{"$f":"IF('Entry Information'!$I145=\"\",\"\",'OPEN RESULTS'!R25)","v":""},{"$f":"IF('Entry Information'!$I145=\"\",\"\",IF('OPEN RESULTS'!S25=\"\",\"\",'OPEN RESULTS'!S25))","v":""},"",{"$f":"IF('Entry Information'!$I145=\"\",\"\",IF('Entry Information'!V145=\"\",T24,T24-100))","v":""},"",{"$f":"IF($R24=\"\",\"\",(VLOOKUP($V$41,Worksheet!$A$11:$AE$41,V24+1,FALSE)))","v":""},{"$f":"IF('Entry Information'!$I145=\"\",\"\",'OPEN RESULTS'!X25)","v":""},{"$f":"IF('Entry Information'!$I145=\"\",\"\",IF('OPEN RESULTS'!Y25=\"\",\"\",'OPEN RESULTS'!Y25))","v":""},"",{"$f":"IF('Entry Information'!$I145=\"\",\"\",IF('Entry Information'!X145=\"\",Z24,Z24-100))","v":""},"",{"$f":"IF($X24=\"\",\"\",(VLOOKUP($AB$41,Worksheet!$A$11:$AE$41,AB24+1,FALSE)))","v":""},{"$f":"IF('Entry Information'!$I145=\"\",\"\",'OPEN RESULTS'!AD25)","v":""},{"$f":"IF('Entry Information'!$I145=\"\",\"\",IF('OPEN RESULTS'!AE25=\"\",\"\",'OPEN RESULTS'!AE25))","v":""},"",{"$f":"IF('Entry Information'!$I145=\"\",\"\",IF('Entry Information'!Z145=\"\",AF24,AF24-100))","v":""},"",{"$f":"IF($AD24=\"\",\"\",(VLOOKUP($AH$41,Worksheet!$A$11:$AE$41,AH24+1,FALSE)))","v":""}]
[{"$f":"IF('Entry Information'!I146=\"\",\"\",'Entry Information'!B146)","v":""},{"$f":"IF('Entry Information'!I146=\"\",\"\",'Entry Information'!C146)","v":""},{"$f":"IF('Entry Information'!I146=\"\",\"\",'Entry Information'!D146)","v":""},{"$f":"IF('Entry Information'!I146=\"\",\"\",'Entry Information'!E146)","v":""},"OPEN",{"$f":"IF('Entry Information'!$I146=\"\",\"\",'OPEN RESULTS'!F26)","v":""},{"$f":"IF('Entry Information'!$I146=\"\",\"\",IF('OPEN RESULTS'!G26=\"\",\"\",'OPEN RESULTS'!G26))","v":""},{"$f":"IF(G25=\"\",F25,(F25+(G25*0.001)))","v":""},{"$f":"IF('Entry Information'!$I146=\"\",\"\",IF('Entry Information'!R146=\"\",H25,H25-100))","v":""},"",{"$f":"IF($F25=\"\",\"\",(VLOOKUP($J$41,Worksheet!$A$11:$AE$41,J25+1,FALSE)))","v":""},{"$f":"IF('Entry Information'!$I146=\"\",\"\",'OPEN RESULTS'!L26)","v":""},{"$f":"IF('Entry Information'!$I146=\"\",\"\",IF('OPEN RESULTS'!M26=\"\",\"\",'OPEN RESULTS'!M26))","v":""},"",{"$f":"IF('Entry Information'!$I146=\"\",\"\",IF('Entry Information'!T146=\"\",N25,N25-100))","v":""},"",{"$f":"IF($L25=\"\",\"\",(VLOOKUP($P$41,Worksheet!$A$11:$AE$41,P25+1,FALSE)))","v":""},{"$f":"IF('Entry Information'!$I146=\"\",\"\",'OPEN RESULTS'!R26)","v":""},{"$f":"IF('Entry Information'!$I146=\"\",\"\",IF('OPEN RESULTS'!S26=\"\",\"\",'OPEN RESULTS'!S26))","v":""},"",{"$f":"IF('Entry Information'!$I146=\"\",\"\",IF('Entry Information'!V146=\"\",T25,T25-100))","v":""},"",{"$f":"IF($R25=\"\",\"\",(VLOOKUP($V$41,Worksheet!$A$11:$AE$41,V25+1,FALSE)))","v":""},{"$f":"IF('Entry Information'!$I146=\"\",\"\",'OPEN RESULTS'!X26)","v":""},{"$f":"IF('Entry Information'!$I146=\"\",\"\",IF('OPEN RESULTS'!Y26=\"\",\"\",'OPEN RESULTS'!Y26))","v":""},{"$f":"IF(Y25=\"\",X25,(X25+(Y25*0.001)))","v":""},{"$f":"IF('Entry Information'!$I146=\"\",\"\",IF('Entry Information'!X146=\"\",Z25,Z25-100))","v":""},"",{"$f":"IF($X25=\"\",\"\",(VLOOKUP($AB$41,Worksheet!$A$11:$AE$41,AB25+1,FALSE)))","v":""},{"$f":"IF('Entry Information'!$I146=\"\",\"\",'OPEN RESULTS'!AD26)","v":""},{"$f":"IF('Entry Information'!$I146=\"\",\"\",IF('OPEN RESULTS'!AE26=\"\",\"\",'OPEN RESULTS'!AE26))","v":""},{"$f":"IF(AE25=\"\",AD25,(AD25+(AE25*0.001)))","v":""},{"$f":"IF('Entry Information'!$I146=\"\",\"\",IF('Entry Information'!Z146=\"\",AF25,AF25-100))","v":""},"",{"$f":"IF($AD25=\"\",\"\",(VLOOKUP($AH$41,Worksheet!$A$11:$AE$41,AH25+1,FALSE)))","v":""}]
[{"$f":"IF('Entry Information'!I147=\"\",\"\",'Entry Information'!B147)","v":""},{"$f":"IF('Entry Information'!I147=\"\",\"\",'Entry Information'!C147)","v":""},{"$f":"IF('Entry Information'!I147=\"\",\"\",'Entry Information'!D147)","v":""},{"$f":"IF('Entry Information'!I147=\"\",\"\",'Entry Information'!E147)","v":""},"OPEN",{"$f":"IF('Entry Information'!$I147=\"\",\"\",'OPEN RESULTS'!F27)","v":""},{"$f":"IF('Entry Information'!$I147=\"\",\"\",IF('OPEN RESULTS'!G27=\"\",\"\",'OPEN RESULTS'!G27))","v":""},{"$f":"IF(G26=\"\",F26,(F26+(G26*0.001)))","v":""},{"$f":"IF('Entry Information'!$I147=\"\",\"\",IF('Entry Information'!R147=\"\",H26,H26-100))","v":""},"",{"$f":"IF($F26=\"\",\"\",(VLOOKUP($J$41,Worksheet!$A$11:$AE$41,J26+1,FALSE)))","v":""},{"$f":"IF('Entry Information'!$I147=\"\",\"\",'OPEN RESULTS'!L27)","v":""},{"$f":"IF('Entry Information'!$I147=\"\",\"\",IF('OPEN RESULTS'!M27=\"\",\"\",'OPEN RESULTS'!M27))","v":""},"",{"$f":"IF('Entry Information'!$I147=\"\",\"\",IF('Entry Information'!T147=\"\",N26,N26-100))","v":""},"",{"$f":"IF($L26=\"\",\"\",(VLOOKUP($P$41,Worksheet!$A$11:$AE$41,P26+1,FALSE)))","v":""},{"$f":"IF('Entry Information'!$I147=\"\",\"\",'OPEN RESULTS'!R27)","v":""},{"$f":"IF('Entry Information'!$I147=\"\",\"\",IF('OPEN RESULTS'!S27=\"\",\"\",'OPEN RESULTS'!S27))","v":""},"",{"$f":"IF('Entry Information'!$I147=\"\",\"\",IF('Entry Information'!V147=\"\",T26,T26-100))","v":""},"",{"$f":"IF($R26=\"\",\"\",(VLOOKUP($V$41,Worksheet!$A$11:$AE$41,V26+1,FALSE)))","v":""},{"$f":"IF('Entry Information'!$I147=\"\",\"\",'OPEN RESULTS'!X27)","v":""},{"$f":"IF('Entry Information'!$I147=\"\",\"\",IF('OPEN RESULTS'!Y27=\"\",\"\",'OPEN RESULTS'!Y27))","v":""},{"$f":"IF(Y26=\"\",X26,(X26+(Y26*0.001)))","v":""},{"$f":"IF('Entry Information'!$I147=\"\",\"\",IF('Entry Information'!X147=\"\",Z26,Z26-100))","v":""},"",{"$f":"IF($X26=\"\",\"\",(VLOOKUP($AB$41,Worksheet!$A$11:$AE$41,AB26+1,FALSE)))","v":""},{"$f":"IF('Entry Information'!$I147=\"\",\"\",'OPEN RESULTS'!AD27)","v":""},{"$f":"IF('Entry Information'!$I147=\"\",\"\",IF('OPEN RESULTS'!AE27=\"\",\"\",'OPEN RESULTS'!AE27))","v":""},{"$f":"IF(AE26=\"\",AD26,(AD26+(AE26*0.001)))","v":""},{"$f":"IF('Entry Information'!$I147=\"\",\"\",IF('Entry Information'!Z147=\"\",AF26,AF26-100))","v":""},"",{"$f":"IF($AD26=\"\",\"\",(VLOOKUP($AH$41,Worksheet!$A$11:$AE$41,AH26+1,FALSE)))","v":""}]
[{"$f":"IF('Entry Information'!I148=\"\",\"\",'Entry Information'!B148)","v":""},{"$f":"IF('Entry Information'!I148=\"\",\"\",'Entry Information'!C148)","v":""},{"$f":"IF('Entry Information'!I148=\"\",\"\",'Entry Information'!D148)","v":""},{"$f":"IF('Entry Information'!I148=\"\",\"\",'Entry Information'!E148)","v":""},"OPEN",{"$f":"IF('Entry Information'!$I148=\"\",\"\",'OPEN RESULTS'!F28)","v":""},{"$f":"IF('Entry Information'!$I148=\"\",\"\",IF('OPEN RESULTS'!G28=\"\",\"\",'OPEN RESULTS'!G28))","v":""},"",{"$f":"IF('Entry Information'!$I148=\"\",\"\",IF('Entry Information'!R148=\"\",H27,H27-100))","v":""},"",{"$f":"IF($F27=\"\",\"\",(VLOOKUP($J$41,Worksheet!$A$11:$AE$41,J27+1,FALSE)))","v":""},{"$f":"IF('Entry Information'!$I148=\"\",\"\",'OPEN RESULTS'!L28)","v":""},{"$f":"IF('Entry Information'!$I148=\"\",\"\",IF('OPEN RESULTS'!M28=\"\",\"\",'OPEN RESULTS'!M28))","v":""},"",{"$f":"IF('Entry Information'!$I148=\"\",\"\",IF('Entry Information'!T148=\"\",N27,N27-100))","v":""},"",{"$f":"IF($L27=\"\",\"\",(VLOOKUP($P$41,Worksheet!$A$11:$AE$41,P27+1,FALSE)))","v":""},{"$f":"IF('Entry Information'!$I148=\"\",\"\",'OPEN RESULTS'!R28)","v":""},{"$f":"IF('Entry Information'!$I148=\"\",\"\",IF('OPEN RESULTS'!S28=\"\",\"\",'OPEN RESULTS'!S28))","v":""},"",{"$f":"IF('Entry Information'!$I148=\"\",\"\",IF('Entry Information'!V148=\"\",T27,T27-100))","v":""},"",{"$f":"IF($R27=\"\",\"\",(VLOOKUP($V$41,Worksheet!$A$11:$AE$41,V27+1,FALSE)))","v":""},{"$f":"IF('Entry Information'!$I148=\"\",\"\",'OPEN RESULTS'!X28)","v":""},{"$f":"IF('Entry Information'!$I148=\"\",\"\",IF('OPEN RESULTS'!Y28=\"\",\"\",'OPEN RESULTS'!Y28))","v":""},"",{"$f":"IF('Entry Information'!$I148=\"\",\"\",IF('Entry Information'!X148=\"\",Z27,Z27-100))","v":""},"",{"$f":"IF($X27=\"\",\"\",(VLOOKUP($AB$41,Worksheet!$A$11:$AE$41,AB27+1,FALSE)))","v":""},{"$f":"IF('Entry Information'!$I148=\"\",\"\",'OPEN RESULTS'!AD28)","v":""},{"$f":"IF('Entry Information'!$I148=\"\",\"\",IF('OPEN RESULTS'!AE28=\"\",\"\",'OPEN RESULTS'!AE28))","v":""},"",{"$f":"IF('Entry Information'!$I148=\"\",\"\",IF('Entry Information'!Z148=\"\",AF27,AF27-100))","v":""},"",{"$f":"IF($AD27=\"\",\"\",(VLOOKUP($AH$41,Worksheet!$A$11:$AE$41,AH27+1,FALSE)))","v":""}]
[{"$f":"IF('Entry Information'!I149=\"\",\"\",'Entry Information'!B149)","v":""},{"$f":"IF('Entry Information'!I149=\"\",\"\",'Entry Information'!C149)","v":""},{"$f":"IF('Entry Information'!I149=\"\",\"\",'Entry Information'!D149)","v":""},{"$f":"IF('Entry Information'!I149=\"\",\"\",'Entry Information'!E149)","v":""},"OPEN",{"$f":"IF('Entry Information'!$I149=\"\",\"\",'OPEN RESULTS'!F29)","v":""},{"$f":"IF('Entry Information'!$I149=\"\",\"\",IF('OPEN RESULTS'!G29=\"\",\"\",'OPEN RESULTS'!G29))","v":""},"",{"$f":"IF('Entry Information'!$I149=\"\",\"\",IF('Entry Information'!R149=\"\",H28,H28-100))","v":""},"",{"$f":"IF($F28=\"\",\"\",(VLOOKUP($J$41,Worksheet!$A$11:$AE$41,J28+1,FALSE)))","v":""},{"$f":"IF('Entry Information'!$I149=\"\",\"\",'OPEN RESULTS'!L29)","v":""},{"$f":"IF('Entry Information'!$I149=\"\",\"\",IF('OPEN RESULTS'!M29=\"\",\"\",'OPEN RESULTS'!M29))","v":""},"",{"$f":"IF('Entry Information'!$I149=\"\",\"\",IF('Entry Information'!T149=\"\",N28,N28-100))","v":""},"",{"$f":"IF($L28=\"\",\"\",(VLOOKUP($P$41,Worksheet!$A$11:$AE$41,P28+1,FALSE)))","v":""},{"$f":"IF('Entry Information'!$I149=\"\",\"\",'OPEN RESULTS'!R29)","v":""},{"$f":"IF('Entry Information'!$I149=\"\",\"\",IF('OPEN RESULTS'!S29=\"\",\"\",'OPEN RESULTS'!S29))","v":""},"",{"$f":"IF('Entry Information'!$I149=\"\",\"\",IF('Entry Information'!V149=\"\",T28,T28-100))","v":""},"",{"$f":"IF($R28=\"\",\"\",(VLOOKUP($V$41,Worksheet!$A$11:$AE$41,V28+1,FALSE)))","v":""},{"$f":"IF('Entry Information'!$I149=\"\",\"\",'OPEN RESULTS'!X29)","v":""},{"$f":"IF('Entry Information'!$I149=\"\",\"\",IF('OPEN RESULTS'!Y29=\"\",\"\",'OPEN RESULTS'!Y29))","v":""},"",{"$f":"IF('Entry Information'!$I149=\"\",\"\",IF('Entry Information'!X149=\"\",Z28,Z28-100))","v":""},"",{"$f":"IF($X28=\"\",\"\",(VLOOKUP($AB$41,Worksheet!$A$11:$AE$41,AB28+1,FALSE)))","v":""},{"$f":"IF('Entry Information'!$I149=\"\",\"\",'OPEN RESULTS'!AD29)","v":""},{"$f":"IF('Entry Information'!$I149=\"\",\"\",IF('OPEN RESULTS'!AE29=\"\",\"\",'OPEN RESULTS'!AE29))","v":""},"",{"$f":"IF('Entry Information'!$I149=\"\",\"\",IF('Entry Information'!Z149=\"\",AF28,AF28-100))","v":""},"",{"$f":"IF($AD28=\"\",\"\",(VLOOKUP($AH$41,Worksheet!$A$11:$AE$41,AH28+1,FALSE)))","v":""}]
[{"$f":"IF('Entry Information'!I150=\"\",\"\",'Entry Information'!B150)","v":""},{"$f":"IF('Entry Information'!I150=\"\",\"\",'Entry Information'!C150)","v":""},{"$f":"IF('Entry Information'!I150=\"\",\"\",'Entry Information'!D150)","v":""},{"$f":"IF('Entry Information'!I150=\"\",\"\",'Entry Information'!E150)","v":""},"OPEN",{"$f":"IF('Entry Information'!$I150=\"\",\"\",'OPEN RESULTS'!F30)","v":""},{"$f":"IF('Entry Information'!$I150=\"\",\"\",IF('OPEN RESULTS'!G30=\"\",\"\",'OPEN RESULTS'!G30))","v":""},"",{"$f":"IF('Entry Information'!$I150=\"\",\"\",IF('Entry Information'!R150=\"\",H29,H29-100))","v":""},"",{"$f":"IF($F29=\"\",\"\",(VLOOKUP($J$41,Worksheet!$A$11:$AE$41,J29+1,FALSE)))","v":""},{"$f":"IF('Entry Information'!$I150=\"\",\"\",'OPEN RESULTS'!L30)","v":""},{"$f":"IF('Entry Information'!$I150=\"\",\"\",IF('OPEN RESULTS'!M30=\"\",\"\",'OPEN RESULTS'!M30))","v":""},"",{"$f":"IF('Entry Information'!$I150=\"\",\"\",IF('Entry Information'!T150=\"\",N29,N29-100))","v":""},"",{"$f":"IF($L29=\"\",\"\",(VLOOKUP($P$41,Worksheet!$A$11:$AE$41,P29+1,FALSE)))","v":""},{"$f":"IF('Entry Information'!$I150=\"\",\"\",'OPEN RESULTS'!R30)","v":""},{"$f":"IF('Entry Information'!$I150=\"\",\"\",IF('OPEN RESULTS'!S30=\"\",\"\",'OPEN RESULTS'!S30))","v":""},"",{"$f":"IF('Entry Information'!$I150=\"\",\"\",IF('Entry Information'!V150=\"\",T29,T29-100))","v":""},"",{"$f":"IF($R29=\"\",\"\",(VLOOKUP($V$41,Worksheet!$A$11:$AE$41,V29+1,FALSE)))","v":""},{"$f":"IF('Entry Information'!$I150=\"\",\"\",'OPEN RESULTS'!X30)","v":""},{"$f":"IF('Entry Information'!$I150=\"\",\"\",IF('OPEN RESULTS'!Y30=\"\",\"\",'OPEN RESULTS'!Y30))","v":""},"",{"$f":"IF('Entry Information'!$I150=\"\",\"\",IF('Entry Information'!X150=\"\",Z29,Z29-100))","v":""},"",{"$f":"IF($X29=\"\",\"\",(VLOOKUP($AB$41,Worksheet!$A$11:$AE$41,AB29+1,FALSE)))","v":""},{"$f":"IF('Entry Information'!$I150=\"\",\"\",'OPEN RESULTS'!AD30)","v":""},{"$f":"IF('Entry Information'!$I150=\"\",\"\",IF('OPEN RESULTS'!AE30=\"\",\"\",'OPEN RESULTS'!AE30))","v":""},"",{"$f":"IF('Entry Information'!$I150=\"\",\"\",IF('Entry Information'!Z150=\"\",AF29,AF29-100))","v":""},"",{"$f":"IF($AD29=\"\",\"\",(VLOOKUP($AH$41,Worksheet!$A$11:$AE$41,AH29+1,FALSE)))","v":""}]
[{"$f":"IF('Entry Information'!I151=\"\",\"\",'Entry Information'!B151)","v":""},{"$f":"IF('Entry Information'!I151=\"\",\"\",'Entry Information'!C151)","v":""},{"$f":"IF('Entry Information'!I151=\"\",\"\",'Entry Information'!D151)","v":""},{"$f":"IF('Entry Information'!I151=\"\",\"\",'Entry Information'!E151)","v":""},"OPEN",{"$f":"IF('Entry Information'!$I151=\"\",\"\",'OPEN RESULTS'!F31)","v":""},{"$f":"IF('Entry Information'!$I151=\"\",\"\",IF('OPEN RESULTS'!G31=\"\",\"\",'OPEN RESULTS'!G31))","v":""},"",{"$f":"IF('Entry Information'!$I151=\"\",\"\",IF('Entry Information'!R151=\"\",H30,H30-100))","v":""},"",{"$f":"IF($F30=\"\",\"\",(VLOOKUP($J$41,Worksheet!$A$11:$AE$41,J30+1,FALSE)))","v":""},{"$f":"IF('Entry Information'!$I151=\"\",\"\",'OPEN RESULTS'!L31)","v":""},{"$f":"IF('Entry Information'!$I151=\"\",\"\",IF('OPEN RESULTS'!M31=\"\",\"\",'OPEN RESULTS'!M31))","v":""},"",{"$f":"IF('Entry Information'!$I151=\"\",\"\",IF('Entry Information'!T151=\"\",N30,N30-100))","v":""},"",{"$f":"IF($L30=\"\",\"\",(VLOOKUP($P$41,Worksheet!$A$11:$AE$41,P30+1,FALSE)))","v":""},{"$f":"IF('Entry Information'!$I151=\"\",\"\",'OPEN RESULTS'!R31)","v":""},{"$f":"IF('Entry Information'!$I151=\"\",\"\",IF('OPEN RESULTS'!S31=\"\",\"\",'OPEN RESULTS'!S31))","v":""},"",{"$f":"IF('Entry Information'!$I151=\"\",\"\",IF('Entry Information'!V151=\"\",T30,T30-100))","v":""},"",{"$f":"IF($R30=\"\",\"\",(VLOOKUP($V$41,Worksheet!$A$11:$AE$41,V30+1,FALSE)))","v":""},{"$f":"IF('Entry Information'!$I151=\"\",\"\",'OPEN RESULTS'!X31)","v":""},{"$f":"IF('Entry Information'!$I151=\"\",\"\",IF('OPEN RESULTS'!Y31=\"\",\"\",'OPEN RESULTS'!Y31))","v":""},"",{"$f":"IF('Entry Information'!$I151=\"\",\"\",IF('Entry Information'!X151=\"\",Z30,Z30-100))","v":""},"",{"$f":"IF($X30=\"\",\"\",(VLOOKUP($AB$41,Worksheet!$A$11:$AE$41,AB30+1,FALSE)))","v":""},{"$f":"IF('Entry Information'!$I151=\"\",\"\",'OPEN RESULTS'!AD31)","v":""},{"$f":"IF('Entry Information'!$I151=\"\",\"\",IF('OPEN RESULTS'!AE31=\"\",\"\",'OPEN RESULTS'!AE31))","v":""},"",{"$f":"IF('Entry Information'!$I151=\"\",\"\",IF('Entry Information'!Z151=\"\",AF30,AF30-100))","v":""},"",{"$f":"IF($AD30=\"\",\"\",(VLOOKUP($AH$41,Worksheet!$A$11:$AE$41,AH30+1,FALSE)))","v":""}]
[{"$f":"IF('Entry Information'!I152=\"\",\"\",'Entry Information'!B152)","v":""},{"$f":"IF('Entry Information'!I152=\"\",\"\",'Entry Information'!C152)","v":""},{"$f":"IF('Entry Information'!I152=\"\",\"\",'Entry Information'!D152)","v":""},{"$f":"IF('Entry Information'!I152=\"\",\"\",'Entry Information'!E152)","v":""},"OPEN",{"$f":"IF('Entry Information'!$I152=\"\",\"\",'OPEN RESULTS'!F32)","v":""},{"$f":"IF('Entry Information'!$I152=\"\",\"\",IF('OPEN RESULTS'!G32=\"\",\"\",'OPEN RESULTS'!G32))","v":""},"",{"$f":"IF('Entry Information'!$I152=\"\",\"\",IF('Entry Information'!R152=\"\",H31,H31-100))","v":""},"",{"$f":"IF($F31=\"\",\"\",(VLOOKUP($J$41,Worksheet!$A$11:$AE$41,J31+1,FALSE)))","v":""},{"$f":"IF('Entry Information'!$I152=\"\",\"\",'OPEN RESULTS'!L32)","v":""},{"$f":"IF('Entry Information'!$I152=\"\",\"\",IF('OPEN RESULTS'!M32=\"\",\"\",'OPEN RESULTS'!M32))","v":""},"",{"$f":"IF('Entry Information'!$I152=\"\",\"\",IF('Entry Information'!T152=\"\",N31,N31-100))","v":""},"",{"$f":"IF($L31=\"\",\"\",(VLOOKUP($P$41,Worksheet!$A$11:$AE$41,P31+1,FALSE)))","v":""},{"$f":"IF('Entry Information'!$I152=\"\",\"\",'OPEN RESULTS'!R32)","v":""},{"$f":"IF('Entry Information'!$I152=\"\",\"\",IF('OPEN RESULTS'!S32=\"\",\"\",'OPEN RESULTS'!S32))","v":""},"",{"$f":"IF('Entry Information'!$I152=\"\",\"\",IF('Entry Information'!V152=\"\",T31,T31-100))","v":""},"",{"$f":"IF($R31=\"\",\"\",(VLOOKUP($V$41,Worksheet!$A$11:$AE$41,V31+1,FALSE)))","v":""},{"$f":"IF('Entry Information'!$I152=\"\",\"\",'OPEN RESULTS'!X32)","v":""},{"$f":"IF('Entry Information'!$I152=\"\",\"\",IF('OPEN RESULTS'!Y32=\"\",\"\",'OPEN RESULTS'!Y32))","v":""},"",{"$f":"IF('Entry Information'!$I152=\"\",\"\",IF('Entry Information'!X152=\"\",Z31,Z31-100))","v":""},"",{"$f":"IF($X31=\"\",\"\",(VLOOKUP($AB$41,Worksheet!$A$11:$AE$41,AB31+1,FALSE)))","v":""},{"$f":"IF('Entry Information'!$I152=\"\",\"\",'OPEN RESULTS'!AD32)","v":""},{"$f":"IF('Entry Information'!$I152=\"\",\"\",IF('OPEN RESULTS'!AE32=\"\",\"\",'OPEN RESULTS'!AE32))","v":""},"",{"$f":"IF('Entry Information'!$I152=\"\",\"\",IF('Entry Information'!Z152=\"\",AF31,AF31-100))","v":""},"",{"$f":"IF($AD31=\"\",\"\",(VLOOKUP($AH$41,Worksheet!$A$11:$AE$41,AH31+1,FALSE)))","v":""}]
[{"$f":"IF('Entry Information'!I153=\"\",\"\",'Entry Information'!B153)","v":""},{"$f":"IF('Entry Information'!I153=\"\",\"\",'Entry Information'!C153)","v":""},{"$f":"IF('Entry Information'!I153=\"\",\"\",'Entry Information'!D153)","v":""},{"$f":"IF('Entry Information'!I153=\"\",\"\",'Entry Information'!E153)","v":""},"OPEN",{"$f":"IF('Entry Information'!$I153=\"\",\"\",'OPEN RESULTS'!F33)","v":""},{"$f":"IF('Entry Information'!$I153=\"\",\"\",IF('OPEN RESULTS'!G33=\"\",\"\",'OPEN RESULTS'!G33))","v":""},"",{"$f":"IF('Entry Information'!$I153=\"\",\"\",IF('Entry Information'!R153=\"\",H32,H32-100))","v":""},"",{"$f":"IF($F32=\"\",\"\",(VLOOKUP($J$41,Worksheet!$A$11:$AE$41,J32+1,FALSE)))","v":""},{"$f":"IF('Entry Information'!$I153=\"\",\"\",'OPEN RESULTS'!L33)","v":""},{"$f":"IF('Entry Information'!$I153=\"\",\"\",IF('OPEN RESULTS'!M33=\"\",\"\",'OPEN RESULTS'!M33))","v":""},"",{"$f":"IF('Entry Information'!$I153=\"\",\"\",IF('Entry Information'!T153=\"\",N32,N32-100))","v":""},"",{"$f":"IF($L32=\"\",\"\",(VLOOKUP($P$41,Worksheet!$A$11:$AE$41,P32+1,FALSE)))","v":""},{"$f":"IF('Entry Information'!$I153=\"\",\"\",'OPEN RESULTS'!R33)","v":""},{"$f":"IF('Entry Information'!$I153=\"\",\"\",IF('OPEN RESULTS'!S33=\"\",\"\",'OPEN RESULTS'!S33))","v":""},"",{"$f":"IF('Entry Information'!$I153=\"\",\"\",IF('Entry Information'!V153=\"\",T32,T32-100))","v":""},"",{"$f":"IF($R32=\"\",\"\",(VLOOKUP($V$41,Worksheet!$A$11:$AE$41,V32+1,FALSE)))","v":""},{"$f":"IF('Entry Information'!$I153=\"\",\"\",'OPEN RESULTS'!X33)","v":""},{"$f":"IF('Entry Information'!$I153=\"\",\"\",IF('OPEN RESULTS'!Y33=\"\",\"\",'OPEN RESULTS'!Y33))","v":""},"",{"$f":"IF('Entry Information'!$I153=\"\",\"\",IF('Entry Information'!X153=\"\",Z32,Z32-100))","v":""},"",{"$f":"IF($X32=\"\",\"\",(VLOOKUP($AB$41,Worksheet!$A$11:$AE$41,AB32+1,FALSE)))","v":""},{"$f":"IF('Entry Information'!$I153=\"\",\"\",'OPEN RESULTS'!AD33)","v":""},{"$f":"IF('Entry Information'!$I153=\"\",\"\",IF('OPEN RESULTS'!AE33=\"\",\"\",'OPEN RESULTS'!AE33))","v":""},"",{"$f":"IF('Entry Information'!$I153=\"\",\"\",IF('Entry Information'!Z153=\"\",AF32,AF32-100))","v":""},"",{"$f":"IF($AD32=\"\",\"\",(VLOOKUP($AH$41,Worksheet!$A$11:$AE$41,AH32+1,FALSE)))","v":""}]
[{"$f":"IF('Entry Information'!I154=\"\",\"\",'Entry Information'!B154)","v":""},{"$f":"IF('Entry Information'!I154=\"\",\"\",'Entry Information'!C154)","v":""},{"$f":"IF('Entry Information'!I154=\"\",\"\",'Entry Information'!D154)","v":""},{"$f":"IF('Entry Information'!I154=\"\",\"\",'Entry Information'!E154)","v":""},"OPEN",{"$f":"IF('Entry Information'!$I154=\"\",\"\",'OPEN RESULTS'!F34)","v":""},{"$f":"IF('Entry Information'!$I154=\"\",\"\",IF('OPEN RESULTS'!G34=\"\",\"\",'OPEN RESULTS'!G34))","v":""},"",{"$f":"IF('Entry Information'!$I154=\"\",\"\",IF('Entry Information'!R154=\"\",H33,H33-100))","v":""},"",{"$f":"IF($F33=\"\",\"\",(VLOOKUP($J$41,Worksheet!$A$11:$AE$41,J33+1,FALSE)))","v":""},{"$f":"IF('Entry Information'!$I154=\"\",\"\",'OPEN RESULTS'!L34)","v":""},{"$f":"IF('Entry Information'!$I154=\"\",\"\",IF('OPEN RESULTS'!M34=\"\",\"\",'OPEN RESULTS'!M34))","v":""},"",{"$f":"IF('Entry Information'!$I154=\"\",\"\",IF('Entry Information'!T154=\"\",N33,N33-100))","v":""},"",{"$f":"IF($L33=\"\",\"\",(VLOOKUP($P$41,Worksheet!$A$11:$AE$41,P33+1,FALSE)))","v":""},{"$f":"IF('Entry Information'!$I154=\"\",\"\",'OPEN RESULTS'!R34)","v":""},{"$f":"IF('Entry Information'!$I154=\"\",\"\",IF('OPEN RESULTS'!S34=\"\",\"\",'OPEN RESULTS'!S34))","v":""},"",{"$f":"IF('Entry Information'!$I154=\"\",\"\",IF('Entry Information'!V154=\"\",T33,T33-100))","v":""},"",{"$f":"IF($R33=\"\",\"\",(VLOOKUP($V$41,Worksheet!$A$11:$AE$41,V33+1,FALSE)))","v":""},{"$f":"IF('Entry Information'!$I154=\"\",\"\",'OPEN RESULTS'!X34)","v":""},{"$f":"IF('Entry Information'!$I154=\"\",\"\",IF('OPEN RESULTS'!Y34=\"\",\"\",'OPEN RESULTS'!Y34))","v":""},"",{"$f":"IF('Entry Information'!$I154=\"\",\"\",IF('Entry Information'!X154=\"\",Z33,Z33-100))","v":""},"",{"$f":"IF($X33=\"\",\"\",(VLOOKUP($AB$41,Worksheet!$A$11:$AE$41,AB33+1,FALSE)))","v":""},{"$f":"IF('Entry Information'!$I154=\"\",\"\",'OPEN RESULTS'!AD34)","v":""},{"$f":"IF('Entry Information'!$I154=\"\",\"\",IF('OPEN RESULTS'!AE34=\"\",\"\",'OPEN RESULTS'!AE34))","v":""},"",{"$f":"IF('Entry Information'!$I154=\"\",\"\",IF('Entry Information'!Z154=\"\",AF33,AF33-100))","v":""},"",{"$f":"IF($AD33=\"\",\"\",(VLOOKUP($AH$41,Worksheet!$A$11:$AE$41,AH33+1,FALSE)))","v":""}]
[{"$f":"IF('Entry Information'!I155=\"\",\"\",'Entry Information'!B155)","v":""},{"$f":"IF('Entry Information'!I155=\"\",\"\",'Entry Information'!C155)","v":""},{"$f":"IF('Entry Information'!I155=\"\",\"\",'Entry Information'!D155)","v":""},{"$f":"IF('Entry Information'!I155=\"\",\"\",'Entry Information'!E155)","v":""},"OPEN",{"$f":"IF('Entry Information'!$I155=\"\",\"\",'OPEN RESULTS'!F35)","v":""},{"$f":"IF('Entry Information'!$I155=\"\",\"\",IF('OPEN RESULTS'!G35=\"\",\"\",'OPEN RESULTS'!G35))","v":""},"",{"$f":"IF('Entry Information'!$I155=\"\",\"\",IF('Entry Information'!R155=\"\",H34,H34-100))","v":""},"",{"$f":"IF($F34=\"\",\"\",(VLOOKUP($J$41,Worksheet!$A$11:$AE$41,J34+1,FALSE)))","v":""},{"$f":"IF('Entry Information'!$I155=\"\",\"\",'OPEN RESULTS'!L35)","v":""},{"$f":"IF('Entry Information'!$I155=\"\",\"\",IF('OPEN RESULTS'!M35=\"\",\"\",'OPEN RESULTS'!M35))","v":""},"",{"$f":"IF('Entry Information'!$I155=\"\",\"\",IF('Entry Information'!T155=\"\",N34,N34-100))","v":""},"",{"$f":"IF($L34=\"\",\"\",(VLOOKUP($P$41,Worksheet!$A$11:$AE$41,P34+1,FALSE)))","v":""},{"$f":"IF('Entry Information'!$I155=\"\",\"\",'OPEN RESULTS'!R35)","v":""},{"$f":"IF('Entry Information'!$I155=\"\",\"\",IF('OPEN RESULTS'!S35=\"\",\"\",'OPEN RESULTS'!S35))","v":""},"",{"$f":"IF('Entry Information'!$I155=\"\",\"\",IF('Entry Information'!V155=\"\",T34,T34-100))","v":""},"",{"$f":"IF($R34=\"\",\"\",(VLOOKUP($V$41,Worksheet!$A$11:$AE$41,V34+1,FALSE)))","v":""},{"$f":"IF('Entry Information'!$I155=\"\",\"\",'OPEN RESULTS'!X35)","v":""},{"$f":"IF('Entry Information'!$I155=\"\",\"\",IF('OPEN RESULTS'!Y35=\"\",\"\",'OPEN RESULTS'!Y35))","v":""},"",{"$f":"IF('Entry Information'!$I155=\"\",\"\",IF('Entry Information'!X155=\"\",Z34,Z34-100))","v":""},"",{"$f":"IF($X34=\"\",\"\",(VLOOKUP($AB$41,Worksheet!$A$11:$AE$41,AB34+1,FALSE)))","v":""},{"$f":"IF('Entry Information'!$I155=\"\",\"\",'OPEN RESULTS'!AD35)","v":""},{"$f":"IF('Entry Information'!$I155=\"\",\"\",IF('OPEN RESULTS'!AE35=\"\",\"\",'OPEN RESULTS'!AE35))","v":""},"",{"$f":"IF('Entry Information'!$I155=\"\",\"\",IF('Entry Information'!Z155=\"\",AF34,AF34-100))","v":""},"",{"$f":"IF($AD34=\"\",\"\",(VLOOKUP($AH$41,Worksheet!$A$11:$AE$41,AH34+1,FALSE)))","v":""}]
[{"$f":"IF('Entry Information'!I156=\"\",\"\",'Entry Information'!B156)","v":""},{"$f":"IF('Entry Information'!I156=\"\",\"\",'Entry Information'!C156)","v":""},{"$f":"IF('Entry Information'!I156=\"\",\"\",'Entry Information'!D156)","v":""},{"$f":"IF('Entry Information'!I156=\"\",\"\",'Entry Information'!E156)","v":""},"OPEN",{"$f":"IF('Entry Information'!$I156=\"\",\"\",'OPEN RESULTS'!F36)","v":""},{"$f":"IF('Entry Information'!$I156=\"\",\"\",IF('OPEN RESULTS'!G36=\"\",\"\",'OPEN RESULTS'!G36))","v":""},"",{"$f":"IF('Entry Information'!$I156=\"\",\"\",IF('Entry Information'!R156=\"\",H35,H35-100))","v":""},"",{"$f":"IF($F35=\"\",\"\",(VLOOKUP($J$41,Worksheet!$A$11:$AE$41,J35+1,FALSE)))","v":""},{"$f":"IF('Entry Information'!$I156=\"\",\"\",'OPEN RESULTS'!L36)","v":""},{"$f":"IF('Entry Information'!$I156=\"\",\"\",IF('OPEN RESULTS'!M36=\"\",\"\",'OPEN RESULTS'!M36))","v":""},"",{"$f":"IF('Entry Information'!$I156=\"\",\"\",IF('Entry Information'!T156=\"\",N35,N35-100))","v":""},"",{"$f":"IF($L35=\"\",\"\",(VLOOKUP($P$41,Worksheet!$A$11:$AE$41,P35+1,FALSE)))","v":""},{"$f":"IF('Entry Information'!$I156=\"\",\"\",'OPEN RESULTS'!R36)","v":""},{"$f":"IF('Entry Information'!$I156=\"\",\"\",IF('OPEN RESULTS'!S36=\"\",\"\",'OPEN RESULTS'!S36))","v":""},"",{"$f":"IF('Entry Information'!$I156=\"\",\"\",IF('Entry Information'!V156=\"\",T35,T35-100))","v":""},"",{"$f":"IF($R35=\"\",\"\",(VLOOKUP($V$41,Worksheet!$A$11:$AE$41,V35+1,FALSE)))","v":""},{"$f":"IF('Entry Information'!$I156=\"\",\"\",'OPEN RESULTS'!X36)","v":""},{"$f":"IF('Entry Information'!$I156=\"\",\"\",IF('OPEN RESULTS'!Y36=\"\",\"\",'OPEN RESULTS'!Y36))","v":""},"",{"$f":"IF('Entry Information'!$I156=\"\",\"\",IF('Entry Information'!X156=\"\",Z35,Z35-100))","v":""},"",{"$f":"IF($X35=\"\",\"\",(VLOOKUP($AB$41,Worksheet!$A$11:$AE$41,AB35+1,FALSE)))","v":""},{"$f":"IF('Entry Information'!$I156=\"\",\"\",'OPEN RESULTS'!AD36)","v":""},{"$f":"IF('Entry Information'!$I156=\"\",\"\",IF('OPEN RESULTS'!AE36=\"\",\"\",'OPEN RESULTS'!AE36))","v":""},"",{"$f":"IF('Entry Information'!$I156=\"\",\"\",IF('Entry Information'!Z156=\"\",AF35,AF35-100))","v":""},"",{"$f":"IF($AD35=\"\",\"\",(VLOOKUP($AH$41,Worksheet!$A$11:$AE$41,AH35+1,FALSE)))","v":""}]
[{"$f":"IF('Entry Information'!I157=\"\",\"\",'Entry Information'!B157)","v":""},{"$f":"IF('Entry Information'!I157=\"\",\"\",'Entry Information'!C157)","v":""},{"$f":"IF('Entry Information'!I157=\"\",\"\",'Entry Information'!D157)","v":""},{"$f":"IF('Entry Information'!I157=\"\",\"\",'Entry Information'!E157)","v":""},"OPEN",{"$f":"IF('Entry Information'!$I157=\"\",\"\",'OPEN RESULTS'!F37)","v":""},{"$f":"IF('Entry Information'!$I157=\"\",\"\",IF('OPEN RESULTS'!G37=\"\",\"\",'OPEN RESULTS'!G37))","v":""},"",{"$f":"IF('Entry Information'!$I157=\"\",\"\",IF('Entry Information'!R157=\"\",H36,H36-100))","v":""},"",{"$f":"IF($F36=\"\",\"\",(VLOOKUP($J$41,Worksheet!$A$11:$AE$41,J36+1,FALSE)))","v":""},{"$f":"IF('Entry Information'!$I157=\"\",\"\",'OPEN RESULTS'!L37)","v":""},{"$f":"IF('Entry Information'!$I157=\"\",\"\",IF('OPEN RESULTS'!M37=\"\",\"\",'OPEN RESULTS'!M37))","v":""},"",{"$f":"IF('Entry Information'!$I157=\"\",\"\",IF('Entry Information'!T157=\"\",N36,N36-100))","v":""},"",{"$f":"IF($L36=\"\",\"\",(VLOOKUP($P$41,Worksheet!$A$11:$AE$41,P36+1,FALSE)))","v":""},{"$f":"IF('Entry Information'!$I157=\"\",\"\",'OPEN RESULTS'!R37)","v":""},{"$f":"IF('Entry Information'!$I157=\"\",\"\",IF('OPEN RESULTS'!S37=\"\",\"\",'OPEN RESULTS'!S37))","v":""},"",{"$f":"IF('Entry Information'!$I157=\"\",\"\",IF('Entry Information'!V157=\"\",T36,T36-100))","v":""},"",{"$f":"IF($R36=\"\",\"\",(VLOOKUP($V$41,Worksheet!$A$11:$AE$41,V36+1,FALSE)))","v":""},{"$f":"IF('Entry Information'!$I157=\"\",\"\",'OPEN RESULTS'!X37)","v":""},{"$f":"IF('Entry Information'!$I157=\"\",\"\",IF('OPEN RESULTS'!Y37=\"\",\"\",'OPEN RESULTS'!Y37))","v":""},"",{"$f":"IF('Entry Information'!$I157=\"\",\"\",IF('Entry Information'!X157=\"\",Z36,Z36-100))","v":""},"",{"$f":"IF($X36=\"\",\"\",(VLOOKUP($AB$41,Worksheet!$A$11:$AE$41,AB36+1,FALSE)))","v":""},{"$f":"IF('Entry Information'!$I157=\"\",\"\",'OPEN RESULTS'!AD37)","v":""},{"$f":"IF('Entry Information'!$I157=\"\",\"\",IF('OPEN RESULTS'!AE37=\"\",\"\",'OPEN RESULTS'!AE37))","v":""},"",{"$f":"IF('Entry Information'!$I157=\"\",\"\",IF('Entry Information'!Z157=\"\",AF36,AF36-100))","v":""},"",{"$f":"IF($AD36=\"\",\"\",(VLOOKUP($AH$41,Worksheet!$A$11:$AE$41,AH36+1,FALSE)))","v":""}]
[{"$f":"IF('Entry Information'!I158=\"\",\"\",'Entry Information'!B158)","v":""},{"$f":"IF('Entry Information'!I158=\"\",\"\",'Entry Information'!C158)","v":""},{"$f":"IF('Entry Information'!I158=\"\",\"\",'Entry Information'!D158)","v":""},{"$f":"IF('Entry Information'!I158=\"\",\"\",'Entry Information'!E158)","v":""},"OPEN",{"$f":"IF('Entry Information'!$I158=\"\",\"\",'OPEN RESULTS'!F38)","v":""},{"$f":"IF('Entry Information'!$I158=\"\",\"\",IF('OPEN RESULTS'!G38=\"\",\"\",'OPEN RESULTS'!G38))","v":""},"",{"$f":"IF('Entry Information'!$I158=\"\",\"\",IF('Entry Information'!R158=\"\",H37,H37-100))","v":""},"",{"$f":"IF($F37=\"\",\"\",(VLOOKUP($J$41,Worksheet!$A$11:$AE$41,J37+1,FALSE)))","v":""},{"$f":"IF('Entry Information'!$I158=\"\",\"\",'OPEN RESULTS'!L38)","v":""},{"$f":"IF('Entry Information'!$I158=\"\",\"\",IF('OPEN RESULTS'!M38=\"\",\"\",'OPEN RESULTS'!M38))","v":""},"",{"$f":"IF('Entry Information'!$I158=\"\",\"\",IF('Entry Information'!T158=\"\",N37,N37-100))","v":""},"",{"$f":"IF($L37=\"\",\"\",(VLOOKUP($P$41,Worksheet!$A$11:$AE$41,P37+1,FALSE)))","v":""},{"$f":"IF('Entry Information'!$I158=\"\",\"\",'OPEN RESULTS'!R38)","v":""},{"$f":"IF('Entry Information'!$I158=\"\",\"\",IF('OPEN RESULTS'!S38=\"\",\"\",'OPEN RESULTS'!S38))","v":""},"",{"$f":"IF('Entry Information'!$I158=\"\",\"\",IF('Entry Information'!V158=\"\",T37,T37-100))","v":""},"",{"$f":"IF($R37=\"\",\"\",(VLOOKUP($V$41,Worksheet!$A$11:$AE$41,V37+1,FALSE)))","v":""},{"$f":"IF('Entry Information'!$I158=\"\",\"\",'OPEN RESULTS'!X38)","v":""},{"$f":"IF('Entry Information'!$I158=\"\",\"\",IF('OPEN RESULTS'!Y38=\"\",\"\",'OPEN RESULTS'!Y38))","v":""},"",{"$f":"IF('Entry Information'!$I158=\"\",\"\",IF('Entry Information'!X158=\"\",Z37,Z37-100))","v":""},"",{"$f":"IF($X37=\"\",\"\",(VLOOKUP($AB$41,Worksheet!$A$11:$AE$41,AB37+1,FALSE)))","v":""},{"$f":"IF('Entry Information'!$I158=\"\",\"\",'OPEN RESULTS'!AD38)","v":""},{"$f":"IF('Entry Information'!$I158=\"\",\"\",IF('OPEN RESULTS'!AE38=\"\",\"\",'OPEN RESULTS'!AE38))","v":""},"",{"$f":"IF('Entry Information'!$I158=\"\",\"\",IF('Entry Information'!Z158=\"\",AF37,AF37-100))","v":""},"",{"$f":"IF($AD37=\"\",\"\",(VLOOKUP($AH$41,Worksheet!$A$11:$AE$41,AH37+1,FALSE)))","v":""}]
[{"$f":"IF('Entry Information'!I159=\"\",\"\",'Entry Information'!B159)","v":""},{"$f":"IF('Entry Information'!I159=\"\",\"\",'Entry Information'!C159)","v":""},{"$f":"IF('Entry Information'!I159=\"\",\"\",'Entry Information'!D159)","v":""},{"$f":"IF('Entry Information'!I159=\"\",\"\",'Entry Information'!E159)","v":""},"OPEN",{"$f":"IF('Entry Information'!$I159=\"\",\"\",'OPEN RESULTS'!F39)","v":""},{"$f":"IF('Entry Information'!$I159=\"\",\"\",IF('OPEN RESULTS'!G39=\"\",\"\",'OPEN RESULTS'!G39))","v":""},"",{"$f":"IF('Entry Information'!$I159=\"\",\"\",IF('Entry Information'!R159=\"\",H38,H38-100))","v":""},"",{"$f":"IF($F38=\"\",\"\",(VLOOKUP($J$41,Worksheet!$A$11:$AE$41,J38+1,FALSE)))","v":""},{"$f":"IF('Entry Information'!$I159=\"\",\"\",'OPEN RESULTS'!L39)","v":""},{"$f":"IF('Entry Information'!$I159=\"\",\"\",IF('OPEN RESULTS'!M39=\"\",\"\",'OPEN RESULTS'!M39))","v":""},"",{"$f":"IF('Entry Information'!$I159=\"\",\"\",IF('Entry Information'!T159=\"\",N38,N38-100))","v":""},"",{"$f":"IF($L38=\"\",\"\",(VLOOKUP($P$41,Worksheet!$A$11:$AE$41,P38+1,FALSE)))","v":""},{"$f":"IF('Entry Information'!$I159=\"\",\"\",'OPEN RESULTS'!R39)","v":""},{"$f":"IF('Entry Information'!$I159=\"\",\"\",IF('OPEN RESULTS'!S39=\"\",\"\",'OPEN RESULTS'!S39))","v":""},"",{"$f":"IF('Entry Information'!$I159=\"\",\"\",IF('Entry Information'!V159=\"\",T38,T38-100))","v":""},"",{"$f":"IF($R38=\"\",\"\",(VLOOKUP($V$41,Worksheet!$A$11:$AE$41,V38+1,FALSE)))","v":""},{"$f":"IF('Entry Information'!$I159=\"\",\"\",'OPEN RESULTS'!X39)","v":""},{"$f":"IF('Entry Information'!$I159=\"\",\"\",IF('OPEN RESULTS'!Y39=\"\",\"\",'OPEN RESULTS'!Y39))","v":""},"",{"$f":"IF('Entry Information'!$I159=\"\",\"\",IF('Entry Information'!X159=\"\",Z38,Z38-100))","v":""},"",{"$f":"IF($X38=\"\",\"\",(VLOOKUP($AB$41,Worksheet!$A$11:$AE$41,AB38+1,FALSE)))","v":""},{"$f":"IF('Entry Information'!$I159=\"\",\"\",'OPEN RESULTS'!AD39)","v":""},{"$f":"IF('Entry Information'!$I159=\"\",\"\",IF('OPEN RESULTS'!AE39=\"\",\"\",'OPEN RESULTS'!AE39))","v":""},"",{"$f":"IF('Entry Information'!$I159=\"\",\"\",IF('Entry Information'!Z159=\"\",AF38,AF38-100))","v":""},"",{"$f":"IF($AD38=\"\",\"\",(VLOOKUP($AH$41,Worksheet!$A$11:$AE$41,AH38+1,FALSE)))","v":""}]
[{"$f":"IF('Entry Information'!I160=\"\",\"\",'Entry Information'!B160)","v":""},{"$f":"IF('Entry Information'!I160=\"\",\"\",'Entry Information'!C160)","v":""},{"$f":"IF('Entry Information'!I160=\"\",\"\",'Entry Information'!D160)","v":""},{"$f":"IF('Entry Information'!I160=\"\",\"\",'Entry Information'!E160)","v":""},"OPEN",{"$f":"IF('Entry Information'!$I160=\"\",\"\",'OPEN RESULTS'!F40)","v":""},{"$f":"IF('Entry Information'!$I160=\"\",\"\",IF('OPEN RESULTS'!G40=\"\",\"\",'OPEN RESULTS'!G40))","v":""},"",{"$f":"IF('Entry Information'!$I160=\"\",\"\",IF('Entry Information'!R160=\"\",H39,H39-100))","v":""},"",{"$f":"IF($F39=\"\",\"\",(VLOOKUP($J$41,Worksheet!$A$11:$AE$41,J39+1,FALSE)))","v":""},{"$f":"IF('Entry Information'!$I160=\"\",\"\",'OPEN RESULTS'!L40)","v":""},{"$f":"IF('Entry Information'!$I160=\"\",\"\",IF('OPEN RESULTS'!M40=\"\",\"\",'OPEN RESULTS'!M40))","v":""},"",{"$f":"IF('Entry Information'!$I160=\"\",\"\",IF('Entry Information'!T160=\"\",N39,N39-100))","v":""},"",{"$f":"IF($L39=\"\",\"\",(VLOOKUP($P$41,Worksheet!$A$11:$AE$41,P39+1,FALSE)))","v":""},{"$f":"IF('Entry Information'!$I160=\"\",\"\",'OPEN RESULTS'!R40)","v":""},{"$f":"IF('Entry Information'!$I160=\"\",\"\",IF('OPEN RESULTS'!S40=\"\",\"\",'OPEN RESULTS'!S40))","v":""},"",{"$f":"IF('Entry Information'!$I160=\"\",\"\",IF('Entry Information'!V160=\"\",T39,T39-100))","v":""},"",{"$f":"IF($R39=\"\",\"\",(VLOOKUP($V$41,Worksheet!$A$11:$AE$41,V39+1,FALSE)))","v":""},{"$f":"IF('Entry Information'!$I160=\"\",\"\",'OPEN RESULTS'!X40)","v":""},{"$f":"IF('Entry Information'!$I160=\"\",\"\",IF('OPEN RESULTS'!Y40=\"\",\"\",'OPEN RESULTS'!Y40))","v":""},"",{"$f":"IF('Entry Information'!$I160=\"\",\"\",IF('Entry Information'!X160=\"\",Z39,Z39-100))","v":""},"",{"$f":"IF($X39=\"\",\"\",(VLOOKUP($AB$41,Worksheet!$A$11:$AE$41,AB39+1,FALSE)))","v":""},{"$f":"IF('Entry Information'!$I160=\"\",\"\",'OPEN RESULTS'!AD40)","v":""},{"$f":"IF('Entry Information'!$I160=\"\",\"\",IF('OPEN RESULTS'!AE40=\"\",\"\",'OPEN RESULTS'!AE40))","v":""},"",{"$f":"IF('Entry Information'!$I160=\"\",\"\",IF('Entry Information'!Z160=\"\",AF39,AF39-100))","v":""},"",{"$f":"IF($AD39=\"\",\"\",(VLOOKUP($AH$41,Worksheet!$A$11:$AE$41,AH39+1,FALSE)))","v":""}]
[]
[null,null,null,null,null,null,null,null,null,{"$f":"COUNTIF(J10:J39,\">=0\")","v":0},null,null,null,null,null,{"$f":"COUNTIF(P10:P39,\">=0\")","v":0},null,null,null,null,null,{"$f":"COUNTIF(V10:V39,\">=0\")","v":0},null,null,null,null,null,{"$f":"COUNTIF(AB10:AB39,\">=0\")","v":0},null,null,null,null,null,{"$f":"COUNTIF(AH10:AH39,\">=0\")","v":0}]
[null,null,null,null,null,"1 - Total Penalty Points",null,null,null,null,null,"1 - Total Penalty Points",null,null,null,null,null,"1 Total Penalty Points",null,null,null,null,null,"1 - Total Penalty Points",null,null,null,null,null,"1 - Total Penalty Points"]
[null,null,null,null,null,"2 - Extended Trot",null,null,null,null,null,"2 - Drag Log",null,null,null,null,null,"2 - 1st Cow Working Center of Arena",null,null,null,null,null,"2 - Roping Cow",null,null,null,null,null,"2 - Roping Cow"]
[null,null,null,null,null,"3 - Transition down lope/walk/stop",null,null,null,null,null,"3 - Ground tie/bridle/pick-up leg(s)",null,null,null,null,null,"3 - 1st Cow Cut from Herd",null,null,null,null,null,"3 - Box Cow",null,null,null,null,null,"3 - Box Cow"]
[null,null,null,null,null,"4 - Transition to lope/lope",null,null,null,null,null,"4 - Gate",null,null,null,null,null,"4 -2nd Cow Working Center of Arena",null,null,null,null,null,"4 - First Lead Change",null,null,null,null,null,"4 - First Lead Change"]
[]
[]
["Scores in RED are ties - enter a 1 in the Tie Breaker Column of the winner to break tie.  If multiple ties enter a 1 for the second place and a 2 for winner."]
[]
[]
["Places highlighted have a major penatly."]
[]
["If Entered in \"Jack Pot\" cell to the right of Event All Around with be highlighted"]

{"sheet":"YOUTH RESULTS","index":23,"n_rows":52,"n_cols":45,"rows_kept":52,"cut":false,"hidden":true,"merged":[[4,36,4,44],[1,29,1,34],[2,29,2,34],[2,1,2,2],[2,4,2,5],[2,9,2,11],[1,0,1,2],[1,4,1,5],[1,9,1,16],[7,10,9,10],[7,11,9,11],[7,8,9,8],[7,15,9,15],[7,12,9,12],[6,5,6,10],[5,5,5,10],[1,23,1,28],[1,18,1,22],[2,23,2,28],[2,18,2,22],[4,5,4,34],[6,11,6,16],[5,11,5,16],[5,17,5,22],[6,17,6,22],[5,39,9,39],[7,34,9,34],[7,28,9,28],[7,29,9,29],[7,30,9,30],[7,33,9,33],[5,29,5,34],[6,29,6,34],[6,23,6,28],[5,23,5,28],[7,23,9,23],[7,24,9,24],[5,36,9,36],[5,37,9,37],[7,27,9,27],[7,16,9,16],[7,17,9,17],[7,18,9,18],[7,21,9,21],[7,22,9,22],[5,42,9,42],[5,44,9,44],[5,41,9,41],[48,0,49,4],[7,14,9,14],[7,20,9,20],[7,26,9,26],[7,32,9,32],[7,7,9,7],[7,13,9,13],[7,19,9,19],[7,25,9,25],[7,31,9,31],[7,5,9,5],[7,6,9,6],[7,9,9,9]]}
[]
[null,null,null,null,"Event Name:",null,null,null,null,null,null,null,null,null,null,null,null,null,"Judge #1 Name/Classes:"]
["Division:","YOUTH",null,null,"Event Date:",null,null,null,null,null,null,null,null,null,null,null,null,null,"Judge #2 Name/Classes:"]
[]
[null,null,null,null,null,"YOUTH INDIVIDUAL CLASS RESULTS",null,null,null,null,null,null,null,null,null,null,null,null,null,null,null,null,null,null,null,null,null,null,null,null,null,null,null,null,null,null,"YOUTH ALL AROUND RESULTS"]
[null,null,null,null,null,"RANCH",null,null,null,null,null,"RANCH",null,null,null,null,null,"RANCH",null,null,null,null,null,"RANCH",null,null,null,null,null,"RANCH",null,null,null,null,null,null,"TOTAL  ALL AROUND PLACEMENT POINTS","Tie Breaker","Adjusted ","EVENT ALL AROUND",null,"TOTAL   JR HORSE ALL AROUND PLACEMENT POINTS","Tie Breaker","Adjusted ","JR HORSE ALL AROUND"]
[null,null,null,null,null,"RIDING",null,null,null,null,null,"TRAIL",null,null,null,null,null,"CUTING",null,null,null,null,null,"REINED WORK",null,null,null,null,null,"COW WORK",null,null,null,null,null,null,null,null,"Placement",null,null,null,null,"Placement"]
[null,null,null,null,null,"Score","Tie Breaker","Adjusted Score for Ties","Adjusted Score Major Penalty","Place","Placement Points","Score","Tie Breaker","Adjusted Score for Ties","Adjusted Score Major Penalty","Place","Placement Points","Score","Tie Breaker","Adjusted Score for Ties","Adjusted Score Major Penalty","Place","Placement Points","Score","Tie Breaker","Adjusted Score for Ties","Adjusted Score Major Penalty","Place","Placement Points","Score","Tie Breaker","Adjusted Score for Ties","Adjusted Score Major Penalty","Place","Placement Points",null,null,null,"Points",null,null,null,null,"Points"]
[]
["Back No.","Last Name","First Name","Registered Horse Name","Division"]
[{"$f":"IF('Entry Information'!B161=\"\",\"\",'Entry Information'!B161)","v":""},{"$f":"IF('Entry Information'!C161=\"\",\"\",'Entry Information'!C161)","v":""},{"$f":"IF('Entry Information'!D161=\"\",\"\",'Entry Information'!D161)","v":""},{"$f":"IF('Entry Information'!E161=\"\",\"\",'Entry Information'!E161)","v":""},"YOUTH",{"$f":"IF('Entry Information'!Q161=\"\",\"\",'Entry Information'!Q161)","v":""},null,{"$f":"IF(G11=\"\",F11,(F11+(G11*0.001)))","v":""},{"$f":"IF('Entry Information'!R161=\"\",H11,H11-100)","v":""},{"$f":"IF(I11=\"\",\"\",(RANK(I11,$I$11:$I$40,0)))","v":""},{"$f":"IF($F11=\"\",\"\",(VLOOKUP($J$42,Worksheet!$A$11:$AE$41,J11+1,FALSE)))","v":""},{"$f":"IF('Entry Information'!S161=\"\",\"\",'Entry Information'!S161)","v":""},null,{"$f":"IF(M11=\"\",L11,(L11+(M11*0.001)))","v":""},{"$f":"IF('Entry Information'!T161=\"\",N11,N11-100)","v":""},{"$f":"IF(O11=\"\",\"\",(RANK(O11,$O$11:$O$40,0)))","v":""},{"$f":"IF($L11=\"\",\"\",(VLOOKUP($P$42,Worksheet!$A$11:$AE$41,P11+1,FALSE)))","v":""},{"$f":"IF('Entry Information'!U161=\"\",\"\",'Entry Information'!U161)","v":""},null,{"$f":"IF(S11=\"\",R11,(R11+(S11*0.001)))","v":""},{"$f":"IF('Entry Information'!V161=\"\",T11,T11-100)","v":""},{"$f":"IF(U11=\"\",\"\",(RANK(U11,$U$11:$U$40,0)))","v":""},{"$f":"IF($R11=\"\",\"\",(VLOOKUP($V$42,Worksheet!$A$11:$AE$41,V11+1,FALSE)))","v":""},{"$f":"IF('Entry Information'!W161=\"\",\"\",'Entry Information'!W161)","v":""},null,{"$f":"IF(Y11=\"\",X11,(X11+(Y11*0.001)))","v":""},{"$f":"IF('Entry Information'!X161=\"\",Z11,Z11-100)","v":""},{"$f":"IF(AA11=\"\",\"\",(RANK(AA11,$AA$11:$AA$40,0)))","v":""},{"$f":"IF($X11=\"\",\"\",(VLOOKUP($AB$42,Worksheet!$A$11:$AE$41,AB11+1,FALSE)))","v":""},{"$f":"IF('Entry Information'!Y161=\"\",\"\",'Entry Information'!Y161)","v":""},null,{"$f":"IF(AE11=\"\",AD11,(AD11+(AE11*0.001)))","v":""},{"$f":"IF('Entry Information'!Z161=\"\",AF11,AF11-100)","v":""},{"$f":"IF(AG11=\"\",\"\",(RANK(AG11,$AG$11:$AG$40,0)))","v":""},{"$f":"IF($AD11=\"\",\"\",(VLOOKUP($AH$42,Worksheet!$A$11:$AE$41,AH11+1,FALSE)))","v":""},null,{"$f":"IF('YOUTH ALL-AROUND RESULTS'!A10=\"\",\"\",(SUM('YOUTH ALL-AROUND RESULTS'!$K10,'YOUTH ALL-AROUND RESULTS'!$AC10,'YOUTH ALL-AROUND RESULTS'!$AI10,'YOUTH ALL-AROUND RESULTS'!$W10,'YOUTH ALL-AROUND RESULTS'!$Q10)))","v":""},null,{"$f":"IF(AL11=\"\",AK11,(AK11+(AL11*0.001)))","v":""},{"$f":"IF(AM11=\"\",\"\",(RANK(AM11,$AM$11:$AM$40,0)))","v":""},null,{"$f":"IF(OR('Entry Information'!I161=\"\",'Entry Information'!J161=\"\"),\"\",(SUM('YOUTH JR HORSE RESULTS'!$K10,'YOUTH JR HORSE RESULTS'!$AC10,'YOUTH JR HORSE RESULTS'!$AI10, 'YOUTH JR HORSE RESULTS'!$W10,'YOUTH JR HORSE RESULTS'!$Q10)))","v":""},null,{"$f":"IF(AQ11=\"\",AP11,(AP11+(AQ11*0.001)))","v":""},{"$f":"IF(AR11=\"\",\"\",(RANK(AR11,$AR$11:$AR$40,0)))","v":""}]
[{"$f":"IF('Entry Information'!B162=\"\",\"\",'Entry Information'!B162)","v":""},{"$f":"IF('Entry Information'!C162=\"\",\"\",'Entry Information'!C162)","v":""},{"$f":"IF('Entry Information'!D162=\"\",\"\",'Entry Information'!D162)","v":""},{"$f":"IF('Entry Information'!E162=\"\",\"\",'Entry Information'!E162)","v":""},"YOUTH",{"$f":"IF('Entry Information'!Q162=\"\",\"\",'Entry Information'!Q162)","v":""},null,{"$f":"IF(G12=\"\",F12,(F12+(G12*0.001)))","v":""},{"$f":"IF('Entry Information'!R162=\"\",H12,H12-100)","v":""},{"$f":"IF(I12=\"\",\"\",(RANK(I12,$I$11:$I$40,0)))","v":""},{"$f":"IF($F12=\"\",\"\",(VLOOKUP($J$42,Worksheet!$A$11:$AE$41,J12+1,FALSE)))","v":""},{"$f":"IF('Entry Information'!S162=\"\",\"\",'Entry Information'!S162)","v":""},null,"",{"$f":"IF('Entry Information'!T162=\"\",N12,N12-100)","v":""},{"$f":"IF(O12=\"\",\"\",(RANK(O12,$O$11:$O$40,0)))","v":""},{"$f":"IF($L12=\"\",\"\",(VLOOKUP($P$42,Worksheet!$A$11:$AE$41,P12+1,FALSE)))","v":""},{"$f":"IF('Entry Information'!U162=\"\",\"\",'Entry Information'!U162)","v":""},null,"",{"$f":"IF('Entry Information'!V162=\"\",T12,T12-100)","v":""},{"$f":"IF(U12=\"\",\"\",(RANK(U12,$U$11:$U$40,0)))","v":""},{"$f":"IF($R12=\"\",\"\",(VLOOKUP($V$42,Worksheet!$A$11:$AE$41,V12+1,FALSE)))","v":""},{"$f":"IF('Entry Information'!W162=\"\",\"\",'Entry Information'!W162)","v":""},null,{"$f":"IF(Y12=\"\",X12,(X12+(Y12*0.001)))","v":""},{"$f":"IF('Entry Information'!X162=\"\",Z12,Z12-100)","v":""},{"$f":"IF(AA12=\"\",\"\",(RANK(AA12,$AA$11:$AA$40,0)))","v":""},{"$f":"IF($X12=\"\",\"\",(VLOOKUP($AB$42,Worksheet!$A$11:$AE$41,AB12+1,FALSE)))","v":""},{"$f":"IF('Entry Information'!Y162=\"\",\"\",'Entry Information'!Y162)","v":""},null,{"$f":"IF(AE12=\"\",AD12,(AD12+(AE12*0.001)))","v":""},{"$f":"IF('Entry Information'!Z162=\"\",AF12,AF12-100)","v":""},{"$f":"IF(AG12=\"\",\"\",(RANK(AG12,$AG$11:$AG$40,0)))","v":""},{"$f":"IF($AD12=\"\",\"\",(VLOOKUP($AH$42,Worksheet!$A$11:$AE$41,AH12+1,FALSE)))","v":""},null,{"$f":"IF('YOUTH ALL-AROUND RESULTS'!A11=\"\",\"\",(SUM('YOUTH ALL-AROUND RESULTS'!$K11,'YOUTH ALL-AROUND RESULTS'!$AC11,'YOUTH ALL-AROUND RESULTS'!$AI11,'YOUTH ALL-AROUND RESULTS'!$W11,'YOUTH ALL-AROUND RESULTS'!$Q11)))","v":""},null,"","",null,{"$f":"IF(OR('Entry Information'!I162=\"\",'Entry Information'!J162=\"\"),\"\",(SUM('YOUTH JR HORSE RESULTS'!$K11,'YOUTH JR HORSE RESULTS'!$AC11,'YOUTH JR HORSE RESULTS'!$AI11, 'YOUTH JR HORSE RESULTS'!$W11,'YOUTH JR HORSE RESULTS'!$Q11)))","v":""},null,"",""]
[{"$f":"IF('Entry Information'!B163=\"\",\"\",'Entry Information'!B163)","v":""},{"$f":"IF('Entry Information'!C163=\"\",\"\",'Entry Information'!C163)","v":""},{"$f":"IF('Entry Information'!D163=\"\",\"\",'Entry Information'!D163)","v":""},{"$f":"IF('Entry Information'!E163=\"\",\"\",'Entry Information'!E163)","v":""},"YOUTH",{"$f":"IF('Entry Information'!Q163=\"\",\"\",'Entry Information'!Q163)","v":""},null,"",{"$f":"IF('Entry Information'!R163=\"\",H13,H13-100)","v":""},"",{"$f":"IF($F13=\"\",\"\",(VLOOKUP($J$42,Worksheet!$A$11:$AE$41,J13+1,FALSE)))","v":""},{"$f":"IF('Entry Information'!S163=\"\",\"\",'Entry Information'!S163)","v":""},null,"",{"$f":"IF('Entry Information'!T163=\"\",N13,N13-100)","v":""},"",{"$f":"IF($L13=\"\",\"\",(VLOOKUP($P$42,Worksheet!$A$11:$AE$41,P13+1,FALSE)))","v":""},{"$f":"IF('Entry Information'!U163=\"\",\"\",'Entry Information'!U163)","v":""},null,"",{"$f":"IF('Entry Information'!V163=\"\",T13,T13-100)","v":""},"",{"$f":"IF($R13=\"\",\"\",(VLOOKUP($V$42,Worksheet!$A$11:$AE$41,V13+1,FALSE)))","v":""},{"$f":"IF('Entry Information'!W163=\"\",\"\",'Entry Information'!W163)","v":""},null,"",{"$f":"IF('Entry Information'!X163=\"\",Z13,Z13-100)","v":""},"",{"$f":"IF($X13=\"\",\"\",(VLOOKUP($AB$42,Worksheet!$A$11:$AE$41,AB13+1,FALSE)))","v":""},{"$f":"IF('Entry Information'!Y163=\"\",\"\",'Entry Information'!Y163)","v":""},null,"",{"$f":"IF('Entry Information'!Z163=\"\",AF13,AF13-100)","v":""},"",{"$f":"IF($AD13=\"\",\"\",(VLOOKUP($AH$42,Worksheet!$A$11:$AE$41,AH13+1,FALSE)))","v":""},null,{"$f":"IF('YOUTH ALL-AROUND RESULTS'!A12=\"\",\"\",(SUM('YOUTH ALL-AROUND RESULTS'!$K12,'YOUTH ALL-AROUND RESULTS'!$AC12,'YOUTH ALL-AROUND RESULTS'!$AI12,'YOUTH ALL-AROUND RESULTS'!$W12,'YOUTH ALL-AROUND RESULTS'!$Q12)))","v":""},null,"","",null,{"$f":"IF(OR('Entry Information'!I163=\"\",'Entry Information'!J163=\"\"),\"\",(SUM('YOUTH JR HORSE RESULTS'!$K12,'YOUTH JR HORSE RESULTS'!$AC12,'YOUTH JR HORSE RESULTS'!$AI12, 'YOUTH JR HORSE RESULTS'!$W12,'YOUTH JR HORSE RESULTS'!$Q12)))","v":""},null,"",""]
[{"$f":"IF('Entry Information'!B164=\"\",\"\",'Entry Information'!B164)","v":""},{"$f":"IF('Entry Information'!C164=\"\",\"\",'Entry Information'!C164)","v":""},{"$f":"IF('Entry Information'!D164=\"\",\"\",'Entry Information'!D164)","v":""},{"$f":"IF('Entry Information'!E164=\"\",\"\",'Entry Information'!E164)","v":""},"YOUTH",{"$f":"IF('Entry Information'!Q164=\"\",\"\",'Entry Information'!Q164)","v":""},null,"",{"$f":"IF('Entry Information'!R164=\"\",H14,H14-100)","v":""},"",{"$f":"IF($F14=\"\",\"\",(VLOOKUP($J$42,Worksheet!$A$11:$AE$41,J14+1,FALSE)))","v":""},{"$f":"IF('Entry Information'!S164=\"\",\"\",'Entry Information'!S164)","v":""},null,"",{"$f":"IF('Entry Information'!T164=\"\",N14,N14-100)","v":""},"",{"$f":"IF($L14=\"\",\"\",(VLOOKUP($P$42,Worksheet!$A$11:$AE$41,P14+1,FALSE)))","v":""},{"$f":"IF('Entry Information'!U164=\"\",\"\",'Entry Information'!U164)","v":""},null,"",{"$f":"IF('Entry Information'!V164=\"\",T14,T14-100)","v":""},"",{"$f":"IF($R14=\"\",\"\",(VLOOKUP($V$42,Worksheet!$A$11:$AE$41,V14+1,FALSE)))","v":""},{"$f":"IF('Entry Information'!W164=\"\",\"\",'Entry Information'!W164)","v":""},null,"",{"$f":"IF('Entry Information'!X164=\"\",Z14,Z14-100)","v":""},"",{"$f":"IF($X14=\"\",\"\",(VLOOKUP($AB$42,Worksheet!$A$11:$AE$41,AB14+1,FALSE)))","v":""},{"$f":"IF('Entry Information'!Y164=\"\",\"\",'Entry Information'!Y164)","v":""},null,"",{"$f":"IF('Entry Information'!Z164=\"\",AF14,AF14-100)","v":""},"",{"$f":"IF($AD14=\"\",\"\",(VLOOKUP($AH$42,Worksheet!$A$11:$AE$41,AH14+1,FALSE)))","v":""},null,{"$f":"IF('YOUTH ALL-AROUND RESULTS'!A13=\"\",\"\",(SUM('YOUTH ALL-AROUND RESULTS'!$K13,'YOUTH ALL-AROUND RESULTS'!$AC13,'YOUTH ALL-AROUND RESULTS'!$AI13,'YOUTH ALL-AROUND RESULTS'!$W13,'YOUTH ALL-AROUND RESULTS'!$Q13)))","v":""},null,"","",null,{"$f":"IF(OR('Entry Information'!I164=\"\",'Entry Information'!J164=\"\"),\"\",(SUM('YOUTH JR HORSE RESULTS'!$K13,'YOUTH JR HORSE RESULTS'!$AC13,'YOUTH JR HORSE RESULTS'!$AI13, 'YOUTH JR HORSE RESULTS'!$W13,'YOUTH JR HORSE RESULTS'!$Q13)))","v":""},null,"",""]
[{"$f":"IF('Entry Information'!B165=\"\",\"\",'Entry Information'!B165)","v":""},{"$f":"IF('Entry Information'!C165=\"\",\"\",'Entry Information'!C165)","v":""},{"$f":"IF('Entry Information'!D165=\"\",\"\",'Entry Information'!D165)","v":""},{"$f":"IF('Entry Information'!E165=\"\",\"\",'Entry Information'!E165)","v":""},"YOUTH",{"$f":"IF('Entry Information'!Q165=\"\",\"\",'Entry Information'!Q165)","v":""},null,"",{"$f":"IF('Entry Information'!R165=\"\",H15,H15-100)","v":""},"",{"$f":"IF($F15=\"\",\"\",(VLOOKUP($J$42,Worksheet!$A$11:$AE$41,J15+1,FALSE)))","v":""},{"$f":"IF('Entry Information'!S165=\"\",\"\",'Entry Information'!S165)","v":""},null,"",{"$f":"IF('Entry Information'!T165=\"\",N15,N15-100)","v":""},"",{"$f":"IF($L15=\"\",\"\",(VLOOKUP($P$42,Worksheet!$A$11:$AE$41,P15+1,FALSE)))","v":""},{"$f":"IF('Entry Information'!U165=\"\",\"\",'Entry Information'!U165)","v":""},null,"",{"$f":"IF('Entry Information'!V165=\"\",T15,T15-100)","v":""},"",{"$f":"IF($R15=\"\",\"\",(VLOOKUP($V$42,Worksheet!$A$11:$AE$41,V15+1,FALSE)))","v":""},{"$f":"IF('Entry Information'!W165=\"\",\"\",'Entry Information'!W165)","v":""},null,"",{"$f":"IF('Entry Information'!X165=\"\",Z15,Z15-100)","v":""},"",{"$f":"IF($X15=\"\",\"\",(VLOOKUP($AB$42,Worksheet!$A$11:$AE$41,AB15+1,FALSE)))","v":""},{"$f":"IF('Entry Information'!Y165=\"\",\"\",'Entry Information'!Y165)","v":""},null,"",{"$f":"IF('Entry Information'!Z165=\"\",AF15,AF15-100)","v":""},"",{"$f":"IF($AD15=\"\",\"\",(VLOOKUP($AH$42,Worksheet!$A$11:$AE$41,AH15+1,FALSE)))","v":""},null,{"$f":"IF('YOUTH ALL-AROUND RESULTS'!A14=\"\",\"\",(SUM('YOUTH ALL-AROUND RESULTS'!$K14,'YOUTH ALL-AROUND RESULTS'!$AC14,'YOUTH ALL-AROUND RESULTS'!$AI14,'YOUTH ALL-AROUND RESULTS'!$W14,'YOUTH ALL-AROUND RESULTS'!$Q14)))","v":""},null,"","",null,{"$f":"IF(OR('Entry Information'!I165=\"\",'Entry Information'!J165=\"\"),\"\",(SUM('YOUTH JR HORSE RESULTS'!$K14,'YOUTH JR HORSE RESULTS'!$AC14,'YOUTH JR HORSE RESULTS'!$AI14, 'YOUTH JR HORSE RESULTS'!$W14,'YOUTH JR HORSE RESULTS'!$Q14)))","v":""},null,"",""]
[{"$f":"IF('Entry Information'!B166=\"\",\"\",'Entry Information'!B166)","v":""},{"$f":"IF('Entry Information'!C166=\"\",\"\",'Entry Information'!C166)","v":""},{"$f":"IF('Entry Information'!D166=\"\",\"\",'Entry Information'!D166)","v":""},{"$f":"IF('Entry Information'!E166=\"\",\"\",'Entry Information'!E166)","v":""},"YOUTH",{"$f":"IF('Entry Information'!Q166=\"\",\"\",'Entry Information'!Q166)","v":""},null,"",{"$f":"IF('Entry Information'!R166=\"\",H16,H16-100)","v":""},"",{"$f":"IF($F16=\"\",\"\",(VLOOKUP($J$42,Worksheet!$A$11:$AE$41,J16+1,FALSE)))","v":""},{"$f":"IF('Entry Information'!S166=\"\",\"\",'Entry Information'!S166)","v":""},null,"",{"$f":"IF('Entry Information'!T166=\"\",N16,N16-100)","v":""},"",{"$f":"IF($L16=\"\",\"\",(VLOOKUP($P$42,Worksheet!$A$11:$AE$41,P16+1,FALSE)))","v":""},{"$f":"IF('Entry Information'!U166=\"\",\"\",'Entry Information'!U166)","v":""},null,"",{"$f":"IF('Entry Information'!V166=\"\",T16,T16-100)","v":""},"",{"$f":"IF($R16=\"\",\"\",(VLOOKUP($V$42,Worksheet!$A$11:$AE$41,V16+1,FALSE)))","v":""},{"$f":"IF('Entry Information'!W166=\"\",\"\",'Entry Information'!W166)","v":""},null,"",{"$f":"IF('Entry Information'!X166=\"\",Z16,Z16-100)","v":""},"",{"$f":"IF($X16=\"\",\"\",(VLOOKUP($AB$42,Worksheet!$A$11:$AE$41,AB16+1,FALSE)))","v":""},{"$f":"IF('Entry Information'!Y166=\"\",\"\",'Entry Information'!Y166)","v":""},null,"",{"$f":"IF('Entry Information'!Z166=\"\",AF16,AF16-100)","v":""},"",{"$f":"IF($AD16=\"\",\"\",(VLOOKUP($AH$42,Worksheet!$A$11:$AE$41,AH16+1,FALSE)))","v":""},null,{"$f":"IF('YOUTH ALL-AROUND RESULTS'!A15=\"\",\"\",(SUM('YOUTH ALL-AROUND RESULTS'!$K15,'YOUTH ALL-AROUND RESULTS'!$AC15,'YOUTH ALL-AROUND RESULTS'!$AI15,'YOUTH ALL-AROUND RESULTS'!$W15,'YOUTH ALL-AROUND RESULTS'!$Q15)))","v":""},null,"","",null,{"$f":"IF(OR('Entry Information'!I166=\"\",'Entry Information'!J166=\"\"),\"\",(SUM('YOUTH JR HORSE RESULTS'!$K15,'YOUTH JR HORSE RESULTS'!$AC15,'YOUTH JR HORSE RESULTS'!$AI15, 'YOUTH JR HORSE RESULTS'!$W15,'YOUTH JR HORSE RESULTS'!$Q15)))","v":""},null,"",""]
[{"$f":"IF('Entry Information'!B167=\"\",\"\",'Entry Information'!B167)","v":""},{"$f":"IF('Entry Information'!C167=\"\",\"\",'Entry Information'!C167)","v":""},{"$f":"IF('Entry Information'!D167=\"\",\"\",'Entry Information'!D167)","v":""},{"$f":"IF('Entry Information'!E167=\"\",\"\",'Entry Information'!E167)","v":""},"YOUTH",{"$f":"IF('Entry Information'!Q167=\"\",\"\",'Entry Information'!Q167)","v":""},null,"",{"$f":"IF('Entry Information'!R167=\"\",H17,H17-100)","v":""},"",{"$f":"IF($F17=\"\",\"\",(VLOOKUP($J$42,Worksheet!$A$11:$AE$41,J17+1,FALSE)))","v":""},{"$f":"IF('Entry Information'!S167=\"\",\"\",'Entry Information'!S167)","v":""},null,"",{"$f":"IF('Entry Information'!T167=\"\",N17,N17-100)","v":""},"",{"$f":"IF($L17=\"\",\"\",(VLOOKUP($P$42,Worksheet!$A$11:$AE$41,P17+1,FALSE)))","v":""},{"$f":"IF('Entry Information'!U167=\"\",\"\",'Entry Information'!U167)","v":""},null,"",{"$f":"IF('Entry Information'!V167=\"\",T17,T17-100)","v":""},"",{"$f":"IF($R17=\"\",\"\",(VLOOKUP($V$42,Worksheet!$A$11:$AE$41,V17+1,FALSE)))","v":""},{"$f":"IF('Entry Information'!W167=\"\",\"\",'Entry Information'!W167)","v":""},null,"",{"$f":"IF('Entry Information'!X167=\"\",Z17,Z17-100)","v":""},"",{"$f":"IF($X17=\"\",\"\",(VLOOKUP($AB$42,Worksheet!$A$11:$AE$41,AB17+1,FALSE)))","v":""},{"$f":"IF('Entry Information'!Y167=\"\",\"\",'Entry Information'!Y167)","v":""},null,"",{"$f":"IF('Entry Information'!Z167=\"\",AF17,AF17-100)","v":""},"",{"$f":"IF($AD17=\"\",\"\",(VLOOKUP($AH$42,Worksheet!$A$11:$AE$41,AH17+1,FALSE)))","v":""},null,{"$f":"IF('YOUTH ALL-AROUND RESULTS'!A16=\"\",\"\",(SUM('YOUTH ALL-AROUND RESULTS'!$K16,'YOUTH ALL-AROUND RESULTS'!$AC16,'YOUTH ALL-AROUND RESULTS'!$AI16,'YOUTH ALL-AROUND RESULTS'!$W16,'YOUTH ALL-AROUND RESULTS'!$Q16)))","v":""},null,"","",null,{"$f":"IF(OR('Entry Information'!I167=\"\",'Entry Information'!J167=\"\"),\"\",(SUM('YOUTH JR HORSE RESULTS'!$K16,'YOUTH JR HORSE RESULTS'!$AC16,'YOUTH JR HORSE RESULTS'!$AI16, 'YOUTH JR HORSE RESULTS'!$W16,'YOUTH JR HORSE RESULTS'!$Q16)))","v":""},null,"",""]
[{"$f":"IF('Entry Information'!B168=\"\",\"\",'Entry Information'!B168)","v":""},{"$f":"IF('Entry Information'!C168=\"\",\"\",'Entry Information'!C168)","v":""},{"$f":"IF('Entry Information'!D168=\"\",\"\",'Entry Information'!D168)","v":""},{"$f":"IF('Entry Information'!E168=\"\",\"\",'Entry Information'!E168)","v":""},"YOUTH",{"$f":"IF('Entry Information'!Q168=\"\",\"\",'Entry Information'!Q168)","v":""},null,"",{"$f":"IF('Entry Information'!R168=\"\",H18,H18-100)","v":""},"",{"$f":"IF($F18=\"\",\"\",(VLOOKUP($J$42,Worksheet!$A$11:$AE$41,J18+1,FALSE)))","v":""},{"$f":"IF('Entry Information'!S168=\"\",\"\",'Entry Information'!S168)","v":""},null,"",{"$f":"IF('Entry Information'!T168=\"\",N18,N18-100)","v":""},"",{"$f":"IF($L18=\"\",\"\",(VLOOKUP($P$42,Worksheet!$A$11:$AE$41,P18+1,FALSE)))","v":""},{"$f":"IF('Entry Information'!U168=\"\",\"\",'Entry Information'!U168)","v":""},null,"",{"$f":"IF('Entry Information'!V168=\"\",T18,T18-100)","v":""},"",{"$f":"IF($R18=\"\",\"\",(VLOOKUP($V$42,Worksheet!$A$11:$AE$41,V18+1,FALSE)))","v":""},{"$f":"IF('Entry Information'!W168=\"\",\"\",'Entry Information'!W168)","v":""},null,"",{"$f":"IF('Entry Information'!X168=\"\",Z18,Z18-100)","v":""},"",{"$f":"IF($X18=\"\",\"\",(VLOOKUP($AB$42,Worksheet!$A$11:$AE$41,AB18+1,FALSE)))","v":""},{"$f":"IF('Entry Information'!Y168=\"\",\"\",'Entry Information'!Y168)","v":""},null,"",{"$f":"IF('Entry Information'!Z168=\"\",AF18,AF18-100)","v":""},"",{"$f":"IF($AD18=\"\",\"\",(VLOOKUP($AH$42,Worksheet!$A$11:$AE$41,AH18+1,FALSE)))","v":""},null,{"$f":"IF('YOUTH ALL-AROUND RESULTS'!A17=\"\",\"\",(SUM('YOUTH ALL-AROUND RESULTS'!$K17,'YOUTH ALL-AROUND RESULTS'!$AC17,'YOUTH ALL-AROUND RESULTS'!$AI17,'YOUTH ALL-AROUND RESULTS'!$W17,'YOUTH ALL-AROUND RESULTS'!$Q17)))","v":""},null,"","",null,{"$f":"IF(OR('Entry Information'!I168=\"\",'Entry Information'!J168=\"\"),\"\",(SUM('YOUTH JR HORSE RESULTS'!$K17,'YOUTH JR HORSE RESULTS'!$AC17,'YOUTH JR HORSE RESULTS'!$AI17, 'YOUTH JR HORSE RESULTS'!$W17,'YOUTH JR HORSE RESULTS'!$Q17)))","v":""},null,"",""]
[{"$f":"IF('Entry Information'!B169=\"\",\"\",'Entry Information'!B169)","v":""},{"$f":"IF('Entry Information'!C169=\"\",\"\",'Entry Information'!C169)","v":""},{"$f":"IF('Entry Information'!D169=\"\",\"\",'Entry Information'!D169)","v":""},{"$f":"IF('Entry Information'!E169=\"\",\"\",'Entry Information'!E169)","v":""},"YOUTH",{"$f":"IF('Entry Information'!Q169=\"\",\"\",'Entry Information'!Q169)","v":""},null,"",{"$f":"IF('Entry Information'!R169=\"\",H19,H19-100)","v":""},"",{"$f":"IF($F19=\"\",\"\",(VLOOKUP($J$42,Worksheet!$A$11:$AE$41,J19+1,FALSE)))","v":""},{"$f":"IF('Entry Information'!S169=\"\",\"\",'Entry Information'!S169)","v":""},null,"",{"$f":"IF('Entry Information'!T169=\"\",N19,N19-100)","v":""},"",{"$f":"IF($L19=\"\",\"\",(VLOOKUP($P$42,Worksheet!$A$11:$AE$41,P19+1,FALSE)))","v":""},{"$f":"IF('Entry Information'!U169=\"\",\"\",'Entry Information'!U169)","v":""},null,"",{"$f":"IF('Entry Information'!V169=\"\",T19,T19-100)","v":""},"",{"$f":"IF($R19=\"\",\"\",(VLOOKUP($V$42,Worksheet!$A$11:$AE$41,V19+1,FALSE)))","v":""},{"$f":"IF('Entry Information'!W169=\"\",\"\",'Entry Information'!W169)","v":""},null,"",{"$f":"IF('Entry Information'!X169=\"\",Z19,Z19-100)","v":""},"",{"$f":"IF($X19=\"\",\"\",(VLOOKUP($AB$42,Worksheet!$A$11:$AE$41,AB19+1,FALSE)))","v":""},{"$f":"IF('Entry Information'!Y169=\"\",\"\",'Entry Information'!Y169)","v":""},null,"",{"$f":"IF('Entry Information'!Z169=\"\",AF19,AF19-100)","v":""},"",{"$f":"IF($AD19=\"\",\"\",(VLOOKUP($AH$42,Worksheet!$A$11:$AE$41,AH19+1,FALSE)))","v":""},null,{"$f":"IF('YOUTH ALL-AROUND RESULTS'!A18=\"\",\"\",(SUM('YOUTH ALL-AROUND RESULTS'!$K18,'YOUTH ALL-AROUND RESULTS'!$AC18,'YOUTH ALL-AROUND RESULTS'!$AI18,'YOUTH ALL-AROUND RESULTS'!$W18,'YOUTH ALL-AROUND RESULTS'!$Q18)))","v":""},null,"","",null,{"$f":"IF(OR('Entry Information'!I169=\"\",'Entry Information'!J169=\"\"),\"\",(SUM('YOUTH JR HORSE RESULTS'!$K18,'YOUTH JR HORSE RESULTS'!$AC18,'YOUTH JR HORSE RESULTS'!$AI18, 'YOUTH JR HORSE RESULTS'!$W18,'YOUTH JR HORSE RESULTS'!$Q18)))","v":""},null,"",""]
[{"$f":"IF('Entry Information'!B170=\"\",\"\",'Entry Information'!B170)","v":""},{"$f":"IF('Entry Information'!C170=\"\",\"\",'Entry Information'!C170)","v":""},{"$f":"IF('Entry Information'!D170=\"\",\"\",'Entry Information'!D170)","v":""},{"$f":"IF('Entry Information'!E170=\"\",\"\",'Entry Information'!E170)","v":""},"YOUTH",{"$f":"IF('Entry Information'!Q170=\"\",\"\",'Entry Information'!Q170)","v":""},null,"",{"$f":"IF('Entry Information'!R170=\"\",H20,H20-100)","v":""},"",{"$f":"IF($F20=\"\",\"\",(VLOOKUP($J$42,Worksheet!$A$11:$AE$41,J20+1,FALSE)))","v":""},{"$f":"IF('Entry Information'!S170=\"\",\"\",'Entry Information'!S170)","v":""},null,"",{"$f":"IF('Entry Information'!T170=\"\",N20,N20-100)","v":""},"",{"$f":"IF($L20=\"\",\"\",(VLOOKUP($P$42,Worksheet!$A$11:$AE$41,P20+1,FALSE)))","v":""},{"$f":"IF('Entry Information'!U170=\"\",\"\",'Entry Information'!U170)","v":""},null,"",{"$f":"IF('Entry Information'!V170=\"\",T20,T20-100)","v":""},"",{"$f":"IF($R20=\"\",\"\",(VLOOKUP($V$42,Worksheet!$A$11:$AE$41,V20+1,FALSE)))","v":""},{"$f":"IF('Entry Information'!W170=\"\",\"\",'Entry Information'!W170)","v":""},null,"",{"$f":"IF('Entry Information'!X170=\"\",Z20,Z20-100)","v":""},"",{"$f":"IF($X20=\"\",\"\",(VLOOKUP($AB$42,Worksheet!$A$11:$AE$41,AB20+1,FALSE)))","v":""},{"$f":"IF('Entry Information'!Y170=\"\",\"\",'Entry Information'!Y170)","v":""},null,"",{"$f":"IF('Entry Information'!Z170=\"\",AF20,AF20-100)","v":""},"",{"$f":"IF($AD20=\"\",\"\",(VLOOKUP($AH$42,Worksheet!$A$11:$AE$41,AH20+1,FALSE)))","v":""},null,{"$f":"IF('YOUTH ALL-AROUND RESULTS'!A19=\"\",\"\",(SUM('YOUTH ALL-AROUND RESULTS'!$K19,'YOUTH ALL-AROUND RESULTS'!$AC19,'YOUTH ALL-AROUND RESULTS'!$AI19,'YOUTH ALL-AROUND RESULTS'!$W19,'YOUTH ALL-AROUND RESULTS'!$Q19)))","v":""},null,"","",null,{"$f":"IF(OR('Entry Information'!I170=\"\",'Entry Information'!J170=\"\"),\"\",(SUM('YOUTH JR HORSE RESULTS'!$K19,'YOUTH JR HORSE RESULTS'!$AC19,'YOUTH JR HORSE RESULTS'!$AI19, 'YOUTH JR HORSE RESULTS'!$W19,'YOUTH JR HORSE RESULTS'!$Q19)))","v":""},null,"",""]
[{"$f":"IF('Entry Information'!B171=\"\",\"\",'Entry Information'!B171)","v":""},{"$f":"IF('Entry Information'!C171=\"\",\"\",'Entry Information'!C171)","v":""},{"$f":"IF('Entry Information'!D171=\"\",\"\",'Entry Information'!D171)","v":""},{"$f":"IF('Entry Information'!E171=\"\",\"\",'Entry Information'!E171)","v":""},"YOUTH",{"$f":"IF('Entry Information'!Q171=\"\",\"\",'Entry Information'!Q171)","v":""},null,"",{"$f":"IF('Entry Information'!R171=\"\",H21,H21-100)","v":""},"",{"$f":"IF($F21=\"\",\"\",(VLOOKUP($J$42,Worksheet!$A$11:$AE$41,J21+1,FALSE)))","v":""},{"$f":"IF('Entry Information'!S171=\"\",\"\",'Entry Information'!S171)","v":""},null,"",{"$f":"IF('Entry Information'!T171=\"\",N21,N21-100)","v":""},"",{"$f":"IF($L21=\"\",\"\",(VLOOKUP($P$42,Worksheet!$A$11:$AE$41,P21+1,FALSE)))","v":""},{"$f":"IF('Entry Information'!U171=\"\",\"\",'Entry Information'!U171)","v":""},null,"",{"$f":"IF('Entry Information'!V171=\"\",T21,T21-100)","v":""},"",{"$f":"IF($R21=\"\",\"\",(VLOOKUP($V$42,Worksheet!$A$11:$AE$41,V21+1,FALSE)))","v":""},{"$f":"IF('Entry Information'!W171=\"\",\"\",'Entry Information'!W171)","v":""},null,"",{"$f":"IF('Entry Information'!X171=\"\",Z21,Z21-100)","v":""},"",{"$f":"IF($X21=\"\",\"\",(VLOOKUP($AB$42,Worksheet!$A$11:$AE$41,AB21+1,FALSE)))","v":""},{"$f":"IF('Entry Information'!Y171=\"\",\"\",'Entry Information'!Y171)","v":""},null,"",{"$f":"IF('Entry Information'!Z171=\"\",AF21,AF21-100)","v":""},"",{"$f":"IF($AD21=\"\",\"\",(VLOOKUP($AH$42,Worksheet!$A$11:$AE$41,AH21+1,FALSE)))","v":""},null,{"$f":"IF('YOUTH ALL-AROUND RESULTS'!A20=\"\",\"\",(SUM('YOUTH ALL-AROUND RESULTS'!$K20,'YOUTH ALL-AROUND RESULTS'!$AC20,'YOUTH ALL-AROUND RESULTS'!$AI20,'YOUTH ALL-AROUND RESULTS'!$W20,'YOUTH ALL-AROUND RESULTS'!$Q20)))","v":""},null,"","",null,{"$f":"IF(OR('Entry Information'!I171=\"\",'Entry Information'!J171=\"\"),\"\",(SUM('YOUTH JR HORSE RESULTS'!$K20,'YOUTH JR HORSE RESULTS'!$AC20,'YOUTH JR HORSE RESULTS'!$AI20, 'YOUTH JR HORSE RESULTS'!$W20,'YOUTH JR HORSE RESULTS'!$Q20)))","v":""},null,"",""]
[{"$f":"IF('Entry Information'!B172=\"\",\"\",'Entry Information'!B172)","v":""},{"$f":"IF('Entry Information'!C172=\"\",\"\",'Entry Information'!C172)","v":""},{"$f":"IF('Entry Information'!D172=\"\",\"\",'Entry Information'!D172)","v":""},{"$f":"IF('Entry Information'!E172=\"\",\"\",'Entry Information'!E172)","v":""},"YOUTH",{"$f":"IF('Entry Information'!Q172=\"\",\"\",'Entry Information'!Q172)","v":""},null,"",{"$f":"IF('Entry Information'!R172=\"\",H22,H22-100)","v":""},"",{"$f":"IF($F22=\"\",\"\",(VLOOKUP($J$42,Worksheet!$A$11:$AE$41,J22+1,FALSE)))","v":""},{"$f":"IF('Entry Information'!S172=\"\",\"\",'Entry Information'!S172)","v":""},null,"",{"$f":"IF('Entry Information'!T172=\"\",N22,N22-100)","v":""},"",{"$f":"IF($L22=\"\",\"\",(VLOOKUP($P$42,Worksheet!$A$11:$AE$41,P22+1,FALSE)))","v":""},{"$f":"IF('Entry Information'!U172=\"\",\"\",'Entry Information'!U172)","v":""},null,"",{"$f":"IF('Entry Information'!V172=\"\",T22,T22-100)","v":""},"",{"$f":"IF($R22=\"\",\"\",(VLOOKUP($V$42,Worksheet!$A$11:$AE$41,V22+1,FALSE)))","v":""},{"$f":"IF('Entry Information'!W172=\"\",\"\",'Entry Information'!W172)","v":""},null,"",{"$f":"IF('Entry Information'!X172=\"\",Z22,Z22-100)","v":""},"",{"$f":"IF($X22=\"\",\"\",(VLOOKUP($AB$42,Worksheet!$A$11:$AE$41,AB22+1,FALSE)))","v":""},{"$f":"IF('Entry Information'!Y172=\"\",\"\",'Entry Information'!Y172)","v":""},null,"",{"$f":"IF('Entry Information'!Z172=\"\",AF22,AF22-100)","v":""},"",{"$f":"IF($AD22=\"\",\"\",(VLOOKUP($AH$42,Worksheet!$A$11:$AE$41,AH22+1,FALSE)))","v":""},null,{"$f":"IF('YOUTH ALL-AROUND RESULTS'!A21=\"\",\"\",(SUM('YOUTH ALL-AROUND RESULTS'!$K21,'YOUTH ALL-AROUND RESULTS'!$AC21,'YOUTH ALL-AROUND RESULTS'!$AI21,'YOUTH ALL-AROUND RESULTS'!$W21,'YOUTH ALL-AROUND RESULTS'!$Q21)))","v":""},null,"","",null,{"$f":"IF(OR('Entry Information'!I172=\"\",'Entry Information'!J172=\"\"),\"\",(SUM('YOUTH JR HORSE RESULTS'!$K21,'YOUTH JR HORSE RESULTS'!$AC21,'YOUTH JR HORSE RESULTS'!$AI21, 'YOUTH JR HORSE RESULTS'!$W21,'YOUTH JR HORSE RESULTS'!$Q21)))","v":""},null,"",""]
[{"$f":"IF('Entry Information'!B173=\"\",\"\",'Entry Information'!B173)","v":""},{"$f":"IF('Entry Information'!C173=\"\",\"\",'Entry Information'!C173)","v":""},{"$f":"IF('Entry Information'!D173=\"\",\"\",'Entry Information'!D173)","v":""},{"$f":"IF('Entry Information'!E173=\"\",\"\",'Entry Information'!E173)","v":""},"YOUTH",{"$f":"IF('Entry Information'!Q173=\"\",\"\",'Entry Information'!Q173)","v":""},null,"",{"$f":"IF('Entry Information'!R173=\"\",H23,H23-100)","v":""},"",{"$f":"IF($F23=\"\",\"\",(VLOOKUP($J$42,Worksheet!$A$11:$AE$41,J23+1,FALSE)))","v":""},{"$f":"IF('Entry Information'!S173=\"\",\"\",'Entry Information'!S173)","v":""},null,"",{"$f":"IF('Entry Information'!T173=\"\",N23,N23-100)","v":""},"",{"$f":"IF($L23=\"\",\"\",(VLOOKUP($P$42,Worksheet!$A$11:$AE$41,P23+1,FALSE)))","v":""},{"$f":"IF('Entry Information'!U173=\"\",\"\",'Entry Information'!U173)","v":""},null,"",{"$f":"IF('Entry Information'!V173=\"\",T23,T23-100)","v":""},"",{"$f":"IF($R23=\"\",\"\",(VLOOKUP($V$42,Worksheet!$A$11:$AE$41,V23+1,FALSE)))","v":""},{"$f":"IF('Entry Information'!W173=\"\",\"\",'Entry Information'!W173)","v":""},null,"",{"$f":"IF('Entry Information'!X173=\"\",Z23,Z23-100)","v":""},"",{"$f":"IF($X23=\"\",\"\",(VLOOKUP($AB$42,Worksheet!$A$11:$AE$41,AB23+1,FALSE)))","v":""},{"$f":"IF('Entry Information'!Y173=\"\",\"\",'Entry Information'!Y173)","v":""},null,"",{"$f":"IF('Entry Information'!Z173=\"\",AF23,AF23-100)","v":""},"",{"$f":"IF($AD23=\"\",\"\",(VLOOKUP($AH$42,Worksheet!$A$11:$AE$41,AH23+1,FALSE)))","v":""},null,{"$f":"IF('YOUTH ALL-AROUND RESULTS'!A22=\"\",\"\",(SUM('YOUTH ALL-AROUND RESULTS'!$K22,'YOUTH ALL-AROUND RESULTS'!$AC22,'YOUTH ALL-AROUND RESULTS'!$AI22,'YOUTH ALL-AROUND RESULTS'!$W22,'YOUTH ALL-AROUND RESULTS'!$Q22)))","v":""},null,"","",null,{"$f":"IF(OR('Entry Information'!I173=\"\",'Entry Information'!J173=\"\"),\"\",(SUM('YOUTH JR HORSE RESULTS'!$K22,'YOUTH JR HORSE RESULTS'!$AC22,'YOUTH JR HORSE RESULTS'!$AI22, 'YOUTH JR HORSE RESULTS'!$W22,'YOUTH JR HORSE RESULTS'!$Q22)))","v":""},null,"",""]
[{"$f":"IF('Entry Information'!B174=\"\",\"\",'Entry Information'!B174)","v":""},{"$f":"IF('Entry Information'!C174=\"\",\"\",'Entry Information'!C174)","v":""},{"$f":"IF('Entry Information'!D174=\"\",\"\",'Entry Information'!D174)","v":""},{"$f":"IF('Entry Information'!E174=\"\",\"\",'Entry Information'!E174)","v":""},"YOUTH",{"$f":"IF('Entry Information'!Q174=\"\",\"\",'Entry Information'!Q174)","v":""},null,"",{"$f":"IF('Entry Information'!R174=\"\",H24,H24-100)","v":""},"",{"$f":"IF($F24=\"\",\"\",(VLOOKUP($J$42,Worksheet!$A$11:$AE$41,J24+1,FALSE)))","v":""},{"$f":"IF('Entry Information'!S174=\"\",\"\",'Entry Information'!S174)","v":""},null,"",{"$f":"IF('Entry Information'!T174=\"\",N24,N24-100)","v":""},"",{"$f":"IF($L24=\"\",\"\",(VLOOKUP($P$42,Worksheet!$A$11:$AE$41,P24+1,FALSE)))","v":""},{"$f":"IF('Entry Information'!U174=\"\",\"\",'Entry Information'!U174)","v":""},null,"",{"$f":"IF('Entry Information'!V174=\"\",T24,T24-100)","v":""},"",{"$f":"IF($R24=\"\",\"\",(VLOOKUP($V$42,Worksheet!$A$11:$AE$41,V24+1,FALSE)))","v":""},{"$f":"IF('Entry Information'!W174=\"\",\"\",'Entry Information'!W174)","v":""},null,"",{"$f":"IF('Entry Information'!X174=\"\",Z24,Z24-100)","v":""},"",{"$f":"IF($X24=\"\",\"\",(VLOOKUP($AB$42,Worksheet!$A$11:$AE$41,AB24+1,FALSE)))","v":""},{"$f":"IF('Entry Information'!Y174=\"\",\"\",'Entry Information'!Y174)","v":""},null,"",{"$f":"IF('Entry Information'!Z174=\"\",AF24,AF24-100)","v":""},"",{"$f":"IF($AD24=\"\",\"\",(VLOOKUP($AH$42,Worksheet!$A$11:$AE$41,AH24+1,FALSE)))","v":""},null,{"$f":"IF('YOUTH ALL-AROUND RESULTS'!A23=\"\",\"\",(SUM('YOUTH ALL-AROUND RESULTS'!$K23,'YOUTH ALL-AROUND RESULTS'!$AC23,'YOUTH ALL-AROUND RESULTS'!$AI23,'YOUTH ALL-AROUND RESULTS'!$W23,'YOUTH ALL-AROUND RESULTS'!$Q23)))","v":""},null,"","",null,{"$f":"IF(OR('Entry Information'!I174=\"\",'Entry Information'!J174=\"\"),\"\",(SUM('YOUTH JR HORSE RESULTS'!$K23,'YOUTH JR HORSE RESULTS'!$AC23,'YOUTH JR HORSE RESULTS'!$AI23, 'YOUTH JR HORSE RESULTS'!$W23,'YOUTH JR HORSE RESULTS'!$Q23)))","v":""},null,"",""]
[{"$f":"IF('Entry Information'!B175=\"\",\"\",'Entry Information'!B175)","v":""},{"$f":"IF('Entry Information'!C175=\"\",\"\",'Entry Information'!C175)","v":""},{"$f":"IF('Entry Information'!D175=\"\",\"\",'Entry Information'!D175)","v":""},{"$f":"IF('Entry Information'!E175=\"\",\"\",'Entry Information'!E175)","v":""},"YOUTH",{"$f":"IF('Entry Information'!Q175=\"\",\"\",'Entry Information'!Q175)","v":""},null,{"$f":"IF(G25=\"\",F25,(F25+(G25*0.001)))","v":""},{"$f":"IF('Entry Information'!R175=\"\",H25,H25-100)","v":""},"",{"$f":"IF($F25=\"\",\"\",(VLOOKUP($J$42,Worksheet!$A$11:$AE$41,J25+1,FALSE)))","v":""},{"$f":"IF('Entry Information'!S175=\"\",\"\",'Entry Information'!S175)","v":""},null,"",{"$f":"IF('Entry Information'!T175=\"\",N25,N25-100)","v":""},"",{"$f":"IF($L25=\"\",\"\",(VLOOKUP($P$42,Worksheet!$A$11:$AE$41,P25+1,FALSE)))","v":""},{"$f":"IF('Entry Information'!U175=\"\",\"\",'Entry Information'!U175)","v":""},null,"",{"$f":"IF('Entry Information'!V175=\"\",T25,T25-100)","v":""},"",{"$f":"IF($R25=\"\",\"\",(VLOOKUP($V$42,Worksheet!$A$11:$AE$41,V25+1,FALSE)))","v":""},{"$f":"IF('Entry Information'!W175=\"\",\"\",'Entry Information'!W175)","v":""},null,{"$f":"IF(Y25=\"\",X25,(X25+(Y25*0.001)))","v":""},{"$f":"IF('Entry Information'!X175=\"\",Z25,Z25-100)","v":""},"",{"$f":"IF($X25=\"\",\"\",(VLOOKUP($AB$42,Worksheet!$A$11:$AE$41,AB25+1,FALSE)))","v":""},{"$f":"IF('Entry Information'!Y175=\"\",\"\",'Entry Information'!Y175)","v":""},null,{"$f":"IF(AE25=\"\",AD25,(AD25+(AE25*0.001)))","v":""},{"$f":"IF('Entry Information'!Z175=\"\",AF25,AF25-100)","v":""},"",{"$f":"IF($AD25=\"\",\"\",(VLOOKUP($AH$42,Worksheet!$A$11:$AE$41,AH25+1,FALSE)))","v":""},null,{"$f":"IF('YOUTH ALL-AROUND RESULTS'!A24=\"\",\"\",(SUM('YOUTH ALL-AROUND RESULTS'!$K24,'YOUTH ALL-AROUND RESULTS'!$AC24,'YOUTH ALL-AROUND RESULTS'!$AI24,'YOUTH ALL-AROUND RESULTS'!$W24,'YOUTH ALL-AROUND RESULTS'!$Q24)))","v":""},null,"","",null,{"$f":"IF(OR('Entry Information'!I175=\"\",'Entry Information'!J175=\"\"),\"\",(SUM('YOUTH JR HORSE RESULTS'!$K24,'YOUTH JR HORSE RESULTS'!$AC24,'YOUTH JR HORSE RESULTS'!$AI24, 'YOUTH JR HORSE RESULTS'!$W24,'YOUTH JR HORSE RESULTS'!$Q24)))","v":""},null,"",""]
[{"$f":"IF('Entry Information'!B176=\"\",\"\",'Entry Information'!B176)","v":""},{"$f":"IF('Entry Information'!C176=\"\",\"\",'Entry Information'!C176)","v":""},{"$f":"IF('Entry Information'!D176=\"\",\"\",'Entry Information'!D176)","v":""},{"$f":"IF('Entry Information'!E176=\"\",\"\",'Entry Information'!E176)","v":""},"YOUTH",{"$f":"IF('Entry Information'!Q176=\"\",\"\",'Entry Information'!Q176)","v":""},null,{"$f":"IF(G26=\"\",F26,(F26+(G26*0.001)))","v":""},{"$f":"IF('Entry Information'!R176=\"\",H26,H26-100)","v":""},"",{"$f":"IF($F26=\"\",\"\",(VLOOKUP($J$42,Worksheet!$A$11:$AE$41,J26+1,FALSE)))","v":""},{"$f":"IF('Entry Information'!S176=\"\",\"\",'Entry Information'!S176)","v":""},null,"",{"$f":"IF('Entry Information'!T176=\"\",N26,N26-100)","v":""},"",{"$f":"IF($L26=\"\",\"\",(VLOOKUP($P$42,Worksheet!$A$11:$AE$41,P26+1,FALSE)))","v":""},{"$f":"IF('Entry Information'!U176=\"\",\"\",'Entry Information'!U176)","v":""},null,"",{"$f":"IF('Entry Information'!V176=\"\",T26,T26-100)","v":""},"",{"$f":"IF($R26=\"\",\"\",(VLOOKUP($V$42,Worksheet!$A$11:$AE$41,V26+1,FALSE)))","v":""},{"$f":"IF('Entry Information'!W176=\"\",\"\",'Entry Information'!W176)","v":""},null,{"$f":"IF(Y26=\"\",X26,(X26+(Y26*0.001)))","v":""},{"$f":"IF('Entry Information'!X176=\"\",Z26,Z26-100)","v":""},"",{"$f":"IF($X26=\"\",\"\",(VLOOKUP($AB$42,Worksheet!$A$11:$AE$41,AB26+1,FALSE)))","v":""},{"$f":"IF('Entry Information'!Y176=\"\",\"\",'Entry Information'!Y176)","v":""},null,{"$f":"IF(AE26=\"\",AD26,(AD26+(AE26*0.001)))","v":""},{"$f":"IF('Entry Information'!Z176=\"\",AF26,AF26-100)","v":""},"",{"$f":"IF($AD26=\"\",\"\",(VLOOKUP($AH$42,Worksheet!$A$11:$AE$41,AH26+1,FALSE)))","v":""},null,{"$f":"IF('YOUTH ALL-AROUND RESULTS'!A25=\"\",\"\",(SUM('YOUTH ALL-AROUND RESULTS'!$K25,'YOUTH ALL-AROUND RESULTS'!$AC25,'YOUTH ALL-AROUND RESULTS'!$AI25,'YOUTH ALL-AROUND RESULTS'!$W25,'YOUTH ALL-AROUND RESULTS'!$Q25)))","v":""},null,"","",null,{"$f":"IF(OR('Entry Information'!I176=\"\",'Entry Information'!J176=\"\"),\"\",(SUM('YOUTH JR HORSE RESULTS'!$K25,'YOUTH JR HORSE RESULTS'!$AC25,'YOUTH JR HORSE RESULTS'!$AI25, 'YOUTH JR HORSE RESULTS'!$W25,'YOUTH JR HORSE RESULTS'!$Q25)))","v":""},null,"",""]
[{"$f":"IF('Entry Information'!B177=\"\",\"\",'Entry Information'!B177)","v":""},{"$f":"IF('Entry Information'!C177=\"\",\"\",'Entry Information'!C177)","v":""},{"$f":"IF('Entry Information'!D177=\"\",\"\",'Entry Information'!D177)","v":""},{"$f":"IF('Entry Information'!E177=\"\",\"\",'Entry Information'!E177)","v":""},"YOUTH",{"$f":"IF('Entry Information'!Q177=\"\",\"\",'Entry Information'!Q177)","v":""},null,{"$f":"IF(G27=\"\",F27,(F27+(G27*0.001)))","v":""},{"$f":"IF('Entry Information'!R177=\"\",H27,H27-100)","v":""},"",{"$f":"IF($F27=\"\",\"\",(VLOOKUP($J$42,Worksheet!$A$11:$AE$41,J27+1,FALSE)))","v":""},{"$f":"IF('Entry Information'!S177=\"\",\"\",'Entry Information'!S177)","v":""},null,"",{"$f":"IF('Entry Information'!T177=\"\",N27,N27-100)","v":""},"",{"$f":"IF($L27=\"\",\"\",(VLOOKUP($P$42,Worksheet!$A$11:$AE$41,P27+1,FALSE)))","v":""},{"$f":"IF('Entry Information'!U177=\"\",\"\",'Entry Information'!U177)","v":""},null,"",{"$f":"IF('Entry Information'!V177=\"\",T27,T27-100)","v":""},"",{"$f":"IF($R27=\"\",\"\",(VLOOKUP($V$42,Worksheet!$A$11:$AE$41,V27+1,FALSE)))","v":""},{"$f":"IF('Entry Information'!W177=\"\",\"\",'Entry Information'!W177)","v":""},null,{"$f":"IF(Y27=\"\",X27,(X27+(Y27*0.001)))","v":""},{"$f":"IF('Entry Information'!X177=\"\",Z27,Z27-100)","v":""},"",{"$f":"IF($X27=\"\",\"\",(VLOOKUP($AB$42,Worksheet!$A$11:$AE$41,AB27+1,FALSE)))","v":""},{"$f":"IF('Entry Information'!Y177=\"\",\"\",'Entry Information'!Y177)","v":""},null,{"$f":"IF(AE27=\"\",AD27,(AD27+(AE27*0.001)))","v":""},{"$f":"IF('Entry Information'!Z177=\"\",AF27,AF27-100)","v":""},"",{"$f":"IF($AD27=\"\",\"\",(VLOOKUP($AH$42,Worksheet!$A$11:$AE$41,AH27+1,FALSE)))","v":""},null,{"$f":"IF('YOUTH ALL-AROUND RESULTS'!A26=\"\",\"\",(SUM('YOUTH ALL-AROUND RESULTS'!$K26,'YOUTH ALL-AROUND RESULTS'!$AC26,'YOUTH ALL-AROUND RESULTS'!$AI26,'YOUTH ALL-AROUND RESULTS'!$W26,'YOUTH ALL-AROUND RESULTS'!$Q26)))","v":""},null,"","",null,{"$f":"IF(OR('Entry Information'!I177=\"\",'Entry Information'!J177=\"\"),\"\",(SUM('YOUTH JR HORSE RESULTS'!$K26,'YOUTH JR HORSE RESULTS'!$AC26,'YOUTH JR HORSE RESULTS'!$AI26, 'YOUTH JR HORSE RESULTS'!$W26,'YOUTH JR HORSE RESULTS'!$Q26)))","v":""},null,"",""]
[{"$f":"IF('Entry Information'!B178=\"\",\"\",'Entry Information'!B178)","v":""},{"$f":"IF('Entry Information'!C178=\"\",\"\",'Entry Information'!C178)","v":""},{"$f":"IF('Entry Information'!D178=\"\",\"\",'Entry Information'!D178)","v":""},{"$f":"IF('Entry Information'!E178=\"\",\"\",'Entry Information'!E178)","v":""},"YOUTH",{"$f":"IF('Entry Information'!Q178=\"\",\"\",'Entry Information'!Q178)","v":""},null,"",{"$f":"IF('Entry Information'!R178=\"\",H28,H28-100)","v":""},"",{"$f":"IF($F28=\"\",\"\",(VLOOKUP($J$42,Worksheet!$A$11:$AE$41,J28+1,FALSE)))","v":""},{"$f":"IF('Entry Information'!S178=\"\",\"\",'Entry Information'!S178)","v":""},null,"",{"$f":"IF('Entry Information'!T178=\"\",N28,N28-100)","v":""},"",{"$f":"IF($L28=\"\",\"\",(VLOOKUP($P$42,Worksheet!$A$11:$AE$41,P28+1,FALSE)))","v":""},{"$f":"IF('Entry Information'!U178=\"\",\"\",'Entry Information'!U178)","v":""},null,"",{"$f":"IF('Entry Information'!V178=\"\",T28,T28-100)","v":""},"",{"$f":"IF($R28=\"\",\"\",(VLOOKUP($V$42,Worksheet!$A$11:$AE$41,V28+1,FALSE)))","v":""},{"$f":"IF('Entry Information'!W178=\"\",\"\",'Entry Information'!W178)","v":""},null,"",{"$f":"IF('Entry Information'!X178=\"\",Z28,Z28-100)","v":""},"",{"$f":"IF($X28=\"\",\"\",(VLOOKUP($AB$42,Worksheet!$A$11:$AE$41,AB28+1,FALSE)))","v":""},{"$f":"IF('Entry Information'!Y178=\"\",\"\",'Entry Information'!Y178)","v":""},null,"",{"$f":"IF('Entry Information'!Z178=\"\",AF28,AF28-100)","v":""},"",{"$f":"IF($AD28=\"\",\"\",(VLOOKUP($AH$42,Worksheet!$A$11:$AE$41,AH28+1,FALSE)))","v":""},null,{"$f":"IF('YOUTH ALL-AROUND RESULTS'!A27=\"\",\"\",(SUM('YOUTH ALL-AROUND RESULTS'!$K27,'YOUTH ALL-AROUND RESULTS'!$AC27,'YOUTH ALL-AROUND RESULTS'!$AI27,'YOUTH ALL-AROUND RESULTS'!$W27,'YOUTH ALL-AROUND RESULTS'!$Q27)))","v":""},null,"","",null,{"$f":"IF(OR('Entry Information'!I178=\"\",'Entry Information'!J178=\"\"),\"\",(SUM('YOUTH JR HORSE RESULTS'!$K27,'YOUTH JR HORSE RESULTS'!$AC27,'YOUTH JR HORSE RESULTS'!$AI27, 'YOUTH JR HORSE RESULTS'!$W27,'YOUTH JR HORSE RESULTS'!$Q27)))","v":""},null,"",""]
[{"$f":"IF('Entry Information'!B179=\"\",\"\",'Entry Information'!B179)","v":""},{"$f":"IF('Entry Information'!C179=\"\",\"\",'Entry Information'!C179)","v":""},{"$f":"IF('Entry Information'!D179=\"\",\"\",'Entry Information'!D179)","v":""},{"$f":"IF('Entry Information'!E179=\"\",\"\",'Entry Information'!E179)","v":""},"YOUTH",{"$f":"IF('Entry Information'!Q179=\"\",\"\",'Entry Information'!Q179)","v":""},null,"",{"$f":"IF('Entry Information'!R179=\"\",H29,H29-100)","v":""},"",{"$f":"IF($F29=\"\",\"\",(VLOOKUP($J$42,Worksheet!$A$11:$AE$41,J29+1,FALSE)))","v":""},{"$f":"IF('Entry Information'!S179=\"\",\"\",'Entry Information'!S179)","v":""},null,"",{"$f":"IF('Entry Information'!T179=\"\",N29,N29-100)","v":""},"",{"$f":"IF($L29=\"\",\"\",(VLOOKUP($P$42,Worksheet!$A$11:$AE$41,P29+1,FALSE)))","v":""},{"$f":"IF('Entry Information'!U179=\"\",\"\",'Entry Information'!U179)","v":""},null,"",{"$f":"IF('Entry Information'!V179=\"\",T29,T29-100)","v":""},"",{"$f":"IF($R29=\"\",\"\",(VLOOKUP($V$42,Worksheet!$A$11:$AE$41,V29+1,FALSE)))","v":""},{"$f":"IF('Entry Information'!W179=\"\",\"\",'Entry Information'!W179)","v":""},null,"",{"$f":"IF('Entry Information'!X179=\"\",Z29,Z29-100)","v":""},"",{"$f":"IF($X29=\"\",\"\",(VLOOKUP($AB$42,Worksheet!$A$11:$AE$41,AB29+1,FALSE)))","v":""},{"$f":"IF('Entry Information'!Y179=\"\",\"\",'Entry Information'!Y179)","v":""},null,"",{"$f":"IF('Entry Information'!Z179=\"\",AF29,AF29-100)","v":""},"",{"$f":"IF($AD29=\"\",\"\",(VLOOKUP($AH$42,Worksheet!$A$11:$AE$41,AH29+1,FALSE)))","v":""},null,{"$f":"IF('YOUTH ALL-AROUND RESULTS'!A28=\"\",\"\",(SUM('YOUTH ALL-AROUND RESULTS'!$K28,'YOUTH ALL-AROUND RESULTS'!$AC28,'YOUTH ALL-AROUND RESULTS'!$AI28,'YOUTH ALL-AROUND RESULTS'!$W28,'YOUTH ALL-AROUND RESULTS'!$Q28)))","v":""},null,"","",null,{"$f":"IF(OR('Entry Information'!I179=\"\",'Entry Information'!J179=\"\"),\"\",(SUM('YOUTH JR HORSE RESULTS'!$K28,'YOUTH JR HORSE RESULTS'!$AC28,'YOUTH JR HORSE RESULTS'!$AI28, 'YOUTH JR HORSE RESULTS'!$W28,'YOUTH JR HORSE RESULTS'!$Q28)))","v":""},null,"",""]
[{"$f":"IF('Entry Information'!B180=\"\",\"\",'Entry Information'!B180)","v":""},{"$f":"IF('Entry Information'!C180=\"\",\"\",'Entry Information'!C180)","v":""},{"$f":"IF('Entry Information'!D180=\"\",\"\",'Entry Information'!D180)","v":""},{"$f":"IF('Entry Information'!E180=\"\",\"\",'Entry Information'!E180)","v":""},"YOUTH",{"$f":"IF('Entry Information'!Q180=\"\",\"\",'Entry Information'!Q180)","v":""},null,"",{"$f":"IF('Entry Information'!R180=\"\",H30,H30-100)","v":""},"",{"$f":"IF($F30=\"\",\"\",(VLOOKUP($J$42,Worksheet!$A$11:$AE$41,J30+1,FALSE)))","v":""},{"$f":"IF('Entry Information'!S180=\"\",\"\",'Entry Information'!S180)","v":""},null,"",{"$f":"IF('Entry Information'!T180=\"\",N30,N30-100)","v":""},"",{"$f":"IF($L30=\"\",\"\",(VLOOKUP($P$42,Worksheet!$A$11:$AE$41,P30+1,FALSE)))","v":""},{"$f":"IF('Entry Information'!U180=\"\",\"\",'Entry Information'!U180)","v":""},null,"",{"$f":"IF('Entry Information'!V180=\"\",T30,T30-100)","v":""},"",{"$f":"IF($R30=\"\",\"\",(VLOOKUP($V$42,Worksheet!$A$11:$AE$41,V30+1,FALSE)))","v":""},{"$f":"IF('Entry Information'!W180=\"\",\"\",'Entry Information'!W180)","v":""},null,"",{"$f":"IF('Entry Information'!X180=\"\",Z30,Z30-100)","v":""},"",{"$f":"IF($X30=\"\",\"\",(VLOOKUP($AB$42,Worksheet!$A$11:$AE$41,AB30+1,FALSE)))","v":""},{"$f":"IF('Entry Information'!Y180=\"\",\"\",'Entry Information'!Y180)","v":""},null,"",{"$f":"IF('Entry Information'!Z180=\"\",AF30,AF30-100)","v":""},"",{"$f":"IF($AD30=\"\",\"\",(VLOOKUP($AH$42,Worksheet!$A$11:$AE$41,AH30+1,FALSE)))","v":""},null,{"$f":"IF('YOUTH ALL-AROUND RESULTS'!A29=\"\",\"\",(SUM('YOUTH ALL-AROUND RESULTS'!$K29,'YOUTH ALL-AROUND RESULTS'!$AC29,'YOUTH ALL-AROUND RESULTS'!$AI29,'YOUTH ALL-AROUND RESULTS'!$W29,'YOUTH ALL-AROUND RESULTS'!$Q29)))","v":""},null,"","",null,{"$f":"IF(OR('Entry Information'!I180=\"\",'Entry Information'!J180=\"\"),\"\",(SUM('YOUTH JR HORSE RESULTS'!$K29,'YOUTH JR HORSE RESULTS'!$AC29,'YOUTH JR HORSE RESULTS'!$AI29, 'YOUTH JR HORSE RESULTS'!$W29,'YOUTH JR HORSE RESULTS'!$Q29)))","v":""},null,"",""]
[{"$f":"IF('Entry Information'!B181=\"\",\"\",'Entry Information'!B181)","v":""},{"$f":"IF('Entry Information'!C181=\"\",\"\",'Entry Information'!C181)","v":""},{"$f":"IF('Entry Information'!D181=\"\",\"\",'Entry Information'!D181)","v":""},{"$f":"IF('Entry Information'!E181=\"\",\"\",'Entry Information'!E181)","v":""},"YOUTH",{"$f":"IF('Entry Information'!Q181=\"\",\"\",'Entry Information'!Q181)","v":""},null,"",{"$f":"IF('Entry Information'!R181=\"\",H31,H31-100)","v":""},"",{"$f":"IF($F31=\"\",\"\",(VLOOKUP($J$42,Worksheet!$A$11:$AE$41,J31+1,FALSE)))","v":""},{"$f":"IF('Entry Information'!S181=\"\",\"\",'Entry Information'!S181)","v":""},null,"",{"$f":"IF('Entry Information'!T181=\"\",N31,N31-100)","v":""},"",{"$f":"IF($L31=\"\",\"\",(VLOOKUP($P$42,Worksheet!$A$11:$AE$41,P31+1,FALSE)))","v":""},{"$f":"IF('Entry Information'!U181=\"\",\"\",'Entry Information'!U181)","v":""},null,"",{"$f":"IF('Entry Information'!V181=\"\",T31,T31-100)","v":""},"",{"$f":"IF($R31=\"\",\"\",(VLOOKUP($V$42,Worksheet!$A$11:$AE$41,V31+1,FALSE)))","v":""},{"$f":"IF('Entry Information'!W181=\"\",\"\",'Entry Information'!W181)","v":""},null,"",{"$f":"IF('Entry Information'!X181=\"\",Z31,Z31-100)","v":""},"",{"$f":"IF($X31=\"\",\"\",(VLOOKUP($AB$42,Worksheet!$A$11:$AE$41,AB31+1,FALSE)))","v":""},{"$f":"IF('Entry Information'!Y181=\"\",\"\",'Entry Information'!Y181)","v":""},null,"",{"$f":"IF('Entry Information'!Z181=\"\",AF31,AF31-100)","v":""},"",{"$f":"IF($AD31=\"\",\"\",(VLOOKUP($AH$42,Worksheet!$A$11:$AE$41,AH31+1,FALSE)))","v":""},null,{"$f":"IF('YOUTH ALL-AROUND RESULTS'!A30=\"\",\"\",(SUM('YOUTH ALL-AROUND RESULTS'!$K30,'YOUTH ALL-AROUND RESULTS'!$AC30,'YOUTH ALL-AROUND RESULTS'!$AI30,'YOUTH ALL-AROUND RESULTS'!$W30,'YOUTH ALL-AROUND RESULTS'!$Q30)))","v":""},null,"","",null,{"$f":"IF(OR('Entry Information'!I181=\"\",'Entry Information'!J181=\"\"),\"\",(SUM('YOUTH JR HORSE RESULTS'!$K30,'YOUTH JR HORSE RESULTS'!$AC30,'YOUTH JR HORSE RESULTS'!$AI30, 'YOUTH JR HORSE RESULTS'!$W30,'YOUTH JR HORSE RESULTS'!$Q30)))","v":""},null,"",""]
[{"$f":"IF('Entry Information'!B182=\"\",\"\",'Entry Information'!B182)","v":""},{"$f":"IF('Entry Information'!C182=\"\",\"\",'Entry Information'!C182)","v":""},{"$f":"IF('Entry Information'!D182=\"\",\"\",'Entry Information'!D182)","v":""},{"$f":"IF('Entry Information'!E182=\"\",\"\",'Entry Information'!E182)","v":""},"YOUTH",{"$f":"IF('Entry Information'!Q182=\"\",\"\",'Entry Information'!Q182)","v":""},null,"",{"$f":"IF('Entry Information'!R182=\"\",H32,H32-100)","v":""},"",{"$f":"IF($F32=\"\",\"\",(VLOOKUP($J$42,Worksheet!$A$11:$AE$41,J32+1,FALSE)))","v":""},{"$f":"IF('Entry Information'!S182=\"\",\"\",'Entry Information'!S182)","v":""},null,"",{"$f":"IF('Entry Information'!T182=\"\",N32,N32-100)","v":""},"",{"$f":"IF($L32=\"\",\"\",(VLOOKUP($P$42,Worksheet!$A$11:$AE$41,P32+1,FALSE)))","v":""},{"$f":"IF('Entry Information'!U182=\"\",\"\",'Entry Information'!U182)","v":""},null,"",{"$f":"IF('Entry Information'!V182=\"\",T32,T32-100)","v":""},"",{"$f":"IF($R32=\"\",\"\",(VLOOKUP($V$42,Worksheet!$A$11:$AE$41,V32+1,FALSE)))","v":""},{"$f":"IF('Entry Information'!W182=\"\",\"\",'Entry Information'!W182)","v":""},null,"",{"$f":"IF('Entry Information'!X182=\"\",Z32,Z32-100)","v":""},"",{"$f":"IF($X32=\"\",\"\",(VLOOKUP($AB$42,Worksheet!$A$11:$AE$41,AB32+1,FALSE)))","v":""},{"$f":"IF('Entry Information'!Y182=\"\",\"\",'Entry Information'!Y182)","v":""},null,"",{"$f":"IF('Entry Information'!Z182=\"\",AF32,AF32-100)","v":""},"",{"$f":"IF($AD32=\"\",\"\",(VLOOKUP($AH$42,Worksheet!$A$11:$AE$41,AH32+1,FALSE)))","v":""},null,{"$f":"IF('YOUTH ALL-AROUND RESULTS'!A31=\"\",\"\",(SUM('YOUTH ALL-AROUND RESULTS'!$K31,'YOUTH ALL-AROUND RESULTS'!$AC31,'YOUTH ALL-AROUND RESULTS'!$AI31,'YOUTH ALL-AROUND RESULTS'!$W31,'YOUTH ALL-AROUND RESULTS'!$Q31)))","v":""},null,"","",null,{"$f":"IF(OR('Entry Information'!I182=\"\",'Entry Information'!J182=\"\"),\"\",(SUM('YOUTH JR HORSE RESULTS'!$K31,'YOUTH JR HORSE RESULTS'!$AC31,'YOUTH JR HORSE RESULTS'!$AI31, 'YOUTH JR HORSE RESULTS'!$W31,'YOUTH JR HORSE RESULTS'!$Q31)))","v":""},null,"",""]
[{"$f":"IF('Entry Information'!B183=\"\",\"\",'Entry Information'!B183)","v":""},{"$f":"IF('Entry Information'!C183=\"\",\"\",'Entry Information'!C183)","v":""},{"$f":"IF('Entry Information'!D183=\"\",\"\",'Entry Information'!D183)","v":""},{"$f":"IF('Entry Information'!E183=\"\",\"\",'Entry Information'!E183)","v":""},"YOUTH",{"$f":"IF('Entry Information'!Q183=\"\",\"\",'Entry Information'!Q183)","v":""},null,"",{"$f":"IF('Entry Information'!R183=\"\",H33,H33-100)","v":""},"",{"$f":"IF($F33=\"\",\"\",(VLOOKUP($J$42,Worksheet!$A$11:$AE$41,J33+1,FALSE)))","v":""},{"$f":"IF('Entry Information'!S183=\"\",\"\",'Entry Information'!S183)","v":""},null,"",{"$f":"IF('Entry Information'!T183=\"\",N33,N33-100)","v":""},"",{"$f":"IF($L33=\"\",\"\",(VLOOKUP($P$42,Worksheet!$A$11:$AE$41,P33+1,FALSE)))","v":""},{"$f":"IF('Entry Information'!U183=\"\",\"\",'Entry Information'!U183)","v":""},null,"",{"$f":"IF('Entry Information'!V183=\"\",T33,T33-100)","v":""},"",{"$f":"IF($R33=\"\",\"\",(VLOOKUP($V$42,Worksheet!$A$11:$AE$41,V33+1,FALSE)))","v":""},{"$f":"IF('Entry Information'!W183=\"\",\"\",'Entry Information'!W183)","v":""},null,"",{"$f":"IF('Entry Information'!X183=\"\",Z33,Z33-100)","v":""},"",{"$f":"IF($X33=\"\",\"\",(VLOOKUP($AB$42,Worksheet!$A$11:$AE$41,AB33+1,FALSE)))","v":""},{"$f":"IF('Entry Information'!Y183=\"\",\"\",'Entry Information'!Y183)","v":""},null,"",{"$f":"IF('Entry Information'!Z183=\"\",AF33,AF33-100)","v":""},"",{"$f":"IF($AD33=\"\",\"\",(VLOOKUP($AH$42,Worksheet!$A$11:$AE$41,AH33+1,FALSE)))","v":""},null,{"$f":"IF('YOUTH ALL-AROUND RESULTS'!A32=\"\",\"\",(SUM('YOUTH ALL-AROUND RESULTS'!$K32,'YOUTH ALL-AROUND RESULTS'!$AC32,'YOUTH ALL-AROUND RESULTS'!$AI32,'YOUTH ALL-AROUND RESULTS'!$W32,'YOUTH ALL-AROUND RESULTS'!$Q32)))","v":""},null,"","",null,{"$f":"IF(OR('Entry Information'!I183=\"\",'Entry Information'!J183=\"\"),\"\",(SUM('YOUTH JR HORSE RESULTS'!$K32,'YOUTH JR HORSE RESULTS'!$AC32,'YOUTH JR HORSE RESULTS'!$AI32, 'YOUTH JR HORSE RESULTS'!$W32,'YOUTH JR HORSE RESULTS'!$Q32)))","v":""},null,"",""]
[{"$f":"IF('Entry Information'!B184=\"\",\"\",'Entry Information'!B184)","v":""},{"$f":"IF('Entry Information'!C184=\"\",\"\",'Entry Information'!C184)","v":""},{"$f":"IF('Entry Information'!D184=\"\",\"\",'Entry Information'!D184)","v":""},{"$f":"IF('Entry Information'!E184=\"\",\"\",'Entry Information'!E184)","v":""},"YOUTH",{"$f":"IF('Entry Information'!Q184=\"\",\"\",'Entry Information'!Q184)","v":""},null,"",{"$f":"IF('Entry Information'!R184=\"\",H34,H34-100)","v":""},"",{"$f":"IF($F34=\"\",\"\",(VLOOKUP($J$42,Worksheet!$A$11:$AE$41,J34+1,FALSE)))","v":""},{"$f":"IF('Entry Information'!S184=\"\",\"\",'Entry Information'!S184)","v":""},null,"",{"$f":"IF('Entry Information'!T184=\"\",N34,N34-100)","v":""},"",{"$f":"IF($L34=\"\",\"\",(VLOOKUP($P$42,Worksheet!$A$11:$AE$41,P34+1,FALSE)))","v":""},{"$f":"IF('Entry Information'!U184=\"\",\"\",'Entry Information'!U184)","v":""},null,"",{"$f":"IF('Entry Information'!V184=\"\",T34,T34-100)","v":""},"",{"$f":"IF($R34=\"\",\"\",(VLOOKUP($V$42,Worksheet!$A$11:$AE$41,V34+1,FALSE)))","v":""},{"$f":"IF('Entry Information'!W184=\"\",\"\",'Entry Information'!W184)","v":""},null,"",{"$f":"IF('Entry Information'!X184=\"\",Z34,Z34-100)","v":""},"",{"$f":"IF($X34=\"\",\"\",(VLOOKUP($AB$42,Worksheet!$A$11:$AE$41,AB34+1,FALSE)))","v":""},{"$f":"IF('Entry Information'!Y184=\"\",\"\",'Entry Information'!Y184)","v":""},null,"",{"$f":"IF('Entry Information'!Z184=\"\",AF34,AF34-100)","v":""},"",{"$f":"IF($AD34=\"\",\"\",(VLOOKUP($AH$42,Worksheet!$A$11:$AE$41,AH34+1,FALSE)))","v":""},null,{"$f":"IF('YOUTH ALL-AROUND RESULTS'!A33=\"\",\"\",(SUM('YOUTH ALL-AROUND RESULTS'!$K33,'YOUTH ALL-AROUND RESULTS'!$AC33,'YOUTH ALL-AROUND RESULTS'!$AI33,'YOUTH ALL-AROUND RESULTS'!$W33,'YOUTH ALL-AROUND RESULTS'!$Q33)))","v":""},null,"","",null,{"$f":"IF(OR('Entry Information'!I184=\"\",'Entry Information'!J184=\"\"),\"\",(SUM('YOUTH JR HORSE RESULTS'!$K33,'YOUTH JR HORSE RESULTS'!$AC33,'YOUTH JR HORSE RESULTS'!$AI33, 'YOUTH JR HORSE RESULTS'!$W33,'YOUTH JR HORSE RESULTS'!$Q33)))","v":""},null,"",""]
[{"$f":"IF('Entry Information'!B185=\"\",\"\",'Entry Information'!B185)","v":""},{"$f":"IF('Entry Information'!C185=\"\",\"\",'Entry Information'!C185)","v":""},{"$f":"IF('Entry Information'!D185=\"\",\"\",'Entry Information'!D185)","v":""},{"$f":"IF('Entry Information'!E185=\"\",\"\",'Entry Information'!E185)","v":""},"YOUTH",{"$f":"IF('Entry Information'!Q185=\"\",\"\",'Entry Information'!Q185)","v":""},null,"",{"$f":"IF('Entry Information'!R185=\"\",H35,H35-100)","v":""},"",{"$f":"IF($F35=\"\",\"\",(VLOOKUP($J$42,Worksheet!$A$11:$AE$41,J35+1,FALSE)))","v":""},{"$f":"IF('Entry Information'!S185=\"\",\"\",'Entry Information'!S185)","v":""},null,"",{"$f":"IF('Entry Information'!T185=\"\",N35,N35-100)","v":""},"",{"$f":"IF($L35=\"\",\"\",(VLOOKUP($P$42,Worksheet!$A$11:$AE$41,P35+1,FALSE)))","v":""},{"$f":"IF('Entry Information'!U185=\"\",\"\",'Entry Information'!U185)","v":""},null,"",{"$f":"IF('Entry Information'!V185=\"\",T35,T35-100)","v":""},"",{"$f":"IF($R35=\"\",\"\",(VLOOKUP($V$42,Worksheet!$A$11:$AE$41,V35+1,FALSE)))","v":""},{"$f":"IF('Entry Information'!W185=\"\",\"\",'Entry Information'!W185)","v":""},null,"",{"$f":"IF('Entry Information'!X185=\"\",Z35,Z35-100)","v":""},"",{"$f":"IF($X35=\"\",\"\",(VLOOKUP($AB$42,Worksheet!$A$11:$AE$41,AB35+1,FALSE)))","v":""},{"$f":"IF('Entry Information'!Y185=\"\",\"\",'Entry Information'!Y185)","v":""},null,"",{"$f":"IF('Entry Information'!Z185=\"\",AF35,AF35-100)","v":""},"",{"$f":"IF($AD35=\"\",\"\",(VLOOKUP($AH$42,Worksheet!$A$11:$AE$41,AH35+1,FALSE)))","v":""},null,{"$f":"IF('YOUTH ALL-AROUND RESULTS'!A34=\"\",\"\",(SUM('YOUTH ALL-AROUND RESULTS'!$K34,'YOUTH ALL-AROUND RESULTS'!$AC34,'YOUTH ALL-AROUND RESULTS'!$AI34,'YOUTH ALL-AROUND RESULTS'!$W34,'YOUTH ALL-AROUND RESULTS'!$Q34)))","v":""},null,"","",null,{"$f":"IF(OR('Entry Information'!I185=\"\",'Entry Information'!J185=\"\"),\"\",(SUM('YOUTH JR HORSE RESULTS'!$K34,'YOUTH JR HORSE RESULTS'!$AC34,'YOUTH JR HORSE RESULTS'!$AI34, 'YOUTH JR HORSE RESULTS'!$W34,'YOUTH JR HORSE RESULTS'!$Q34)))","v":""},null,"",""]
[{"$f":"IF('Entry Information'!B186=\"\",\"\",'Entry Information'!B186)","v":""},{"$f":"IF('Entry Information'!C186=\"\",\"\",'Entry Information'!C186)","v":""},{"$f":"IF('Entry Information'!D186=\"\",\"\",'Entry Information'!D186)","v":""},{"$f":"IF('Entry Information'!E186=\"\",\"\",'Entry Information'!E186)","v":""},"YOUTH",{"$f":"IF('Entry Information'!Q186=\"\",\"\",'Entry Information'!Q186)","v":""},null,"",{"$f":"IF('Entry Information'!R186=\"\",H36,H36-100)","v":""},"",{"$f":"IF($F36=\"\",\"\",(VLOOKUP($J$42,Worksheet!$A$11:$AE$41,J36+1,FALSE)))","v":""},{"$f":"IF('Entry Information'!S186=\"\",\"\",'Entry Information'!S186)","v":""},null,"",{"$f":"IF('Entry Information'!T186=\"\",N36,N36-100)","v":""},"",{"$f":"IF($L36=\"\",\"\",(VLOOKUP($P$42,Worksheet!$A$11:$AE$41,P36+1,FALSE)))","v":""},{"$f":"IF('Entry Information'!U186=\"\",\"\",'Entry Information'!U186)","v":""},null,"",{"$f":"IF('Entry Information'!V186=\"\",T36,T36-100)","v":""},"",{"$f":"IF($R36=\"\",\"\",(VLOOKUP($V$42,Worksheet!$A$11:$AE$41,V36+1,FALSE)))","v":""},{"$f":"IF('Entry Information'!W186=\"\",\"\",'Entry Information'!W186)","v":""},null,"",{"$f":"IF('Entry Information'!X186=\"\",Z36,Z36-100)","v":""},"",{"$f":"IF($X36=\"\",\"\",(VLOOKUP($AB$42,Worksheet!$A$11:$AE$41,AB36+1,FALSE)))","v":""},{"$f":"IF('Entry Information'!Y186=\"\",\"\",'Entry Information'!Y186)","v":""},null,"",{"$f":"IF('Entry Information'!Z186=\"\",AF36,AF36-100)","v":""},"",{"$f":"IF($AD36=\"\",\"\",(VLOOKUP($AH$42,Worksheet!$A$11:$AE$41,AH36+1,FALSE)))","v":""},null,{"$f":"IF('YOUTH ALL-AROUND RESULTS'!A35=\"\",\"\",(SUM('YOUTH ALL-AROUND RESULTS'!$K35,'YOUTH ALL-AROUND RESULTS'!$AC35,'YOUTH ALL-AROUND RESULTS'!$AI35,'YOUTH ALL-AROUND RESULTS'!$W35,'YOUTH ALL-AROUND RESULTS'!$Q35)))","v":""},null,"","",null,{"$f":"IF(OR('Entry Information'!I186=\"\",'Entry Information'!J186=\"\"),\"\",(SUM('YOUTH JR HORSE RESULTS'!$K35,'YOUTH JR HORSE RESULTS'!$AC35,'YOUTH JR HORSE RESULTS'!$AI35, 'YOUTH JR HORSE RESULTS'!$W35,'YOUTH JR HORSE RESULTS'!$Q35)))","v":""},null,"",""]
[{"$f":"IF('Entry Information'!B187=\"\",\"\",'Entry Information'!B187)","v":""},{"$f":"IF('Entry Information'!C187=\"\",\"\",'Entry Information'!C187)","v":""},{"$f":"IF('Entry Information'!D187=\"\",\"\",'Entry Information'!D187)","v":""},{"$f":"IF('Entry Information'!E187=\"\",\"\",'Entry Information'!E187)","v":""},"YOUTH",{"$f":"IF('Entry Information'!Q187=\"\",\"\",'Entry Information'!Q187)","v":""},null,"",{"$f":"IF('Entry Information'!R187=\"\",H37,H37-100)","v":""},"",{"$f":"IF($F37=\"\",\"\",(VLOOKUP($J$42,Worksheet!$A$11:$AE$41,J37+1,FALSE)))","v":""},{"$f":"IF('Entry Information'!S187=\"\",\"\",'Entry Information'!S187)","v":""},null,"",{"$f":"IF('Entry Information'!T187=\"\",N37,N37-100)","v":""},"",{"$f":"IF($L37=\"\",\"\",(VLOOKUP($P$42,Worksheet!$A$11:$AE$41,P37+1,FALSE)))","v":""},{"$f":"IF('Entry Information'!U187=\"\",\"\",'Entry Information'!U187)","v":""},null,"",{"$f":"IF('Entry Information'!V187=\"\",T37,T37-100)","v":""},"",{"$f":"IF($R37=\"\",\"\",(VLOOKUP($V$42,Worksheet!$A$11:$AE$41,V37+1,FALSE)))","v":""},{"$f":"IF('Entry Information'!W187=\"\",\"\",'Entry Information'!W187)","v":""},null,"",{"$f":"IF('Entry Information'!X187=\"\",Z37,Z37-100)","v":""},"",{"$f":"IF($X37=\"\",\"\",(VLOOKUP($AB$42,Worksheet!$A$11:$AE$41,AB37+1,FALSE)))","v":""},{"$f":"IF('Entry Information'!Y187=\"\",\"\",'Entry Information'!Y187)","v":""},null,"",{"$f":"IF('Entry Information'!Z187=\"\",AF37,AF37-100)","v":""},"",{"$f":"IF($AD37=\"\",\"\",(VLOOKUP($AH$42,Worksheet!$A$11:$AE$41,AH37+1,FALSE)))","v":""},null,{"$f":"IF('YOUTH ALL-AROUND RESULTS'!A36=\"\",\"\",(SUM('YOUTH ALL-AROUND RESULTS'!$K36,'YOUTH ALL-AROUND RESULTS'!$AC36,'YOUTH ALL-AROUND RESULTS'!$AI36,'YOUTH ALL-AROUND RESULTS'!$W36,'YOUTH ALL-AROUND RESULTS'!$Q36)))","v":""},null,"","",null,{"$f":"IF(OR('Entry Information'!I187=\"\",'Entry Information'!J187=\"\"),\"\",(SUM('YOUTH JR HORSE RESULTS'!$K36,'YOUTH JR HORSE RESULTS'!$AC36,'YOUTH JR HORSE RESULTS'!$AI36, 'YOUTH JR HORSE RESULTS'!$W36,'YOUTH JR HORSE RESULTS'!$Q36)))","v":""},null,"",""]
[{"$f":"IF('Entry Information'!B188=\"\",\"\",'Entry Information'!B188)","v":""},{"$f":"IF('Entry Information'!C188=\"\",\"\",'Entry Information'!C188)","v":""},{"$f":"IF('Entry Information'!D188=\"\",\"\",'Entry Information'!D188)","v":""},{"$f":"IF('Entry Information'!E188=\"\",\"\",'Entry Information'!E188)","v":""},"YOUTH",{"$f":"IF('Entry Information'!Q188=\"\",\"\",'Entry Information'!Q188)","v":""},null,"",{"$f":"IF('Entry Information'!R188=\"\",H38,H38-100)","v":""},"",{"$f":"IF($F38=\"\",\"\",(VLOOKUP($J$42,Worksheet!$A$11:$AE$41,J38+1,FALSE)))","v":""},{"$f":"IF('Entry Information'!S188=\"\",\"\",'Entry Information'!S188)","v":""},null,"",{"$f":"IF('Entry Information'!T188=\"\",N38,N38-100)","v":""},"",{"$f":"IF($L38=\"\",\"\",(VLOOKUP($P$42,Worksheet!$A$11:$AE$41,P38+1,FALSE)))","v":""},{"$f":"IF('Entry Information'!U188=\"\",\"\",'Entry Information'!U188)","v":""},null,"",{"$f":"IF('Entry Information'!V188=\"\",T38,T38-100)","v":""},"",{"$f":"IF($R38=\"\",\"\",(VLOOKUP($V$42,Worksheet!$A$11:$AE$41,V38+1,FALSE)))","v":""},{"$f":"IF('Entry Information'!W188=\"\",\"\",'Entry Information'!W188)","v":""},null,"",{"$f":"IF('Entry Information'!X188=\"\",Z38,Z38-100)","v":""},"",{"$f":"IF($X38=\"\",\"\",(VLOOKUP($AB$42,Worksheet!$A$11:$AE$41,AB38+1,FALSE)))","v":""},{"$f":"IF('Entry Information'!Y188=\"\",\"\",'Entry Information'!Y188)","v":""},null,"",{"$f":"IF('Entry Information'!Z188=\"\",AF38,AF38-100)","v":""},"",{"$f":"IF($AD38=\"\",\"\",(VLOOKUP($AH$42,Worksheet!$A$11:$AE$41,AH38+1,FALSE)))","v":""},null,{"$f":"IF('YOUTH ALL-AROUND RESULTS'!A37=\"\",\"\",(SUM('YOUTH ALL-AROUND RESULTS'!$K37,'YOUTH ALL-AROUND RESULTS'!$AC37,'YOUTH ALL-AROUND RESULTS'!$AI37,'YOUTH ALL-AROUND RESULTS'!$W37,'YOUTH ALL-AROUND RESULTS'!$Q37)))","v":""},null,"","",null,{"$f":"IF(OR('Entry Information'!I188=\"\",'Entry Information'!J188=\"\"),\"\",(SUM('YOUTH JR HORSE RESULTS'!$K37,'YOUTH JR HORSE RESULTS'!$AC37,'YOUTH JR HORSE RESULTS'!$AI37, 'YOUTH JR HORSE RESULTS'!$W37,'YOUTH JR HORSE RESULTS'!$Q37)))","v":""},null,"",""]
[{"$f":"IF('Entry Information'!B189=\"\",\"\",'Entry Information'!B189)","v":""},{"$f":"IF('Entry Information'!C189=\"\",\"\",'Entry Information'!C189)","v":""},{"$f":"IF('Entry Information'!D189=\"\",\"\",'Entry Information'!D189)","v":""},{"$f":"IF('Entry Information'!E189=\"\",\"\",'Entry Information'!E189)","v":""},"YOUTH",{"$f":"IF('Entry Information'!Q189=\"\",\"\",'Entry Information'!Q189)","v":""},null,"",{"$f":"IF('Entry Information'!R189=\"\",H39,H39-100)","v":""},"",{"$f":"IF($F39=\"\",\"\",(VLOOKUP($J$42,Worksheet!$A$11:$AE$41,J39+1,FALSE)))","v":""},{"$f":"IF('Entry Information'!S189=\"\",\"\",'Entry Information'!S189)","v":""},null,"",{"$f":"IF('Entry Information'!T189=\"\",N39,N39-100)","v":""},"",{"$f":"IF($L39=\"\",\"\",(VLOOKUP($P$42,Worksheet!$A$11:$AE$41,P39+1,FALSE)))","v":""},{"$f":"IF('Entry Information'!U189=\"\",\"\",'Entry Information'!U189)","v":""},null,"",{"$f":"IF('Entry Information'!V189=\"\",T39,T39-100)","v":""},"",{"$f":"IF($R39=\"\",\"\",(VLOOKUP($V$42,Worksheet!$A$11:$AE$41,V39+1,FALSE)))","v":""},{"$f":"IF('Entry Information'!W189=\"\",\"\",'Entry Information'!W189)","v":""},null,"",{"$f":"IF('Entry Information'!X189=\"\",Z39,Z39-100)","v":""},"",{"$f":"IF($X39=\"\",\"\",(VLOOKUP($AB$42,Worksheet!$A$11:$AE$41,AB39+1,FALSE)))","v":""},{"$f":"IF('Entry Information'!Y189=\"\",\"\",'Entry Information'!Y189)","v":""},null,"",{"$f":"IF('Entry Information'!Z189=\"\",AF39,AF39-100)","v":""},"",{"$f":"IF($AD39=\"\",\"\",(VLOOKUP($AH$42,Worksheet!$A$11:$AE$41,AH39+1,FALSE)))","v":""},null,{"$f":"IF('YOUTH ALL-AROUND RESULTS'!A38=\"\",\"\",(SUM('YOUTH ALL-AROUND RESULTS'!$K38,'YOUTH ALL-AROUND RESULTS'!$AC38,'YOUTH ALL-AROUND RESULTS'!$AI38,'YOUTH ALL-AROUND RESULTS'!$W38,'YOUTH ALL-AROUND RESULTS'!$Q38)))","v":""},null,"","",null,{"$f":"IF(OR('Entry Information'!I189=\"\",'Entry Information'!J189=\"\"),\"\",(SUM('YOUTH JR HORSE RESULTS'!$K38,'YOUTH JR HORSE RESULTS'!$AC38,'YOUTH JR HORSE RESULTS'!$AI38, 'YOUTH JR HORSE RESULTS'!$W38,'YOUTH JR HORSE RESULTS'!$Q38)))","v":""},null,"",""]
[{"$f":"IF('Entry Information'!B190=\"\",\"\",'Entry Information'!B190)","v":""},{"$f":"IF('Entry Information'!C190=\"\",\"\",'Entry Information'!C190)","v":""},{"$f":"IF('Entry Information'!D190=\"\",\"\",'Entry Information'!D190)","v":""},{"$f":"IF('Entry Information'!E190=\"\",\"\",'Entry Information'!E190)","v":""},"YOUTH",{"$f":"IF('Entry Information'!Q190=\"\",\"\",'Entry Information'!Q190)","v":""},null,"",{"$f":"IF('Entry Information'!R190=\"\",H40,H40-100)","v":""},"",{"$f":"IF($F40=\"\",\"\",(VLOOKUP($J$42,Worksheet!$A$11:$AE$41,J40+1,FALSE)))","v":""},{"$f":"IF('Entry Information'!S190=\"\",\"\",'Entry Information'!S190)","v":""},null,"",{"$f":"IF('Entry Information'!T190=\"\",N40,N40-100)","v":""},"",{"$f":"IF($L40=\"\",\"\",(VLOOKUP($P$42,Worksheet!$A$11:$AE$41,P40+1,FALSE)))","v":""},{"$f":"IF('Entry Information'!U190=\"\",\"\",'Entry Information'!U190)","v":""},null,"",{"$f":"IF('Entry Information'!V190=\"\",T40,T40-100)","v":""},"",{"$f":"IF($R40=\"\",\"\",(VLOOKUP($V$42,Worksheet!$A$11:$AE$41,V40+1,FALSE)))","v":""},{"$f":"IF('Entry Information'!W190=\"\",\"\",'Entry Information'!W190)","v":""},null,"",{"$f":"IF('Entry Information'!X190=\"\",Z40,Z40-100)","v":""},"",{"$f":"IF($X40=\"\",\"\",(VLOOKUP($AB$42,Worksheet!$A$11:$AE$41,AB40+1,FALSE)))","v":""},{"$f":"IF('Entry Information'!Y190=\"\",\"\",'Entry Information'!Y190)","v":""},null,"",{"$f":"IF('Entry Information'!Z190=\"\",AF40,AF40-100)","v":""},"",{"$f":"IF($AD40=\"\",\"\",(VLOOKUP($AH$42,Worksheet!$A$11:$AE$41,AH40+1,FALSE)))","v":""},null,{"$f":"IF('YOUTH ALL-AROUND RESULTS'!A39=\"\",\"\",(SUM('YOUTH ALL-AROUND RESULTS'!$K39,'YOUTH ALL-AROUND RESULTS'!$AC39,'YOUTH ALL-AROUND RESULTS'!$AI39,'YOUTH ALL-AROUND RESULTS'!$W39,'YOUTH ALL-AROUND RESULTS'!$Q39)))","v":""},null,"","",null,{"$f":"IF(OR('Entry Information'!I190=\"\",'Entry Information'!J190=\"\"),\"\",(SUM('YOUTH JR HORSE RESULTS'!$K39,'YOUTH JR HORSE RESULTS'!$AC39,'YOUTH JR HORSE RESULTS'!$AI39, 'YOUTH JR HORSE RESULTS'!$W39,'YOUTH JR HORSE RESULTS'!$Q39)))","v":""},null,"",""]
[]
[null,null,null,null,null,null,null,null,null,{"$f":"COUNTIF(J11:J25,\">=0\")","v":0},null,null,null,null,null,{"$f":"COUNTIF(P11:P25,\">=0\")","v":0},null,null,null,null,null,{"$f":"COUNTIF(V11:V25,\">=0\")","v":0},null,null,null,null,null,{"$f":"COUNTIF(AB11:AB25,\">=0\")","v":0},null,null,null,null,null,{"$f":"COUNTIF(AH11:AH25,\">=0\")","v":0}]
[null,null,null,null,null,"1 - Total Penalty Points",null,null,null,null,null,"1 - Total Penalty Points",null,null,null,null,null,"1 - Total Penalty Points",null,null,null,null,null,"1 - Total Penalty Points",null,null,null,null,null,"1 - Total Penalty Points",null,null,null,null,null,null,"Working Ranch Score ",null,null,null,null,"Working Ranch Score "]
[null,null,null,null,null,"2 - Extended Trot",null,null,null,null,null,"2 - Rope Handling",null,null,null,null,null,"2 - Working Center of Arena",null,null,null,null,null,"2 - First Lead Change",null,null,null,null,null,"2 - Box Cow",null,null,null,null,null,null,"and then use WR Tie-Breakers",null,null,null,null,"and then use WR Tie-Breakers"]
[null,null,null,null,null,"3 - Transition down lope/walk/stop",null,null,null,null,null,"3 - Log Drag",null,null,null,null,null,"3 - First Cut From the Herd",null,null,null,null,null,"3 -Spin",null,null,null,null,null,"3 -Degree of Difficulty"]
[null,null,null,null,null,"4 - Transition to lope/lope",null,null,null,null,null,"4 - Gate",null,null,null,null,null,"4 - Second Cut From the Herd",null,null,null,null,null,"4 -First Stop",null,null,null,null,null,"4 -Time Worked"]
[]
[]
["Scores in RED are ties - enter a 1 in the Tie Breaker Column of the winner to break tie.  If multiple ties enter a 1 for the second place and a 2 for winner."]
[]
[]
["Places highlighted have a major penatly."]

{"sheet":"YOUTH ALL-AROUND RESULTS","index":24,"n_rows":51,"n_cols":35,"rows_kept":51,"cut":false,"hidden":true,"merged":[[2,4,2,5],[2,9,2,11],[2,18,2,22],[2,23,2,28],[4,29,4,34],[2,29,2,34],[4,23,4,28],[6,23,8,23],[6,28,8,28],[6,31,8,31],[6,32,8,32],[6,33,8,33],[6,30,8,30],[6,29,8,29],[6,34,8,34],[1,0,1,2],[1,4,1,5],[1,9,1,16],[1,18,1,22],[1,23,1,28],[1,29,1,34],[2,1,2,2],[6,6,8,6],[6,7,8,7],[4,5,4,10],[4,11,4,16],[4,17,4,22],[6,22,8,22],[6,10,8,10],[6,11,8,11],[5,11,5,16],[5,17,5,22],[6,17,8,17],[6,13,8,13],[6,14,8,14],[6,15,8,15],[6,16,8,16],[5,23,5,28],[5,29,5,34],[47,0,48,4],[6,24,8,24],[6,25,8,25],[6,26,8,26],[6,27,8,27],[6,5,8,5],[6,8,8,8],[6,9,8,9],[6,12,8,12],[6,18,8,18],[6,19,8,19],[6,20,8,20],[6,21,8,21],[5,5,5,10]]}
[]
[null,null,null,null,"Event Name:",null,null,null,null,{"$f":"'Entry Information'!C4","v":"Ranch Horse Challenge"},null,null,null,null,null,null,null,null,"Judge #1 Name/Classes:",null,null,null,null,{"$f":"'Entry Information'!F4","v":"Mike Lund"}]
["Division:","YOUTH",null,null,"Event Date:",null,null,null,null,{"$f":"'Entry Information'!C5","v":"2018-03-25"},null,null,null,null,null,null,null,null,"Judge #2 Name/Classes:",null,null,null,null,{"$f":"'Entry Information'!F5","v":"Karen Arlin"}]
[]
[null,null,null,null,null,"RANCH",null,null,null,null,null,"RANCH",null,null,null,null,null,"RANCH",null,null,null,null,null,"RANCH",null,null,null,null,null,"RANCH"]
[null,null,null,null,null,"RIDING",null,null,null,null,null,"TRAIL",null,null,null,null,null,"CUTING",null,null,null,null,null,"REINED WORK",null,null,null,null,null,"COW WORK"]
[null,null,null,null,null,"Score","Tie Breaker","Adjusted Score for Ties","Adjusted Score Major Penalty","Place","Placement Points","Score","Tie Breaker","Adjusted Score for Ties","Adjusted Score Major Penalty","Place","Placement Points","Score","Tie Breaker","Adjusted Score for Ties","Adjusted Score Major Penalty","Place","Placement Points","Score","Tie Breaker","Adjusted Score for Ties","Adjusted Score Major Penalty","Place","Placement Points","Score","Tie Breaker","Adjusted Score for Ties","Adjusted Score Major Penalty","Place","Placement Points"]
[]
["Back No.","Last Name","First Name","Registered Horse Name","Division"]
[{"$f":"IF('Entry Information'!J161=\"\",\"\",'Entry Information'!B161)","v":""},{"$f":"IF('Entry Information'!J161=\"\",\"\",'Entry Information'!C161)","v":""},{"$f":"IF('Entry Information'!J161=\"\",\"\",'Entry Information'!D161)","v":""},{"$f":"IF('Entry Information'!J161=\"\",\"\",'Entry Information'!E161)","v":""},"YOUTH",{"$f":"IF('Entry Information'!$J161=\"\",\"\",'YOUTH RESULTS'!F11)","v":""},{"$f":"IF('Entry Information'!$J161=\"\",\"\",IF('YOUTH RESULTS'!G11=\"\",\"\",'YOUTH RESULTS'!G11))","v":""},{"$f":"IF(G10=\"\",F10,(F10+(G10*0.001)))","v":""},{"$f":"IF('Entry Information'!$J161=\"\",\"\",IF('Entry Information'!R161=\"\",H10,H10-100))","v":""},{"$f":"IF(I10=\"\",\"\",(RANK(I10,$I$10:$I$39,0)))","v":""},{"$f":"IF($F10=\"\",\"\",(VLOOKUP($J$41,Worksheet!$A$11:$AE$41,J10+1,FALSE)))","v":""},{"$f":"IF('Entry Information'!$J161=\"\",\"\",'YOUTH RESULTS'!L11)","v":""},{"$f":"IF('Entry Information'!$J161=\"\",\"\",IF('YOUTH RESULTS'!M11=\"\",\"\",'YOUTH RESULTS'!M11))","v":""},{"$f":"IF(M10=\"\",L10,(L10+(M10*0.001)))","v":""},{"$f":"IF('Entry Information'!$J161=\"\",\"\",IF('Entry Information'!T161=\"\",N10,N10-100))","v":""},{"$f":"IF(O10=\"\",\"\",(RANK(O10,$O$10:$O$39,0)))","v":""},{"$f":"IF($L10=\"\",\"\",(VLOOKUP($P$41,Worksheet!$A$11:$AE$41,P10+1,FALSE)))","v":""},{"$f":"IF('Entry Information'!$J161=\"\",\"\",'YOUTH RESULTS'!R11)","v":""},{"$f":"IF('Entry Information'!$J161=\"\",\"\",IF('YOUTH RESULTS'!S11=\"\",\"\",'YOUTH RESULTS'!S11))","v":""},{"$f":"IF(S10=\"\",R10,(R10+(S10*0.001)))","v":""},{"$f":"IF('Entry Information'!$J161=\"\",\"\",IF('Entry Information'!V161=\"\",T10,T10-100))","v":""},{"$f":"IF(U10=\"\",\"\",(RANK(U10,$U$10:$U$39,0)))","v":""},{"$f":"IF($R10=\"\",\"\",(VLOOKUP($V$41,Worksheet!$A$11:$AE$41,V10+1,FALSE)))","v":""},{"$f":"IF('Entry Information'!$J161=\"\",\"\",'YOUTH RESULTS'!X11)","v":""},{"$f":"IF('Entry Information'!$J161=\"\",\"\",IF('YOUTH RESULTS'!Y11=\"\",\"\",'YOUTH RESULTS'!Y11))","v":""},{"$f":"IF(Y10=\"\",X10,(X10+(Y10*0.001)))","v":""},{"$f":"IF('Entry Information'!$J161=\"\",\"\",IF('Entry Information'!X161=\"\",Z10,Z10-100))","v":""},{"$f":"IF(AA10=\"\",\"\",(RANK(AA10,$AA$10:$AA$39,0)))","v":""},{"$f":"IF($X10=\"\",\"\",(VLOOKUP($AB$41,Worksheet!$A$11:$AE$41,AB10+1,FALSE)))","v":""},{"$f":"IF('Entry Information'!$J161=\"\",\"\",'YOUTH RESULTS'!AD11)","v":""},{"$f":"IF('Entry Information'!$J161=\"\",\"\",IF('YOUTH RESULTS'!AE11=\"\",\"\",'YOUTH RESULTS'!AE11))","v":""},{"$f":"IF(AE10=\"\",AD10,(AD10+(AE10*0.001)))","v":""},{"$f":"IF('Entry Information'!$J161=\"\",\"\",IF('Entry Information'!Z161=\"\",AF10,AF10-100))","v":""},{"$f":"IF(AG10=\"\",\"\",(RANK(AG10,$AG$10:$AG$39,0)))","v":""},{"$f":"IF($AD10=\"\",\"\",(VLOOKUP($AH$41,Worksheet!$A$11:$AE$41,AH10+1,FALSE)))","v":""}]
[{"$f":"IF('Entry Information'!J162=\"\",\"\",'Entry Information'!B162)","v":""},{"$f":"IF('Entry Information'!J162=\"\",\"\",'Entry Information'!C162)","v":""},{"$f":"IF('Entry Information'!J162=\"\",\"\",'Entry Information'!D162)","v":""},{"$f":"IF('Entry Information'!J162=\"\",\"\",'Entry Information'!E162)","v":""},"YOUTH",{"$f":"IF('Entry Information'!$J162=\"\",\"\",'YOUTH RESULTS'!F12)","v":""},{"$f":"IF('Entry Information'!$J162=\"\",\"\",IF('YOUTH RESULTS'!G12=\"\",\"\",'YOUTH RESULTS'!G12))","v":""},{"$f":"IF(G11=\"\",F11,(F11+(G11*0.001)))","v":""},{"$f":"IF('Entry Information'!$J162=\"\",\"\",IF('Entry Information'!R162=\"\",H11,H11-100))","v":""},{"$f":"IF(I11=\"\",\"\",(RANK(I11,$I$10:$I$39,0)))","v":""},{"$f":"IF($F11=\"\",\"\",(VLOOKUP($J$41,Worksheet!$A$11:$AE$41,J11+1,FALSE)))","v":""},{"$f":"IF('Entry Information'!$J162=\"\",\"\",'YOUTH RESULTS'!L12)","v":""},{"$f":"IF('Entry Information'!$J162=\"\",\"\",IF('YOUTH RESULTS'!M12=\"\",\"\",'YOUTH RESULTS'!M12))","v":""},"",{"$f":"IF('Entry Information'!$J162=\"\",\"\",IF('Entry Information'!T162=\"\",N11,N11-100))","v":""},{"$f":"IF(O11=\"\",\"\",(RANK(O11,$O$10:$O$39,0)))","v":""},{"$f":"IF($L11=\"\",\"\",(VLOOKUP($P$41,Worksheet!$A$11:$AE$41,P11+1,FALSE)))","v":""},{"$f":"IF('Entry Information'!$J162=\"\",\"\",'YOUTH RESULTS'!R12)","v":""},{"$f":"IF('Entry Information'!$J162=\"\",\"\",IF('YOUTH RESULTS'!S12=\"\",\"\",'YOUTH RESULTS'!S12))","v":""},"",{"$f":"IF('Entry Information'!$J162=\"\",\"\",IF('Entry Information'!V162=\"\",T11,T11-100))","v":""},{"$f":"IF(U11=\"\",\"\",(RANK(U11,$U$10:$U$39,0)))","v":""},{"$f":"IF($R11=\"\",\"\",(VLOOKUP($V$41,Worksheet!$A$11:$AE$41,V11+1,FALSE)))","v":""},{"$f":"IF('Entry Information'!$J162=\"\",\"\",'YOUTH RESULTS'!X12)","v":""},{"$f":"IF('Entry Information'!$J162=\"\",\"\",IF('YOUTH RESULTS'!Y12=\"\",\"\",'YOUTH RESULTS'!Y12))","v":""},{"$f":"IF(Y11=\"\",X11,(X11+(Y11*0.001)))","v":""},{"$f":"IF('Entry Information'!$J162=\"\",\"\",IF('Entry Information'!X162=\"\",Z11,Z11-100))","v":""},{"$f":"IF(AA11=\"\",\"\",(RANK(AA11,$AA$10:$AA$39,0)))","v":""},{"$f":"IF($X11=\"\",\"\",(VLOOKUP($AB$41,Worksheet!$A$11:$AE$41,AB11+1,FALSE)))","v":""},{"$f":"IF('Entry Information'!$J162=\"\",\"\",'YOUTH RESULTS'!AD12)","v":""},{"$f":"IF('Entry Information'!$J162=\"\",\"\",IF('YOUTH RESULTS'!AE12=\"\",\"\",'YOUTH RESULTS'!AE12))","v":""},{"$f":"IF(AE11=\"\",AD11,(AD11+(AE11*0.001)))","v":""},{"$f":"IF('Entry Information'!$J162=\"\",\"\",IF('Entry Information'!Z162=\"\",AF11,AF11-100))","v":""},{"$f":"IF(AG11=\"\",\"\",(RANK(AG11,$AG$10:$AG$39,0)))","v":""},{"$f":"IF($AD11=\"\",\"\",(VLOOKUP($AH$41,Worksheet!$A$11:$AE$41,AH11+1,FALSE)))","v":""}]
[{"$f":"IF('Entry Information'!J163=\"\",\"\",'Entry Information'!B163)","v":""},{"$f":"IF('Entry Information'!J163=\"\",\"\",'Entry Information'!C163)","v":""},{"$f":"IF('Entry Information'!J163=\"\",\"\",'Entry Information'!D163)","v":""},{"$f":"IF('Entry Information'!J163=\"\",\"\",'Entry Information'!E163)","v":""},"YOUTH",{"$f":"IF('Entry Information'!$J163=\"\",\"\",'YOUTH RESULTS'!F13)","v":""},{"$f":"IF('Entry Information'!$J163=\"\",\"\",IF('YOUTH RESULTS'!G13=\"\",\"\",'YOUTH RESULTS'!G13))","v":""},"",{"$f":"IF('Entry Information'!$J163=\"\",\"\",IF('Entry Information'!R163=\"\",H12,H12-100))","v":""},"",{"$f":"IF($F12=\"\",\"\",(VLOOKUP($J$41,Worksheet!$A$11:$AE$41,J12+1,FALSE)))","v":""},{"$f":"IF('Entry Information'!$J163=\"\",\"\",'YOUTH RESULTS'!L13)","v":""},{"$f":"IF('Entry Information'!$J163=\"\",\"\",IF('YOUTH RESULTS'!M13=\"\",\"\",'YOUTH RESULTS'!M13))","v":""},"",{"$f":"IF('Entry Information'!$J163=\"\",\"\",IF('Entry Information'!T163=\"\",N12,N12-100))","v":""},"",{"$f":"IF($L12=\"\",\"\",(VLOOKUP($P$41,Worksheet!$A$11:$AE$41,P12+1,FALSE)))","v":""},{"$f":"IF('Entry Information'!$J163=\"\",\"\",'YOUTH RESULTS'!R13)","v":""},{"$f":"IF('Entry Information'!$J163=\"\",\"\",IF('YOUTH RESULTS'!S13=\"\",\"\",'YOUTH RESULTS'!S13))","v":""},"",{"$f":"IF('Entry Information'!$J163=\"\",\"\",IF('Entry Information'!V163=\"\",T12,T12-100))","v":""},"",{"$f":"IF($R12=\"\",\"\",(VLOOKUP($V$41,Worksheet!$A$11:$AE$41,V12+1,FALSE)))","v":""},{"$f":"IF('Entry Information'!$J163=\"\",\"\",'YOUTH RESULTS'!X13)","v":""},{"$f":"IF('Entry Information'!$J163=\"\",\"\",IF('YOUTH RESULTS'!Y13=\"\",\"\",'YOUTH RESULTS'!Y13))","v":""},"",{"$f":"IF('Entry Information'!$J163=\"\",\"\",IF('Entry Information'!X163=\"\",Z12,Z12-100))","v":""},"",{"$f":"IF($X12=\"\",\"\",(VLOOKUP($AB$41,Worksheet!$A$11:$AE$41,AB12+1,FALSE)))","v":""},{"$f":"IF('Entry Information'!$J163=\"\",\"\",'YOUTH RESULTS'!AD13)","v":""},{"$f":"IF('Entry Information'!$J163=\"\",\"\",IF('YOUTH RESULTS'!AE13=\"\",\"\",'YOUTH RESULTS'!AE13))","v":""},"",{"$f":"IF('Entry Information'!$J163=\"\",\"\",IF('Entry Information'!Z163=\"\",AF12,AF12-100))","v":""},"",{"$f":"IF($AD12=\"\",\"\",(VLOOKUP($AH$41,Worksheet!$A$11:$AE$41,AH12+1,FALSE)))","v":""}]
[{"$f":"IF('Entry Information'!J164=\"\",\"\",'Entry Information'!B164)","v":""},{"$f":"IF('Entry Information'!J164=\"\",\"\",'Entry Information'!C164)","v":""},{"$f":"IF('Entry Information'!J164=\"\",\"\",'Entry Information'!D164)","v":""},{"$f":"IF('Entry Information'!J164=\"\",\"\",'Entry Information'!E164)","v":""},"YOUTH",{"$f":"IF('Entry Information'!$J164=\"\",\"\",'YOUTH RESULTS'!F14)","v":""},{"$f":"IF('Entry Information'!$J164=\"\",\"\",IF('YOUTH RESULTS'!G14=\"\",\"\",'YOUTH RESULTS'!G14))","v":""},"",{"$f":"IF('Entry Information'!$J164=\"\",\"\",IF('Entry Information'!R164=\"\",H13,H13-100))","v":""},"",{"$f":"IF($F13=\"\",\"\",(VLOOKUP($J$41,Worksheet!$A$11:$AE$41,J13+1,FALSE)))","v":""},{"$f":"IF('Entry Information'!$J164=\"\",\"\",'YOUTH RESULTS'!L14)","v":""},{"$f":"IF('Entry Information'!$J164=\"\",\"\",IF('YOUTH RESULTS'!M14=\"\",\"\",'YOUTH RESULTS'!M14))","v":""},"",{"$f":"IF('Entry Information'!$J164=\"\",\"\",IF('Entry Information'!T164=\"\",N13,N13-100))","v":""},"",{"$f":"IF($L13=\"\",\"\",(VLOOKUP($P$41,Worksheet!$A$11:$AE$41,P13+1,FALSE)))","v":""},{"$f":"IF('Entry Information'!$J164=\"\",\"\",'YOUTH RESULTS'!R14)","v":""},{"$f":"IF('Entry Information'!$J164=\"\",\"\",IF('YOUTH RESULTS'!S14=\"\",\"\",'YOUTH RESULTS'!S14))","v":""},"",{"$f":"IF('Entry Information'!$J164=\"\",\"\",IF('Entry Information'!V164=\"\",T13,T13-100))","v":""},"",{"$f":"IF($R13=\"\",\"\",(VLOOKUP($V$41,Worksheet!$A$11:$AE$41,V13+1,FALSE)))","v":""},{"$f":"IF('Entry Information'!$J164=\"\",\"\",'YOUTH RESULTS'!X14)","v":""},{"$f":"IF('Entry Information'!$J164=\"\",\"\",IF('YOUTH RESULTS'!Y14=\"\",\"\",'YOUTH RESULTS'!Y14))","v":""},"",{"$f":"IF('Entry Information'!$J164=\"\",\"\",IF('Entry Information'!X164=\"\",Z13,Z13-100))","v":""},"",{"$f":"IF($X13=\"\",\"\",(VLOOKUP($AB$41,Worksheet!$A$11:$AE$41,AB13+1,FALSE)))","v":""},{"$f":"IF('Entry Information'!$J164=\"\",\"\",'YOUTH RESULTS'!AD14)","v":""},{"$f":"IF('Entry Information'!$J164=\"\",\"\",IF('YOUTH RESULTS'!AE14=\"\",\"\",'YOUTH RESULTS'!AE14))","v":""},"",{"$f":"IF('Entry Information'!$J164=\"\",\"\",IF('Entry Information'!Z164=\"\",AF13,AF13-100))","v":""},"",{"$f":"IF($AD13=\"\",\"\",(VLOOKUP($AH$41,Worksheet!$A$11:$AE$41,AH13+1,FALSE)))","v":""}]
[{"$f":"IF('Entry Information'!J165=\"\",\"\",'Entry Information'!B165)","v":""},{"$f":"IF('Entry Information'!J165=\"\",\"\",'Entry Information'!C165)","v":""},{"$f":"IF('Entry Information'!J165=\"\",\"\",'Entry Information'!D165)","v":""},{"$f":"IF('Entry Information'!J165=\"\",\"\",'Entry Information'!E165)","v":""},"YOUTH",{"$f":"IF('Entry Information'!$J165=\"\",\"\",'YOUTH RESULTS'!F15)","v":""},{"$f":"IF('Entry Information'!$J165=\"\",\"\",IF('YOUTH RESULTS'!G15=\"\",\"\",'YOUTH RESULTS'!G15))","v":""},"",{"$f":"IF('Entry Information'!$J165=\"\",\"\",IF('Entry Information'!R165=\"\",H14,H14-100))","v":""},"",{"$f":"IF($F14=\"\",\"\",(VLOOKUP($J$41,Worksheet!$A$11:$AE$41,J14+1,FALSE)))","v":""},{"$f":"IF('Entry Information'!$J165=\"\",\"\",'YOUTH RESULTS'!L15)","v":""},{"$f":"IF('Entry Information'!$J165=\"\",\"\",IF('YOUTH RESULTS'!M15=\"\",\"\",'YOUTH RESULTS'!M15))","v":""},"",{"$f":"IF('Entry Information'!$J165=\"\",\"\",IF('Entry Information'!T165=\"\",N14,N14-100))","v":""},"",{"$f":"IF($L14=\"\",\"\",(VLOOKUP($P$41,Worksheet!$A$11:$AE$41,P14+1,FALSE)))","v":""},{"$f":"IF('Entry Information'!$J165=\"\",\"\",'YOUTH RESULTS'!R15)","v":""},{"$f":"IF('Entry Information'!$J165=\"\",\"\",IF('YOUTH RESULTS'!S15=\"\",\"\",'YOUTH RESULTS'!S15))","v":""},"",{"$f":"IF('Entry Information'!$J165=\"\",\"\",IF('Entry Information'!V165=\"\",T14,T14-100))","v":""},"",{"$f":"IF($R14=\"\",\"\",(VLOOKUP($V$41,Worksheet!$A$11:$AE$41,V14+1,FALSE)))","v":""},{"$f":"IF('Entry Information'!$J165=\"\",\"\",'YOUTH RESULTS'!X15)","v":""},{"$f":"IF('Entry Information'!$J165=\"\",\"\",IF('YOUTH RESULTS'!Y15=\"\",\"\",'YOUTH RESULTS'!Y15))","v":""},"",{"$f":"IF('Entry Information'!$J165=\"\",\"\",IF('Entry Information'!X165=\"\",Z14,Z14-100))","v":""},"",{"$f":"IF($X14=\"\",\"\",(VLOOKUP($AB$41,Worksheet!$A$11:$AE$41,AB14+1,FALSE)))","v":""},{"$f":"IF('Entry Information'!$J165=\"\",\"\",'YOUTH RESULTS'!AD15)","v":""},{"$f":"IF('Entry Information'!$J165=\"\",\"\",IF('YOUTH RESULTS'!AE15=\"\",\"\",'YOUTH RESULTS'!AE15))","v":""},"",{"$f":"IF('Entry Information'!$J165=\"\",\"\",IF('Entry Information'!Z165=\"\",AF14,AF14-100))","v":""},"",{"$f":"IF($AD14=\"\",\"\",(VLOOKUP($AH$41,Worksheet!$A$11:$AE$41,AH14+1,FALSE)))","v":""}]
[{"$f":"IF('Entry Information'!J166=\"\",\"\",'Entry Information'!B166)","v":""},{"$f":"IF('Entry Information'!J166=\"\",\"\",'Entry Information'!C166)","v":""},{"$f":"IF('Entry Information'!J166=\"\",\"\",'Entry Information'!D166)","v":""},{"$f":"IF('Entry Information'!J166=\"\",\"\",'Entry Information'!E166)","v":""},"YOUTH",{"$f":"IF('Entry Information'!$J166=\"\",\"\",'YOUTH RESULTS'!F16)","v":""},{"$f":"IF('Entry Information'!$J166=\"\",\"\",IF('YOUTH RESULTS'!G16=\"\",\"\",'YOUTH RESULTS'!G16))","v":""},"",{"$f":"IF('Entry Information'!$J166=\"\",\"\",IF('Entry Information'!R166=\"\",H15,H15-100))","v":""},"",{"$f":"IF($F15=\"\",\"\",(VLOOKUP($J$41,Worksheet!$A$11:$AE$41,J15+1,FALSE)))","v":""},{"$f":"IF('Entry Information'!$J166=\"\",\"\",'YOUTH RESULTS'!L16)","v":""},{"$f":"IF('Entry Information'!$J166=\"\",\"\",IF('YOUTH RESULTS'!M16=\"\",\"\",'YOUTH RESULTS'!M16))","v":""},"",{"$f":"IF('Entry Information'!$J166=\"\",\"\",IF('Entry Information'!T166=\"\",N15,N15-100))","v":""},"",{"$f":"IF($L15=\"\",\"\",(VLOOKUP($P$41,Worksheet!$A$11:$AE$41,P15+1,FALSE)))","v":""},{"$f":"IF('Entry Information'!$J166=\"\",\"\",'YOUTH RESULTS'!R16)","v":""},{"$f":"IF('Entry Information'!$J166=\"\",\"\",IF('YOUTH RESULTS'!S16=\"\",\"\",'YOUTH RESULTS'!S16))","v":""},"",{"$f":"IF('Entry Information'!$J166=\"\",\"\",IF('Entry Information'!V166=\"\",T15,T15-100))","v":""},"",{"$f":"IF($R15=\"\",\"\",(VLOOKUP($V$41,Worksheet!$A$11:$AE$41,V15+1,FALSE)))","v":""},{"$f":"IF('Entry Information'!$J166=\"\",\"\",'YOUTH RESULTS'!X16)","v":""},{"$f":"IF('Entry Information'!$J166=\"\",\"\",IF('YOUTH RESULTS'!Y16=\"\",\"\",'YOUTH RESULTS'!Y16))","v":""},"",{"$f":"IF('Entry Information'!$J166=\"\",\"\",IF('Entry Information'!X166=\"\",Z15,Z15-100))","v":""},"",{"$f":"IF($X15=\"\",\"\",(VLOOKUP($AB$41,Worksheet!$A$11:$AE$41,AB15+1,FALSE)))","v":""},{"$f":"IF('Entry Information'!$J166=\"\",\"\",'YOUTH RESULTS'!AD16)","v":""},{"$f":"IF('Entry Information'!$J166=\"\",\"\",IF('YOUTH RESULTS'!AE16=\"\",\"\",'YOUTH RESULTS'!AE16))","v":""},"",{"$f":"IF('Entry Information'!$J166=\"\",\"\",IF('Entry Information'!Z166=\"\",AF15,AF15-100))","v":""},"",{"$f":"IF($AD15=\"\",\"\",(VLOOKUP($AH$41,Worksheet!$A$11:$AE$41,AH15+1,FALSE)))","v":""}]
[{"$f":"IF('Entry Information'!J167=\"\",\"\",'Entry Information'!B167)","v":""},{"$f":"IF('Entry Information'!J167=\"\",\"\",'Entry Information'!C167)","v":""},{"$f":"IF('Entry Information'!J167=\"\",\"\",'Entry Information'!D167)","v":""},{"$f":"IF('Entry Information'!J167=\"\",\"\",'Entry Information'!E167)","v":""},"YOUTH",{"$f":"IF('Entry Information'!$J167=\"\",\"\",'YOUTH RESULTS'!F17)","v":""},{"$f":"IF('Entry Information'!$J167=\"\",\"\",IF('YOUTH RESULTS'!G17=\"\",\"\",'YOUTH RESULTS'!G17))","v":""},"",{"$f":"IF('Entry Information'!$J167=\"\",\"\",IF('Entry Information'!R167=\"\",H16,H16-100))","v":""},"",{"$f":"IF($F16=\"\",\"\",(VLOOKUP($J$41,Worksheet!$A$11:$AE$41,J16+1,FALSE)))","v":""},{"$f":"IF('Entry Information'!$J167=\"\",\"\",'YOUTH RESULTS'!L17)","v":""},{"$f":"IF('Entry Information'!$J167=\"\",\"\",IF('YOUTH RESULTS'!M17=\"\",\"\",'YOUTH RESULTS'!M17))","v":""},"",{"$f":"IF('Entry Information'!$J167=\"\",\"\",IF('Entry Information'!T167=\"\",N16,N16-100))","v":""},"",{"$f":"IF($L16=\"\",\"\",(VLOOKUP($P$41,Worksheet!$A$11:$AE$41,P16+1,FALSE)))","v":""},{"$f":"IF('Entry Information'!$J167=\"\",\"\",'YOUTH RESULTS'!R17)","v":""},{"$f":"IF('Entry Information'!$J167=\"\",\"\",IF('YOUTH RESULTS'!S17=\"\",\"\",'YOUTH RESULTS'!S17))","v":""},"",{"$f":"IF('Entry Information'!$J167=\"\",\"\",IF('Entry Information'!V167=\"\",T16,T16-100))","v":""},"",{"$f":"IF($R16=\"\",\"\",(VLOOKUP($V$41,Worksheet!$A$11:$AE$41,V16+1,FALSE)))","v":""},{"$f":"IF('Entry Information'!$J167=\"\",\"\",'YOUTH RESULTS'!X17)","v":""},{"$f":"IF('Entry Information'!$J167=\"\",\"\",IF('YOUTH RESULTS'!Y17=\"\",\"\",'YOUTH RESULTS'!Y17))","v":""},"",{"$f":"IF('Entry Information'!$J167=\"\",\"\",IF('Entry Information'!X167=\"\",Z16,Z16-100))","v":""},"",{"$f":"IF($X16=\"\",\"\",(VLOOKUP($AB$41,Worksheet!$A$11:$AE$41,AB16+1,FALSE)))","v":""},{"$f":"IF('Entry Information'!$J167=\"\",\"\",'YOUTH RESULTS'!AD17)","v":""},{"$f":"IF('Entry Information'!$J167=\"\",\"\",IF('YOUTH RESULTS'!AE17=\"\",\"\",'YOUTH RESULTS'!AE17))","v":""},"",{"$f":"IF('Entry Information'!$J167=\"\",\"\",IF('Entry Information'!Z167=\"\",AF16,AF16-100))","v":""},"",{"$f":"IF($AD16=\"\",\"\",(VLOOKUP($AH$41,Worksheet!$A$11:$AE$41,AH16+1,FALSE)))","v":""}]
[{"$f":"IF('Entry Information'!J168=\"\",\"\",'Entry Information'!B168)","v":""},{"$f":"IF('Entry Information'!J168=\"\",\"\",'Entry Information'!C168)","v":""},{"$f":"IF('Entry Information'!J168=\"\",\"\",'Entry Information'!D168)","v":""},{"$f":"IF('Entry Information'!J168=\"\",\"\",'Entry Information'!E168)","v":""},"YOUTH",{"$f":"IF('Entry Information'!$J168=\"\",\"\",'YOUTH RESULTS'!F18)","v":""},{"$f":"IF('Entry Information'!$J168=\"\",\"\",IF('YOUTH RESULTS'!G18=\"\",\"\",'YOUTH RESULTS'!G18))","v":""},"",{"$f":"IF('Entry Information'!$J168=\"\",\"\",IF('Entry Information'!R168=\"\",H17,H17-100))","v":""},"",{"$f":"IF($F17=\"\",\"\",(VLOOKUP($J$41,Worksheet!$A$11:$AE$41,J17+1,FALSE)))","v":""},{"$f":"IF('Entry Information'!$J168=\"\",\"\",'YOUTH RESULTS'!L18)","v":""},{"$f":"IF('Entry Information'!$J168=\"\",\"\",IF('YOUTH RESULTS'!M18=\"\",\"\",'YOUTH RESULTS'!M18))","v":""},"",{"$f":"IF('Entry Information'!$J168=\"\",\"\",IF('Entry Information'!T168=\"\",N17,N17-100))","v":""},"",{"$f":"IF($L17=\"\",\"\",(VLOOKUP($P$41,Worksheet!$A$11:$AE$41,P17+1,FALSE)))","v":""},{"$f":"IF('Entry Information'!$J168=\"\",\"\",'YOUTH RESULTS'!R18)","v":""},{"$f":"IF('Entry Information'!$J168=\"\",\"\",IF('YOUTH RESULTS'!S18=\"\",\"\",'YOUTH RESULTS'!S18))","v":""},"",{"$f":"IF('Entry Information'!$J168=\"\",\"\",IF('Entry Information'!V168=\"\",T17,T17-100))","v":""},"",{"$f":"IF($R17=\"\",\"\",(VLOOKUP($V$41,Worksheet!$A$11:$AE$41,V17+1,FALSE)))","v":""},{"$f":"IF('Entry Information'!$J168=\"\",\"\",'YOUTH RESULTS'!X18)","v":""},{"$f":"IF('Entry Information'!$J168=\"\",\"\",IF('YOUTH RESULTS'!Y18=\"\",\"\",'YOUTH RESULTS'!Y18))","v":""},"",{"$f":"IF('Entry Information'!$J168=\"\",\"\",IF('Entry Information'!X168=\"\",Z17,Z17-100))","v":""},"",{"$f":"IF($X17=\"\",\"\",(VLOOKUP($AB$41,Worksheet!$A$11:$AE$41,AB17+1,FALSE)))","v":""},{"$f":"IF('Entry Information'!$J168=\"\",\"\",'YOUTH RESULTS'!AD18)","v":""},{"$f":"IF('Entry Information'!$J168=\"\",\"\",IF('YOUTH RESULTS'!AE18=\"\",\"\",'YOUTH RESULTS'!AE18))","v":""},"",{"$f":"IF('Entry Information'!$J168=\"\",\"\",IF('Entry Information'!Z168=\"\",AF17,AF17-100))","v":""},"",{"$f":"IF($AD17=\"\",\"\",(VLOOKUP($AH$41,Worksheet!$A$11:$AE$41,AH17+1,FALSE)))","v":""}]
[{"$f":"IF('Entry Information'!J169=\"\",\"\",'Entry Information'!B169)","v":""},{"$f":"IF('Entry Information'!J169=\"\",\"\",'Entry Information'!C169)","v":""},{"$f":"IF('Entry Information'!J169=\"\",\"\",'Entry Information'!D169)","v":""},{"$f":"IF('Entry Information'!J169=\"\",\"\",'Entry Information'!E169)","v":""},"YOUTH",{"$f":"IF('Entry Information'!$J169=\"\",\"\",'YOUTH RESULTS'!F19)","v":""},{"$f":"IF('Entry Information'!$J169=\"\",\"\",IF('YOUTH RESULTS'!G19=\"\",\"\",'YOUTH RESULTS'!G19))","v":""},"",{"$f":"IF('Entry Information'!$J169=\"\",\"\",IF('Entry Information'!R169=\"\",H18,H18-100))","v":""},"",{"$f":"IF($F18=\"\",\"\",(VLOOKUP($J$41,Worksheet!$A$11:$AE$41,J18+1,FALSE)))","v":""},{"$f":"IF('Entry Information'!$J169=\"\",\"\",'YOUTH RESULTS'!L19)","v":""},{"$f":"IF('Entry Information'!$J169=\"\",\"\",IF('YOUTH RESULTS'!M19=\"\",\"\",'YOUTH RESULTS'!M19))","v":""},"",{"$f":"IF('Entry Information'!$J169=\"\",\"\",IF('Entry Information'!T169=\"\",N18,N18-100))","v":""},"",{"$f":"IF($L18=\"\",\"\",(VLOOKUP($P$41,Worksheet!$A$11:$AE$41,P18+1,FALSE)))","v":""},{"$f":"IF('Entry Information'!$J169=\"\",\"\",'YOUTH RESULTS'!R19)","v":""},{"$f":"IF('Entry Information'!$J169=\"\",\"\",IF('YOUTH RESULTS'!S19=\"\",\"\",'YOUTH RESULTS'!S19))","v":""},"",{"$f":"IF('Entry Information'!$J169=\"\",\"\",IF('Entry Information'!V169=\"\",T18,T18-100))","v":""},"",{"$f":"IF($R18=\"\",\"\",(VLOOKUP($V$41,Worksheet!$A$11:$AE$41,V18+1,FALSE)))","v":""},{"$f":"IF('Entry Information'!$J169=\"\",\"\",'YOUTH RESULTS'!X19)","v":""},{"$f":"IF('Entry Information'!$J169=\"\",\"\",IF('YOUTH RESULTS'!Y19=\"\",\"\",'YOUTH RESULTS'!Y19))","v":""},"",{"$f":"IF('Entry Information'!$J169=\"\",\"\",IF('Entry Information'!X169=\"\",Z18,Z18-100))","v":""},"",{"$f":"IF($X18=\"\",\"\",(VLOOKUP($AB$41,Worksheet!$A$11:$AE$41,AB18+1,FALSE)))","v":""},{"$f":"IF('Entry Information'!$J169=\"\",\"\",'YOUTH RESULTS'!AD19)","v":""},{"$f":"IF('Entry Information'!$J169=\"\",\"\",IF('YOUTH RESULTS'!AE19=\"\",\"\",'YOUTH RESULTS'!AE19))","v":""},"",{"$f":"IF('Entry Information'!$J169=\"\",\"\",IF('Entry Information'!Z169=\"\",AF18,AF18-100))","v":""},"",{"$f":"IF($AD18=\"\",\"\",(VLOOKUP($AH$41,Worksheet!$A$11:$AE$41,AH18+1,FALSE)))","v":""}]
[{"$f":"IF('Entry Information'!J170=\"\",\"\",'Entry Information'!B170)","v":""},{"$f":"IF('Entry Information'!J170=\"\",\"\",'Entry Information'!C170)","v":""},{"$f":"IF('Entry Information'!J170=\"\",\"\",'Entry Information'!D170)","v":""},{"$f":"IF('Entry Information'!J170=\"\",\"\",'Entry Information'!E170)","v":""},"YOUTH",{"$f":"IF('Entry Information'!$J170=\"\",\"\",'YOUTH RESULTS'!F20)","v":""},{"$f":"IF('Entry Information'!$J170=\"\",\"\",IF('YOUTH RESULTS'!G20=\"\",\"\",'YOUTH RESULTS'!G20))","v":""},"",{"$f":"IF('Entry Information'!$J170=\"\",\"\",IF('Entry Information'!R170=\"\",H19,H19-100))","v":""},"",{"$f":"IF($F19=\"\",\"\",(VLOOKUP($J$41,Worksheet!$A$11:$AE$41,J19+1,FALSE)))","v":""},{"$f":"IF('Entry Information'!$J170=\"\",\"\",'YOUTH RESULTS'!L20)","v":""},{"$f":"IF('Entry Information'!$J170=\"\",\"\",IF('YOUTH RESULTS'!M20=\"\",\"\",'YOUTH RESULTS'!M20))","v":""},"",{"$f":"IF('Entry Information'!$J170=\"\",\"\",IF('Entry Information'!T170=\"\",N19,N19-100))","v":""},"",{"$f":"IF($L19=\"\",\"\",(VLOOKUP($P$41,Worksheet!$A$11:$AE$41,P19+1,FALSE)))","v":""},{"$f":"IF('Entry Information'!$J170=\"\",\"\",'YOUTH RESULTS'!R20)","v":""},{"$f":"IF('Entry Information'!$J170=\"\",\"\",IF('YOUTH RESULTS'!S20=\"\",\"\",'YOUTH RESULTS'!S20))","v":""},"",{"$f":"IF('Entry Information'!$J170=\"\",\"\",IF('Entry Information'!V170=\"\",T19,T19-100))","v":""},"",{"$f":"IF($R19=\"\",\"\",(VLOOKUP($V$41,Worksheet!$A$11:$AE$41,V19+1,FALSE)))","v":""},{"$f":"IF('Entry Information'!$J170=\"\",\"\",'YOUTH RESULTS'!X20)","v":""},{"$f":"IF('Entry Information'!$J170=\"\",\"\",IF('YOUTH RESULTS'!Y20=\"\",\"\",'YOUTH RESULTS'!Y20))","v":""},"",{"$f":"IF('Entry Information'!$J170=\"\",\"\",IF('Entry Information'!X170=\"\",Z19,Z19-100))","v":""},"",{"$f":"IF($X19=\"\",\"\",(VLOOKUP($AB$41,Worksheet!$A$11:$AE$41,AB19+1,FALSE)))","v":""},{"$f":"IF('Entry Information'!$J170=\"\",\"\",'YOUTH RESULTS'!AD20)","v":""},{"$f":"IF('Entry Information'!$J170=\"\",\"\",IF('YOUTH RESULTS'!AE20=\"\",\"\",'YOUTH RESULTS'!AE20))","v":""},"",{"$f":"IF('Entry Information'!$J170=\"\",\"\",IF('Entry Information'!Z170=\"\",AF19,AF19-100))","v":""},"",{"$f":"IF($AD19=\"\",\"\",(VLOOKUP($AH$41,Worksheet!$A$11:$AE$41,AH19+1,FALSE)))","v":""}]
[{"$f":"IF('Entry Information'!J171=\"\",\"\",'Entry Information'!B171)","v":""},{"$f":"IF('Entry Information'!J171=\"\",\"\",'Entry Information'!C171)","v":""},{"$f":"IF('Entry Information'!J171=\"\",\"\",'Entry Information'!D171)","v":""},{"$f":"IF('Entry Information'!J171=\"\",\"\",'Entry Information'!E171)","v":""},"YOUTH",{"$f":"IF('Entry Information'!$J171=\"\",\"\",'YOUTH RESULTS'!F21)","v":""},{"$f":"IF('Entry Information'!$J171=\"\",\"\",IF('YOUTH RESULTS'!G21=\"\",\"\",'YOUTH RESULTS'!G21))","v":""},"",{"$f":"IF('Entry Information'!$J171=\"\",\"\",IF('Entry Information'!R171=\"\",H20,H20-100))","v":""},"",{"$f":"IF($F20=\"\",\"\",(VLOOKUP($J$41,Worksheet!$A$11:$AE$41,J20+1,FALSE)))","v":""},{"$f":"IF('Entry Information'!$J171=\"\",\"\",'YOUTH RESULTS'!L21)","v":""},{"$f":"IF('Entry Information'!$J171=\"\",\"\",IF('YOUTH RESULTS'!M21=\"\",\"\",'YOUTH RESULTS'!M21))","v":""},"",{"$f":"IF('Entry Information'!$J171=\"\",\"\",IF('Entry Information'!T171=\"\",N20,N20-100))","v":""},"",{"$f":"IF($L20=\"\",\"\",(VLOOKUP($P$41,Worksheet!$A$11:$AE$41,P20+1,FALSE)))","v":""},{"$f":"IF('Entry Information'!$J171=\"\",\"\",'YOUTH RESULTS'!R21)","v":""},{"$f":"IF('Entry Information'!$J171=\"\",\"\",IF('YOUTH RESULTS'!S21=\"\",\"\",'YOUTH RESULTS'!S21))","v":""},"",{"$f":"IF('Entry Information'!$J171=\"\",\"\",IF('Entry Information'!V171=\"\",T20,T20-100))","v":""},"",{"$f":"IF($R20=\"\",\"\",(VLOOKUP($V$41,Worksheet!$A$11:$AE$41,V20+1,FALSE)))","v":""},{"$f":"IF('Entry Information'!$J171=\"\",\"\",'YOUTH RESULTS'!X21)","v":""},{"$f":"IF('Entry Information'!$J171=\"\",\"\",IF('YOUTH RESULTS'!Y21=\"\",\"\",'YOUTH RESULTS'!Y21))","v":""},"",{"$f":"IF('Entry Information'!$J171=\"\",\"\",IF('Entry Information'!X171=\"\",Z20,Z20-100))","v":""},"",{"$f":"IF($X20=\"\",\"\",(VLOOKUP($AB$41,Worksheet!$A$11:$AE$41,AB20+1,FALSE)))","v":""},{"$f":"IF('Entry Information'!$J171=\"\",\"\",'YOUTH RESULTS'!AD21)","v":""},{"$f":"IF('Entry Information'!$J171=\"\",\"\",IF('YOUTH RESULTS'!AE21=\"\",\"\",'YOUTH RESULTS'!AE21))","v":""},"",{"$f":"IF('Entry Information'!$J171=\"\",\"\",IF('Entry Information'!Z171=\"\",AF20,AF20-100))","v":""},"",{"$f":"IF($AD20=\"\",\"\",(VLOOKUP($AH$41,Worksheet!$A$11:$AE$41,AH20+1,FALSE)))","v":""}]
[{"$f":"IF('Entry Information'!J172=\"\",\"\",'Entry Information'!B172)","v":""},{"$f":"IF('Entry Information'!J172=\"\",\"\",'Entry Information'!C172)","v":""},{"$f":"IF('Entry Information'!J172=\"\",\"\",'Entry Information'!D172)","v":""},{"$f":"IF('Entry Information'!J172=\"\",\"\",'Entry Information'!E172)","v":""},"YOUTH",{"$f":"IF('Entry Information'!$J172=\"\",\"\",'YOUTH RESULTS'!F22)","v":""},{"$f":"IF('Entry Information'!$J172=\"\",\"\",IF('YOUTH RESULTS'!G22=\"\",\"\",'YOUTH RESULTS'!G22))","v":""},"",{"$f":"IF('Entry Information'!$J172=\"\",\"\",IF('Entry Information'!R172=\"\",H21,H21-100))","v":""},"",{"$f":"IF($F21=\"\",\"\",(VLOOKUP($J$41,Worksheet!$A$11:$AE$41,J21+1,FALSE)))","v":""},{"$f":"IF('Entry Information'!$J172=\"\",\"\",'YOUTH RESULTS'!L22)","v":""},{"$f":"IF('Entry Information'!$J172=\"\",\"\",IF('YOUTH RESULTS'!M22=\"\",\"\",'YOUTH RESULTS'!M22))","v":""},"",{"$f":"IF('Entry Information'!$J172=\"\",\"\",IF('Entry Information'!T172=\"\",N21,N21-100))","v":""},"",{"$f":"IF($L21=\"\",\"\",(VLOOKUP($P$41,Worksheet!$A$11:$AE$41,P21+1,FALSE)))","v":""},{"$f":"IF('Entry Information'!$J172=\"\",\"\",'YOUTH RESULTS'!R22)","v":""},{"$f":"IF('Entry Information'!$J172=\"\",\"\",IF('YOUTH RESULTS'!S22=\"\",\"\",'YOUTH RESULTS'!S22))","v":""},"",{"$f":"IF('Entry Information'!$J172=\"\",\"\",IF('Entry Information'!V172=\"\",T21,T21-100))","v":""},"",{"$f":"IF($R21=\"\",\"\",(VLOOKUP($V$41,Worksheet!$A$11:$AE$41,V21+1,FALSE)))","v":""},{"$f":"IF('Entry Information'!$J172=\"\",\"\",'YOUTH RESULTS'!X22)","v":""},{"$f":"IF('Entry Information'!$J172=\"\",\"\",IF('YOUTH RESULTS'!Y22=\"\",\"\",'YOUTH RESULTS'!Y22))","v":""},"",{"$f":"IF('Entry Information'!$J172=\"\",\"\",IF('Entry Information'!X172=\"\",Z21,Z21-100))","v":""},"",{"$f":"IF($X21=\"\",\"\",(VLOOKUP($AB$41,Worksheet!$A$11:$AE$41,AB21+1,FALSE)))","v":""},{"$f":"IF('Entry Information'!$J172=\"\",\"\",'YOUTH RESULTS'!AD22)","v":""},{"$f":"IF('Entry Information'!$J172=\"\",\"\",IF('YOUTH RESULTS'!AE22=\"\",\"\",'YOUTH RESULTS'!AE22))","v":""},"",{"$f":"IF('Entry Information'!$J172=\"\",\"\",IF('Entry Information'!Z172=\"\",AF21,AF21-100))","v":""},"",{"$f":"IF($AD21=\"\",\"\",(VLOOKUP($AH$41,Worksheet!$A$11:$AE$41,AH21+1,FALSE)))","v":""}]
[{"$f":"IF('Entry Information'!J173=\"\",\"\",'Entry Information'!B173)","v":""},{"$f":"IF('Entry Information'!J173=\"\",\"\",'Entry Information'!C173)","v":""},{"$f":"IF('Entry Information'!J173=\"\",\"\",'Entry Information'!D173)","v":""},{"$f":"IF('Entry Information'!J173=\"\",\"\",'Entry Information'!E173)","v":""},"YOUTH",{"$f":"IF('Entry Information'!$J173=\"\",\"\",'YOUTH RESULTS'!F23)","v":""},{"$f":"IF('Entry Information'!$J173=\"\",\"\",IF('YOUTH RESULTS'!G23=\"\",\"\",'YOUTH RESULTS'!G23))","v":""},"",{"$f":"IF('Entry Information'!$J173=\"\",\"\",IF('Entry Information'!R173=\"\",H22,H22-100))","v":""},"",{"$f":"IF($F22=\"\",\"\",(VLOOKUP($J$41,Worksheet!$A$11:$AE$41,J22+1,FALSE)))","v":""},{"$f":"IF('Entry Information'!$J173=\"\",\"\",'YOUTH RESULTS'!L23)","v":""},{"$f":"IF('Entry Information'!$J173=\"\",\"\",IF('YOUTH RESULTS'!M23=\"\",\"\",'YOUTH RESULTS'!M23))","v":""},"",{"$f":"IF('Entry Information'!$J173=\"\",\"\",IF('Entry Information'!T173=\"\",N22,N22-100))","v":""},"",{"$f":"IF($L22=\"\",\"\",(VLOOKUP($P$41,Worksheet!$A$11:$AE$41,P22+1,FALSE)))","v":""},{"$f":"IF('Entry Information'!$J173=\"\",\"\",'YOUTH RESULTS'!R23)","v":""},{"$f":"IF('Entry Information'!$J173=\"\",\"\",IF('YOUTH RESULTS'!S23=\"\",\"\",'YOUTH RESULTS'!S23))","v":""},"",{"$f":"IF('Entry Information'!$J173=\"\",\"\",IF('Entry Information'!V173=\"\",T22,T22-100))","v":""},"",{"$f":"IF($R22=\"\",\"\",(VLOOKUP($V$41,Worksheet!$A$11:$AE$41,V22+1,FALSE)))","v":""},{"$f":"IF('Entry Information'!$J173=\"\",\"\",'YOUTH RESULTS'!X23)","v":""},{"$f":"IF('Entry Information'!$J173=\"\",\"\",IF('YOUTH RESULTS'!Y23=\"\",\"\",'YOUTH RESULTS'!Y23))","v":""},"",{"$f":"IF('Entry Information'!$J173=\"\",\"\",IF('Entry Information'!X173=\"\",Z22,Z22-100))","v":""},"",{"$f":"IF($X22=\"\",\"\",(VLOOKUP($AB$41,Worksheet!$A$11:$AE$41,AB22+1,FALSE)))","v":""},{"$f":"IF('Entry Information'!$J173=\"\",\"\",'YOUTH RESULTS'!AD23)","v":""},{"$f":"IF('Entry Information'!$J173=\"\",\"\",IF('YOUTH RESULTS'!AE23=\"\",\"\",'YOUTH RESULTS'!AE23))","v":""},"",{"$f":"IF('Entry Information'!$J173=\"\",\"\",IF('Entry Information'!Z173=\"\",AF22,AF22-100))","v":""},"",{"$f":"IF($AD22=\"\",\"\",(VLOOKUP($AH$41,Worksheet!$A$11:$AE$41,AH22+1,FALSE)))","v":""}]
[{"$f":"IF('Entry Information'!J174=\"\",\"\",'Entry Information'!B174)","v":""},{"$f":"IF('Entry Information'!J174=\"\",\"\",'Entry Information'!C174)","v":""},{"$f":"IF('Entry Information'!J174=\"\",\"\",'Entry Information'!D174)","v":""},{"$f":"IF('Entry Information'!J174=\"\",\"\",'Entry Information'!E174)","v":""},"YOUTH",{"$f":"IF('Entry Information'!$J174=\"\",\"\",'YOUTH RESULTS'!F24)","v":""},{"$f":"IF('Entry Information'!$J174=\"\",\"\",IF('YOUTH RESULTS'!G24=\"\",\"\",'YOUTH RESULTS'!G24))","v":""},"",{"$f":"IF('Entry Information'!$J174=\"\",\"\",IF('Entry Information'!R174=\"\",H23,H23-100))","v":""},"",{"$f":"IF($F23=\"\",\"\",(VLOOKUP($J$41,Worksheet!$A$11:$AE$41,J23+1,FALSE)))","v":""},{"$f":"IF('Entry Information'!$J174=\"\",\"\",'YOUTH RESULTS'!L24)","v":""},{"$f":"IF('Entry Information'!$J174=\"\",\"\",IF('YOUTH RESULTS'!M24=\"\",\"\",'YOUTH RESULTS'!M24))","v":""},"",{"$f":"IF('Entry Information'!$J174=\"\",\"\",IF('Entry Information'!T174=\"\",N23,N23-100))","v":""},"",{"$f":"IF($L23=\"\",\"\",(VLOOKUP($P$41,Worksheet!$A$11:$AE$41,P23+1,FALSE)))","v":""},{"$f":"IF('Entry Information'!$J174=\"\",\"\",'YOUTH RESULTS'!R24)","v":""},{"$f":"IF('Entry Information'!$J174=\"\",\"\",IF('YOUTH RESULTS'!S24=\"\",\"\",'YOUTH RESULTS'!S24))","v":""},"",{"$f":"IF('Entry Information'!$J174=\"\",\"\",IF('Entry Information'!V174=\"\",T23,T23-100))","v":""},"",{"$f":"IF($R23=\"\",\"\",(VLOOKUP($V$41,Worksheet!$A$11:$AE$41,V23+1,FALSE)))","v":""},{"$f":"IF('Entry Information'!$J174=\"\",\"\",'YOUTH RESULTS'!X24)","v":""},{"$f":"IF('Entry Information'!$J174=\"\",\"\",IF('YOUTH RESULTS'!Y24=\"\",\"\",'YOUTH RESULTS'!Y24))","v":""},"",{"$f":"IF('Entry Information'!$J174=\"\",\"\",IF('Entry Information'!X174=\"\",Z23,Z23-100))","v":""},"",{"$f":"IF($X23=\"\",\"\",(VLOOKUP($AB$41,Worksheet!$A$11:$AE$41,AB23+1,FALSE)))","v":""},{"$f":"IF('Entry Information'!$J174=\"\",\"\",'YOUTH RESULTS'!AD24)","v":""},{"$f":"IF('Entry Information'!$J174=\"\",\"\",IF('YOUTH RESULTS'!AE24=\"\",\"\",'YOUTH RESULTS'!AE24))","v":""},"",{"$f":"IF('Entry Information'!$J174=\"\",\"\",IF('Entry Information'!Z174=\"\",AF23,AF23-100))","v":""},"",{"$f":"IF($AD23=\"\",\"\",(VLOOKUP($AH$41,Worksheet!$A$11:$AE$41,AH23+1,FALSE)))","v":""}]
[{"$f":"IF('Entry Information'!J175=\"\",\"\",'Entry Information'!B175)","v":""},{"$f":"IF('Entry Information'!J175=\"\",\"\",'Entry Information'!C175)","v":""},{"$f":"IF('Entry Information'!J175=\"\",\"\",'Entry Information'!D175)","v":""},{"$f":"IF('Entry Information'!J175=\"\",\"\",'Entry Information'!E175)","v":""},"YOUTH",{"$f":"IF('Entry Information'!$J175=\"\",\"\",'YOUTH RESULTS'!F25)","v":""},{"$f":"IF('Entry Information'!$J175=\"\",\"\",IF('YOUTH RESULTS'!G25=\"\",\"\",'YOUTH RESULTS'!G25))","v":""},{"$f":"IF(G24=\"\",F24,(F24+(G24*0.001)))","v":""},{"$f":"IF('Entry Information'!$J175=\"\",\"\",IF('Entry Information'!R175=\"\",H24,H24-100))","v":""},"",{"$f":"IF($F24=\"\",\"\",(VLOOKUP($J$41,Worksheet!$A$11:$AE$41,J24+1,FALSE)))","v":""},{"$f":"IF('Entry Information'!$J175=\"\",\"\",'YOUTH RESULTS'!L25)","v":""},{"$f":"IF('Entry Information'!$J175=\"\",\"\",IF('YOUTH RESULTS'!M25=\"\",\"\",'YOUTH RESULTS'!M25))","v":""},"",{"$f":"IF('Entry Information'!$J175=\"\",\"\",IF('Entry Information'!T175=\"\",N24,N24-100))","v":""},"",{"$f":"IF($L24=\"\",\"\",(VLOOKUP($P$41,Worksheet!$A$11:$AE$41,P24+1,FALSE)))","v":""},{"$f":"IF('Entry Information'!$J175=\"\",\"\",'YOUTH RESULTS'!R25)","v":""},{"$f":"IF('Entry Information'!$J175=\"\",\"\",IF('YOUTH RESULTS'!S25=\"\",\"\",'YOUTH RESULTS'!S25))","v":""},"",{"$f":"IF('Entry Information'!$J175=\"\",\"\",IF('Entry Information'!V175=\"\",T24,T24-100))","v":""},"",{"$f":"IF($R24=\"\",\"\",(VLOOKUP($V$41,Worksheet!$A$11:$AE$41,V24+1,FALSE)))","v":""},{"$f":"IF('Entry Information'!$J175=\"\",\"\",'YOUTH RESULTS'!X25)","v":""},{"$f":"IF('Entry Information'!$J175=\"\",\"\",IF('YOUTH RESULTS'!Y25=\"\",\"\",'YOUTH RESULTS'!Y25))","v":""},{"$f":"IF(Y24=\"\",X24,(X24+(Y24*0.001)))","v":""},{"$f":"IF('Entry Information'!$J175=\"\",\"\",IF('Entry Information'!X175=\"\",Z24,Z24-100))","v":""},"",{"$f":"IF($X24=\"\",\"\",(VLOOKUP($AB$41,Worksheet!$A$11:$AE$41,AB24+1,FALSE)))","v":""},{"$f":"IF('Entry Information'!$J175=\"\",\"\",'YOUTH RESULTS'!AD25)","v":""},{"$f":"IF('Entry Information'!$J175=\"\",\"\",IF('YOUTH RESULTS'!AE25=\"\",\"\",'YOUTH RESULTS'!AE25))","v":""},{"$f":"IF(AE24=\"\",AD24,(AD24+(AE24*0.001)))","v":""},{"$f":"IF('Entry Information'!$J175=\"\",\"\",IF('Entry Information'!Z175=\"\",AF24,AF24-100))","v":""},"",{"$f":"IF($AD24=\"\",\"\",(VLOOKUP($AH$41,Worksheet!$A$11:$AE$41,AH24+1,FALSE)))","v":""}]
[{"$f":"IF('Entry Information'!J176=\"\",\"\",'Entry Information'!B176)","v":""},{"$f":"IF('Entry Information'!J176=\"\",\"\",'Entry Information'!C176)","v":""},{"$f":"IF('Entry Information'!J176=\"\",\"\",'Entry Information'!D176)","v":""},{"$f":"IF('Entry Information'!J176=\"\",\"\",'Entry Information'!E176)","v":""},"YOUTH",{"$f":"IF('Entry Information'!$J176=\"\",\"\",'YOUTH RESULTS'!F26)","v":""},{"$f":"IF('Entry Information'!$J176=\"\",\"\",IF('YOUTH RESULTS'!G26=\"\",\"\",'YOUTH RESULTS'!G26))","v":""},{"$f":"IF(G25=\"\",F25,(F25+(G25*0.001)))","v":""},{"$f":"IF('Entry Information'!$J176=\"\",\"\",IF('Entry Information'!R176=\"\",H25,H25-100))","v":""},"",{"$f":"IF($F25=\"\",\"\",(VLOOKUP($J$41,Worksheet!$A$11:$AE$41,J25+1,FALSE)))","v":""},{"$f":"IF('Entry Information'!$J176=\"\",\"\",'YOUTH RESULTS'!L26)","v":""},{"$f":"IF('Entry Information'!$J176=\"\",\"\",IF('YOUTH RESULTS'!M26=\"\",\"\",'YOUTH RESULTS'!M26))","v":""},"",{"$f":"IF('Entry Information'!$J176=\"\",\"\",IF('Entry Information'!T176=\"\",N25,N25-100))","v":""},"",{"$f":"IF($L25=\"\",\"\",(VLOOKUP($P$41,Worksheet!$A$11:$AE$41,P25+1,FALSE)))","v":""},{"$f":"IF('Entry Information'!$J176=\"\",\"\",'YOUTH RESULTS'!R26)","v":""},{"$f":"IF('Entry Information'!$J176=\"\",\"\",IF('YOUTH RESULTS'!S26=\"\",\"\",'YOUTH RESULTS'!S26))","v":""},"",{"$f":"IF('Entry Information'!$J176=\"\",\"\",IF('Entry Information'!V176=\"\",T25,T25-100))","v":""},"",{"$f":"IF($R25=\"\",\"\",(VLOOKUP($V$41,Worksheet!$A$11:$AE$41,V25+1,FALSE)))","v":""},{"$f":"IF('Entry Information'!$J176=\"\",\"\",'YOUTH RESULTS'!X26)","v":""},{"$f":"IF('Entry Information'!$J176=\"\",\"\",IF('YOUTH RESULTS'!Y26=\"\",\"\",'YOUTH RESULTS'!Y26))","v":""},{"$f":"IF(Y25=\"\",X25,(X25+(Y25*0.001)))","v":""},{"$f":"IF('Entry Information'!$J176=\"\",\"\",IF('Entry Information'!X176=\"\",Z25,Z25-100))","v":""},"",{"$f":"IF($X25=\"\",\"\",(VLOOKUP($AB$41,Worksheet!$A$11:$AE$41,AB25+1,FALSE)))","v":""},{"$f":"IF('Entry Information'!$J176=\"\",\"\",'YOUTH RESULTS'!AD26)","v":""},{"$f":"IF('Entry Information'!$J176=\"\",\"\",IF('YOUTH RESULTS'!AE26=\"\",\"\",'YOUTH RESULTS'!AE26))","v":""},{"$f":"IF(AE25=\"\",AD25,(AD25+(AE25*0.001)))","v":""},{"$f":"IF('Entry Information'!$J176=\"\",\"\",IF('Entry Information'!Z176=\"\",AF25,AF25-100))","v":""},"",{"$f":"IF($AD25=\"\",\"\",(VLOOKUP($AH$41,Worksheet!$A$11:$AE$41,AH25+1,FALSE)))","v":""}]
[{"$f":"IF('Entry Information'!J177=\"\",\"\",'Entry Information'!B177)","v":""},{"$f":"IF('Entry Information'!J177=\"\",\"\",'Entry Information'!C177)","v":""},{"$f":"IF('Entry Information'!J177=\"\",\"\",'Entry Information'!D177)","v":""},{"$f":"IF('Entry Information'!J177=\"\",\"\",'Entry Information'!E177)","v":""},"YOUTH",{"$f":"IF('Entry Information'!$J177=\"\",\"\",'YOUTH RESULTS'!F27)","v":""},{"$f":"IF('Entry Information'!$J177=\"\",\"\",IF('YOUTH RESULTS'!G27=\"\",\"\",'YOUTH RESULTS'!G27))","v":""},{"$f":"IF(G26=\"\",F26,(F26+(G26*0.001)))","v":""},{"$f":"IF('Entry Information'!$J177=\"\",\"\",IF('Entry Information'!R177=\"\",H26,H26-100))","v":""},"",{"$f":"IF($F26=\"\",\"\",(VLOOKUP($J$41,Worksheet!$A$11:$AE$41,J26+1,FALSE)))","v":""},{"$f":"IF('Entry Information'!$J177=\"\",\"\",'YOUTH RESULTS'!L27)","v":""},{"$f":"IF('Entry Information'!$J177=\"\",\"\",IF('YOUTH RESULTS'!M27=\"\",\"\",'YOUTH RESULTS'!M27))","v":""},"",{"$f":"IF('Entry Information'!$J177=\"\",\"\",IF('Entry Information'!T177=\"\",N26,N26-100))","v":""},"",{"$f":"IF($L26=\"\",\"\",(VLOOKUP($P$41,Worksheet!$A$11:$AE$41,P26+1,FALSE)))","v":""},{"$f":"IF('Entry Information'!$J177=\"\",\"\",'YOUTH RESULTS'!R27)","v":""},{"$f":"IF('Entry Information'!$J177=\"\",\"\",IF('YOUTH RESULTS'!S27=\"\",\"\",'YOUTH RESULTS'!S27))","v":""},"",{"$f":"IF('Entry Information'!$J177=\"\",\"\",IF('Entry Information'!V177=\"\",T26,T26-100))","v":""},"",{"$f":"IF($R26=\"\",\"\",(VLOOKUP($V$41,Worksheet!$A$11:$AE$41,V26+1,FALSE)))","v":""},{"$f":"IF('Entry Information'!$J177=\"\",\"\",'YOUTH RESULTS'!X27)","v":""},{"$f":"IF('Entry Information'!$J177=\"\",\"\",IF('YOUTH RESULTS'!Y27=\"\",\"\",'YOUTH RESULTS'!Y27))","v":""},{"$f":"IF(Y26=\"\",X26,(X26+(Y26*0.001)))","v":""},{"$f":"IF('Entry Information'!$J177=\"\",\"\",IF('Entry Information'!X177=\"\",Z26,Z26-100))","v":""},"",{"$f":"IF($X26=\"\",\"\",(VLOOKUP($AB$41,Worksheet!$A$11:$AE$41,AB26+1,FALSE)))","v":""},{"$f":"IF('Entry Information'!$J177=\"\",\"\",'YOUTH RESULTS'!AD27)","v":""},{"$f":"IF('Entry Information'!$J177=\"\",\"\",IF('YOUTH RESULTS'!AE27=\"\",\"\",'YOUTH RESULTS'!AE27))","v":""},{"$f":"IF(AE26=\"\",AD26,(AD26+(AE26*0.001)))","v":""},{"$f":"IF('Entry Information'!$J177=\"\",\"\",IF('Entry Information'!Z177=\"\",AF26,AF26-100))","v":""},"",{"$f":"IF($AD26=\"\",\"\",(VLOOKUP($AH$41,Worksheet!$A$11:$AE$41,AH26+1,FALSE)))","v":""}]
[{"$f":"IF('Entry Information'!J178=\"\",\"\",'Entry Information'!B178)","v":""},{"$f":"IF('Entry Information'!J178=\"\",\"\",'Entry Information'!C178)","v":""},{"$f":"IF('Entry Information'!J178=\"\",\"\",'Entry Information'!D178)","v":""},{"$f":"IF('Entry Information'!J178=\"\",\"\",'Entry Information'!E178)","v":""},"YOUTH",{"$f":"IF('Entry Information'!$J178=\"\",\"\",'YOUTH RESULTS'!F28)","v":""},{"$f":"IF('Entry Information'!$J178=\"\",\"\",IF('YOUTH RESULTS'!G28=\"\",\"\",'YOUTH RESULTS'!G28))","v":""},"",{"$f":"IF('Entry Information'!$J178=\"\",\"\",IF('Entry Information'!R178=\"\",H27,H27-100))","v":""},"",{"$f":"IF($F27=\"\",\"\",(VLOOKUP($J$41,Worksheet!$A$11:$AE$41,J27+1,FALSE)))","v":""},{"$f":"IF('Entry Information'!$J178=\"\",\"\",'YOUTH RESULTS'!L28)","v":""},{"$f":"IF('Entry Information'!$J178=\"\",\"\",IF('YOUTH RESULTS'!M28=\"\",\"\",'YOUTH RESULTS'!M28))","v":""},"",{"$f":"IF('Entry Information'!$J178=\"\",\"\",IF('Entry Information'!T178=\"\",N27,N27-100))","v":""},"",{"$f":"IF($L27=\"\",\"\",(VLOOKUP($P$41,Worksheet!$A$11:$AE$41,P27+1,FALSE)))","v":""},{"$f":"IF('Entry Information'!$J178=\"\",\"\",'YOUTH RESULTS'!R28)","v":""},{"$f":"IF('Entry Information'!$J178=\"\",\"\",IF('YOUTH RESULTS'!S28=\"\",\"\",'YOUTH RESULTS'!S28))","v":""},"",{"$f":"IF('Entry Information'!$J178=\"\",\"\",IF('Entry Information'!V178=\"\",T27,T27-100))","v":""},"",{"$f":"IF($R27=\"\",\"\",(VLOOKUP($V$41,Worksheet!$A$11:$AE$41,V27+1,FALSE)))","v":""},{"$f":"IF('Entry Information'!$J178=\"\",\"\",'YOUTH RESULTS'!X28)","v":""},{"$f":"IF('Entry Information'!$J178=\"\",\"\",IF('YOUTH RESULTS'!Y28=\"\",\"\",'YOUTH RESULTS'!Y28))","v":""},"",{"$f":"IF('Entry Information'!$J178=\"\",\"\",IF('Entry Information'!X178=\"\",Z27,Z27-100))","v":""},"",{"$f":"IF($X27=\"\",\"\",(VLOOKUP($AB$41,Worksheet!$A$11:$AE$41,AB27+1,FALSE)))","v":""},{"$f":"IF('Entry Information'!$J178=\"\",\"\",'YOUTH RESULTS'!AD28)","v":""},{"$f":"IF('Entry Information'!$J178=\"\",\"\",IF('YOUTH RESULTS'!AE28=\"\",\"\",'YOUTH RESULTS'!AE28))","v":""},"",{"$f":"IF('Entry Information'!$J178=\"\",\"\",IF('Entry Information'!Z178=\"\",AF27,AF27-100))","v":""},"",{"$f":"IF($AD27=\"\",\"\",(VLOOKUP($AH$41,Worksheet!$A$11:$AE$41,AH27+1,FALSE)))","v":""}]
[{"$f":"IF('Entry Information'!J179=\"\",\"\",'Entry Information'!B179)","v":""},{"$f":"IF('Entry Information'!J179=\"\",\"\",'Entry Information'!C179)","v":""},{"$f":"IF('Entry Information'!J179=\"\",\"\",'Entry Information'!D179)","v":""},{"$f":"IF('Entry Information'!J179=\"\",\"\",'Entry Information'!E179)","v":""},"YOUTH",{"$f":"IF('Entry Information'!$J179=\"\",\"\",'YOUTH RESULTS'!F29)","v":""},{"$f":"IF('Entry Information'!$J179=\"\",\"\",IF('YOUTH RESULTS'!G29=\"\",\"\",'YOUTH RESULTS'!G29))","v":""},"",{"$f":"IF('Entry Information'!$J179=\"\",\"\",IF('Entry Information'!R179=\"\",H28,H28-100))","v":""},"",{"$f":"IF($F28=\"\",\"\",(VLOOKUP($J$41,Worksheet!$A$11:$AE$41,J28+1,FALSE)))","v":""},{"$f":"IF('Entry Information'!$J179=\"\",\"\",'YOUTH RESULTS'!L29)","v":""},{"$f":"IF('Entry Information'!$J179=\"\",\"\",IF('YOUTH RESULTS'!M29=\"\",\"\",'YOUTH RESULTS'!M29))","v":""},"",{"$f":"IF('Entry Information'!$J179=\"\",\"\",IF('Entry Information'!T179=\"\",N28,N28-100))","v":""},"",{"$f":"IF($L28=\"\",\"\",(VLOOKUP($P$41,Worksheet!$A$11:$AE$41,P28+1,FALSE)))","v":""},{"$f":"IF('Entry Information'!$J179=\"\",\"\",'YOUTH RESULTS'!R29)","v":""},{"$f":"IF('Entry Information'!$J179=\"\",\"\",IF('YOUTH RESULTS'!S29=\"\",\"\",'YOUTH RESULTS'!S29))","v":""},"",{"$f":"IF('Entry Information'!$J179=\"\",\"\",IF('Entry Information'!V179=\"\",T28,T28-100))","v":""},"",{"$f":"IF($R28=\"\",\"\",(VLOOKUP($V$41,Worksheet!$A$11:$AE$41,V28+1,FALSE)))","v":""},{"$f":"IF('Entry Information'!$J179=\"\",\"\",'YOUTH RESULTS'!X29)","v":""},{"$f":"IF('Entry Information'!$J179=\"\",\"\",IF('YOUTH RESULTS'!Y29=\"\",\"\",'YOUTH RESULTS'!Y29))","v":""},"",{"$f":"IF('Entry Information'!$J179=\"\",\"\",IF('Entry Information'!X179=\"\",Z28,Z28-100))","v":""},"",{"$f":"IF($X28=\"\",\"\",(VLOOKUP($AB$41,Worksheet!$A$11:$AE$41,AB28+1,FALSE)))","v":""},{"$f":"IF('Entry Information'!$J179=\"\",\"\",'YOUTH RESULTS'!AD29)","v":""},{"$f":"IF('Entry Information'!$J179=\"\",\"\",IF('YOUTH RESULTS'!AE29=\"\",\"\",'YOUTH RESULTS'!AE29))","v":""},"",{"$f":"IF('Entry Information'!$J179=\"\",\"\",IF('Entry Information'!Z179=\"\",AF28,AF28-100))","v":""},"",{"$f":"IF($AD28=\"\",\"\",(VLOOKUP($AH$41,Worksheet!$A$11:$AE$41,AH28+1,FALSE)))","v":""}]
[{"$f":"IF('Entry Information'!J180=\"\",\"\",'Entry Information'!B180)","v":""},{"$f":"IF('Entry Information'!J180=\"\",\"\",'Entry Information'!C180)","v":""},{"$f":"IF('Entry Information'!J180=\"\",\"\",'Entry Information'!D180)","v":""},{"$f":"IF('Entry Information'!J180=\"\",\"\",'Entry Information'!E180)","v":""},"YOUTH",{"$f":"IF('Entry Information'!$J180=\"\",\"\",'YOUTH RESULTS'!F30)","v":""},{"$f":"IF('Entry Information'!$J180=\"\",\"\",IF('YOUTH RESULTS'!G30=\"\",\"\",'YOUTH RESULTS'!G30))","v":""},"",{"$f":"IF('Entry Information'!$J180=\"\",\"\",IF('Entry Information'!R180=\"\",H29,H29-100))","v":""},"",{"$f":"IF($F29=\"\",\"\",(VLOOKUP($J$41,Worksheet!$A$11:$AE$41,J29+1,FALSE)))","v":""},{"$f":"IF('Entry Information'!$J180=\"\",\"\",'YOUTH RESULTS'!L30)","v":""},{"$f":"IF('Entry Information'!$J180=\"\",\"\",IF('YOUTH RESULTS'!M30=\"\",\"\",'YOUTH RESULTS'!M30))","v":""},"",{"$f":"IF('Entry Information'!$J180=\"\",\"\",IF('Entry Information'!T180=\"\",N29,N29-100))","v":""},"",{"$f":"IF($L29=\"\",\"\",(VLOOKUP($P$41,Worksheet!$A$11:$AE$41,P29+1,FALSE)))","v":""},{"$f":"IF('Entry Information'!$J180=\"\",\"\",'YOUTH RESULTS'!R30)","v":""},{"$f":"IF('Entry Information'!$J180=\"\",\"\",IF('YOUTH RESULTS'!S30=\"\",\"\",'YOUTH RESULTS'!S30))","v":""},"",{"$f":"IF('Entry Information'!$J180=\"\",\"\",IF('Entry Information'!V180=\"\",T29,T29-100))","v":""},"",{"$f":"IF($R29=\"\",\"\",(VLOOKUP($V$41,Worksheet!$A$11:$AE$41,V29+1,FALSE)))","v":""},{"$f":"IF('Entry Information'!$J180=\"\",\"\",'YOUTH RESULTS'!X30)","v":""},{"$f":"IF('Entry Information'!$J180=\"\",\"\",IF('YOUTH RESULTS'!Y30=\"\",\"\",'YOUTH RESULTS'!Y30))","v":""},"",{"$f":"IF('Entry Information'!$J180=\"\",\"\",IF('Entry Information'!X180=\"\",Z29,Z29-100))","v":""},"",{"$f":"IF($X29=\"\",\"\",(VLOOKUP($AB$41,Worksheet!$A$11:$AE$41,AB29+1,FALSE)))","v":""},{"$f":"IF('Entry Information'!$J180=\"\",\"\",'YOUTH RESULTS'!AD30)","v":""},{"$f":"IF('Entry Information'!$J180=\"\",\"\",IF('YOUTH RESULTS'!AE30=\"\",\"\",'YOUTH RESULTS'!AE30))","v":""},"",{"$f":"IF('Entry Information'!$J180=\"\",\"\",IF('Entry Information'!Z180=\"\",AF29,AF29-100))","v":""},"",{"$f":"IF($AD29=\"\",\"\",(VLOOKUP($AH$41,Worksheet!$A$11:$AE$41,AH29+1,FALSE)))","v":""}]
[{"$f":"IF('Entry Information'!J181=\"\",\"\",'Entry Information'!B181)","v":""},{"$f":"IF('Entry Information'!J181=\"\",\"\",'Entry Information'!C181)","v":""},{"$f":"IF('Entry Information'!J181=\"\",\"\",'Entry Information'!D181)","v":""},{"$f":"IF('Entry Information'!J181=\"\",\"\",'Entry Information'!E181)","v":""},"YOUTH",{"$f":"IF('Entry Information'!$J181=\"\",\"\",'YOUTH RESULTS'!F31)","v":""},{"$f":"IF('Entry Information'!$J181=\"\",\"\",IF('YOUTH RESULTS'!G31=\"\",\"\",'YOUTH RESULTS'!G31))","v":""},"",{"$f":"IF('Entry Information'!$J181=\"\",\"\",IF('Entry Information'!R181=\"\",H30,H30-100))","v":""},"",{"$f":"IF($F30=\"\",\"\",(VLOOKUP($J$41,Worksheet!$A$11:$AE$41,J30+1,FALSE)))","v":""},{"$f":"IF('Entry Information'!$J181=\"\",\"\",'YOUTH RESULTS'!L31)","v":""},{"$f":"IF('Entry Information'!$J181=\"\",\"\",IF('YOUTH RESULTS'!M31=\"\",\"\",'YOUTH RESULTS'!M31))","v":""},"",{"$f":"IF('Entry Information'!$J181=\"\",\"\",IF('Entry Information'!T181=\"\",N30,N30-100))","v":""},"",{"$f":"IF($L30=\"\",\"\",(VLOOKUP($P$41,Worksheet!$A$11:$AE$41,P30+1,FALSE)))","v":""},{"$f":"IF('Entry Information'!$J181=\"\",\"\",'YOUTH RESULTS'!R31)","v":""},{"$f":"IF('Entry Information'!$J181=\"\",\"\",IF('YOUTH RESULTS'!S31=\"\",\"\",'YOUTH RESULTS'!S31))","v":""},"",{"$f":"IF('Entry Information'!$J181=\"\",\"\",IF('Entry Information'!V181=\"\",T30,T30-100))","v":""},"",{"$f":"IF($R30=\"\",\"\",(VLOOKUP($V$41,Worksheet!$A$11:$AE$41,V30+1,FALSE)))","v":""},{"$f":"IF('Entry Information'!$J181=\"\",\"\",'YOUTH RESULTS'!X31)","v":""},{"$f":"IF('Entry Information'!$J181=\"\",\"\",IF('YOUTH RESULTS'!Y31=\"\",\"\",'YOUTH RESULTS'!Y31))","v":""},"",{"$f":"IF('Entry Information'!$J181=\"\",\"\",IF('Entry Information'!X181=\"\",Z30,Z30-100))","v":""},"",{"$f":"IF($X30=\"\",\"\",(VLOOKUP($AB$41,Worksheet!$A$11:$AE$41,AB30+1,FALSE)))","v":""},{"$f":"IF('Entry Information'!$J181=\"\",\"\",'YOUTH RESULTS'!AD31)","v":""},{"$f":"IF('Entry Information'!$J181=\"\",\"\",IF('YOUTH RESULTS'!AE31=\"\",\"\",'YOUTH RESULTS'!AE31))","v":""},"",{"$f":"IF('Entry Information'!$J181=\"\",\"\",IF('Entry Information'!Z181=\"\",AF30,AF30-100))","v":""},"",{"$f":"IF($AD30=\"\",\"\",(VLOOKUP($AH$41,Worksheet!$A$11:$AE$41,AH30+1,FALSE)))","v":""}]
[{"$f":"IF('Entry Information'!J182=\"\",\"\",'Entry Information'!B182)","v":""},{"$f":"IF('Entry Information'!J182=\"\",\"\",'Entry Information'!C182)","v":""},{"$f":"IF('Entry Information'!J182=\"\",\"\",'Entry Information'!D182)","v":""},{"$f":"IF('Entry Information'!J182=\"\",\"\",'Entry Information'!E182)","v":""},"YOUTH",{"$f":"IF('Entry Information'!$J182=\"\",\"\",'YOUTH RESULTS'!F32)","v":""},{"$f":"IF('Entry Information'!$J182=\"\",\"\",IF('YOUTH RESULTS'!G32=\"\",\"\",'YOUTH RESULTS'!G32))","v":""},"",{"$f":"IF('Entry Information'!$J182=\"\",\"\",IF('Entry Information'!R182=\"\",H31,H31-100))","v":""},"",{"$f":"IF($F31=\"\",\"\",(VLOOKUP($J$41,Worksheet!$A$11:$AE$41,J31+1,FALSE)))","v":""},{"$f":"IF('Entry Information'!$J182=\"\",\"\",'YOUTH RESULTS'!L32)","v":""},{"$f":"IF('Entry Information'!$J182=\"\",\"\",IF('YOUTH RESULTS'!M32=\"\",\"\",'YOUTH RESULTS'!M32))","v":""},"",{"$f":"IF('Entry Information'!$J182=\"\",\"\",IF('Entry Information'!T182=\"\",N31,N31-100))","v":""},"",{"$f":"IF($L31=\"\",\"\",(VLOOKUP($P$41,Worksheet!$A$11:$AE$41,P31+1,FALSE)))","v":""},{"$f":"IF('Entry Information'!$J182=\"\",\"\",'YOUTH RESULTS'!R32)","v":""},{"$f":"IF('Entry Information'!$J182=\"\",\"\",IF('YOUTH RESULTS'!S32=\"\",\"\",'YOUTH RESULTS'!S32))","v":""},"",{"$f":"IF('Entry Information'!$J182=\"\",\"\",IF('Entry Information'!V182=\"\",T31,T31-100))","v":""},"",{"$f":"IF($R31=\"\",\"\",(VLOOKUP($V$41,Worksheet!$A$11:$AE$41,V31+1,FALSE)))","v":""},{"$f":"IF('Entry Information'!$J182=\"\",\"\",'YOUTH RESULTS'!X32)","v":""},{"$f":"IF('Entry Information'!$J182=\"\",\"\",IF('YOUTH RESULTS'!Y32=\"\",\"\",'YOUTH RESULTS'!Y32))","v":""},"",{"$f":"IF('Entry Information'!$J182=\"\",\"\",IF('Entry Information'!X182=\"\",Z31,Z31-100))","v":""},"",{"$f":"IF($X31=\"\",\"\",(VLOOKUP($AB$41,Worksheet!$A$11:$AE$41,AB31+1,FALSE)))","v":""},{"$f":"IF('Entry Information'!$J182=\"\",\"\",'YOUTH RESULTS'!AD32)","v":""},{"$f":"IF('Entry Information'!$J182=\"\",\"\",IF('YOUTH RESULTS'!AE32=\"\",\"\",'YOUTH RESULTS'!AE32))","v":""},"",{"$f":"IF('Entry Information'!$J182=\"\",\"\",IF('Entry Information'!Z182=\"\",AF31,AF31-100))","v":""},"",{"$f":"IF($AD31=\"\",\"\",(VLOOKUP($AH$41,Worksheet!$A$11:$AE$41,AH31+1,FALSE)))","v":""}]
[{"$f":"IF('Entry Information'!J183=\"\",\"\",'Entry Information'!B183)","v":""},{"$f":"IF('Entry Information'!J183=\"\",\"\",'Entry Information'!C183)","v":""},{"$f":"IF('Entry Information'!J183=\"\",\"\",'Entry Information'!D183)","v":""},{"$f":"IF('Entry Information'!J183=\"\",\"\",'Entry Information'!E183)","v":""},"YOUTH",{"$f":"IF('Entry Information'!$J183=\"\",\"\",'YOUTH RESULTS'!F33)","v":""},{"$f":"IF('Entry Information'!$J183=\"\",\"\",IF('YOUTH RESULTS'!G33=\"\",\"\",'YOUTH RESULTS'!G33))","v":""},"",{"$f":"IF('Entry Information'!$J183=\"\",\"\",IF('Entry Information'!R183=\"\",H32,H32-100))","v":""},"",{"$f":"IF($F32=\"\",\"\",(VLOOKUP($J$41,Worksheet!$A$11:$AE$41,J32+1,FALSE)))","v":""},{"$f":"IF('Entry Information'!$J183=\"\",\"\",'YOUTH RESULTS'!L33)","v":""},{"$f":"IF('Entry Information'!$J183=\"\",\"\",IF('YOUTH RESULTS'!M33=\"\",\"\",'YOUTH RESULTS'!M33))","v":""},"",{"$f":"IF('Entry Information'!$J183=\"\",\"\",IF('Entry Information'!T183=\"\",N32,N32-100))","v":""},"",{"$f":"IF($L32=\"\",\"\",(VLOOKUP($P$41,Worksheet!$A$11:$AE$41,P32+1,FALSE)))","v":""},{"$f":"IF('Entry Information'!$J183=\"\",\"\",'YOUTH RESULTS'!R33)","v":""},{"$f":"IF('Entry Information'!$J183=\"\",\"\",IF('YOUTH RESULTS'!S33=\"\",\"\",'YOUTH RESULTS'!S33))","v":""},"",{"$f":"IF('Entry Information'!$J183=\"\",\"\",IF('Entry Information'!V183=\"\",T32,T32-100))","v":""},"",{"$f":"IF($R32=\"\",\"\",(VLOOKUP($V$41,Worksheet!$A$11:$AE$41,V32+1,FALSE)))","v":""},{"$f":"IF('Entry Information'!$J183=\"\",\"\",'YOUTH RESULTS'!X33)","v":""},{"$f":"IF('Entry Information'!$J183=\"\",\"\",IF('YOUTH RESULTS'!Y33=\"\",\"\",'YOUTH RESULTS'!Y33))","v":""},"",{"$f":"IF('Entry Information'!$J183=\"\",\"\",IF('Entry Information'!X183=\"\",Z32,Z32-100))","v":""},"",{"$f":"IF($X32=\"\",\"\",(VLOOKUP($AB$41,Worksheet!$A$11:$AE$41,AB32+1,FALSE)))","v":""},{"$f":"IF('Entry Information'!$J183=\"\",\"\",'YOUTH RESULTS'!AD33)","v":""},{"$f":"IF('Entry Information'!$J183=\"\",\"\",IF('YOUTH RESULTS'!AE33=\"\",\"\",'YOUTH RESULTS'!AE33))","v":""},"",{"$f":"IF('Entry Information'!$J183=\"\",\"\",IF('Entry Information'!Z183=\"\",AF32,AF32-100))","v":""},"",{"$f":"IF($AD32=\"\",\"\",(VLOOKUP($AH$41,Worksheet!$A$11:$AE$41,AH32+1,FALSE)))","v":""}]
[{"$f":"IF('Entry Information'!J184=\"\",\"\",'Entry Information'!B184)","v":""},{"$f":"IF('Entry Information'!J184=\"\",\"\",'Entry Information'!C184)","v":""},{"$f":"IF('Entry Information'!J184=\"\",\"\",'Entry Information'!D184)","v":""},{"$f":"IF('Entry Information'!J184=\"\",\"\",'Entry Information'!E184)","v":""},"YOUTH",{"$f":"IF('Entry Information'!$J184=\"\",\"\",'YOUTH RESULTS'!F34)","v":""},{"$f":"IF('Entry Information'!$J184=\"\",\"\",IF('YOUTH RESULTS'!G34=\"\",\"\",'YOUTH RESULTS'!G34))","v":""},"",{"$f":"IF('Entry Information'!$J184=\"\",\"\",IF('Entry Information'!R184=\"\",H33,H33-100))","v":""},"",{"$f":"IF($F33=\"\",\"\",(VLOOKUP($J$41,Worksheet!$A$11:$AE$41,J33+1,FALSE)))","v":""},{"$f":"IF('Entry Information'!$J184=\"\",\"\",'YOUTH RESULTS'!L34)","v":""},{"$f":"IF('Entry Information'!$J184=\"\",\"\",IF('YOUTH RESULTS'!M34=\"\",\"\",'YOUTH RESULTS'!M34))","v":""},"",{"$f":"IF('Entry Information'!$J184=\"\",\"\",IF('Entry Information'!T184=\"\",N33,N33-100))","v":""},"",{"$f":"IF($L33=\"\",\"\",(VLOOKUP($P$41,Worksheet!$A$11:$AE$41,P33+1,FALSE)))","v":""},{"$f":"IF('Entry Information'!$J184=\"\",\"\",'YOUTH RESULTS'!R34)","v":""},{"$f":"IF('Entry Information'!$J184=\"\",\"\",IF('YOUTH RESULTS'!S34=\"\",\"\",'YOUTH RESULTS'!S34))","v":""},"",{"$f":"IF('Entry Information'!$J184=\"\",\"\",IF('Entry Information'!V184=\"\",T33,T33-100))","v":""},"",{"$f":"IF($R33=\"\",\"\",(VLOOKUP($V$41,Worksheet!$A$11:$AE$41,V33+1,FALSE)))","v":""},{"$f":"IF('Entry Information'!$J184=\"\",\"\",'YOUTH RESULTS'!X34)","v":""},{"$f":"IF('Entry Information'!$J184=\"\",\"\",IF('YOUTH RESULTS'!Y34=\"\",\"\",'YOUTH RESULTS'!Y34))","v":""},"",{"$f":"IF('Entry Information'!$J184=\"\",\"\",IF('Entry Information'!X184=\"\",Z33,Z33-100))","v":""},"",{"$f":"IF($X33=\"\",\"\",(VLOOKUP($AB$41,Worksheet!$A$11:$AE$41,AB33+1,FALSE)))","v":""},{"$f":"IF('Entry Information'!$J184=\"\",\"\",'YOUTH RESULTS'!AD34)","v":""},{"$f":"IF('Entry Information'!$J184=\"\",\"\",IF('YOUTH RESULTS'!AE34=\"\",\"\",'YOUTH RESULTS'!AE34))","v":""},"",{"$f":"IF('Entry Information'!$J184=\"\",\"\",IF('Entry Information'!Z184=\"\",AF33,AF33-100))","v":""},"",{"$f":"IF($AD33=\"\",\"\",(VLOOKUP($AH$41,Worksheet!$A$11:$AE$41,AH33+1,FALSE)))","v":""}]
[{"$f":"IF('Entry Information'!J185=\"\",\"\",'Entry Information'!B185)","v":""},{"$f":"IF('Entry Information'!J185=\"\",\"\",'Entry Information'!C185)","v":""},{"$f":"IF('Entry Information'!J185=\"\",\"\",'Entry Information'!D185)","v":""},{"$f":"IF('Entry Information'!J185=\"\",\"\",'Entry Information'!E185)","v":""},"YOUTH",{"$f":"IF('Entry Information'!$J185=\"\",\"\",'YOUTH RESULTS'!F35)","v":""},{"$f":"IF('Entry Information'!$J185=\"\",\"\",IF('YOUTH RESULTS'!G35=\"\",\"\",'YOUTH RESULTS'!G35))","v":""},"",{"$f":"IF('Entry Information'!$J185=\"\",\"\",IF('Entry Information'!R185=\"\",H34,H34-100))","v":""},"",{"$f":"IF($F34=\"\",\"\",(VLOOKUP($J$41,Worksheet!$A$11:$AE$41,J34+1,FALSE)))","v":""},{"$f":"IF('Entry Information'!$J185=\"\",\"\",'YOUTH RESULTS'!L35)","v":""},{"$f":"IF('Entry Information'!$J185=\"\",\"\",IF('YOUTH RESULTS'!M35=\"\",\"\",'YOUTH RESULTS'!M35))","v":""},"",{"$f":"IF('Entry Information'!$J185=\"\",\"\",IF('Entry Information'!T185=\"\",N34,N34-100))","v":""},"",{"$f":"IF($L34=\"\",\"\",(VLOOKUP($P$41,Worksheet!$A$11:$AE$41,P34+1,FALSE)))","v":""},{"$f":"IF('Entry Information'!$J185=\"\",\"\",'YOUTH RESULTS'!R35)","v":""},{"$f":"IF('Entry Information'!$J185=\"\",\"\",IF('YOUTH RESULTS'!S35=\"\",\"\",'YOUTH RESULTS'!S35))","v":""},"",{"$f":"IF('Entry Information'!$J185=\"\",\"\",IF('Entry Information'!V185=\"\",T34,T34-100))","v":""},"",{"$f":"IF($R34=\"\",\"\",(VLOOKUP($V$41,Worksheet!$A$11:$AE$41,V34+1,FALSE)))","v":""},{"$f":"IF('Entry Information'!$J185=\"\",\"\",'YOUTH RESULTS'!X35)","v":""},{"$f":"IF('Entry Information'!$J185=\"\",\"\",IF('YOUTH RESULTS'!Y35=\"\",\"\",'YOUTH RESULTS'!Y35))","v":""},"",{"$f":"IF('Entry Information'!$J185=\"\",\"\",IF('Entry Information'!X185=\"\",Z34,Z34-100))","v":""},"",{"$f":"IF($X34=\"\",\"\",(VLOOKUP($AB$41,Worksheet!$A$11:$AE$41,AB34+1,FALSE)))","v":""},{"$f":"IF('Entry Information'!$J185=\"\",\"\",'YOUTH RESULTS'!AD35)","v":""},{"$f":"IF('Entry Information'!$J185=\"\",\"\",IF('YOUTH RESULTS'!AE35=\"\",\"\",'YOUTH RESULTS'!AE35))","v":""},"",{"$f":"IF('Entry Information'!$J185=\"\",\"\",IF('Entry Information'!Z185=\"\",AF34,AF34-100))","v":""},"",{"$f":"IF($AD34=\"\",\"\",(VLOOKUP($AH$41,Worksheet!$A$11:$AE$41,AH34+1,FALSE)))","v":""}]
[{"$f":"IF('Entry Information'!J186=\"\",\"\",'Entry Information'!B186)","v":""},{"$f":"IF('Entry Information'!J186=\"\",\"\",'Entry Information'!C186)","v":""},{"$f":"IF('Entry Information'!J186=\"\",\"\",'Entry Information'!D186)","v":""},{"$f":"IF('Entry Information'!J186=\"\",\"\",'Entry Information'!E186)","v":""},"YOUTH",{"$f":"IF('Entry Information'!$J186=\"\",\"\",'YOUTH RESULTS'!F36)","v":""},{"$f":"IF('Entry Information'!$J186=\"\",\"\",IF('YOUTH RESULTS'!G36=\"\",\"\",'YOUTH RESULTS'!G36))","v":""},"",{"$f":"IF('Entry Information'!$J186=\"\",\"\",IF('Entry Information'!R186=\"\",H35,H35-100))","v":""},"",{"$f":"IF($F35=\"\",\"\",(VLOOKUP($J$41,Worksheet!$A$11:$AE$41,J35+1,FALSE)))","v":""},{"$f":"IF('Entry Information'!$J186=\"\",\"\",'YOUTH RESULTS'!L36)","v":""},{"$f":"IF('Entry Information'!$J186=\"\",\"\",IF('YOUTH RESULTS'!M36=\"\",\"\",'YOUTH RESULTS'!M36))","v":""},"",{"$f":"IF('Entry Information'!$J186=\"\",\"\",IF('Entry Information'!T186=\"\",N35,N35-100))","v":""},"",{"$f":"IF($L35=\"\",\"\",(VLOOKUP($P$41,Worksheet!$A$11:$AE$41,P35+1,FALSE)))","v":""},{"$f":"IF('Entry Information'!$J186=\"\",\"\",'YOUTH RESULTS'!R36)","v":""},{"$f":"IF('Entry Information'!$J186=\"\",\"\",IF('YOUTH RESULTS'!S36=\"\",\"\",'YOUTH RESULTS'!S36))","v":""},"",{"$f":"IF('Entry Information'!$J186=\"\",\"\",IF('Entry Information'!V186=\"\",T35,T35-100))","v":""},"",{"$f":"IF($R35=\"\",\"\",(VLOOKUP($V$41,Worksheet!$A$11:$AE$41,V35+1,FALSE)))","v":""},{"$f":"IF('Entry Information'!$J186=\"\",\"\",'YOUTH RESULTS'!X36)","v":""},{"$f":"IF('Entry Information'!$J186=\"\",\"\",IF('YOUTH RESULTS'!Y36=\"\",\"\",'YOUTH RESULTS'!Y36))","v":""},"",{"$f":"IF('Entry Information'!$J186=\"\",\"\",IF('Entry Information'!X186=\"\",Z35,Z35-100))","v":""},"",{"$f":"IF($X35=\"\",\"\",(VLOOKUP($AB$41,Worksheet!$A$11:$AE$41,AB35+1,FALSE)))","v":""},{"$f":"IF('Entry Information'!$J186=\"\",\"\",'YOUTH RESULTS'!AD36)","v":""},{"$f":"IF('Entry Information'!$J186=\"\",\"\",IF('YOUTH RESULTS'!AE36=\"\",\"\",'YOUTH RESULTS'!AE36))","v":""},"",{"$f":"IF('Entry Information'!$J186=\"\",\"\",IF('Entry Information'!Z186=\"\",AF35,AF35-100))","v":""},"",{"$f":"IF($AD35=\"\",\"\",(VLOOKUP($AH$41,Worksheet!$A$11:$AE$41,AH35+1,FALSE)))","v":""}]
[{"$f":"IF('Entry Information'!J187=\"\",\"\",'Entry Information'!B187)","v":""},{"$f":"IF('Entry Information'!J187=\"\",\"\",'Entry Information'!C187)","v":""},{"$f":"IF('Entry Information'!J187=\"\",\"\",'Entry Information'!D187)","v":""},{"$f":"IF('Entry Information'!J187=\"\",\"\",'Entry Information'!E187)","v":""},"YOUTH",{"$f":"IF('Entry Information'!$J187=\"\",\"\",'YOUTH RESULTS'!F37)","v":""},{"$f":"IF('Entry Information'!$J187=\"\",\"\",IF('YOUTH RESULTS'!G37=\"\",\"\",'YOUTH RESULTS'!G37))","v":""},"",{"$f":"IF('Entry Information'!$J187=\"\",\"\",IF('Entry Information'!R187=\"\",H36,H36-100))","v":""},"",{"$f":"IF($F36=\"\",\"\",(VLOOKUP($J$41,Worksheet!$A$11:$AE$41,J36+1,FALSE)))","v":""},{"$f":"IF('Entry Information'!$J187=\"\",\"\",'YOUTH RESULTS'!L37)","v":""},{"$f":"IF('Entry Information'!$J187=\"\",\"\",IF('YOUTH RESULTS'!M37=\"\",\"\",'YOUTH RESULTS'!M37))","v":""},"",{"$f":"IF('Entry Information'!$J187=\"\",\"\",IF('Entry Information'!T187=\"\",N36,N36-100))","v":""},"",{"$f":"IF($L36=\"\",\"\",(VLOOKUP($P$41,Worksheet!$A$11:$AE$41,P36+1,FALSE)))","v":""},{"$f":"IF('Entry Information'!$J187=\"\",\"\",'YOUTH RESULTS'!R37)","v":""},{"$f":"IF('Entry Information'!$J187=\"\",\"\",IF('YOUTH RESULTS'!S37=\"\",\"\",'YOUTH RESULTS'!S37))","v":""},"",{"$f":"IF('Entry Information'!$J187=\"\",\"\",IF('Entry Information'!V187=\"\",T36,T36-100))","v":""},"",{"$f":"IF($R36=\"\",\"\",(VLOOKUP($V$41,Worksheet!$A$11:$AE$41,V36+1,FALSE)))","v":""},{"$f":"IF('Entry Information'!$J187=\"\",\"\",'YOUTH RESULTS'!X37)","v":""},{"$f":"IF('Entry Information'!$J187=\"\",\"\",IF('YOUTH RESULTS'!Y37=\"\",\"\",'YOUTH RESULTS'!Y37))","v":""},"",{"$f":"IF('Entry Information'!$J187=\"\",\"\",IF('Entry Information'!X187=\"\",Z36,Z36-100))","v":""},"",{"$f":"IF($X36=\"\",\"\",(VLOOKUP($AB$41,Worksheet!$A$11:$AE$41,AB36+1,FALSE)))","v":""},{"$f":"IF('Entry Information'!$J187=\"\",\"\",'YOUTH RESULTS'!AD37)","v":""},{"$f":"IF('Entry Information'!$J187=\"\",\"\",IF('YOUTH RESULTS'!AE37=\"\",\"\",'YOUTH RESULTS'!AE37))","v":""},"",{"$f":"IF('Entry Information'!$J187=\"\",\"\",IF('Entry Information'!Z187=\"\",AF36,AF36-100))","v":""},"",{"$f":"IF($AD36=\"\",\"\",(VLOOKUP($AH$41,Worksheet!$A$11:$AE$41,AH36+1,FALSE)))","v":""}]
[{"$f":"IF('Entry Information'!J188=\"\",\"\",'Entry Information'!B188)","v":""},{"$f":"IF('Entry Information'!J188=\"\",\"\",'Entry Information'!C188)","v":""},{"$f":"IF('Entry Information'!J188=\"\",\"\",'Entry Information'!D188)","v":""},{"$f":"IF('Entry Information'!J188=\"\",\"\",'Entry Information'!E188)","v":""},"YOUTH",{"$f":"IF('Entry Information'!$J188=\"\",\"\",'YOUTH RESULTS'!F38)","v":""},{"$f":"IF('Entry Information'!$J188=\"\",\"\",IF('YOUTH RESULTS'!G38=\"\",\"\",'YOUTH RESULTS'!G38))","v":""},"",{"$f":"IF('Entry Information'!$J188=\"\",\"\",IF('Entry Information'!R188=\"\",H37,H37-100))","v":""},"",{"$f":"IF($F37=\"\",\"\",(VLOOKUP($J$41,Worksheet!$A$11:$AE$41,J37+1,FALSE)))","v":""},{"$f":"IF('Entry Information'!$J188=\"\",\"\",'YOUTH RESULTS'!L38)","v":""},{"$f":"IF('Entry Information'!$J188=\"\",\"\",IF('YOUTH RESULTS'!M38=\"\",\"\",'YOUTH RESULTS'!M38))","v":""},"",{"$f":"IF('Entry Information'!$J188=\"\",\"\",IF('Entry Information'!T188=\"\",N37,N37-100))","v":""},"",{"$f":"IF($L37=\"\",\"\",(VLOOKUP($P$41,Worksheet!$A$11:$AE$41,P37+1,FALSE)))","v":""},{"$f":"IF('Entry Information'!$J188=\"\",\"\",'YOUTH RESULTS'!R38)","v":""},{"$f":"IF('Entry Information'!$J188=\"\",\"\",IF('YOUTH RESULTS'!S38=\"\",\"\",'YOUTH RESULTS'!S38))","v":""},"",{"$f":"IF('Entry Information'!$J188=\"\",\"\",IF('Entry Information'!V188=\"\",T37,T37-100))","v":""},"",{"$f":"IF($R37=\"\",\"\",(VLOOKUP($V$41,Worksheet!$A$11:$AE$41,V37+1,FALSE)))","v":""},{"$f":"IF('Entry Information'!$J188=\"\",\"\",'YOUTH RESULTS'!X38)","v":""},{"$f":"IF('Entry Information'!$J188=\"\",\"\",IF('YOUTH RESULTS'!Y38=\"\",\"\",'YOUTH RESULTS'!Y38))","v":""},"",{"$f":"IF('Entry Information'!$J188=\"\",\"\",IF('Entry Information'!X188=\"\",Z37,Z37-100))","v":""},"",{"$f":"IF($X37=\"\",\"\",(VLOOKUP($AB$41,Worksheet!$A$11:$AE$41,AB37+1,FALSE)))","v":""},{"$f":"IF('Entry Information'!$J188=\"\",\"\",'YOUTH RESULTS'!AD38)","v":""},{"$f":"IF('Entry Information'!$J188=\"\",\"\",IF('YOUTH RESULTS'!AE38=\"\",\"\",'YOUTH RESULTS'!AE38))","v":""},"",{"$f":"IF('Entry Information'!$J188=\"\",\"\",IF('Entry Information'!Z188=\"\",AF37,AF37-100))","v":""},"",{"$f":"IF($AD37=\"\",\"\",(VLOOKUP($AH$41,Worksheet!$A$11:$AE$41,AH37+1,FALSE)))","v":""}]
[{"$f":"IF('Entry Information'!J189=\"\",\"\",'Entry Information'!B189)","v":""},{"$f":"IF('Entry Information'!J189=\"\",\"\",'Entry Information'!C189)","v":""},{"$f":"IF('Entry Information'!J189=\"\",\"\",'Entry Information'!D189)","v":""},{"$f":"IF('Entry Information'!J189=\"\",\"\",'Entry Information'!E189)","v":""},"YOUTH",{"$f":"IF('Entry Information'!$J189=\"\",\"\",'YOUTH RESULTS'!F39)","v":""},{"$f":"IF('Entry Information'!$J189=\"\",\"\",IF('YOUTH RESULTS'!G39=\"\",\"\",'YOUTH RESULTS'!G39))","v":""},"",{"$f":"IF('Entry Information'!$J189=\"\",\"\",IF('Entry Information'!R189=\"\",H38,H38-100))","v":""},"",{"$f":"IF($F38=\"\",\"\",(VLOOKUP($J$41,Worksheet!$A$11:$AE$41,J38+1,FALSE)))","v":""},{"$f":"IF('Entry Information'!$J189=\"\",\"\",'YOUTH RESULTS'!L39)","v":""},{"$f":"IF('Entry Information'!$J189=\"\",\"\",IF('YOUTH RESULTS'!M39=\"\",\"\",'YOUTH RESULTS'!M39))","v":""},"",{"$f":"IF('Entry Information'!$J189=\"\",\"\",IF('Entry Information'!T189=\"\",N38,N38-100))","v":""},"",{"$f":"IF($L38=\"\",\"\",(VLOOKUP($P$41,Worksheet!$A$11:$AE$41,P38+1,FALSE)))","v":""},{"$f":"IF('Entry Information'!$J189=\"\",\"\",'YOUTH RESULTS'!R39)","v":""},{"$f":"IF('Entry Information'!$J189=\"\",\"\",IF('YOUTH RESULTS'!S39=\"\",\"\",'YOUTH RESULTS'!S39))","v":""},"",{"$f":"IF('Entry Information'!$J189=\"\",\"\",IF('Entry Information'!V189=\"\",T38,T38-100))","v":""},"",{"$f":"IF($R38=\"\",\"\",(VLOOKUP($V$41,Worksheet!$A$11:$AE$41,V38+1,FALSE)))","v":""},{"$f":"IF('Entry Information'!$J189=\"\",\"\",'YOUTH RESULTS'!X39)","v":""},{"$f":"IF('Entry Information'!$J189=\"\",\"\",IF('YOUTH RESULTS'!Y39=\"\",\"\",'YOUTH RESULTS'!Y39))","v":""},"",{"$f":"IF('Entry Information'!$J189=\"\",\"\",IF('Entry Information'!X189=\"\",Z38,Z38-100))","v":""},"",{"$f":"IF($X38=\"\",\"\",(VLOOKUP($AB$41,Worksheet!$A$11:$AE$41,AB38+1,FALSE)))","v":""},{"$f":"IF('Entry Information'!$J189=\"\",\"\",'YOUTH RESULTS'!AD39)","v":""},{"$f":"IF('Entry Information'!$J189=\"\",\"\",IF('YOUTH RESULTS'!AE39=\"\",\"\",'YOUTH RESULTS'!AE39))","v":""},"",{"$f":"IF('Entry Information'!$J189=\"\",\"\",IF('Entry Information'!Z189=\"\",AF38,AF38-100))","v":""},"",{"$f":"IF($AD38=\"\",\"\",(VLOOKUP($AH$41,Worksheet!$A$11:$AE$41,AH38+1,FALSE)))","v":""}]
[{"$f":"IF('Entry Information'!J190=\"\",\"\",'Entry Information'!B190)","v":""},{"$f":"IF('Entry Information'!J190=\"\",\"\",'Entry Information'!C190)","v":""},{"$f":"IF('Entry Information'!J190=\"\",\"\",'Entry Information'!D190)","v":""},{"$f":"IF('Entry Information'!J190=\"\",\"\",'Entry Information'!E190)","v":""},"YOUTH",{"$f":"IF('Entry Information'!$J190=\"\",\"\",'YOUTH RESULTS'!F40)","v":""},{"$f":"IF('Entry Information'!$J190=\"\",\"\",IF('YOUTH RESULTS'!G40=\"\",\"\",'YOUTH RESULTS'!G40))","v":""},"",{"$f":"IF('Entry Information'!$J190=\"\",\"\",IF('Entry Information'!R190=\"\",H39,H39-100))","v":""},"",{"$f":"IF($F39=\"\",\"\",(VLOOKUP($J$41,Worksheet!$A$11:$AE$41,J39+1,FALSE)))","v":""},{"$f":"IF('Entry Information'!$J190=\"\",\"\",'YOUTH RESULTS'!L40)","v":""},{"$f":"IF('Entry Information'!$J190=\"\",\"\",IF('YOUTH RESULTS'!M40=\"\",\"\",'YOUTH RESULTS'!M40))","v":""},"",{"$f":"IF('Entry Information'!$J190=\"\",\"\",IF('Entry Information'!T190=\"\",N39,N39-100))","v":""},"",{"$f":"IF($L39=\"\",\"\",(VLOOKUP($P$41,Worksheet!$A$11:$AE$41,P39+1,FALSE)))","v":""},{"$f":"IF('Entry Information'!$J190=\"\",\"\",'YOUTH RESULTS'!R40)","v":""},{"$f":"IF('Entry Information'!$J190=\"\",\"\",IF('YOUTH RESULTS'!S40=\"\",\"\",'YOUTH RESULTS'!S40))","v":""},"",{"$f":"IF('Entry Information'!$J190=\"\",\"\",IF('Entry Information'!V190=\"\",T39,T39-100))","v":""},"",{"$f":"IF($R39=\"\",\"\",(VLOOKUP($V$41,Worksheet!$A$11:$AE$41,V39+1,FALSE)))","v":""},{"$f":"IF('Entry Information'!$J190=\"\",\"\",'YOUTH RESULTS'!X40)","v":""},{"$f":"IF('Entry Information'!$J190=\"\",\"\",IF('YOUTH RESULTS'!Y40=\"\",\"\",'YOUTH RESULTS'!Y40))","v":""},"",{"$f":"IF('Entry Information'!$J190=\"\",\"\",IF('Entry Information'!X190=\"\",Z39,Z39-100))","v":""},"",{"$f":"IF($X39=\"\",\"\",(VLOOKUP($AB$41,Worksheet!$A$11:$AE$41,AB39+1,FALSE)))","v":""},{"$f":"IF('Entry Information'!$J190=\"\",\"\",'YOUTH RESULTS'!AD40)","v":""},{"$f":"IF('Entry Information'!$J190=\"\",\"\",IF('YOUTH RESULTS'!AE40=\"\",\"\",'YOUTH RESULTS'!AE40))","v":""},"",{"$f":"IF('Entry Information'!$J190=\"\",\"\",IF('Entry Information'!Z190=\"\",AF39,AF39-100))","v":""},"",{"$f":"IF($AD39=\"\",\"\",(VLOOKUP($AH$41,Worksheet!$A$11:$AE$41,AH39+1,FALSE)))","v":""}]
[]
[null,null,null,null,null,null,null,null,null,{"$f":"COUNTIF(J10:J24,\">=0\")","v":0},null,null,null,null,null,{"$f":"COUNTIF(P10:P24,\">=0\")","v":0},null,null,null,null,null,{"$f":"COUNTIF(V10:V24,\">=0\")","v":0},null,null,null,null,null,{"$f":"COUNTIF(AB10:AB24,\">=0\")","v":0},null,null,null,null,null,{"$f":"COUNTIF(AH10:AH24,\">=0\")","v":0}]
[null,null,null,null,null,"1 - Total Penalty Points",null,null,null,null,null,"1 - Total Penalty Points",null,null,null,null,null,"1 - Total Penalty Points",null,null,null,null,null,"1 - Total Penalty Points",null,null,null,null,null,"1 - Total Penalty Points"]
[null,null,null,null,null,"2 - Extended Trot",null,null,null,null,null,"2 - Drag Log",null,null,null,null,null,"2 - Penning",null,null,null,null,null,"2 - Box Cow",null,null,null,null,null,"2 - Box Cow"]
[null,null,null,null,null,"3 - Transition down lope/walk/stop",null,null,null,null,null,"3 - Ground tie/bridle/pick-up legs",null,null,null,null,null,"3 - Working Center of arena",null,null,null,null,null,"3 -First Lead Change",null,null,null,null,null,"3 -First Lead Change"]
[null,null,null,null,null,"4 - Transition to lope/lope",null,null,null,null,null,"4 - Gate",null,null,null,null,null,"4 - Cut from Herd",null,null,null,null,null,"4 -Spin",null,null,null,null,null,"4 -Spin"]
[]
[]
["Scores in RED are ties - enter a 1 in the Tie Breaker Column of the winner to break tie.  If multiple ties enter a 1 for the second place and a 2 for winner."]
[]
[]
["Places highlighted have a major penatly."]

{"sheet":"YOUTH JR HORSE RESULTS","index":25,"n_rows":51,"n_cols":35,"rows_kept":51,"cut":false,"hidden":true,"merged":[[2,4,2,5],[2,9,2,11],[2,18,2,22],[2,23,2,28],[4,29,4,34],[2,29,2,34],[4,23,4,28],[6,23,8,23],[6,28,8,28],[6,31,8,31],[6,32,8,32],[6,33,8,33],[6,30,8,30],[6,29,8,29],[6,34,8,34],[1,0,1,2],[1,4,1,5],[1,9,1,16],[1,18,1,22],[1,23,1,28],[1,29,1,34],[2,1,2,2],[6,6,8,6],[6,7,8,7],[4,5,4,10],[4,11,4,16],[4,17,4,22],[6,22,8,22],[6,10,8,10],[6,11,8,11],[5,11,5,16],[5,17,5,22],[6,17,8,17],[6,13,8,13],[6,14,8,14],[6,15,8,15],[6,16,8,16],[5,23,5,28],[5,29,5,34],[47,0,48,4],[6,24,8,24],[6,25,8,25],[6,26,8,26],[6,27,8,27],[6,5,8,5],[6,8,8,8],[6,9,8,9],[6,12,8,12],[6,18,8,18],[6,19,8,19],[6,20,8,20],[6,21,8,21],[5,5,5,10]]}
[]
[null,null,null,null,"Event Name:",null,null,null,null,{"$f":"'Entry Information'!C4","v":"Ranch Horse Challenge"},null,null,null,null,null,null,null,null,"Judge #1 Name/Classes:",null,null,null,null,{"$f":"'Entry Information'!F4","v":"Mike Lund"}]
["Division:","YOUTH",null,null,"Event Date:",null,null,null,null,{"$f":"'Entry Information'!C5","v":"2018-03-25"},null,null,null,null,null,null,null,null,"Judge #2 Name/Classes:",null,null,null,null,{"$f":"'Entry Information'!F5","v":"Karen Arlin"}]
[]
[null,null,null,null,null,"RANCH",null,null,null,null,null,"RANCH",null,null,null,null,null,"RANCH",null,null,null,null,null,"RANCH",null,null,null,null,null,"RANCH"]
[null,null,null,null,null,"RIDING",null,null,null,null,null,"TRAIL",null,null,null,null,null,"CUTING",null,null,null,null,null,"REINED WORK",null,null,null,null,null,"COW WORK"]
[null,null,null,null,null,"Score","Tie Breaker","Adjusted Score for Ties","Adjusted Score Major Penalty","Place","Placement Points","Score","Tie Breaker","Adjusted Score for Ties","Adjusted Score Major Penalty","Place","Placement Points","Score","Tie Breaker","Adjusted Score for Ties","Adjusted Score Major Penalty","Place","Placement Points","Score","Tie Breaker","Adjusted Score for Ties","Adjusted Score Major Penalty","Place","Placement Points","Score","Tie Breaker","Adjusted Score for Ties","Adjusted Score Major Penalty","Place","Placement Points"]
[]
["Back No.","Last Name","First Name","Registered Horse Name","Division"]
[{"$f":"IF('Entry Information'!I161=\"\",\"\",'Entry Information'!B161)","v":""},{"$f":"IF('Entry Information'!I161=\"\",\"\",'Entry Information'!C161)","v":""},{"$f":"IF('Entry Information'!I161=\"\",\"\",'Entry Information'!D161)","v":""},{"$f":"IF('Entry Information'!I161=\"\",\"\",'Entry Information'!E161)","v":""},"YOUTH",{"$f":"IF('Entry Information'!$I161=\"\",\"\",'YOUTH RESULTS'!F11)","v":""},{"$f":"IF('Entry Information'!$I161=\"\",\"\",IF('YOUTH RESULTS'!G11=\"\",\"\",'YOUTH RESULTS'!G11))","v":""},{"$f":"IF(G10=\"\",F10,(F10+(G10*0.001)))","v":""},{"$f":"IF('Entry Information'!$I161=\"\",\"\",IF('Entry Information'!R161=\"\",H10,H10-100))","v":""},{"$f":"IF(I10=\"\",\"\",(RANK(I10,$I$10:$I$39,0)))","v":""},{"$f":"IF($F10=\"\",\"\",(VLOOKUP($J$41,Worksheet!$A$11:$AE$41,J10+1,FALSE)))","v":""},{"$f":"IF('Entry Information'!$I161=\"\",\"\",'YOUTH RESULTS'!L11)","v":""},{"$f":"IF('Entry Information'!$I161=\"\",\"\",IF('YOUTH RESULTS'!M11=\"\",\"\",'YOUTH RESULTS'!M11))","v":""},{"$f":"IF(M10=\"\",L10,(L10+(M10*0.001)))","v":""},{"$f":"IF('Entry Information'!$I161=\"\",\"\",IF('Entry Information'!T161=\"\",N10,N10-100))","v":""},{"$f":"IF(O10=\"\",\"\",(RANK(O10,$O$10:$O$39,0)))","v":""},{"$f":"IF($L10=\"\",\"\",(VLOOKUP($P$41,Worksheet!$A$11:$AE$41,P10+1,FALSE)))","v":""},{"$f":"IF('Entry Information'!$I161=\"\",\"\",'YOUTH RESULTS'!R11)","v":""},{"$f":"IF('Entry Information'!$I161=\"\",\"\",IF('YOUTH RESULTS'!S11=\"\",\"\",'YOUTH RESULTS'!S11))","v":""},{"$f":"IF(S10=\"\",R10,(R10+(S10*0.001)))","v":""},{"$f":"IF('Entry Information'!$I161=\"\",\"\",IF('Entry Information'!V161=\"\",T10,T10-100))","v":""},{"$f":"IF(U10=\"\",\"\",(RANK(U10,$U$10:$U$39,0)))","v":""},{"$f":"IF($R10=\"\",\"\",(VLOOKUP($V$41,Worksheet!$A$11:$AE$41,V10+1,FALSE)))","v":""},{"$f":"IF('Entry Information'!$I161=\"\",\"\",'YOUTH RESULTS'!X11)","v":""},{"$f":"IF('Entry Information'!$I161=\"\",\"\",IF('YOUTH RESULTS'!Y11=\"\",\"\",'YOUTH RESULTS'!Y11))","v":""},{"$f":"IF(Y10=\"\",X10,(X10+(Y10*0.001)))","v":""},{"$f":"IF('Entry Information'!$I161=\"\",\"\",IF('Entry Information'!X161=\"\",Z10,Z10-100))","v":""},{"$f":"IF(AA10=\"\",\"\",(RANK(AA10,$AA$10:$AA$39,0)))","v":""},{"$f":"IF($X10=\"\",\"\",(VLOOKUP($AB$41,Worksheet!$A$11:$AE$41,AB10+1,FALSE)))","v":""},{"$f":"IF('Entry Information'!$I161=\"\",\"\",'YOUTH RESULTS'!AD11)","v":""},{"$f":"IF('Entry Information'!$I161=\"\",\"\",IF('YOUTH RESULTS'!AE11=\"\",\"\",'YOUTH RESULTS'!AE11))","v":""},{"$f":"IF(AE10=\"\",AD10,(AD10+(AE10*0.001)))","v":""},{"$f":"IF('Entry Information'!$I161=\"\",\"\",IF('Entry Information'!Z161=\"\",AF10,AF10-100))","v":""},{"$f":"IF(AG10=\"\",\"\",(RANK(AG10,$AG$10:$AG$39,0)))","v":""},{"$f":"IF($AD10=\"\",\"\",(VLOOKUP($AH$41,Worksheet!$A$11:$AE$41,AH10+1,FALSE)))","v":""}]
[{"$f":"IF('Entry Information'!I162=\"\",\"\",'Entry Information'!B162)","v":""},{"$f":"IF('Entry Information'!I162=\"\",\"\",'Entry Information'!C162)","v":""},{"$f":"IF('Entry Information'!I162=\"\",\"\",'Entry Information'!D162)","v":""},{"$f":"IF('Entry Information'!I162=\"\",\"\",'Entry Information'!E162)","v":""},"YOUTH",{"$f":"IF('Entry Information'!$I162=\"\",\"\",'YOUTH RESULTS'!F12)","v":""},{"$f":"IF('Entry Information'!$I162=\"\",\"\",IF('YOUTH RESULTS'!G12=\"\",\"\",'YOUTH RESULTS'!G12))","v":""},{"$f":"IF(G11=\"\",F11,(F11+(G11*0.001)))","v":""},{"$f":"IF('Entry Information'!$I162=\"\",\"\",IF('Entry Information'!R162=\"\",H11,H11-100))","v":""},{"$f":"IF(I11=\"\",\"\",(RANK(I11,$I$10:$I$39,0)))","v":""},{"$f":"IF($F11=\"\",\"\",(VLOOKUP($J$41,Worksheet!$A$11:$AE$41,J11+1,FALSE)))","v":""},{"$f":"IF('Entry Information'!$I162=\"\",\"\",'YOUTH RESULTS'!L12)","v":""},{"$f":"IF('Entry Information'!$I162=\"\",\"\",IF('YOUTH RESULTS'!M12=\"\",\"\",'YOUTH RESULTS'!M12))","v":""},"",{"$f":"IF('Entry Information'!$I162=\"\",\"\",IF('Entry Information'!T162=\"\",N11,N11-100))","v":""},{"$f":"IF(O11=\"\",\"\",(RANK(O11,$O$10:$O$39,0)))","v":""},{"$f":"IF($L11=\"\",\"\",(VLOOKUP($P$41,Worksheet!$A$11:$AE$41,P11+1,FALSE)))","v":""},{"$f":"IF('Entry Information'!$I162=\"\",\"\",'YOUTH RESULTS'!R12)","v":""},{"$f":"IF('Entry Information'!$I162=\"\",\"\",IF('YOUTH RESULTS'!S12=\"\",\"\",'YOUTH RESULTS'!S12))","v":""},"",{"$f":"IF('Entry Information'!$I162=\"\",\"\",IF('Entry Information'!V162=\"\",T11,T11-100))","v":""},{"$f":"IF(U11=\"\",\"\",(RANK(U11,$U$10:$U$39,0)))","v":""},{"$f":"IF($R11=\"\",\"\",(VLOOKUP($V$41,Worksheet!$A$11:$AE$41,V11+1,FALSE)))","v":""},{"$f":"IF('Entry Information'!$I162=\"\",\"\",'YOUTH RESULTS'!X12)","v":""},{"$f":"IF('Entry Information'!$I162=\"\",\"\",IF('YOUTH RESULTS'!Y12=\"\",\"\",'YOUTH RESULTS'!Y12))","v":""},{"$f":"IF(Y11=\"\",X11,(X11+(Y11*0.001)))","v":""},{"$f":"IF('Entry Information'!$I162=\"\",\"\",IF('Entry Information'!X162=\"\",Z11,Z11-100))","v":""},{"$f":"IF(AA11=\"\",\"\",(RANK(AA11,$AA$10:$AA$39,0)))","v":""},{"$f":"IF($X11=\"\",\"\",(VLOOKUP($AB$41,Worksheet!$A$11:$AE$41,AB11+1,FALSE)))","v":""},{"$f":"IF('Entry Information'!$I162=\"\",\"\",'YOUTH RESULTS'!AD12)","v":""},{"$f":"IF('Entry Information'!$I162=\"\",\"\",IF('YOUTH RESULTS'!AE12=\"\",\"\",'YOUTH RESULTS'!AE12))","v":""},{"$f":"IF(AE11=\"\",AD11,(AD11+(AE11*0.001)))","v":""},{"$f":"IF('Entry Information'!$I162=\"\",\"\",IF('Entry Information'!Z162=\"\",AF11,AF11-100))","v":""},{"$f":"IF(AG11=\"\",\"\",(RANK(AG11,$AG$10:$AG$39,0)))","v":""},{"$f":"IF($AD11=\"\",\"\",(VLOOKUP($AH$41,Worksheet!$A$11:$AE$41,AH11+1,FALSE)))","v":""}]
[{"$f":"IF('Entry Information'!I163=\"\",\"\",'Entry Information'!B163)","v":""},{"$f":"IF('Entry Information'!I163=\"\",\"\",'Entry Information'!C163)","v":""},{"$f":"IF('Entry Information'!I163=\"\",\"\",'Entry Information'!D163)","v":""},{"$f":"IF('Entry Information'!I163=\"\",\"\",'Entry Information'!E163)","v":""},"YOUTH",{"$f":"IF('Entry Information'!$I163=\"\",\"\",'YOUTH RESULTS'!F13)","v":""},{"$f":"IF('Entry Information'!$I163=\"\",\"\",IF('YOUTH RESULTS'!G13=\"\",\"\",'YOUTH RESULTS'!G13))","v":""},"",{"$f":"IF('Entry Information'!$I163=\"\",\"\",IF('Entry Information'!R163=\"\",H12,H12-100))","v":""},"",{"$f":"IF($F12=\"\",\"\",(VLOOKUP($J$41,Worksheet!$A$11:$AE$41,J12+1,FALSE)))","v":""},{"$f":"IF('Entry Information'!$I163=\"\",\"\",'YOUTH RESULTS'!L13)","v":""},{"$f":"IF('Entry Information'!$I163=\"\",\"\",IF('YOUTH RESULTS'!M13=\"\",\"\",'YOUTH RESULTS'!M13))","v":""},"",{"$f":"IF('Entry Information'!$I163=\"\",\"\",IF('Entry Information'!T163=\"\",N12,N12-100))","v":""},"",{"$f":"IF($L12=\"\",\"\",(VLOOKUP($P$41,Worksheet!$A$11:$AE$41,P12+1,FALSE)))","v":""},{"$f":"IF('Entry Information'!$I163=\"\",\"\",'YOUTH RESULTS'!R13)","v":""},{"$f":"IF('Entry Information'!$I163=\"\",\"\",IF('YOUTH RESULTS'!S13=\"\",\"\",'YOUTH RESULTS'!S13))","v":""},"",{"$f":"IF('Entry Information'!$I163=\"\",\"\",IF('Entry Information'!V163=\"\",T12,T12-100))","v":""},"",{"$f":"IF($R12=\"\",\"\",(VLOOKUP($V$41,Worksheet!$A$11:$AE$41,V12+1,FALSE)))","v":""},{"$f":"IF('Entry Information'!$I163=\"\",\"\",'YOUTH RESULTS'!X13)","v":""},{"$f":"IF('Entry Information'!$I163=\"\",\"\",IF('YOUTH RESULTS'!Y13=\"\",\"\",'YOUTH RESULTS'!Y13))","v":""},"",{"$f":"IF('Entry Information'!$I163=\"\",\"\",IF('Entry Information'!X163=\"\",Z12,Z12-100))","v":""},"",{"$f":"IF($X12=\"\",\"\",(VLOOKUP($AB$41,Worksheet!$A$11:$AE$41,AB12+1,FALSE)))","v":""},{"$f":"IF('Entry Information'!$I163=\"\",\"\",'YOUTH RESULTS'!AD13)","v":""},{"$f":"IF('Entry Information'!$I163=\"\",\"\",IF('YOUTH RESULTS'!AE13=\"\",\"\",'YOUTH RESULTS'!AE13))","v":""},"",{"$f":"IF('Entry Information'!$I163=\"\",\"\",IF('Entry Information'!Z163=\"\",AF12,AF12-100))","v":""},"",{"$f":"IF($AD12=\"\",\"\",(VLOOKUP($AH$41,Worksheet!$A$11:$AE$41,AH12+1,FALSE)))","v":""}]
[{"$f":"IF('Entry Information'!I164=\"\",\"\",'Entry Information'!B164)","v":""},{"$f":"IF('Entry Information'!I164=\"\",\"\",'Entry Information'!C164)","v":""},{"$f":"IF('Entry Information'!I164=\"\",\"\",'Entry Information'!D164)","v":""},{"$f":"IF('Entry Information'!I164=\"\",\"\",'Entry Information'!E164)","v":""},"YOUTH",{"$f":"IF('Entry Information'!$I164=\"\",\"\",'YOUTH RESULTS'!F14)","v":""},{"$f":"IF('Entry Information'!$I164=\"\",\"\",IF('YOUTH RESULTS'!G14=\"\",\"\",'YOUTH RESULTS'!G14))","v":""},"",{"$f":"IF('Entry Information'!$I164=\"\",\"\",IF('Entry Information'!R164=\"\",H13,H13-100))","v":""},"",{"$f":"IF($F13=\"\",\"\",(VLOOKUP($J$41,Worksheet!$A$11:$AE$41,J13+1,FALSE)))","v":""},{"$f":"IF('Entry Information'!$I164=\"\",\"\",'YOUTH RESULTS'!L14)","v":""},{"$f":"IF('Entry Information'!$I164=\"\",\"\",IF('YOUTH RESULTS'!M14=\"\",\"\",'YOUTH RESULTS'!M14))","v":""},"",{"$f":"IF('Entry Information'!$I164=\"\",\"\",IF('Entry Information'!T164=\"\",N13,N13-100))","v":""},"",{"$f":"IF($L13=\"\",\"\",(VLOOKUP($P$41,Worksheet!$A$11:$AE$41,P13+1,FALSE)))","v":""},{"$f":"IF('Entry Information'!$I164=\"\",\"\",'YOUTH RESULTS'!R14)","v":""},{"$f":"IF('Entry Information'!$I164=\"\",\"\",IF('YOUTH RESULTS'!S14=\"\",\"\",'YOUTH RESULTS'!S14))","v":""},"",{"$f":"IF('Entry Information'!$I164=\"\",\"\",IF('Entry Information'!V164=\"\",T13,T13-100))","v":""},"",{"$f":"IF($R13=\"\",\"\",(VLOOKUP($V$41,Worksheet!$A$11:$AE$41,V13+1,FALSE)))","v":""},{"$f":"IF('Entry Information'!$I164=\"\",\"\",'YOUTH RESULTS'!X14)","v":""},{"$f":"IF('Entry Information'!$I164=\"\",\"\",IF('YOUTH RESULTS'!Y14=\"\",\"\",'YOUTH RESULTS'!Y14))","v":""},"",{"$f":"IF('Entry Information'!$I164=\"\",\"\",IF('Entry Information'!X164=\"\",Z13,Z13-100))","v":""},"",{"$f":"IF($X13=\"\",\"\",(VLOOKUP($AB$41,Worksheet!$A$11:$AE$41,AB13+1,FALSE)))","v":""},{"$f":"IF('Entry Information'!$I164=\"\",\"\",'YOUTH RESULTS'!AD14)","v":""},{"$f":"IF('Entry Information'!$I164=\"\",\"\",IF('YOUTH RESULTS'!AE14=\"\",\"\",'YOUTH RESULTS'!AE14))","v":""},"",{"$f":"IF('Entry Information'!$I164=\"\",\"\",IF('Entry Information'!Z164=\"\",AF13,AF13-100))","v":""},"",{"$f":"IF($AD13=\"\",\"\",(VLOOKUP($AH$41,Worksheet!$A$11:$AE$41,AH13+1,FALSE)))","v":""}]
[{"$f":"IF('Entry Information'!I165=\"\",\"\",'Entry Information'!B165)","v":""},{"$f":"IF('Entry Information'!I165=\"\",\"\",'Entry Information'!C165)","v":""},{"$f":"IF('Entry Information'!I165=\"\",\"\",'Entry Information'!D165)","v":""},{"$f":"IF('Entry Information'!I165=\"\",\"\",'Entry Information'!E165)","v":""},"YOUTH",{"$f":"IF('Entry Information'!$I165=\"\",\"\",'YOUTH RESULTS'!F15)","v":""},{"$f":"IF('Entry Information'!$I165=\"\",\"\",IF('YOUTH RESULTS'!G15=\"\",\"\",'YOUTH RESULTS'!G15))","v":""},"",{"$f":"IF('Entry Information'!$I165=\"\",\"\",IF('Entry Information'!R165=\"\",H14,H14-100))","v":""},"",{"$f":"IF($F14=\"\",\"\",(VLOOKUP($J$41,Worksheet!$A$11:$AE$41,J14+1,FALSE)))","v":""},{"$f":"IF('Entry Information'!$I165=\"\",\"\",'YOUTH RESULTS'!L15)","v":""},{"$f":"IF('Entry Information'!$I165=\"\",\"\",IF('YOUTH RESULTS'!M15=\"\",\"\",'YOUTH RESULTS'!M15))","v":""},"",{"$f":"IF('Entry Information'!$I165=\"\",\"\",IF('Entry Information'!T165=\"\",N14,N14-100))","v":""},"",{"$f":"IF($L14=\"\",\"\",(VLOOKUP($P$41,Worksheet!$A$11:$AE$41,P14+1,FALSE)))","v":""},{"$f":"IF('Entry Information'!$I165=\"\",\"\",'YOUTH RESULTS'!R15)","v":""},{"$f":"IF('Entry Information'!$I165=\"\",\"\",IF('YOUTH RESULTS'!S15=\"\",\"\",'YOUTH RESULTS'!S15))","v":""},"",{"$f":"IF('Entry Information'!$I165=\"\",\"\",IF('Entry Information'!V165=\"\",T14,T14-100))","v":""},"",{"$f":"IF($R14=\"\",\"\",(VLOOKUP($V$41,Worksheet!$A$11:$AE$41,V14+1,FALSE)))","v":""},{"$f":"IF('Entry Information'!$I165=\"\",\"\",'YOUTH RESULTS'!X15)","v":""},{"$f":"IF('Entry Information'!$I165=\"\",\"\",IF('YOUTH RESULTS'!Y15=\"\",\"\",'YOUTH RESULTS'!Y15))","v":""},"",{"$f":"IF('Entry Information'!$I165=\"\",\"\",IF('Entry Information'!X165=\"\",Z14,Z14-100))","v":""},"",{"$f":"IF($X14=\"\",\"\",(VLOOKUP($AB$41,Worksheet!$A$11:$AE$41,AB14+1,FALSE)))","v":""},{"$f":"IF('Entry Information'!$I165=\"\",\"\",'YOUTH RESULTS'!AD15)","v":""},{"$f":"IF('Entry Information'!$I165=\"\",\"\",IF('YOUTH RESULTS'!AE15=\"\",\"\",'YOUTH RESULTS'!AE15))","v":""},"",{"$f":"IF('Entry Information'!$I165=\"\",\"\",IF('Entry Information'!Z165=\"\",AF14,AF14-100))","v":""},"",{"$f":"IF($AD14=\"\",\"\",(VLOOKUP($AH$41,Worksheet!$A$11:$AE$41,AH14+1,FALSE)))","v":""}]
[{"$f":"IF('Entry Information'!I166=\"\",\"\",'Entry Information'!B166)","v":""},{"$f":"IF('Entry Information'!I166=\"\",\"\",'Entry Information'!C166)","v":""},{"$f":"IF('Entry Information'!I166=\"\",\"\",'Entry Information'!D166)","v":""},{"$f":"IF('Entry Information'!I166=\"\",\"\",'Entry Information'!E166)","v":""},"YOUTH",{"$f":"IF('Entry Information'!$I166=\"\",\"\",'YOUTH RESULTS'!F16)","v":""},{"$f":"IF('Entry Information'!$I166=\"\",\"\",IF('YOUTH RESULTS'!G16=\"\",\"\",'YOUTH RESULTS'!G16))","v":""},"",{"$f":"IF('Entry Information'!$I166=\"\",\"\",IF('Entry Information'!R166=\"\",H15,H15-100))","v":""},"",{"$f":"IF($F15=\"\",\"\",(VLOOKUP($J$41,Worksheet!$A$11:$AE$41,J15+1,FALSE)))","v":""},{"$f":"IF('Entry Information'!$I166=\"\",\"\",'YOUTH RESULTS'!L16)","v":""},{"$f":"IF('Entry Information'!$I166=\"\",\"\",IF('YOUTH RESULTS'!M16=\"\",\"\",'YOUTH RESULTS'!M16))","v":""},"",{"$f":"IF('Entry Information'!$I166=\"\",\"\",IF('Entry Information'!T166=\"\",N15,N15-100))","v":""},"",{"$f":"IF($L15=\"\",\"\",(VLOOKUP($P$41,Worksheet!$A$11:$AE$41,P15+1,FALSE)))","v":""},{"$f":"IF('Entry Information'!$I166=\"\",\"\",'YOUTH RESULTS'!R16)","v":""},{"$f":"IF('Entry Information'!$I166=\"\",\"\",IF('YOUTH RESULTS'!S16=\"\",\"\",'YOUTH RESULTS'!S16))","v":""},"",{"$f":"IF('Entry Information'!$I166=\"\",\"\",IF('Entry Information'!V166=\"\",T15,T15-100))","v":""},"",{"$f":"IF($R15=\"\",\"\",(VLOOKUP($V$41,Worksheet!$A$11:$AE$41,V15+1,FALSE)))","v":""},{"$f":"IF('Entry Information'!$I166=\"\",\"\",'YOUTH RESULTS'!X16)","v":""},{"$f":"IF('Entry Information'!$I166=\"\",\"\",IF('YOUTH RESULTS'!Y16=\"\",\"\",'YOUTH RESULTS'!Y16))","v":""},"",{"$f":"IF('Entry Information'!$I166=\"\",\"\",IF('Entry Information'!X166=\"\",Z15,Z15-100))","v":""},"",{"$f":"IF($X15=\"\",\"\",(VLOOKUP($AB$41,Worksheet!$A$11:$AE$41,AB15+1,FALSE)))","v":""},{"$f":"IF('Entry Information'!$I166=\"\",\"\",'YOUTH RESULTS'!AD16)","v":""},{"$f":"IF('Entry Information'!$I166=\"\",\"\",IF('YOUTH RESULTS'!AE16=\"\",\"\",'YOUTH RESULTS'!AE16))","v":""},"",{"$f":"IF('Entry Information'!$I166=\"\",\"\",IF('Entry Information'!Z166=\"\",AF15,AF15-100))","v":""},"",{"$f":"IF($AD15=\"\",\"\",(VLOOKUP($AH$41,Worksheet!$A$11:$AE$41,AH15+1,FALSE)))","v":""}]
[{"$f":"IF('Entry Information'!I167=\"\",\"\",'Entry Information'!B167)","v":""},{"$f":"IF('Entry Information'!I167=\"\",\"\",'Entry Information'!C167)","v":""},{"$f":"IF('Entry Information'!I167=\"\",\"\",'Entry Information'!D167)","v":""},{"$f":"IF('Entry Information'!I167=\"\",\"\",'Entry Information'!E167)","v":""},"YOUTH",{"$f":"IF('Entry Information'!$I167=\"\",\"\",'YOUTH RESULTS'!F17)","v":""},{"$f":"IF('Entry Information'!$I167=\"\",\"\",IF('YOUTH RESULTS'!G17=\"\",\"\",'YOUTH RESULTS'!G17))","v":""},"",{"$f":"IF('Entry Information'!$I167=\"\",\"\",IF('Entry Information'!R167=\"\",H16,H16-100))","v":""},"",{"$f":"IF($F16=\"\",\"\",(VLOOKUP($J$41,Worksheet!$A$11:$AE$41,J16+1,FALSE)))","v":""},{"$f":"IF('Entry Information'!$I167=\"\",\"\",'YOUTH RESULTS'!L17)","v":""},{"$f":"IF('Entry Information'!$I167=\"\",\"\",IF('YOUTH RESULTS'!M17=\"\",\"\",'YOUTH RESULTS'!M17))","v":""},"",{"$f":"IF('Entry Information'!$I167=\"\",\"\",IF('Entry Information'!T167=\"\",N16,N16-100))","v":""},"",{"$f":"IF($L16=\"\",\"\",(VLOOKUP($P$41,Worksheet!$A$11:$AE$41,P16+1,FALSE)))","v":""},{"$f":"IF('Entry Information'!$I167=\"\",\"\",'YOUTH RESULTS'!R17)","v":""},{"$f":"IF('Entry Information'!$I167=\"\",\"\",IF('YOUTH RESULTS'!S17=\"\",\"\",'YOUTH RESULTS'!S17))","v":""},"",{"$f":"IF('Entry Information'!$I167=\"\",\"\",IF('Entry Information'!V167=\"\",T16,T16-100))","v":""},"",{"$f":"IF($R16=\"\",\"\",(VLOOKUP($V$41,Worksheet!$A$11:$AE$41,V16+1,FALSE)))","v":""},{"$f":"IF('Entry Information'!$I167=\"\",\"\",'YOUTH RESULTS'!X17)","v":""},{"$f":"IF('Entry Information'!$I167=\"\",\"\",IF('YOUTH RESULTS'!Y17=\"\",\"\",'YOUTH RESULTS'!Y17))","v":""},"",{"$f":"IF('Entry Information'!$I167=\"\",\"\",IF('Entry Information'!X167=\"\",Z16,Z16-100))","v":""},"",{"$f":"IF($X16=\"\",\"\",(VLOOKUP($AB$41,Worksheet!$A$11:$AE$41,AB16+1,FALSE)))","v":""},{"$f":"IF('Entry Information'!$I167=\"\",\"\",'YOUTH RESULTS'!AD17)","v":""},{"$f":"IF('Entry Information'!$I167=\"\",\"\",IF('YOUTH RESULTS'!AE17=\"\",\"\",'YOUTH RESULTS'!AE17))","v":""},"",{"$f":"IF('Entry Information'!$I167=\"\",\"\",IF('Entry Information'!Z167=\"\",AF16,AF16-100))","v":""},"",{"$f":"IF($AD16=\"\",\"\",(VLOOKUP($AH$41,Worksheet!$A$11:$AE$41,AH16+1,FALSE)))","v":""}]
[{"$f":"IF('Entry Information'!I168=\"\",\"\",'Entry Information'!B168)","v":""},{"$f":"IF('Entry Information'!I168=\"\",\"\",'Entry Information'!C168)","v":""},{"$f":"IF('Entry Information'!I168=\"\",\"\",'Entry Information'!D168)","v":""},{"$f":"IF('Entry Information'!I168=\"\",\"\",'Entry Information'!E168)","v":""},"YOUTH",{"$f":"IF('Entry Information'!$I168=\"\",\"\",'YOUTH RESULTS'!F18)","v":""},{"$f":"IF('Entry Information'!$I168=\"\",\"\",IF('YOUTH RESULTS'!G18=\"\",\"\",'YOUTH RESULTS'!G18))","v":""},"",{"$f":"IF('Entry Information'!$I168=\"\",\"\",IF('Entry Information'!R168=\"\",H17,H17-100))","v":""},"",{"$f":"IF($F17=\"\",\"\",(VLOOKUP($J$41,Worksheet!$A$11:$AE$41,J17+1,FALSE)))","v":""},{"$f":"IF('Entry Information'!$I168=\"\",\"\",'YOUTH RESULTS'!L18)","v":""},{"$f":"IF('Entry Information'!$I168=\"\",\"\",IF('YOUTH RESULTS'!M18=\"\",\"\",'YOUTH RESULTS'!M18))","v":""},"",{"$f":"IF('Entry Information'!$I168=\"\",\"\",IF('Entry Information'!T168=\"\",N17,N17-100))","v":""},"",{"$f":"IF($L17=\"\",\"\",(VLOOKUP($P$41,Worksheet!$A$11:$AE$41,P17+1,FALSE)))","v":""},{"$f":"IF('Entry Information'!$I168=\"\",\"\",'YOUTH RESULTS'!R18)","v":""},{"$f":"IF('Entry Information'!$I168=\"\",\"\",IF('YOUTH RESULTS'!S18=\"\",\"\",'YOUTH RESULTS'!S18))","v":""},"",{"$f":"IF('Entry Information'!$I168=\"\",\"\",IF('Entry Information'!V168=\"\",T17,T17-100))","v":""},"",{"$f":"IF($R17=\"\",\"\",(VLOOKUP($V$41,Worksheet!$A$11:$AE$41,V17+1,FALSE)))","v":""},{"$f":"IF('Entry Information'!$I168=\"\",\"\",'YOUTH RESULTS'!X18)","v":""},{"$f":"IF('Entry Information'!$I168=\"\",\"\",IF('YOUTH RESULTS'!Y18=\"\",\"\",'YOUTH RESULTS'!Y18))","v":""},"",{"$f":"IF('Entry Information'!$I168=\"\",\"\",IF('Entry Information'!X168=\"\",Z17,Z17-100))","v":""},"",{"$f":"IF($X17=\"\",\"\",(VLOOKUP($AB$41,Worksheet!$A$11:$AE$41,AB17+1,FALSE)))","v":""},{"$f":"IF('Entry Information'!$I168=\"\",\"\",'YOUTH RESULTS'!AD18)","v":""},{"$f":"IF('Entry Information'!$I168=\"\",\"\",IF('YOUTH RESULTS'!AE18=\"\",\"\",'YOUTH RESULTS'!AE18))","v":""},"",{"$f":"IF('Entry Information'!$I168=\"\",\"\",IF('Entry Information'!Z168=\"\",AF17,AF17-100))","v":""},"",{"$f":"IF($AD17=\"\",\"\",(VLOOKUP($AH$41,Worksheet!$A$11:$AE$41,AH17+1,FALSE)))","v":""}]
[{"$f":"IF('Entry Information'!I169=\"\",\"\",'Entry Information'!B169)","v":""},{"$f":"IF('Entry Information'!I169=\"\",\"\",'Entry Information'!C169)","v":""},{"$f":"IF('Entry Information'!I169=\"\",\"\",'Entry Information'!D169)","v":""},{"$f":"IF('Entry Information'!I169=\"\",\"\",'Entry Information'!E169)","v":""},"YOUTH",{"$f":"IF('Entry Information'!$I169=\"\",\"\",'YOUTH RESULTS'!F19)","v":""},{"$f":"IF('Entry Information'!$I169=\"\",\"\",IF('YOUTH RESULTS'!G19=\"\",\"\",'YOUTH RESULTS'!G19))","v":""},"",{"$f":"IF('Entry Information'!$I169=\"\",\"\",IF('Entry Information'!R169=\"\",H18,H18-100))","v":""},"",{"$f":"IF($F18=\"\",\"\",(VLOOKUP($J$41,Worksheet!$A$11:$AE$41,J18+1,FALSE)))","v":""},{"$f":"IF('Entry Information'!$I169=\"\",\"\",'YOUTH RESULTS'!L19)","v":""},{"$f":"IF('Entry Information'!$I169=\"\",\"\",IF('YOUTH RESULTS'!M19=\"\",\"\",'YOUTH RESULTS'!M19))","v":""},"",{"$f":"IF('Entry Information'!$I169=\"\",\"\",IF('Entry Information'!T169=\"\",N18,N18-100))","v":""},"",{"$f":"IF($L18=\"\",\"\",(VLOOKUP($P$41,Worksheet!$A$11:$AE$41,P18+1,FALSE)))","v":""},{"$f":"IF('Entry Information'!$I169=\"\",\"\",'YOUTH RESULTS'!R19)","v":""},{"$f":"IF('Entry Information'!$I169=\"\",\"\",IF('YOUTH RESULTS'!S19=\"\",\"\",'YOUTH RESULTS'!S19))","v":""},"",{"$f":"IF('Entry Information'!$I169=\"\",\"\",IF('Entry Information'!V169=\"\",T18,T18-100))","v":""},"",{"$f":"IF($R18=\"\",\"\",(VLOOKUP($V$41,Worksheet!$A$11:$AE$41,V18+1,FALSE)))","v":""},{"$f":"IF('Entry Information'!$I169=\"\",\"\",'YOUTH RESULTS'!X19)","v":""},{"$f":"IF('Entry Information'!$I169=\"\",\"\",IF('YOUTH RESULTS'!Y19=\"\",\"\",'YOUTH RESULTS'!Y19))","v":""},"",{"$f":"IF('Entry Information'!$I169=\"\",\"\",IF('Entry Information'!X169=\"\",Z18,Z18-100))","v":""},"",{"$f":"IF($X18=\"\",\"\",(VLOOKUP($AB$41,Worksheet!$A$11:$AE$41,AB18+1,FALSE)))","v":""},{"$f":"IF('Entry Information'!$I169=\"\",\"\",'YOUTH RESULTS'!AD19)","v":""},{"$f":"IF('Entry Information'!$I169=\"\",\"\",IF('YOUTH RESULTS'!AE19=\"\",\"\",'YOUTH RESULTS'!AE19))","v":""},"",{"$f":"IF('Entry Information'!$I169=\"\",\"\",IF('Entry Information'!Z169=\"\",AF18,AF18-100))","v":""},"",{"$f":"IF($AD18=\"\",\"\",(VLOOKUP($AH$41,Worksheet!$A$11:$AE$41,AH18+1,FALSE)))","v":""}]
[{"$f":"IF('Entry Information'!I170=\"\",\"\",'Entry Information'!B170)","v":""},{"$f":"IF('Entry Information'!I170=\"\",\"\",'Entry Information'!C170)","v":""},{"$f":"IF('Entry Information'!I170=\"\",\"\",'Entry Information'!D170)","v":""},{"$f":"IF('Entry Information'!I170=\"\",\"\",'Entry Information'!E170)","v":""},"YOUTH",{"$f":"IF('Entry Information'!$I170=\"\",\"\",'YOUTH RESULTS'!F20)","v":""},{"$f":"IF('Entry Information'!$I170=\"\",\"\",IF('YOUTH RESULTS'!G20=\"\",\"\",'YOUTH RESULTS'!G20))","v":""},"",{"$f":"IF('Entry Information'!$I170=\"\",\"\",IF('Entry Information'!R170=\"\",H19,H19-100))","v":""},"",{"$f":"IF($F19=\"\",\"\",(VLOOKUP($J$41,Worksheet!$A$11:$AE$41,J19+1,FALSE)))","v":""},{"$f":"IF('Entry Information'!$I170=\"\",\"\",'YOUTH RESULTS'!L20)","v":""},{"$f":"IF('Entry Information'!$I170=\"\",\"\",IF('YOUTH RESULTS'!M20=\"\",\"\",'YOUTH RESULTS'!M20))","v":""},"",{"$f":"IF('Entry Information'!$I170=\"\",\"\",IF('Entry Information'!T170=\"\",N19,N19-100))","v":""},"",{"$f":"IF($L19=\"\",\"\",(VLOOKUP($P$41,Worksheet!$A$11:$AE$41,P19+1,FALSE)))","v":""},{"$f":"IF('Entry Information'!$I170=\"\",\"\",'YOUTH RESULTS'!R20)","v":""},{"$f":"IF('Entry Information'!$I170=\"\",\"\",IF('YOUTH RESULTS'!S20=\"\",\"\",'YOUTH RESULTS'!S20))","v":""},"",{"$f":"IF('Entry Information'!$I170=\"\",\"\",IF('Entry Information'!V170=\"\",T19,T19-100))","v":""},"",{"$f":"IF($R19=\"\",\"\",(VLOOKUP($V$41,Worksheet!$A$11:$AE$41,V19+1,FALSE)))","v":""},{"$f":"IF('Entry Information'!$I170=\"\",\"\",'YOUTH RESULTS'!X20)","v":""},{"$f":"IF('Entry Information'!$I170=\"\",\"\",IF('YOUTH RESULTS'!Y20=\"\",\"\",'YOUTH RESULTS'!Y20))","v":""},"",{"$f":"IF('Entry Information'!$I170=\"\",\"\",IF('Entry Information'!X170=\"\",Z19,Z19-100))","v":""},"",{"$f":"IF($X19=\"\",\"\",(VLOOKUP($AB$41,Worksheet!$A$11:$AE$41,AB19+1,FALSE)))","v":""},{"$f":"IF('Entry Information'!$I170=\"\",\"\",'YOUTH RESULTS'!AD20)","v":""},{"$f":"IF('Entry Information'!$I170=\"\",\"\",IF('YOUTH RESULTS'!AE20=\"\",\"\",'YOUTH RESULTS'!AE20))","v":""},"",{"$f":"IF('Entry Information'!$I170=\"\",\"\",IF('Entry Information'!Z170=\"\",AF19,AF19-100))","v":""},"",{"$f":"IF($AD19=\"\",\"\",(VLOOKUP($AH$41,Worksheet!$A$11:$AE$41,AH19+1,FALSE)))","v":""}]
[{"$f":"IF('Entry Information'!I171=\"\",\"\",'Entry Information'!B171)","v":""},{"$f":"IF('Entry Information'!I171=\"\",\"\",'Entry Information'!C171)","v":""},{"$f":"IF('Entry Information'!I171=\"\",\"\",'Entry Information'!D171)","v":""},{"$f":"IF('Entry Information'!I171=\"\",\"\",'Entry Information'!E171)","v":""},"YOUTH",{"$f":"IF('Entry Information'!$I171=\"\",\"\",'YOUTH RESULTS'!F21)","v":""},{"$f":"IF('Entry Information'!$I171=\"\",\"\",IF('YOUTH RESULTS'!G21=\"\",\"\",'YOUTH RESULTS'!G21))","v":""},"",{"$f":"IF('Entry Information'!$I171=\"\",\"\",IF('Entry Information'!R171=\"\",H20,H20-100))","v":""},"",{"$f":"IF($F20=\"\",\"\",(VLOOKUP($J$41,Worksheet!$A$11:$AE$41,J20+1,FALSE)))","v":""},{"$f":"IF('Entry Information'!$I171=\"\",\"\",'YOUTH RESULTS'!L21)","v":""},{"$f":"IF('Entry Information'!$I171=\"\",\"\",IF('YOUTH RESULTS'!M21=\"\",\"\",'YOUTH RESULTS'!M21))","v":""},"",{"$f":"IF('Entry Information'!$I171=\"\",\"\",IF('Entry Information'!T171=\"\",N20,N20-100))","v":""},"",{"$f":"IF($L20=\"\",\"\",(VLOOKUP($P$41,Worksheet!$A$11:$AE$41,P20+1,FALSE)))","v":""},{"$f":"IF('Entry Information'!$I171=\"\",\"\",'YOUTH RESULTS'!R21)","v":""},{"$f":"IF('Entry Information'!$I171=\"\",\"\",IF('YOUTH RESULTS'!S21=\"\",\"\",'YOUTH RESULTS'!S21))","v":""},"",{"$f":"IF('Entry Information'!$I171=\"\",\"\",IF('Entry Information'!V171=\"\",T20,T20-100))","v":""},"",{"$f":"IF($R20=\"\",\"\",(VLOOKUP($V$41,Worksheet!$A$11:$AE$41,V20+1,FALSE)))","v":""},{"$f":"IF('Entry Information'!$I171=\"\",\"\",'YOUTH RESULTS'!X21)","v":""},{"$f":"IF('Entry Information'!$I171=\"\",\"\",IF('YOUTH RESULTS'!Y21=\"\",\"\",'YOUTH RESULTS'!Y21))","v":""},"",{"$f":"IF('Entry Information'!$I171=\"\",\"\",IF('Entry Information'!X171=\"\",Z20,Z20-100))","v":""},"",{"$f":"IF($X20=\"\",\"\",(VLOOKUP($AB$41,Worksheet!$A$11:$AE$41,AB20+1,FALSE)))","v":""},{"$f":"IF('Entry Information'!$I171=\"\",\"\",'YOUTH RESULTS'!AD21)","v":""},{"$f":"IF('Entry Information'!$I171=\"\",\"\",IF('YOUTH RESULTS'!AE21=\"\",\"\",'YOUTH RESULTS'!AE21))","v":""},"",{"$f":"IF('Entry Information'!$I171=\"\",\"\",IF('Entry Information'!Z171=\"\",AF20,AF20-100))","v":""},"",{"$f":"IF($AD20=\"\",\"\",(VLOOKUP($AH$41,Worksheet!$A$11:$AE$41,AH20+1,FALSE)))","v":""}]
[{"$f":"IF('Entry Information'!I172=\"\",\"\",'Entry Information'!B172)","v":""},{"$f":"IF('Entry Information'!I172=\"\",\"\",'Entry Information'!C172)","v":""},{"$f":"IF('Entry Information'!I172=\"\",\"\",'Entry Information'!D172)","v":""},{"$f":"IF('Entry Information'!I172=\"\",\"\",'Entry Information'!E172)","v":""},"YOUTH",{"$f":"IF('Entry Information'!$I172=\"\",\"\",'YOUTH RESULTS'!F22)","v":""},{"$f":"IF('Entry Information'!$I172=\"\",\"\",IF('YOUTH RESULTS'!G22=\"\",\"\",'YOUTH RESULTS'!G22))","v":""},"",{"$f":"IF('Entry Information'!$I172=\"\",\"\",IF('Entry Information'!R172=\"\",H21,H21-100))","v":""},"",{"$f":"IF($F21=\"\",\"\",(VLOOKUP($J$41,Worksheet!$A$11:$AE$41,J21+1,FALSE)))","v":""},{"$f":"IF('Entry Information'!$I172=\"\",\"\",'YOUTH RESULTS'!L22)","v":""},{"$f":"IF('Entry Information'!$I172=\"\",\"\",IF('YOUTH RESULTS'!M22=\"\",\"\",'YOUTH RESULTS'!M22))","v":""},"",{"$f":"IF('Entry Information'!$I172=\"\",\"\",IF('Entry Information'!T172=\"\",N21,N21-100))","v":""},"",{"$f":"IF($L21=\"\",\"\",(VLOOKUP($P$41,Worksheet!$A$11:$AE$41,P21+1,FALSE)))","v":""},{"$f":"IF('Entry Information'!$I172=\"\",\"\",'YOUTH RESULTS'!R22)","v":""},{"$f":"IF('Entry Information'!$I172=\"\",\"\",IF('YOUTH RESULTS'!S22=\"\",\"\",'YOUTH RESULTS'!S22))","v":""},"",{"$f":"IF('Entry Information'!$I172=\"\",\"\",IF('Entry Information'!V172=\"\",T21,T21-100))","v":""},"",{"$f":"IF($R21=\"\",\"\",(VLOOKUP($V$41,Worksheet!$A$11:$AE$41,V21+1,FALSE)))","v":""},{"$f":"IF('Entry Information'!$I172=\"\",\"\",'YOUTH RESULTS'!X22)","v":""},{"$f":"IF('Entry Information'!$I172=\"\",\"\",IF('YOUTH RESULTS'!Y22=\"\",\"\",'YOUTH RESULTS'!Y22))","v":""},"",{"$f":"IF('Entry Information'!$I172=\"\",\"\",IF('Entry Information'!X172=\"\",Z21,Z21-100))","v":""},"",{"$f":"IF($X21=\"\",\"\",(VLOOKUP($AB$41,Worksheet!$A$11:$AE$41,AB21+1,FALSE)))","v":""},{"$f":"IF('Entry Information'!$I172=\"\",\"\",'YOUTH RESULTS'!AD22)","v":""},{"$f":"IF('Entry Information'!$I172=\"\",\"\",IF('YOUTH RESULTS'!AE22=\"\",\"\",'YOUTH RESULTS'!AE22))","v":""},"",{"$f":"IF('Entry Information'!$I172=\"\",\"\",IF('Entry Information'!Z172=\"\",AF21,AF21-100))","v":""},"",{"$f":"IF($AD21=\"\",\"\",(VLOOKUP($AH$41,Worksheet!$A$11:$AE$41,AH21+1,FALSE)))","v":""}]
[{"$f":"IF('Entry Information'!I173=\"\",\"\",'Entry Information'!B173)","v":""},{"$f":"IF('Entry Information'!I173=\"\",\"\",'Entry Information'!C173)","v":""},{"$f":"IF('Entry Information'!I173=\"\",\"\",'Entry Information'!D173)","v":""},{"$f":"IF('Entry Information'!I173=\"\",\"\",'Entry Information'!E173)","v":""},"YOUTH",{"$f":"IF('Entry Information'!$I173=\"\",\"\",'YOUTH RESULTS'!F23)","v":""},{"$f":"IF('Entry Information'!$I173=\"\",\"\",IF('YOUTH RESULTS'!G23=\"\",\"\",'YOUTH RESULTS'!G23))","v":""},"",{"$f":"IF('Entry Information'!$I173=\"\",\"\",IF('Entry Information'!R173=\"\",H22,H22-100))","v":""},"",{"$f":"IF($F22=\"\",\"\",(VLOOKUP($J$41,Worksheet!$A$11:$AE$41,J22+1,FALSE)))","v":""},{"$f":"IF('Entry Information'!$I173=\"\",\"\",'YOUTH RESULTS'!L23)","v":""},{"$f":"IF('Entry Information'!$I173=\"\",\"\",IF('YOUTH RESULTS'!M23=\"\",\"\",'YOUTH RESULTS'!M23))","v":""},"",{"$f":"IF('Entry Information'!$I173=\"\",\"\",IF('Entry Information'!T173=\"\",N22,N22-100))","v":""},"",{"$f":"IF($L22=\"\",\"\",(VLOOKUP($P$41,Worksheet!$A$11:$AE$41,P22+1,FALSE)))","v":""},{"$f":"IF('Entry Information'!$I173=\"\",\"\",'YOUTH RESULTS'!R23)","v":""},{"$f":"IF('Entry Information'!$I173=\"\",\"\",IF('YOUTH RESULTS'!S23=\"\",\"\",'YOUTH RESULTS'!S23))","v":""},"",{"$f":"IF('Entry Information'!$I173=\"\",\"\",IF('Entry Information'!V173=\"\",T22,T22-100))","v":""},"",{"$f":"IF($R22=\"\",\"\",(VLOOKUP($V$41,Worksheet!$A$11:$AE$41,V22+1,FALSE)))","v":""},{"$f":"IF('Entry Information'!$I173=\"\",\"\",'YOUTH RESULTS'!X23)","v":""},{"$f":"IF('Entry Information'!$I173=\"\",\"\",IF('YOUTH RESULTS'!Y23=\"\",\"\",'YOUTH RESULTS'!Y23))","v":""},"",{"$f":"IF('Entry Information'!$I173=\"\",\"\",IF('Entry Information'!X173=\"\",Z22,Z22-100))","v":""},"",{"$f":"IF($X22=\"\",\"\",(VLOOKUP($AB$41,Worksheet!$A$11:$AE$41,AB22+1,FALSE)))","v":""},{"$f":"IF('Entry Information'!$I173=\"\",\"\",'YOUTH RESULTS'!AD23)","v":""},{"$f":"IF('Entry Information'!$I173=\"\",\"\",IF('YOUTH RESULTS'!AE23=\"\",\"\",'YOUTH RESULTS'!AE23))","v":""},"",{"$f":"IF('Entry Information'!$I173=\"\",\"\",IF('Entry Information'!Z173=\"\",AF22,AF22-100))","v":""},"",{"$f":"IF($AD22=\"\",\"\",(VLOOKUP($AH$41,Worksheet!$A$11:$AE$41,AH22+1,FALSE)))","v":""}]
[{"$f":"IF('Entry Information'!I174=\"\",\"\",'Entry Information'!B174)","v":""},{"$f":"IF('Entry Information'!I174=\"\",\"\",'Entry Information'!C174)","v":""},{"$f":"IF('Entry Information'!I174=\"\",\"\",'Entry Information'!D174)","v":""},{"$f":"IF('Entry Information'!I174=\"\",\"\",'Entry Information'!E174)","v":""},"YOUTH",{"$f":"IF('Entry Information'!$I174=\"\",\"\",'YOUTH RESULTS'!F24)","v":""},{"$f":"IF('Entry Information'!$I174=\"\",\"\",IF('YOUTH RESULTS'!G24=\"\",\"\",'YOUTH RESULTS'!G24))","v":""},"",{"$f":"IF('Entry Information'!$I174=\"\",\"\",IF('Entry Information'!R174=\"\",H23,H23-100))","v":""},"",{"$f":"IF($F23=\"\",\"\",(VLOOKUP($J$41,Worksheet!$A$11:$AE$41,J23+1,FALSE)))","v":""},{"$f":"IF('Entry Information'!$I174=\"\",\"\",'YOUTH RESULTS'!L24)","v":""},{"$f":"IF('Entry Information'!$I174=\"\",\"\",IF('YOUTH RESULTS'!M24=\"\",\"\",'YOUTH RESULTS'!M24))","v":""},"",{"$f":"IF('Entry Information'!$I174=\"\",\"\",IF('Entry Information'!T174=\"\",N23,N23-100))","v":""},"",{"$f":"IF($L23=\"\",\"\",(VLOOKUP($P$41,Worksheet!$A$11:$AE$41,P23+1,FALSE)))","v":""},{"$f":"IF('Entry Information'!$I174=\"\",\"\",'YOUTH RESULTS'!R24)","v":""},{"$f":"IF('Entry Information'!$I174=\"\",\"\",IF('YOUTH RESULTS'!S24=\"\",\"\",'YOUTH RESULTS'!S24))","v":""},"",{"$f":"IF('Entry Information'!$I174=\"\",\"\",IF('Entry Information'!V174=\"\",T23,T23-100))","v":""},"",{"$f":"IF($R23=\"\",\"\",(VLOOKUP($V$41,Worksheet!$A$11:$AE$41,V23+1,FALSE)))","v":""},{"$f":"IF('Entry Information'!$I174=\"\",\"\",'YOUTH RESULTS'!X24)","v":""},{"$f":"IF('Entry Information'!$I174=\"\",\"\",IF('YOUTH RESULTS'!Y24=\"\",\"\",'YOUTH RESULTS'!Y24))","v":""},"",{"$f":"IF('Entry Information'!$I174=\"\",\"\",IF('Entry Information'!X174=\"\",Z23,Z23-100))","v":""},"",{"$f":"IF($X23=\"\",\"\",(VLOOKUP($AB$41,Worksheet!$A$11:$AE$41,AB23+1,FALSE)))","v":""},{"$f":"IF('Entry Information'!$I174=\"\",\"\",'YOUTH RESULTS'!AD24)","v":""},{"$f":"IF('Entry Information'!$I174=\"\",\"\",IF('YOUTH RESULTS'!AE24=\"\",\"\",'YOUTH RESULTS'!AE24))","v":""},"",{"$f":"IF('Entry Information'!$I174=\"\",\"\",IF('Entry Information'!Z174=\"\",AF23,AF23-100))","v":""},"",{"$f":"IF($AD23=\"\",\"\",(VLOOKUP($AH$41,Worksheet!$A$11:$AE$41,AH23+1,FALSE)))","v":""}]
[{"$f":"IF('Entry Information'!I175=\"\",\"\",'Entry Information'!B175)","v":""},{"$f":"IF('Entry Information'!I175=\"\",\"\",'Entry Information'!C175)","v":""},{"$f":"IF('Entry Information'!I175=\"\",\"\",'Entry Information'!D175)","v":""},{"$f":"IF('Entry Information'!I175=\"\",\"\",'Entry Information'!E175)","v":""},"YOUTH",{"$f":"IF('Entry Information'!$I175=\"\",\"\",'YOUTH RESULTS'!F25)","v":""},{"$f":"IF('Entry Information'!$I175=\"\",\"\",IF('YOUTH RESULTS'!G25=\"\",\"\",'YOUTH RESULTS'!G25))","v":""},{"$f":"IF(G24=\"\",F24,(F24+(G24*0.001)))","v":""},{"$f":"IF('Entry Information'!$I175=\"\",\"\",IF('Entry Information'!R175=\"\",H24,H24-100))","v":""},"",{"$f":"IF($F24=\"\",\"\",(VLOOKUP($J$41,Worksheet!$A$11:$AE$41,J24+1,FALSE)))","v":""},{"$f":"IF('Entry Information'!$I175=\"\",\"\",'YOUTH RESULTS'!L25)","v":""},{"$f":"IF('Entry Information'!$I175=\"\",\"\",IF('YOUTH RESULTS'!M25=\"\",\"\",'YOUTH RESULTS'!M25))","v":""},"",{"$f":"IF('Entry Information'!$I175=\"\",\"\",IF('Entry Information'!T175=\"\",N24,N24-100))","v":""},"",{"$f":"IF($L24=\"\",\"\",(VLOOKUP($P$41,Worksheet!$A$11:$AE$41,P24+1,FALSE)))","v":""},{"$f":"IF('Entry Information'!$I175=\"\",\"\",'YOUTH RESULTS'!R25)","v":""},{"$f":"IF('Entry Information'!$I175=\"\",\"\",IF('YOUTH RESULTS'!S25=\"\",\"\",'YOUTH RESULTS'!S25))","v":""},"",{"$f":"IF('Entry Information'!$I175=\"\",\"\",IF('Entry Information'!V175=\"\",T24,T24-100))","v":""},"",{"$f":"IF($R24=\"\",\"\",(VLOOKUP($V$41,Worksheet!$A$11:$AE$41,V24+1,FALSE)))","v":""},{"$f":"IF('Entry Information'!$I175=\"\",\"\",'YOUTH RESULTS'!X25)","v":""},{"$f":"IF('Entry Information'!$I175=\"\",\"\",IF('YOUTH RESULTS'!Y25=\"\",\"\",'YOUTH RESULTS'!Y25))","v":""},{"$f":"IF(Y24=\"\",X24,(X24+(Y24*0.001)))","v":""},{"$f":"IF('Entry Information'!$I175=\"\",\"\",IF('Entry Information'!X175=\"\",Z24,Z24-100))","v":""},"",{"$f":"IF($X24=\"\",\"\",(VLOOKUP($AB$41,Worksheet!$A$11:$AE$41,AB24+1,FALSE)))","v":""},{"$f":"IF('Entry Information'!$I175=\"\",\"\",'YOUTH RESULTS'!AD25)","v":""},{"$f":"IF('Entry Information'!$I175=\"\",\"\",IF('YOUTH RESULTS'!AE25=\"\",\"\",'YOUTH RESULTS'!AE25))","v":""},{"$f":"IF(AE24=\"\",AD24,(AD24+(AE24*0.001)))","v":""},{"$f":"IF('Entry Information'!$I175=\"\",\"\",IF('Entry Information'!Z175=\"\",AF24,AF24-100))","v":""},"",{"$f":"IF($AD24=\"\",\"\",(VLOOKUP($AH$41,Worksheet!$A$11:$AE$41,AH24+1,FALSE)))","v":""}]
[{"$f":"IF('Entry Information'!I176=\"\",\"\",'Entry Information'!B176)","v":""},{"$f":"IF('Entry Information'!I176=\"\",\"\",'Entry Information'!C176)","v":""},{"$f":"IF('Entry Information'!I176=\"\",\"\",'Entry Information'!D176)","v":""},{"$f":"IF('Entry Information'!I176=\"\",\"\",'Entry Information'!E176)","v":""},"YOUTH",{"$f":"IF('Entry Information'!$I176=\"\",\"\",'YOUTH RESULTS'!F26)","v":""},{"$f":"IF('Entry Information'!$I176=\"\",\"\",IF('YOUTH RESULTS'!G26=\"\",\"\",'YOUTH RESULTS'!G26))","v":""},{"$f":"IF(G25=\"\",F25,(F25+(G25*0.001)))","v":""},{"$f":"IF('Entry Information'!$I176=\"\",\"\",IF('Entry Information'!R176=\"\",H25,H25-100))","v":""},"",{"$f":"IF($F25=\"\",\"\",(VLOOKUP($J$41,Worksheet!$A$11:$AE$41,J25+1,FALSE)))","v":""},{"$f":"IF('Entry Information'!$I176=\"\",\"\",'YOUTH RESULTS'!L26)","v":""},{"$f":"IF('Entry Information'!$I176=\"\",\"\",IF('YOUTH RESULTS'!M26=\"\",\"\",'YOUTH RESULTS'!M26))","v":""},"",{"$f":"IF('Entry Information'!$I176=\"\",\"\",IF('Entry Information'!T176=\"\",N25,N25-100))","v":""},"",{"$f":"IF($L25=\"\",\"\",(VLOOKUP($P$41,Worksheet!$A$11:$AE$41,P25+1,FALSE)))","v":""},{"$f":"IF('Entry Information'!$I176=\"\",\"\",'YOUTH RESULTS'!R26)","v":""},{"$f":"IF('Entry Information'!$I176=\"\",\"\",IF('YOUTH RESULTS'!S26=\"\",\"\",'YOUTH RESULTS'!S26))","v":""},"",{"$f":"IF('Entry Information'!$I176=\"\",\"\",IF('Entry Information'!V176=\"\",T25,T25-100))","v":""},"",{"$f":"IF($R25=\"\",\"\",(VLOOKUP($V$41,Worksheet!$A$11:$AE$41,V25+1,FALSE)))","v":""},{"$f":"IF('Entry Information'!$I176=\"\",\"\",'YOUTH RESULTS'!X26)","v":""},{"$f":"IF('Entry Information'!$I176=\"\",\"\",IF('YOUTH RESULTS'!Y26=\"\",\"\",'YOUTH RESULTS'!Y26))","v":""},{"$f":"IF(Y25=\"\",X25,(X25+(Y25*0.001)))","v":""},{"$f":"IF('Entry Information'!$I176=\"\",\"\",IF('Entry Information'!X176=\"\",Z25,Z25-100))","v":""},"",{"$f":"IF($X25=\"\",\"\",(VLOOKUP($AB$41,Worksheet!$A$11:$AE$41,AB25+1,FALSE)))","v":""},{"$f":"IF('Entry Information'!$I176=\"\",\"\",'YOUTH RESULTS'!AD26)","v":""},{"$f":"IF('Entry Information'!$I176=\"\",\"\",IF('YOUTH RESULTS'!AE26=\"\",\"\",'YOUTH RESULTS'!AE26))","v":""},{"$f":"IF(AE25=\"\",AD25,(AD25+(AE25*0.001)))","v":""},{"$f":"IF('Entry Information'!$I176=\"\",\"\",IF('Entry Information'!Z176=\"\",AF25,AF25-100))","v":""},"",{"$f":"IF($AD25=\"\",\"\",(VLOOKUP($AH$41,Worksheet!$A$11:$AE$41,AH25+1,FALSE)))","v":""}]
[{"$f":"IF('Entry Information'!I177=\"\",\"\",'Entry Information'!B177)","v":""},{"$f":"IF('Entry Information'!I177=\"\",\"\",'Entry Information'!C177)","v":""},{"$f":"IF('Entry Information'!I177=\"\",\"\",'Entry Information'!D177)","v":""},{"$f":"IF('Entry Information'!I177=\"\",\"\",'Entry Information'!E177)","v":""},"YOUTH",{"$f":"IF('Entry Information'!$I177=\"\",\"\",'YOUTH RESULTS'!F27)","v":""},{"$f":"IF('Entry Information'!$I177=\"\",\"\",IF('YOUTH RESULTS'!G27=\"\",\"\",'YOUTH RESULTS'!G27))","v":""},{"$f":"IF(G26=\"\",F26,(F26+(G26*0.001)))","v":""},{"$f":"IF('Entry Information'!$I177=\"\",\"\",IF('Entry Information'!R177=\"\",H26,H26-100))","v":""},"",{"$f":"IF($F26=\"\",\"\",(VLOOKUP($J$41,Worksheet!$A$11:$AE$41,J26+1,FALSE)))","v":""},{"$f":"IF('Entry Information'!$I177=\"\",\"\",'YOUTH RESULTS'!L27)","v":""},{"$f":"IF('Entry Information'!$I177=\"\",\"\",IF('YOUTH RESULTS'!M27=\"\",\"\",'YOUTH RESULTS'!M27))","v":""},"",{"$f":"IF('Entry Information'!$I177=\"\",\"\",IF('Entry Information'!T177=\"\",N26,N26-100))","v":""},"",{"$f":"IF($L26=\"\",\"\",(VLOOKUP($P$41,Worksheet!$A$11:$AE$41,P26+1,FALSE)))","v":""},{"$f":"IF('Entry Information'!$I177=\"\",\"\",'YOUTH RESULTS'!R27)","v":""},{"$f":"IF('Entry Information'!$I177=\"\",\"\",IF('YOUTH RESULTS'!S27=\"\",\"\",'YOUTH RESULTS'!S27))","v":""},"",{"$f":"IF('Entry Information'!$I177=\"\",\"\",IF('Entry Information'!V177=\"\",T26,T26-100))","v":""},"",{"$f":"IF($R26=\"\",\"\",(VLOOKUP($V$41,Worksheet!$A$11:$AE$41,V26+1,FALSE)))","v":""},{"$f":"IF('Entry Information'!$I177=\"\",\"\",'YOUTH RESULTS'!X27)","v":""},{"$f":"IF('Entry Information'!$I177=\"\",\"\",IF('YOUTH RESULTS'!Y27=\"\",\"\",'YOUTH RESULTS'!Y27))","v":""},{"$f":"IF(Y26=\"\",X26,(X26+(Y26*0.001)))","v":""},{"$f":"IF('Entry Information'!$I177=\"\",\"\",IF('Entry Information'!X177=\"\",Z26,Z26-100))","v":""},"",{"$f":"IF($X26=\"\",\"\",(VLOOKUP($AB$41,Worksheet!$A$11:$AE$41,AB26+1,FALSE)))","v":""},{"$f":"IF('Entry Information'!$I177=\"\",\"\",'YOUTH RESULTS'!AD27)","v":""},{"$f":"IF('Entry Information'!$I177=\"\",\"\",IF('YOUTH RESULTS'!AE27=\"\",\"\",'YOUTH RESULTS'!AE27))","v":""},{"$f":"IF(AE26=\"\",AD26,(AD26+(AE26*0.001)))","v":""},{"$f":"IF('Entry Information'!$I177=\"\",\"\",IF('Entry Information'!Z177=\"\",AF26,AF26-100))","v":""},"",{"$f":"IF($AD26=\"\",\"\",(VLOOKUP($AH$41,Worksheet!$A$11:$AE$41,AH26+1,FALSE)))","v":""}]
[{"$f":"IF('Entry Information'!I178=\"\",\"\",'Entry Information'!B178)","v":""},{"$f":"IF('Entry Information'!I178=\"\",\"\",'Entry Information'!C178)","v":""},{"$f":"IF('Entry Information'!I178=\"\",\"\",'Entry Information'!D178)","v":""},{"$f":"IF('Entry Information'!I178=\"\",\"\",'Entry Information'!E178)","v":""},"YOUTH",{"$f":"IF('Entry Information'!$I178=\"\",\"\",'YOUTH RESULTS'!F28)","v":""},{"$f":"IF('Entry Information'!$I178=\"\",\"\",IF('YOUTH RESULTS'!G28=\"\",\"\",'YOUTH RESULTS'!G28))","v":""},"",{"$f":"IF('Entry Information'!$I178=\"\",\"\",IF('Entry Information'!R178=\"\",H27,H27-100))","v":""},"",{"$f":"IF($F27=\"\",\"\",(VLOOKUP($J$41,Worksheet!$A$11:$AE$41,J27+1,FALSE)))","v":""},{"$f":"IF('Entry Information'!$I178=\"\",\"\",'YOUTH RESULTS'!L28)","v":""},{"$f":"IF('Entry Information'!$I178=\"\",\"\",IF('YOUTH RESULTS'!M28=\"\",\"\",'YOUTH RESULTS'!M28))","v":""},"",{"$f":"IF('Entry Information'!$I178=\"\",\"\",IF('Entry Information'!T178=\"\",N27,N27-100))","v":""},"",{"$f":"IF($L27=\"\",\"\",(VLOOKUP($P$41,Worksheet!$A$11:$AE$41,P27+1,FALSE)))","v":""},{"$f":"IF('Entry Information'!$I178=\"\",\"\",'YOUTH RESULTS'!R28)","v":""},{"$f":"IF('Entry Information'!$I178=\"\",\"\",IF('YOUTH RESULTS'!S28=\"\",\"\",'YOUTH RESULTS'!S28))","v":""},"",{"$f":"IF('Entry Information'!$I178=\"\",\"\",IF('Entry Information'!V178=\"\",T27,T27-100))","v":""},"",{"$f":"IF($R27=\"\",\"\",(VLOOKUP($V$41,Worksheet!$A$11:$AE$41,V27+1,FALSE)))","v":""},{"$f":"IF('Entry Information'!$I178=\"\",\"\",'YOUTH RESULTS'!X28)","v":""},{"$f":"IF('Entry Information'!$I178=\"\",\"\",IF('YOUTH RESULTS'!Y28=\"\",\"\",'YOUTH RESULTS'!Y28))","v":""},"",{"$f":"IF('Entry Information'!$I178=\"\",\"\",IF('Entry Information'!X178=\"\",Z27,Z27-100))","v":""},"",{"$f":"IF($X27=\"\",\"\",(VLOOKUP($AB$41,Worksheet!$A$11:$AE$41,AB27+1,FALSE)))","v":""},{"$f":"IF('Entry Information'!$I178=\"\",\"\",'YOUTH RESULTS'!AD28)","v":""},{"$f":"IF('Entry Information'!$I178=\"\",\"\",IF('YOUTH RESULTS'!AE28=\"\",\"\",'YOUTH RESULTS'!AE28))","v":""},"",{"$f":"IF('Entry Information'!$I178=\"\",\"\",IF('Entry Information'!Z178=\"\",AF27,AF27-100))","v":""},"",{"$f":"IF($AD27=\"\",\"\",(VLOOKUP($AH$41,Worksheet!$A$11:$AE$41,AH27+1,FALSE)))","v":""}]
[{"$f":"IF('Entry Information'!I179=\"\",\"\",'Entry Information'!B179)","v":""},{"$f":"IF('Entry Information'!I179=\"\",\"\",'Entry Information'!C179)","v":""},{"$f":"IF('Entry Information'!I179=\"\",\"\",'Entry Information'!D179)","v":""},{"$f":"IF('Entry Information'!I179=\"\",\"\",'Entry Information'!E179)","v":""},"YOUTH",{"$f":"IF('Entry Information'!$I179=\"\",\"\",'YOUTH RESULTS'!F29)","v":""},{"$f":"IF('Entry Information'!$I179=\"\",\"\",IF('YOUTH RESULTS'!G29=\"\",\"\",'YOUTH RESULTS'!G29))","v":""},"",{"$f":"IF('Entry Information'!$I179=\"\",\"\",IF('Entry Information'!R179=\"\",H28,H28-100))","v":""},"",{"$f":"IF($F28=\"\",\"\",(VLOOKUP($J$41,Worksheet!$A$11:$AE$41,J28+1,FALSE)))","v":""},{"$f":"IF('Entry Information'!$I179=\"\",\"\",'YOUTH RESULTS'!L29)","v":""},{"$f":"IF('Entry Information'!$I179=\"\",\"\",IF('YOUTH RESULTS'!M29=\"\",\"\",'YOUTH RESULTS'!M29))","v":""},"",{"$f":"IF('Entry Information'!$I179=\"\",\"\",IF('Entry Information'!T179=\"\",N28,N28-100))","v":""},"",{"$f":"IF($L28=\"\",\"\",(VLOOKUP($P$41,Worksheet!$A$11:$AE$41,P28+1,FALSE)))","v":""},{"$f":"IF('Entry Information'!$I179=\"\",\"\",'YOUTH RESULTS'!R29)","v":""},{"$f":"IF('Entry Information'!$I179=\"\",\"\",IF('YOUTH RESULTS'!S29=\"\",\"\",'YOUTH RESULTS'!S29))","v":""},"",{"$f":"IF('Entry Information'!$I179=\"\",\"\",IF('Entry Information'!V179=\"\",T28,T28-100))","v":""},"",{"$f":"IF($R28=\"\",\"\",(VLOOKUP($V$41,Worksheet!$A$11:$AE$41,V28+1,FALSE)))","v":""},{"$f":"IF('Entry Information'!$I179=\"\",\"\",'YOUTH RESULTS'!X29)","v":""},{"$f":"IF('Entry Information'!$I179=\"\",\"\",IF('YOUTH RESULTS'!Y29=\"\",\"\",'YOUTH RESULTS'!Y29))","v":""},"",{"$f":"IF('Entry Information'!$I179=\"\",\"\",IF('Entry Information'!X179=\"\",Z28,Z28-100))","v":""},"",{"$f":"IF($X28=\"\",\"\",(VLOOKUP($AB$41,Worksheet!$A$11:$AE$41,AB28+1,FALSE)))","v":""},{"$f":"IF('Entry Information'!$I179=\"\",\"\",'YOUTH RESULTS'!AD29)","v":""},{"$f":"IF('Entry Information'!$I179=\"\",\"\",IF('YOUTH RESULTS'!AE29=\"\",\"\",'YOUTH RESULTS'!AE29))","v":""},"",{"$f":"IF('Entry Information'!$I179=\"\",\"\",IF('Entry Information'!Z179=\"\",AF28,AF28-100))","v":""},"",{"$f":"IF($AD28=\"\",\"\",(VLOOKUP($AH$41,Worksheet!$A$11:$AE$41,AH28+1,FALSE)))","v":""}]
[{"$f":"IF('Entry Information'!I180=\"\",\"\",'Entry Information'!B180)","v":""},{"$f":"IF('Entry Information'!I180=\"\",\"\",'Entry Information'!C180)","v":""},{"$f":"IF('Entry Information'!I180=\"\",\"\",'Entry Information'!D180)","v":""},{"$f":"IF('Entry Information'!I180=\"\",\"\",'Entry Information'!E180)","v":""},"YOUTH",{"$f":"IF('Entry Information'!$I180=\"\",\"\",'YOUTH RESULTS'!F30)","v":""},{"$f":"IF('Entry Information'!$I180=\"\",\"\",IF('YOUTH RESULTS'!G30=\"\",\"\",'YOUTH RESULTS'!G30))","v":""},"",{"$f":"IF('Entry Information'!$I180=\"\",\"\",IF('Entry Information'!R180=\"\",H29,H29-100))","v":""},"",{"$f":"IF($F29=\"\",\"\",(VLOOKUP($J$41,Worksheet!$A$11:$AE$41,J29+1,FALSE)))","v":""},{"$f":"IF('Entry Information'!$I180=\"\",\"\",'YOUTH RESULTS'!L30)","v":""},{"$f":"IF('Entry Information'!$I180=\"\",\"\",IF('YOUTH RESULTS'!M30=\"\",\"\",'YOUTH RESULTS'!M30))","v":""},"",{"$f":"IF('Entry Information'!$I180=\"\",\"\",IF('Entry Information'!T180=\"\",N29,N29-100))","v":""},"",{"$f":"IF($L29=\"\",\"\",(VLOOKUP($P$41,Worksheet!$A$11:$AE$41,P29+1,FALSE)))","v":""},{"$f":"IF('Entry Information'!$I180=\"\",\"\",'YOUTH RESULTS'!R30)","v":""},{"$f":"IF('Entry Information'!$I180=\"\",\"\",IF('YOUTH RESULTS'!S30=\"\",\"\",'YOUTH RESULTS'!S30))","v":""},"",{"$f":"IF('Entry Information'!$I180=\"\",\"\",IF('Entry Information'!V180=\"\",T29,T29-100))","v":""},"",{"$f":"IF($R29=\"\",\"\",(VLOOKUP($V$41,Worksheet!$A$11:$AE$41,V29+1,FALSE)))","v":""},{"$f":"IF('Entry Information'!$I180=\"\",\"\",'YOUTH RESULTS'!X30)","v":""},{"$f":"IF('Entry Information'!$I180=\"\",\"\",IF('YOUTH RESULTS'!Y30=\"\",\"\",'YOUTH RESULTS'!Y30))","v":""},"",{"$f":"IF('Entry Information'!$I180=\"\",\"\",IF('Entry Information'!X180=\"\",Z29,Z29-100))","v":""},"",{"$f":"IF($X29=\"\",\"\",(VLOOKUP($AB$41,Worksheet!$A$11:$AE$41,AB29+1,FALSE)))","v":""},{"$f":"IF('Entry Information'!$I180=\"\",\"\",'YOUTH RESULTS'!AD30)","v":""},{"$f":"IF('Entry Information'!$I180=\"\",\"\",IF('YOUTH RESULTS'!AE30=\"\",\"\",'YOUTH RESULTS'!AE30))","v":""},"",{"$f":"IF('Entry Information'!$I180=\"\",\"\",IF('Entry Information'!Z180=\"\",AF29,AF29-100))","v":""},"",{"$f":"IF($AD29=\"\",\"\",(VLOOKUP($AH$41,Worksheet!$A$11:$AE$41,AH29+1,FALSE)))","v":""}]
[{"$f":"IF('Entry Information'!I181=\"\",\"\",'Entry Information'!B181)","v":""},{"$f":"IF('Entry Information'!I181=\"\",\"\",'Entry Information'!C181)","v":""},{"$f":"IF('Entry Information'!I181=\"\",\"\",'Entry Information'!D181)","v":""},{"$f":"IF('Entry Information'!I181=\"\",\"\",'Entry Information'!E181)","v":""},"YOUTH",{"$f":"IF('Entry Information'!$I181=\"\",\"\",'YOUTH RESULTS'!F31)","v":""},{"$f":"IF('Entry Information'!$I181=\"\",\"\",IF('YOUTH RESULTS'!G31=\"\",\"\",'YOUTH RESULTS'!G31))","v":""},"",{"$f":"IF('Entry Information'!$I181=\"\",\"\",IF('Entry Information'!R181=\"\",H30,H30-100))","v":""},"",{"$f":"IF($F30=\"\",\"\",(VLOOKUP($J$41,Worksheet!$A$11:$AE$41,J30+1,FALSE)))","v":""},{"$f":"IF('Entry Information'!$I181=\"\",\"\",'YOUTH RESULTS'!L31)","v":""},{"$f":"IF('Entry Information'!$I181=\"\",\"\",IF('YOUTH RESULTS'!M31=\"\",\"\",'YOUTH RESULTS'!M31))","v":""},"",{"$f":"IF('Entry Information'!$I181=\"\",\"\",IF('Entry Information'!T181=\"\",N30,N30-100))","v":""},"",{"$f":"IF($L30=\"\",\"\",(VLOOKUP($P$41,Worksheet!$A$11:$AE$41,P30+1,FALSE)))","v":""},{"$f":"IF('Entry Information'!$I181=\"\",\"\",'YOUTH RESULTS'!R31)","v":""},{"$f":"IF('Entry Information'!$I181=\"\",\"\",IF('YOUTH RESULTS'!S31=\"\",\"\",'YOUTH RESULTS'!S31))","v":""},"",{"$f":"IF('Entry Information'!$I181=\"\",\"\",IF('Entry Information'!V181=\"\",T30,T30-100))","v":""},"",{"$f":"IF($R30=\"\",\"\",(VLOOKUP($V$41,Worksheet!$A$11:$AE$41,V30+1,FALSE)))","v":""},{"$f":"IF('Entry Information'!$I181=\"\",\"\",'YOUTH RESULTS'!X31)","v":""},{"$f":"IF('Entry Information'!$I181=\"\",\"\",IF('YOUTH RESULTS'!Y31=\"\",\"\",'YOUTH RESULTS'!Y31))","v":""},"",{"$f":"IF('Entry Information'!$I181=\"\",\"\",IF('Entry Information'!X181=\"\",Z30,Z30-100))","v":""},"",{"$f":"IF($X30=\"\",\"\",(VLOOKUP($AB$41,Worksheet!$A$11:$AE$41,AB30+1,FALSE)))","v":""},{"$f":"IF('Entry Information'!$I181=\"\",\"\",'YOUTH RESULTS'!AD31)","v":""},{"$f":"IF('Entry Information'!$I181=\"\",\"\",IF('YOUTH RESULTS'!AE31=\"\",\"\",'YOUTH RESULTS'!AE31))","v":""},"",{"$f":"IF('Entry Information'!$I181=\"\",\"\",IF('Entry Information'!Z181=\"\",AF30,AF30-100))","v":""},"",{"$f":"IF($AD30=\"\",\"\",(VLOOKUP($AH$41,Worksheet!$A$11:$AE$41,AH30+1,FALSE)))","v":""}]
[{"$f":"IF('Entry Information'!I182=\"\",\"\",'Entry Information'!B182)","v":""},{"$f":"IF('Entry Information'!I182=\"\",\"\",'Entry Information'!C182)","v":""},{"$f":"IF('Entry Information'!I182=\"\",\"\",'Entry Information'!D182)","v":""},{"$f":"IF('Entry Information'!I182=\"\",\"\",'Entry Information'!E182)","v":""},"YOUTH",{"$f":"IF('Entry Information'!$I182=\"\",\"\",'YOUTH RESULTS'!F32)","v":""},{"$f":"IF('Entry Information'!$I182=\"\",\"\",IF('YOUTH RESULTS'!G32=\"\",\"\",'YOUTH RESULTS'!G32))","v":""},"",{"$f":"IF('Entry Information'!$I182=\"\",\"\",IF('Entry Information'!R182=\"\",H31,H31-100))","v":""},"",{"$f":"IF($F31=\"\",\"\",(VLOOKUP($J$41,Worksheet!$A$11:$AE$41,J31+1,FALSE)))","v":""},{"$f":"IF('Entry Information'!$I182=\"\",\"\",'YOUTH RESULTS'!L32)","v":""},{"$f":"IF('Entry Information'!$I182=\"\",\"\",IF('YOUTH RESULTS'!M32=\"\",\"\",'YOUTH RESULTS'!M32))","v":""},"",{"$f":"IF('Entry Information'!$I182=\"\",\"\",IF('Entry Information'!T182=\"\",N31,N31-100))","v":""},"",{"$f":"IF($L31=\"\",\"\",(VLOOKUP($P$41,Worksheet!$A$11:$AE$41,P31+1,FALSE)))","v":""},{"$f":"IF('Entry Information'!$I182=\"\",\"\",'YOUTH RESULTS'!R32)","v":""},{"$f":"IF('Entry Information'!$I182=\"\",\"\",IF('YOUTH RESULTS'!S32=\"\",\"\",'YOUTH RESULTS'!S32))","v":""},"",{"$f":"IF('Entry Information'!$I182=\"\",\"\",IF('Entry Information'!V182=\"\",T31,T31-100))","v":""},"",{"$f":"IF($R31=\"\",\"\",(VLOOKUP($V$41,Worksheet!$A$11:$AE$41,V31+1,FALSE)))","v":""},{"$f":"IF('Entry Information'!$I182=\"\",\"\",'YOUTH RESULTS'!X32)","v":""},{"$f":"IF('Entry Information'!$I182=\"\",\"\",IF('YOUTH RESULTS'!Y32=\"\",\"\",'YOUTH RESULTS'!Y32))","v":""},"",{"$f":"IF('Entry Information'!$I182=\"\",\"\",IF('Entry Information'!X182=\"\",Z31,Z31-100))","v":""},"",{"$f":"IF($X31=\"\",\"\",(VLOOKUP($AB$41,Worksheet!$A$11:$AE$41,AB31+1,FALSE)))","v":""},{"$f":"IF('Entry Information'!$I182=\"\",\"\",'YOUTH RESULTS'!AD32)","v":""},{"$f":"IF('Entry Information'!$I182=\"\",\"\",IF('YOUTH RESULTS'!AE32=\"\",\"\",'YOUTH RESULTS'!AE32))","v":""},"",{"$f":"IF('Entry Information'!$I182=\"\",\"\",IF('Entry Information'!Z182=\"\",AF31,AF31-100))","v":""},"",{"$f":"IF($AD31=\"\",\"\",(VLOOKUP($AH$41,Worksheet!$A$11:$AE$41,AH31+1,FALSE)))","v":""}]
[{"$f":"IF('Entry Information'!I183=\"\",\"\",'Entry Information'!B183)","v":""},{"$f":"IF('Entry Information'!I183=\"\",\"\",'Entry Information'!C183)","v":""},{"$f":"IF('Entry Information'!I183=\"\",\"\",'Entry Information'!D183)","v":""},{"$f":"IF('Entry Information'!I183=\"\",\"\",'Entry Information'!E183)","v":""},"YOUTH",{"$f":"IF('Entry Information'!$I183=\"\",\"\",'YOUTH RESULTS'!F33)","v":""},{"$f":"IF('Entry Information'!$I183=\"\",\"\",IF('YOUTH RESULTS'!G33=\"\",\"\",'YOUTH RESULTS'!G33))","v":""},"",{"$f":"IF('Entry Information'!$I183=\"\",\"\",IF('Entry Information'!R183=\"\",H32,H32-100))","v":""},"",{"$f":"IF($F32=\"\",\"\",(VLOOKUP($J$41,Worksheet!$A$11:$AE$41,J32+1,FALSE)))","v":""},{"$f":"IF('Entry Information'!$I183=\"\",\"\",'YOUTH RESULTS'!L33)","v":""},{"$f":"IF('Entry Information'!$I183=\"\",\"\",IF('YOUTH RESULTS'!M33=\"\",\"\",'YOUTH RESULTS'!M33))","v":""},"",{"$f":"IF('Entry Information'!$I183=\"\",\"\",IF('Entry Information'!T183=\"\",N32,N32-100))","v":""},"",{"$f":"IF($L32=\"\",\"\",(VLOOKUP($P$41,Worksheet!$A$11:$AE$41,P32+1,FALSE)))","v":""},{"$f":"IF('Entry Information'!$I183=\"\",\"\",'YOUTH RESULTS'!R33)","v":""},{"$f":"IF('Entry Information'!$I183=\"\",\"\",IF('YOUTH RESULTS'!S33=\"\",\"\",'YOUTH RESULTS'!S33))","v":""},"",{"$f":"IF('Entry Information'!$I183=\"\",\"\",IF('Entry Information'!V183=\"\",T32,T32-100))","v":""},"",{"$f":"IF($R32=\"\",\"\",(VLOOKUP($V$41,Worksheet!$A$11:$AE$41,V32+1,FALSE)))","v":""},{"$f":"IF('Entry Information'!$I183=\"\",\"\",'YOUTH RESULTS'!X33)","v":""},{"$f":"IF('Entry Information'!$I183=\"\",\"\",IF('YOUTH RESULTS'!Y33=\"\",\"\",'YOUTH RESULTS'!Y33))","v":""},"",{"$f":"IF('Entry Information'!$I183=\"\",\"\",IF('Entry Information'!X183=\"\",Z32,Z32-100))","v":""},"",{"$f":"IF($X32=\"\",\"\",(VLOOKUP($AB$41,Worksheet!$A$11:$AE$41,AB32+1,FALSE)))","v":""},{"$f":"IF('Entry Information'!$I183=\"\",\"\",'YOUTH RESULTS'!AD33)","v":""},{"$f":"IF('Entry Information'!$I183=\"\",\"\",IF('YOUTH RESULTS'!AE33=\"\",\"\",'YOUTH RESULTS'!AE33))","v":""},"",{"$f":"IF('Entry Information'!$I183=\"\",\"\",IF('Entry Information'!Z183=\"\",AF32,AF32-100))","v":""},"",{"$f":"IF($AD32=\"\",\"\",(VLOOKUP($AH$41,Worksheet!$A$11:$AE$41,AH32+1,FALSE)))","v":""}]
[{"$f":"IF('Entry Information'!I184=\"\",\"\",'Entry Information'!B184)","v":""},{"$f":"IF('Entry Information'!I184=\"\",\"\",'Entry Information'!C184)","v":""},{"$f":"IF('Entry Information'!I184=\"\",\"\",'Entry Information'!D184)","v":""},{"$f":"IF('Entry Information'!I184=\"\",\"\",'Entry Information'!E184)","v":""},"YOUTH",{"$f":"IF('Entry Information'!$I184=\"\",\"\",'YOUTH RESULTS'!F34)","v":""},{"$f":"IF('Entry Information'!$I184=\"\",\"\",IF('YOUTH RESULTS'!G34=\"\",\"\",'YOUTH RESULTS'!G34))","v":""},"",{"$f":"IF('Entry Information'!$I184=\"\",\"\",IF('Entry Information'!R184=\"\",H33,H33-100))","v":""},"",{"$f":"IF($F33=\"\",\"\",(VLOOKUP($J$41,Worksheet!$A$11:$AE$41,J33+1,FALSE)))","v":""},{"$f":"IF('Entry Information'!$I184=\"\",\"\",'YOUTH RESULTS'!L34)","v":""},{"$f":"IF('Entry Information'!$I184=\"\",\"\",IF('YOUTH RESULTS'!M34=\"\",\"\",'YOUTH RESULTS'!M34))","v":""},"",{"$f":"IF('Entry Information'!$I184=\"\",\"\",IF('Entry Information'!T184=\"\",N33,N33-100))","v":""},"",{"$f":"IF($L33=\"\",\"\",(VLOOKUP($P$41,Worksheet!$A$11:$AE$41,P33+1,FALSE)))","v":""},{"$f":"IF('Entry Information'!$I184=\"\",\"\",'YOUTH RESULTS'!R34)","v":""},{"$f":"IF('Entry Information'!$I184=\"\",\"\",IF('YOUTH RESULTS'!S34=\"\",\"\",'YOUTH RESULTS'!S34))","v":""},"",{"$f":"IF('Entry Information'!$I184=\"\",\"\",IF('Entry Information'!V184=\"\",T33,T33-100))","v":""},"",{"$f":"IF($R33=\"\",\"\",(VLOOKUP($V$41,Worksheet!$A$11:$AE$41,V33+1,FALSE)))","v":""},{"$f":"IF('Entry Information'!$I184=\"\",\"\",'YOUTH RESULTS'!X34)","v":""},{"$f":"IF('Entry Information'!$I184=\"\",\"\",IF('YOUTH RESULTS'!Y34=\"\",\"\",'YOUTH RESULTS'!Y34))","v":""},"",{"$f":"IF('Entry Information'!$I184=\"\",\"\",IF('Entry Information'!X184=\"\",Z33,Z33-100))","v":""},"",{"$f":"IF($X33=\"\",\"\",(VLOOKUP($AB$41,Worksheet!$A$11:$AE$41,AB33+1,FALSE)))","v":""},{"$f":"IF('Entry Information'!$I184=\"\",\"\",'YOUTH RESULTS'!AD34)","v":""},{"$f":"IF('Entry Information'!$I184=\"\",\"\",IF('YOUTH RESULTS'!AE34=\"\",\"\",'YOUTH RESULTS'!AE34))","v":""},"",{"$f":"IF('Entry Information'!$I184=\"\",\"\",IF('Entry Information'!Z184=\"\",AF33,AF33-100))","v":""},"",{"$f":"IF($AD33=\"\",\"\",(VLOOKUP($AH$41,Worksheet!$A$11:$AE$41,AH33+1,FALSE)))","v":""}]
[{"$f":"IF('Entry Information'!I185=\"\",\"\",'Entry Information'!B185)","v":""},{"$f":"IF('Entry Information'!I185=\"\",\"\",'Entry Information'!C185)","v":""},{"$f":"IF('Entry Information'!I185=\"\",\"\",'Entry Information'!D185)","v":""},{"$f":"IF('Entry Information'!I185=\"\",\"\",'Entry Information'!E185)","v":""},"YOUTH",{"$f":"IF('Entry Information'!$I185=\"\",\"\",'YOUTH RESULTS'!F35)","v":""},{"$f":"IF('Entry Information'!$I185=\"\",\"\",IF('YOUTH RESULTS'!G35=\"\",\"\",'YOUTH RESULTS'!G35))","v":""},"",{"$f":"IF('Entry Information'!$I185=\"\",\"\",IF('Entry Information'!R185=\"\",H34,H34-100))","v":""},"",{"$f":"IF($F34=\"\",\"\",(VLOOKUP($J$41,Worksheet!$A$11:$AE$41,J34+1,FALSE)))","v":""},{"$f":"IF('Entry Information'!$I185=\"\",\"\",'YOUTH RESULTS'!L35)","v":""},{"$f":"IF('Entry Information'!$I185=\"\",\"\",IF('YOUTH RESULTS'!M35=\"\",\"\",'YOUTH RESULTS'!M35))","v":""},"",{"$f":"IF('Entry Information'!$I185=\"\",\"\",IF('Entry Information'!T185=\"\",N34,N34-100))","v":""},"",{"$f":"IF($L34=\"\",\"\",(VLOOKUP($P$41,Worksheet!$A$11:$AE$41,P34+1,FALSE)))","v":""},{"$f":"IF('Entry Information'!$I185=\"\",\"\",'YOUTH RESULTS'!R35)","v":""},{"$f":"IF('Entry Information'!$I185=\"\",\"\",IF('YOUTH RESULTS'!S35=\"\",\"\",'YOUTH RESULTS'!S35))","v":""},"",{"$f":"IF('Entry Information'!$I185=\"\",\"\",IF('Entry Information'!V185=\"\",T34,T34-100))","v":""},"",{"$f":"IF($R34=\"\",\"\",(VLOOKUP($V$41,Worksheet!$A$11:$AE$41,V34+1,FALSE)))","v":""},{"$f":"IF('Entry Information'!$I185=\"\",\"\",'YOUTH RESULTS'!X35)","v":""},{"$f":"IF('Entry Information'!$I185=\"\",\"\",IF('YOUTH RESULTS'!Y35=\"\",\"\",'YOUTH RESULTS'!Y35))","v":""},"",{"$f":"IF('Entry Information'!$I185=\"\",\"\",IF('Entry Information'!X185=\"\",Z34,Z34-100))","v":""},"",{"$f":"IF($X34=\"\",\"\",(VLOOKUP($AB$41,Worksheet!$A$11:$AE$41,AB34+1,FALSE)))","v":""},{"$f":"IF('Entry Information'!$I185=\"\",\"\",'YOUTH RESULTS'!AD35)","v":""},{"$f":"IF('Entry Information'!$I185=\"\",\"\",IF('YOUTH RESULTS'!AE35=\"\",\"\",'YOUTH RESULTS'!AE35))","v":""},"",{"$f":"IF('Entry Information'!$I185=\"\",\"\",IF('Entry Information'!Z185=\"\",AF34,AF34-100))","v":""},"",{"$f":"IF($AD34=\"\",\"\",(VLOOKUP($AH$41,Worksheet!$A$11:$AE$41,AH34+1,FALSE)))","v":""}]
[{"$f":"IF('Entry Information'!I186=\"\",\"\",'Entry Information'!B186)","v":""},{"$f":"IF('Entry Information'!I186=\"\",\"\",'Entry Information'!C186)","v":""},{"$f":"IF('Entry Information'!I186=\"\",\"\",'Entry Information'!D186)","v":""},{"$f":"IF('Entry Information'!I186=\"\",\"\",'Entry Information'!E186)","v":""},"YOUTH",{"$f":"IF('Entry Information'!$I186=\"\",\"\",'YOUTH RESULTS'!F36)","v":""},{"$f":"IF('Entry Information'!$I186=\"\",\"\",IF('YOUTH RESULTS'!G36=\"\",\"\",'YOUTH RESULTS'!G36))","v":""},"",{"$f":"IF('Entry Information'!$I186=\"\",\"\",IF('Entry Information'!R186=\"\",H35,H35-100))","v":""},"",{"$f":"IF($F35=\"\",\"\",(VLOOKUP($J$41,Worksheet!$A$11:$AE$41,J35+1,FALSE)))","v":""},{"$f":"IF('Entry Information'!$I186=\"\",\"\",'YOUTH RESULTS'!L36)","v":""},{"$f":"IF('Entry Information'!$I186=\"\",\"\",IF('YOUTH RESULTS'!M36=\"\",\"\",'YOUTH RESULTS'!M36))","v":""},"",{"$f":"IF('Entry Information'!$I186=\"\",\"\",IF('Entry Information'!T186=\"\",N35,N35-100))","v":""},"",{"$f":"IF($L35=\"\",\"\",(VLOOKUP($P$41,Worksheet!$A$11:$AE$41,P35+1,FALSE)))","v":""},{"$f":"IF('Entry Information'!$I186=\"\",\"\",'YOUTH RESULTS'!R36)","v":""},{"$f":"IF('Entry Information'!$I186=\"\",\"\",IF('YOUTH RESULTS'!S36=\"\",\"\",'YOUTH RESULTS'!S36))","v":""},"",{"$f":"IF('Entry Information'!$I186=\"\",\"\",IF('Entry Information'!V186=\"\",T35,T35-100))","v":""},"",{"$f":"IF($R35=\"\",\"\",(VLOOKUP($V$41,Worksheet!$A$11:$AE$41,V35+1,FALSE)))","v":""},{"$f":"IF('Entry Information'!$I186=\"\",\"\",'YOUTH RESULTS'!X36)","v":""},{"$f":"IF('Entry Information'!$I186=\"\",\"\",IF('YOUTH RESULTS'!Y36=\"\",\"\",'YOUTH RESULTS'!Y36))","v":""},"",{"$f":"IF('Entry Information'!$I186=\"\",\"\",IF('Entry Information'!X186=\"\",Z35,Z35-100))","v":""},"",{"$f":"IF($X35=\"\",\"\",(VLOOKUP($AB$41,Worksheet!$A$11:$AE$41,AB35+1,FALSE)))","v":""},{"$f":"IF('Entry Information'!$I186=\"\",\"\",'YOUTH RESULTS'!AD36)","v":""},{"$f":"IF('Entry Information'!$I186=\"\",\"\",IF('YOUTH RESULTS'!AE36=\"\",\"\",'YOUTH RESULTS'!AE36))","v":""},"",{"$f":"IF('Entry Information'!$I186=\"\",\"\",IF('Entry Information'!Z186=\"\",AF35,AF35-100))","v":""},"",{"$f":"IF($AD35=\"\",\"\",(VLOOKUP($AH$41,Worksheet!$A$11:$AE$41,AH35+1,FALSE)))","v":""}]
[{"$f":"IF('Entry Information'!I187=\"\",\"\",'Entry Information'!B187)","v":""},{"$f":"IF('Entry Information'!I187=\"\",\"\",'Entry Information'!C187)","v":""},{"$f":"IF('Entry Information'!I187=\"\",\"\",'Entry Information'!D187)","v":""},{"$f":"IF('Entry Information'!I187=\"\",\"\",'Entry Information'!E187)","v":""},"YOUTH",{"$f":"IF('Entry Information'!$I187=\"\",\"\",'YOUTH RESULTS'!F37)","v":""},{"$f":"IF('Entry Information'!$I187=\"\",\"\",IF('YOUTH RESULTS'!G37=\"\",\"\",'YOUTH RESULTS'!G37))","v":""},"",{"$f":"IF('Entry Information'!$I187=\"\",\"\",IF('Entry Information'!R187=\"\",H36,H36-100))","v":""},"",{"$f":"IF($F36=\"\",\"\",(VLOOKUP($J$41,Worksheet!$A$11:$AE$41,J36+1,FALSE)))","v":""},{"$f":"IF('Entry Information'!$I187=\"\",\"\",'YOUTH RESULTS'!L37)","v":""},{"$f":"IF('Entry Information'!$I187=\"\",\"\",IF('YOUTH RESULTS'!M37=\"\",\"\",'YOUTH RESULTS'!M37))","v":""},"",{"$f":"IF('Entry Information'!$I187=\"\",\"\",IF('Entry Information'!T187=\"\",N36,N36-100))","v":""},"",{"$f":"IF($L36=\"\",\"\",(VLOOKUP($P$41,Worksheet!$A$11:$AE$41,P36+1,FALSE)))","v":""},{"$f":"IF('Entry Information'!$I187=\"\",\"\",'YOUTH RESULTS'!R37)","v":""},{"$f":"IF('Entry Information'!$I187=\"\",\"\",IF('YOUTH RESULTS'!S37=\"\",\"\",'YOUTH RESULTS'!S37))","v":""},"",{"$f":"IF('Entry Information'!$I187=\"\",\"\",IF('Entry Information'!V187=\"\",T36,T36-100))","v":""},"",{"$f":"IF($R36=\"\",\"\",(VLOOKUP($V$41,Worksheet!$A$11:$AE$41,V36+1,FALSE)))","v":""},{"$f":"IF('Entry Information'!$I187=\"\",\"\",'YOUTH RESULTS'!X37)","v":""},{"$f":"IF('Entry Information'!$I187=\"\",\"\",IF('YOUTH RESULTS'!Y37=\"\",\"\",'YOUTH RESULTS'!Y37))","v":""},"",{"$f":"IF('Entry Information'!$I187=\"\",\"\",IF('Entry Information'!X187=\"\",Z36,Z36-100))","v":""},"",{"$f":"IF($X36=\"\",\"\",(VLOOKUP($AB$41,Worksheet!$A$11:$AE$41,AB36+1,FALSE)))","v":""},{"$f":"IF('Entry Information'!$I187=\"\",\"\",'YOUTH RESULTS'!AD37)","v":""},{"$f":"IF('Entry Information'!$I187=\"\",\"\",IF('YOUTH RESULTS'!AE37=\"\",\"\",'YOUTH RESULTS'!AE37))","v":""},"",{"$f":"IF('Entry Information'!$I187=\"\",\"\",IF('Entry Information'!Z187=\"\",AF36,AF36-100))","v":""},"",{"$f":"IF($AD36=\"\",\"\",(VLOOKUP($AH$41,Worksheet!$A$11:$AE$41,AH36+1,FALSE)))","v":""}]
[{"$f":"IF('Entry Information'!I188=\"\",\"\",'Entry Information'!B188)","v":""},{"$f":"IF('Entry Information'!I188=\"\",\"\",'Entry Information'!C188)","v":""},{"$f":"IF('Entry Information'!I188=\"\",\"\",'Entry Information'!D188)","v":""},{"$f":"IF('Entry Information'!I188=\"\",\"\",'Entry Information'!E188)","v":""},"YOUTH",{"$f":"IF('Entry Information'!$I188=\"\",\"\",'YOUTH RESULTS'!F38)","v":""},{"$f":"IF('Entry Information'!$I188=\"\",\"\",IF('YOUTH RESULTS'!G38=\"\",\"\",'YOUTH RESULTS'!G38))","v":""},"",{"$f":"IF('Entry Information'!$I188=\"\",\"\",IF('Entry Information'!R188=\"\",H37,H37-100))","v":""},"",{"$f":"IF($F37=\"\",\"\",(VLOOKUP($J$41,Worksheet!$A$11:$AE$41,J37+1,FALSE)))","v":""},{"$f":"IF('Entry Information'!$I188=\"\",\"\",'YOUTH RESULTS'!L38)","v":""},{"$f":"IF('Entry Information'!$I188=\"\",\"\",IF('YOUTH RESULTS'!M38=\"\",\"\",'YOUTH RESULTS'!M38))","v":""},"",{"$f":"IF('Entry Information'!$I188=\"\",\"\",IF('Entry Information'!T188=\"\",N37,N37-100))","v":""},"",{"$f":"IF($L37=\"\",\"\",(VLOOKUP($P$41,Worksheet!$A$11:$AE$41,P37+1,FALSE)))","v":""},{"$f":"IF('Entry Information'!$I188=\"\",\"\",'YOUTH RESULTS'!R38)","v":""},{"$f":"IF('Entry Information'!$I188=\"\",\"\",IF('YOUTH RESULTS'!S38=\"\",\"\",'YOUTH RESULTS'!S38))","v":""},"",{"$f":"IF('Entry Information'!$I188=\"\",\"\",IF('Entry Information'!V188=\"\",T37,T37-100))","v":""},"",{"$f":"IF($R37=\"\",\"\",(VLOOKUP($V$41,Worksheet!$A$11:$AE$41,V37+1,FALSE)))","v":""},{"$f":"IF('Entry Information'!$I188=\"\",\"\",'YOUTH RESULTS'!X38)","v":""},{"$f":"IF('Entry Information'!$I188=\"\",\"\",IF('YOUTH RESULTS'!Y38=\"\",\"\",'YOUTH RESULTS'!Y38))","v":""},"",{"$f":"IF('Entry Information'!$I188=\"\",\"\",IF('Entry Information'!X188=\"\",Z37,Z37-100))","v":""},"",{"$f":"IF($X37=\"\",\"\",(VLOOKUP($AB$41,Worksheet!$A$11:$AE$41,AB37+1,FALSE)))","v":""},{"$f":"IF('Entry Information'!$I188=\"\",\"\",'YOUTH RESULTS'!AD38)","v":""},{"$f":"IF('Entry Information'!$I188=\"\",\"\",IF('YOUTH RESULTS'!AE38=\"\",\"\",'YOUTH RESULTS'!AE38))","v":""},"",{"$f":"IF('Entry Information'!$I188=\"\",\"\",IF('Entry Information'!Z188=\"\",AF37,AF37-100))","v":""},"",{"$f":"IF($AD37=\"\",\"\",(VLOOKUP($AH$41,Worksheet!$A$11:$AE$41,AH37+1,FALSE)))","v":""}]
[{"$f":"IF('Entry Information'!I189=\"\",\"\",'Entry Information'!B189)","v":""},{"$f":"IF('Entry Information'!I189=\"\",\"\",'Entry Information'!C189)","v":""},{"$f":"IF('Entry Information'!I189=\"\",\"\",'Entry Information'!D189)","v":""},{"$f":"IF('Entry Information'!I189=\"\",\"\",'Entry Information'!E189)","v":""},"YOUTH",{"$f":"IF('Entry Information'!$I189=\"\",\"\",'YOUTH RESULTS'!F39)","v":""},{"$f":"IF('Entry Information'!$I189=\"\",\"\",IF('YOUTH RESULTS'!G39=\"\",\"\",'YOUTH RESULTS'!G39))","v":""},"",{"$f":"IF('Entry Information'!$I189=\"\",\"\",IF('Entry Information'!R189=\"\",H38,H38-100))","v":""},"",{"$f":"IF($F38=\"\",\"\",(VLOOKUP($J$41,Worksheet!$A$11:$AE$41,J38+1,FALSE)))","v":""},{"$f":"IF('Entry Information'!$I189=\"\",\"\",'YOUTH RESULTS'!L39)","v":""},{"$f":"IF('Entry Information'!$I189=\"\",\"\",IF('YOUTH RESULTS'!M39=\"\",\"\",'YOUTH RESULTS'!M39))","v":""},"",{"$f":"IF('Entry Information'!$I189=\"\",\"\",IF('Entry Information'!T189=\"\",N38,N38-100))","v":""},"",{"$f":"IF($L38=\"\",\"\",(VLOOKUP($P$41,Worksheet!$A$11:$AE$41,P38+1,FALSE)))","v":""},{"$f":"IF('Entry Information'!$I189=\"\",\"\",'YOUTH RESULTS'!R39)","v":""},{"$f":"IF('Entry Information'!$I189=\"\",\"\",IF('YOUTH RESULTS'!S39=\"\",\"\",'YOUTH RESULTS'!S39))","v":""},"",{"$f":"IF('Entry Information'!$I189=\"\",\"\",IF('Entry Information'!V189=\"\",T38,T38-100))","v":""},"",{"$f":"IF($R38=\"\",\"\",(VLOOKUP($V$41,Worksheet!$A$11:$AE$41,V38+1,FALSE)))","v":""},{"$f":"IF('Entry Information'!$I189=\"\",\"\",'YOUTH RESULTS'!X39)","v":""},{"$f":"IF('Entry Information'!$I189=\"\",\"\",IF('YOUTH RESULTS'!Y39=\"\",\"\",'YOUTH RESULTS'!Y39))","v":""},"",{"$f":"IF('Entry Information'!$I189=\"\",\"\",IF('Entry Information'!X189=\"\",Z38,Z38-100))","v":""},"",{"$f":"IF($X38=\"\",\"\",(VLOOKUP($AB$41,Worksheet!$A$11:$AE$41,AB38+1,FALSE)))","v":""},{"$f":"IF('Entry Information'!$I189=\"\",\"\",'YOUTH RESULTS'!AD39)","v":""},{"$f":"IF('Entry Information'!$I189=\"\",\"\",IF('YOUTH RESULTS'!AE39=\"\",\"\",'YOUTH RESULTS'!AE39))","v":""},"",{"$f":"IF('Entry Information'!$I189=\"\",\"\",IF('Entry Information'!Z189=\"\",AF38,AF38-100))","v":""},"",{"$f":"IF($AD38=\"\",\"\",(VLOOKUP($AH$41,Worksheet!$A$11:$AE$41,AH38+1,FALSE)))","v":""}]
[{"$f":"IF('Entry Information'!I190=\"\",\"\",'Entry Information'!B190)","v":""},{"$f":"IF('Entry Information'!I190=\"\",\"\",'Entry Information'!C190)","v":""},{"$f":"IF('Entry Information'!I190=\"\",\"\",'Entry Information'!D190)","v":""},{"$f":"IF('Entry Information'!I190=\"\",\"\",'Entry Information'!E190)","v":""},"YOUTH",{"$f":"IF('Entry Information'!$I190=\"\",\"\",'YOUTH RESULTS'!F40)","v":""},{"$f":"IF('Entry Information'!$I190=\"\",\"\",IF('YOUTH RESULTS'!G40=\"\",\"\",'YOUTH RESULTS'!G40))","v":""},"",{"$f":"IF('Entry Information'!$I190=\"\",\"\",IF('Entry Information'!R190=\"\",H39,H39-100))","v":""},"",{"$f":"IF($F39=\"\",\"\",(VLOOKUP($J$41,Worksheet!$A$11:$AE$41,J39+1,FALSE)))","v":""},{"$f":"IF('Entry Information'!$I190=\"\",\"\",'YOUTH RESULTS'!L40)","v":""},{"$f":"IF('Entry Information'!$I190=\"\",\"\",IF('YOUTH RESULTS'!M40=\"\",\"\",'YOUTH RESULTS'!M40))","v":""},"",{"$f":"IF('Entry Information'!$I190=\"\",\"\",IF('Entry Information'!T190=\"\",N39,N39-100))","v":""},"",{"$f":"IF($L39=\"\",\"\",(VLOOKUP($P$41,Worksheet!$A$11:$AE$41,P39+1,FALSE)))","v":""},{"$f":"IF('Entry Information'!$I190=\"\",\"\",'YOUTH RESULTS'!R40)","v":""},{"$f":"IF('Entry Information'!$I190=\"\",\"\",IF('YOUTH RESULTS'!S40=\"\",\"\",'YOUTH RESULTS'!S40))","v":""},"",{"$f":"IF('Entry Information'!$I190=\"\",\"\",IF('Entry Information'!V190=\"\",T39,T39-100))","v":""},"",{"$f":"IF($R39=\"\",\"\",(VLOOKUP($V$41,Worksheet!$A$11:$AE$41,V39+1,FALSE)))","v":""},{"$f":"IF('Entry Information'!$I190=\"\",\"\",'YOUTH RESULTS'!X40)","v":""},{"$f":"IF('Entry Information'!$I190=\"\",\"\",IF('YOUTH RESULTS'!Y40=\"\",\"\",'YOUTH RESULTS'!Y40))","v":""},"",{"$f":"IF('Entry Information'!$I190=\"\",\"\",IF('Entry Information'!X190=\"\",Z39,Z39-100))","v":""},"",{"$f":"IF($X39=\"\",\"\",(VLOOKUP($AB$41,Worksheet!$A$11:$AE$41,AB39+1,FALSE)))","v":""},{"$f":"IF('Entry Information'!$I190=\"\",\"\",'YOUTH RESULTS'!AD40)","v":""},{"$f":"IF('Entry Information'!$I190=\"\",\"\",IF('YOUTH RESULTS'!AE40=\"\",\"\",'YOUTH RESULTS'!AE40))","v":""},"",{"$f":"IF('Entry Information'!$I190=\"\",\"\",IF('Entry Information'!Z190=\"\",AF39,AF39-100))","v":""},"",{"$f":"IF($AD39=\"\",\"\",(VLOOKUP($AH$41,Worksheet!$A$11:$AE$41,AH39+1,FALSE)))","v":""}]
[]
[null,null,null,null,null,null,null,null,null,{"$f":"COUNTIF(J10:J24,\">=0\")","v":0},null,null,null,null,null,{"$f":"COUNTIF(P10:P24,\">=0\")","v":0},null,null,null,null,null,{"$f":"COUNTIF(V10:V24,\">=0\")","v":0},null,null,null,null,null,{"$f":"COUNTIF(AB10:AB24,\">=0\")","v":0},null,null,null,null,null,{"$f":"COUNTIF(AH10:AH24,\">=0\")","v":0}]
[null,null,null,null,null,"1 - Total Penalty Points",null,null,null,null,null,"1 - Total Penalty Points",null,null,null,null,null,"1 - Total Penalty Points",null,null,null,null,null,"1 - Total Penalty Points",null,null,null,null,null,"1 - Total Penalty Points"]
[null,null,null,null,null,"2 - Extended Trot",null,null,null,null,null,"2 - Drag Log",null,null,null,null,null,"2 - Penning",null,null,null,null,null,"2 - Box Cow",null,null,null,null,null,"2 - Box Cow"]
[null,null,null,null,null,"3 - Transition down lope/walk/stop",null,null,null,null,null,"3 - Ground tie/bridle/pick-up legs",null,null,null,null,null,"3 - Working Center of arena",null,null,null,null,null,"3 -First Lead Change",null,null,null,null,null,"3 -First Lead Change"]
[null,null,null,null,null,"4 - Transition to lope/lope",null,null,null,null,null,"4 - Gate",null,null,null,null,null,"4 - Cut from Herd",null,null,null,null,null,"4 -Spin",null,null,null,null,null,"4 -Spin"]
[]
[]
["Scores in RED are ties - enter a 1 in the Tie Breaker Column of the winner to break tie.  If multiple ties enter a 1 for the second place and a 2 for winner."]
[]
[]
["Places highlighted have a major penatly."]

{"sheet":"AWARDS","index":26,"n_rows":193,"n_cols":11,"rows_kept":193,"cut":false,"hidden":false,"merged":[[179,0,180,0],[180,1,180,2],[180,3,180,4],[180,5,180,6],[180,7,180,8],[180,9,180,10],[181,0,182,0],[182,1,182,2],[182,3,182,4],[182,5,182,6],[182,7,182,8],[182,9,182,10],[154,0,155,6],[153,7,153,10],[152,9,152,10],[152,7,152,8],[152,0,153,6],[166,0,166,9],[167,0,167,9],[173,0,174,0],[174,1,174,2],[174,3,174,4],[174,5,174,6],[174,7,174,8],[174,9,174,10],[172,5,172,6],[172,7,172,8],[172,9,172,10],[172,1,172,2],[156,9,156,10],[157,7,157,10],[158,9,158,10],[159,7,159,10],[160,0,161,6],[160,7,160,8],[160,9,160,10],[177,0,178,0],[178,1,178,2],[178,3,178,4],[178,5,178,6],[178,7,178,8],[170,5,170,6],[170,7,170,8],[170,9,170,10],[178,9,178,10],[175,0,176,0],[176,1,176,2],[176,3,176,4],[176,5,176,6],[176,7,176,8],[176,9,176,10],[110,5,110,6],[110,7,110,8],[143,9,143,10],[148,0,149,0],[149,1,149,2],[149,3,149,4],[149,5,149,6],[149,7,149,8],[149,9,149,10],[144,0,145,0],[145,1,145,2],[145,3,145,4],[145,5,145,6],[145,7,145,8],[145,9,145,10],[146,0,147,0],[147,1,147,2],[147,3,147,4],[147,5,147,6],[147,7,147,8],[147,9,147,10],[137,9,137,10],[136,0,136,10],[125,0,126,6],[133,0,133,9],[134,0,134,9],[137,1,137,2],[129,7,129,8],[129,9,129,10],[121,9,121,10],[121,7,121,8],[121,0,122,6],[122,7,122,10],[123,0,124,6],[123,9,123,10],[124,7,124,10],[111,0,112,0],[112,1,112,2],[112,3,112,4],[112,5,112,6],[112,7,112,8],[112,9,112,10],[110,9,110,10],[83,1,83,2],[83,3,83,4],[83,5,83,6],[83,7,83,8],[83,9,83,10],[100,0,100,9],[101,0,101,9],[103,0,103,10],[105,0,106,0],[106,1,106,2],[106,3,106,4],[106,5,106,6],[96,0,97,6],[104,1,104,2],[109,0,110,0],[110,1,110,2],[110,3,110,4],[79,3,79,4],[80,0,81,0],[81,1,81,2],[79,5,79,6],[79,7,79,8],[79,9,79,10],[77,7,77,8],[77,9,77,10],[74,0,75,0],[75,1,75,2],[75,3,75,4],[77,1,77,2],[77,3,77,4],[77,5,77,6],[75,5,75,6],[75,7,75,8],[75,9,75,10],[76,0,77,0],[52,0,52,10],[71,7,71,8],[71,9,71,10],[54,7,54,10],[61,0,62,6],[61,7,61,8],[61,9,61,10],[62,7,62,10],[71,3,71,4],[71,5,71,6],[70,0,70,10],[53,7,53,8],[53,0,54,6],[53,9,53,10],[55,0,56,6],[63,0,64,6],[63,7,63,8],[63,9,63,10],[59,0,60,6],[59,7,59,8],[59,9,59,10],[60,7,60,10],[64,7,64,10],[55,7,55,8],[16,0,17,0],[17,1,17,2],[34,0,34,9],[35,0,35,9],[37,0,37,10],[48,7,48,8],[48,9,48,10],[44,1,44,2],[44,3,44,4],[44,5,44,6],[39,0,40,0],[40,1,40,2],[40,3,40,4],[40,5,40,6],[43,0,44,0],[17,9,17,10],[17,5,17,6],[45,0,46,0],[23,7,23,10],[28,0,29,6],[28,7,28,8],[19,0,19,10],[38,1,38,2],[38,3,38,4],[7,5,7,6],[7,3,7,4],[22,0,23,6],[22,7,22,8],[22,9,22,10],[7,9,7,10],[41,0,42,0],[42,1,42,2],[42,3,42,4],[42,5,42,6],[42,7,42,8],[7,7,7,8],[13,9,13,10],[13,5,13,6],[13,3,13,4],[13,7,13,8],[17,3,17,4],[17,7,17,8],[14,0,15,0],[15,1,15,2],[15,9,15,10],[15,5,15,6],[15,3,15,4],[15,7,15,8],[1,0,1,9],[2,0,2,9],[5,1,5,2],[5,9,5,10],[5,5,5,6],[5,3,5,4],[12,0,13,0],[13,1,13,2],[5,7,5,8],[4,0,4,10],[10,0,11,0],[11,1,11,2],[11,9,11,10],[11,5,11,6],[11,3,11,4],[11,7,11,8],[8,0,9,0],[9,1,9,2],[9,9,9,10],[9,5,9,6],[9,3,9,4],[9,7,9,8],[6,0,7,0],[7,1,7,2],[38,9,38,10],[24,7,24,8],[24,9,24,10],[25,7,25,10],[26,9,26,10],[27,7,27,10],[20,0,21,6],[29,7,29,10],[24,0,25,6],[31,7,31,10],[30,9,30,10],[26,0,27,6],[26,7,26,8],[20,7,20,8],[20,9,20,10],[21,7,21,10],[28,9,28,10],[155,7,155,10],[154,9,154,10],[119,0,120,6],[154,7,154,8],[96,7,96,8],[96,9,96,10],[73,7,73,8],[73,9,73,10],[67,0,67,9],[68,0,68,9],[71,1,71,2],[78,0,79,0],[79,1,79,2],[139,9,139,10],[141,5,141,6],[141,7,141,8],[141,9,141,10],[142,0,143,0],[143,1,143,2],[116,3,116,4],[113,0,114,0],[114,1,114,2],[114,3,114,4],[114,5,114,6],[46,1,46,2],[46,3,46,4],[46,5,46,6],[50,9,50,10],[50,7,50,8],[30,0,31,6],[30,7,30,8],[46,7,46,8],[46,9,46,10],[47,0,48,0],[48,1,48,2],[48,3,48,4],[48,5,48,6],[44,9,44,10],[40,9,40,10],[42,9,42,10],[49,0,50,0],[50,1,50,2],[50,3,50,4],[50,5,50,6],[44,7,44,8],[40,7,40,8],[38,5,38,6],[38,7,38,8],[189,0,190,6],[189,7,189,8],[116,7,116,8],[137,3,137,4],[137,5,137,6],[137,7,137,8],[158,0,159,6],[158,7,158,8],[138,0,139,0],[139,1,139,2],[139,3,139,4],[139,5,139,6],[139,7,139,8],[140,0,141,0],[141,1,141,2],[141,3,141,4],[123,7,123,8],[143,3,143,4],[143,5,143,6],[143,7,143,8],[151,0,151,10],[156,0,157,6],[156,7,156,8],[161,7,161,10],[191,0,192,6],[191,7,191,8],[191,9,191,10],[192,7,192,10],[162,0,163,6],[162,7,162,8],[162,9,162,10],[163,7,163,10],[184,0,184,10],[171,0,172,0],[170,1,170,2],[170,3,170,4],[169,0,169,10],[188,7,188,10],[187,9,187,10],[187,7,187,8],[187,0,188,6],[186,7,186,10],[185,9,185,10],[185,7,185,8],[185,0,186,6],[172,3,172,4],[189,9,189,10],[190,7,190,10],[114,7,114,8],[114,9,114,10],[115,0,116,0],[116,1,116,2],[127,0,128,6],[127,7,127,8],[127,9,127,10],[128,7,128,10],[129,0,130,6],[118,0,118,10],[120,7,120,10],[119,9,119,10],[119,7,119,8],[125,7,125,8],[125,9,125,10],[126,7,126,10],[130,7,130,10],[116,9,116,10],[116,5,116,6],[92,0,93,6],[92,7,92,8],[92,9,92,10],[93,7,93,10],[94,0,95,6],[94,7,94,8],[94,9,94,10],[95,7,95,10],[106,9,106,10],[104,9,104,10],[104,3,104,4],[97,7,97,10],[107,0,108,0],[108,1,108,2],[108,3,108,4],[108,5,108,6],[108,7,108,8],[108,9,108,10],[106,7,106,8],[104,5,104,6],[104,7,104,8],[90,0,91,6],[90,7,90,8],[90,9,90,10],[81,5,81,6],[81,7,81,8],[81,9,81,10],[85,0,85,10],[82,0,83,0],[89,7,89,10],[81,3,81,4],[91,7,91,10],[86,9,86,10],[86,7,86,8],[88,7,88,8],[86,0,87,6],[88,9,88,10],[88,0,89,6],[87,7,87,10],[55,9,55,10],[57,0,58,6],[57,7,57,8],[57,9,57,10],[58,7,58,10],[72,0,73,0],[73,1,73,2],[73,3,73,4],[73,5,73,6],[56,7,56,10]]}
[]
[{"$f":"'Entry Information'!$C$4","v":"Ranch Horse Challenge"}]
[{"$f":"'Entry Information'!$C$5","v":"2018-03-25"}]
[]
["WALK TROT INDIVIDUAL CLASS WINNERS"]
["NOVICE","Ranch Riding",null,"Trail",null,"Cutting",null,"Ranch Reined",null,"Ranch Cow"]
[1,{"$f":"INDEX('WALK TROT RESULTS'!$C$11:$C$40,MATCH(AWARDS!$A7,'WALK TROT RESULTS'!$J$11:$J$40,0))","v":"Christine"},{"$f":"INDEX('WALK TROT RESULTS'!$B$11:$B$40,MATCH(AWARDS!$A7,'WALK TROT RESULTS'!$J$11:$J$40,0))","v":"McClammy"},{"$f":"INDEX('WALK TROT RESULTS'!$C$11:$C$40,MATCH(AWARDS!$A7,'WALK TROT RESULTS'!$P$11:$P$40,0))","v":"Christine"},{"$f":"INDEX('WALK TROT RESULTS'!$B$11:$B$40,MATCH(AWARDS!$A7,'WALK TROT RESULTS'!$P$11:$P$40,0))","v":"McClammy"},{"$f":"INDEX('WALK TROT RESULTS'!$C$11:$C$40,MATCH(AWARDS!$A7,'WALK TROT RESULTS'!$V$11:$V$40,0))","v":"Laureen"},{"$f":"INDEX('WALK TROT RESULTS'!$B$11:$B$40,MATCH(AWARDS!$A7,'WALK TROT RESULTS'!$V$11:$V$40,0))","v":"Little"},{"$f":"INDEX('WALK TROT RESULTS'!$C$11:$C$40,MATCH(AWARDS!$A7,'WALK TROT RESULTS'!$AB$11:$AB$40,0))","v":"Christine"},{"$f":"INDEX('WALK TROT RESULTS'!$B$11:$B$40,MATCH(AWARDS!$A7,'WALK TROT RESULTS'!$AB$11:$AB$40,0))","v":"McClammy"},{"$f":"INDEX('WALK TROT RESULTS'!$C$11:$C$40,MATCH(AWARDS!$A7,'WALK TROT RESULTS'!$AH$11:$AH$40,0))","v":"Laureen"},{"$f":"INDEX('WALK TROT RESULTS'!$B$11:$B$40,MATCH(AWARDS!$A7,'WALK TROT RESULTS'!$AH$11:$AH$40,0))","v":"Little"}]
[null,{"$f":"INDEX('WALK TROT RESULTS'!$D$11:$D$40,MATCH(AWARDS!$A7,'WALK TROT RESULTS'!$J$11:$J$40,0))","v":"Cattastrophe"},null,{"$f":"INDEX('WALK TROT RESULTS'!$D$11:$D$40,MATCH(AWARDS!$A7,'WALK TROT RESULTS'!$P$11:$P$40,0))","v":"Cattastrophe"},null,{"$f":"INDEX('WALK TROT RESULTS'!$D$11:$D$40,MATCH(AWARDS!$A7,'WALK TROT RESULTS'!$V$11:$V$40,0))","v":"Smart Little Hemi"},null,{"$f":"INDEX('WALK TROT RESULTS'!$D$11:$D$40,MATCH(AWARDS!$A7,'WALK TROT RESULTS'!$AB$11:$AB$40,0))","v":"Cattastrophe"},null,{"$f":"INDEX('WALK TROT RESULTS'!$D$11:$D$40,MATCH(AWARDS!$A7,'WALK TROT RESULTS'!$AH$11:$AH$40,0))","v":"Smart Little Hemi"}]
[2,{"$f":"INDEX('WALK TROT RESULTS'!C$11:$C$40,MATCH(AWARDS!$A9,'WALK TROT RESULTS'!$J$11:$J$40,0))","v":"Ian"},{"$f":"INDEX('WALK TROT RESULTS'!$B$11:$B$40,MATCH(AWARDS!$A9,'WALK TROT RESULTS'!$J$11:$J$40,0))","v":"VanStaalduien"},{"$f":"INDEX('WALK TROT RESULTS'!$C$11:$C$40,MATCH(AWARDS!$A9,'WALK TROT RESULTS'!$P$11:$P$40,0))","v":"Leigh"},{"$f":"INDEX('WALK TROT RESULTS'!$B$11:$B$40,MATCH(AWARDS!$A9,'WALK TROT RESULTS'!$P$11:$P$40,0))","v":"Barthen"},{"$f":"INDEX('WALK TROT RESULTS'!$C$11:$C$40,MATCH(AWARDS!$A9,'WALK TROT RESULTS'!$V$11:$V$40,0))","v":"Megan"},{"$f":"INDEX('WALK TROT RESULTS'!$B$11:$B$40,MATCH(AWARDS!$A9,'WALK TROT RESULTS'!$V$11:$V$40,0))","v":"Finlayson"},{"$f":"INDEX('WALK TROT RESULTS'!$C$11:$C$40,MATCH(AWARDS!$A9,'WALK TROT RESULTS'!$AB$11:$AB$40,0))","v":"Ian"},{"$f":"INDEX('WALK TROT RESULTS'!$B$11:$B$40,MATCH(AWARDS!$A9,'WALK TROT RESULTS'!$AB$11:$AB$40,0))","v":"VanStaalduien"},{"$f":"INDEX('WALK TROT RESULTS'!$C$11:$C$40,MATCH(AWARDS!$A9,'WALK TROT RESULTS'!$AH$11:$AH$40,0))","v":"Megan"},{"$f":"INDEX('WALK TROT RESULTS'!$B$11:$B$40,MATCH(AWARDS!$A9,'WALK TROT RESULTS'!$AH$11:$AH$40,0))","v":"Finlayson"}]
[null,{"$f":"INDEX('WALK TROT RESULTS'!$D$11:$D$40,MATCH(AWARDS!$A9,'WALK TROT RESULTS'!$J$11:$J$40,0))","v":"Meradas Truckin Chex"},null,{"$f":"INDEX('WALK TROT RESULTS'!$D$11:$D$40,MATCH(AWARDS!$A9,'WALK TROT RESULTS'!$P$11:$P$40,0))","v":""},null,{"$f":"INDEX('WALK TROT RESULTS'!$D$11:$D$40,MATCH(AWARDS!$A9,'WALK TROT RESULTS'!$V$11:$V$40,0))","v":"Freckles"},null,{"$f":"INDEX('WALK TROT RESULTS'!$D$11:$D$40,MATCH(AWARDS!$A9,'WALK TROT RESULTS'!$AB$11:$AB$40,0))","v":"Meradas Truckin Chex"},null,{"$f":"INDEX('WALK TROT RESULTS'!$D$11:$D$40,MATCH(AWARDS!$A9,'WALK TROT RESULTS'!$AH$11:$AH$40,0))","v":"Freckles"}]
[3,{"$f":"INDEX('WALK TROT RESULTS'!C$11:$C$40,MATCH(AWARDS!$A11,'WALK TROT RESULTS'!$J$11:$J$40,0))","v":"Laureen"},{"$f":"INDEX('WALK TROT RESULTS'!$B$11:$B$40,MATCH(AWARDS!$A11,'WALK TROT RESULTS'!$J$11:$J$40,0))","v":"Little"},{"$f":"INDEX('WALK TROT RESULTS'!$C$11:$C$40,MATCH(AWARDS!$A11,'WALK TROT RESULTS'!$P$11:$P$40,0))","v":"Megan"},{"$f":"INDEX('WALK TROT RESULTS'!$B$11:$B$40,MATCH(AWARDS!$A11,'WALK TROT RESULTS'!$P$11:$P$40,0))","v":"Finlayson"},{"$f":"INDEX('WALK TROT RESULTS'!$C$11:$C$40,MATCH(AWARDS!$A11,'WALK TROT RESULTS'!$V$11:$V$40,0))","v":"Ian"},{"$f":"INDEX('WALK TROT RESULTS'!$B$11:$B$40,MATCH(AWARDS!$A11,'WALK TROT RESULTS'!$V$11:$V$40,0))","v":"VanStaalduien"},{"$f":"INDEX('WALK TROT RESULTS'!$C$11:$C$40,MATCH(AWARDS!$A11,'WALK TROT RESULTS'!$AB$11:$AB$40,0))","v":"Leigh"},{"$f":"INDEX('WALK TROT RESULTS'!$B$11:$B$40,MATCH(AWARDS!$A11,'WALK TROT RESULTS'!$AB$11:$AB$40,0))","v":"Barthen"},{"$f":"INDEX('WALK TROT RESULTS'!$C$11:$C$40,MATCH(AWARDS!$A11,'WALK TROT RESULTS'!$AH$11:$AH$40,0))","v":"Ian"},{"$f":"INDEX('WALK TROT RESULTS'!$B$11:$B$40,MATCH(AWARDS!$A11,'WALK TROT RESULTS'!$AH$11:$AH$40,0))","v":"VanStaalduien"}]
[null,{"$f":"INDEX('WALK TROT RESULTS'!$D$11:$D$40,MATCH(AWARDS!$A11,'WALK TROT RESULTS'!$J$11:$J$40,0))","v":"Smart Little Hemi"},null,{"$f":"INDEX('WALK TROT RESULTS'!$D$11:$D$40,MATCH(AWARDS!$A11,'WALK TROT RESULTS'!$P$11:$P$40,0))","v":"Freckles"},null,{"$f":"INDEX('WALK TROT RESULTS'!$D$11:$D$40,MATCH(AWARDS!$A11,'WALK TROT RESULTS'!$V$11:$V$40,0))","v":"Meradas Truckin Chex"},null,{"$f":"INDEX('WALK TROT RESULTS'!$D$11:$D$40,MATCH(AWARDS!$A11,'WALK TROT RESULTS'!$AB$11:$AB$40,0))","v":""},null,{"$f":"INDEX('WALK TROT RESULTS'!$D$11:$D$40,MATCH(AWARDS!$A11,'WALK TROT RESULTS'!$AH$11:$AH$40,0))","v":"Meradas Truckin Chex"}]
[4,{"$f":"INDEX('WALK TROT RESULTS'!C$11:$C$40,MATCH(AWARDS!$A13,'WALK TROT RESULTS'!$J$11:$J$40,0))","v":"Megan"},{"$f":"INDEX('WALK TROT RESULTS'!$B$11:$B$40,MATCH(AWARDS!$A13,'WALK TROT RESULTS'!$J$11:$J$40,0))","v":"Finlayson"},{"$f":"INDEX('WALK TROT RESULTS'!$C$11:$C$40,MATCH(AWARDS!$A13,'WALK TROT RESULTS'!$P$11:$P$40,0))","v":"Laureen"},{"$f":"INDEX('WALK TROT RESULTS'!$B$11:$B$40,MATCH(AWARDS!$A13,'WALK TROT RESULTS'!$P$11:$P$40,0))","v":"Little"},{"$f":"INDEX('WALK TROT RESULTS'!$C$11:$C$40,MATCH(AWARDS!$A13,'WALK TROT RESULTS'!$V$11:$V$40,0))","v":{"$error":"#N/A"}},{"$f":"INDEX('WALK TROT RESULTS'!$B$11:$B$40,MATCH(AWARDS!$A13,'WALK TROT RESULTS'!$V$11:$V$40,0))","v":{"$error":"#N/A"}},{"$f":"INDEX('WALK TROT RESULTS'!$C$11:$C$40,MATCH(AWARDS!$A13,'WALK TROT RESULTS'!$AB$11:$AB$40,0))","v":"Megan"},{"$f":"INDEX('WALK TROT RESULTS'!$B$11:$B$40,MATCH(AWARDS!$A13,'WALK TROT RESULTS'!$AB$11:$AB$40,0))","v":"Finlayson"},{"$f":"INDEX('WALK TROT RESULTS'!$C$11:$C$40,MATCH(AWARDS!$A13,'WALK TROT RESULTS'!$AH$11:$AH$40,0))","v":{"$error":"#N/A"}},{"$f":"INDEX('WALK TROT RESULTS'!$B$11:$B$40,MATCH(AWARDS!$A13,'WALK TROT RESULTS'!$AH$11:$AH$40,0))","v":{"$error":"#N/A"}}]
[null,{"$f":"INDEX('WALK TROT RESULTS'!$D$11:$D$40,MATCH(AWARDS!$A13,'WALK TROT RESULTS'!$J$11:$J$40,0))","v":"Freckles"},null,{"$f":"INDEX('WALK TROT RESULTS'!$D$11:$D$40,MATCH(AWARDS!$A13,'WALK TROT RESULTS'!$P$11:$P$40,0))","v":"Smart Little Hemi"},null,{"$f":"INDEX('WALK TROT RESULTS'!$D$11:$D$40,MATCH(AWARDS!$A13,'WALK TROT RESULTS'!$V$11:$V$40,0))","v":{"$error":"#N/A"}},null,{"$f":"INDEX('WALK TROT RESULTS'!$D$11:$D$40,MATCH(AWARDS!$A13,'WALK TROT RESULTS'!$AB$11:$AB$40,0))","v":"Freckles"},null,{"$f":"INDEX('WALK TROT RESULTS'!$D$11:$D$40,MATCH(AWARDS!$A13,'WALK TROT RESULTS'!$AH$11:$AH$40,0))","v":{"$error":"#N/A"}}]
[5,{"$f":"INDEX('WALK TROT RESULTS'!C$11:$C$40,MATCH(AWARDS!$A15,'WALK TROT RESULTS'!$J$11:$J$40,0))","v":"Leigh"},{"$f":"INDEX('WALK TROT RESULTS'!$B$11:$B$40,MATCH(AWARDS!$A15,'WALK TROT RESULTS'!$J$11:$J$40,0))","v":"Barthen"},{"$f":"INDEX('WALK TROT RESULTS'!$C$11:$C$40,MATCH(AWARDS!$A15,'WALK TROT RESULTS'!$P$11:$P$40,0))","v":"Ian"},{"$f":"INDEX('WALK TROT RESULTS'!$B$11:$B$40,MATCH(AWARDS!$A15,'WALK TROT RESULTS'!$P$11:$P$40,0))","v":"VanStaalduien"},{"$f":"INDEX('WALK TROT RESULTS'!$C$11:$C$40,MATCH(AWARDS!$A15,'WALK TROT RESULTS'!$V$11:$V$40,0))","v":{"$error":"#N/A"}},{"$f":"INDEX('WALK TROT RESULTS'!$B$11:$B$40,MATCH(AWARDS!$A15,'WALK TROT RESULTS'!$V$11:$V$40,0))","v":{"$error":"#N/A"}},{"$f":"INDEX('WALK TROT RESULTS'!$C$11:$C$40,MATCH(AWARDS!$A15,'WALK TROT RESULTS'!$AB$11:$AB$40,0))","v":"Laureen"},{"$f":"INDEX('WALK TROT RESULTS'!$B$11:$B$40,MATCH(AWARDS!$A15,'WALK TROT RESULTS'!$AB$11:$AB$40,0))","v":"Little"},{"$f":"INDEX('WALK TROT RESULTS'!$C$11:$C$40,MATCH(AWARDS!$A15,'WALK TROT RESULTS'!$AH$11:$AH$40,0))","v":{"$error":"#N/A"}},{"$f":"INDEX('WALK TROT RESULTS'!$B$11:$B$40,MATCH(AWARDS!$A15,'WALK TROT RESULTS'!$AH$11:$AH$40,0))","v":{"$error":"#N/A"}}]
[null,{"$f":"INDEX('WALK TROT RESULTS'!$D$11:$D$40,MATCH(AWARDS!$A15,'WALK TROT RESULTS'!$J$11:$J$40,0))","v":""},null,{"$f":"INDEX('WALK TROT RESULTS'!$D$11:$D$40,MATCH(AWARDS!$A15,'WALK TROT RESULTS'!$P$11:$P$40,0))","v":"Meradas Truckin Chex"},null,{"$f":"INDEX('WALK TROT RESULTS'!$D$11:$D$40,MATCH(AWARDS!$A15,'WALK TROT RESULTS'!$V$11:$V$40,0))","v":{"$error":"#N/A"}},null,{"$f":"INDEX('WALK TROT RESULTS'!$D$11:$D$40,MATCH(AWARDS!$A15,'WALK TROT RESULTS'!$AB$11:$AB$40,0))","v":"Smart Little Hemi"},null,{"$f":"INDEX('WALK TROT RESULTS'!$D$11:$D$40,MATCH(AWARDS!$A15,'WALK TROT RESULTS'!$AH$11:$AH$40,0))","v":{"$error":"#N/A"}}]
[6,{"$f":"INDEX('WALK TROT RESULTS'!C$11:$C$40,MATCH(AWARDS!$A17,'WALK TROT RESULTS'!$J$11:$J$40,0))","v":{"$error":"#N/A"}},{"$f":"INDEX('WALK TROT RESULTS'!$B$11:$B$40,MATCH(AWARDS!$A17,'WALK TROT RESULTS'!$J$11:$J$40,0))","v":{"$error":"#N/A"}},{"$f":"INDEX('WALK TROT RESULTS'!$C$11:$C$40,MATCH(AWARDS!$A17,'WALK TROT RESULTS'!$P$11:$P$40,0))","v":{"$error":"#N/A"}},{"$f":"INDEX('WALK TROT RESULTS'!$B$11:$B$40,MATCH(AWARDS!$A17,'WALK TROT RESULTS'!$P$11:$P$40,0))","v":{"$error":"#N/A"}},{"$f":"INDEX('WALK TROT RESULTS'!$C$11:$C$40,MATCH(AWARDS!$A17,'WALK TROT RESULTS'!$V$11:$V$40,0))","v":{"$error":"#N/A"}},{"$f":"INDEX('WALK TROT RESULTS'!$B$11:$B$40,MATCH(AWARDS!$A17,'WALK TROT RESULTS'!$V$11:$V$40,0))","v":{"$error":"#N/A"}},{"$f":"INDEX('WALK TROT RESULTS'!$C$11:$C$40,MATCH(AWARDS!$A17,'WALK TROT RESULTS'!$AB$11:$AB$40,0))","v":{"$error":"#N/A"}},{"$f":"INDEX('WALK TROT RESULTS'!$B$11:$B$40,MATCH(AWARDS!$A17,'WALK TROT RESULTS'!$AB$11:$AB$40,0))","v":{"$error":"#N/A"}},{"$f":"INDEX('WALK TROT RESULTS'!$C$11:$C$40,MATCH(AWARDS!$A17,'WALK TROT RESULTS'!$AH$11:$AH$40,0))","v":{"$error":"#N/A"}},{"$f":"INDEX('WALK TROT RESULTS'!$B$11:$B$40,MATCH(AWARDS!$A17,'WALK TROT RESULTS'!$AH$11:$AH$40,0))","v":{"$error":"#N/A"}}]
[null,{"$f":"INDEX('WALK TROT RESULTS'!$D$11:$D$40,MATCH(AWARDS!$A17,'WALK TROT RESULTS'!$J$11:$J$40,0))","v":{"$error":"#N/A"}},null,{"$f":"INDEX('WALK TROT RESULTS'!$D$11:$D$40,MATCH(AWARDS!$A17,'WALK TROT RESULTS'!$P$11:$P$40,0))","v":{"$error":"#N/A"}},null,{"$f":"INDEX('WALK TROT RESULTS'!$D$11:$D$40,MATCH(AWARDS!$A17,'WALK TROT RESULTS'!$V$11:$V$40,0))","v":{"$error":"#N/A"}},null,{"$f":"INDEX('WALK TROT RESULTS'!$D$11:$D$40,MATCH(AWARDS!$A17,'WALK TROT RESULTS'!$AB$11:$AB$40,0))","v":{"$error":"#N/A"}},null,{"$f":"INDEX('WALK TROT RESULTS'!$D$11:$D$40,MATCH(AWARDS!$A17,'WALK TROT RESULTS'!$AH$11:$AH$40,0))","v":{"$error":"#N/A"}}]
[]
["NOVICE ALL-AROUND WINNERS"]
["WALK TROT All-Around Reserve Champion",null,null,null,null,null,null,{"$f":"INDEX('NOVICE All-AROUND RESULTS'!$C$10:$C$39,MATCH(2,'WALK TROT RESULTS'!$AN$11:$AN$40,0))","v":"Megan"},null,{"$f":"INDEX('NOVICE All-AROUND RESULTS'!$B$10:$B$39,MATCH(2,'WALK TROT RESULTS'!$AN$11:$AN$40,0))","v":"Finlayson"}]
[null,null,null,null,null,null,null,{"$f":"INDEX('NOVICE All-AROUND RESULTS'!$D$10:$D$39,MATCH(2,'WALK TROT RESULTS'!$AN$11:$AN$40,0))","v":"Freckles"},null,{"$f":"INDEX(#REF!,MATCH(2,#REF!,0))","v":{"$error":"#REF!"}}]
["WALK TROT All-Around Champion",null,null,null,null,null,null,{"$f":"INDEX('NOVICE All-AROUND RESULTS'!$C$10:$C$39,MATCH(1,'WALK TROT RESULTS'!$AN$11:$AN$40,0))","v":"Laureen"},null,{"$f":"INDEX('NOVICE All-AROUND RESULTS'!$B$10:$B$39,MATCH(1,'WALK TROT RESULTS'!$AN$11:$AN$40,0))","v":"Little"}]
[null,null,null,null,null,null,null,{"$f":"INDEX('NOVICE All-AROUND RESULTS'!$D$10:$D$39,MATCH(1,'WALK TROT RESULTS'!$AN$11:$AN$40,0))","v":"Smart Little Hemi"},null,{"$f":"INDEX(#REF!,MATCH(1,#REF!,0))","v":{"$error":"#REF!"}}]
["Novice Select Reserve Champion",null,null,null,null,null,null,{"$f":"INDEX('NOVICE SELECT RESULTS'!$C$10:$C$39,MATCH(2,'WALK TROT RESULTS'!#REF!,0))","v":{"$error":"#REF!"}},null,{"$f":"INDEX('NOVICE SELECT RESULTS'!$B$10:$B$39,MATCH(2,'WALK TROT RESULTS'!#REF!,0))","v":{"$error":"#REF!"}}]
[null,null,null,null,null,null,null,{"$f":"INDEX('NOVICE SELECT RESULTS'!$D$10:$D$39,MATCH(2,'WALK TROT RESULTS'!#REF!,0))","v":{"$error":"#REF!"}},null,{"$f":"INDEX(#REF!,MATCH(2,#REF!,0))","v":{"$error":"#REF!"}}]
["Novice Select Champion",null,null,null,null,null,null,{"$f":"INDEX('NOVICE SELECT RESULTS'!$C$10:$C$39,MATCH(1,'WALK TROT RESULTS'!#REF!,0))","v":{"$error":"#REF!"}},null,{"$f":"INDEX('NOVICE SELECT RESULTS'!$B$10:$B$39,MATCH(1,'WALK TROT RESULTS'!#REF!,0))","v":{"$error":"#REF!"}}]
[null,null,null,null,null,null,null,{"$f":"INDEX('NOVICE SELECT RESULTS'!$D$10:$D$39,MATCH(1,'WALK TROT RESULTS'!#REF!,0))","v":{"$error":"#REF!"}},null,{"$f":"INDEX(#REF!,MATCH(1,#REF!,0))","v":{"$error":"#REF!"}}]
["Novice JR Horse Reserve Champion",null,null,null,null,null,null,{"$f":"INDEX('NOVICE JR HORSE RESULTS'!$C$10:$C$39,MATCH(2,'WALK TROT RESULTS'!#REF!,0))","v":{"$error":"#REF!"}},null,{"$f":"INDEX('NOVICE JR HORSE RESULTS'!$B$10:$B$39,MATCH(2,'WALK TROT RESULTS'!#REF!,0))","v":{"$error":"#REF!"}}]
[null,null,null,null,null,null,null,{"$f":"INDEX('NOVICE JR HORSE RESULTS'!$D$10:$D$39,MATCH(2,'WALK TROT RESULTS'!#REF!,0))","v":{"$error":"#REF!"}},null,{"$f":"INDEX(#REF!,MATCH(2,#REF!,0))","v":{"$error":"#REF!"}}]
["Novice JR Horse Champion",null,null,null,null,null,null,{"$f":"INDEX('NOVICE JR HORSE RESULTS'!$C$10:$C$39,MATCH(1,'WALK TROT RESULTS'!#REF!,0))","v":{"$error":"#REF!"}},null,{"$f":"INDEX('NOVICE JR HORSE RESULTS'!$B$10:$B$39,MATCH(1,'WALK TROT RESULTS'!#REF!,0))","v":{"$error":"#REF!"}}]
[null,null,null,null,null,null,null,{"$f":"INDEX('NOVICE JR HORSE RESULTS'!$D$10:$D$39,MATCH(1,'WALK TROT RESULTS'!#REF!,0))","v":{"$error":"#REF!"}},null,{"$f":"INDEX(#REF!,MATCH(1,#REF!,0))","v":{"$error":"#REF!"}}]
[]
[]
[{"$f":"'Entry Information'!$C$4","v":"Ranch Horse Challenge"}]
[{"$f":"'Entry Information'!$C$5","v":"2018-03-25"}]
[]
["LIMITED INDIVIDUAL CLASS WINNERS"]
["LIMITED","Ranch Riding",null,"Trail",null,"Cutting",null,"Ranch Reined",null,"Ranch Cow"]
[1,{"$f":"INDEX('LIMITED RESULTS'!$C$11:$C$40,MATCH(AWARDS!$A40,'LIMITED RESULTS'!$J$11:$J$40,0))","v":{"$error":"#N/A"}},{"$f":"INDEX('LIMITED RESULTS'!$B$11:$B$40,MATCH(AWARDS!$A40,'LIMITED RESULTS'!$J$11:$J$40,0))","v":{"$error":"#N/A"}},{"$f":"INDEX('LIMITED RESULTS'!$C$11:$C$40,MATCH(AWARDS!$A40,'LIMITED RESULTS'!$P$11:$P$40,0))","v":{"$error":"#N/A"}},{"$f":"INDEX('LIMITED RESULTS'!$B$11:$B$40,MATCH(AWARDS!$A40,'LIMITED RESULTS'!$P$11:$P$40,0))","v":{"$error":"#N/A"}},{"$f":"INDEX('LIMITED RESULTS'!$C$11:$C$40,MATCH(AWARDS!$A40,'LIMITED RESULTS'!$V$11:$V$40,0))","v":{"$error":"#N/A"}},{"$f":"INDEX('LIMITED RESULTS'!$B$11:$B$40,MATCH(AWARDS!$A40,'LIMITED RESULTS'!$V$11:$V$40,0))","v":{"$error":"#N/A"}},{"$f":"INDEX('LIMITED RESULTS'!$C$11:$C$40,MATCH(AWARDS!$A40,'LIMITED RESULTS'!$AB$11:$AB$40,0))","v":{"$error":"#N/A"}},{"$f":"INDEX('LIMITED RESULTS'!$B$11:$B$40,MATCH(AWARDS!$A40,'LIMITED RESULTS'!$AB$11:$AB$40,0))","v":{"$error":"#N/A"}},{"$f":"INDEX('LIMITED RESULTS'!$C$11:$C$40,MATCH(AWARDS!$A40,'LIMITED RESULTS'!$AH$11:$AH$40,0))","v":{"$error":"#N/A"}},{"$f":"INDEX('LIMITED RESULTS'!$B$11:$B$40,MATCH(AWARDS!$A40,'LIMITED RESULTS'!$AH$11:$AH$40,0))","v":{"$error":"#N/A"}}]
[null,{"$f":"INDEX('LIMITED RESULTS'!$D$11:$D$40,MATCH(AWARDS!$A40,'LIMITED RESULTS'!$J$11:$J$40,0))","v":{"$error":"#N/A"}},null,{"$f":"INDEX('LIMITED RESULTS'!$D$11:$D$40,MATCH(AWARDS!$A40,'LIMITED RESULTS'!$P$11:$P$40,0))","v":{"$error":"#N/A"}},null,{"$f":"INDEX('LIMITED RESULTS'!$D$11:$D$40,MATCH(AWARDS!$A40,'LIMITED RESULTS'!$V$11:$V$40,0))","v":{"$error":"#N/A"}},null,{"$f":"INDEX('LIMITED RESULTS'!$D$11:$D$40,MATCH(AWARDS!$A40,'LIMITED RESULTS'!$AB$11:$AB$40,0))","v":{"$error":"#N/A"}},null,{"$f":"INDEX('LIMITED RESULTS'!$D$11:$D$40,MATCH(AWARDS!$A40,'LIMITED RESULTS'!$AH$11:$AH$40,0))","v":{"$error":"#N/A"}}]
[2,{"$f":"INDEX('LIMITED RESULTS'!C$11:$C$40,MATCH(AWARDS!$A42,'LIMITED RESULTS'!$J$11:$J$40,0))","v":{"$error":"#N/A"}},{"$f":"INDEX('LIMITED RESULTS'!$B$11:$B$40,MATCH(AWARDS!$A42,'LIMITED RESULTS'!$J$11:$J$40,0))","v":{"$error":"#N/A"}},{"$f":"INDEX('LIMITED RESULTS'!$C$11:$C$40,MATCH(AWARDS!$A42,'LIMITED RESULTS'!$P$11:$P$40,0))","v":{"$error":"#N/A"}},{"$f":"INDEX('LIMITED RESULTS'!$B$11:$B$40,MATCH(AWARDS!$A42,'LIMITED RESULTS'!$P$11:$P$40,0))","v":{"$error":"#N/A"}},{"$f":"INDEX('LIMITED RESULTS'!$C$11:$C$40,MATCH(AWARDS!$A42,'LIMITED RESULTS'!$V$11:$V$40,0))","v":{"$error":"#N/A"}},{"$f":"INDEX('LIMITED RESULTS'!$B$11:$B$40,MATCH(AWARDS!$A42,'LIMITED RESULTS'!$V$11:$V$40,0))","v":{"$error":"#N/A"}},{"$f":"INDEX('LIMITED RESULTS'!$C$11:$C$40,MATCH(AWARDS!$A42,'LIMITED RESULTS'!$AB$11:$AB$40,0))","v":{"$error":"#N/A"}},{"$f":"INDEX('LIMITED RESULTS'!$B$11:$B$40,MATCH(AWARDS!$A42,'LIMITED RESULTS'!$AB$11:$AB$40,0))","v":{"$error":"#N/A"}},{"$f":"INDEX('LIMITED RESULTS'!$C$11:$C$40,MATCH(AWARDS!$A42,'LIMITED RESULTS'!$AH$11:$AH$40,0))","v":{"$error":"#N/A"}},{"$f":"INDEX('LIMITED RESULTS'!$B$11:$B$40,MATCH(AWARDS!$A42,'LIMITED RESULTS'!$AH$11:$AH$40,0))","v":{"$error":"#N/A"}}]
[null,{"$f":"INDEX('LIMITED RESULTS'!$D$11:$D$40,MATCH(AWARDS!$A42,'LIMITED RESULTS'!$J$11:$J$40,0))","v":{"$error":"#N/A"}},null,{"$f":"INDEX('LIMITED RESULTS'!$D$11:$D$40,MATCH(AWARDS!$A42,'LIMITED RESULTS'!$P$11:$P$40,0))","v":{"$error":"#N/A"}},null,{"$f":"INDEX('LIMITED RESULTS'!$D$11:$D$40,MATCH(AWARDS!$A42,'LIMITED RESULTS'!$V$11:$V$40,0))","v":{"$error":"#N/A"}},null,{"$f":"INDEX('LIMITED RESULTS'!$D$11:$D$40,MATCH(AWARDS!$A42,'LIMITED RESULTS'!$AB$11:$AB$40,0))","v":{"$error":"#N/A"}},null,{"$f":"INDEX('LIMITED RESULTS'!$D$11:$D$40,MATCH(AWARDS!$A42,'LIMITED RESULTS'!$AH$11:$AH$40,0))","v":{"$error":"#N/A"}}]
[3,{"$f":"INDEX('LIMITED RESULTS'!C$11:$C$40,MATCH(AWARDS!$A44,'LIMITED RESULTS'!$J$11:$J$40,0))","v":{"$error":"#N/A"}},{"$f":"INDEX('LIMITED RESULTS'!$B$11:$B$40,MATCH(AWARDS!$A44,'LIMITED RESULTS'!$J$11:$J$40,0))","v":{"$error":"#N/A"}},{"$f":"INDEX('LIMITED RESULTS'!$C$11:$C$40,MATCH(AWARDS!$A44,'LIMITED RESULTS'!$P$11:$P$40,0))","v":{"$error":"#N/A"}},{"$f":"INDEX('LIMITED RESULTS'!$B$11:$B$40,MATCH(AWARDS!$A44,'LIMITED RESULTS'!$P$11:$P$40,0))","v":{"$error":"#N/A"}},{"$f":"INDEX('LIMITED RESULTS'!$C$11:$C$40,MATCH(AWARDS!$A44,'LIMITED RESULTS'!$V$11:$V$40,0))","v":{"$error":"#N/A"}},{"$f":"INDEX('LIMITED RESULTS'!$B$11:$B$40,MATCH(AWARDS!$A44,'LIMITED RESULTS'!$V$11:$V$40,0))","v":{"$error":"#N/A"}},{"$f":"INDEX('LIMITED RESULTS'!$C$11:$C$40,MATCH(AWARDS!$A44,'LIMITED RESULTS'!$AB$11:$AB$40,0))","v":{"$error":"#N/A"}},{"$f":"INDEX('LIMITED RESULTS'!$B$11:$B$40,MATCH(AWARDS!$A44,'LIMITED RESULTS'!$AB$11:$AB$40,0))","v":{"$error":"#N/A"}},{"$f":"INDEX('LIMITED RESULTS'!$C$11:$C$40,MATCH(AWARDS!$A44,'LIMITED RESULTS'!$AH$11:$AH$40,0))","v":{"$error":"#N/A"}},{"$f":"INDEX('LIMITED RESULTS'!$B$11:$B$40,MATCH(AWARDS!$A44,'LIMITED RESULTS'!$AH$11:$AH$40,0))","v":{"$error":"#N/A"}}]
[null,{"$f":"INDEX('LIMITED RESULTS'!$D$11:$D$40,MATCH(AWARDS!$A44,'LIMITED RESULTS'!$J$11:$J$40,0))","v":{"$error":"#N/A"}},null,{"$f":"INDEX('LIMITED RESULTS'!$D$11:$D$40,MATCH(AWARDS!$A44,'LIMITED RESULTS'!$P$11:$P$40,0))","v":{"$error":"#N/A"}},null,{"$f":"INDEX('LIMITED RESULTS'!$D$11:$D$40,MATCH(AWARDS!$A44,'LIMITED RESULTS'!$V$11:$V$40,0))","v":{"$error":"#N/A"}},null,{"$f":"INDEX('LIMITED RESULTS'!$D$11:$D$40,MATCH(AWARDS!$A44,'LIMITED RESULTS'!$AB$11:$AB$40,0))","v":{"$error":"#N/A"}},null,{"$f":"INDEX('LIMITED RESULTS'!$D$11:$D$40,MATCH(AWARDS!$A44,'LIMITED RESULTS'!$AH$11:$AH$40,0))","v":{"$error":"#N/A"}}]
[4,{"$f":"INDEX('LIMITED RESULTS'!C$11:$C$40,MATCH(AWARDS!$A46,'LIMITED RESULTS'!$J$11:$J$40,0))","v":{"$error":"#N/A"}},{"$f":"INDEX('LIMITED RESULTS'!$B$11:$B$40,MATCH(AWARDS!$A46,'LIMITED RESULTS'!$J$11:$J$40,0))","v":{"$error":"#N/A"}},{"$f":"INDEX('LIMITED RESULTS'!$C$11:$C$40,MATCH(AWARDS!$A46,'LIMITED RESULTS'!$P$11:$P$40,0))","v":{"$error":"#N/A"}},{"$f":"INDEX('LIMITED RESULTS'!$B$11:$B$40,MATCH(AWARDS!$A46,'LIMITED RESULTS'!$P$11:$P$40,0))","v":{"$error":"#N/A"}},{"$f":"INDEX('LIMITED RESULTS'!$C$11:$C$40,MATCH(AWARDS!$A46,'LIMITED RESULTS'!$V$11:$V$40,0))","v":{"$error":"#N/A"}},{"$f":"INDEX('LIMITED RESULTS'!$B$11:$B$40,MATCH(AWARDS!$A46,'LIMITED RESULTS'!$V$11:$V$40,0))","v":{"$error":"#N/A"}},{"$f":"INDEX('LIMITED RESULTS'!$C$11:$C$40,MATCH(AWARDS!$A46,'LIMITED RESULTS'!$AB$11:$AB$40,0))","v":{"$error":"#N/A"}},{"$f":"INDEX('LIMITED RESULTS'!$B$11:$B$40,MATCH(AWARDS!$A46,'LIMITED RESULTS'!$AB$11:$AB$40,0))","v":{"$error":"#N/A"}},{"$f":"INDEX('LIMITED RESULTS'!$C$11:$C$40,MATCH(AWARDS!$A46,'LIMITED RESULTS'!$AH$11:$AH$40,0))","v":{"$error":"#N/A"}},{"$f":"INDEX('LIMITED RESULTS'!$B$11:$B$40,MATCH(AWARDS!$A46,'LIMITED RESULTS'!$AH$11:$AH$40,0))","v":{"$error":"#N/A"}}]
[null,{"$f":"INDEX('LIMITED RESULTS'!$D$11:$D$40,MATCH(AWARDS!$A46,'LIMITED RESULTS'!$J$11:$J$40,0))","v":{"$error":"#N/A"}},null,{"$f":"INDEX('LIMITED RESULTS'!$D$11:$D$40,MATCH(AWARDS!$A46,'LIMITED RESULTS'!$P$11:$P$40,0))","v":{"$error":"#N/A"}},null,{"$f":"INDEX('LIMITED RESULTS'!$D$11:$D$40,MATCH(AWARDS!$A46,'LIMITED RESULTS'!$V$11:$V$40,0))","v":{"$error":"#N/A"}},null,{"$f":"INDEX('LIMITED RESULTS'!$D$11:$D$40,MATCH(AWARDS!$A46,'LIMITED RESULTS'!$AB$11:$AB$40,0))","v":{"$error":"#N/A"}},null,{"$f":"INDEX('LIMITED RESULTS'!$D$11:$D$40,MATCH(AWARDS!$A46,'LIMITED RESULTS'!$AH$11:$AH$40,0))","v":{"$error":"#N/A"}}]
[5,{"$f":"INDEX('LIMITED RESULTS'!C$11:$C$40,MATCH(AWARDS!$A48,'LIMITED RESULTS'!$J$11:$J$40,0))","v":{"$error":"#N/A"}},{"$f":"INDEX('LIMITED RESULTS'!$B$11:$B$40,MATCH(AWARDS!$A48,'LIMITED RESULTS'!$J$11:$J$40,0))","v":{"$error":"#N/A"}},{"$f":"INDEX('LIMITED RESULTS'!$C$11:$C$40,MATCH(AWARDS!$A48,'LIMITED RESULTS'!$P$11:$P$40,0))","v":{"$error":"#N/A"}},{"$f":"INDEX('LIMITED RESULTS'!$B$11:$B$40,MATCH(AWARDS!$A48,'LIMITED RESULTS'!$P$11:$P$40,0))","v":{"$error":"#N/A"}},{"$f":"INDEX('LIMITED RESULTS'!$C$11:$C$40,MATCH(AWARDS!$A48,'LIMITED RESULTS'!$V$11:$V$40,0))","v":{"$error":"#N/A"}},{"$f":"INDEX('LIMITED RESULTS'!$B$11:$B$40,MATCH(AWARDS!$A48,'LIMITED RESULTS'!$V$11:$V$40,0))","v":{"$error":"#N/A"}},{"$f":"INDEX('LIMITED RESULTS'!$C$11:$C$40,MATCH(AWARDS!$A48,'LIMITED RESULTS'!$AB$11:$AB$40,0))","v":{"$error":"#N/A"}},{"$f":"INDEX('LIMITED RESULTS'!$B$11:$B$40,MATCH(AWARDS!$A48,'LIMITED RESULTS'!$AB$11:$AB$40,0))","v":{"$error":"#N/A"}},{"$f":"INDEX('LIMITED RESULTS'!$C$11:$C$40,MATCH(AWARDS!$A48,'LIMITED RESULTS'!$AH$11:$AH$40,0))","v":{"$error":"#N/A"}},{"$f":"INDEX('LIMITED RESULTS'!$B$11:$B$40,MATCH(AWARDS!$A48,'LIMITED RESULTS'!$AH$11:$AH$40,0))","v":{"$error":"#N/A"}}]
[null,{"$f":"INDEX('LIMITED RESULTS'!$D$11:$D$40,MATCH(AWARDS!$A48,'LIMITED RESULTS'!$J$11:$J$40,0))","v":{"$error":"#N/A"}},null,{"$f":"INDEX('LIMITED RESULTS'!$D$11:$D$40,MATCH(AWARDS!$A48,'LIMITED RESULTS'!$P$11:$P$40,0))","v":{"$error":"#N/A"}},null,{"$f":"INDEX('LIMITED RESULTS'!$D$11:$D$40,MATCH(AWARDS!$A48,'LIMITED RESULTS'!$V$11:$V$40,0))","v":{"$error":"#N/A"}},null,{"$f":"INDEX('LIMITED RESULTS'!$D$11:$D$40,MATCH(AWARDS!$A48,'LIMITED RESULTS'!$AB$11:$AB$40,0))","v":{"$error":"#N/A"}},null,{"$f":"INDEX('LIMITED RESULTS'!$D$11:$D$40,MATCH(AWARDS!$A48,'LIMITED RESULTS'!$AH$11:$AH$40,0))","v":{"$error":"#N/A"}}]
[6,{"$f":"INDEX('LIMITED RESULTS'!C$11:$C$40,MATCH(AWARDS!$A50,'LIMITED RESULTS'!$J$11:$J$40,0))","v":{"$error":"#N/A"}},{"$f":"INDEX('LIMITED RESULTS'!$B$11:$B$40,MATCH(AWARDS!$A50,'LIMITED RESULTS'!$J$11:$J$40,0))","v":{"$error":"#N/A"}},{"$f":"INDEX('LIMITED RESULTS'!$C$11:$C$40,MATCH(AWARDS!$A50,'LIMITED RESULTS'!$P$11:$P$40,0))","v":{"$error":"#N/A"}},{"$f":"INDEX('LIMITED RESULTS'!$B$11:$B$40,MATCH(AWARDS!$A50,'LIMITED RESULTS'!$P$11:$P$40,0))","v":{"$error":"#N/A"}},{"$f":"INDEX('LIMITED RESULTS'!$C$11:$C$40,MATCH(AWARDS!$A50,'LIMITED RESULTS'!$V$11:$V$40,0))","v":{"$error":"#N/A"}},{"$f":"INDEX('LIMITED RESULTS'!$B$11:$B$40,MATCH(AWARDS!$A50,'LIMITED RESULTS'!$V$11:$V$40,0))","v":{"$error":"#N/A"}},{"$f":"INDEX('LIMITED RESULTS'!$C$11:$C$40,MATCH(AWARDS!$A50,'LIMITED RESULTS'!$AB$11:$AB$40,0))","v":{"$error":"#N/A"}},{"$f":"INDEX('LIMITED RESULTS'!$B$11:$B$40,MATCH(AWARDS!$A50,'LIMITED RESULTS'!$AB$11:$AB$40,0))","v":{"$error":"#N/A"}},{"$f":"INDEX('LIMITED RESULTS'!$C$11:$C$40,MATCH(AWARDS!$A50,'LIMITED RESULTS'!$AH$11:$AH$40,0))","v":{"$error":"#N/A"}},{"$f":"INDEX('LIMITED RESULTS'!$B$11:$B$40,MATCH(AWARDS!$A50,'LIMITED RESULTS'!$AH$11:$AH$40,0))","v":{"$error":"#N/A"}}]
[null,{"$f":"INDEX('LIMITED RESULTS'!$D$11:$D$40,MATCH(AWARDS!$A50,'LIMITED RESULTS'!$J$11:$J$40,0))","v":{"$error":"#N/A"}},null,{"$f":"INDEX('LIMITED RESULTS'!$D$11:$D$40,MATCH(AWARDS!$A50,'LIMITED RESULTS'!$P$11:$P$40,0))","v":{"$error":"#N/A"}},null,{"$f":"INDEX('LIMITED RESULTS'!$D$11:$D$40,MATCH(AWARDS!$A50,'LIMITED RESULTS'!$V$11:$V$40,0))","v":{"$error":"#N/A"}},null,{"$f":"INDEX('LIMITED RESULTS'!$D$11:$D$40,MATCH(AWARDS!$A50,'LIMITED RESULTS'!$AB$11:$AB$40,0))","v":{"$error":"#N/A"}},null,{"$f":"INDEX('LIMITED RESULTS'!$D$11:$D$40,MATCH(AWARDS!$A50,'LIMITED RESULTS'!$AH$11:$AH$40,0))","v":{"$error":"#N/A"}}]
[]
["LIMITED ALL-AROUND WINNERS"]
["Limited All-Around Reserve Champion",null,null,null,null,null,null,{"$f":"INDEX('LIMITED ALL-AROUND RESULTS'!$C$10:$C$39,MATCH(2,'LIMITED RESULTS'!$AN$11:$AN$40,0))","v":{"$error":"#N/A"}},null,{"$f":"INDEX('LIMITED ALL-AROUND RESULTS'!$B$10:$B$39,MATCH(2,'LIMITED RESULTS'!$AN$11:$AN$40,0))","v":{"$error":"#N/A"}}]
[null,null,null,null,null,null,null,{"$f":"INDEX('LIMITED ALL-AROUND RESULTS'!$D$10:$D$39,MATCH(2,'LIMITED RESULTS'!$AN$11:$AN$40,0))","v":{"$error":"#N/A"}},null,{"$f":"INDEX(#REF!,MATCH(2,#REF!,0))","v":{"$error":"#REF!"}}]
["Limited All-Around Champion",null,null,null,null,null,null,{"$f":"INDEX('LIMITED ALL-AROUND RESULTS'!$C$10:$C$39,MATCH(1,'LIMITED RESULTS'!$AN$11:$AN$40,0))","v":{"$error":"#N/A"}},null,{"$f":"INDEX('LIMITED ALL-AROUND RESULTS'!$B$10:$B$39,MATCH(1,'LIMITED RESULTS'!$AN$11:$AN$40,0))","v":{"$error":"#N/A"}}]
[null,null,null,null,null,null,null,{"$f":"INDEX('LIMITED ALL-AROUND RESULTS'!$D$10:$D$39,MATCH(1,'LIMITED RESULTS'!$AN$11:$AN$40,0))","v":{"$error":"#N/A"}},null,{"$f":"INDEX(#REF!,MATCH(1,#REF!,0))","v":{"$error":"#REF!"}}]
["Limited Select Reserve Champion",null,null,null,null,null,null,{"$f":"INDEX('LIMITED SELECT RESULTS'!$C$10:$C$39,MATCH(2,'LIMITED RESULTS'!$AS$11:$AS$40,0))","v":{"$error":"#N/A"}},null,{"$f":"INDEX('LIMITED SELECT RESULTS'!$B$10:$B$39,MATCH(2,'LIMITED RESULTS'!$AS$11:$AS$40,0))","v":{"$error":"#N/A"}}]
[null,null,null,null,null,null,null,{"$f":"INDEX('LIMITED SELECT RESULTS'!$D$10:$D$39,MATCH(2,'LIMITED RESULTS'!$AS$11:$AS$40,0))","v":{"$error":"#N/A"}},null,{"$f":"INDEX(#REF!,MATCH(2,#REF!,0))","v":{"$error":"#REF!"}}]
["Limited Select Champion",null,null,null,null,null,null,{"$f":"INDEX('LIMITED SELECT RESULTS'!$C$10:$C$39,MATCH(1,'LIMITED RESULTS'!$AS$11:$AS$40,0))","v":{"$error":"#N/A"}},null,{"$f":"INDEX('LIMITED SELECT RESULTS'!$B$10:$B$39,MATCH(1,'LIMITED RESULTS'!$AS$11:$AS$40,0))","v":{"$error":"#N/A"}}]
[null,null,null,null,null,null,null,{"$f":"INDEX('LIMITED SELECT RESULTS'!$D$10:$D$39,MATCH(1,'LIMITED RESULTS'!$AS$11:$AS$40,0))","v":{"$error":"#N/A"}},null,{"$f":"INDEX(#REF!,MATCH(1,#REF!,0))","v":{"$error":"#REF!"}}]
["Limited JR Horse Reserve Champion",null,null,null,null,null,null,{"$f":"INDEX('LIMITED JR HORSE RESULTS'!$C$10:$C$39,MATCH(2,'LIMITED RESULTS'!$AX$11:$AX$40,0))","v":{"$error":"#N/A"}},null,{"$f":"INDEX('LIMITED JR HORSE RESULTS'!$B$10:$B$39,MATCH(2,'LIMITED RESULTS'!$AX$11:$AX$40,0))","v":{"$error":"#N/A"}}]
[null,null,null,null,null,null,null,{"$f":"INDEX('LIMITED JR HORSE RESULTS'!$D$10:$D$39,MATCH(2,'LIMITED RESULTS'!$AX$11:$AX$40,0))","v":{"$error":"#N/A"}},null,{"$f":"INDEX(#REF!,MATCH(2,#REF!,0))","v":{"$error":"#REF!"}}]
["Limited JR Horse Champion",null,null,null,null,null,null,{"$f":"INDEX('LIMITED JR HORSE RESULTS'!$C$10:$C$39,MATCH(1,'LIMITED RESULTS'!$AX$11:$AX$40,0))","v":{"$error":"#N/A"}},null,{"$f":"INDEX('LIMITED JR HORSE RESULTS'!$B$10:$B$39,MATCH(1,'LIMITED RESULTS'!$AX$11:$AX$40,0))","v":{"$error":"#N/A"}}]
[null,null,null,null,null,null,null,{"$f":"INDEX('LIMITED JR HORSE RESULTS'!$D$10:$D$39,MATCH(1,'LIMITED RESULTS'!$AX$11:$AX$40,0))","v":{"$error":"#N/A"}},null,{"$f":"INDEX(#REF!,MATCH(1,#REF!,0))","v":{"$error":"#REF!"}}]
[]
[]
[{"$f":"'Entry Information'!$C$4","v":"Ranch Horse Challenge"}]
[{"$f":"'Entry Information'!$C$5","v":"2018-03-25"}]
[]
["INTERMEDIATE INDIVIDUAL CLASS WINNERS"]
["INTERMEDIATE","Ranch Riding",null,"Trail",null,"Cutting",null,"Ranch Reined",null,"Ranch Cow"]
[1,{"$f":"INDEX('INTERMEDIATE RESULTS'!$C$11:$C$40,MATCH(AWARDS!$A73,'INTERMEDIATE RESULTS'!$J$11:$J$40,0))","v":{"$error":"#N/A"}},{"$f":"INDEX('INTERMEDIATE RESULTS'!$B$11:$B$40,MATCH(AWARDS!$A73,'INTERMEDIATE RESULTS'!$J$11:$J$40,0))","v":{"$error":"#N/A"}},{"$f":"INDEX('INTERMEDIATE RESULTS'!$C$11:$C$40,MATCH(AWARDS!$A73,'INTERMEDIATE RESULTS'!$P$11:$P$40,0))","v":{"$error":"#N/A"}},{"$f":"INDEX('INTERMEDIATE RESULTS'!$B$11:$B$40,MATCH(AWARDS!$A73,'INTERMEDIATE RESULTS'!$P$11:$P$40,0))","v":{"$error":"#N/A"}},{"$f":"INDEX('INTERMEDIATE RESULTS'!$C$11:$C$40,MATCH(AWARDS!$A73,'INTERMEDIATE RESULTS'!$V$11:$V$40,0))","v":{"$error":"#N/A"}},{"$f":"INDEX('INTERMEDIATE RESULTS'!$B$11:$B$40,MATCH(AWARDS!$A73,'INTERMEDIATE RESULTS'!$V$11:$V$40,0))","v":{"$error":"#N/A"}},{"$f":"INDEX('INTERMEDIATE RESULTS'!$C$11:$C$40,MATCH(AWARDS!$A73,'INTERMEDIATE RESULTS'!$AB$11:$AB$40,0))","v":{"$error":"#N/A"}},{"$f":"INDEX('INTERMEDIATE RESULTS'!$B$11:$B$40,MATCH(AWARDS!$A73,'INTERMEDIATE RESULTS'!$AB$11:$AB$40,0))","v":{"$error":"#N/A"}},{"$f":"INDEX('INTERMEDIATE RESULTS'!$C$11:$C$40,MATCH(AWARDS!$A73,'INTERMEDIATE RESULTS'!$AH$11:$AH$40,0))","v":{"$error":"#N/A"}},{"$f":"INDEX('INTERMEDIATE RESULTS'!$B$11:$B$40,MATCH(AWARDS!$A73,'INTERMEDIATE RESULTS'!$AH$11:$AH$40,0))","v":{"$error":"#N/A"}}]
[null,{"$f":"INDEX('INTERMEDIATE RESULTS'!$D$11:$D$40,MATCH(AWARDS!$A73,'INTERMEDIATE RESULTS'!$J$11:$J$40,0))","v":{"$error":"#N/A"}},null,{"$f":"INDEX('INTERMEDIATE RESULTS'!$D$11:$D$40,MATCH(AWARDS!$A73,'INTERMEDIATE RESULTS'!$P$11:$P$40,0))","v":{"$error":"#N/A"}},null,{"$f":"INDEX('INTERMEDIATE RESULTS'!$D$11:$D$40,MATCH(AWARDS!$A73,'INTERMEDIATE RESULTS'!$V$11:$V$40,0))","v":{"$error":"#N/A"}},null,{"$f":"INDEX('INTERMEDIATE RESULTS'!$D$11:$D$40,MATCH(AWARDS!$A73,'INTERMEDIATE RESULTS'!$AB$11:$AB$40,0))","v":{"$error":"#N/A"}},null,{"$f":"INDEX('INTERMEDIATE RESULTS'!$D$11:$D$40,MATCH(AWARDS!$A73,'INTERMEDIATE RESULTS'!$AH$11:$AH$40,0))","v":{"$error":"#N/A"}}]
[2,{"$f":"INDEX('INTERMEDIATE RESULTS'!C$11:$C$40,MATCH(AWARDS!$A75,'INTERMEDIATE RESULTS'!$J$11:$J$40,0))","v":{"$error":"#N/A"}},{"$f":"INDEX('INTERMEDIATE RESULTS'!$B$11:$B$40,MATCH(AWARDS!$A75,'INTERMEDIATE RESULTS'!$J$11:$J$40,0))","v":{"$error":"#N/A"}},{"$f":"INDEX('INTERMEDIATE RESULTS'!$C$11:$C$40,MATCH(AWARDS!$A75,'INTERMEDIATE RESULTS'!$P$11:$P$40,0))","v":{"$error":"#N/A"}},{"$f":"INDEX('INTERMEDIATE RESULTS'!$B$11:$B$40,MATCH(AWARDS!$A75,'INTERMEDIATE RESULTS'!$P$11:$P$40,0))","v":{"$error":"#N/A"}},{"$f":"INDEX('INTERMEDIATE RESULTS'!$C$11:$C$40,MATCH(AWARDS!$A75,'INTERMEDIATE RESULTS'!$V$11:$V$40,0))","v":{"$error":"#N/A"}},{"$f":"INDEX('INTERMEDIATE RESULTS'!$B$11:$B$40,MATCH(AWARDS!$A75,'INTERMEDIATE RESULTS'!$V$11:$V$40,0))","v":{"$error":"#N/A"}},{"$f":"INDEX('INTERMEDIATE RESULTS'!$C$11:$C$40,MATCH(AWARDS!$A75,'INTERMEDIATE RESULTS'!$AB$11:$AB$40,0))","v":{"$error":"#N/A"}},{"$f":"INDEX('INTERMEDIATE RESULTS'!$B$11:$B$40,MATCH(AWARDS!$A75,'INTERMEDIATE RESULTS'!$AB$11:$AB$40,0))","v":{"$error":"#N/A"}},{"$f":"INDEX('INTERMEDIATE RESULTS'!$C$11:$C$40,MATCH(AWARDS!$A75,'INTERMEDIATE RESULTS'!$AH$11:$AH$40,0))","v":{"$error":"#N/A"}},{"$f":"INDEX('INTERMEDIATE RESULTS'!$B$11:$B$40,MATCH(AWARDS!$A75,'INTERMEDIATE RESULTS'!$AH$11:$AH$40,0))","v":{"$error":"#N/A"}}]
[null,{"$f":"INDEX('INTERMEDIATE RESULTS'!$D$11:$D$40,MATCH(AWARDS!$A75,'INTERMEDIATE RESULTS'!$J$11:$J$40,0))","v":{"$error":"#N/A"}},null,{"$f":"INDEX('INTERMEDIATE RESULTS'!$D$11:$D$40,MATCH(AWARDS!$A75,'INTERMEDIATE RESULTS'!$P$11:$P$40,0))","v":{"$error":"#N/A"}},null,{"$f":"INDEX('INTERMEDIATE RESULTS'!$D$11:$D$40,MATCH(AWARDS!$A75,'INTERMEDIATE RESULTS'!$V$11:$V$40,0))","v":{"$error":"#N/A"}},null,{"$f":"INDEX('INTERMEDIATE RESULTS'!$D$11:$D$40,MATCH(AWARDS!$A75,'INTERMEDIATE RESULTS'!$AB$11:$AB$40,0))","v":{"$error":"#N/A"}},null,{"$f":"INDEX('INTERMEDIATE RESULTS'!$D$11:$D$40,MATCH(AWARDS!$A75,'INTERMEDIATE RESULTS'!$AH$11:$AH$40,0))","v":{"$error":"#N/A"}}]
[3,{"$f":"INDEX('INTERMEDIATE RESULTS'!C$11:$C$40,MATCH(AWARDS!$A77,'INTERMEDIATE RESULTS'!$J$11:$J$40,0))","v":{"$error":"#N/A"}},{"$f":"INDEX('INTERMEDIATE RESULTS'!$B$11:$B$40,MATCH(AWARDS!$A77,'INTERMEDIATE RESULTS'!$J$11:$J$40,0))","v":{"$error":"#N/A"}},{"$f":"INDEX('INTERMEDIATE RESULTS'!$C$11:$C$40,MATCH(AWARDS!$A77,'INTERMEDIATE RESULTS'!$P$11:$P$40,0))","v":{"$error":"#N/A"}},{"$f":"INDEX('INTERMEDIATE RESULTS'!$B$11:$B$40,MATCH(AWARDS!$A77,'INTERMEDIATE RESULTS'!$P$11:$P$40,0))","v":{"$error":"#N/A"}},{"$f":"INDEX('INTERMEDIATE RESULTS'!$C$11:$C$40,MATCH(AWARDS!$A77,'INTERMEDIATE RESULTS'!$V$11:$V$40,0))","v":{"$error":"#N/A"}},{"$f":"INDEX('INTERMEDIATE RESULTS'!$B$11:$B$40,MATCH(AWARDS!$A77,'INTERMEDIATE RESULTS'!$V$11:$V$40,0))","v":{"$error":"#N/A"}},{"$f":"INDEX('INTERMEDIATE RESULTS'!$C$11:$C$40,MATCH(AWARDS!$A77,'INTERMEDIATE RESULTS'!$AB$11:$AB$40,0))","v":{"$error":"#N/A"}},{"$f":"INDEX('INTERMEDIATE RESULTS'!$B$11:$B$40,MATCH(AWARDS!$A77,'INTERMEDIATE RESULTS'!$AB$11:$AB$40,0))","v":{"$error":"#N/A"}},{"$f":"INDEX('INTERMEDIATE RESULTS'!$C$11:$C$40,MATCH(AWARDS!$A77,'INTERMEDIATE RESULTS'!$AH$11:$AH$40,0))","v":{"$error":"#N/A"}},{"$f":"INDEX('INTERMEDIATE RESULTS'!$B$11:$B$40,MATCH(AWARDS!$A77,'INTERMEDIATE RESULTS'!$AH$11:$AH$40,0))","v":{"$error":"#N/A"}}]
[null,{"$f":"INDEX('INTERMEDIATE RESULTS'!$D$11:$D$40,MATCH(AWARDS!$A77,'INTERMEDIATE RESULTS'!$J$11:$J$40,0))","v":{"$error":"#N/A"}},null,{"$f":"INDEX('INTERMEDIATE RESULTS'!$D$11:$D$40,MATCH(AWARDS!$A77,'INTERMEDIATE RESULTS'!$P$11:$P$40,0))","v":{"$error":"#N/A"}},null,{"$f":"INDEX('INTERMEDIATE RESULTS'!$D$11:$D$40,MATCH(AWARDS!$A77,'INTERMEDIATE RESULTS'!$V$11:$V$40,0))","v":{"$error":"#N/A"}},null,{"$f":"INDEX('INTERMEDIATE RESULTS'!$D$11:$D$40,MATCH(AWARDS!$A77,'INTERMEDIATE RESULTS'!$AB$11:$AB$40,0))","v":{"$error":"#N/A"}},null,{"$f":"INDEX('INTERMEDIATE RESULTS'!$D$11:$D$40,MATCH(AWARDS!$A77,'INTERMEDIATE RESULTS'!$AH$11:$AH$40,0))","v":{"$error":"#N/A"}}]
[4,{"$f":"INDEX('INTERMEDIATE RESULTS'!C$11:$C$40,MATCH(AWARDS!$A79,'INTERMEDIATE RESULTS'!$J$11:$J$40,0))","v":{"$error":"#N/A"}},{"$f":"INDEX('INTERMEDIATE RESULTS'!$B$11:$B$40,MATCH(AWARDS!$A79,'INTERMEDIATE RESULTS'!$J$11:$J$40,0))","v":{"$error":"#N/A"}},{"$f":"INDEX('INTERMEDIATE RESULTS'!$C$11:$C$40,MATCH(AWARDS!$A79,'INTERMEDIATE RESULTS'!$P$11:$P$40,0))","v":{"$error":"#N/A"}},{"$f":"INDEX('INTERMEDIATE RESULTS'!$B$11:$B$40,MATCH(AWARDS!$A79,'INTERMEDIATE RESULTS'!$P$11:$P$40,0))","v":{"$error":"#N/A"}},{"$f":"INDEX('INTERMEDIATE RESULTS'!$C$11:$C$40,MATCH(AWARDS!$A79,'INTERMEDIATE RESULTS'!$V$11:$V$40,0))","v":{"$error":"#N/A"}},{"$f":"INDEX('INTERMEDIATE RESULTS'!$B$11:$B$40,MATCH(AWARDS!$A79,'INTERMEDIATE RESULTS'!$V$11:$V$40,0))","v":{"$error":"#N/A"}},{"$f":"INDEX('INTERMEDIATE RESULTS'!$C$11:$C$40,MATCH(AWARDS!$A79,'INTERMEDIATE RESULTS'!$AB$11:$AB$40,0))","v":{"$error":"#N/A"}},{"$f":"INDEX('INTERMEDIATE RESULTS'!$B$11:$B$40,MATCH(AWARDS!$A79,'INTERMEDIATE RESULTS'!$AB$11:$AB$40,0))","v":{"$error":"#N/A"}},{"$f":"INDEX('INTERMEDIATE RESULTS'!$C$11:$C$40,MATCH(AWARDS!$A79,'INTERMEDIATE RESULTS'!$AH$11:$AH$40,0))","v":{"$error":"#N/A"}},{"$f":"INDEX('INTERMEDIATE RESULTS'!$B$11:$B$40,MATCH(AWARDS!$A79,'INTERMEDIATE RESULTS'!$AH$11:$AH$40,0))","v":{"$error":"#N/A"}}]
[null,{"$f":"INDEX('INTERMEDIATE RESULTS'!$D$11:$D$40,MATCH(AWARDS!$A79,'INTERMEDIATE RESULTS'!$J$11:$J$40,0))","v":{"$error":"#N/A"}},null,{"$f":"INDEX('INTERMEDIATE RESULTS'!$D$11:$D$40,MATCH(AWARDS!$A79,'INTERMEDIATE RESULTS'!$P$11:$P$40,0))","v":{"$error":"#N/A"}},null,{"$f":"INDEX('INTERMEDIATE RESULTS'!$D$11:$D$40,MATCH(AWARDS!$A79,'INTERMEDIATE RESULTS'!$V$11:$V$40,0))","v":{"$error":"#N/A"}},null,{"$f":"INDEX('INTERMEDIATE RESULTS'!$D$11:$D$40,MATCH(AWARDS!$A79,'INTERMEDIATE RESULTS'!$AB$11:$AB$40,0))","v":{"$error":"#N/A"}},null,{"$f":"INDEX('INTERMEDIATE RESULTS'!$D$11:$D$40,MATCH(AWARDS!$A79,'INTERMEDIATE RESULTS'!$AH$11:$AH$40,0))","v":{"$error":"#N/A"}}]
[5,{"$f":"INDEX('INTERMEDIATE RESULTS'!C$11:$C$40,MATCH(AWARDS!$A81,'INTERMEDIATE RESULTS'!$J$11:$J$40,0))","v":{"$error":"#N/A"}},{"$f":"INDEX('INTERMEDIATE RESULTS'!$B$11:$B$40,MATCH(AWARDS!$A81,'INTERMEDIATE RESULTS'!$J$11:$J$40,0))","v":{"$error":"#N/A"}},{"$f":"INDEX('INTERMEDIATE RESULTS'!$C$11:$C$40,MATCH(AWARDS!$A81,'INTERMEDIATE RESULTS'!$P$11:$P$40,0))","v":{"$error":"#N/A"}},{"$f":"INDEX('INTERMEDIATE RESULTS'!$B$11:$B$40,MATCH(AWARDS!$A81,'INTERMEDIATE RESULTS'!$P$11:$P$40,0))","v":{"$error":"#N/A"}},{"$f":"INDEX('INTERMEDIATE RESULTS'!$C$11:$C$40,MATCH(AWARDS!$A81,'INTERMEDIATE RESULTS'!$V$11:$V$40,0))","v":{"$error":"#N/A"}},{"$f":"INDEX('INTERMEDIATE RESULTS'!$B$11:$B$40,MATCH(AWARDS!$A81,'INTERMEDIATE RESULTS'!$V$11:$V$40,0))","v":{"$error":"#N/A"}},{"$f":"INDEX('INTERMEDIATE RESULTS'!$C$11:$C$40,MATCH(AWARDS!$A81,'INTERMEDIATE RESULTS'!$AB$11:$AB$40,0))","v":{"$error":"#N/A"}},{"$f":"INDEX('INTERMEDIATE RESULTS'!$B$11:$B$40,MATCH(AWARDS!$A81,'INTERMEDIATE RESULTS'!$AB$11:$AB$40,0))","v":{"$error":"#N/A"}},{"$f":"INDEX('INTERMEDIATE RESULTS'!$C$11:$C$40,MATCH(AWARDS!$A81,'INTERMEDIATE RESULTS'!$AH$11:$AH$40,0))","v":{"$error":"#N/A"}},{"$f":"INDEX('INTERMEDIATE RESULTS'!$B$11:$B$40,MATCH(AWARDS!$A81,'INTERMEDIATE RESULTS'!$AH$11:$AH$40,0))","v":{"$error":"#N/A"}}]
[null,{"$f":"INDEX('INTERMEDIATE RESULTS'!$D$11:$D$40,MATCH(AWARDS!$A81,'INTERMEDIATE RESULTS'!$J$11:$J$40,0))","v":{"$error":"#N/A"}},null,{"$f":"INDEX('INTERMEDIATE RESULTS'!$D$11:$D$40,MATCH(AWARDS!$A81,'INTERMEDIATE RESULTS'!$P$11:$P$40,0))","v":{"$error":"#N/A"}},null,{"$f":"INDEX('INTERMEDIATE RESULTS'!$D$11:$D$40,MATCH(AWARDS!$A81,'INTERMEDIATE RESULTS'!$V$11:$V$40,0))","v":{"$error":"#N/A"}},null,{"$f":"INDEX('INTERMEDIATE RESULTS'!$D$11:$D$40,MATCH(AWARDS!$A81,'INTERMEDIATE RESULTS'!$AB$11:$AB$40,0))","v":{"$error":"#N/A"}},null,{"$f":"INDEX('INTERMEDIATE RESULTS'!$D$11:$D$40,MATCH(AWARDS!$A81,'INTERMEDIATE RESULTS'!$AH$11:$AH$40,0))","v":{"$error":"#N/A"}}]
[6,{"$f":"INDEX('INTERMEDIATE RESULTS'!C$11:$C$40,MATCH(AWARDS!$A83,'INTERMEDIATE RESULTS'!$J$11:$J$40,0))","v":{"$error":"#N/A"}},{"$f":"INDEX('INTERMEDIATE RESULTS'!$B$11:$B$40,MATCH(AWARDS!$A83,'INTERMEDIATE RESULTS'!$J$11:$J$40,0))","v":{"$error":"#N/A"}},{"$f":"INDEX('INTERMEDIATE RESULTS'!$C$11:$C$40,MATCH(AWARDS!$A83,'INTERMEDIATE RESULTS'!$P$11:$P$40,0))","v":{"$error":"#N/A"}},{"$f":"INDEX('INTERMEDIATE RESULTS'!$B$11:$B$40,MATCH(AWARDS!$A83,'INTERMEDIATE RESULTS'!$P$11:$P$40,0))","v":{"$error":"#N/A"}},{"$f":"INDEX('INTERMEDIATE RESULTS'!$C$11:$C$40,MATCH(AWARDS!$A83,'INTERMEDIATE RESULTS'!$V$11:$V$40,0))","v":{"$error":"#N/A"}},{"$f":"INDEX('INTERMEDIATE RESULTS'!$B$11:$B$40,MATCH(AWARDS!$A83,'INTERMEDIATE RESULTS'!$V$11:$V$40,0))","v":{"$error":"#N/A"}},{"$f":"INDEX('INTERMEDIATE RESULTS'!$C$11:$C$40,MATCH(AWARDS!$A83,'INTERMEDIATE RESULTS'!$AB$11:$AB$40,0))","v":{"$error":"#N/A"}},{"$f":"INDEX('INTERMEDIATE RESULTS'!$B$11:$B$40,MATCH(AWARDS!$A83,'INTERMEDIATE RESULTS'!$AB$11:$AB$40,0))","v":{"$error":"#N/A"}},{"$f":"INDEX('INTERMEDIATE RESULTS'!$C$11:$C$40,MATCH(AWARDS!$A83,'INTERMEDIATE RESULTS'!$AH$11:$AH$40,0))","v":{"$error":"#N/A"}},{"$f":"INDEX('INTERMEDIATE RESULTS'!$B$11:$B$40,MATCH(AWARDS!$A83,'INTERMEDIATE RESULTS'!$AH$11:$AH$40,0))","v":{"$error":"#N/A"}}]
[null,{"$f":"INDEX('INTERMEDIATE RESULTS'!$D$11:$D$40,MATCH(AWARDS!$A83,'INTERMEDIATE RESULTS'!$J$11:$J$40,0))","v":{"$error":"#N/A"}},null,{"$f":"INDEX('INTERMEDIATE RESULTS'!$D$11:$D$40,MATCH(AWARDS!$A83,'INTERMEDIATE RESULTS'!$P$11:$P$40,0))","v":{"$error":"#N/A"}},null,{"$f":"INDEX('INTERMEDIATE RESULTS'!$D$11:$D$40,MATCH(AWARDS!$A83,'INTERMEDIATE RESULTS'!$V$11:$V$40,0))","v":{"$error":"#N/A"}},null,{"$f":"INDEX('INTERMEDIATE RESULTS'!$D$11:$D$40,MATCH(AWARDS!$A83,'INTERMEDIATE RESULTS'!$AB$11:$AB$40,0))","v":{"$error":"#N/A"}},null,{"$f":"INDEX('INTERMEDIATE RESULTS'!$D$11:$D$40,MATCH(AWARDS!$A83,'INTERMEDIATE RESULTS'!$AH$11:$AH$40,0))","v":{"$error":"#N/A"}}]
[]
["INTERMEDIATE ALL-AROUND WINNERS"]
["Intermediate All-Around Reserve Champion",null,null,null,null,null,null,{"$f":"INDEX('INTERMEDIATE All-AROUND RESULTS'!$C$10:$C$39,MATCH(2,'INTERMEDIATE RESULTS'!$AN$11:$AN$40,0))","v":{"$error":"#N/A"}},null,{"$f":"INDEX('INTERMEDIATE All-AROUND RESULTS'!$B$10:$B$39,MATCH(2,'INTERMEDIATE RESULTS'!$AN$11:$AN$40,0))","v":{"$error":"#N/A"}}]
[null,null,null,null,null,null,null,{"$f":"INDEX('INTERMEDIATE All-AROUND RESULTS'!$D$10:$D$39,MATCH(2,'INTERMEDIATE RESULTS'!$AN$11:$AN$40,0))","v":{"$error":"#N/A"}},null,{"$f":"INDEX(#REF!,MATCH(2,#REF!,0))","v":{"$error":"#REF!"}}]
["Intermediate All-Around Champion",null,null,null,null,null,null,{"$f":"INDEX('INTERMEDIATE All-AROUND RESULTS'!$C$10:$C$39,MATCH(1,'INTERMEDIATE RESULTS'!$AN$11:$AN$40,0))","v":{"$error":"#N/A"}},null,{"$f":"INDEX('INTERMEDIATE All-AROUND RESULTS'!$B$10:$B$39,MATCH(1,'INTERMEDIATE RESULTS'!$AN$11:$AN$40,0))","v":{"$error":"#N/A"}}]
[null,null,null,null,null,null,null,{"$f":"INDEX('INTERMEDIATE All-AROUND RESULTS'!$D$10:$D$39,MATCH(1,'INTERMEDIATE RESULTS'!$AN$11:$AN$40,0))","v":{"$error":"#N/A"}},null,{"$f":"INDEX(#REF!,MATCH(1,#REF!,0))","v":{"$error":"#REF!"}}]
["Intermediate Select Reserve Champion",null,null,null,null,null,null,{"$f":"INDEX('INTERMEDIATE SELECT RESULTS'!$C$10:$C$39,MATCH(2,'INTERMEDIATE RESULTS'!$AS$11:$AS$40,0))","v":{"$error":"#N/A"}},null,{"$f":"INDEX('INTERMEDIATE SELECT RESULTS'!$B$10:$B$39,MATCH(2,'INTERMEDIATE RESULTS'!$AS$11:$AS$40,0))","v":{"$error":"#N/A"}}]
[null,null,null,null,null,null,null,{"$f":"INDEX('INTERMEDIATE SELECT RESULTS'!$D$10:$D$39,MATCH(2,'INTERMEDIATE RESULTS'!$AS$11:$AS$40,0))","v":{"$error":"#N/A"}},null,{"$f":"INDEX(#REF!,MATCH(2,#REF!,0))","v":{"$error":"#REF!"}}]
["Intermediate Select Champion",null,null,null,null,null,null,{"$f":"INDEX('INTERMEDIATE SELECT RESULTS'!$C$10:$C$39,MATCH(1,'INTERMEDIATE RESULTS'!$AS$11:$AS$40,0))","v":{"$error":"#N/A"}},null,{"$f":"INDEX('INTERMEDIATE SELECT RESULTS'!$B$10:$B$39,MATCH(1,'INTERMEDIATE RESULTS'!$AS$11:$AS$40,0))","v":{"$error":"#N/A"}}]
[null,null,null,null,null,null,null,{"$f":"INDEX('INTERMEDIATE SELECT RESULTS'!$D$10:$D$39,MATCH(1,'INTERMEDIATE RESULTS'!$AS$11:$AS$40,0))","v":{"$error":"#N/A"}},null,{"$f":"INDEX(#REF!,MATCH(1,#REF!,0))","v":{"$error":"#REF!"}}]
["Intermediate JR Horse Reserve Champion",null,null,null,null,null,null,{"$f":"INDEX('INTERMEDIATE JR HORSE RESULTS'!$C$10:$C$39,MATCH(2,'INTERMEDIATE RESULTS'!$AX$11:$AX$40,0))","v":{"$error":"#N/A"}},null,{"$f":"INDEX('INTERMEDIATE JR HORSE RESULTS'!$B$10:$B$39,MATCH(2,'INTERMEDIATE RESULTS'!$AX$11:$AX$40,0))","v":{"$error":"#N/A"}}]
[null,null,null,null,null,null,null,{"$f":"INDEX('INTERMEDIATE JR HORSE RESULTS'!$D$10:$D$39,MATCH(2,'INTERMEDIATE RESULTS'!$AX$11:$AX$40,0))","v":{"$error":"#N/A"}},null,{"$f":"INDEX(#REF!,MATCH(2,#REF!,0))","v":{"$error":"#REF!"}}]
["Intermediate JR Horse Champion",null,null,null,null,null,null,{"$f":"INDEX('INTERMEDIATE JR HORSE RESULTS'!$C$10:$C$39,MATCH(1,'INTERMEDIATE RESULTS'!$AX$11:$AX$40,0))","v":{"$error":"#N/A"}},null,{"$f":"INDEX('INTERMEDIATE JR HORSE RESULTS'!$B$10:$B$39,MATCH(1,'INTERMEDIATE RESULTS'!$AX$11:$AX$40,0))","v":{"$error":"#N/A"}}]
[null,null,null,null,null,null,null,{"$f":"INDEX('INTERMEDIATE JR HORSE RESULTS'!$D$10:$D$39,MATCH(1,'INTERMEDIATE RESULTS'!$AX$11:$AX$40,0))","v":{"$error":"#N/A"}},null,{"$f":"INDEX(#REF!,MATCH(1,#REF!,0))","v":{"$error":"#REF!"}}]
[]
[]
[{"$f":"'Entry Information'!$C$4","v":"Ranch Horse Challenge"}]
[{"$f":"'Entry Information'!$C$5","v":"2018-03-25"}]
[]
["ADVANCED INDIVIDUAL CLASS WINNERS"]
["ADVANCED","Ranch Riding",null,"Trail",null,"Cutting",null,"Ranch Reined",null,"Ranch Cow"]
[1,{"$f":"INDEX('ADVANCED RESULTS'!$C$11:$C$40,MATCH(AWARDS!$A106,'ADVANCED RESULTS'!$J$11:$J$40,0))","v":{"$error":"#N/A"}},{"$f":"INDEX('ADVANCED RESULTS'!$B$11:$B$40,MATCH(AWARDS!$A106,'ADVANCED RESULTS'!$J$11:$J$40,0))","v":{"$error":"#N/A"}},{"$f":"INDEX('ADVANCED RESULTS'!$C$11:$C$40,MATCH(AWARDS!$A106,'ADVANCED RESULTS'!$P$11:$P$40,0))","v":{"$error":"#N/A"}},{"$f":"INDEX('ADVANCED RESULTS'!$B$11:$B$40,MATCH(AWARDS!$A106,'ADVANCED RESULTS'!$P$11:$P$40,0))","v":{"$error":"#N/A"}},{"$f":"INDEX('ADVANCED RESULTS'!$C$11:$C$40,MATCH(AWARDS!$A106,'ADVANCED RESULTS'!$V$11:$V$40,0))","v":{"$error":"#N/A"}},{"$f":"INDEX('ADVANCED RESULTS'!$B$11:$B$40,MATCH(AWARDS!$A106,'ADVANCED RESULTS'!$V$11:$V$40,0))","v":{"$error":"#N/A"}},{"$f":"INDEX('ADVANCED RESULTS'!$C$11:$C$40,MATCH(AWARDS!$A106,'ADVANCED RESULTS'!$AB$11:$AB$40,0))","v":{"$error":"#N/A"}},{"$f":"INDEX('ADVANCED RESULTS'!$B$11:$B$40,MATCH(AWARDS!$A106,'ADVANCED RESULTS'!$AB$11:$AB$40,0))","v":{"$error":"#N/A"}},{"$f":"INDEX('ADVANCED RESULTS'!$C$11:$C$40,MATCH(AWARDS!$A106,'ADVANCED RESULTS'!$AH$11:$AH$40,0))","v":{"$error":"#N/A"}},{"$f":"INDEX('ADVANCED RESULTS'!$B$11:$B$40,MATCH(AWARDS!$A106,'ADVANCED RESULTS'!$AH$11:$AH$40,0))","v":{"$error":"#N/A"}}]
[null,{"$f":"INDEX('ADVANCED RESULTS'!$D$11:$D$40,MATCH(AWARDS!$A106,'ADVANCED RESULTS'!$J$11:$J$40,0))","v":{"$error":"#N/A"}},null,{"$f":"INDEX('ADVANCED RESULTS'!$D$11:$D$40,MATCH(AWARDS!$A106,'ADVANCED RESULTS'!$P$11:$P$40,0))","v":{"$error":"#N/A"}},null,{"$f":"INDEX('ADVANCED RESULTS'!$D$11:$D$40,MATCH(AWARDS!$A106,'ADVANCED RESULTS'!$V$11:$V$40,0))","v":{"$error":"#N/A"}},null,{"$f":"INDEX('ADVANCED RESULTS'!$D$11:$D$40,MATCH(AWARDS!$A106,'ADVANCED RESULTS'!$AB$11:$AB$40,0))","v":{"$error":"#N/A"}},null,{"$f":"INDEX('ADVANCED RESULTS'!$D$11:$D$40,MATCH(AWARDS!$A106,'ADVANCED RESULTS'!$AH$11:$AH$40,0))","v":{"$error":"#N/A"}}]
[2,{"$f":"INDEX('ADVANCED RESULTS'!C$11:$C$40,MATCH(AWARDS!$A108,'ADVANCED RESULTS'!$J$11:$J$40,0))","v":{"$error":"#N/A"}},{"$f":"INDEX('ADVANCED RESULTS'!$B$11:$B$40,MATCH(AWARDS!$A108,'ADVANCED RESULTS'!$J$11:$J$40,0))","v":{"$error":"#N/A"}},{"$f":"INDEX('ADVANCED RESULTS'!$C$11:$C$40,MATCH(AWARDS!$A108,'ADVANCED RESULTS'!$P$11:$P$40,0))","v":{"$error":"#N/A"}},{"$f":"INDEX('ADVANCED RESULTS'!$B$11:$B$40,MATCH(AWARDS!$A108,'ADVANCED RESULTS'!$P$11:$P$40,0))","v":{"$error":"#N/A"}},{"$f":"INDEX('ADVANCED RESULTS'!$C$11:$C$40,MATCH(AWARDS!$A108,'ADVANCED RESULTS'!$V$11:$V$40,0))","v":{"$error":"#N/A"}},{"$f":"INDEX('ADVANCED RESULTS'!$B$11:$B$40,MATCH(AWARDS!$A108,'ADVANCED RESULTS'!$V$11:$V$40,0))","v":{"$error":"#N/A"}},{"$f":"INDEX('ADVANCED RESULTS'!$C$11:$C$40,MATCH(AWARDS!$A108,'ADVANCED RESULTS'!$AB$11:$AB$40,0))","v":{"$error":"#N/A"}},{"$f":"INDEX('ADVANCED RESULTS'!$B$11:$B$40,MATCH(AWARDS!$A108,'ADVANCED RESULTS'!$AB$11:$AB$40,0))","v":{"$error":"#N/A"}},{"$f":"INDEX('ADVANCED RESULTS'!$C$11:$C$40,MATCH(AWARDS!$A108,'ADVANCED RESULTS'!$AH$11:$AH$40,0))","v":{"$error":"#N/A"}},{"$f":"INDEX('ADVANCED RESULTS'!$B$11:$B$40,MATCH(AWARDS!$A108,'ADVANCED RESULTS'!$AH$11:$AH$40,0))","v":{"$error":"#N/A"}}]
[null,{"$f":"INDEX('ADVANCED RESULTS'!$D$11:$D$40,MATCH(AWARDS!$A108,'ADVANCED RESULTS'!$J$11:$J$40,0))","v":{"$error":"#N/A"}},null,{"$f":"INDEX('ADVANCED RESULTS'!$D$11:$D$40,MATCH(AWARDS!$A108,'ADVANCED RESULTS'!$P$11:$P$40,0))","v":{"$error":"#N/A"}},null,{"$f":"INDEX('ADVANCED RESULTS'!$D$11:$D$40,MATCH(AWARDS!$A108,'ADVANCED RESULTS'!$V$11:$V$40,0))","v":{"$error":"#N/A"}},null,{"$f":"INDEX('ADVANCED RESULTS'!$D$11:$D$40,MATCH(AWARDS!$A108,'ADVANCED RESULTS'!$AB$11:$AB$40,0))","v":{"$error":"#N/A"}},null,{"$f":"INDEX('ADVANCED RESULTS'!$D$11:$D$40,MATCH(AWARDS!$A108,'ADVANCED RESULTS'!$AH$11:$AH$40,0))","v":{"$error":"#N/A"}}]
[3,{"$f":"INDEX('ADVANCED RESULTS'!C$11:$C$40,MATCH(AWARDS!$A110,'ADVANCED RESULTS'!$J$11:$J$40,0))","v":{"$error":"#N/A"}},{"$f":"INDEX('ADVANCED RESULTS'!$B$11:$B$40,MATCH(AWARDS!$A110,'ADVANCED RESULTS'!$J$11:$J$40,0))","v":{"$error":"#N/A"}},{"$f":"INDEX('ADVANCED RESULTS'!$C$11:$C$40,MATCH(AWARDS!$A110,'ADVANCED RESULTS'!$P$11:$P$40,0))","v":{"$error":"#N/A"}},{"$f":"INDEX('ADVANCED RESULTS'!$B$11:$B$40,MATCH(AWARDS!$A110,'ADVANCED RESULTS'!$P$11:$P$40,0))","v":{"$error":"#N/A"}},{"$f":"INDEX('ADVANCED RESULTS'!$C$11:$C$40,MATCH(AWARDS!$A110,'ADVANCED RESULTS'!$V$11:$V$40,0))","v":{"$error":"#N/A"}},{"$f":"INDEX('ADVANCED RESULTS'!$B$11:$B$40,MATCH(AWARDS!$A110,'ADVANCED RESULTS'!$V$11:$V$40,0))","v":{"$error":"#N/A"}},{"$f":"INDEX('ADVANCED RESULTS'!$C$11:$C$40,MATCH(AWARDS!$A110,'ADVANCED RESULTS'!$AB$11:$AB$40,0))","v":{"$error":"#N/A"}},{"$f":"INDEX('ADVANCED RESULTS'!$B$11:$B$40,MATCH(AWARDS!$A110,'ADVANCED RESULTS'!$AB$11:$AB$40,0))","v":{"$error":"#N/A"}},{"$f":"INDEX('ADVANCED RESULTS'!$C$11:$C$40,MATCH(AWARDS!$A110,'ADVANCED RESULTS'!$AH$11:$AH$40,0))","v":{"$error":"#N/A"}},{"$f":"INDEX('ADVANCED RESULTS'!$B$11:$B$40,MATCH(AWARDS!$A110,'ADVANCED RESULTS'!$AH$11:$AH$40,0))","v":{"$error":"#N/A"}}]
[null,{"$f":"INDEX('ADVANCED RESULTS'!$D$11:$D$40,MATCH(AWARDS!$A110,'ADVANCED RESULTS'!$J$11:$J$40,0))","v":{"$error":"#N/A"}},null,{"$f":"INDEX('ADVANCED RESULTS'!$D$11:$D$40,MATCH(AWARDS!$A110,'ADVANCED RESULTS'!$P$11:$P$40,0))","v":{"$error":"#N/A"}},null,{"$f":"INDEX('ADVANCED RESULTS'!$D$11:$D$40,MATCH(AWARDS!$A110,'ADVANCED RESULTS'!$V$11:$V$40,0))","v":{"$error":"#N/A"}},null,{"$f":"INDEX('ADVANCED RESULTS'!$D$11:$D$40,MATCH(AWARDS!$A110,'ADVANCED RESULTS'!$AB$11:$AB$40,0))","v":{"$error":"#N/A"}},null,{"$f":"INDEX('ADVANCED RESULTS'!$D$11:$D$40,MATCH(AWARDS!$A110,'ADVANCED RESULTS'!$AH$11:$AH$40,0))","v":{"$error":"#N/A"}}]
[4,{"$f":"INDEX('ADVANCED RESULTS'!C$11:$C$40,MATCH(AWARDS!$A112,'ADVANCED RESULTS'!$J$11:$J$40,0))","v":{"$error":"#N/A"}},{"$f":"INDEX('ADVANCED RESULTS'!$B$11:$B$40,MATCH(AWARDS!$A112,'ADVANCED RESULTS'!$J$11:$J$40,0))","v":{"$error":"#N/A"}},{"$f":"INDEX('ADVANCED RESULTS'!$C$11:$C$40,MATCH(AWARDS!$A112,'ADVANCED RESULTS'!$P$11:$P$40,0))","v":{"$error":"#N/A"}},{"$f":"INDEX('ADVANCED RESULTS'!$B$11:$B$40,MATCH(AWARDS!$A112,'ADVANCED RESULTS'!$P$11:$P$40,0))","v":{"$error":"#N/A"}},{"$f":"INDEX('ADVANCED RESULTS'!$C$11:$C$40,MATCH(AWARDS!$A112,'ADVANCED RESULTS'!$V$11:$V$40,0))","v":{"$error":"#N/A"}},{"$f":"INDEX('ADVANCED RESULTS'!$B$11:$B$40,MATCH(AWARDS!$A112,'ADVANCED RESULTS'!$V$11:$V$40,0))","v":{"$error":"#N/A"}},{"$f":"INDEX('ADVANCED RESULTS'!$C$11:$C$40,MATCH(AWARDS!$A112,'ADVANCED RESULTS'!$AB$11:$AB$40,0))","v":{"$error":"#N/A"}},{"$f":"INDEX('ADVANCED RESULTS'!$B$11:$B$40,MATCH(AWARDS!$A112,'ADVANCED RESULTS'!$AB$11:$AB$40,0))","v":{"$error":"#N/A"}},{"$f":"INDEX('ADVANCED RESULTS'!$C$11:$C$40,MATCH(AWARDS!$A112,'ADVANCED RESULTS'!$AH$11:$AH$40,0))","v":{"$error":"#N/A"}},{"$f":"INDEX('ADVANCED RESULTS'!$B$11:$B$40,MATCH(AWARDS!$A112,'ADVANCED RESULTS'!$AH$11:$AH$40,0))","v":{"$error":"#N/A"}}]
[null,{"$f":"INDEX('ADVANCED RESULTS'!$D$11:$D$40,MATCH(AWARDS!$A112,'ADVANCED RESULTS'!$J$11:$J$40,0))","v":{"$error":"#N/A"}},null,{"$f":"INDEX('ADVANCED RESULTS'!$D$11:$D$40,MATCH(AWARDS!$A112,'ADVANCED RESULTS'!$P$11:$P$40,0))","v":{"$error":"#N/A"}},null,{"$f":"INDEX('ADVANCED RESULTS'!$D$11:$D$40,MATCH(AWARDS!$A112,'ADVANCED RESULTS'!$V$11:$V$40,0))","v":{"$error":"#N/A"}},null,{"$f":"INDEX('ADVANCED RESULTS'!$D$11:$D$40,MATCH(AWARDS!$A112,'ADVANCED RESULTS'!$AB$11:$AB$40,0))","v":{"$error":"#N/A"}},null,{"$f":"INDEX('ADVANCED RESULTS'!$D$11:$D$40,MATCH(AWARDS!$A112,'ADVANCED RESULTS'!$AH$11:$AH$40,0))","v":{"$error":"#N/A"}}]
[5,{"$f":"INDEX('ADVANCED RESULTS'!C$11:$C$40,MATCH(AWARDS!$A114,'ADVANCED RESULTS'!$J$11:$J$40,0))","v":{"$error":"#N/A"}},{"$f":"INDEX('ADVANCED RESULTS'!$B$11:$B$40,MATCH(AWARDS!$A114,'ADVANCED RESULTS'!$J$11:$J$40,0))","v":{"$error":"#N/A"}},{"$f":"INDEX('ADVANCED RESULTS'!$C$11:$C$40,MATCH(AWARDS!$A114,'ADVANCED RESULTS'!$P$11:$P$40,0))","v":{"$error":"#N/A"}},{"$f":"INDEX('ADVANCED RESULTS'!$B$11:$B$40,MATCH(AWARDS!$A114,'ADVANCED RESULTS'!$P$11:$P$40,0))","v":{"$error":"#N/A"}},{"$f":"INDEX('ADVANCED RESULTS'!$C$11:$C$40,MATCH(AWARDS!$A114,'ADVANCED RESULTS'!$V$11:$V$40,0))","v":{"$error":"#N/A"}},{"$f":"INDEX('ADVANCED RESULTS'!$B$11:$B$40,MATCH(AWARDS!$A114,'ADVANCED RESULTS'!$V$11:$V$40,0))","v":{"$error":"#N/A"}},{"$f":"INDEX('ADVANCED RESULTS'!$C$11:$C$40,MATCH(AWARDS!$A114,'ADVANCED RESULTS'!$AB$11:$AB$40,0))","v":{"$error":"#N/A"}},{"$f":"INDEX('ADVANCED RESULTS'!$B$11:$B$40,MATCH(AWARDS!$A114,'ADVANCED RESULTS'!$AB$11:$AB$40,0))","v":{"$error":"#N/A"}},{"$f":"INDEX('ADVANCED RESULTS'!$C$11:$C$40,MATCH(AWARDS!$A114,'ADVANCED RESULTS'!$AH$11:$AH$40,0))","v":{"$error":"#N/A"}},{"$f":"INDEX('ADVANCED RESULTS'!$B$11:$B$40,MATCH(AWARDS!$A114,'ADVANCED RESULTS'!$AH$11:$AH$40,0))","v":{"$error":"#N/A"}}]
[null,{"$f":"INDEX('ADVANCED RESULTS'!$D$11:$D$40,MATCH(AWARDS!$A114,'ADVANCED RESULTS'!$J$11:$J$40,0))","v":{"$error":"#N/A"}},null,{"$f":"INDEX('ADVANCED RESULTS'!$D$11:$D$40,MATCH(AWARDS!$A114,'ADVANCED RESULTS'!$P$11:$P$40,0))","v":{"$error":"#N/A"}},null,{"$f":"INDEX('ADVANCED RESULTS'!$D$11:$D$40,MATCH(AWARDS!$A114,'ADVANCED RESULTS'!$V$11:$V$40,0))","v":{"$error":"#N/A"}},null,{"$f":"INDEX('ADVANCED RESULTS'!$D$11:$D$40,MATCH(AWARDS!$A114,'ADVANCED RESULTS'!$AB$11:$AB$40,0))","v":{"$error":"#N/A"}},null,{"$f":"INDEX('ADVANCED RESULTS'!$D$11:$D$40,MATCH(AWARDS!$A114,'ADVANCED RESULTS'!$AH$11:$AH$40,0))","v":{"$error":"#N/A"}}]
[6,{"$f":"INDEX('ADVANCED RESULTS'!C$11:$C$40,MATCH(AWARDS!$A116,'ADVANCED RESULTS'!$J$11:$J$40,0))","v":{"$error":"#N/A"}},{"$f":"INDEX('ADVANCED RESULTS'!$B$11:$B$40,MATCH(AWARDS!$A116,'ADVANCED RESULTS'!$J$11:$J$40,0))","v":{"$error":"#N/A"}},{"$f":"INDEX('ADVANCED RESULTS'!$C$11:$C$40,MATCH(AWARDS!$A116,'ADVANCED RESULTS'!$P$11:$P$40,0))","v":{"$error":"#N/A"}},{"$f":"INDEX('ADVANCED RESULTS'!$B$11:$B$40,MATCH(AWARDS!$A116,'ADVANCED RESULTS'!$P$11:$P$40,0))","v":{"$error":"#N/A"}},{"$f":"INDEX('ADVANCED RESULTS'!$C$11:$C$40,MATCH(AWARDS!$A116,'ADVANCED RESULTS'!$V$11:$V$40,0))","v":{"$error":"#N/A"}},{"$f":"INDEX('ADVANCED RESULTS'!$B$11:$B$40,MATCH(AWARDS!$A116,'ADVANCED RESULTS'!$V$11:$V$40,0))","v":{"$error":"#N/A"}},{"$f":"INDEX('ADVANCED RESULTS'!$C$11:$C$40,MATCH(AWARDS!$A116,'ADVANCED RESULTS'!$AB$11:$AB$40,0))","v":{"$error":"#N/A"}},{"$f":"INDEX('ADVANCED RESULTS'!$B$11:$B$40,MATCH(AWARDS!$A116,'ADVANCED RESULTS'!$AB$11:$AB$40,0))","v":{"$error":"#N/A"}},{"$f":"INDEX('ADVANCED RESULTS'!$C$11:$C$40,MATCH(AWARDS!$A116,'ADVANCED RESULTS'!$AH$11:$AH$40,0))","v":{"$error":"#N/A"}},{"$f":"INDEX('ADVANCED RESULTS'!$B$11:$B$40,MATCH(AWARDS!$A116,'ADVANCED RESULTS'!$AH$11:$AH$40,0))","v":{"$error":"#N/A"}}]
[null,{"$f":"INDEX('ADVANCED RESULTS'!$D$11:$D$40,MATCH(AWARDS!$A116,'ADVANCED RESULTS'!$J$11:$J$40,0))","v":{"$error":"#N/A"}},null,{"$f":"INDEX('ADVANCED RESULTS'!$D$11:$D$40,MATCH(AWARDS!$A116,'ADVANCED RESULTS'!$P$11:$P$40,0))","v":{"$error":"#N/A"}},null,{"$f":"INDEX('ADVANCED RESULTS'!$D$11:$D$40,MATCH(AWARDS!$A116,'ADVANCED RESULTS'!$V$11:$V$40,0))","v":{"$error":"#N/A"}},null,{"$f":"INDEX('ADVANCED RESULTS'!$D$11:$D$40,MATCH(AWARDS!$A116,'ADVANCED RESULTS'!$AB$11:$AB$40,0))","v":{"$error":"#N/A"}},null,{"$f":"INDEX('ADVANCED RESULTS'!$D$11:$D$40,MATCH(AWARDS!$A116,'ADVANCED RESULTS'!$AH$11:$AH$40,0))","v":{"$error":"#N/A"}}]
[]
["ADVANCED ALL-AROUND WINNERS"]
["Advanced All-Around Reserve Champion",null,null,null,null,null,null,{"$f":"INDEX('ADVANCED ALL-AROUND RESULTS'!$C$10:$C$39,MATCH(2,'ADVANCED RESULTS'!$AN$11:$AN$40,0))","v":{"$error":"#N/A"}},null,{"$f":"INDEX('ADVANCED ALL-AROUND RESULTS'!$B$10:$B$39,MATCH(2,'ADVANCED RESULTS'!$AN$11:$AN$40,0))","v":{"$error":"#N/A"}}]
[null,null,null,null,null,null,null,{"$f":"INDEX('ADVANCED ALL-AROUND RESULTS'!$D$10:$D$39,MATCH(2,'ADVANCED RESULTS'!$AN$11:$AN$40,0))","v":{"$error":"#N/A"}},null,{"$f":"INDEX(#REF!,MATCH(2,#REF!,0))","v":{"$error":"#REF!"}}]
["Advanced All-Around Champion",null,null,null,null,null,null,{"$f":"INDEX('ADVANCED ALL-AROUND RESULTS'!$C$10:$C$39,MATCH(1,'ADVANCED RESULTS'!$AN$11:$AN$40,0))","v":{"$error":"#N/A"}},null,{"$f":"INDEX('ADVANCED ALL-AROUND RESULTS'!$B$10:$B$39,MATCH(1,'ADVANCED RESULTS'!$AN$11:$AN$40,0))","v":{"$error":"#N/A"}}]
[null,null,null,null,null,null,null,{"$f":"INDEX('ADVANCED ALL-AROUND RESULTS'!$D$10:$D$39,MATCH(1,'ADVANCED RESULTS'!$AN$11:$AN$40,0))","v":{"$error":"#N/A"}},null,{"$f":"INDEX(#REF!,MATCH(1,#REF!,0))","v":{"$error":"#REF!"}}]
["Advanced Select Reserve Champion",null,null,null,null,null,null,{"$f":"INDEX('ADVANCED SELECT RESULTS'!$C$10:$C$39,MATCH(2,'ADVANCED RESULTS'!$AS$11:$AS$40,0))","v":{"$error":"#N/A"}},null,{"$f":"INDEX('ADVANCED SELECT RESULTS'!$B$10:$B$39,MATCH(2,'ADVANCED RESULTS'!$AS$11:$AS$40,0))","v":{"$error":"#N/A"}}]
[null,null,null,null,null,null,null,{"$f":"INDEX('ADVANCED SELECT RESULTS'!$D$10:$D$39,MATCH(2,'ADVANCED RESULTS'!$AS$11:$AS$40,0))","v":{"$error":"#N/A"}},null,{"$f":"INDEX(#REF!,MATCH(2,#REF!,0))","v":{"$error":"#REF!"}}]
["Advanced Select Champion",null,null,null,null,null,null,{"$f":"INDEX('ADVANCED SELECT RESULTS'!$C$10:$C$39,MATCH(1,'ADVANCED RESULTS'!$AS$11:$AS$40,0))","v":{"$error":"#N/A"}},null,{"$f":"INDEX('ADVANCED SELECT RESULTS'!$B$10:$B$39,MATCH(1,'ADVANCED RESULTS'!$AS$11:$AS$40,0))","v":{"$error":"#N/A"}}]
[null,null,null,null,null,null,null,{"$f":"INDEX('ADVANCED SELECT RESULTS'!$D$10:$D$39,MATCH(1,'ADVANCED RESULTS'!$AS$11:$AS$40,0))","v":{"$error":"#N/A"}},null,{"$f":"INDEX(#REF!,MATCH(1,#REF!,0))","v":{"$error":"#REF!"}}]
["Advanced JR Horse Reserve Champion",null,null,null,null,null,null,{"$f":"INDEX('ADVANCED JR HORSE RESULTS'!$C$10:$C$39,MATCH(2,'ADVANCED RESULTS'!$AX$11:$AX$40,0))","v":{"$error":"#N/A"}},null,{"$f":"INDEX('ADVANCED JR HORSE RESULTS'!$B$10:$B$39,MATCH(2,'ADVANCED RESULTS'!$AX$11:$AX$40,0))","v":{"$error":"#N/A"}}]
[null,null,null,null,null,null,null,{"$f":"INDEX('ADVANCED JR HORSE RESULTS'!$D$10:$D$39,MATCH(2,'ADVANCED RESULTS'!$AX$11:$AX$40,0))","v":{"$error":"#N/A"}},null,{"$f":"INDEX(#REF!,MATCH(2,#REF!,0))","v":{"$error":"#REF!"}}]
["Advanced JR Horse Champion",null,null,null,null,null,null,{"$f":"INDEX('ADVANCED JR HORSE RESULTS'!$C$10:$C$39,MATCH(1,'ADVANCED RESULTS'!$AX$11:$AX$40,0))","v":{"$error":"#N/A"}},null,{"$f":"INDEX('ADVANCED JR HORSE RESULTS'!$B$10:$B$39,MATCH(1,'ADVANCED RESULTS'!$AX$11:$AX$40,0))","v":{"$error":"#N/A"}}]
[null,null,null,null,null,null,null,{"$f":"INDEX('ADVANCED JR HORSE RESULTS'!$D$10:$D$39,MATCH(1,'ADVANCED RESULTS'!$AX$11:$AX$40,0))","v":{"$error":"#N/A"}},null,{"$f":"INDEX(#REF!,MATCH(1,#REF!,0))","v":{"$error":"#REF!"}}]
[]
[]
[{"$f":"'Entry Information'!$C$4","v":"Ranch Horse Challenge"}]
[{"$f":"'Entry Information'!$C$5","v":"2018-03-25"}]
[]
["OPEN INDIVIDUAL CLASS WINNERS"]
["OPEN","Ranch Riding",null,"Trail",null,"Cutting",null,"Ranch Reined",null,"Ranch Cow"]
[1,{"$f":"INDEX('OPEN RESULTS'!$C$11:$C$40,MATCH(AWARDS!$A139,'OPEN RESULTS'!$J$11:$J$40,0))","v":{"$error":"#N/A"}},{"$f":"INDEX('OPEN RESULTS'!$B$11:$B$40,MATCH(AWARDS!$A139,'OPEN RESULTS'!$J$11:$J$40,0))","v":{"$error":"#N/A"}},{"$f":"INDEX('OPEN RESULTS'!$C$11:$C$40,MATCH(AWARDS!$A139,'OPEN RESULTS'!$P$11:$P$40,0))","v":{"$error":"#N/A"}},{"$f":"INDEX('OPEN RESULTS'!$B$11:$B$40,MATCH(AWARDS!$A139,'OPEN RESULTS'!$P$11:$P$40,0))","v":{"$error":"#N/A"}},{"$f":"INDEX('OPEN RESULTS'!$C$11:$C$40,MATCH(AWARDS!$A139,'OPEN RESULTS'!$V$11:$V$40,0))","v":{"$error":"#N/A"}},{"$f":"INDEX('OPEN RESULTS'!$B$11:$B$40,MATCH(AWARDS!$A139,'OPEN RESULTS'!$V$11:$V$40,0))","v":{"$error":"#N/A"}},{"$f":"INDEX('OPEN RESULTS'!$C$11:$C$40,MATCH(AWARDS!$A139,'OPEN RESULTS'!$AB$11:$AB$40,0))","v":{"$error":"#N/A"}},{"$f":"INDEX('OPEN RESULTS'!$B$11:$B$40,MATCH(AWARDS!$A139,'OPEN RESULTS'!$AB$11:$AB$40,0))","v":{"$error":"#N/A"}},{"$f":"INDEX('OPEN RESULTS'!$C$11:$C$40,MATCH(AWARDS!$A139,'OPEN RESULTS'!$AH$11:$AH$40,0))","v":{"$error":"#N/A"}},{"$f":"INDEX('OPEN RESULTS'!$B$11:$B$40,MATCH(AWARDS!$A139,'OPEN RESULTS'!$AH$11:$AH$40,0))","v":{"$error":"#N/A"}}]
[null,{"$f":"INDEX('OPEN RESULTS'!$D$11:$D$40,MATCH(AWARDS!$A139,'OPEN RESULTS'!$J$11:$J$40,0))","v":{"$error":"#N/A"}},null,{"$f":"INDEX('OPEN RESULTS'!$D$11:$D$40,MATCH(AWARDS!$A139,'OPEN RESULTS'!$P$11:$P$40,0))","v":{"$error":"#N/A"}},null,{"$f":"INDEX('OPEN RESULTS'!$D$11:$D$40,MATCH(AWARDS!$A139,'OPEN RESULTS'!$V$11:$V$40,0))","v":{"$error":"#N/A"}},null,{"$f":"INDEX('OPEN RESULTS'!$D$11:$D$40,MATCH(AWARDS!$A139,'OPEN RESULTS'!$AB$11:$AB$40,0))","v":{"$error":"#N/A"}},null,{"$f":"INDEX('OPEN RESULTS'!$D$11:$D$40,MATCH(AWARDS!$A139,'OPEN RESULTS'!$AH$11:$AH$40,0))","v":{"$error":"#N/A"}}]
[2,{"$f":"INDEX('OPEN RESULTS'!C$11:$C$40,MATCH(AWARDS!$A141,'OPEN RESULTS'!$J$11:$J$40,0))","v":{"$error":"#N/A"}},{"$f":"INDEX('OPEN RESULTS'!$B$11:$B$40,MATCH(AWARDS!$A141,'OPEN RESULTS'!$J$11:$J$40,0))","v":{"$error":"#N/A"}},{"$f":"INDEX('OPEN RESULTS'!$C$11:$C$40,MATCH(AWARDS!$A141,'OPEN RESULTS'!$P$11:$P$40,0))","v":{"$error":"#N/A"}},{"$f":"INDEX('OPEN RESULTS'!$B$11:$B$40,MATCH(AWARDS!$A141,'OPEN RESULTS'!$P$11:$P$40,0))","v":{"$error":"#N/A"}},{"$f":"INDEX('OPEN RESULTS'!$C$11:$C$40,MATCH(AWARDS!$A141,'OPEN RESULTS'!$V$11:$V$40,0))","v":{"$error":"#N/A"}},{"$f":"INDEX('OPEN RESULTS'!$B$11:$B$40,MATCH(AWARDS!$A141,'OPEN RESULTS'!$V$11:$V$40,0))","v":{"$error":"#N/A"}},{"$f":"INDEX('OPEN RESULTS'!$C$11:$C$40,MATCH(AWARDS!$A141,'OPEN RESULTS'!$AB$11:$AB$40,0))","v":{"$error":"#N/A"}},{"$f":"INDEX('OPEN RESULTS'!$B$11:$B$40,MATCH(AWARDS!$A141,'OPEN RESULTS'!$AB$11:$AB$40,0))","v":{"$error":"#N/A"}},{"$f":"INDEX('OPEN RESULTS'!$C$11:$C$40,MATCH(AWARDS!$A141,'OPEN RESULTS'!$AH$11:$AH$40,0))","v":{"$error":"#N/A"}},{"$f":"INDEX('OPEN RESULTS'!$B$11:$B$40,MATCH(AWARDS!$A141,'OPEN RESULTS'!$AH$11:$AH$40,0))","v":{"$error":"#N/A"}}]
[null,{"$f":"INDEX('OPEN RESULTS'!$D$11:$D$40,MATCH(AWARDS!$A141,'OPEN RESULTS'!$J$11:$J$40,0))","v":{"$error":"#N/A"}},null,{"$f":"INDEX('OPEN RESULTS'!$D$11:$D$40,MATCH(AWARDS!$A141,'OPEN RESULTS'!$P$11:$P$40,0))","v":{"$error":"#N/A"}},null,{"$f":"INDEX('OPEN RESULTS'!$D$11:$D$40,MATCH(AWARDS!$A141,'OPEN RESULTS'!$V$11:$V$40,0))","v":{"$error":"#N/A"}},null,{"$f":"INDEX('OPEN RESULTS'!$D$11:$D$40,MATCH(AWARDS!$A141,'OPEN RESULTS'!$AB$11:$AB$40,0))","v":{"$error":"#N/A"}},null,{"$f":"INDEX('OPEN RESULTS'!$D$11:$D$40,MATCH(AWARDS!$A141,'OPEN RESULTS'!$AH$11:$AH$40,0))","v":{"$error":"#N/A"}}]
[3,{"$f":"INDEX('OPEN RESULTS'!C$11:$C$40,MATCH(AWARDS!$A143,'OPEN RESULTS'!$J$11:$J$40,0))","v":{"$error":"#N/A"}},{"$f":"INDEX('OPEN RESULTS'!$B$11:$B$40,MATCH(AWARDS!$A143,'OPEN RESULTS'!$J$11:$J$40,0))","v":{"$error":"#N/A"}},{"$f":"INDEX('OPEN RESULTS'!$C$11:$C$40,MATCH(AWARDS!$A143,'OPEN RESULTS'!$P$11:$P$40,0))","v":{"$error":"#N/A"}},{"$f":"INDEX('OPEN RESULTS'!$B$11:$B$40,MATCH(AWARDS!$A143,'OPEN RESULTS'!$P$11:$P$40,0))","v":{"$error":"#N/A"}},{"$f":"INDEX('OPEN RESULTS'!$C$11:$C$40,MATCH(AWARDS!$A143,'OPEN RESULTS'!$V$11:$V$40,0))","v":{"$error":"#N/A"}},{"$f":"INDEX('OPEN RESULTS'!$B$11:$B$40,MATCH(AWARDS!$A143,'OPEN RESULTS'!$V$11:$V$40,0))","v":{"$error":"#N/A"}},{"$f":"INDEX('OPEN RESULTS'!$C$11:$C$40,MATCH(AWARDS!$A143,'OPEN RESULTS'!$AB$11:$AB$40,0))","v":{"$error":"#N/A"}},{"$f":"INDEX('OPEN RESULTS'!$B$11:$B$40,MATCH(AWARDS!$A143,'OPEN RESULTS'!$AB$11:$AB$40,0))","v":{"$error":"#N/A"}},{"$f":"INDEX('OPEN RESULTS'!$C$11:$C$40,MATCH(AWARDS!$A143,'OPEN RESULTS'!$AH$11:$AH$40,0))","v":{"$error":"#N/A"}},{"$f":"INDEX('OPEN RESULTS'!$B$11:$B$40,MATCH(AWARDS!$A143,'OPEN RESULTS'!$AH$11:$AH$40,0))","v":{"$error":"#N/A"}}]
[null,{"$f":"INDEX('OPEN RESULTS'!$D$11:$D$40,MATCH(AWARDS!$A143,'OPEN RESULTS'!$J$11:$J$40,0))","v":{"$error":"#N/A"}},null,{"$f":"INDEX('OPEN RESULTS'!$D$11:$D$40,MATCH(AWARDS!$A143,'OPEN RESULTS'!$P$11:$P$40,0))","v":{"$error":"#N/A"}},null,{"$f":"INDEX('OPEN RESULTS'!$D$11:$D$40,MATCH(AWARDS!$A143,'OPEN RESULTS'!$V$11:$V$40,0))","v":{"$error":"#N/A"}},null,{"$f":"INDEX('OPEN RESULTS'!$D$11:$D$40,MATCH(AWARDS!$A143,'OPEN RESULTS'!$AB$11:$AB$40,0))","v":{"$error":"#N/A"}},null,{"$f":"INDEX('OPEN RESULTS'!$D$11:$D$40,MATCH(AWARDS!$A143,'OPEN RESULTS'!$AH$11:$AH$40,0))","v":{"$error":"#N/A"}}]
[4,{"$f":"INDEX('OPEN RESULTS'!C$11:$C$40,MATCH(AWARDS!$A145,'OPEN RESULTS'!$J$11:$J$40,0))","v":{"$error":"#N/A"}},{"$f":"INDEX('OPEN RESULTS'!$B$11:$B$40,MATCH(AWARDS!$A145,'OPEN RESULTS'!$J$11:$J$40,0))","v":{"$error":"#N/A"}},{"$f":"INDEX('OPEN RESULTS'!$C$11:$C$40,MATCH(AWARDS!$A145,'OPEN RESULTS'!$P$11:$P$40,0))","v":{"$error":"#N/A"}},{"$f":"INDEX('OPEN RESULTS'!$B$11:$B$40,MATCH(AWARDS!$A145,'OPEN RESULTS'!$P$11:$P$40,0))","v":{"$error":"#N/A"}},{"$f":"INDEX('OPEN RESULTS'!$C$11:$C$40,MATCH(AWARDS!$A145,'OPEN RESULTS'!$V$11:$V$40,0))","v":{"$error":"#N/A"}},{"$f":"INDEX('OPEN RESULTS'!$B$11:$B$40,MATCH(AWARDS!$A145,'OPEN RESULTS'!$V$11:$V$40,0))","v":{"$error":"#N/A"}},{"$f":"INDEX('OPEN RESULTS'!$C$11:$C$40,MATCH(AWARDS!$A145,'OPEN RESULTS'!$AB$11:$AB$40,0))","v":{"$error":"#N/A"}},{"$f":"INDEX('OPEN RESULTS'!$B$11:$B$40,MATCH(AWARDS!$A145,'OPEN RESULTS'!$AB$11:$AB$40,0))","v":{"$error":"#N/A"}},{"$f":"INDEX('OPEN RESULTS'!$C$11:$C$40,MATCH(AWARDS!$A145,'OPEN RESULTS'!$AH$11:$AH$40,0))","v":{"$error":"#N/A"}},{"$f":"INDEX('OPEN RESULTS'!$B$11:$B$40,MATCH(AWARDS!$A145,'OPEN RESULTS'!$AH$11:$AH$40,0))","v":{"$error":"#N/A"}}]
[null,{"$f":"INDEX('OPEN RESULTS'!$D$11:$D$40,MATCH(AWARDS!$A145,'OPEN RESULTS'!$J$11:$J$40,0))","v":{"$error":"#N/A"}},null,{"$f":"INDEX('OPEN RESULTS'!$D$11:$D$40,MATCH(AWARDS!$A145,'OPEN RESULTS'!$P$11:$P$40,0))","v":{"$error":"#N/A"}},null,{"$f":"INDEX('OPEN RESULTS'!$D$11:$D$40,MATCH(AWARDS!$A145,'OPEN RESULTS'!$V$11:$V$40,0))","v":{"$error":"#N/A"}},null,{"$f":"INDEX('OPEN RESULTS'!$D$11:$D$40,MATCH(AWARDS!$A145,'OPEN RESULTS'!$AB$11:$AB$40,0))","v":{"$error":"#N/A"}},null,{"$f":"INDEX('OPEN RESULTS'!$D$11:$D$40,MATCH(AWARDS!$A145,'OPEN RESULTS'!$AH$11:$AH$40,0))","v":{"$error":"#N/A"}}]
[5,{"$f":"INDEX('OPEN RESULTS'!C$11:$C$40,MATCH(AWARDS!$A147,'OPEN RESULTS'!$J$11:$J$40,0))","v":{"$error":"#N/A"}},{"$f":"INDEX('OPEN RESULTS'!$B$11:$B$40,MATCH(AWARDS!$A147,'OPEN RESULTS'!$J$11:$J$40,0))","v":{"$error":"#N/A"}},{"$f":"INDEX('OPEN RESULTS'!$C$11:$C$40,MATCH(AWARDS!$A147,'OPEN RESULTS'!$P$11:$P$40,0))","v":{"$error":"#N/A"}},{"$f":"INDEX('OPEN RESULTS'!$B$11:$B$40,MATCH(AWARDS!$A147,'OPEN RESULTS'!$P$11:$P$40,0))","v":{"$error":"#N/A"}},{"$f":"INDEX('OPEN RESULTS'!$C$11:$C$40,MATCH(AWARDS!$A147,'OPEN RESULTS'!$V$11:$V$40,0))","v":{"$error":"#N/A"}},{"$f":"INDEX('OPEN RESULTS'!$B$11:$B$40,MATCH(AWARDS!$A147,'OPEN RESULTS'!$V$11:$V$40,0))","v":{"$error":"#N/A"}},{"$f":"INDEX('OPEN RESULTS'!$C$11:$C$40,MATCH(AWARDS!$A147,'OPEN RESULTS'!$AB$11:$AB$40,0))","v":{"$error":"#N/A"}},{"$f":"INDEX('OPEN RESULTS'!$B$11:$B$40,MATCH(AWARDS!$A147,'OPEN RESULTS'!$AB$11:$AB$40,0))","v":{"$error":"#N/A"}},{"$f":"INDEX('OPEN RESULTS'!$C$11:$C$40,MATCH(AWARDS!$A147,'OPEN RESULTS'!$AH$11:$AH$40,0))","v":{"$error":"#N/A"}},{"$f":"INDEX('OPEN RESULTS'!$B$11:$B$40,MATCH(AWARDS!$A147,'OPEN RESULTS'!$AH$11:$AH$40,0))","v":{"$error":"#N/A"}}]
[null,{"$f":"INDEX('OPEN RESULTS'!$D$11:$D$40,MATCH(AWARDS!$A147,'OPEN RESULTS'!$J$11:$J$40,0))","v":{"$error":"#N/A"}},null,{"$f":"INDEX('OPEN RESULTS'!$D$11:$D$40,MATCH(AWARDS!$A147,'OPEN RESULTS'!$P$11:$P$40,0))","v":{"$error":"#N/A"}},null,{"$f":"INDEX('OPEN RESULTS'!$D$11:$D$40,MATCH(AWARDS!$A147,'OPEN RESULTS'!$V$11:$V$40,0))","v":{"$error":"#N/A"}},null,{"$f":"INDEX('OPEN RESULTS'!$D$11:$D$40,MATCH(AWARDS!$A147,'OPEN RESULTS'!$AB$11:$AB$40,0))","v":{"$error":"#N/A"}},null,{"$f":"INDEX('OPEN RESULTS'!$D$11:$D$40,MATCH(AWARDS!$A147,'OPEN RESULTS'!$AH$11:$AH$40,0))","v":{"$error":"#N/A"}}]
[6,{"$f":"INDEX('OPEN RESULTS'!C$11:$C$40,MATCH(AWARDS!$A149,'OPEN RESULTS'!$J$11:$J$40,0))","v":{"$error":"#N/A"}},{"$f":"INDEX('OPEN RESULTS'!$B$11:$B$40,MATCH(AWARDS!$A149,'OPEN RESULTS'!$J$11:$J$40,0))","v":{"$error":"#N/A"}},{"$f":"INDEX('OPEN RESULTS'!$C$11:$C$40,MATCH(AWARDS!$A149,'OPEN RESULTS'!$P$11:$P$40,0))","v":{"$error":"#N/A"}},{"$f":"INDEX('OPEN RESULTS'!$B$11:$B$40,MATCH(AWARDS!$A149,'OPEN RESULTS'!$P$11:$P$40,0))","v":{"$error":"#N/A"}},{"$f":"INDEX('OPEN RESULTS'!$C$11:$C$40,MATCH(AWARDS!$A149,'OPEN RESULTS'!$V$11:$V$40,0))","v":{"$error":"#N/A"}},{"$f":"INDEX('OPEN RESULTS'!$B$11:$B$40,MATCH(AWARDS!$A149,'OPEN RESULTS'!$V$11:$V$40,0))","v":{"$error":"#N/A"}},{"$f":"INDEX('OPEN RESULTS'!$C$11:$C$40,MATCH(AWARDS!$A149,'OPEN RESULTS'!$AB$11:$AB$40,0))","v":{"$error":"#N/A"}},{"$f":"INDEX('OPEN RESULTS'!$B$11:$B$40,MATCH(AWARDS!$A149,'OPEN RESULTS'!$AB$11:$AB$40,0))","v":{"$error":"#N/A"}},{"$f":"INDEX('OPEN RESULTS'!$C$11:$C$40,MATCH(AWARDS!$A149,'OPEN RESULTS'!$AH$11:$AH$40,0))","v":{"$error":"#N/A"}},{"$f":"INDEX('OPEN RESULTS'!$B$11:$B$40,MATCH(AWARDS!$A149,'OPEN RESULTS'!$AH$11:$AH$40,0))","v":{"$error":"#N/A"}}]
[null,{"$f":"INDEX('OPEN RESULTS'!$D$11:$D$40,MATCH(AWARDS!$A149,'OPEN RESULTS'!$J$11:$J$40,0))","v":{"$error":"#N/A"}},null,{"$f":"INDEX('OPEN RESULTS'!$D$11:$D$40,MATCH(AWARDS!$A149,'OPEN RESULTS'!$P$11:$P$40,0))","v":{"$error":"#N/A"}},null,{"$f":"INDEX('OPEN RESULTS'!$D$11:$D$40,MATCH(AWARDS!$A149,'OPEN RESULTS'!$V$11:$V$40,0))","v":{"$error":"#N/A"}},null,{"$f":"INDEX('OPEN RESULTS'!$D$11:$D$40,MATCH(AWARDS!$A149,'OPEN RESULTS'!$AB$11:$AB$40,0))","v":{"$error":"#N/A"}},null,{"$f":"INDEX('OPEN RESULTS'!$D$11:$D$40,MATCH(AWARDS!$A149,'OPEN RESULTS'!$AH$11:$AH$40,0))","v":{"$error":"#N/A"}}]
[]
["OPEN ALL-AROUND WINNERS"]
["Open All-Around Reserve Champion",null,null,null,null,null,null,{"$f":"INDEX('OPEN ALL-AROUND RESULTS'!$C$10:$C$39,MATCH(2,'OPEN RESULTS'!$AN$11:$AN$40,0))","v":{"$error":"#N/A"}},null,{"$f":"INDEX('OPEN ALL-AROUND RESULTS'!$B$10:$B$39,MATCH(2,'OPEN RESULTS'!$AN$11:$AN$40,0))","v":{"$error":"#N/A"}}]
[null,null,null,null,null,null,null,{"$f":"INDEX('OPEN ALL-AROUND RESULTS'!$D$10:$D$39,MATCH(2,'OPEN RESULTS'!$AN$11:$AN$40,0))","v":{"$error":"#N/A"}},null,{"$f":"INDEX(#REF!,MATCH(2,#REF!,0))","v":{"$error":"#REF!"}}]
["Open All-Around Champion",null,null,null,null,null,null,{"$f":"INDEX('OPEN ALL-AROUND RESULTS'!$C$10:$C$39,MATCH(1,'OPEN RESULTS'!$AN$11:$AN$40,0))","v":{"$error":"#N/A"}},null,{"$f":"INDEX('OPEN ALL-AROUND RESULTS'!$B$10:$B$39,MATCH(1,'OPEN RESULTS'!$AN$11:$AN$40,0))","v":{"$error":"#N/A"}}]
[null,null,null,null,null,null,null,{"$f":"INDEX('OPEN ALL-AROUND RESULTS'!$D$10:$D$39,MATCH(1,'OPEN RESULTS'!$AN$11:$AN$40,0))","v":{"$error":"#N/A"}},null,{"$f":"INDEX(#REF!,MATCH(1,#REF!,0))","v":{"$error":"#REF!"}}]
["Open Select Reserve Champion",null,null,null,null,null,null,{"$f":"INDEX('OPEN SELECT RESULTS'!$C$10:$C$39,MATCH(2,'OPEN RESULTS'!$AS$11:$AS$40,0))","v":{"$error":"#N/A"}},null,{"$f":"INDEX('OPEN SELECT RESULTS'!$B$10:$B$39,MATCH(2,'OPEN RESULTS'!$AS$11:$AS$40,0))","v":{"$error":"#N/A"}}]
[null,null,null,null,null,null,null,{"$f":"INDEX('OPEN SELECT RESULTS'!$D$10:$D$39,MATCH(2,'OPEN RESULTS'!$AS$11:$AS$40,0))","v":{"$error":"#N/A"}},null,{"$f":"INDEX(#REF!,MATCH(2,#REF!,0))","v":{"$error":"#REF!"}}]
["Open Select Champion",null,null,null,null,null,null,{"$f":"INDEX('OPEN SELECT RESULTS'!$C$10:$C$39,MATCH(1,'OPEN RESULTS'!$AS$11:$AS$40,0))","v":{"$error":"#N/A"}},null,{"$f":"INDEX('OPEN SELECT RESULTS'!$B$10:$B$39,MATCH(1,'OPEN RESULTS'!$AS$11:$AS$40,0))","v":{"$error":"#N/A"}}]
[null,null,null,null,null,null,null,{"$f":"INDEX('OPEN SELECT RESULTS'!$D$10:$D$39,MATCH(1,'OPEN RESULTS'!$AS$11:$AS$40,0))","v":{"$error":"#N/A"}},null,{"$f":"INDEX(#REF!,MATCH(1,#REF!,0))","v":{"$error":"#REF!"}}]
["Open JR Horse Reserve Champion",null,null,null,null,null,null,{"$f":"INDEX('OPEN JR HORSE RESULTS'!$C$10:$C$39,MATCH(2,'OPEN RESULTS'!$AX$11:$AX$40,0))","v":{"$error":"#N/A"}},null,{"$f":"INDEX('OPEN JR HORSE RESULTS'!$B$10:$B$39,MATCH(2,'OPEN RESULTS'!$AX$11:$AX$40,0))","v":{"$error":"#N/A"}}]
[null,null,null,null,null,null,null,{"$f":"INDEX('OPEN JR HORSE RESULTS'!$D$10:$D$39,MATCH(2,'OPEN RESULTS'!$AX$11:$AX$40,0))","v":{"$error":"#N/A"}},null,{"$f":"INDEX(#REF!,MATCH(2,#REF!,0))","v":{"$error":"#REF!"}}]
["Open JR Horse Champion",null,null,null,null,null,null,{"$f":"INDEX('OPEN JR HORSE RESULTS'!$C$10:$C$39,MATCH(1,'OPEN RESULTS'!$AX$11:$AX$40,0))","v":{"$error":"#N/A"}},null,{"$f":"INDEX('OPEN JR HORSE RESULTS'!$B$10:$B$39,MATCH(1,'OPEN RESULTS'!$AX$11:$AX$40,0))","v":{"$error":"#N/A"}}]
[null,null,null,null,null,null,null,{"$f":"INDEX('OPEN JR HORSE RESULTS'!$D$10:$D$39,MATCH(1,'OPEN RESULTS'!$AX$11:$AX$40,0))","v":{"$error":"#N/A"}},null,{"$f":"INDEX(#REF!,MATCH(1,#REF!,0))","v":{"$error":"#REF!"}}]
[]
[]
[{"$f":"'Entry Information'!$C$4","v":"Ranch Horse Challenge"}]
[{"$f":"'Entry Information'!$C$5","v":"2018-03-25"}]
[]
["YOUTH INDIVIDUAL CLASS WINNERS"]
["YOUTH","Ranch Riding",null,"Trail",null,"Cutting",null,"Ranch Reined",null,"Ranch Cow"]
[1,{"$f":"INDEX('YOUTH RESULTS'!$C$11:$C$40,MATCH(AWARDS!$A172,'YOUTH RESULTS'!$J$11:$J$40,0))","v":{"$error":"#N/A"}},{"$f":"INDEX('YOUTH RESULTS'!$B$11:$B$40,MATCH(AWARDS!$A172,'YOUTH RESULTS'!$J$11:$J$40,0))","v":{"$error":"#N/A"}},{"$f":"INDEX('YOUTH RESULTS'!$C$11:$C$40,MATCH(AWARDS!$A172,'YOUTH RESULTS'!$P$11:$P$40,0))","v":{"$error":"#N/A"}},{"$f":"INDEX('YOUTH RESULTS'!$B$11:$B$40,MATCH(AWARDS!$A172,'YOUTH RESULTS'!$P$11:$P$40,0))","v":{"$error":"#N/A"}},{"$f":"INDEX('YOUTH RESULTS'!$C$11:$C$40,MATCH(AWARDS!$A172,'YOUTH RESULTS'!$V$11:$V$40,0))","v":{"$error":"#N/A"}},{"$f":"INDEX('YOUTH RESULTS'!$B$11:$B$40,MATCH(AWARDS!$A172,'YOUTH RESULTS'!$V$11:$V$40,0))","v":{"$error":"#N/A"}},{"$f":"INDEX('YOUTH RESULTS'!$C$11:$C$40,MATCH(AWARDS!$A172,'YOUTH RESULTS'!$AB$11:$AB$40,0))","v":{"$error":"#N/A"}},{"$f":"INDEX('YOUTH RESULTS'!$B$11:$B$40,MATCH(AWARDS!$A172,'YOUTH RESULTS'!$AB$11:$AB$40,0))","v":{"$error":"#N/A"}},{"$f":"INDEX('YOUTH RESULTS'!$C$11:$C$40,MATCH(AWARDS!$A172,'YOUTH RESULTS'!$AH$11:$AH$40,0))","v":{"$error":"#N/A"}},{"$f":"INDEX('YOUTH RESULTS'!$B$11:$B$40,MATCH(AWARDS!$A172,'YOUTH RESULTS'!$AH$11:$AH$40,0))","v":{"$error":"#N/A"}}]
[null,{"$f":"INDEX('YOUTH RESULTS'!$D$11:$D$40,MATCH(AWARDS!$A172,'YOUTH RESULTS'!$J$11:$J$40,0))","v":{"$error":"#N/A"}},null,{"$f":"INDEX('YOUTH RESULTS'!$D$11:$D$40,MATCH(AWARDS!$A172,'YOUTH RESULTS'!$P$11:$P$40,0))","v":{"$error":"#N/A"}},null,{"$f":"INDEX('YOUTH RESULTS'!$D$11:$D$40,MATCH(AWARDS!$A172,'YOUTH RESULTS'!$V$11:$V$40,0))","v":{"$error":"#N/A"}},null,{"$f":"INDEX('YOUTH RESULTS'!$D$11:$D$40,MATCH(AWARDS!$A172,'YOUTH RESULTS'!$AB$11:$AB$40,0))","v":{"$error":"#N/A"}},null,{"$f":"INDEX('YOUTH RESULTS'!$D$11:$D$40,MATCH(AWARDS!$A172,'YOUTH RESULTS'!$AH$11:$AH$40,0))","v":{"$error":"#N/A"}}]
[2,{"$f":"INDEX('YOUTH RESULTS'!C$11:$C$40,MATCH(AWARDS!$A174,'YOUTH RESULTS'!$J$11:$J$40,0))","v":{"$error":"#N/A"}},{"$f":"INDEX('YOUTH RESULTS'!$B$11:$B$40,MATCH(AWARDS!$A174,'YOUTH RESULTS'!$J$11:$J$40,0))","v":{"$error":"#N/A"}},{"$f":"INDEX('YOUTH RESULTS'!$C$11:$C$40,MATCH(AWARDS!$A174,'YOUTH RESULTS'!$P$11:$P$40,0))","v":{"$error":"#N/A"}},{"$f":"INDEX('YOUTH RESULTS'!$B$11:$B$40,MATCH(AWARDS!$A174,'YOUTH RESULTS'!$P$11:$P$40,0))","v":{"$error":"#N/A"}},{"$f":"INDEX('YOUTH RESULTS'!$C$11:$C$40,MATCH(AWARDS!$A174,'YOUTH RESULTS'!$V$11:$V$40,0))","v":{"$error":"#N/A"}},{"$f":"INDEX('YOUTH RESULTS'!$B$11:$B$40,MATCH(AWARDS!$A174,'YOUTH RESULTS'!$V$11:$V$40,0))","v":{"$error":"#N/A"}},{"$f":"INDEX('YOUTH RESULTS'!$C$11:$C$40,MATCH(AWARDS!$A174,'YOUTH RESULTS'!$AB$11:$AB$40,0))","v":{"$error":"#N/A"}},{"$f":"INDEX('YOUTH RESULTS'!$B$11:$B$40,MATCH(AWARDS!$A174,'YOUTH RESULTS'!$AB$11:$AB$40,0))","v":{"$error":"#N/A"}},{"$f":"INDEX('YOUTH RESULTS'!$C$11:$C$40,MATCH(AWARDS!$A174,'YOUTH RESULTS'!$AH$11:$AH$40,0))","v":{"$error":"#N/A"}},{"$f":"INDEX('YOUTH RESULTS'!$B$11:$B$40,MATCH(AWARDS!$A174,'YOUTH RESULTS'!$AH$11:$AH$40,0))","v":{"$error":"#N/A"}}]
[null,{"$f":"INDEX('YOUTH RESULTS'!$D$11:$D$40,MATCH(AWARDS!$A174,'YOUTH RESULTS'!$J$11:$J$40,0))","v":{"$error":"#N/A"}},null,{"$f":"INDEX('YOUTH RESULTS'!$D$11:$D$40,MATCH(AWARDS!$A174,'YOUTH RESULTS'!$P$11:$P$40,0))","v":{"$error":"#N/A"}},null,{"$f":"INDEX('YOUTH RESULTS'!$D$11:$D$40,MATCH(AWARDS!$A174,'YOUTH RESULTS'!$V$11:$V$40,0))","v":{"$error":"#N/A"}},null,{"$f":"INDEX('YOUTH RESULTS'!$D$11:$D$40,MATCH(AWARDS!$A174,'YOUTH RESULTS'!$AB$11:$AB$40,0))","v":{"$error":"#N/A"}},null,{"$f":"INDEX('YOUTH RESULTS'!$D$11:$D$40,MATCH(AWARDS!$A174,'YOUTH RESULTS'!$AH$11:$AH$40,0))","v":{"$error":"#N/A"}}]
[3,{"$f":"INDEX('YOUTH RESULTS'!C$11:$C$40,MATCH(AWARDS!$A176,'YOUTH RESULTS'!$J$11:$J$40,0))","v":{"$error":"#N/A"}},{"$f":"INDEX('YOUTH RESULTS'!$B$11:$B$40,MATCH(AWARDS!$A176,'YOUTH RESULTS'!$J$11:$J$40,0))","v":{"$error":"#N/A"}},{"$f":"INDEX('YOUTH RESULTS'!$C$11:$C$40,MATCH(AWARDS!$A176,'YOUTH RESULTS'!$P$11:$P$40,0))","v":{"$error":"#N/A"}},{"$f":"INDEX('YOUTH RESULTS'!$B$11:$B$40,MATCH(AWARDS!$A176,'YOUTH RESULTS'!$P$11:$P$40,0))","v":{"$error":"#N/A"}},{"$f":"INDEX('YOUTH RESULTS'!$C$11:$C$40,MATCH(AWARDS!$A176,'YOUTH RESULTS'!$V$11:$V$40,0))","v":{"$error":"#N/A"}},{"$f":"INDEX('YOUTH RESULTS'!$B$11:$B$40,MATCH(AWARDS!$A176,'YOUTH RESULTS'!$V$11:$V$40,0))","v":{"$error":"#N/A"}},{"$f":"INDEX('YOUTH RESULTS'!$C$11:$C$40,MATCH(AWARDS!$A176,'YOUTH RESULTS'!$AB$11:$AB$40,0))","v":{"$error":"#N/A"}},{"$f":"INDEX('YOUTH RESULTS'!$B$11:$B$40,MATCH(AWARDS!$A176,'YOUTH RESULTS'!$AB$11:$AB$40,0))","v":{"$error":"#N/A"}},{"$f":"INDEX('YOUTH RESULTS'!$C$11:$C$40,MATCH(AWARDS!$A176,'YOUTH RESULTS'!$AH$11:$AH$40,0))","v":{"$error":"#N/A"}},{"$f":"INDEX('YOUTH RESULTS'!$B$11:$B$40,MATCH(AWARDS!$A176,'YOUTH RESULTS'!$AH$11:$AH$40,0))","v":{"$error":"#N/A"}}]
[null,{"$f":"INDEX('YOUTH RESULTS'!$D$11:$D$40,MATCH(AWARDS!$A176,'YOUTH RESULTS'!$J$11:$J$40,0))","v":{"$error":"#N/A"}},null,{"$f":"INDEX('YOUTH RESULTS'!$D$11:$D$40,MATCH(AWARDS!$A176,'YOUTH RESULTS'!$P$11:$P$40,0))","v":{"$error":"#N/A"}},null,{"$f":"INDEX('YOUTH RESULTS'!$D$11:$D$40,MATCH(AWARDS!$A176,'YOUTH RESULTS'!$V$11:$V$40,0))","v":{"$error":"#N/A"}},null,{"$f":"INDEX('YOUTH RESULTS'!$D$11:$D$40,MATCH(AWARDS!$A176,'YOUTH RESULTS'!$AB$11:$AB$40,0))","v":{"$error":"#N/A"}},null,{"$f":"INDEX('YOUTH RESULTS'!$D$11:$D$40,MATCH(AWARDS!$A176,'YOUTH RESULTS'!$AH$11:$AH$40,0))","v":{"$error":"#N/A"}}]
[4,{"$f":"INDEX('YOUTH RESULTS'!C$11:$C$40,MATCH(AWARDS!$A178,'YOUTH RESULTS'!$J$11:$J$40,0))","v":{"$error":"#N/A"}},{"$f":"INDEX('YOUTH RESULTS'!$B$11:$B$40,MATCH(AWARDS!$A178,'YOUTH RESULTS'!$J$11:$J$40,0))","v":{"$error":"#N/A"}},{"$f":"INDEX('YOUTH RESULTS'!$C$11:$C$40,MATCH(AWARDS!$A178,'YOUTH RESULTS'!$P$11:$P$40,0))","v":{"$error":"#N/A"}},{"$f":"INDEX('YOUTH RESULTS'!$B$11:$B$40,MATCH(AWARDS!$A178,'YOUTH RESULTS'!$P$11:$P$40,0))","v":{"$error":"#N/A"}},{"$f":"INDEX('YOUTH RESULTS'!$C$11:$C$40,MATCH(AWARDS!$A178,'YOUTH RESULTS'!$V$11:$V$40,0))","v":{"$error":"#N/A"}},{"$f":"INDEX('YOUTH RESULTS'!$B$11:$B$40,MATCH(AWARDS!$A178,'YOUTH RESULTS'!$V$11:$V$40,0))","v":{"$error":"#N/A"}},{"$f":"INDEX('YOUTH RESULTS'!$C$11:$C$40,MATCH(AWARDS!$A178,'YOUTH RESULTS'!$AB$11:$AB$40,0))","v":{"$error":"#N/A"}},{"$f":"INDEX('YOUTH RESULTS'!$B$11:$B$40,MATCH(AWARDS!$A178,'YOUTH RESULTS'!$AB$11:$AB$40,0))","v":{"$error":"#N/A"}},{"$f":"INDEX('YOUTH RESULTS'!$C$11:$C$40,MATCH(AWARDS!$A178,'YOUTH RESULTS'!$AH$11:$AH$40,0))","v":{"$error":"#N/A"}},{"$f":"INDEX('YOUTH RESULTS'!$B$11:$B$40,MATCH(AWARDS!$A178,'YOUTH RESULTS'!$AH$11:$AH$40,0))","v":{"$error":"#N/A"}}]
[null,{"$f":"INDEX('YOUTH RESULTS'!$D$11:$D$40,MATCH(AWARDS!$A178,'YOUTH RESULTS'!$J$11:$J$40,0))","v":{"$error":"#N/A"}},null,{"$f":"INDEX('YOUTH RESULTS'!$D$11:$D$40,MATCH(AWARDS!$A178,'YOUTH RESULTS'!$P$11:$P$40,0))","v":{"$error":"#N/A"}},null,{"$f":"INDEX('YOUTH RESULTS'!$D$11:$D$40,MATCH(AWARDS!$A178,'YOUTH RESULTS'!$V$11:$V$40,0))","v":{"$error":"#N/A"}},null,{"$f":"INDEX('YOUTH RESULTS'!$D$11:$D$40,MATCH(AWARDS!$A178,'YOUTH RESULTS'!$AB$11:$AB$40,0))","v":{"$error":"#N/A"}},null,{"$f":"INDEX('YOUTH RESULTS'!$D$11:$D$40,MATCH(AWARDS!$A178,'YOUTH RESULTS'!$AH$11:$AH$40,0))","v":{"$error":"#N/A"}}]
[5,{"$f":"INDEX('YOUTH RESULTS'!C$11:$C$40,MATCH(AWARDS!$A180,'YOUTH RESULTS'!$J$11:$J$40,0))","v":{"$error":"#N/A"}},{"$f":"INDEX('YOUTH RESULTS'!$B$11:$B$40,MATCH(AWARDS!$A180,'YOUTH RESULTS'!$J$11:$J$40,0))","v":{"$error":"#N/A"}},{"$f":"INDEX('YOUTH RESULTS'!$C$11:$C$40,MATCH(AWARDS!$A180,'YOUTH RESULTS'!$P$11:$P$40,0))","v":{"$error":"#N/A"}},{"$f":"INDEX('YOUTH RESULTS'!$B$11:$B$40,MATCH(AWARDS!$A180,'YOUTH RESULTS'!$P$11:$P$40,0))","v":{"$error":"#N/A"}},{"$f":"INDEX('YOUTH RESULTS'!$C$11:$C$40,MATCH(AWARDS!$A180,'YOUTH RESULTS'!$V$11:$V$40,0))","v":{"$error":"#N/A"}},{"$f":"INDEX('YOUTH RESULTS'!$B$11:$B$40,MATCH(AWARDS!$A180,'YOUTH RESULTS'!$V$11:$V$40,0))","v":{"$error":"#N/A"}},{"$f":"INDEX('YOUTH RESULTS'!$C$11:$C$40,MATCH(AWARDS!$A180,'YOUTH RESULTS'!$AB$11:$AB$40,0))","v":{"$error":"#N/A"}},{"$f":"INDEX('YOUTH RESULTS'!$B$11:$B$40,MATCH(AWARDS!$A180,'YOUTH RESULTS'!$AB$11:$AB$40,0))","v":{"$error":"#N/A"}},{"$f":"INDEX('YOUTH RESULTS'!$C$11:$C$40,MATCH(AWARDS!$A180,'YOUTH RESULTS'!$AH$11:$AH$40,0))","v":{"$error":"#N/A"}},{"$f":"INDEX('YOUTH RESULTS'!$B$11:$B$40,MATCH(AWARDS!$A180,'YOUTH RESULTS'!$AH$11:$AH$40,0))","v":{"$error":"#N/A"}}]
[null,{"$f":"INDEX('YOUTH RESULTS'!$D$11:$D$40,MATCH(AWARDS!$A180,'YOUTH RESULTS'!$J$11:$J$40,0))","v":{"$error":"#N/A"}},null,{"$f":"INDEX('YOUTH RESULTS'!$D$11:$D$40,MATCH(AWARDS!$A180,'YOUTH RESULTS'!$P$11:$P$40,0))","v":{"$error":"#N/A"}},null,{"$f":"INDEX('YOUTH RESULTS'!$D$11:$D$40,MATCH(AWARDS!$A180,'YOUTH RESULTS'!$V$11:$V$40,0))","v":{"$error":"#N/A"}},null,{"$f":"INDEX('YOUTH RESULTS'!$D$11:$D$40,MATCH(AWARDS!$A180,'YOUTH RESULTS'!$AB$11:$AB$40,0))","v":{"$error":"#N/A"}},null,{"$f":"INDEX('YOUTH RESULTS'!$D$11:$D$40,MATCH(AWARDS!$A180,'YOUTH RESULTS'!$AH$11:$AH$40,0))","v":{"$error":"#N/A"}}]
[6,{"$f":"INDEX('YOUTH RESULTS'!C$11:$C$40,MATCH(AWARDS!$A182,'YOUTH RESULTS'!$J$11:$J$40,0))","v":{"$error":"#N/A"}},{"$f":"INDEX('YOUTH RESULTS'!$B$11:$B$40,MATCH(AWARDS!$A182,'YOUTH RESULTS'!$J$11:$J$40,0))","v":{"$error":"#N/A"}},{"$f":"INDEX('YOUTH RESULTS'!$C$11:$C$40,MATCH(AWARDS!$A182,'YOUTH RESULTS'!$P$11:$P$40,0))","v":{"$error":"#N/A"}},{"$f":"INDEX('YOUTH RESULTS'!$B$11:$B$40,MATCH(AWARDS!$A182,'YOUTH RESULTS'!$P$11:$P$40,0))","v":{"$error":"#N/A"}},{"$f":"INDEX('YOUTH RESULTS'!$C$11:$C$40,MATCH(AWARDS!$A182,'YOUTH RESULTS'!$V$11:$V$40,0))","v":{"$error":"#N/A"}},{"$f":"INDEX('YOUTH RESULTS'!$B$11:$B$40,MATCH(AWARDS!$A182,'YOUTH RESULTS'!$V$11:$V$40,0))","v":{"$error":"#N/A"}},{"$f":"INDEX('YOUTH RESULTS'!$C$11:$C$40,MATCH(AWARDS!$A182,'YOUTH RESULTS'!$AB$11:$AB$40,0))","v":{"$error":"#N/A"}},{"$f":"INDEX('YOUTH RESULTS'!$B$11:$B$40,MATCH(AWARDS!$A182,'YOUTH RESULTS'!$AB$11:$AB$40,0))","v":{"$error":"#N/A"}},{"$f":"INDEX('YOUTH RESULTS'!$C$11:$C$40,MATCH(AWARDS!$A182,'YOUTH RESULTS'!$AH$11:$AH$40,0))","v":{"$error":"#N/A"}},{"$f":"INDEX('YOUTH RESULTS'!$B$11:$B$40,MATCH(AWARDS!$A182,'YOUTH RESULTS'!$AH$11:$AH$40,0))","v":{"$error":"#N/A"}}]
[null,{"$f":"INDEX('YOUTH RESULTS'!$D$11:$D$40,MATCH(AWARDS!$A182,'YOUTH RESULTS'!$J$11:$J$40,0))","v":{"$error":"#N/A"}},null,{"$f":"INDEX('YOUTH RESULTS'!$D$11:$D$40,MATCH(AWARDS!$A182,'YOUTH RESULTS'!$P$11:$P$40,0))","v":{"$error":"#N/A"}},null,{"$f":"INDEX('YOUTH RESULTS'!$D$11:$D$40,MATCH(AWARDS!$A182,'YOUTH RESULTS'!$V$11:$V$40,0))","v":{"$error":"#N/A"}},null,{"$f":"INDEX('YOUTH RESULTS'!$D$11:$D$40,MATCH(AWARDS!$A182,'YOUTH RESULTS'!$AB$11:$AB$40,0))","v":{"$error":"#N/A"}},null,{"$f":"INDEX('YOUTH RESULTS'!$D$11:$D$40,MATCH(AWARDS!$A182,'YOUTH RESULTS'!$AH$11:$AH$40,0))","v":{"$error":"#N/A"}}]
[]
["YOUTH ALL-AROUND WINNERS"]
["Youth All-Around Reserve Champion",null,null,null,null,null,null,{"$f":"INDEX('YOUTH ALL-AROUND RESULTS'!$C$10:$C$39,MATCH(2,'YOUTH RESULTS'!$AN$11:$AN$40,0))","v":{"$error":"#N/A"}},null,{"$f":"INDEX('YOUTH ALL-AROUND RESULTS'!$B$10:$B$39,MATCH(2,'YOUTH RESULTS'!$AN$11:$AN$40,0))","v":{"$error":"#N/A"}}]
[null,null,null,null,null,null,null,{"$f":"INDEX('YOUTH ALL-AROUND RESULTS'!$D$10:$D$39,MATCH(2,'YOUTH RESULTS'!$AN$11:$AN$40,0))","v":{"$error":"#N/A"}},null,{"$f":"INDEX(#REF!,MATCH(2,#REF!,0))","v":{"$error":"#REF!"}}]
["Youth All-Around Champion",null,null,null,null,null,null,{"$f":"INDEX('YOUTH ALL-AROUND RESULTS'!$C$10:$C$39,MATCH(1,'YOUTH RESULTS'!$AN$11:$AN$40,0))","v":{"$error":"#N/A"}},null,{"$f":"INDEX('YOUTH ALL-AROUND RESULTS'!$B$10:$B$39,MATCH(1,'YOUTH RESULTS'!$AN$11:$AN$40,0))","v":{"$error":"#N/A"}}]
[null,null,null,null,null,null,null,{"$f":"INDEX('YOUTH ALL-AROUND RESULTS'!$D$10:$D$39,MATCH(1,'YOUTH RESULTS'!$AN$11:$AN$40,0))","v":{"$error":"#N/A"}},null,{"$f":"INDEX(#REF!,MATCH(1,#REF!,0))","v":{"$error":"#REF!"}}]
["Youth JR Horse Reserve Champion",null,null,null,null,null,null,{"$f":"INDEX('YOUTH JR HORSE RESULTS'!$C$10:$C$39,MATCH(2,'YOUTH RESULTS'!$AS$11:$AS$40,0))","v":{"$error":"#N/A"}},null,{"$f":"INDEX('YOUTH JR HORSE RESULTS'!$B$10:$B$39,MATCH(2,'YOUTH RESULTS'!$AS$11:$AS$40,0))","v":{"$error":"#N/A"}}]
[null,null,null,null,null,null,null,{"$f":"INDEX('YOUTH JR HORSE RESULTS'!$D$10:$D$39,MATCH(2,'YOUTH RESULTS'!$AS$11:$AS$40,0))","v":{"$error":"#N/A"}},null,{"$f":"INDEX(#REF!,MATCH(2,#REF!,0))","v":{"$error":"#REF!"}}]
["Youth JR Horse Champion",null,null,null,null,null,null,{"$f":"INDEX('YOUTH JR HORSE RESULTS'!$C$10:$C$39,MATCH(1,'YOUTH RESULTS'!$AS$11:$AS$40,0))","v":{"$error":"#N/A"}},null,{"$f":"INDEX('YOUTH JR HORSE RESULTS'!$B$10:$B$39,MATCH(1,'YOUTH RESULTS'!$AS$11:$AS$40,0))","v":{"$error":"#N/A"}}]
[null,null,null,null,null,null,null,{"$f":"INDEX('YOUTH JR HORSE RESULTS'!$D$10:$D$39,MATCH(1,'YOUTH RESULTS'!$AS$11:$AS$40,0))","v":{"$error":"#N/A"}},null,{"$f":"INDEX(#REF!,MATCH(1,#REF!,0))","v":{"$error":"#REF!"}}]

{"sheet":"Worksheet","index":27,"n_rows":41,"n_cols":22,"rows_kept":41,"cut":false,"hidden":true,"merged":[[9,0,9,15]]}
["Conformation"]
["Class Size / Number Horses"]
["1, 2, 3, 4, 5, 6, 7, 8, 9","Placing",null,null,null,null,null,null,null,1,2,3,4,5,6]
["10, 11, 12, 13, 14, 15, 16, 17, 18, 19","Placing",null,null,null,null,1,2,3,4,5,6,7,8,9,10,11,12]
["20, 21, 22, 23, 24, 25, 26, 27, 28, 29, 30, 31, 32, 33, 34, 35, 36, 37, 38, 39","Placing",null,null,1,2,3,4,5,6,7,8,9,10,11,12,13,14,15,16]
["40, 41, 42, 43, 44, 45, 46, 47, 48, 49,50, 51, 52, 53, 54, 55, 56, 57, 58, 59, 60, 61, 62, 63, 64, 65, 66, 67, 68, 69, 70, 71, 72, 73, 74, 75, 76, 77, 78, 79, 80","Placing",1,2,3,4,5,6,7,8,9,10,11,12,13,14,15,16,17,18,19,20]
[null,"Points",40,38,36,34,32,30,28,26,24,22,20,18,16,14,12,10,8,6,4,2]
[]
["Placement Points"]
["Placement Points based on number of horses in class"]
["Number of Horses","1st Place","2nd Place","3rd Place","4th Place","5th Place","6th Place","7th Place","8th Place","9th Place","10th Place","11th Place","12 Place","13th Place","14th Place","15th Place"]
[1,1]
[2,2,1]
[3,3,2,1]
[4,4,3,2,1]
[5,5,4,3,2,1]
[6,6,5,4,3,2,1]
[7,7,6,5,4,3,2,1]
[8,8,7,6,5,4,3,2,1]
[9,9,8,7,6,5,4,3,2,1]
[10,10,9,8,7,6,5,4,3,2,1]
[11,10,9,8,7,6,5,4,3,2,1]
[12,10,9,8,7,6,5,4,3,2,1]
[13,10,9,8,7,6,5,4,3,2,1]
[14,10,9,8,7,6,5,4,3,2,1]
[15,10,9,8,7,6,5,4,3,2,1]
[16,10,9,8,7,6,5,4,3,2,1]
[17,10,9,8,7,6,5,4,3,2,1]
[18,10,9,8,7,6,5,4,3,2,1]
[19,10,9,8,7,6,5,4,3,2,1]
[20,10,9,8,7,6,5,4,3,2,1]
[21,10,9,8,7,6,5,4,3,2,1]
[22,10,9,8,7,6,5,4,3,2,1]
[23,10,9,8,7,6,5,4,3,2,1]
[24,10,9,8,7,6,5,4,3,2,1]
[25,10,9,8,7,6,5,4,3,2,1]
[26,10,9,8,7,6,5,4,3,2,1]
[27,10,9,8,7,6,5,4,3,2,1]
[28,10,9,8,7,6,5,4,3,2,1]
[29,10,9,8,7,6,5,4,3,2,1]
[30,10,9,8,7,6,5,4,3,2,1]

{"sheet":"Sheet1","index":28,"n_rows":0,"n_cols":0,"rows_kept":0,"cut":false,"hidden":false,"merged":[]}

{"sheet":"TO POST","index":29,"n_rows":52,"n_cols":40,"rows_kept":52,"cut":false,"hidden":false,"merged":[[7,34,9,34],[48,0,49,4],[7,28,9,28],[7,29,9,29],[7,30,9,30],[7,31,9,31],[7,32,9,32],[7,33,9,33],[7,22,9,22],[7,23,9,23],[7,24,9,24],[7,25,9,25],[7,26,9,26],[7,27,9,27],[7,16,9,16],[7,17,9,17],[7,18,9,18],[7,19,9,19],[7,20,9,20],[7,21,9,21],[7,10,9,10],[7,11,9,11],[7,12,9,12],[7,13,9,13],[7,14,9,14],[7,15,9,15],[6,5,6,10],[6,11,6,16],[6,17,6,22],[6,23,6,28],[6,29,6,34],[7,5,9,5],[7,6,9,6],[7,7,9,7],[7,8,9,8],[7,9,9,9],[4,5,4,34],[4,36,4,39],[5,5,5,10],[5,11,5,16],[5,17,5,22],[5,23,5,28],[5,29,5,34],[5,36,9,36],[5,37,9,37],[5,39,9,39],[1,0,1,2],[1,4,1,5],[1,9,1,16],[1,24,1,28],[1,29,1,34],[2,1,2,2],[2,4,2,5],[2,9,2,11],[2,24,2,28],[2,29,2,34]]}
[]
[null,null,null,null,"Event Name:",null,null,null,null,"Sun Country Round UP",null,null,null,null,null,null,null,null,null,null,null,null,null,null,"Judge #1 Name/Classes:",null,null,null,null,"Jason Hershberger"]
["Division:","WALK TROT",null,null,"Event Date:",null,null,null,null,"2018-02-25",null,null,null,null,null,null,null,null,null,null,null,null,null,null,"Judge #2 Name/Classes:",null,null,null,null,"Debbie Cooper"]
[]
[null,null,null,null,null,"WALK TROT INDIVIDUAL CLASS RESULTS",null,null,null,null,null,null,null,null,null,null,null,null,null,null,null,null,null,null,null,null,null,null,null,null,null,null,null,null,null,null,"WALK TROT ALL AROUND RESULTS"]
[null,null,null,null,null,"RANCH",null,null,null,null,null,"RANCH",null,null,null,null,null,"RANCH",null,null,null,null,null,"RANCH",null,null,null,null,null,"RANCH",null,null,null,null,null,null,"TOTAL  ALL AROUND PLACEMENT POINTS","Tie Breaker","Adjusted ","EVENT ALL AROUND"]
[null,null,null,null,null,"RIDING",null,null,null,null,null,"TRAIL",null,null,null,null,null,"CUTING",null,null,null,null,null,"REINED WORK",null,null,null,null,null,"COW WORK",null,null,null,null,null,null,null,null,"Placement"]
[null,null,null,null,null,"Score","Tie Breaker","Adjusted Score for Ties","Adjusted Score Major Penalty","Place","Placement Points","Score","Tie Breaker","Adjusted Score for Ties","Adjusted Score Major Penalty","Place","Placement Points","Score","Tie Breaker","Adjusted Score for Ties","Adjusted Score Major Penalty","Place","Placement Points","Score","Tie Breaker","Adjusted Score for Ties","Adjusted Score Major Penalty","Place","Placement Points","Score","Tie Breaker","Adjusted Score for Ties","Adjusted Score Major Penalty","Place","Placement Points",null,null,null,"Points"]
[]
["Back No.","Last Name","First Name","Registered Horse Name","Division"]
[156,"McClammy","Christine","Cattastrophe","WT",70.5,null,70.5,70.5,1,5,64.5,null,64.5,64.5,1,5,"",null,"","","","",73,null,73,73,1,5,"",null,"","","","",null,"",null,"",""]
[154,"Finlayson","Megan","Freckles","WT",56.5,null,56.5,56.5,4,2,54,null,54,54,3,3,69,null,69,69,2,2,70.5,null,70.5,-29.5,4,2,72.5,null,72.5,72.5,2,2,null,8,null,10,3]
[165,"Little","Laureen","Smart Little Hemi","WT",61.5,null,61.5,61.5,3,3,53.5,null,53.5,53.5,4,2,72,null,72,72,1,3,65,null,65,-35,5,1,73,null,73,73,1,3,null,11,null,11,1]
[164,"VanStaaldunien","Ian","Meradas Truckin Chex","WT",67,null,67,67,2,4,41.5,null,41.5,41.5,5,1,66,null,66,66,3,1,72.5,null,72.5,72.5,2,4,72,null,72,72,3,1,null,11,null,9,2]
[157,"Barthen","Leigh","","WT",61.5,null,61.5,-38.5,5,1,60,null,60,60,2,4,"",null,"","","","",67,null,67,67,3,3,"",null,"","","","",null,"",null,"",""]
["","","","",null,"",null,"","","","","",null,"","","","","",null,"","","","","",null,"","","","","",null,"","","","",null,"",null,"",""]
[{"$f":"IF('Entry Information'!B17=\"\",\"\",'Entry Information'!B17)","v":""},{"$f":"IF('Entry Information'!C17=\"\",\"\",'Entry Information'!C17)","v":""},{"$f":"IF('Entry Information'!D17=\"\",\"\",'Entry Information'!D17)","v":""},{"$f":"IF('Entry Information'!E17=\"\",\"\",'Entry Information'!E17)","v":""},"NOV",{"$f":"IF('Entry Information'!Q17=\"\",\"\",'Entry Information'!Q17)","v":""},null,{"$f":"IF(G17=\"\",F17,(F17+(G17*0.001)))","v":""},{"$f":"IF('Entry Information'!R17=\"\",H17,H17-100)","v":""},{"$f":"IF(I17=\"\",\"\",(RANK(I17,$I$11:$I$40,0)))","v":""},{"$f":"IF($F17=\"\",\"\",(VLOOKUP($J$42,Worksheet!$A$11:$AE$41,J17+1,FALSE)))","v":""},{"$f":"IF('Entry Information'!S17=\"\",\"\",'Entry Information'!S17)","v":""},null,{"$f":"IF(M17=\"\",L17,(L17+(M17*0.001)))","v":""},{"$f":"IF('Entry Information'!T17=\"\",N17,N17-100)","v":""},{"$f":"IF(O17=\"\",\"\",(RANK(O17,$O$11:$O$40,0)))","v":""},{"$f":"IF($L17=\"\",\"\",(VLOOKUP($P$42,Worksheet!$A$11:$AE$41,P17+1,FALSE)))","v":""},{"$f":"IF('Entry Information'!U17=\"\",\"\",'Entry Information'!U17)","v":""},null,{"$f":"IF(S17=\"\",R17,(R17+(S17*0.001)))","v":""},{"$f":"IF('Entry Information'!V17=\"\",T17,T17-100)","v":""},{"$f":"IF(U17=\"\",\"\",(RANK(U17,$U$11:$U$40,0)))","v":""},{"$f":"IF($R17=\"\",\"\",(VLOOKUP($V$42,Worksheet!$A$11:$AE$41,V17+1,FALSE)))","v":""},{"$f":"IF('Entry Information'!W17=\"\",\"\",'Entry Information'!W17)","v":""},null,{"$f":"IF(Y17=\"\",X17,(X17+(Y17*0.001)))","v":""},{"$f":"IF('Entry Information'!X17=\"\",Z17,Z17-100)","v":""},{"$f":"IF(AA17=\"\",\"\",(RANK(AA17,$AA$11:$AA$40,0)))","v":""},{"$f":"IF($X17=\"\",\"\",(VLOOKUP($AB$42,Worksheet!$A$11:$AE$41,AB17+1,FALSE)))","v":""},{"$f":"IF('Entry Information'!Y17=\"\",\"\",'Entry Information'!Y17)","v":""},null,{"$f":"IF(AE17=\"\",AD17,(AD17+(AE17*0.001)))","v":""},{"$f":"IF('Entry Information'!Z17=\"\",AF17,AF17-100)","v":""},{"$f":"IF(AG17=\"\",\"\",(RANK(AG17,$AG$11:$AG$40,0)))","v":""},{"$f":"IF($AD17=\"\",\"\",(VLOOKUP($AH$42,Worksheet!$A$11:$AE$41,AH17+1,FALSE)))","v":""},null,{"$f":"IF('NOVICE All-AROUND RESULTS'!A16=\"\",\"\",(SUM('NOVICE All-AROUND RESULTS'!$K16,'NOVICE All-AROUND RESULTS'!$AC16,'NOVICE All-AROUND RESULTS'!$AI16, 'NOVICE All-AROUND RESULTS'!$W16,'NOVICE All-AROUND RESULTS'!$Q16)))","v":""},null,{"$f":"IF(AL17=\"\",AK17,(AK17+(AL17*0.001)))","v":""},{"$f":"IF(AM17=\"\",\"\",(RANK(AM17,$AM$11:$AM$40,0)))","v":""}]
[{"$f":"IF('Entry Information'!B18=\"\",\"\",'Entry Information'!B18)","v":""},{"$f":"IF('Entry Information'!C18=\"\",\"\",'Entry Information'!C18)","v":""},{"$f":"IF('Entry Information'!D18=\"\",\"\",'Entry Information'!D18)","v":""},{"$f":"IF('Entry Information'!E18=\"\",\"\",'Entry Information'!E18)","v":""},"NOV",{"$f":"IF('Entry Information'!Q18=\"\",\"\",'Entry Information'!Q18)","v":""},null,"",{"$f":"IF('Entry Information'!R18=\"\",H18,H18-100)","v":""},"",{"$f":"IF($F18=\"\",\"\",(VLOOKUP($J$42,Worksheet!$A$11:$AE$41,J18+1,FALSE)))","v":""},{"$f":"IF('Entry Information'!S18=\"\",\"\",'Entry Information'!S18)","v":""},null,"",{"$f":"IF('Entry Information'!T18=\"\",N18,N18-100)","v":""},"",{"$f":"IF($L18=\"\",\"\",(VLOOKUP($P$42,Worksheet!$A$11:$AE$41,P18+1,FALSE)))","v":""},{"$f":"IF('Entry Information'!U18=\"\",\"\",'Entry Information'!U18)","v":""},null,"",{"$f":"IF('Entry Information'!V18=\"\",T18,T18-100)","v":""},"",{"$f":"IF($R18=\"\",\"\",(VLOOKUP($V$42,Worksheet!$A$11:$AE$41,V18+1,FALSE)))","v":""},{"$f":"IF('Entry Information'!W18=\"\",\"\",'Entry Information'!W18)","v":""},null,"",{"$f":"IF('Entry Information'!X18=\"\",Z18,Z18-100)","v":""},"",{"$f":"IF($X18=\"\",\"\",(VLOOKUP($AB$42,Worksheet!$A$11:$AE$41,AB18+1,FALSE)))","v":""},{"$f":"IF('Entry Information'!Y18=\"\",\"\",'Entry Information'!Y18)","v":""},null,"",{"$f":"IF('Entry Information'!Z18=\"\",AF18,AF18-100)","v":""},"",{"$f":"IF($AD18=\"\",\"\",(VLOOKUP($AH$42,Worksheet!$A$11:$AE$41,AH18+1,FALSE)))","v":""},null,{"$f":"IF('NOVICE All-AROUND RESULTS'!A17=\"\",\"\",(SUM('NOVICE All-AROUND RESULTS'!$K17,'NOVICE All-AROUND RESULTS'!$AC17,'NOVICE All-AROUND RESULTS'!$AI17, 'NOVICE All-AROUND RESULTS'!$W17,'NOVICE All-AROUND RESULTS'!$Q17)))","v":""},null,"",""]
[{"$f":"IF('Entry Information'!B19=\"\",\"\",'Entry Information'!B19)","v":""},{"$f":"IF('Entry Information'!C19=\"\",\"\",'Entry Information'!C19)","v":""},{"$f":"IF('Entry Information'!D19=\"\",\"\",'Entry Information'!D19)","v":""},{"$f":"IF('Entry Information'!E19=\"\",\"\",'Entry Information'!E19)","v":""},"NOV",{"$f":"IF('Entry Information'!Q19=\"\",\"\",'Entry Information'!Q19)","v":""},null,"",{"$f":"IF('Entry Information'!R19=\"\",H19,H19-100)","v":""},"",{"$f":"IF($F19=\"\",\"\",(VLOOKUP($J$42,Worksheet!$A$11:$AE$41,J19+1,FALSE)))","v":""},{"$f":"IF('Entry Information'!S19=\"\",\"\",'Entry Information'!S19)","v":""},null,"",{"$f":"IF('Entry Information'!T19=\"\",N19,N19-100)","v":""},"",{"$f":"IF($L19=\"\",\"\",(VLOOKUP($P$42,Worksheet!$A$11:$AE$41,P19+1,FALSE)))","v":""},{"$f":"IF('Entry Information'!U19=\"\",\"\",'Entry Information'!U19)","v":""},null,"",{"$f":"IF('Entry Information'!V19=\"\",T19,T19-100)","v":""},"",{"$f":"IF($R19=\"\",\"\",(VLOOKUP($V$42,Worksheet!$A$11:$AE$41,V19+1,FALSE)))","v":""},{"$f":"IF('Entry Information'!W19=\"\",\"\",'Entry Information'!W19)","v":""},null,"",{"$f":"IF('Entry Information'!X19=\"\",Z19,Z19-100)","v":""},"",{"$f":"IF($X19=\"\",\"\",(VLOOKUP($AB$42,Worksheet!$A$11:$AE$41,AB19+1,FALSE)))","v":""},{"$f":"IF('Entry Information'!Y19=\"\",\"\",'Entry Information'!Y19)","v":""},null,"",{"$f":"IF('Entry Information'!Z19=\"\",AF19,AF19-100)","v":""},"",{"$f":"IF($AD19=\"\",\"\",(VLOOKUP($AH$42,Worksheet!$A$11:$AE$41,AH19+1,FALSE)))","v":""},null,{"$f":"IF('NOVICE All-AROUND RESULTS'!A18=\"\",\"\",(SUM('NOVICE All-AROUND RESULTS'!$K18,'NOVICE All-AROUND RESULTS'!$AC18,'NOVICE All-AROUND RESULTS'!$AI18, 'NOVICE All-AROUND RESULTS'!$W18,'NOVICE All-AROUND RESULTS'!$Q18)))","v":""},null,"",""]
[{"$f":"IF('Entry Information'!B20=\"\",\"\",'Entry Information'!B20)","v":""},{"$f":"IF('Entry Information'!C20=\"\",\"\",'Entry Information'!C20)","v":""},{"$f":"IF('Entry Information'!D20=\"\",\"\",'Entry Information'!D20)","v":""},{"$f":"IF('Entry Information'!E20=\"\",\"\",'Entry Information'!E20)","v":""},"NOV",{"$f":"IF('Entry Information'!Q20=\"\",\"\",'Entry Information'!Q20)","v":""},null,"",{"$f":"IF('Entry Information'!R20=\"\",H20,H20-100)","v":""},"",{"$f":"IF($F20=\"\",\"\",(VLOOKUP($J$42,Worksheet!$A$11:$AE$41,J20+1,FALSE)))","v":""},{"$f":"IF('Entry Information'!S20=\"\",\"\",'Entry Information'!S20)","v":""},null,"",{"$f":"IF('Entry Information'!T20=\"\",N20,N20-100)","v":""},"",{"$f":"IF($L20=\"\",\"\",(VLOOKUP($P$42,Worksheet!$A$11:$AE$41,P20+1,FALSE)))","v":""},{"$f":"IF('Entry Information'!U20=\"\",\"\",'Entry Information'!U20)","v":""},null,"",{"$f":"IF('Entry Information'!V20=\"\",T20,T20-100)","v":""},"",{"$f":"IF($R20=\"\",\"\",(VLOOKUP($V$42,Worksheet!$A$11:$AE$41,V20+1,FALSE)))","v":""},{"$f":"IF('Entry Information'!W20=\"\",\"\",'Entry Information'!W20)","v":""},null,"",{"$f":"IF('Entry Information'!X20=\"\",Z20,Z20-100)","v":""},"",{"$f":"IF($X20=\"\",\"\",(VLOOKUP($AB$42,Worksheet!$A$11:$AE$41,AB20+1,FALSE)))","v":""},{"$f":"IF('Entry Information'!Y20=\"\",\"\",'Entry Information'!Y20)","v":""},null,"",{"$f":"IF('Entry Information'!Z20=\"\",AF20,AF20-100)","v":""},"",{"$f":"IF($AD20=\"\",\"\",(VLOOKUP($AH$42,Worksheet!$A$11:$AE$41,AH20+1,FALSE)))","v":""},null,{"$f":"IF('NOVICE All-AROUND RESULTS'!A19=\"\",\"\",(SUM('NOVICE All-AROUND RESULTS'!$K19,'NOVICE All-AROUND RESULTS'!$AC19,'NOVICE All-AROUND RESULTS'!$AI19, 'NOVICE All-AROUND RESULTS'!$W19,'NOVICE All-AROUND RESULTS'!$Q19)))","v":""},null,"",""]
[{"$f":"IF('Entry Information'!B21=\"\",\"\",'Entry Information'!B21)","v":""},{"$f":"IF('Entry Information'!C21=\"\",\"\",'Entry Information'!C21)","v":""},{"$f":"IF('Entry Information'!D21=\"\",\"\",'Entry Information'!D21)","v":""},{"$f":"IF('Entry Information'!E21=\"\",\"\",'Entry Information'!E21)","v":""},"NOV",{"$f":"IF('Entry Information'!Q21=\"\",\"\",'Entry Information'!Q21)","v":""},null,"",{"$f":"IF('Entry Information'!R21=\"\",H21,H21-100)","v":""},"",{"$f":"IF($F21=\"\",\"\",(VLOOKUP($J$42,Worksheet!$A$11:$AE$41,J21+1,FALSE)))","v":""},{"$f":"IF('Entry Information'!S21=\"\",\"\",'Entry Information'!S21)","v":""},null,"",{"$f":"IF('Entry Information'!T21=\"\",N21,N21-100)","v":""},"",{"$f":"IF($L21=\"\",\"\",(VLOOKUP($P$42,Worksheet!$A$11:$AE$41,P21+1,FALSE)))","v":""},{"$f":"IF('Entry Information'!U21=\"\",\"\",'Entry Information'!U21)","v":""},null,"",{"$f":"IF('Entry Information'!V21=\"\",T21,T21-100)","v":""},"",{"$f":"IF($R21=\"\",\"\",(VLOOKUP($V$42,Worksheet!$A$11:$AE$41,V21+1,FALSE)))","v":""},{"$f":"IF('Entry Information'!W21=\"\",\"\",'Entry Information'!W21)","v":""},null,"",{"$f":"IF('Entry Information'!X21=\"\",Z21,Z21-100)","v":""},"",{"$f":"IF($X21=\"\",\"\",(VLOOKUP($AB$42,Worksheet!$A$11:$AE$41,AB21+1,FALSE)))","v":""},{"$f":"IF('Entry Information'!Y21=\"\",\"\",'Entry Information'!Y21)","v":""},null,"",{"$f":"IF('Entry Information'!Z21=\"\",AF21,AF21-100)","v":""},"",{"$f":"IF($AD21=\"\",\"\",(VLOOKUP($AH$42,Worksheet!$A$11:$AE$41,AH21+1,FALSE)))","v":""},null,{"$f":"IF('NOVICE All-AROUND RESULTS'!A20=\"\",\"\",(SUM('NOVICE All-AROUND RESULTS'!$K20,'NOVICE All-AROUND RESULTS'!$AC20,'NOVICE All-AROUND RESULTS'!$AI20, 'NOVICE All-AROUND RESULTS'!$W20,'NOVICE All-AROUND RESULTS'!$Q20)))","v":""},null,"",""]
[{"$f":"IF('Entry Information'!B22=\"\",\"\",'Entry Information'!B22)","v":""},{"$f":"IF('Entry Information'!C22=\"\",\"\",'Entry Information'!C22)","v":""},{"$f":"IF('Entry Information'!D22=\"\",\"\",'Entry Information'!D22)","v":""},{"$f":"IF('Entry Information'!E22=\"\",\"\",'Entry Information'!E22)","v":""},"NOV",{"$f":"IF('Entry Information'!Q22=\"\",\"\",'Entry Information'!Q22)","v":""},null,"",{"$f":"IF('Entry Information'!R22=\"\",H22,H22-100)","v":""},"",{"$f":"IF($F22=\"\",\"\",(VLOOKUP($J$42,Worksheet!$A$11:$AE$41,J22+1,FALSE)))","v":""},{"$f":"IF('Entry Information'!S22=\"\",\"\",'Entry Information'!S22)","v":""},null,"",{"$f":"IF('Entry Information'!T22=\"\",N22,N22-100)","v":""},"",{"$f":"IF($L22=\"\",\"\",(VLOOKUP($P$42,Worksheet!$A$11:$AE$41,P22+1,FALSE)))","v":""},{"$f":"IF('Entry Information'!U22=\"\",\"\",'Entry Information'!U22)","v":""},null,"",{"$f":"IF('Entry Information'!V22=\"\",T22,T22-100)","v":""},"",{"$f":"IF($R22=\"\",\"\",(VLOOKUP($V$42,Worksheet!$A$11:$AE$41,V22+1,FALSE)))","v":""},{"$f":"IF('Entry Information'!W22=\"\",\"\",'Entry Information'!W22)","v":""},null,"",{"$f":"IF('Entry Information'!X22=\"\",Z22,Z22-100)","v":""},"",{"$f":"IF($X22=\"\",\"\",(VLOOKUP($AB$42,Worksheet!$A$11:$AE$41,AB22+1,FALSE)))","v":""},{"$f":"IF('Entry Information'!Y22=\"\",\"\",'Entry Information'!Y22)","v":""},null,"",{"$f":"IF('Entry Information'!Z22=\"\",AF22,AF22-100)","v":""},"",{"$f":"IF($AD22=\"\",\"\",(VLOOKUP($AH$42,Worksheet!$A$11:$AE$41,AH22+1,FALSE)))","v":""},null,{"$f":"IF('NOVICE All-AROUND RESULTS'!A21=\"\",\"\",(SUM('NOVICE All-AROUND RESULTS'!$K21,'NOVICE All-AROUND RESULTS'!$AC21,'NOVICE All-AROUND RESULTS'!$AI21, 'NOVICE All-AROUND RESULTS'!$W21,'NOVICE All-AROUND RESULTS'!$Q21)))","v":""},null,"",""]
[{"$f":"IF('Entry Information'!B23=\"\",\"\",'Entry Information'!B23)","v":""},{"$f":"IF('Entry Information'!C23=\"\",\"\",'Entry Information'!C23)","v":""},{"$f":"IF('Entry Information'!D23=\"\",\"\",'Entry Information'!D23)","v":""},{"$f":"IF('Entry Information'!E23=\"\",\"\",'Entry Information'!E23)","v":""},"NOV",{"$f":"IF('Entry Information'!Q23=\"\",\"\",'Entry Information'!Q23)","v":""},null,"",{"$f":"IF('Entry Information'!R23=\"\",H23,H23-100)","v":""},"",{"$f":"IF($F23=\"\",\"\",(VLOOKUP($J$42,Worksheet!$A$11:$AE$41,J23+1,FALSE)))","v":""},{"$f":"IF('Entry Information'!S23=\"\",\"\",'Entry Information'!S23)","v":""},null,"",{"$f":"IF('Entry Information'!T23=\"\",N23,N23-100)","v":""},"",{"$f":"IF($L23=\"\",\"\",(VLOOKUP($P$42,Worksheet!$A$11:$AE$41,P23+1,FALSE)))","v":""},{"$f":"IF('Entry Information'!U23=\"\",\"\",'Entry Information'!U23)","v":""},null,"",{"$f":"IF('Entry Information'!V23=\"\",T23,T23-100)","v":""},"",{"$f":"IF($R23=\"\",\"\",(VLOOKUP($V$42,Worksheet!$A$11:$AE$41,V23+1,FALSE)))","v":""},{"$f":"IF('Entry Information'!W23=\"\",\"\",'Entry Information'!W23)","v":""},null,"",{"$f":"IF('Entry Information'!X23=\"\",Z23,Z23-100)","v":""},"",{"$f":"IF($X23=\"\",\"\",(VLOOKUP($AB$42,Worksheet!$A$11:$AE$41,AB23+1,FALSE)))","v":""},{"$f":"IF('Entry Information'!Y23=\"\",\"\",'Entry Information'!Y23)","v":""},null,"",{"$f":"IF('Entry Information'!Z23=\"\",AF23,AF23-100)","v":""},"",{"$f":"IF($AD23=\"\",\"\",(VLOOKUP($AH$42,Worksheet!$A$11:$AE$41,AH23+1,FALSE)))","v":""},null,{"$f":"IF('NOVICE All-AROUND RESULTS'!A22=\"\",\"\",(SUM('NOVICE All-AROUND RESULTS'!$K22,'NOVICE All-AROUND RESULTS'!$AC22,'NOVICE All-AROUND RESULTS'!$AI22, 'NOVICE All-AROUND RESULTS'!$W22,'NOVICE All-AROUND RESULTS'!$Q22)))","v":""},null,"",""]
[{"$f":"IF('Entry Information'!B24=\"\",\"\",'Entry Information'!B24)","v":""},{"$f":"IF('Entry Information'!C24=\"\",\"\",'Entry Information'!C24)","v":""},{"$f":"IF('Entry Information'!D24=\"\",\"\",'Entry Information'!D24)","v":""},{"$f":"IF('Entry Information'!E24=\"\",\"\",'Entry Information'!E24)","v":""},"NOV",{"$f":"IF('Entry Information'!Q24=\"\",\"\",'Entry Information'!Q24)","v":""},null,"",{"$f":"IF('Entry Information'!R24=\"\",H24,H24-100)","v":""},"",{"$f":"IF($F24=\"\",\"\",(VLOOKUP($J$42,Worksheet!$A$11:$AE$41,J24+1,FALSE)))","v":""},{"$f":"IF('Entry Information'!S24=\"\",\"\",'Entry Information'!S24)","v":""},null,"",{"$f":"IF('Entry Information'!T24=\"\",N24,N24-100)","v":""},"",{"$f":"IF($L24=\"\",\"\",(VLOOKUP($P$42,Worksheet!$A$11:$AE$41,P24+1,FALSE)))","v":""},{"$f":"IF('Entry Information'!U24=\"\",\"\",'Entry Information'!U24)","v":""},null,"",{"$f":"IF('Entry Information'!V24=\"\",T24,T24-100)","v":""},"",{"$f":"IF($R24=\"\",\"\",(VLOOKUP($V$42,Worksheet!$A$11:$AE$41,V24+1,FALSE)))","v":""},{"$f":"IF('Entry Information'!W24=\"\",\"\",'Entry Information'!W24)","v":""},null,"",{"$f":"IF('Entry Information'!X24=\"\",Z24,Z24-100)","v":""},"",{"$f":"IF($X24=\"\",\"\",(VLOOKUP($AB$42,Worksheet!$A$11:$AE$41,AB24+1,FALSE)))","v":""},{"$f":"IF('Entry Information'!Y24=\"\",\"\",'Entry Information'!Y24)","v":""},null,"",{"$f":"IF('Entry Information'!Z24=\"\",AF24,AF24-100)","v":""},"",{"$f":"IF($AD24=\"\",\"\",(VLOOKUP($AH$42,Worksheet!$A$11:$AE$41,AH24+1,FALSE)))","v":""},null,{"$f":"IF('NOVICE All-AROUND RESULTS'!A23=\"\",\"\",(SUM('NOVICE All-AROUND RESULTS'!$K23,'NOVICE All-AROUND RESULTS'!$AC23,'NOVICE All-AROUND RESULTS'!$AI23, 'NOVICE All-AROUND RESULTS'!$W23,'NOVICE All-AROUND RESULTS'!$Q23)))","v":""},null,"",""]
[{"$f":"IF('Entry Information'!B25=\"\",\"\",'Entry Information'!B25)","v":""},{"$f":"IF('Entry Information'!C25=\"\",\"\",'Entry Information'!C25)","v":""},{"$f":"IF('Entry Information'!D25=\"\",\"\",'Entry Information'!D25)","v":""},{"$f":"IF('Entry Information'!E25=\"\",\"\",'Entry Information'!E25)","v":""},"NOV",{"$f":"IF('Entry Information'!Q25=\"\",\"\",'Entry Information'!Q25)","v":""},null,"",{"$f":"IF('Entry Information'!R25=\"\",H25,H25-100)","v":""},"",{"$f":"IF($F25=\"\",\"\",(VLOOKUP($J$42,Worksheet!$A$11:$AE$41,J25+1,FALSE)))","v":""},{"$f":"IF('Entry Information'!S25=\"\",\"\",'Entry Information'!S25)","v":""},null,"",{"$f":"IF('Entry Information'!T25=\"\",N25,N25-100)","v":""},"",{"$f":"IF($L25=\"\",\"\",(VLOOKUP($P$42,Worksheet!$A$11:$AE$41,P25+1,FALSE)))","v":""},{"$f":"IF('Entry Information'!U25=\"\",\"\",'Entry Information'!U25)","v":""},null,"",{"$f":"IF('Entry Information'!V25=\"\",T25,T25-100)","v":""},"",{"$f":"IF($R25=\"\",\"\",(VLOOKUP($V$42,Worksheet!$A$11:$AE$41,V25+1,FALSE)))","v":""},{"$f":"IF('Entry Information'!W25=\"\",\"\",'Entry Information'!W25)","v":""},null,"",{"$f":"IF('Entry Information'!X25=\"\",Z25,Z25-100)","v":""},"",{"$f":"IF($X25=\"\",\"\",(VLOOKUP($AB$42,Worksheet!$A$11:$AE$41,AB25+1,FALSE)))","v":""},{"$f":"IF('Entry Information'!Y25=\"\",\"\",'Entry Information'!Y25)","v":""},null,"",{"$f":"IF('Entry Information'!Z25=\"\",AF25,AF25-100)","v":""},"",{"$f":"IF($AD25=\"\",\"\",(VLOOKUP($AH$42,Worksheet!$A$11:$AE$41,AH25+1,FALSE)))","v":""},null,{"$f":"IF('NOVICE All-AROUND RESULTS'!A24=\"\",\"\",(SUM('NOVICE All-AROUND RESULTS'!$K24,'NOVICE All-AROUND RESULTS'!$AC24,'NOVICE All-AROUND RESULTS'!$AI24, 'NOVICE All-AROUND RESULTS'!$W24,'NOVICE All-AROUND RESULTS'!$Q24)))","v":""},null,"",""]
[{"$f":"IF('Entry Information'!B26=\"\",\"\",'Entry Information'!B26)","v":""},{"$f":"IF('Entry Information'!C26=\"\",\"\",'Entry Information'!C26)","v":""},{"$f":"IF('Entry Information'!D26=\"\",\"\",'Entry Information'!D26)","v":""},{"$f":"IF('Entry Information'!E26=\"\",\"\",'Entry Information'!E26)","v":""},"NOV",{"$f":"IF('Entry Information'!Q26=\"\",\"\",'Entry Information'!Q26)","v":""},null,"",{"$f":"IF('Entry Information'!R26=\"\",H26,H26-100)","v":""},"",{"$f":"IF($F26=\"\",\"\",(VLOOKUP($J$42,Worksheet!$A$11:$AE$41,J26+1,FALSE)))","v":""},{"$f":"IF('Entry Information'!S26=\"\",\"\",'Entry Information'!S26)","v":""},null,"",{"$f":"IF('Entry Information'!T26=\"\",N26,N26-100)","v":""},"",{"$f":"IF($L26=\"\",\"\",(VLOOKUP($P$42,Worksheet!$A$11:$AE$41,P26+1,FALSE)))","v":""},{"$f":"IF('Entry Information'!U26=\"\",\"\",'Entry Information'!U26)","v":""},null,"",{"$f":"IF('Entry Information'!V26=\"\",T26,T26-100)","v":""},"",{"$f":"IF($R26=\"\",\"\",(VLOOKUP($V$42,Worksheet!$A$11:$AE$41,V26+1,FALSE)))","v":""},{"$f":"IF('Entry Information'!W26=\"\",\"\",'Entry Information'!W26)","v":""},null,"",{"$f":"IF('Entry Information'!X26=\"\",Z26,Z26-100)","v":""},"",{"$f":"IF($X26=\"\",\"\",(VLOOKUP($AB$42,Worksheet!$A$11:$AE$41,AB26+1,FALSE)))","v":""},{"$f":"IF('Entry Information'!Y26=\"\",\"\",'Entry Information'!Y26)","v":""},null,"",{"$f":"IF('Entry Information'!Z26=\"\",AF26,AF26-100)","v":""},"",{"$f":"IF($AD26=\"\",\"\",(VLOOKUP($AH$42,Worksheet!$A$11:$AE$41,AH26+1,FALSE)))","v":""},null,{"$f":"IF('NOVICE All-AROUND RESULTS'!A25=\"\",\"\",(SUM('NOVICE All-AROUND RESULTS'!$K25,'NOVICE All-AROUND RESULTS'!$AC25,'NOVICE All-AROUND RESULTS'!$AI25, 'NOVICE All-AROUND RESULTS'!$W25,'NOVICE All-AROUND RESULTS'!$Q25)))","v":""},null,"",""]
[{"$f":"IF('Entry Information'!B27=\"\",\"\",'Entry Information'!B27)","v":""},{"$f":"IF('Entry Information'!C27=\"\",\"\",'Entry Information'!C27)","v":""},{"$f":"IF('Entry Information'!D27=\"\",\"\",'Entry Information'!D27)","v":""},{"$f":"IF('Entry Information'!E27=\"\",\"\",'Entry Information'!E27)","v":""},"NOV",{"$f":"IF('Entry Information'!Q27=\"\",\"\",'Entry Information'!Q27)","v":""},null,"",{"$f":"IF('Entry Information'!R27=\"\",H27,H27-100)","v":""},"",{"$f":"IF($F27=\"\",\"\",(VLOOKUP($J$42,Worksheet!$A$11:$AE$41,J27+1,FALSE)))","v":""},{"$f":"IF('Entry Information'!S27=\"\",\"\",'Entry Information'!S27)","v":""},null,"",{"$f":"IF('Entry Information'!T27=\"\",N27,N27-100)","v":""},"",{"$f":"IF($L27=\"\",\"\",(VLOOKUP($P$42,Worksheet!$A$11:$AE$41,P27+1,FALSE)))","v":""},{"$f":"IF('Entry Information'!U27=\"\",\"\",'Entry Information'!U27)","v":""},null,"",{"$f":"IF('Entry Information'!V27=\"\",T27,T27-100)","v":""},"",{"$f":"IF($R27=\"\",\"\",(VLOOKUP($V$42,Worksheet!$A$11:$AE$41,V27+1,FALSE)))","v":""},{"$f":"IF('Entry Information'!W27=\"\",\"\",'Entry Information'!W27)","v":""},null,"",{"$f":"IF('Entry Information'!X27=\"\",Z27,Z27-100)","v":""},"",{"$f":"IF($X27=\"\",\"\",(VLOOKUP($AB$42,Worksheet!$A$11:$AE$41,AB27+1,FALSE)))","v":""},{"$f":"IF('Entry Information'!Y27=\"\",\"\",'Entry Information'!Y27)","v":""},null,"",{"$f":"IF('Entry Information'!Z27=\"\",AF27,AF27-100)","v":""},"",{"$f":"IF($AD27=\"\",\"\",(VLOOKUP($AH$42,Worksheet!$A$11:$AE$41,AH27+1,FALSE)))","v":""},null,{"$f":"IF('NOVICE All-AROUND RESULTS'!A26=\"\",\"\",(SUM('NOVICE All-AROUND RESULTS'!$K26,'NOVICE All-AROUND RESULTS'!$AC26,'NOVICE All-AROUND RESULTS'!$AI26, 'NOVICE All-AROUND RESULTS'!$W26,'NOVICE All-AROUND RESULTS'!$Q26)))","v":""},null,"",""]
[{"$f":"IF('Entry Information'!B28=\"\",\"\",'Entry Information'!B28)","v":""},{"$f":"IF('Entry Information'!C28=\"\",\"\",'Entry Information'!C28)","v":""},{"$f":"IF('Entry Information'!D28=\"\",\"\",'Entry Information'!D28)","v":""},{"$f":"IF('Entry Information'!E28=\"\",\"\",'Entry Information'!E28)","v":""},"NOV",{"$f":"IF('Entry Information'!Q28=\"\",\"\",'Entry Information'!Q28)","v":""},null,"",{"$f":"IF('Entry Information'!R28=\"\",H28,H28-100)","v":""},"",{"$f":"IF($F28=\"\",\"\",(VLOOKUP($J$42,Worksheet!$A$11:$AE$41,J28+1,FALSE)))","v":""},{"$f":"IF('Entry Information'!S28=\"\",\"\",'Entry Information'!S28)","v":""},null,"",{"$f":"IF('Entry Information'!T28=\"\",N28,N28-100)","v":""},"",{"$f":"IF($L28=\"\",\"\",(VLOOKUP($P$42,Worksheet!$A$11:$AE$41,P28+1,FALSE)))","v":""},{"$f":"IF('Entry Information'!U28=\"\",\"\",'Entry Information'!U28)","v":""},null,"",{"$f":"IF('Entry Information'!V28=\"\",T28,T28-100)","v":""},"",{"$f":"IF($R28=\"\",\"\",(VLOOKUP($V$42,Worksheet!$A$11:$AE$41,V28+1,FALSE)))","v":""},{"$f":"IF('Entry Information'!W28=\"\",\"\",'Entry Information'!W28)","v":""},null,"",{"$f":"IF('Entry Information'!X28=\"\",Z28,Z28-100)","v":""},"",{"$f":"IF($X28=\"\",\"\",(VLOOKUP($AB$42,Worksheet!$A$11:$AE$41,AB28+1,FALSE)))","v":""},{"$f":"IF('Entry Information'!Y28=\"\",\"\",'Entry Information'!Y28)","v":""},null,"",{"$f":"IF('Entry Information'!Z28=\"\",AF28,AF28-100)","v":""},"",{"$f":"IF($AD28=\"\",\"\",(VLOOKUP($AH$42,Worksheet!$A$11:$AE$41,AH28+1,FALSE)))","v":""},null,{"$f":"IF('NOVICE All-AROUND RESULTS'!A27=\"\",\"\",(SUM('NOVICE All-AROUND RESULTS'!$K27,'NOVICE All-AROUND RESULTS'!$AC27,'NOVICE All-AROUND RESULTS'!$AI27, 'NOVICE All-AROUND RESULTS'!$W27,'NOVICE All-AROUND RESULTS'!$Q27)))","v":""},null,"",""]
[{"$f":"IF('Entry Information'!B29=\"\",\"\",'Entry Information'!B29)","v":""},{"$f":"IF('Entry Information'!C29=\"\",\"\",'Entry Information'!C29)","v":""},{"$f":"IF('Entry Information'!D29=\"\",\"\",'Entry Information'!D29)","v":""},{"$f":"IF('Entry Information'!E29=\"\",\"\",'Entry Information'!E29)","v":""},"NOV",{"$f":"IF('Entry Information'!Q29=\"\",\"\",'Entry Information'!Q29)","v":""},null,"",{"$f":"IF('Entry Information'!R29=\"\",H29,H29-100)","v":""},"",{"$f":"IF($F29=\"\",\"\",(VLOOKUP($J$42,Worksheet!$A$11:$AE$41,J29+1,FALSE)))","v":""},{"$f":"IF('Entry Information'!S29=\"\",\"\",'Entry Information'!S29)","v":""},null,"",{"$f":"IF('Entry Information'!T29=\"\",N29,N29-100)","v":""},"",{"$f":"IF($L29=\"\",\"\",(VLOOKUP($P$42,Worksheet!$A$11:$AE$41,P29+1,FALSE)))","v":""},{"$f":"IF('Entry Information'!U29=\"\",\"\",'Entry Information'!U29)","v":""},null,"",{"$f":"IF('Entry Information'!V29=\"\",T29,T29-100)","v":""},"",{"$f":"IF($R29=\"\",\"\",(VLOOKUP($V$42,Worksheet!$A$11:$AE$41,V29+1,FALSE)))","v":""},{"$f":"IF('Entry Information'!W29=\"\",\"\",'Entry Information'!W29)","v":""},null,"",{"$f":"IF('Entry Information'!X29=\"\",Z29,Z29-100)","v":""},"",{"$f":"IF($X29=\"\",\"\",(VLOOKUP($AB$42,Worksheet!$A$11:$AE$41,AB29+1,FALSE)))","v":""},{"$f":"IF('Entry Information'!Y29=\"\",\"\",'Entry Information'!Y29)","v":""},null,"",{"$f":"IF('Entry Information'!Z29=\"\",AF29,AF29-100)","v":""},"",{"$f":"IF($AD29=\"\",\"\",(VLOOKUP($AH$42,Worksheet!$A$11:$AE$41,AH29+1,FALSE)))","v":""},null,{"$f":"IF('NOVICE All-AROUND RESULTS'!A28=\"\",\"\",(SUM('NOVICE All-AROUND RESULTS'!$K28,'NOVICE All-AROUND RESULTS'!$AC28,'NOVICE All-AROUND RESULTS'!$AI28, 'NOVICE All-AROUND RESULTS'!$W28,'NOVICE All-AROUND RESULTS'!$Q28)))","v":""},null,"",""]
[{"$f":"IF('Entry Information'!B30=\"\",\"\",'Entry Information'!B30)","v":""},{"$f":"IF('Entry Information'!C30=\"\",\"\",'Entry Information'!C30)","v":""},{"$f":"IF('Entry Information'!D30=\"\",\"\",'Entry Information'!D30)","v":""},{"$f":"IF('Entry Information'!E30=\"\",\"\",'Entry Information'!E30)","v":""},"NOV",{"$f":"IF('Entry Information'!Q30=\"\",\"\",'Entry Information'!Q30)","v":""},null,"",{"$f":"IF('Entry Information'!R30=\"\",H30,H30-100)","v":""},"",{"$f":"IF($F30=\"\",\"\",(VLOOKUP($J$42,Worksheet!$A$11:$AE$41,J30+1,FALSE)))","v":""},{"$f":"IF('Entry Information'!S30=\"\",\"\",'Entry Information'!S30)","v":""},null,"",{"$f":"IF('Entry Information'!T30=\"\",N30,N30-100)","v":""},"",{"$f":"IF($L30=\"\",\"\",(VLOOKUP($P$42,Worksheet!$A$11:$AE$41,P30+1,FALSE)))","v":""},{"$f":"IF('Entry Information'!U30=\"\",\"\",'Entry Information'!U30)","v":""},null,"",{"$f":"IF('Entry Information'!V30=\"\",T30,T30-100)","v":""},"",{"$f":"IF($R30=\"\",\"\",(VLOOKUP($V$42,Worksheet!$A$11:$AE$41,V30+1,FALSE)))","v":""},{"$f":"IF('Entry Information'!W30=\"\",\"\",'Entry Information'!W30)","v":""},null,"",{"$f":"IF('Entry Information'!X30=\"\",Z30,Z30-100)","v":""},"",{"$f":"IF($X30=\"\",\"\",(VLOOKUP($AB$42,Worksheet!$A$11:$AE$41,AB30+1,FALSE)))","v":""},{"$f":"IF('Entry Information'!Y30=\"\",\"\",'Entry Information'!Y30)","v":""},null,"",{"$f":"IF('Entry Information'!Z30=\"\",AF30,AF30-100)","v":""},"",{"$f":"IF($AD30=\"\",\"\",(VLOOKUP($AH$42,Worksheet!$A$11:$AE$41,AH30+1,FALSE)))","v":""},null,{"$f":"IF('NOVICE All-AROUND RESULTS'!A29=\"\",\"\",(SUM('NOVICE All-AROUND RESULTS'!$K29,'NOVICE All-AROUND RESULTS'!$AC29,'NOVICE All-AROUND RESULTS'!$AI29, 'NOVICE All-AROUND RESULTS'!$W29,'NOVICE All-AROUND RESULTS'!$Q29)))","v":""},null,"",""]
[{"$f":"IF('Entry Information'!B31=\"\",\"\",'Entry Information'!B31)","v":""},{"$f":"IF('Entry Information'!C31=\"\",\"\",'Entry Information'!C31)","v":""},{"$f":"IF('Entry Information'!D31=\"\",\"\",'Entry Information'!D31)","v":""},{"$f":"IF('Entry Information'!E31=\"\",\"\",'Entry Information'!E31)","v":""},"NOV",{"$f":"IF('Entry Information'!Q31=\"\",\"\",'Entry Information'!Q31)","v":""},null,"",{"$f":"IF('Entry Information'!R31=\"\",H31,H31-100)","v":""},"",{"$f":"IF($F31=\"\",\"\",(VLOOKUP($J$42,Worksheet!$A$11:$AE$41,J31+1,FALSE)))","v":""},{"$f":"IF('Entry Information'!S31=\"\",\"\",'Entry Information'!S31)","v":""},null,"",{"$f":"IF('Entry Information'!T31=\"\",N31,N31-100)","v":""},"",{"$f":"IF($L31=\"\",\"\",(VLOOKUP($P$42,Worksheet!$A$11:$AE$41,P31+1,FALSE)))","v":""},{"$f":"IF('Entry Information'!U31=\"\",\"\",'Entry Information'!U31)","v":""},null,"",{"$f":"IF('Entry Information'!V31=\"\",T31,T31-100)","v":""},"",{"$f":"IF($R31=\"\",\"\",(VLOOKUP($V$42,Worksheet!$A$11:$AE$41,V31+1,FALSE)))","v":""},{"$f":"IF('Entry Information'!W31=\"\",\"\",'Entry Information'!W31)","v":""},null,"",{"$f":"IF('Entry Information'!X31=\"\",Z31,Z31-100)","v":""},"",{"$f":"IF($X31=\"\",\"\",(VLOOKUP($AB$42,Worksheet!$A$11:$AE$41,AB31+1,FALSE)))","v":""},{"$f":"IF('Entry Information'!Y31=\"\",\"\",'Entry Information'!Y31)","v":""},null,"",{"$f":"IF('Entry Information'!Z31=\"\",AF31,AF31-100)","v":""},"",{"$f":"IF($AD31=\"\",\"\",(VLOOKUP($AH$42,Worksheet!$A$11:$AE$41,AH31+1,FALSE)))","v":""},null,{"$f":"IF('NOVICE All-AROUND RESULTS'!A30=\"\",\"\",(SUM('NOVICE All-AROUND RESULTS'!$K30,'NOVICE All-AROUND RESULTS'!$AC30,'NOVICE All-AROUND RESULTS'!$AI30, 'NOVICE All-AROUND RESULTS'!$W30,'NOVICE All-AROUND RESULTS'!$Q30)))","v":""},null,"",""]
[{"$f":"IF('Entry Information'!B32=\"\",\"\",'Entry Information'!B32)","v":""},{"$f":"IF('Entry Information'!C32=\"\",\"\",'Entry Information'!C32)","v":""},{"$f":"IF('Entry Information'!D32=\"\",\"\",'Entry Information'!D32)","v":""},{"$f":"IF('Entry Information'!E32=\"\",\"\",'Entry Information'!E32)","v":""},"NOV",{"$f":"IF('Entry Information'!Q32=\"\",\"\",'Entry Information'!Q32)","v":""},null,"",{"$f":"IF('Entry Information'!R32=\"\",H32,H32-100)","v":""},"",{"$f":"IF($F32=\"\",\"\",(VLOOKUP($J$42,Worksheet!$A$11:$AE$41,J32+1,FALSE)))","v":""},{"$f":"IF('Entry Information'!S32=\"\",\"\",'Entry Information'!S32)","v":""},null,"",{"$f":"IF('Entry Information'!T32=\"\",N32,N32-100)","v":""},"",{"$f":"IF($L32=\"\",\"\",(VLOOKUP($P$42,Worksheet!$A$11:$AE$41,P32+1,FALSE)))","v":""},{"$f":"IF('Entry Information'!U32=\"\",\"\",'Entry Information'!U32)","v":""},null,"",{"$f":"IF('Entry Information'!V32=\"\",T32,T32-100)","v":""},"",{"$f":"IF($R32=\"\",\"\",(VLOOKUP($V$42,Worksheet!$A$11:$AE$41,V32+1,FALSE)))","v":""},{"$f":"IF('Entry Information'!W32=\"\",\"\",'Entry Information'!W32)","v":""},null,"",{"$f":"IF('Entry Information'!X32=\"\",Z32,Z32-100)","v":""},"",{"$f":"IF($X32=\"\",\"\",(VLOOKUP($AB$42,Worksheet!$A$11:$AE$41,AB32+1,FALSE)))","v":""},{"$f":"IF('Entry Information'!Y32=\"\",\"\",'Entry Information'!Y32)","v":""},null,"",{"$f":"IF('Entry Information'!Z32=\"\",AF32,AF32-100)","v":""},"",{"$f":"IF($AD32=\"\",\"\",(VLOOKUP($AH$42,Worksheet!$A$11:$AE$41,AH32+1,FALSE)))","v":""},null,{"$f":"IF('NOVICE All-AROUND RESULTS'!A31=\"\",\"\",(SUM('NOVICE All-AROUND RESULTS'!$K31,'NOVICE All-AROUND RESULTS'!$AC31,'NOVICE All-AROUND RESULTS'!$AI31, 'NOVICE All-AROUND RESULTS'!$W31,'NOVICE All-AROUND RESULTS'!$Q31)))","v":""},null,"",""]
[{"$f":"IF('Entry Information'!B33=\"\",\"\",'Entry Information'!B33)","v":""},{"$f":"IF('Entry Information'!C33=\"\",\"\",'Entry Information'!C33)","v":""},{"$f":"IF('Entry Information'!D33=\"\",\"\",'Entry Information'!D33)","v":""},{"$f":"IF('Entry Information'!E33=\"\",\"\",'Entry Information'!E33)","v":""},"NOV",{"$f":"IF('Entry Information'!Q33=\"\",\"\",'Entry Information'!Q33)","v":""},null,"",{"$f":"IF('Entry Information'!R33=\"\",H33,H33-100)","v":""},"",{"$f":"IF($F33=\"\",\"\",(VLOOKUP($J$42,Worksheet!$A$11:$AE$41,J33+1,FALSE)))","v":""},{"$f":"IF('Entry Information'!S33=\"\",\"\",'Entry Information'!S33)","v":""},null,"",{"$f":"IF('Entry Information'!T33=\"\",N33,N33-100)","v":""},"",{"$f":"IF($L33=\"\",\"\",(VLOOKUP($P$42,Worksheet!$A$11:$AE$41,P33+1,FALSE)))","v":""},{"$f":"IF('Entry Information'!U33=\"\",\"\",'Entry Information'!U33)","v":""},null,"",{"$f":"IF('Entry Information'!V33=\"\",T33,T33-100)","v":""},"",{"$f":"IF($R33=\"\",\"\",(VLOOKUP($V$42,Worksheet!$A$11:$AE$41,V33+1,FALSE)))","v":""},{"$f":"IF('Entry Information'!W33=\"\",\"\",'Entry Information'!W33)","v":""},null,"",{"$f":"IF('Entry Information'!X33=\"\",Z33,Z33-100)","v":""},"",{"$f":"IF($X33=\"\",\"\",(VLOOKUP($AB$42,Worksheet!$A$11:$AE$41,AB33+1,FALSE)))","v":""},{"$f":"IF('Entry Information'!Y33=\"\",\"\",'Entry Information'!Y33)","v":""},null,"",{"$f":"IF('Entry Information'!Z33=\"\",AF33,AF33-100)","v":""},"",{"$f":"IF($AD33=\"\",\"\",(VLOOKUP($AH$42,Worksheet!$A$11:$AE$41,AH33+1,FALSE)))","v":""},null,{"$f":"IF('NOVICE All-AROUND RESULTS'!A32=\"\",\"\",(SUM('NOVICE All-AROUND RESULTS'!$K32,'NOVICE All-AROUND RESULTS'!$AC32,'NOVICE All-AROUND RESULTS'!$AI32, 'NOVICE All-AROUND RESULTS'!$W32,'NOVICE All-AROUND RESULTS'!$Q32)))","v":""},null,"",""]
[{"$f":"IF('Entry Information'!B34=\"\",\"\",'Entry Information'!B34)","v":""},{"$f":"IF('Entry Information'!C34=\"\",\"\",'Entry Information'!C34)","v":""},{"$f":"IF('Entry Information'!D34=\"\",\"\",'Entry Information'!D34)","v":""},{"$f":"IF('Entry Information'!E34=\"\",\"\",'Entry Information'!E34)","v":""},"NOV",{"$f":"IF('Entry Information'!Q34=\"\",\"\",'Entry Information'!Q34)","v":""},null,"",{"$f":"IF('Entry Information'!R34=\"\",H34,H34-100)","v":""},"",{"$f":"IF($F34=\"\",\"\",(VLOOKUP($J$42,Worksheet!$A$11:$AE$41,J34+1,FALSE)))","v":""},{"$f":"IF('Entry Information'!S34=\"\",\"\",'Entry Information'!S34)","v":""},null,"",{"$f":"IF('Entry Information'!T34=\"\",N34,N34-100)","v":""},"",{"$f":"IF($L34=\"\",\"\",(VLOOKUP($P$42,Worksheet!$A$11:$AE$41,P34+1,FALSE)))","v":""},{"$f":"IF('Entry Information'!U34=\"\",\"\",'Entry Information'!U34)","v":""},null,"",{"$f":"IF('Entry Information'!V34=\"\",T34,T34-100)","v":""},"",{"$f":"IF($R34=\"\",\"\",(VLOOKUP($V$42,Worksheet!$A$11:$AE$41,V34+1,FALSE)))","v":""},{"$f":"IF('Entry Information'!W34=\"\",\"\",'Entry Information'!W34)","v":""},null,"",{"$f":"IF('Entry Information'!X34=\"\",Z34,Z34-100)","v":""},"",{"$f":"IF($X34=\"\",\"\",(VLOOKUP($AB$42,Worksheet!$A$11:$AE$41,AB34+1,FALSE)))","v":""},{"$f":"IF('Entry Information'!Y34=\"\",\"\",'Entry Information'!Y34)","v":""},null,"",{"$f":"IF('Entry Information'!Z34=\"\",AF34,AF34-100)","v":""},"",{"$f":"IF($AD34=\"\",\"\",(VLOOKUP($AH$42,Worksheet!$A$11:$AE$41,AH34+1,FALSE)))","v":""},null,{"$f":"IF('NOVICE All-AROUND RESULTS'!A33=\"\",\"\",(SUM('NOVICE All-AROUND RESULTS'!$K33,'NOVICE All-AROUND RESULTS'!$AC33,'NOVICE All-AROUND RESULTS'!$AI33, 'NOVICE All-AROUND RESULTS'!$W33,'NOVICE All-AROUND RESULTS'!$Q33)))","v":""},null,"",""]
[{"$f":"IF('Entry Information'!B35=\"\",\"\",'Entry Information'!B35)","v":""},{"$f":"IF('Entry Information'!C35=\"\",\"\",'Entry Information'!C35)","v":""},{"$f":"IF('Entry Information'!D35=\"\",\"\",'Entry Information'!D35)","v":""},{"$f":"IF('Entry Information'!E35=\"\",\"\",'Entry Information'!E35)","v":""},"NOV",{"$f":"IF('Entry Information'!Q35=\"\",\"\",'Entry Information'!Q35)","v":""},null,"",{"$f":"IF('Entry Information'!R35=\"\",H35,H35-100)","v":""},"",{"$f":"IF($F35=\"\",\"\",(VLOOKUP($J$42,Worksheet!$A$11:$AE$41,J35+1,FALSE)))","v":""},{"$f":"IF('Entry Information'!S35=\"\",\"\",'Entry Information'!S35)","v":""},null,"",{"$f":"IF('Entry Information'!T35=\"\",N35,N35-100)","v":""},"",{"$f":"IF($L35=\"\",\"\",(VLOOKUP($P$42,Worksheet!$A$11:$AE$41,P35+1,FALSE)))","v":""},{"$f":"IF('Entry Information'!U35=\"\",\"\",'Entry Information'!U35)","v":""},null,"",{"$f":"IF('Entry Information'!V35=\"\",T35,T35-100)","v":""},"",{"$f":"IF($R35=\"\",\"\",(VLOOKUP($V$42,Worksheet!$A$11:$AE$41,V35+1,FALSE)))","v":""},{"$f":"IF('Entry Information'!W35=\"\",\"\",'Entry Information'!W35)","v":""},null,"",{"$f":"IF('Entry Information'!X35=\"\",Z35,Z35-100)","v":""},"",{"$f":"IF($X35=\"\",\"\",(VLOOKUP($AB$42,Worksheet!$A$11:$AE$41,AB35+1,FALSE)))","v":""},{"$f":"IF('Entry Information'!Y35=\"\",\"\",'Entry Information'!Y35)","v":""},null,"",{"$f":"IF('Entry Information'!Z35=\"\",AF35,AF35-100)","v":""},"",{"$f":"IF($AD35=\"\",\"\",(VLOOKUP($AH$42,Worksheet!$A$11:$AE$41,AH35+1,FALSE)))","v":""},null,{"$f":"IF('NOVICE All-AROUND RESULTS'!A34=\"\",\"\",(SUM('NOVICE All-AROUND RESULTS'!$K34,'NOVICE All-AROUND RESULTS'!$AC34,'NOVICE All-AROUND RESULTS'!$AI34, 'NOVICE All-AROUND RESULTS'!$W34,'NOVICE All-AROUND RESULTS'!$Q34)))","v":""},null,"",""]
[{"$f":"IF('Entry Information'!B36=\"\",\"\",'Entry Information'!B36)","v":""},{"$f":"IF('Entry Information'!C36=\"\",\"\",'Entry Information'!C36)","v":""},{"$f":"IF('Entry Information'!D36=\"\",\"\",'Entry Information'!D36)","v":""},{"$f":"IF('Entry Information'!E36=\"\",\"\",'Entry Information'!E36)","v":""},"NOV",{"$f":"IF('Entry Information'!Q36=\"\",\"\",'Entry Information'!Q36)","v":""},null,"",{"$f":"IF('Entry Information'!R36=\"\",H36,H36-100)","v":""},"",{"$f":"IF($F36=\"\",\"\",(VLOOKUP($J$42,Worksheet!$A$11:$AE$41,J36+1,FALSE)))","v":""},{"$f":"IF('Entry Information'!S36=\"\",\"\",'Entry Information'!S36)","v":""},null,"",{"$f":"IF('Entry Information'!T36=\"\",N36,N36-100)","v":""},"",{"$f":"IF($L36=\"\",\"\",(VLOOKUP($P$42,Worksheet!$A$11:$AE$41,P36+1,FALSE)))","v":""},{"$f":"IF('Entry Information'!U36=\"\",\"\",'Entry Information'!U36)","v":""},null,"",{"$f":"IF('Entry Information'!V36=\"\",T36,T36-100)","v":""},"",{"$f":"IF($R36=\"\",\"\",(VLOOKUP($V$42,Worksheet!$A$11:$AE$41,V36+1,FALSE)))","v":""},{"$f":"IF('Entry Information'!W36=\"\",\"\",'Entry Information'!W36)","v":""},null,"",{"$f":"IF('Entry Information'!X36=\"\",Z36,Z36-100)","v":""},"",{"$f":"IF($X36=\"\",\"\",(VLOOKUP($AB$42,Worksheet!$A$11:$AE$41,AB36+1,FALSE)))","v":""},{"$f":"IF('Entry Information'!Y36=\"\",\"\",'Entry Information'!Y36)","v":""},null,"",{"$f":"IF('Entry Information'!Z36=\"\",AF36,AF36-100)","v":""},"",{"$f":"IF($AD36=\"\",\"\",(VLOOKUP($AH$42,Worksheet!$A$11:$AE$41,AH36+1,FALSE)))","v":""},null,{"$f":"IF('NOVICE All-AROUND RESULTS'!A35=\"\",\"\",(SUM('NOVICE All-AROUND RESULTS'!$K35,'NOVICE All-AROUND RESULTS'!$AC35,'NOVICE All-AROUND RESULTS'!$AI35, 'NOVICE All-AROUND RESULTS'!$W35,'NOVICE All-AROUND RESULTS'!$Q35)))","v":""},null,"",""]
[{"$f":"IF('Entry Information'!B37=\"\",\"\",'Entry Information'!B37)","v":""},{"$f":"IF('Entry Information'!C37=\"\",\"\",'Entry Information'!C37)","v":""},{"$f":"IF('Entry Information'!D37=\"\",\"\",'Entry Information'!D37)","v":""},{"$f":"IF('Entry Information'!E37=\"\",\"\",'Entry Information'!E37)","v":""},"NOV",{"$f":"IF('Entry Information'!Q37=\"\",\"\",'Entry Information'!Q37)","v":""},null,"",{"$f":"IF('Entry Information'!R37=\"\",H37,H37-100)","v":""},"",{"$f":"IF($F37=\"\",\"\",(VLOOKUP($J$42,Worksheet!$A$11:$AE$41,J37+1,FALSE)))","v":""},{"$f":"IF('Entry Information'!S37=\"\",\"\",'Entry Information'!S37)","v":""},null,"",{"$f":"IF('Entry Information'!T37=\"\",N37,N37-100)","v":""},"",{"$f":"IF($L37=\"\",\"\",(VLOOKUP($P$42,Worksheet!$A$11:$AE$41,P37+1,FALSE)))","v":""},{"$f":"IF('Entry Information'!U37=\"\",\"\",'Entry Information'!U37)","v":""},null,"",{"$f":"IF('Entry Information'!V37=\"\",T37,T37-100)","v":""},"",{"$f":"IF($R37=\"\",\"\",(VLOOKUP($V$42,Worksheet!$A$11:$AE$41,V37+1,FALSE)))","v":""},{"$f":"IF('Entry Information'!W37=\"\",\"\",'Entry Information'!W37)","v":""},null,"",{"$f":"IF('Entry Information'!X37=\"\",Z37,Z37-100)","v":""},"",{"$f":"IF($X37=\"\",\"\",(VLOOKUP($AB$42,Worksheet!$A$11:$AE$41,AB37+1,FALSE)))","v":""},{"$f":"IF('Entry Information'!Y37=\"\",\"\",'Entry Information'!Y37)","v":""},null,"",{"$f":"IF('Entry Information'!Z37=\"\",AF37,AF37-100)","v":""},"",{"$f":"IF($AD37=\"\",\"\",(VLOOKUP($AH$42,Worksheet!$A$11:$AE$41,AH37+1,FALSE)))","v":""},null,{"$f":"IF('NOVICE All-AROUND RESULTS'!A36=\"\",\"\",(SUM('NOVICE All-AROUND RESULTS'!$K36,'NOVICE All-AROUND RESULTS'!$AC36,'NOVICE All-AROUND RESULTS'!$AI36, 'NOVICE All-AROUND RESULTS'!$W36,'NOVICE All-AROUND RESULTS'!$Q36)))","v":""},null,"",""]
[{"$f":"IF('Entry Information'!B38=\"\",\"\",'Entry Information'!B38)","v":""},{"$f":"IF('Entry Information'!C38=\"\",\"\",'Entry Information'!C38)","v":""},{"$f":"IF('Entry Information'!D38=\"\",\"\",'Entry Information'!D38)","v":""},{"$f":"IF('Entry Information'!E38=\"\",\"\",'Entry Information'!E38)","v":""},"NOV",{"$f":"IF('Entry Information'!Q38=\"\",\"\",'Entry Information'!Q38)","v":""},null,"",{"$f":"IF('Entry Information'!R38=\"\",H38,H38-100)","v":""},"",{"$f":"IF($F38=\"\",\"\",(VLOOKUP($J$42,Worksheet!$A$11:$AE$41,J38+1,FALSE)))","v":""},{"$f":"IF('Entry Information'!S38=\"\",\"\",'Entry Information'!S38)","v":""},null,"",{"$f":"IF('Entry Information'!T38=\"\",N38,N38-100)","v":""},"",{"$f":"IF($L38=\"\",\"\",(VLOOKUP($P$42,Worksheet!$A$11:$AE$41,P38+1,FALSE)))","v":""},{"$f":"IF('Entry Information'!U38=\"\",\"\",'Entry Information'!U38)","v":""},null,"",{"$f":"IF('Entry Information'!V38=\"\",T38,T38-100)","v":""},"",{"$f":"IF($R38=\"\",\"\",(VLOOKUP($V$42,Worksheet!$A$11:$AE$41,V38+1,FALSE)))","v":""},{"$f":"IF('Entry Information'!W38=\"\",\"\",'Entry Information'!W38)","v":""},null,"",{"$f":"IF('Entry Information'!X38=\"\",Z38,Z38-100)","v":""},"",{"$f":"IF($X38=\"\",\"\",(VLOOKUP($AB$42,Worksheet!$A$11:$AE$41,AB38+1,FALSE)))","v":""},{"$f":"IF('Entry Information'!Y38=\"\",\"\",'Entry Information'!Y38)","v":""},null,"",{"$f":"IF('Entry Information'!Z38=\"\",AF38,AF38-100)","v":""},"",{"$f":"IF($AD38=\"\",\"\",(VLOOKUP($AH$42,Worksheet!$A$11:$AE$41,AH38+1,FALSE)))","v":""},null,{"$f":"IF('NOVICE All-AROUND RESULTS'!A37=\"\",\"\",(SUM('NOVICE All-AROUND RESULTS'!$K37,'NOVICE All-AROUND RESULTS'!$AC37,'NOVICE All-AROUND RESULTS'!$AI37, 'NOVICE All-AROUND RESULTS'!$W37,'NOVICE All-AROUND RESULTS'!$Q37)))","v":""},null,"",""]
[{"$f":"IF('Entry Information'!B39=\"\",\"\",'Entry Information'!B39)","v":""},{"$f":"IF('Entry Information'!C39=\"\",\"\",'Entry Information'!C39)","v":""},{"$f":"IF('Entry Information'!D39=\"\",\"\",'Entry Information'!D39)","v":""},{"$f":"IF('Entry Information'!E39=\"\",\"\",'Entry Information'!E39)","v":""},"NOV",{"$f":"IF('Entry Information'!Q39=\"\",\"\",'Entry Information'!Q39)","v":""},null,"",{"$f":"IF('Entry Information'!R39=\"\",H39,H39-100)","v":""},"",{"$f":"IF($F39=\"\",\"\",(VLOOKUP($J$42,Worksheet!$A$11:$AE$41,J39+1,FALSE)))","v":""},{"$f":"IF('Entry Information'!S39=\"\",\"\",'Entry Information'!S39)","v":""},null,"",{"$f":"IF('Entry Information'!T39=\"\",N39,N39-100)","v":""},"",{"$f":"IF($L39=\"\",\"\",(VLOOKUP($P$42,Worksheet!$A$11:$AE$41,P39+1,FALSE)))","v":""},{"$f":"IF('Entry Information'!U39=\"\",\"\",'Entry Information'!U39)","v":""},null,"",{"$f":"IF('Entry Information'!V39=\"\",T39,T39-100)","v":""},"",{"$f":"IF($R39=\"\",\"\",(VLOOKUP($V$42,Worksheet!$A$11:$AE$41,V39+1,FALSE)))","v":""},{"$f":"IF('Entry Information'!W39=\"\",\"\",'Entry Information'!W39)","v":""},null,"",{"$f":"IF('Entry Information'!X39=\"\",Z39,Z39-100)","v":""},"",{"$f":"IF($X39=\"\",\"\",(VLOOKUP($AB$42,Worksheet!$A$11:$AE$41,AB39+1,FALSE)))","v":""},{"$f":"IF('Entry Information'!Y39=\"\",\"\",'Entry Information'!Y39)","v":""},null,"",{"$f":"IF('Entry Information'!Z39=\"\",AF39,AF39-100)","v":""},"",{"$f":"IF($AD39=\"\",\"\",(VLOOKUP($AH$42,Worksheet!$A$11:$AE$41,AH39+1,FALSE)))","v":""},null,{"$f":"IF('NOVICE All-AROUND RESULTS'!A38=\"\",\"\",(SUM('NOVICE All-AROUND RESULTS'!$K38,'NOVICE All-AROUND RESULTS'!$AC38,'NOVICE All-AROUND RESULTS'!$AI38, 'NOVICE All-AROUND RESULTS'!$W38,'NOVICE All-AROUND RESULTS'!$Q38)))","v":""},null,"",""]
[{"$f":"IF('Entry Information'!B40=\"\",\"\",'Entry Information'!B40)","v":""},{"$f":"IF('Entry Information'!C40=\"\",\"\",'Entry Information'!C40)","v":""},{"$f":"IF('Entry Information'!D40=\"\",\"\",'Entry Information'!D40)","v":""},{"$f":"IF('Entry Information'!E40=\"\",\"\",'Entry Information'!E40)","v":""},"NOV",{"$f":"IF('Entry Information'!Q40=\"\",\"\",'Entry Information'!Q40)","v":""},null,"",{"$f":"IF('Entry Information'!R40=\"\",H40,H40-100)","v":""},"",{"$f":"IF($F40=\"\",\"\",(VLOOKUP($J$42,Worksheet!$A$11:$AE$41,J40+1,FALSE)))","v":""},{"$f":"IF('Entry Information'!S40=\"\",\"\",'Entry Information'!S40)","v":""},null,"",{"$f":"IF('Entry Information'!T40=\"\",N40,N40-100)","v":""},"",{"$f":"IF($L40=\"\",\"\",(VLOOKUP($P$42,Worksheet!$A$11:$AE$41,P40+1,FALSE)))","v":""},{"$f":"IF('Entry Information'!U40=\"\",\"\",'Entry Information'!U40)","v":""},null,"",{"$f":"IF('Entry Information'!V40=\"\",T40,T40-100)","v":""},"",{"$f":"IF($R40=\"\",\"\",(VLOOKUP($V$42,Worksheet!$A$11:$AE$41,V40+1,FALSE)))","v":""},{"$f":"IF('Entry Information'!W40=\"\",\"\",'Entry Information'!W40)","v":""},null,"",{"$f":"IF('Entry Information'!X40=\"\",Z40,Z40-100)","v":""},"",{"$f":"IF($X40=\"\",\"\",(VLOOKUP($AB$42,Worksheet!$A$11:$AE$41,AB40+1,FALSE)))","v":""},{"$f":"IF('Entry Information'!Y40=\"\",\"\",'Entry Information'!Y40)","v":""},null,"",{"$f":"IF('Entry Information'!Z40=\"\",AF40,AF40-100)","v":""},"",{"$f":"IF($AD40=\"\",\"\",(VLOOKUP($AH$42,Worksheet!$A$11:$AE$41,AH40+1,FALSE)))","v":""},null,{"$f":"IF('NOVICE All-AROUND RESULTS'!A39=\"\",\"\",(SUM('NOVICE All-AROUND RESULTS'!$K39,'NOVICE All-AROUND RESULTS'!$AC39,'NOVICE All-AROUND RESULTS'!$AI39, 'NOVICE All-AROUND RESULTS'!$W39,'NOVICE All-AROUND RESULTS'!$Q39)))","v":""},null,"",""]
[]
[null,null,null,null,null,null,null,null,null,{"$f":"COUNTIF(J11:J40,\">=0\")","v":5},null,null,null,null,null,{"$f":"COUNTIF(P11:P40,\">=0\")","v":5},null,null,null,null,null,{"$f":"COUNTIF(V11:V40,\">=0\")","v":3},null,null,null,null,null,{"$f":"COUNTIF(AB11:AB40,\">=0\")","v":5},null,null,null,null,null,{"$f":"COUNTIF(AH11:AH40,\">=0\")","v":3}]
[null,null,null,null,null,"1 - Total Penalty Points",null,null,null,null,null,"1 - Total Penalty Points",null,null,null,null,null,"1 - Total Penalty Points",null,null,null,null,null,"1 - Total Penalty Points",null,null,null,null,null,"1 - Total Penalty Points",null,null,null,null,null,null,"Working Ranch Score "]
[null,null,null,null,null,"2 - Extended Trot",null,null,null,null,null,"2 - Rope Handling",null,null,null,null,null,"2 - Working Center of Arena",null,null,null,null,null,"2 - First Lead Change",null,null,null,null,null,"2 - Box Cow",null,null,null,null,null,null,"and then use WR Tie-Breakers"]
[null,null,null,null,null,"3 - Transition down lope/walk/stop",null,null,null,null,null,"3 - Log Drag",null,null,null,null,null,"3 - First Cut From the Herd",null,null,null,null,null,"3 -Spin",null,null,null,null,null,"3 -Degree of Difficulty"]
[null,null,null,null,null,"4 - Transition to lope/lope",null,null,null,null,null,"4 - Gate",null,null,null,null,null,"4 - Second Cut From the Herd",null,null,null,null,null,"4 -First Stop",null,null,null,null,null,"4 -Time Worked"]
[]
[]
["Scores in RED are ties - enter a 1 in the Tie Breaker Column of the winner to break tie.  If multiple ties enter a 1 for the second place and a 2 for winner."]
[]
[]
["Places highlighted have a major penatly."]